{"text_format":"1","workbook":"xlsx","n_sheets":10,"sheets":["Introductory Worksheet","Mod 1 Overview Questions","Mod 1 APECs","Mod 1 Sensitive Receptors","Module 1 Summary","Mod 2 Ops APECs ","Mod 2 Legacy APECs ","Mod 2 Ranking Summary","Data Gaps","Lists"],"not_rendered":{"charts":0,"images":0,"macros":1,"external_links":1,"defined_names":101,"comments":0,"pivot_tables":0},"unopened":[],"bounds":{"document_bytes":16777216,"sheet_cells":100000,"rows_first":2000,"rows_last":500,"rows_between":2000,"halvings":0,"cell_chars":16384,"cell_head_chars":4096},"cells_cut":0,"cells_raw":0,"read":"whole","date_system":"1900"}

{"sheet":"Introductory Worksheet","index":0,"n_rows":26,"n_cols":4,"rows_kept":26,"cut":false,"hidden":false,"merged":[[12,0,12,3],[1,0,1,3],[0,0,0,3],[6,0,7,0],[25,1,25,2],[3,1,3,3],[4,1,4,3],[5,1,5,3],[6,1,7,3],[8,1,8,3],[9,1,9,3],[10,1,10,3]]}
["Introductory Worksheet"]
["Instructions: It is recommended that you read the guidance document for the screening tool prior to use. Please fill out the following information for your airport."]
[]
["Airport Name"]
["Airport Code"]
["Location"]
["Airport Size/ ARFF Index"]
[]
["Your Name"]
["Your Title/Role"]
["Your Department"]
[]
["In order to get a complete understanding of AFFF management at your airport, we recommend the involvement of multiple departments in the completion of this screening tool. Please note, who has contributed to the completion of screening tool."]
["Department","Indicate if involved","Name","Title/Role"]
[]
[]
[]
[]
[]
[]
[]
[]
[]
[]
[]
[null,{"$f":"HYPERLINK(\"[MAPA Screening Tool.xlsm]'Mod 1 Overview Questions'!C1\", \"Click here once this page is complete.\")","v":"Click here once this page is complete."}]

{"sheet":"Mod 1 Overview Questions","index":1,"n_rows":25,"n_cols":12,"rows_kept":25,"cut":false,"hidden":false,"merged":[[1,2,2,11],[0,2,0,11],[24,9,24,11],[6,10,16,10],[6,9,16,9],[5,11,18,11],[19,11,20,11],[21,11,22,11],[3,2,3,7],[3,9,3,11],[4,4,4,7],[19,4,19,7],[7,2,16,2],[5,4,16,7],[17,4,17,7],[18,4,18,7]]}
[null,null,"Module 1  Overview Questions - Identifying Areas of Potential Environmental Concern and Sensitive Receptors"]
[null,null,"Instructions:  Please answer the following questions to assist in determining where your site may potentially have areas of environmental concerns and sensitve receptors to AFFF and PFAS. Use the drop-down list in the \"Your Responses\" column to answer the questions. Information on what tables and worksheets should be completed will be provided in the \"Next Steps\" column. Please complete all the questions in the same color-block prior to following the instructions in the Next Steps Column."]
[]
[null,null," Areas of Potential Environmental Concern (APECs)",null,null,null,null,null,null,"Potential Sensitive Receptors"]
[null,null,"Questions","Your Responses","Next Steps",null,null,null,null,"Questions","Your Answers","Next Steps"]
[null,null,"Has AFFF ever been used or stored on the airport property?",null,{"$f":"IF(D6=\"Yes\",HYPERLINK(\"[MAPA Screening Tool.xlsm]'Mod 1 APECs'!B1\",\"Please complete the on-site table on the Mod 1 APECs worksheet. Click here.\"),IF(D7=\"Yes\",HYPERLINK(\"[MAPA Screening Tool.xlsm]'Mod 1 APECs'!B1\",\"Please complete on-site table on the Mod 1 APECs worksheet. Click here.\"),\"Skip the Mod 1 APECs On-site table and continue to the next question.\"))","v":"Skip the Mod 1 APECs On-site table and continue to the next question."},null,null,null,null,"Is the airport serviced by potable wells?",null,{"$f":"IF(K6=\"Yes\", HYPERLINK(\"[MAPA Screening Tool.xlsm] 'Mod 1 Sensitive Receptors'!B1\",\"Please fill out the Potable Water Sources table on the Mod 1 Sensitive Receptors worksheet. Click here.\"), IF(K7=\"Yes\", HYPERLINK(\"[MAPA Screening Tool.xlsm] 'Mod 1 Sensitive Receptors'!B1\", \"Please fill out the Potable Water Sources table on the Mod 1 Sensitive Receptors worksheet. Click here.\"), IF(K18=\"Yes\", HYPERLINK(\"[MAPA Screening Tool.xlsm] 'Mod 1 Sensitive Receptors'!B1\", \"Please fill out the Potable Water Sources table on the Mod 1 Sensitive Receptors worksheet. Click here.\"), IF(K19= \"Yes\", HYPERLINK(\"[MAPA Screening Tool.xlsm] 'Mod 1 Sensitive Receptors'!B1\", \"Please fill out the Potable Water Sources table on the Mod 1 Sensitive Receptors worksheet. Click here.\"), \"Do not fill out the Potable Water Sources table on the Mod 1 Sensitive Receptors worksheet and continue to the next question.\"))))","v":"Do not fill out the Potable Water Sources table on the Mod 1 Sensitive Receptors worksheet and continue to the next question."}]
[null,null,"Are any of the following activities and/or other sources of PFAS known to occur on airport property?(e.g. maintenance involving hydraulic lubricants, herbicide/pesticide application, metal machine operations, aviation and/or industrial components)",null,null,null,null,null,null,"Is the surrounding area serviced by potable wells?"]
[null,null,"Please identify all potential responsible parties/custodians associated with the use or storage or AFFF and other sources of PFAS in the column to the right.","Airport"]
[]
[]
[]
[]
[]
[]
[]
[]
[]
[null,null,"Has AFFF ever been used or stored on properties adjacent to the airport?",null,{"$f":"IF(D18=\"Yes\",HYPERLINK(\"[MAPA Screening Tool.xlsm] 'Mod 1 APECs'!B39\",\"Please complete the off-site table on the Mod 1 APECs worksheet, Click here.\"),IF(D19=\"Yes\",HYPERLINK(\"[MAPA Screening Tool.xlsm] 'Mod 1 APECs'!B39\",\"Please complete the off-site table on the Mod 1 APECs worksheet, Click here.\"), IF(AND(D6=\"No\", D7=\"No\", D18=\"No\", D19=\"No\"), \"\", \"Skip the off-site table on the Mod 1 APECs worksheet and continue to the next question.\")))","v":"Skip the off-site table on the Mod 1 APECs worksheet and continue to the next question."},null,null,null,null,"Are there municipal potable wells located in the vicinity of the airport?"]
[null,null,"Are any of the following activities and/or other sources of PFAS known to occur on properties adjacent to the airport?(e.g. maintenance involving hydraulic lubricants, herbicide/pesticide application, metal machine operations, aviation and/or industrial components)",null,{"$f":"IF(AND(D6=\"No\", D7=\"No\", D18=\"No\", D19=\"No\"), \"It does not appear as though your airport has any concerns related to AFFF. Please have other airport representatives confirm.\", \"\")","v":""},null,null,null,null,"Is the airport and/or the surrounding area serviced by a surface water intake?"]
[null,null,"Select the units for all distances used throughout this screening tool.",null,{"$f":"IF( D20= \"miles\", \"Please record all information using these units.\", IF(D20= \"metres\", \"Please record all information using these units.\", \"\"))","v":""},null,null,null,null,"Are surface water bodies present on airport property?",null,{"$f":"IF(K20= \"Yes\", HYPERLINK(\"[MAPA Screening Tool.xlsm]'Mod 1 Sensitive Receptors'!B11\", \" Please fill out the Surface Water Bodies table on the Mod 1 Sensitive Receptors worksheet. Click here.\"), IF(K21= \"Yes\", HYPERLINK(\"[MAPA Screening Tool.xlsm]'Mod 1 Sensitive Receptors'!B11\", \"Please fill out the Surface Water Bodies table on the Mod 1 Sensitive Receptors worksheet. Click here.\"), \"Do not fill out the Surface Water Bodies table on the Mod 1 Sensitive Receptors worksheet and continue to the next question.\"))","v":"Do not fill out the Surface Water Bodies table on the Mod 1 Sensitive Receptors worksheet and continue to the next question."}]
[null,null,null,null,null,null,null,null,null,"Are surface water bodies located within a 1 mile or 1 kilometre radius of airport property?"]
[null,null,null,null,null,null,null,null,null,"Are wetlands present on the airport property?",null,{"$f":"IF(K22= \"Yes\", HYPERLINK(\"[MAPA Screening Tool.xlsm]'Mod 1 Sensitive Receptors'!B21\",  \"Please fill out the Wetlands table on the Mod 1 Sensitive Receptors worksheet. Click here.\"), IF(K23= \"Yes\", HYPERLINK(\"[MAPA Screening Tool.xlsm]'Mod 1 Sensitive Receptors'!B21\", \"Please fill out the Wetlands table on the Mod 1 Sensitive Receptors worksheet. Click here.\"), \"Do not fill out the Wetlands table on the Mod 1 Sensitive Receptors worksheet and continue to the link below.\"))","v":"Do not fill out the Wetlands table on the Mod 1 Sensitive Receptors worksheet and continue to the link below."}]
[null,null,null,null,null,null,null,null,null,"Are wetlands located within a 1 mile or 1 kilometre radius of airport property?"]
[]
[null,null,null,null,null,null,null,null,null,{"$f":"HYPERLINK(\"[MAPA Screening Tool.xlsm]'Mod 1 APECs'!B1\", \"Please click here once you have completed to table.\")","v":"Please click here once you have completed to table."}]

{"sheet":"Mod 1 APECs","index":2,"n_rows":74,"n_cols":10,"rows_kept":74,"cut":false,"hidden":false,"merged":[[33,3,33,5],[0,1,0,9],[4,3,4,5],[4,7,4,9],[4,6,30,6],[1,1,2,9],[26,2,30,2],[4,1,5,1],[6,1,10,1],[11,1,15,1],[16,1,20,1],[21,1,25,1],[26,1,30,1],[6,2,10,2],[11,2,15,2],[56,1,60,1],[56,2,60,2],[61,1,65,1],[4,2,5,2],[61,2,65,2],[66,1,70,1],[66,2,70,2],[73,3,73,4],[16,2,20,2],[21,2,25,2],[38,1,38,8],[39,1,40,8],[44,1,45,1],[44,2,45,2],[44,3,44,5],[44,6,70,6],[44,7,44,9],[46,1,50,1],[46,2,50,2],[51,1,55,1],[51,2,55,2]]}
[null,"Potential Areas of Concern - Airport"]
[null,"Instructions: Please fill out the following table. Use the drop-down lists to provide information about activities involving AFFF foam and then include the location of the activity. The \"Current Operations\" column is for locations where there are on-going/active AFFF operations at the airport while \"Historical Operations\" is for locations were AFFF operations occurred in the past."]
[]
[]
[null,"Life Cycle Stage","Questions","Current Operations",null,null,null,"Historical Operations  (if different from current)"]
[null,null,null,"Location","Activity","Responsible Party/ Custodian",null,"Location","Activity","Responsible Party/ Custodian"]
["Storage","STORAGE","Where is AFFF stored on at the airport?",null,"Storage",null,null,null,"Storage"]
["Storage",null,null,null,"Storage",null,null,null,"Storage"]
["Storage",null,null,null,"Storage",null,null,null,"Storage"]
["Storage",null,null,null,"Storage",null,null,null,"Storage"]
["Storage",null,null,null,"Storage",null,null,null,"Storage"]
["Use","USE\n (Training, Testing, Fire Supression)","How is AFFF used at the airport? (e.g. training, testing, fire trucks, hangar systems, incident response, accidental release. Incident response and accidental release are only available under the Historical Operations column.)"]
["Use"]
["Use"]
["Use"]
["Use"]
["Maintenance","MAINTENANCE","Are there maintenance activites at the airport that may result in the discharge and/or handling of AFFF? (e.g. filling the firefighting truck(s), filling the hangar system(s), cleaning the firefighting truck(s), cleaning the hangar system(s), diluting the AFFF solution)"]
["Maintenance"]
["Maintenance"]
["Maintenance"]
["Maintenance"]
["Disposal","DISPOSAL","Has AFFF from the airport been disposed of? (e.g. yes, on-site; yes, off-site, no; please answer in the \"Activity \"column)"]
["Disposal"]
["Disposal"]
["Disposal"]
["Disposal"]
["Other","OTHER POTENTIAL SOURCES OF PFAS","Are any of the following activities and/or sources known to occur on the airport property? (e.g. maintenance involving hydraulic lubricants, herbicide/pesticide application, metal machine operations, aviation and/or industrial components)"]
["Other"]
["Other"]
["Other"]
["Other"]
[]
[]
[null,null,null,{"$f":"HYPERLINK(\"[MAPA Screening Tool.xlsm]'Mod 1 Overview Questions'!D13\", \"Please click here once you have completed the table.\")","v":"Please click here once you have completed the table."}]
[]
[]
[]
[]
[null,"Potential Areas of Concern - Off-Site"]
[null,"Instructions: Please fill out the following table. Use the drop-down lists to provide information about activities involving AFFF foam and then include the location of the activity. The \"Current Operations\" column is for locations where there are on-going/active AFFF operations adjacent to the airport while \"Historical Operations\" is for locations were AFFF operations occurred in the past."]
[]
[]
[]
[]
[null,"Life Cycle Stage","Questions","Current Operations",null,null,null,"Historical Operations (if known or different from current)"]
[null,null,null,"Location","Activity","Land Use Type",null,"","Activity","Land Use Type"]
["Storage","STORAGE","Where is the AFFF stored?",null,"Storage",null,null,null,"Storage"]
["Storage",null,null,null,"Storage",null,null,null,"Storage"]
["Storage",null,null,null,"Storage",null,null,null,"Storage"]
["Storage",null,null,null,"Storage",null,null,null,"Storage"]
["Storage",null,null,null,"Storage",null,null,null,"Storage"]
["Use","USE \n(Training, Testing, Fire Supression)","How is AFFF used?(e.g. training, testing, fire trucks, hangar systems, incident response, accidental release. Incident response and accidental release are only available under the Historical Operations column.)"]
["Use"]
["Use"]
["Use"]
["Use"]
["Maintenance","MAINTENANCE","Are there maintenance activites that may result in the discharge and/or handling of AFFF? (e.g. filling the firefighting truck(s), filling the hangar system(s), cleaning the firefighting truck(s), cleaning the hangar system(s), diluting the AFFF solution)"]
["Maintenance"]
["Maintenance"]
["Maintenance"]
["Maintenance"]
["Disposal","DISPOSAL","Has AFFF from the airport been disposed of?(e.g. yes, on-site; yes, off-site, no)"]
["Disposal"]
["Disposal"]
["Disposal"]
["Disposal"]
["Other","OTHER  POTENTIAL SOURCES OF PFAS","Are any of the following activities and/or sources known to occur on the adjacent properties? (e.g. maintenance involving hydraulic lubricants, herbicide/pesticide application, metal machine operations, aviation and/or industrial components)"]
["Other"]
["Other"]
["Other"]
["Other"]
[]
[]
[null,null,null,{"$f":"HYPERLINK(\"[MAPA Screening Tool.xlsm]'Mod 1 Overview Questions'!D15\", \"Please click here once you have completed the table.\")","v":"Please click here once you have completed the table."}]

{"sheet":"Mod 1 Sensitive Receptors","index":3,"n_rows":30,"n_cols":5,"rows_kept":30,"cut":false,"hidden":false,"merged":[[2,3,2,4],[0,1,0,4],[1,1,1,4],[10,1,10,4],[29,1,29,4],[20,1,20,4],[21,1,21,4],[22,3,22,4],[11,1,11,4],[12,3,12,4]]}
[null,"Potential Sensitive Receptors - Potable Water Sources"]
[null,"Instructions: Use the drop-down list to select the type of potable water sources then input its location and the distance to the closest area of potential environmental concern that you identified on the Mod 1 APECs worksheet.\nChoices for potable water sources: potable well, municipal water well supply, surface water body, surface water intake "]
[null,"Potable Water Sources","Location","Distance to closest APEC"]
[null,null,null,null,{"$f":"IF('Mod 1 Overview Questions'!D20 = \"Metric\", \"metres\", IF('Mod 1 Overview Questions'!D20 = \"English\", \"miles\", \"\"))","v":""}]
[null,null,null,null,{"$f":"IF('Mod 1 Overview Questions'!D20 = \"Metric\", \"metres\", IF('Mod 1 Overview Questions'!D20 = \"English\", \"miles\", \"\"))","v":""}]
[null,null,null,null,{"$f":"IF('Mod 1 Overview Questions'!D20 = \"Metric\", \"metres\", IF('Mod 1 Overview Questions'!D20 = \"English\", \"miles\", \"\"))","v":""}]
[null,null,null,null,{"$f":"IF('Mod 1 Overview Questions'!D20 = \"Metric\", \"metres\", IF('Mod 1 Overview Questions'!D20 = \"English\", \"miles\", \"\"))","v":""}]
[null,null,null,null,{"$f":"IF('Mod 1 Overview Questions'!D20 = \"Metric\", \"metres\", IF('Mod 1 Overview Questions'!D20 = \"English\", \"miles\", \"\"))","v":""}]
[]
[]
[null,"Potential Sensitive Receptor - Surface Water Bodies"]
[null,"Instructions: Use the drop-down list to select the type of surface water body then input its location and the distance to the closest area of potential environmental concern that you identified on the Mod 1 APECs worksheets.\n\nChoices for surface water bodies: lake, river, stream, ocean, pond, ditch\n"]
[null,"Type of Surface Water Body","Location","Distance to closest APEC"]
[null,null,null,null,{"$f":"IF('Mod 1 Overview Questions'!D20 = \"Metric\", \"metres\", IF('Mod 1 Overview Questions'!D20 = \"English\", \"miles\", \"\"))","v":""}]
[null,null,null,null,{"$f":"IF('Mod 1 Overview Questions'!D20 = \"Metric\", \"metres\", IF('Mod 1 Overview Questions'!D20 = \"English\", \"miles\", \"\"))","v":""}]
[null,null,null,null,{"$f":"IF('Mod 1 Overview Questions'!D20 = \"Metric\", \"metres\", IF('Mod 1 Overview Questions'!D20 = \"English\", \"miles\", \"\"))","v":""}]
[null,null,null,null,{"$f":"IF('Mod 1 Overview Questions'!D20 = \"Metric\", \"metres\", IF('Mod 1 Overview Questions'!D20 = \"English\", \"miles\", \"\"))","v":""}]
[null,null,null,null,{"$f":"IF('Mod 1 Overview Questions'!D20 = \"Metric\", \"metres\", IF('Mod 1 Overview Questions'!D20 = \"English\", \"miles\", \"\"))","v":""}]
[]
[]
[null,"Potential Sensitive Receptors - Wetlands"]
[null,"Instructions: Use the drop-down list to select the type of wetland then input its location and the distance to the closest area of potential environmental concern that you identified on the Mod 1 APECs worksheet.\n\nDescriptions of Different Types of Wetlands\nBog and Fen: dominated by mosses and have peaty soils\nSwamp: dominated by trees with mineral soils\nSaltwater Marsh: dominated by grasses with mineral soils\nFreshwater Marsh: dominated by grasses with mineral soils"]
[null,"Type of Wetland","Location","Distance to closest APEC"]
[null,null,null,null,{"$f":"IF('Mod 1 Overview Questions'!D20 = \"Metric\", \"metres\", IF('Mod 1 Overview Questions'!D20 = \"English\", \"miles\", \"\"))","v":""}]
[null,null,null,null,{"$f":"IF('Mod 1 Overview Questions'!D20 = \"Metric\", \"metres\", IF('Mod 1 Overview Questions'!D20 = \"English\", \"miles\", \"\"))","v":""}]
[null,null,null,null,{"$f":"IF('Mod 1 Overview Questions'!D20 = \"Metric\", \"metres\", IF('Mod 1 Overview Questions'!D20 = \"English\", \"miles\", \"\"))","v":""}]
[null,null,null,null,{"$f":"IF('Mod 1 Overview Questions'!D20 = \"Metric\", \"metres\", IF('Mod 1 Overview Questions'!D20 = \"English\", \"miles\", \"\"))","v":""}]
[null,null,null,null,{"$f":"IF('Mod 1 Overview Questions'!D20 = \"Metric\", \"metres\", IF('Mod 1 Overview Questions'!D20 = \"English\", \"miles\", \"\"))","v":""}]
[]
[null,{"$f":"HYPERLINK(\"[MAPA Screening Tool.xlsm]'Module 1 Summary'!B1\", \"Please click here once you have completed the table.\")","v":"Please click here once you have completed the table."}]

{"sheet":"Module 1 Summary","index":4,"n_rows":134,"n_cols":9,"rows_kept":134,"cut":false,"hidden":false,"merged":[[133,2,133,4],[114,1,114,5],[0,1,0,7],[5,1,6,1],[5,2,6,2],[5,6,5,8],[5,3,5,5],[112,1,112,8],[113,1,113,8],[1,1,1,8]]}
[null,"Module 1 Summary Sheet - APEC"]
[null,"Instructions: This worksheet is auto-populated with information provided in previous worksheets. Press the button below before entering any data on this worksheet. Please fill in the latitudes and longitudes in decimal degrees. Also use the drop-down list to answer the question: \"Is the AOPC associated with past release into the environment?\""]
[]
[]
[]
[null,"APEC","Life Cycle Stage","Activity",null,null,"GIS"]
[null,null,null,"Type of Activity","Is the APEC associated with past release into the environment?","Responsible Party","Latitude","Longitude","Location Name for GIS"]
[null,{"$f":"'Mod 1 APECs'!D7","v":0},{"$f":"'Mod 1 APECs'!A7","v":"Storage"},"Storage","No",{"$f":"'Mod 1 APECs'!F7","v":0}]
[null,{"$f":"'Mod 1 APECs'!D8","v":0},{"$f":"'Mod 1 APECs'!A8","v":"Storage"},"Storage","No",{"$f":"'Mod 1 APECs'!F8","v":0}]
[null,{"$f":"'Mod 1 APECs'!D9","v":0},{"$f":"'Mod 1 APECs'!A9","v":"Storage"},"Storage","No",{"$f":"'Mod 1 APECs'!F9","v":0}]
[null,{"$f":"'Mod 1 APECs'!D10","v":0},{"$f":"'Mod 1 APECs'!A10","v":"Storage"},"Storage","No",{"$f":"'Mod 1 APECs'!F10","v":0}]
[null,{"$f":"'Mod 1 APECs'!D11","v":0},{"$f":"'Mod 1 APECs'!A11","v":"Storage"},"Storage","No",{"$f":"'Mod 1 APECs'!F11","v":0}]
[null,{"$f":"'Mod 1 APECs'!H7","v":0},{"$f":"'Mod 1 APECs'!A7","v":"Storage"},"Storage","No",{"$f":"'Mod 1 APECs'!J7","v":0}]
[null,{"$f":"'Mod 1 APECs'!H8","v":0},{"$f":"'Mod 1 APECs'!A8","v":"Storage"},"Storage","No",{"$f":"'Mod 1 APECs'!J8","v":0}]
[null,{"$f":"'Mod 1 APECs'!H9","v":0},{"$f":"'Mod 1 APECs'!A9","v":"Storage"},"Storage","No",{"$f":"'Mod 1 APECs'!J9","v":0}]
[null,{"$f":"'Mod 1 APECs'!H10","v":0},{"$f":"'Mod 1 APECs'!A10","v":"Storage"},"Storage","No",{"$f":"'Mod 1 APECs'!J10","v":0}]
[null,{"$f":"'Mod 1 APECs'!H11","v":0},{"$f":"'Mod 1 APECs'!A11","v":"Storage"},"Storage","No",{"$f":"'Mod 1 APECs'!J11","v":0}]
[null,{"$f":"'Mod 1 APECs'!D12","v":0},{"$f":"'Mod 1 APECs'!A12","v":"Use"},{"$f":"'Mod 1 APECs'!E12","v":0},null,{"$f":"'Mod 1 APECs'!F12","v":0}]
[null,{"$f":"'Mod 1 APECs'!D13","v":0},{"$f":"'Mod 1 APECs'!A13","v":"Use"},{"$f":"'Mod 1 APECs'!E13","v":0},null,{"$f":"'Mod 1 APECs'!F13","v":0}]
[null,{"$f":"'Mod 1 APECs'!D14","v":0},{"$f":"'Mod 1 APECs'!A14","v":"Use"},{"$f":"'Mod 1 APECs'!E14","v":0},null,{"$f":"'Mod 1 APECs'!F14","v":0}]
[null,{"$f":"'Mod 1 APECs'!D15","v":0},{"$f":"'Mod 1 APECs'!A15","v":"Use"},{"$f":"'Mod 1 APECs'!E15","v":0},null,{"$f":"'Mod 1 APECs'!F15","v":0}]
[null,{"$f":"'Mod 1 APECs'!D16","v":0},{"$f":"'Mod 1 APECs'!A16","v":"Use"},{"$f":"'Mod 1 APECs'!E16","v":0},null,{"$f":"'Mod 1 APECs'!F16","v":0}]
[null,{"$f":"'Mod 1 APECs'!H12","v":0},{"$f":"'Mod 1 APECs'!A12","v":"Use"},{"$f":"'Mod 1 APECs'!I12","v":0},null,{"$f":"'Mod 1 APECs'!J12","v":0}]
[null,{"$f":"'Mod 1 APECs'!H13","v":0},{"$f":"'Mod 1 APECs'!A13","v":"Use"},{"$f":"'Mod 1 APECs'!I13","v":0},null,{"$f":"'Mod 1 APECs'!J13","v":0}]
[null,{"$f":"'Mod 1 APECs'!H14","v":0},{"$f":"'Mod 1 APECs'!A14","v":"Use"},{"$f":"'Mod 1 APECs'!I14","v":0},null,{"$f":"'Mod 1 APECs'!J14","v":0}]
[null,{"$f":"'Mod 1 APECs'!H15","v":0},{"$f":"'Mod 1 APECs'!A15","v":"Use"},{"$f":"'Mod 1 APECs'!I15","v":0},null,{"$f":"'Mod 1 APECs'!J15","v":0}]
[null,{"$f":"'Mod 1 APECs'!H16","v":0},{"$f":"'Mod 1 APECs'!A16","v":"Use"},{"$f":"'Mod 1 APECs'!I16","v":0},null,{"$f":"'Mod 1 APECs'!J16","v":0}]
[null,{"$f":"'Mod 1 APECs'!D17","v":0},{"$f":"'Mod 1 APECs'!A17","v":"Maintenance"},{"$f":"'Mod 1 APECs'!E17","v":0},null,{"$f":"'Mod 1 APECs'!F17","v":0}]
[null,{"$f":"'Mod 1 APECs'!D18","v":0},{"$f":"'Mod 1 APECs'!A18","v":"Maintenance"},{"$f":"'Mod 1 APECs'!E18","v":0},null,{"$f":"'Mod 1 APECs'!F18","v":0}]
[null,{"$f":"'Mod 1 APECs'!D19","v":0},{"$f":"'Mod 1 APECs'!A19","v":"Maintenance"},{"$f":"'Mod 1 APECs'!E19","v":0},null,{"$f":"'Mod 1 APECs'!F19","v":0}]
[null,{"$f":"'Mod 1 APECs'!D20","v":0},{"$f":"'Mod 1 APECs'!A20","v":"Maintenance"},{"$f":"'Mod 1 APECs'!E20","v":0},null,{"$f":"'Mod 1 APECs'!F20","v":0}]
[null,{"$f":"'Mod 1 APECs'!D21","v":0},{"$f":"'Mod 1 APECs'!A21","v":"Maintenance"},{"$f":"'Mod 1 APECs'!E21","v":0},null,{"$f":"'Mod 1 APECs'!F21","v":0}]
[null,{"$f":"'Mod 1 APECs'!H17","v":0},{"$f":"'Mod 1 APECs'!A17","v":"Maintenance"},{"$f":"'Mod 1 APECs'!I17","v":0},null,{"$f":"'Mod 1 APECs'!J17","v":0}]
[null,{"$f":"'Mod 1 APECs'!H18","v":0},{"$f":"'Mod 1 APECs'!A18","v":"Maintenance"},{"$f":"'Mod 1 APECs'!I18","v":0},null,{"$f":"'Mod 1 APECs'!J18","v":0}]
[null,{"$f":"'Mod 1 APECs'!H19","v":0},{"$f":"'Mod 1 APECs'!A19","v":"Maintenance"},{"$f":"'Mod 1 APECs'!I19","v":0},null,{"$f":"'Mod 1 APECs'!J19","v":0}]
[null,{"$f":"'Mod 1 APECs'!H20","v":0},{"$f":"'Mod 1 APECs'!A20","v":"Maintenance"},{"$f":"'Mod 1 APECs'!I20","v":0},null,{"$f":"'Mod 1 APECs'!J20","v":0}]
[null,{"$f":"'Mod 1 APECs'!H21","v":0},{"$f":"'Mod 1 APECs'!A21","v":"Maintenance"},{"$f":"'Mod 1 APECs'!I21","v":0},null,{"$f":"'Mod 1 APECs'!J21","v":0}]
[null,{"$f":"'Mod 1 APECs'!D22","v":0},{"$f":"'Mod 1 APECs'!A22","v":"Disposal"},null,"Yes",{"$f":"'Mod 1 APECs'!F22","v":0}]
[null,{"$f":"'Mod 1 APECs'!D23","v":0},{"$f":"'Mod 1 APECs'!A23","v":"Disposal"},{"$f":"'Mod 1 APECs'!E23","v":0},"Yes",{"$f":"'Mod 1 APECs'!F23","v":0}]
[null,{"$f":"'Mod 1 APECs'!D24","v":0},{"$f":"'Mod 1 APECs'!A24","v":"Disposal"},{"$f":"'Mod 1 APECs'!E24","v":0},"Yes",{"$f":"'Mod 1 APECs'!F24","v":0}]
[null,{"$f":"'Mod 1 APECs'!D25","v":0},{"$f":"'Mod 1 APECs'!A25","v":"Disposal"},{"$f":"'Mod 1 APECs'!E25","v":0},"Yes",{"$f":"'Mod 1 APECs'!F25","v":0}]
[null,{"$f":"'Mod 1 APECs'!D26","v":0},{"$f":"'Mod 1 APECs'!A26","v":"Disposal"},{"$f":"'Mod 1 APECs'!E26","v":0},"Yes",{"$f":"'Mod 1 APECs'!F26","v":0}]
[null,{"$f":"'Mod 1 APECs'!H22","v":0},{"$f":"'Mod 1 APECs'!A22","v":"Disposal"},{"$f":"'Mod 1 APECs'!I22","v":0},"Yes",{"$f":"'Mod 1 APECs'!J22","v":0}]
[null,{"$f":"'Mod 1 APECs'!H23","v":0},{"$f":"'Mod 1 APECs'!A23","v":"Disposal"},{"$f":"'Mod 1 APECs'!I23","v":0},"Yes",{"$f":"'Mod 1 APECs'!J23","v":0}]
[null,{"$f":"'Mod 1 APECs'!H24","v":0},{"$f":"'Mod 1 APECs'!A24","v":"Disposal"},{"$f":"'Mod 1 APECs'!I24","v":0},"Yes",{"$f":"'Mod 1 APECs'!J24","v":0}]
[null,{"$f":"'Mod 1 APECs'!H25","v":0},{"$f":"'Mod 1 APECs'!A25","v":"Disposal"},{"$f":"'Mod 1 APECs'!I25","v":0},"Yes",{"$f":"'Mod 1 APECs'!J25","v":0}]
[null,{"$f":"'Mod 1 APECs'!H26","v":0},{"$f":"'Mod 1 APECs'!A26","v":"Disposal"},{"$f":"'Mod 1 APECs'!I26","v":0},"Yes",{"$f":"'Mod 1 APECs'!J26","v":0}]
[null,{"$f":"'Mod 1 APECs'!D27","v":0},{"$f":"'Mod 1 APECs'!A27","v":"Other"},{"$f":"'Mod 1 APECs'!E27","v":0},null,{"$f":"'Mod 1 APECs'!F27","v":0}]
[null,{"$f":"'Mod 1 APECs'!D28","v":0},{"$f":"'Mod 1 APECs'!A28","v":"Other"},{"$f":"'Mod 1 APECs'!E28","v":0},null,{"$f":"'Mod 1 APECs'!F28","v":0}]
[null,{"$f":"'Mod 1 APECs'!D29","v":0},{"$f":"'Mod 1 APECs'!A29","v":"Other"},{"$f":"'Mod 1 APECs'!E29","v":0},null,{"$f":"'Mod 1 APECs'!F29","v":0}]
[null,{"$f":"'Mod 1 APECs'!D30","v":0},{"$f":"'Mod 1 APECs'!A30","v":"Other"},{"$f":"'Mod 1 APECs'!E30","v":0},null,{"$f":"'Mod 1 APECs'!F30","v":0}]
[null,{"$f":"'Mod 1 APECs'!D31","v":0},{"$f":"'Mod 1 APECs'!A31","v":"Other"},{"$f":"'Mod 1 APECs'!E31","v":0},null,{"$f":"'Mod 1 APECs'!F31","v":0}]
[null,{"$f":"'Mod 1 APECs'!H27","v":0},{"$f":"'Mod 1 APECs'!A27","v":"Other"},{"$f":"'Mod 1 APECs'!I27","v":0},null,{"$f":"'Mod 1 APECs'!J27","v":0}]
[null,{"$f":"'Mod 1 APECs'!H28","v":0},{"$f":"'Mod 1 APECs'!A28","v":"Other"},{"$f":"'Mod 1 APECs'!I28","v":0},null,{"$f":"'Mod 1 APECs'!J28","v":0}]
[null,{"$f":"'Mod 1 APECs'!H29","v":0},{"$f":"'Mod 1 APECs'!A29","v":"Other"},{"$f":"'Mod 1 APECs'!I29","v":0},null,{"$f":"'Mod 1 APECs'!J29","v":0}]
[null,{"$f":"'Mod 1 APECs'!H30","v":0},{"$f":"'Mod 1 APECs'!A30","v":"Other"},{"$f":"'Mod 1 APECs'!I30","v":0},null,{"$f":"'Mod 1 APECs'!J30","v":0}]
[null,{"$f":"'Mod 1 APECs'!H31","v":0},{"$f":"'Mod 1 APECs'!A31","v":"Other"},{"$f":"'Mod 1 APECs'!I31","v":0},null,{"$f":"'Mod 1 APECs'!J31","v":0}]
[null,{"$f":"'Mod 1 APECs'!D47","v":0},{"$f":"'Mod 1 APECs'!A47","v":"Storage"},"Storage","No"]
[null,{"$f":"'Mod 1 APECs'!D48","v":0},{"$f":"'Mod 1 APECs'!A48","v":"Storage"},"Storage","No"]
[null,{"$f":"'Mod 1 APECs'!D49","v":0},{"$f":"'Mod 1 APECs'!A49","v":"Storage"},"Storage","No"]
[null,{"$f":"'Mod 1 APECs'!D50","v":0},{"$f":"'Mod 1 APECs'!A50","v":"Storage"},"Storage","No"]
[null,{"$f":"'Mod 1 APECs'!D51","v":0},{"$f":"'Mod 1 APECs'!A51","v":"Storage"},"Storage","No"]
[null,{"$f":"'Mod 1 APECs'!H47","v":0},{"$f":"'Mod 1 APECs'!A52","v":"Use"},"Storage","No"]
[null,{"$f":"'Mod 1 APECs'!H48","v":0},{"$f":"'Mod 1 APECs'!A53","v":"Use"},"Storage","No"]
[null,{"$f":"'Mod 1 APECs'!H49","v":0},{"$f":"'Mod 1 APECs'!A54","v":"Use"},"Storage","No"]
[null,{"$f":"'Mod 1 APECs'!H50","v":0},{"$f":"'Mod 1 APECs'!A55","v":"Use"},"Storage","No"]
[null,{"$f":"'Mod 1 APECs'!H51","v":0},{"$f":"'Mod 1 APECs'!A56","v":"Use"},"Storage","No"]
[null,{"$f":"'Mod 1 APECs'!D52","v":0},{"$f":"'Mod 1 APECs'!A57","v":"Maintenance"},{"$f":"'Mod 1 APECs'!E52","v":0}]
[null,{"$f":"'Mod 1 APECs'!D53","v":0},{"$f":"'Mod 1 APECs'!A58","v":"Maintenance"},{"$f":"'Mod 1 APECs'!E53","v":0}]
[null,{"$f":"'Mod 1 APECs'!D54","v":0},{"$f":"'Mod 1 APECs'!A59","v":"Maintenance"},{"$f":"'Mod 1 APECs'!E54","v":0}]
[null,{"$f":"'Mod 1 APECs'!D55","v":0},{"$f":"'Mod 1 APECs'!A60","v":"Maintenance"},{"$f":"'Mod 1 APECs'!E55","v":0}]
[null,{"$f":"'Mod 1 APECs'!D56","v":0},{"$f":"'Mod 1 APECs'!A61","v":"Maintenance"},{"$f":"'Mod 1 APECs'!E56","v":0}]
[null,{"$f":"'Mod 1 APECs'!H52","v":0},{"$f":"'Mod 1 APECs'!A62","v":"Disposal"},{"$f":"'Mod 1 APECs'!I52","v":0}]
[null,{"$f":"'Mod 1 APECs'!H53","v":0},{"$f":"'Mod 1 APECs'!A63","v":"Disposal"},{"$f":"'Mod 1 APECs'!I53","v":0}]
[null,{"$f":"'Mod 1 APECs'!H54","v":0},{"$f":"'Mod 1 APECs'!A64","v":"Disposal"},{"$f":"'Mod 1 APECs'!I54","v":0}]
[null,{"$f":"'Mod 1 APECs'!H55","v":0},{"$f":"'Mod 1 APECs'!A65","v":"Disposal"},{"$f":"'Mod 1 APECs'!I55","v":0}]
[null,{"$f":"'Mod 1 APECs'!H56","v":0},{"$f":"'Mod 1 APECs'!A66","v":"Disposal"},{"$f":"'Mod 1 APECs'!I56","v":0}]
[null,{"$f":"'Mod 1 APECs'!D57","v":0},{"$f":"'Mod 1 APECs'!A67","v":"Other"},{"$f":"'Mod 1 APECs'!E57","v":0}]
[null,{"$f":"'Mod 1 APECs'!D58","v":0},{"$f":"'Mod 1 APECs'!A68","v":"Other"},{"$f":"'Mod 1 APECs'!E58","v":0}]
[null,{"$f":"'Mod 1 APECs'!D59","v":0},{"$f":"'Mod 1 APECs'!A69","v":"Other"},{"$f":"'Mod 1 APECs'!E59","v":0}]
[null,{"$f":"'Mod 1 APECs'!D60","v":0},{"$f":"'Mod 1 APECs'!A70","v":"Other"},{"$f":"'Mod 1 APECs'!E60","v":0}]
[null,{"$f":"'Mod 1 APECs'!D61","v":0},{"$f":"'Mod 1 APECs'!A71","v":"Other"},{"$f":"'Mod 1 APECs'!E61","v":0}]
[null,{"$f":"'Mod 1 APECs'!H57","v":0},{"$f":"'Mod 1 APECs'!A47","v":"Storage"},{"$f":"'Mod 1 APECs'!I57","v":0}]
[null,{"$f":"'Mod 1 APECs'!H58","v":0},{"$f":"'Mod 1 APECs'!A48","v":"Storage"},{"$f":"'Mod 1 APECs'!I58","v":0}]
[null,{"$f":"'Mod 1 APECs'!H59","v":0},{"$f":"'Mod 1 APECs'!A49","v":"Storage"},{"$f":"'Mod 1 APECs'!I59","v":0}]
[null,{"$f":"'Mod 1 APECs'!H60","v":0},{"$f":"'Mod 1 APECs'!A50","v":"Storage"},{"$f":"'Mod 1 APECs'!I60","v":0}]
[null,{"$f":"'Mod 1 APECs'!H61","v":0},{"$f":"'Mod 1 APECs'!A51","v":"Storage"},{"$f":"'Mod 1 APECs'!I61","v":0}]
[null,{"$f":"'Mod 1 APECs'!D62","v":0},{"$f":"'Mod 1 APECs'!A52","v":"Use"},{"$f":"'Mod 1 APECs'!E62","v":0},"Yes"]
[null,{"$f":"'Mod 1 APECs'!D63","v":0},{"$f":"'Mod 1 APECs'!A53","v":"Use"},{"$f":"'Mod 1 APECs'!E63","v":0},"Yes"]
[null,{"$f":"'Mod 1 APECs'!D64","v":0},{"$f":"'Mod 1 APECs'!A54","v":"Use"},{"$f":"'Mod 1 APECs'!E64","v":0},"Yes"]
[null,{"$f":"'Mod 1 APECs'!D65","v":0},{"$f":"'Mod 1 APECs'!A55","v":"Use"},{"$f":"'Mod 1 APECs'!E65","v":0},"Yes"]
[null,{"$f":"'Mod 1 APECs'!D66","v":0},{"$f":"'Mod 1 APECs'!A56","v":"Use"},{"$f":"'Mod 1 APECs'!E66","v":0},"Yes"]
[null,{"$f":"'Mod 1 APECs'!H62","v":0},{"$f":"'Mod 1 APECs'!A57","v":"Maintenance"},{"$f":"'Mod 1 APECs'!I62","v":0},"Yes"]
[null,{"$f":"'Mod 1 APECs'!H63","v":0},{"$f":"'Mod 1 APECs'!A58","v":"Maintenance"},{"$f":"'Mod 1 APECs'!I63","v":0},"Yes"]
[null,{"$f":"'Mod 1 APECs'!H64","v":0},{"$f":"'Mod 1 APECs'!A59","v":"Maintenance"},{"$f":"'Mod 1 APECs'!I64","v":0},"Yes"]
[null,{"$f":"'Mod 1 APECs'!H65","v":0},{"$f":"'Mod 1 APECs'!A60","v":"Maintenance"},{"$f":"'Mod 1 APECs'!I65","v":0},"Yes"]
[null,{"$f":"'Mod 1 APECs'!H66","v":0},{"$f":"'Mod 1 APECs'!A61","v":"Maintenance"},{"$f":"'Mod 1 APECs'!I66","v":0},"Yes"]
[null,{"$f":"'Mod 1 APECs'!D67","v":0},{"$f":"'Mod 1 APECs'!A62","v":"Disposal"},{"$f":"'Mod 1 APECs'!E67","v":0}]
[null,{"$f":"'Mod 1 APECs'!D68","v":0},{"$f":"'Mod 1 APECs'!A63","v":"Disposal"},{"$f":"'Mod 1 APECs'!E68","v":0}]
[null,{"$f":"'Mod 1 APECs'!D69","v":0},{"$f":"'Mod 1 APECs'!A64","v":"Disposal"},{"$f":"'Mod 1 APECs'!E69","v":0}]
[null,{"$f":"'Mod 1 APECs'!D70","v":0},{"$f":"'Mod 1 APECs'!A65","v":"Disposal"},{"$f":"'Mod 1 APECs'!E70","v":0}]
[null,{"$f":"'Mod 1 APECs'!D71","v":0},{"$f":"'Mod 1 APECs'!A66","v":"Disposal"},{"$f":"'Mod 1 APECs'!E71","v":0}]
[null,{"$f":"'Mod 1 APECs'!H67","v":0},{"$f":"'Mod 1 APECs'!A67","v":"Other"},{"$f":"'Mod 1 APECs'!I67","v":0}]
[null,{"$f":"'Mod 1 APECs'!H68","v":0},{"$f":"'Mod 1 APECs'!A68","v":"Other"},{"$f":"'Mod 1 APECs'!I68","v":0}]
[null,{"$f":"'Mod 1 APECs'!H69","v":0},{"$f":"'Mod 1 APECs'!A69","v":"Other"},{"$f":"'Mod 1 APECs'!I69","v":0}]
[null,{"$f":"'Mod 1 APECs'!H70","v":0},{"$f":"'Mod 1 APECs'!A70","v":"Other"},{"$f":"'Mod 1 APECs'!I70","v":0}]
[null,{"$f":"'Mod 1 APECs'!H71","v":0},{"$f":"'Mod 1 APECs'!A71","v":"Other"},{"$f":"'Mod 1 APECs'!I71","v":0}]
[]
[]
[]
[]
[]
[null,"Module 1 Summary Sheet - Sensitive Receptors"]
[null,"Instructions: This worksheet is auto-populated with information provided in previous worksheets. Press the button below before entering any data on this worksheet then fill in the latitudes and longitudes in decimal degrees. "]
[null,"Sensitive Receptors "]
[null,"Type of Receptor","Location","Latitude","Longitude","Location Name for GIS"]
[null,{"$f":"'Mod 1 Sensitive Receptors'!B4","v":0},{"$f":"'Mod 1 Sensitive Receptors'!C4","v":0}]
[null,{"$f":"'Mod 1 Sensitive Receptors'!B5","v":0},{"$f":"'Mod 1 Sensitive Receptors'!C5","v":0}]
[null,{"$f":"'Mod 1 Sensitive Receptors'!B6","v":0},{"$f":"'Mod 1 Sensitive Receptors'!C6","v":0}]
[null,{"$f":"'Mod 1 Sensitive Receptors'!B7","v":0},{"$f":"'Mod 1 Sensitive Receptors'!C7","v":0}]
[null,{"$f":"'Mod 1 Sensitive Receptors'!B8","v":0},{"$f":"'Mod 1 Sensitive Receptors'!C8","v":0}]
[null,{"$f":"'Mod 1 Sensitive Receptors'!B14","v":0},{"$f":"'Mod 1 Sensitive Receptors'!C14","v":0}]
[null,{"$f":"'Mod 1 Sensitive Receptors'!B15","v":0},{"$f":"'Mod 1 Sensitive Receptors'!C15","v":0}]
[null,{"$f":"'Mod 1 Sensitive Receptors'!B16","v":0},{"$f":"'Mod 1 Sensitive Receptors'!C16","v":0}]
[null,{"$f":"'Mod 1 Sensitive Receptors'!B17","v":0},{"$f":"'Mod 1 Sensitive Receptors'!C17","v":0}]
[null,{"$f":"'Mod 1 Sensitive Receptors'!B18","v":0},{"$f":"'Mod 1 Sensitive Receptors'!C18","v":0}]
[null,{"$f":"'Mod 1 Sensitive Receptors'!B24","v":0},{"$f":"'Mod 1 Sensitive Receptors'!C24","v":0}]
[null,{"$f":"'Mod 1 Sensitive Receptors'!B25","v":0},{"$f":"'Mod 1 Sensitive Receptors'!C25","v":0}]
[null,{"$f":"'Mod 1 Sensitive Receptors'!B26","v":0},{"$f":"'Mod 1 Sensitive Receptors'!C26","v":0}]
[null,{"$f":"'Mod 1 Sensitive Receptors'!B27","v":0},{"$f":"'Mod 1 Sensitive Receptors'!C27","v":0}]
[null,{"$f":"'Mod 1 Sensitive Receptors'!B28","v":0},{"$f":"'Mod 1 Sensitive Receptors'!C28","v":0}]
[]
[]
[null,null,{"$f":"HYPERLINK(\"[MAPA Screening Tool.xlsm]'Mod 2 Ops APECs '!A1\",\"Click here once table is complete\")","v":"Click here once table is complete"}]

{"sheet":"Mod 2 Ops APECs ","index":5,"n_rows":40,"n_cols":161,"rows_kept":40,"cut":false,"hidden":false,"merged":[[4,1,12,1],[12,19,12,20],[12,21,12,22],[12,23,12,24],[12,25,12,26],[12,27,12,28],[12,29,12,30],[12,3,12,4],[12,5,12,6],[12,7,12,8],[12,9,12,10],[12,11,12,12],[12,13,12,14],[12,15,12,16],[12,17,12,18],[12,43,12,44],[12,45,12,46],[12,47,12,48],[12,49,12,50],[12,51,12,52],[12,53,12,54],[12,31,12,32],[12,33,12,34],[12,35,12,36],[12,37,12,38],[12,39,12,40],[12,41,12,42],[12,67,12,68],[12,69,12,70],[12,71,12,72],[12,73,12,74],[12,75,12,76],[12,77,12,78],[12,55,12,56],[12,57,12,58],[12,59,12,60],[12,61,12,62],[12,63,12,64],[12,65,12,66],[12,91,12,92],[12,93,12,94],[12,95,12,96],[12,97,12,98],[12,99,12,100],[12,101,12,102],[12,79,12,80],[12,81,12,82],[12,83,12,84],[12,85,12,86],[12,87,12,88],[12,89,12,90],[12,119,12,120],[12,121,12,122],[12,123,12,124],[12,125,12,126],[12,103,12,104],[12,105,12,106],[12,107,12,108],[12,109,12,110],[12,111,12,112],[12,113,12,114],[12,151,12,152],[12,153,12,154],[12,155,12,156],[12,157,12,158],[12,159,12,160],[13,1,19,1],[19,3,19,4],[19,5,19,6],[19,7,19,8],[19,9,19,10],[12,139,12,140],[12,141,12,142],[12,143,12,144],[12,145,12,146],[12,147,12,148],[12,149,12,150],[12,127,12,128],[12,129,12,130],[12,131,12,132],[12,133,12,134],[12,135,12,136],[12,137,12,138],[12,115,12,116],[12,117,12,118],[19,23,19,24],[19,25,19,26],[19,27,19,28],[19,29,19,30],[19,31,19,32],[19,33,19,34],[19,11,19,12],[19,13,19,14],[19,15,19,16],[19,17,19,18],[19,19,19,20],[19,21,19,22],[19,47,19,48],[19,49,19,50],[19,51,19,52],[19,53,19,54],[19,55,19,56],[19,57,19,58],[19,35,19,36],[19,37,19,38],[19,39,19,40],[19,41,19,42],[19,43,19,44],[19,45,19,46],[19,71,19,72],[19,73,19,74],[19,75,19,76],[19,77,19,78],[19,79,19,80],[19,81,19,82],[19,59,19,60],[19,61,19,62],[19,63,19,64],[19,65,19,66],[19,67,19,68],[19,69,19,70],[19,95,19,96],[19,97,19,98],[19,99,19,100],[19,101,19,102],[19,103,19,104],[19,105,19,106],[19,83,19,84],[19,85,19,86],[19,87,19,88],[19,89,19,90],[19,91,19,92],[19,93,19,94],[19,123,19,124],[19,125,19,126],[19,127,19,128],[19,129,19,130],[19,107,19,108],[19,109,19,110],[19,111,19,112],[19,113,19,114],[19,115,19,116],[19,117,19,118],[19,155,19,156],[19,157,19,158],[19,159,19,160],[20,1,30,1],[30,3,30,4],[30,5,30,6],[30,7,30,8],[30,9,30,10],[30,11,30,12],[30,13,30,14],[19,143,19,144],[19,145,19,146],[19,147,19,148],[19,149,19,150],[19,151,19,152],[19,153,19,154],[19,131,19,132],[19,133,19,134],[19,135,19,136],[19,137,19,138],[19,139,19,140],[19,141,19,142],[19,119,19,120],[19,121,19,122],[30,27,30,28],[30,29,30,30],[30,31,30,32],[30,33,30,34],[30,35,30,36],[30,37,30,38],[30,15,30,16],[30,17,30,18],[30,19,30,20],[30,21,30,22],[30,23,30,24],[30,25,30,26],[30,51,30,52],[30,53,30,54],[30,55,30,56],[30,57,30,58],[30,59,30,60],[30,61,30,62],[30,39,30,40],[30,41,30,42],[30,43,30,44],[30,45,30,46],[30,47,30,48],[30,49,30,50],[30,75,30,76],[30,77,30,78],[30,79,30,80],[30,81,30,82],[30,83,30,84],[30,85,30,86],[30,63,30,64],[30,65,30,66],[30,67,30,68],[30,69,30,70],[30,71,30,72],[30,73,30,74],[30,99,30,100],[30,101,30,102],[30,103,30,104],[30,105,30,106],[30,107,30,108],[30,109,30,110],[30,87,30,88],[30,89,30,90],[30,91,30,92],[30,93,30,94],[30,95,30,96],[30,97,30,98],[30,127,30,128],[30,129,30,130],[30,131,30,132],[30,133,30,134],[30,111,30,112],[30,113,30,114],[30,115,30,116],[30,117,30,118],[30,119,30,120],[30,121,30,122],[30,159,30,160],[31,1,35,1],[35,3,35,4],[35,5,35,6],[35,7,35,8],[35,9,35,10],[35,11,35,12],[35,13,35,14],[35,15,35,16],[35,17,35,18],[30,147,30,148],[30,149,30,150],[30,151,30,152],[30,153,30,154],[30,155,30,156],[30,157,30,158],[30,135,30,136],[30,137,30,138],[30,139,30,140],[30,141,30,142],[30,143,30,144],[30,145,30,146],[30,123,30,124],[30,125,30,126],[35,31,35,32],[35,33,35,34],[35,35,35,36],[35,37,35,38],[35,39,35,40],[35,41,35,42],[35,19,35,20],[35,21,35,22],[35,23,35,24],[35,25,35,26],[35,27,35,28],[35,29,35,30],[35,55,35,56],[35,57,35,58],[35,59,35,60],[35,61,35,62],[35,63,35,64],[35,65,35,66],[35,43,35,44],[35,45,35,46],[35,47,35,48],[35,49,35,50],[35,51,35,52],[35,53,35,54],[35,83,35,84],[35,85,35,86],[35,87,35,88],[35,89,35,90],[35,67,35,68],[35,69,35,70],[35,71,35,72],[35,73,35,74],[35,75,35,76],[35,77,35,78],[35,157,35,158],[35,159,35,160],[36,1,36,2],[36,3,36,4],[36,5,36,6],[36,7,36,8],[36,9,36,10],[35,139,35,140],[35,141,35,142],[35,143,35,144],[35,145,35,146],[35,147,35,148],[35,149,35,150],[35,127,35,128],[35,129,35,130],[35,131,35,132],[35,133,35,134],[35,135,35,136],[35,137,35,138],[35,115,35,116],[35,117,35,118],[35,119,35,120],[35,121,35,122],[35,123,35,124],[36,11,36,12],[36,13,36,14],[36,15,36,16],[36,17,36,18],[36,19,36,20],[36,21,36,22],[35,151,35,152],[35,153,35,154],[35,155,35,156],[35,125,35,126],[35,103,35,104],[35,105,35,106],[35,107,35,108],[35,109,35,110],[35,111,35,112],[35,113,35,114],[35,91,35,92],[35,93,35,94],[35,95,35,96],[35,97,35,98],[35,99,35,100],[35,101,35,102],[35,79,35,80],[35,81,35,82],[36,35,36,36],[36,37,36,38],[36,39,36,40],[36,41,36,42],[36,43,36,44],[36,45,36,46],[36,23,36,24],[36,25,36,26],[36,27,36,28],[36,29,36,30],[36,31,36,32],[36,33,36,34],[36,59,36,60],[36,61,36,62],[36,63,36,64],[36,65,36,66],[36,67,36,68],[36,69,36,70],[36,47,36,48],[36,49,36,50],[36,51,36,52],[36,53,36,54],[36,55,36,56],[36,57,36,58],[36,83,36,84],[36,85,36,86],[36,87,36,88],[36,89,36,90],[36,91,36,92],[36,93,36,94],[36,71,36,72],[36,73,36,74],[36,75,36,76],[36,77,36,78],[36,79,36,80],[36,81,36,82],[36,111,36,112],[36,113,36,114],[36,115,36,116],[36,117,36,118],[36,95,36,96],[36,97,36,98],[36,99,36,100],[36,101,36,102],[36,103,36,104],[36,105,36,106],[36,155,36,156],[36,157,36,158],[36,159,36,160],[39,1,39,2],[36,143,36,144],[36,145,36,146],[36,147,36,148],[36,149,36,150],[36,151,36,152],[36,153,36,154],[36,131,36,132],[36,133,36,134],[36,135,36,136],[36,137,36,138],[36,139,36,140],[36,141,36,142],[36,119,36,120],[36,121,36,122],[36,123,36,124],[36,125,36,126],[36,127,36,128],[36,129,36,130],[36,107,36,108],[36,109,36,110]]}
[]
[]
[]
[null,"Life Cycle","Questions",{"$f":"'Module 1 Summary'!B8","v":0},{"$f":"'Module 1 Summary'!B8","v":0},{"$f":"'Module 1 Summary'!B9","v":0},{"$f":"'Module 1 Summary'!B9","v":0},{"$f":"'Module 1 Summary'!B10","v":0},{"$f":"'Module 1 Summary'!B10","v":0},{"$f":"'Module 1 Summary'!B11","v":0},{"$f":"'Module 1 Summary'!B11","v":0},{"$f":"'Module 1 Summary'!B12","v":0},{"$f":"'Module 1 Summary'!B12","v":0},{"$f":"'Module 1 Summary'!B13","v":0},{"$f":"'Module 1 Summary'!B13","v":0},{"$f":"'Module 1 Summary'!B14","v":0},{"$f":"'Module 1 Summary'!B14","v":0},{"$f":"'Module 1 Summary'!B15","v":0},{"$f":"'Module 1 Summary'!B15","v":0},{"$f":"'Module 1 Summary'!B16","v":0},{"$f":"'Module 1 Summary'!B16","v":0},{"$f":"'Module 1 Summary'!B17","v":0},{"$f":"'Module 1 Summary'!B17","v":0},{"$f":"IF('Module 1 Summary'!D18= \"Incident response\", \"\", IF('Module 1 Summary'!D18=\"Accidental release\", \"\", 'Module 1 Summary'!B18))","v":0},{"$f":"IF('Module 1 Summary'!D18= \"Incident response\", \"\", IF('Module 1 Summary'!D18=\"Accidental release\", \"\", 'Module 1 Summary'!B18))","v":0},{"$f":"IF('Module 1 Summary'!D19= \"Incident response\", \"\", IF('Module 1 Summary'!D19=\"Accidental release\", \"\", 'Module 1 Summary'!B19))","v":0},{"$f":"IF('Module 1 Summary'!D19= \"Incident response\", \"\", IF('Module 1 Summary'!D19=\"Accidental release\", \"\", 'Module 1 Summary'!B19))","v":0},{"$f":"IF('Module 1 Summary'!D20= \"Incident response\", \"\", IF('Module 1 Summary'!D20=\"Accidental release\", \"\", 'Module 1 Summary'!B20))","v":0},{"$f":"IF('Module 1 Summary'!D20= \"Incident response\", \"\", IF('Module 1 Summary'!D20=\"Accidental release\", \"\", 'Module 1 Summary'!B20))","v":0},{"$f":"IF('Module 1 Summary'!D21= \"Incident response\", \"\", IF('Module 1 Summary'!D21=\"Accidental release\", \"\", 'Module 1 Summary'!B21))","v":0},{"$f":"IF('Module 1 Summary'!D21= \"Incident response\", \"\", IF('Module 1 Summary'!D21=\"Accidental release\", \"\", 'Module 1 Summary'!B21))","v":0},{"$f":"IF('Module 1 Summary'!D22= \"Incident response\", \"\", IF('Module 1 Summary'!D22=\"Accidental release\", \"\", 'Module 1 Summary'!B22))","v":0},{"$f":"IF('Module 1 Summary'!D22= \"Incident response\", \"\", IF('Module 1 Summary'!D22=\"Accidental release\", \"\", 'Module 1 Summary'!B22))","v":0},{"$f":"IF('Module 1 Summary'!D23= \"Incident response\", \"\", IF('Module 1 Summary'!D23=\"Accidental release\", \"\", 'Module 1 Summary'!B23))","v":0},{"$f":"IF('Module 1 Summary'!D23= \"Incident response\", \"\", IF('Module 1 Summary'!D23=\"Accidental release\", \"\", 'Module 1 Summary'!B23))","v":0},{"$f":"IF('Module 1 Summary'!D24= \"Incident response\", \"\", IF('Module 1 Summary'!D24=\"Accidental release\", \"\", 'Module 1 Summary'!B24))","v":0},{"$f":"IF('Module 1 Summary'!D24= \"Incident response\", \"\", IF('Module 1 Summary'!D24=\"Accidental release\", \"\", 'Module 1 Summary'!B24))","v":0},{"$f":"IF('Module 1 Summary'!D25= \"Incident response\", \"\", IF('Module 1 Summary'!D25=\"Accidental release\", \"\", 'Module 1 Summary'!D25))","v":0},{"$f":"IF('Module 1 Summary'!D25= \"Incident response\", \"\", IF('Module 1 Summary'!D25=\"Accidental release\", \"\", 'Module 1 Summary'!D25))","v":0},{"$f":"IF('Module 1 Summary'!D26= \"Incident response\", \"\", IF('Module 1 Summary'!D26=\"Accidental release\", \"\", 'Module 1 Summary'!B26))","v":0},{"$f":"IF('Module 1 Summary'!D26= \"Incident response\", \"\", IF('Module 1 Summary'!D26=\"Accidental release\", \"\", 'Module 1 Summary'!B26))","v":0},{"$f":"IF('Module 1 Summary'!D27= \"Incident response\", \"\", IF('Module 1 Summary'!D27=\"Accidental release\", \"\", 'Module 1 Summary'!B27))","v":0},{"$f":"IF('Module 1 Summary'!D27= \"Incident response\", \"\", IF('Module 1 Summary'!D27=\"Accidental release\", \"\", 'Module 1 Summary'!B27))","v":0},{"$f":"'Module 1 Summary'!B28","v":0},{"$f":"'Module 1 Summary'!B28","v":0},{"$f":"'Module 1 Summary'!B29","v":0},{"$f":"'Module 1 Summary'!B29","v":0},{"$f":"'Module 1 Summary'!B30","v":0},{"$f":"'Module 1 Summary'!B30","v":0},{"$f":"'Module 1 Summary'!B31","v":0},{"$f":"'Module 1 Summary'!B31","v":0},{"$f":"'Module 1 Summary'!B32","v":0},{"$f":"'Module 1 Summary'!B32","v":0},{"$f":"'Module 1 Summary'!B33","v":0},{"$f":"'Module 1 Summary'!B33","v":0},{"$f":"'Module 1 Summary'!B34","v":0},{"$f":"'Module 1 Summary'!B34","v":0},{"$f":"'Module 1 Summary'!B35","v":0},{"$f":"'Module 1 Summary'!B35","v":0},{"$f":"'Module 1 Summary'!B36","v":0},{"$f":"'Module 1 Summary'!B36","v":0},{"$f":"'Module 1 Summary'!B37","v":0},{"$f":"'Module 1 Summary'!B37","v":0},{"$f":"'Module 1 Summary'!B38","v":0},{"$f":"'Module 1 Summary'!B38","v":0},{"$f":"'Module 1 Summary'!B39","v":0},{"$f":"'Module 1 Summary'!B39","v":0},{"$f":"'Module 1 Summary'!B40","v":0},{"$f":"'Module 1 Summary'!B40","v":0},{"$f":"'Module 1 Summary'!B41","v":0},{"$f":"'Module 1 Summary'!B41","v":0},{"$f":"'Module 1 Summary'!B42","v":0},{"$f":"'Module 1 Summary'!B42","v":0},{"$f":"'Module 1 Summary'!B43","v":0},{"$f":"'Module 1 Summary'!B43","v":0},{"$f":"'Module 1 Summary'!B44","v":0},{"$f":"'Module 1 Summary'!B44","v":0},{"$f":"'Module 1 Summary'!B45","v":0},{"$f":"'Module 1 Summary'!B45","v":0},{"$f":"'Module 1 Summary'!B46","v":0},{"$f":"'Module 1 Summary'!B46","v":0},{"$f":"'Module 1 Summary'!B47","v":0},{"$f":"'Module 1 Summary'!B47","v":0},{"$f":"'Module 1 Summary'!B59","v":0},{"$f":"'Module 1 Summary'!B59","v":0},{"$f":"'Module 1 Summary'!B60","v":0},{"$f":"'Module 1 Summary'!B60","v":0},{"$f":"'Module 1 Summary'!B58","v":0},{"$f":"'Module 1 Summary'!B58","v":0},{"$f":"'Module 1 Summary'!B61","v":0},{"$f":"'Module 1 Summary'!B61","v":0},{"$f":"'Module 1 Summary'!B62","v":0},{"$f":"'Module 1 Summary'!B62","v":0},{"$f":"'Module 1 Summary'!B64","v":0},{"$f":"'Module 1 Summary'!B64","v":0},{"$f":"'Module 1 Summary'!B65","v":0},{"$f":"'Module 1 Summary'!B65","v":0},{"$f":"'Module 1 Summary'!B66","v":0},{"$f":"'Module 1 Summary'!B66","v":0},{"$f":"'Module 1 Summary'!B67","v":0},{"$f":"'Module 1 Summary'!B67","v":0},{"$f":"IF('Module 1 Summary'!D68=\"Incident response\",\"\",IF('Module 1 Summary'!D68=\"Accidental release\",\"\",'Module 1 Summary'!B68))","v":0},{"$f":"IF('Module 1 Summary'!D68=\"Incident response\",\"\",IF('Module 1 Summary'!D68=\"Accidental release\",\"\",'Module 1 Summary'!B68))","v":0},{"$f":"IF('Module 1 Summary'!D69=\"Incident response\",\"\",IF('Module 1 Summary'!D69=\"Accidental release\",\"\",'Module 1 Summary'!B69))","v":0},{"$f":"IF('Module 1 Summary'!D69=\"Incident response\",\"\",IF('Module 1 Summary'!D69=\"Accidental release\",\"\",'Module 1 Summary'!B69))","v":0},{"$f":"IF('Module 1 Summary'!D70=\"Incident response\",\"\",IF('Module 1 Summary'!D70=\"Accidental release\",\"\",'Module 1 Summary'!B70))","v":0},{"$f":"IF('Module 1 Summary'!D70=\"Incident response\",\"\",IF('Module 1 Summary'!D70=\"Accidental release\",\"\",'Module 1 Summary'!B70))","v":0},{"$f":"IF('Module 1 Summary'!D71=\"Incident response\",\"\",IF('Module 1 Summary'!D71=\"Accidental release\",\"\",'Module 1 Summary'!B71))","v":0},{"$f":"IF('Module 1 Summary'!D71=\"Incident response\",\"\",IF('Module 1 Summary'!D71=\"Accidental release\",\"\",'Module 1 Summary'!B71))","v":0},{"$f":"IF('Module 1 Summary'!D72=\"Incident response\",\"\",IF('Module 1 Summary'!D72=\"Accidental release\",\"\",'Module 1 Summary'!B72))","v":0},{"$f":"IF('Module 1 Summary'!D72=\"Incident response\",\"\",IF('Module 1 Summary'!D72=\"Accidental release\",\"\",'Module 1 Summary'!B72))","v":0},{"$f":"IF('Module 1 Summary'!D73=\"Incident response\",\"\",IF('Module 1 Summary'!D73=\"Accidental release\",\"\",'Module 1 Summary'!B73))","v":0},{"$f":"IF('Module 1 Summary'!D73=\"Incident response\",\"\",IF('Module 1 Summary'!D73=\"Accidental release\",\"\",'Module 1 Summary'!B73))","v":0},{"$f":"IF('Module 1 Summary'!D74=\"Incident response\",\"\",IF('Module 1 Summary'!D74=\"Accidental release\",\"\",'Module 1 Summary'!B74))","v":0},{"$f":"IF('Module 1 Summary'!D74=\"Incident response\",\"\",IF('Module 1 Summary'!D74=\"Accidental release\",\"\",'Module 1 Summary'!B74))","v":0},{"$f":"IF('Module 1 Summary'!D75=\"Incident response\",\"\",IF('Module 1 Summary'!D75=\"Accidental release\",\"\",'Module 1 Summary'!B75))","v":0},{"$f":"IF('Module 1 Summary'!D75=\"Incident response\",\"\",IF('Module 1 Summary'!D75=\"Accidental release\",\"\",'Module 1 Summary'!B75))","v":0},{"$f":"IF('Module 1 Summary'!D76=\"Incident response\",\"\",IF('Module 1 Summary'!D76=\"Accidental release\",\"\",'Module 1 Summary'!B76))","v":0},{"$f":"IF('Module 1 Summary'!D76=\"Incident response\",\"\",IF('Module 1 Summary'!D76=\"Accidental release\",\"\",'Module 1 Summary'!B76))","v":0},{"$f":"IF('Module 1 Summary'!D77=\"Incident response\",\"\",IF('Module 1 Summary'!D77=\"Accidental release\",\"\",'Module 1 Summary'!B77))","v":0},{"$f":"IF('Module 1 Summary'!D77=\"Incident response\",\"\",IF('Module 1 Summary'!D77=\"Accidental release\",\"\",'Module 1 Summary'!B77))","v":0},{"$f":"'Module 1 Summary'!B78","v":0},{"$f":"'Module 1 Summary'!B78","v":0},{"$f":"'Module 1 Summary'!B79","v":0},{"$f":"'Module 1 Summary'!B79","v":0},{"$f":"'Module 1 Summary'!B80","v":0},{"$f":"'Module 1 Summary'!B80","v":0},{"$f":"'Module 1 Summary'!B81","v":0},{"$f":"'Module 1 Summary'!B81","v":0},{"$f":"'Module 1 Summary'!B82","v":0},{"$f":"'Module 1 Summary'!B82","v":0},{"$f":"'Module 1 Summary'!B83","v":0},{"$f":"'Module 1 Summary'!B83","v":0},{"$f":"'Module 1 Summary'!B84","v":0},{"$f":"'Module 1 Summary'!B84","v":0},{"$f":"'Module 1 Summary'!B85","v":0},{"$f":"'Module 1 Summary'!B85","v":0},{"$f":"'Module 1 Summary'!B86","v":0},{"$f":"'Module 1 Summary'!B86","v":0},{"$f":"'Module 1 Summary'!B87","v":0},{"$f":"'Module 1 Summary'!B87","v":0},{"$f":"'Module 1 Summary'!B88","v":0},{"$f":"'Module 1 Summary'!B88","v":0},{"$f":"'Module 1 Summary'!B89","v":0},{"$f":"'Module 1 Summary'!B89","v":0},{"$f":"'Module 1 Summary'!B90","v":0},{"$f":"'Module 1 Summary'!B90","v":0},{"$f":"'Module 1 Summary'!B91","v":0},{"$f":"'Module 1 Summary'!B91","v":0},{"$f":"'Module 1 Summary'!B92","v":0},{"$f":"'Module 1 Summary'!B92","v":0},{"$f":"'Module 1 Summary'!B93","v":0},{"$f":"'Module 1 Summary'!B93","v":0},{"$f":"'Module 1 Summary'!B94","v":0},{"$f":"'Module 1 Summary'!B94","v":0},{"$f":"'Module 1 Summary'!B95","v":0},{"$f":"'Module 1 Summary'!B95","v":0},{"$f":"'Module 1 Summary'!B96","v":0},{"$f":"'Module 1 Summary'!B96","v":0},{"$f":"'Module 1 Summary'!B97","v":0},{"$f":"'Module 1 Summary'!B97","v":0}]
[null,"STORAGE","Is the AFFF being stored in accordance with the MSDS and TDS?",null,{"$f":"IF(D5=\"Yes\",\"1\",IF(D5=\"No\", \"5\", IF(D5=\"Don't Know\", \"5\",\"\")))","v":""},null,{"$f":"IF(F5=\"Yes\",\"1\",IF(F5=\"No\", \"5\", IF(F5=\"Don't Know\", \"5\",\"\")))","v":""},null,{"$f":"IF(H5=\"Yes\",\"1\",IF(H5=\"No\", \"5\", IF(H5=\"Don't Know\", \"5\",\"\")))","v":""},null,{"$f":"IF(J5=\"Yes\",\"1\",IF(J5=\"No\", \"5\", IF(J5=\"Don't Know\", \"5\",\"\")))","v":""},null,{"$f":"IF(L5=\"Yes\",\"1\",IF(L5=\"No\", \"5\", IF(L5=\"Don't Know\", \"5\",\"\")))","v":""},null,{"$f":"IF(N5=\"Yes\",\"1\",IF(N5=\"No\", \"5\", IF(N5=\"Don't Know\", \"5\",\"\")))","v":""},null,{"$f":"IF(P5=\"Yes\",\"1\",IF(P5=\"No\", \"5\", IF(P5=\"Don't Know\", \"5\",\"\")))","v":""},null,{"$f":"IF(R5=\"Yes\",\"1\",IF(R5=\"No\", \"5\", IF(R5=\"Don't Know\", \"5\",\"\")))","v":""},null,{"$f":"IF(T5=\"Yes\",\"1\",IF(T5=\"No\", \"5\", IF(T5=\"Don't Know\", \"5\",\"\")))","v":""},null,{"$f":"IF(V5=\"Yes\",\"1\",IF(V5=\"No\", \"5\", IF(V5=\"Don't Know\", \"5\",\"\")))","v":""},null,{"$f":"IF(X5=\"Yes\",\"1\",IF(X5=\"No\", \"5\", IF(X5=\"Don't Know\", \"5\",\"\")))","v":""},null,{"$f":"IF(Z5=\"Yes\",\"1\",IF(Z5=\"No\", \"5\", IF(Z5=\"Don't Know\", \"5\",\"\")))","v":""},null,{"$f":"IF(AB5=\"Yes\",\"1\",IF(AB5=\"No\", \"5\", IF(AB5=\"Don't Know\", \"5\",\"\")))","v":""},null,{"$f":"IF(AD5=\"Yes\",\"1\",IF(AD5=\"No\", \"5\", IF(AD5=\"Don't Know\", \"5\",\"\")))","v":""},null,{"$f":"IF(AF5=\"Yes\",\"1\",IF(AF5=\"No\", \"5\", IF(AF5=\"Don't Know\", \"5\",\"\")))","v":""},null,{"$f":"IF(AH5=\"Yes\",\"1\",IF(AH5=\"No\", \"5\", IF(AH5=\"Don't Know\", \"5\",\"\")))","v":""},null,{"$f":"IF(AJ5=\"Yes\",\"1\",IF(AJ5=\"No\", \"5\", IF(AJ5=\"Don't Know\", \"5\",\"\")))","v":""},null,{"$f":"IF(AL5=\"Yes\",\"1\",IF(AL5=\"No\", \"5\", IF(AL5=\"Don't Know\", \"5\",\"\")))","v":""},null,{"$f":"IF(AN5=\"Yes\",\"1\",IF(AN5=\"No\", \"5\", IF(AN5=\"Don't Know\", \"5\",\"\")))","v":""},null,{"$f":"IF(AP5=\"Yes\",\"1\",IF(AP5=\"No\", \"5\", IF(AP5=\"Don't Know\", \"5\",\"\")))","v":""},null,{"$f":"IF(AR5=\"Yes\",\"1\",IF(AR5=\"No\", \"5\", IF(AR5=\"Don't Know\", \"5\",\"\")))","v":""},null,{"$f":"IF(AT5=\"Yes\",\"1\",IF(AT5=\"No\", \"5\", IF(AT5=\"Don't Know\", \"5\",\"\")))","v":""},null,{"$f":"IF(AV5=\"Yes\",\"1\",IF(AV5=\"No\", \"5\", IF(AV5=\"Don't Know\", \"5\",\"\")))","v":""},null,{"$f":"IF(AX5=\"Yes\",\"1\",IF(AX5=\"No\", \"5\", IF(AX5=\"Don't Know\", \"5\",\"\")))","v":""},null,{"$f":"IF(AZ5=\"Yes\",\"1\",IF(AZ5=\"No\", \"5\", IF(AZ5=\"Don't Know\", \"5\",\"\")))","v":""},null,{"$f":"IF(BB5=\"Yes\",\"1\",IF(BB5=\"No\", \"5\", IF(BB5=\"Don't Know\", \"5\",\"\")))","v":""},null,{"$f":"IF(BD5=\"Yes\",\"1\",IF(BD5=\"No\", \"5\", IF(BD5=\"Don't Know\", \"5\",\"\")))","v":""},null,{"$f":"IF(BF5=\"Yes\",\"1\",IF(BF5=\"No\", \"5\", IF(BF5=\"Don't Know\", \"5\",\"\")))","v":""},null,{"$f":"IF(BH5=\"Yes\",\"1\",IF(BH5=\"No\", \"5\", IF(BH5=\"Don't Know\", \"5\",\"\")))","v":""},null,{"$f":"IF(BJ5=\"Yes\",\"1\",IF(BJ5=\"No\", \"5\", IF(BJ5=\"Don't Know\", \"5\",\"\")))","v":""},null,{"$f":"IF(BL5=\"Yes\",\"1\",IF(BL5=\"No\", \"5\", IF(BL5=\"Don't Know\", \"5\",\"\")))","v":""},null,{"$f":"IF(BN5=\"Yes\",\"1\",IF(BN5=\"No\", \"5\", IF(BN5=\"Don't Know\", \"5\",\"\")))","v":""},null,{"$f":"IF(BP5=\"Yes\",\"1\",IF(BP5=\"No\", \"5\", IF(BP5=\"Don't Know\", \"5\",\"\")))","v":""},null,{"$f":"IF(BR5=\"Yes\",\"1\",IF(BR5=\"No\", \"5\", IF(BR5=\"Don't Know\", \"5\",\"\")))","v":""},null,{"$f":"IF(BT5=\"Yes\",\"1\",IF(BT5=\"No\", \"5\", IF(BT5=\"Don't Know\", \"5\",\"\")))","v":""},null,{"$f":"IF(BV5=\"Yes\",\"1\",IF(BV5=\"No\", \"5\", IF(BV5=\"Don't Know\", \"5\",\"\")))","v":""},null,{"$f":"IF(BX5=\"Yes\",\"1\",IF(BX5=\"No\", \"5\", IF(BX5=\"Don't Know\", \"5\",\"\")))","v":""},null,{"$f":"IF(BZ5=\"Yes\",\"1\",IF(BZ5=\"No\", \"5\", IF(BZ5=\"Don't Know\", \"5\",\"\")))","v":""},null,{"$f":"IF(CB5=\"Yes\",\"1\",IF(CB5=\"No\", \"5\", IF(CB5=\"Don't Know\", \"5\",\"\")))","v":""},null,{"$f":"IF(CD5=\"Yes\",\"1\",IF(CD5=\"No\", \"5\", IF(CD5=\"Don't Know\", \"5\",\"\")))","v":""},null,{"$f":"IF(CF5=\"Yes\",\"1\",IF(CF5=\"No\", \"5\", IF(CF5=\"Don't Know\", \"5\",\"\")))","v":""},null,{"$f":"IF(CH5=\"Yes\",\"1\",IF(CH5=\"No\", \"5\", IF(CH5=\"Don't Know\", \"5\",\"\")))","v":""},null,{"$f":"IF(CJ5=\"Yes\",\"1\",IF(CJ5=\"No\", \"5\", IF(CJ5=\"Don't Know\", \"5\",\"\")))","v":""},null,{"$f":"IF(CL5=\"Yes\",\"1\",IF(CL5=\"No\", \"5\", IF(CL5=\"Don't Know\", \"5\",\"\")))","v":""},null,{"$f":"IF(CN5=\"Yes\",\"1\",IF(CN5=\"No\", \"5\", IF(CN5=\"Don't Know\", \"5\",\"\")))","v":""},null,{"$f":"IF(CP5=\"Yes\",\"1\",IF(CP5=\"No\", \"5\", IF(CP5=\"Don't Know\", \"5\",\"\")))","v":""},null,{"$f":"IF(CR5=\"Yes\",\"1\",IF(CR5=\"No\", \"5\", IF(CR5=\"Don't Know\", \"5\",\"\")))","v":""},null,{"$f":"IF(CT5=\"Yes\",\"1\",IF(CT5=\"No\", \"5\", IF(CT5=\"Don't Know\", \"5\",\"\")))","v":""},null,{"$f":"IF(CV5=\"Yes\",\"1\",IF(CV5=\"No\", \"5\", IF(CV5=\"Don't Know\", \"5\",\"\")))","v":""},null,{"$f":"IF(CX5=\"Yes\",\"1\",IF(CX5=\"No\", \"5\", IF(CX5=\"Don't Know\", \"5\",\"\")))","v":""},null,{"$f":"IF(CZ5=\"Yes\",\"1\",IF(CZ5=\"No\", \"5\", IF(CZ5=\"Don't Know\", \"5\",\"\")))","v":""},null,{"$f":"IF(DB5=\"Yes\",\"1\",IF(DB5=\"No\", \"5\", IF(DB5=\"Don't Know\", \"5\",\"\")))","v":""},null,{"$f":"IF(DD5=\"Yes\",\"1\",IF(DD5=\"No\", \"5\", IF(DD5=\"Don't Know\", \"5\",\"\")))","v":""},null,{"$f":"IF(DF5=\"Yes\",\"1\",IF(DF5=\"No\", \"5\", IF(DF5=\"Don't Know\", \"5\",\"\")))","v":""},null,{"$f":"IF(DH5=\"Yes\",\"1\",IF(DH5=\"No\", \"5\", IF(DH5=\"Don't Know\", \"5\",\"\")))","v":""},null,{"$f":"IF(DJ5=\"Yes\",\"1\",IF(DJ5=\"No\", \"5\", IF(DJ5=\"Don't Know\", \"5\",\"\")))","v":""},null,{"$f":"IF(DL5=\"Yes\",\"1\",IF(DL5=\"No\", \"5\", IF(DL5=\"Don't Know\", \"5\",\"\")))","v":""},null,{"$f":"IF(DN5=\"Yes\",\"1\",IF(DN5=\"No\", \"5\", IF(DN5=\"Don't Know\", \"5\",\"\")))","v":""},null,{"$f":"IF(DP5=\"Yes\",\"1\",IF(DP5=\"No\", \"5\", IF(DP5=\"Don't Know\", \"5\",\"\")))","v":""},null,{"$f":"IF(DR5=\"Yes\",\"1\",IF(DR5=\"No\", \"5\", IF(DR5=\"Don't Know\", \"5\",\"\")))","v":""},null,{"$f":"IF(DT5=\"Yes\",\"1\",IF(DT5=\"No\", \"5\", IF(DT5=\"Don't Know\", \"5\",\"\")))","v":""},null,{"$f":"IF(DV5=\"Yes\",\"1\",IF(DV5=\"No\", \"5\", IF(DV5=\"Don't Know\", \"5\",\"\")))","v":""},null,{"$f":"IF(DX5=\"Yes\",\"1\",IF(DX5=\"No\", \"5\", IF(DX5=\"Don't Know\", \"5\",\"\")))","v":""},null,{"$f":"IF(DZ5=\"Yes\",\"1\",IF(DZ5=\"No\", \"5\", IF(DZ5=\"Don't Know\", \"5\",\"\")))","v":""},null,{"$f":"IF(EB5=\"Yes\",\"1\",IF(EB5=\"No\", \"5\", IF(EB5=\"Don't Know\", \"5\",\"\")))","v":""},null,{"$f":"IF(ED5=\"Yes\",\"1\",IF(ED5=\"No\", \"5\", IF(ED5=\"Don't Know\", \"5\",\"\")))","v":""},null,{"$f":"IF(EF5=\"Yes\",\"1\",IF(EF5=\"No\", \"5\", IF(EF5=\"Don't Know\", \"5\",\"\")))","v":""},null,{"$f":"IF(EH5=\"Yes\",\"1\",IF(EH5=\"No\", \"5\", IF(EH5=\"Don't Know\", \"5\",\"\")))","v":""},null,{"$f":"IF(EJ5=\"Yes\",\"1\",IF(EJ5=\"No\", \"5\", IF(EJ5=\"Don't Know\", \"5\",\"\")))","v":""},null,{"$f":"IF(EL5=\"Yes\",\"1\",IF(EL5=\"No\", \"5\", IF(EL5=\"Don't Know\", \"5\",\"\")))","v":""},null,{"$f":"IF(EN5=\"Yes\",\"1\",IF(EN5=\"No\", \"5\", IF(EN5=\"Don't Know\", \"5\",\"\")))","v":""},null,{"$f":"IF(EP5=\"Yes\",\"1\",IF(EP5=\"No\", \"5\", IF(EP5=\"Don't Know\", \"5\",\"\")))","v":""},null,{"$f":"IF(ER5=\"Yes\",\"1\",IF(ER5=\"No\", \"5\", IF(ER5=\"Don't Know\", \"5\",\"\")))","v":""},null,{"$f":"IF(ET5=\"Yes\",\"1\",IF(ET5=\"No\", \"5\", IF(ET5=\"Don't Know\", \"5\",\"\")))","v":""},null,{"$f":"IF(EV5=\"Yes\",\"1\",IF(EV5=\"No\", \"5\", IF(EV5=\"Don't Know\", \"5\",\"\")))","v":""},null,{"$f":"IF(EX5=\"Yes\",\"1\",IF(EX5=\"No\", \"5\", IF(EX5=\"Don't Know\", \"5\",\"\")))","v":""},null,{"$f":"IF(EZ5=\"Yes\",\"1\",IF(EZ5=\"No\", \"5\", IF(EZ5=\"Don't Know\", \"5\",\"\")))","v":""},null,{"$f":"IF(FB5=\"Yes\",\"1\",IF(FB5=\"No\", \"5\", IF(FB5=\"Don't Know\", \"5\",\"\")))","v":""},null,{"$f":"IF(FD5=\"Yes\",\"1\",IF(FD5=\"No\", \"5\", IF(FD5=\"Don't Know\", \"5\",\"\")))","v":""}]
[null,null,"What is the covering of the storage location?",null,{"$f":"IF(D6= \"Enclosed\", \"1\", IF(D6=\"Covered\", \"3\", IF(D6= \"Outside or exposed directly to the elements\", \"5\", \"\")))","v":""},null,{"$f":"IF(F6= \"Enclosed\", \"1\", IF(F6=\"Covered\", \"3\", IF(F6= \"Outside or exposed directly to the elements\", \"5\", \"\")))","v":""},null,{"$f":"IF(H6= \"Enclosed\", \"1\", IF(H6=\"Covered\", \"3\", IF(H6= \"Outside or exposed directly to the elements\", \"5\", \"\")))","v":""},null,{"$f":"IF(J6= \"Enclosed\", \"1\", IF(J6=\"Covered\", \"3\", IF(J6= \"Outside or exposed directly to the elements\", \"5\", \"\")))","v":""},null,{"$f":"IF(L6= \"Enclosed\", \"1\", IF(L6=\"Covered\", \"3\", IF(L6= \"Outside or exposed directly to the elements\", \"5\", \"\")))","v":""},null,{"$f":"IF(N6= \"Enclosed\", \"1\", IF(N6=\"Covered\", \"3\", IF(N6= \"Outside or exposed directly to the elements\", \"5\", \"\")))","v":""},null,{"$f":"IF(P6= \"Enclosed\", \"1\", IF(P6=\"Covered\", \"3\", IF(P6= \"Outside or exposed directly to the elements\", \"5\", \"\")))","v":""},null,{"$f":"IF(R6= \"Enclosed\", \"1\", IF(R6=\"Covered\", \"3\", IF(R6= \"Outside or exposed directly to the elements\", \"5\", \"\")))","v":""},null,{"$f":"IF(T6= \"Enclosed\", \"1\", IF(T6=\"Covered\", \"3\", IF(T6= \"Outside or exposed directly to the elements\", \"5\", \"\")))","v":""},null,{"$f":"IF(V6= \"Enclosed\", \"1\", IF(V6=\"Covered\", \"3\", IF(V6= \"Outside or exposed directly to the elements\", \"5\", \"\")))","v":""},null,{"$f":"IF(X6= \"Enclosed\", \"1\", IF(X6=\"Covered\", \"3\", IF(X6= \"Outside or exposed directly to the elements\", \"5\", \"\")))","v":""},null,{"$f":"IF(Z6= \"Enclosed\", \"1\", IF(Z6=\"Covered\", \"3\", IF(Z6= \"Outside or exposed directly to the elements\", \"5\", \"\")))","v":""},null,{"$f":"IF(AB6= \"Enclosed\", \"1\", IF(AB6=\"Covered\", \"3\", IF(AB6= \"Outside or exposed directly to the elements\", \"5\", \"\")))","v":""},null,{"$f":"IF(AD6= \"Enclosed\", \"1\", IF(AD6=\"Covered\", \"3\", IF(AD6= \"Outside or exposed directly to the elements\", \"5\", \"\")))","v":""},null,{"$f":"IF(AF6= \"Enclosed\", \"1\", IF(AF6=\"Covered\", \"3\", IF(AF6= \"Outside or exposed directly to the elements\", \"5\", \"\")))","v":""},null,{"$f":"IF(AH6= \"Enclosed\", \"1\", IF(AH6=\"Covered\", \"3\", IF(AH6= \"Outside or exposed directly to the elements\", \"5\", \"\")))","v":""},null,{"$f":"IF(AJ6= \"Enclosed\", \"1\", IF(AJ6=\"Covered\", \"3\", IF(AJ6= \"Outside or exposed directly to the elements\", \"5\", \"\")))","v":""},null,{"$f":"IF(AL6= \"Enclosed\", \"1\", IF(AL6=\"Covered\", \"3\", IF(AL6= \"Outside or exposed directly to the elements\", \"5\", \"\")))","v":""},null,{"$f":"IF(AN6= \"Enclosed\", \"1\", IF(AN6=\"Covered\", \"3\", IF(AN6= \"Outside or exposed directly to the elements\", \"5\", \"\")))","v":""},null,{"$f":"IF(AP6= \"Enclosed\", \"1\", IF(AP6=\"Covered\", \"3\", IF(AP6= \"Outside or exposed directly to the elements\", \"5\", \"\")))","v":""},null,{"$f":"IF(AR6= \"Enclosed\", \"1\", IF(AR6=\"Covered\", \"3\", IF(AR6= \"Outside or exposed directly to the elements\", \"5\", \"\")))","v":""},null,{"$f":"IF(AT6= \"Enclosed\", \"1\", IF(AT6=\"Covered\", \"3\", IF(AT6= \"Outside or exposed directly to the elements\", \"5\", \"\")))","v":""},null,{"$f":"IF(AV6= \"Enclosed\", \"1\", IF(AV6=\"Covered\", \"3\", IF(AV6= \"Outside or exposed directly to the elements\", \"5\", \"\")))","v":""},null,{"$f":"IF(AX6= \"Enclosed\", \"1\", IF(AX6=\"Covered\", \"3\", IF(AX6= \"Outside or exposed directly to the elements\", \"5\", \"\")))","v":""},null,{"$f":"IF(AZ6= \"Enclosed\", \"1\", IF(AZ6=\"Covered\", \"3\", IF(AZ6= \"Outside or exposed directly to the elements\", \"5\", \"\")))","v":""},null,{"$f":"IF(BB6= \"Enclosed\", \"1\", IF(BB6=\"Covered\", \"3\", IF(BB6= \"Outside or exposed directly to the elements\", \"5\", \"\")))","v":""},null,{"$f":"IF(BD6= \"Enclosed\", \"1\", IF(BD6=\"Covered\", \"3\", IF(BD6= \"Outside or exposed directly to the elements\", \"5\", \"\")))","v":""},null,{"$f":"IF(BF6= \"Enclosed\", \"1\", IF(BF6=\"Covered\", \"3\", IF(BF6= \"Outside or exposed directly to the elements\", \"5\", \"\")))","v":""},null,{"$f":"IF(BH6= \"Enclosed\", \"1\", IF(BH6=\"Covered\", \"3\", IF(BH6= \"Outside or exposed directly to the elements\", \"5\", \"\")))","v":""},null,{"$f":"IF(BJ6= \"Enclosed\", \"1\", IF(BJ6=\"Covered\", \"3\", IF(BJ6= \"Outside or exposed directly to the elements\", \"5\", \"\")))","v":""},null,{"$f":"IF(BL6= \"Enclosed\", \"1\", IF(BL6=\"Covered\", \"3\", IF(BL6= \"Outside or exposed directly to the elements\", \"5\", \"\")))","v":""},null,{"$f":"IF(BN6= \"Enclosed\", \"1\", IF(BN6=\"Covered\", \"3\", IF(BN6= \"Outside or exposed directly to the elements\", \"5\", \"\")))","v":""},null,{"$f":"IF(BP6= \"Enclosed\", \"1\", IF(BP6=\"Covered\", \"3\", IF(BP6= \"Outside or exposed directly to the elements\", \"5\", \"\")))","v":""},null,{"$f":"IF(BR6= \"Enclosed\", \"1\", IF(BR6=\"Covered\", \"3\", IF(BR6= \"Outside or exposed directly to the elements\", \"5\", \"\")))","v":""},null,{"$f":"IF(BT6= \"Enclosed\", \"1\", IF(BT6=\"Covered\", \"3\", IF(BT6= \"Outside or exposed directly to the elements\", \"5\", \"\")))","v":""},null,{"$f":"IF(BV6= \"Enclosed\", \"1\", IF(BV6=\"Covered\", \"3\", IF(BV6= \"Outside or exposed directly to the elements\", \"5\", \"\")))","v":""},null,{"$f":"IF(BX6= \"Enclosed\", \"1\", IF(BX6=\"Covered\", \"3\", IF(BX6= \"Outside or exposed directly to the elements\", \"5\", \"\")))","v":""},null,{"$f":"IF(BZ6= \"Enclosed\", \"1\", IF(BZ6=\"Covered\", \"3\", IF(BZ6= \"Outside or exposed directly to the elements\", \"5\", \"\")))","v":""},null,{"$f":"IF(CB6= \"Enclosed\", \"1\", IF(CB6=\"Covered\", \"3\", IF(CB6= \"Outside or exposed directly to the elements\", \"5\", \"\")))","v":""},null,{"$f":"IF(CD6= \"Enclosed\", \"1\", IF(CD6=\"Covered\", \"3\", IF(CD6= \"Outside or exposed directly to the elements\", \"5\", \"\")))","v":""},null,{"$f":"IF(CF6= \"Enclosed\", \"1\", IF(CF6=\"Covered\", \"3\", IF(CF6= \"Outside or exposed directly to the elements\", \"5\", \"\")))","v":""},null,{"$f":"IF(CH6= \"Enclosed\", \"1\", IF(CH6=\"Covered\", \"3\", IF(CH6= \"Outside or exposed directly to the elements\", \"5\", \"\")))","v":""},null,{"$f":"IF(CJ6= \"Enclosed\", \"1\", IF(CJ6=\"Covered\", \"3\", IF(CJ6= \"Outside or exposed directly to the elements\", \"5\", \"\")))","v":""},null,{"$f":"IF(CL6= \"Enclosed\", \"1\", IF(CL6=\"Covered\", \"3\", IF(CL6= \"Outside or exposed directly to the elements\", \"5\", \"\")))","v":""},null,{"$f":"IF(CN6= \"Enclosed\", \"1\", IF(CN6=\"Covered\", \"3\", IF(CN6= \"Outside or exposed directly to the elements\", \"5\", \"\")))","v":""},null,{"$f":"IF(CP6= \"Enclosed\", \"1\", IF(CP6=\"Covered\", \"3\", IF(CP6= \"Outside or exposed directly to the elements\", \"5\", \"\")))","v":""},null,{"$f":"IF(CR6= \"Enclosed\", \"1\", IF(CR6=\"Covered\", \"3\", IF(CR6= \"Outside or exposed directly to the elements\", \"5\", \"\")))","v":""},null,{"$f":"IF(CT6= \"Enclosed\", \"1\", IF(CT6=\"Covered\", \"3\", IF(CT6= \"Outside or exposed directly to the elements\", \"5\", \"\")))","v":""},null,{"$f":"IF(CV6= \"Enclosed\", \"1\", IF(CV6=\"Covered\", \"3\", IF(CV6= \"Outside or exposed directly to the elements\", \"5\", \"\")))","v":""},null,{"$f":"IF(CX6= \"Enclosed\", \"1\", IF(CX6=\"Covered\", \"3\", IF(CX6= \"Outside or exposed directly to the elements\", \"5\", \"\")))","v":""},null,{"$f":"IF(CZ6= \"Enclosed\", \"1\", IF(CZ6=\"Covered\", \"3\", IF(CZ6= \"Outside or exposed directly to the elements\", \"5\", \"\")))","v":""},null,{"$f":"IF(DB6= \"Enclosed\", \"1\", IF(DB6=\"Covered\", \"3\", IF(DB6= \"Outside or exposed directly to the elements\", \"5\", \"\")))","v":""},null,{"$f":"IF(DD6= \"Enclosed\", \"1\", IF(DD6=\"Covered\", \"3\", IF(DD6= \"Outside or exposed directly to the elements\", \"5\", \"\")))","v":""},null,{"$f":"IF(DF6= \"Enclosed\", \"1\", IF(DF6=\"Covered\", \"3\", IF(DF6= \"Outside or exposed directly to the elements\", \"5\", \"\")))","v":""},null,{"$f":"IF(DH6= \"Enclosed\", \"1\", IF(DH6=\"Covered\", \"3\", IF(DH6= \"Outside or exposed directly to the elements\", \"5\", \"\")))","v":""},null,{"$f":"IF(DJ6= \"Enclosed\", \"1\", IF(DJ6=\"Covered\", \"3\", IF(DJ6= \"Outside or exposed directly to the elements\", \"5\", \"\")))","v":""},null,{"$f":"IF(DL6= \"Enclosed\", \"1\", IF(DL6=\"Covered\", \"3\", IF(DL6= \"Outside or exposed directly to the elements\", \"5\", \"\")))","v":""},null,{"$f":"IF(DN6= \"Enclosed\", \"1\", IF(DN6=\"Covered\", \"3\", IF(DN6= \"Outside or exposed directly to the elements\", \"5\", \"\")))","v":""},null,{"$f":"IF(DP6= \"Enclosed\", \"1\", IF(DP6=\"Covered\", \"3\", IF(DP6= \"Outside or exposed directly to the elements\", \"5\", \"\")))","v":""},null,{"$f":"IF(DR6= \"Enclosed\", \"1\", IF(DR6=\"Covered\", \"3\", IF(DR6= \"Outside or exposed directly to the elements\", \"5\", \"\")))","v":""},null,{"$f":"IF(DT6= \"Enclosed\", \"1\", IF(DT6=\"Covered\", \"3\", IF(DT6= \"Outside or exposed directly to the elements\", \"5\", \"\")))","v":""},null,{"$f":"IF(DV6= \"Enclosed\", \"1\", IF(DV6=\"Covered\", \"3\", IF(DV6= \"Outside or exposed directly to the elements\", \"5\", \"\")))","v":""},null,{"$f":"IF(DX6= \"Enclosed\", \"1\", IF(DX6=\"Covered\", \"3\", IF(DX6= \"Outside or exposed directly to the elements\", \"5\", \"\")))","v":""},null,{"$f":"IF(DZ6= \"Enclosed\", \"1\", IF(DZ6=\"Covered\", \"3\", IF(DZ6= \"Outside or exposed directly to the elements\", \"5\", \"\")))","v":""},null,{"$f":"IF(EB6= \"Enclosed\", \"1\", IF(EB6=\"Covered\", \"3\", IF(EB6= \"Outside or exposed directly to the elements\", \"5\", \"\")))","v":""},null,{"$f":"IF(ED6= \"Enclosed\", \"1\", IF(ED6=\"Covered\", \"3\", IF(ED6= \"Outside or exposed directly to the elements\", \"5\", \"\")))","v":""},null,{"$f":"IF(EF6= \"Enclosed\", \"1\", IF(EF6=\"Covered\", \"3\", IF(EF6= \"Outside or exposed directly to the elements\", \"5\", \"\")))","v":""},null,{"$f":"IF(EH6= \"Enclosed\", \"1\", IF(EH6=\"Covered\", \"3\", IF(EH6= \"Outside or exposed directly to the elements\", \"5\", \"\")))","v":""},null,{"$f":"IF(EJ6= \"Enclosed\", \"1\", IF(EJ6=\"Covered\", \"3\", IF(EJ6= \"Outside or exposed directly to the elements\", \"5\", \"\")))","v":""},null,{"$f":"IF(EL6= \"Enclosed\", \"1\", IF(EL6=\"Covered\", \"3\", IF(EL6= \"Outside or exposed directly to the elements\", \"5\", \"\")))","v":""},null,{"$f":"IF(EN6= \"Enclosed\", \"1\", IF(EN6=\"Covered\", \"3\", IF(EN6= \"Outside or exposed directly to the elements\", \"5\", \"\")))","v":""},null,{"$f":"IF(EP6= \"Enclosed\", \"1\", IF(EP6=\"Covered\", \"3\", IF(EP6= \"Outside or exposed directly to the elements\", \"5\", \"\")))","v":""},null,{"$f":"IF(ER6= \"Enclosed\", \"1\", IF(ER6=\"Covered\", \"3\", IF(ER6= \"Outside or exposed directly to the elements\", \"5\", \"\")))","v":""},null,{"$f":"IF(ET6= \"Enclosed\", \"1\", IF(ET6=\"Covered\", \"3\", IF(ET6= \"Outside or exposed directly to the elements\", \"5\", \"\")))","v":""},null,{"$f":"IF(EV6= \"Enclosed\", \"1\", IF(EV6=\"Covered\", \"3\", IF(EV6= \"Outside or exposed directly to the elements\", \"5\", \"\")))","v":""},null,{"$f":"IF(EX6= \"Enclosed\", \"1\", IF(EX6=\"Covered\", \"3\", IF(EX6= \"Outside or exposed directly to the elements\", \"5\", \"\")))","v":""},null,{"$f":"IF(EZ6= \"Enclosed\", \"1\", IF(EZ6=\"Covered\", \"3\", IF(EZ6= \"Outside or exposed directly to the elements\", \"5\", \"\")))","v":""},null,{"$f":"IF(FB6= \"Enclosed\", \"1\", IF(FB6=\"Covered\", \"3\", IF(FB6= \"Outside or exposed directly to the elements\", \"5\", \"\")))","v":""},null,{"$f":"IF(FD6= \"Enclosed\", \"1\", IF(FD6=\"Covered\", \"3\", IF(FD6= \"Outside or exposed directly to the elements\", \"5\", \"\")))","v":""}]
[null,null,"Is the AFFF being stored in the original container?",null,{"$f":"IF(D7=\"Yes\",\"1\",IF(D7=\"No\", \"5\", IF(D7=\"Don't Know\", \"5\",\"\")))","v":""},null,{"$f":"IF(F7=\"Yes\",\"1\",IF(F7=\"No\", \"5\", IF(F7=\"Don't Know\", \"5\",\"\")))","v":""},null,{"$f":"IF(H7=\"Yes\",\"1\",IF(H7=\"No\", \"5\", IF(H7=\"Don't Know\", \"5\",\"\")))","v":""},null,{"$f":"IF(J7=\"Yes\",\"1\",IF(J7=\"No\", \"5\", IF(J7=\"Don't Know\", \"5\",\"\")))","v":""},null,{"$f":"IF(L7=\"Yes\",\"1\",IF(L7=\"No\", \"5\", IF(L7=\"Don't Know\", \"5\",\"\")))","v":""},null,{"$f":"IF(N7=\"Yes\",\"1\",IF(N7=\"No\", \"5\", IF(N7=\"Don't Know\", \"5\",\"\")))","v":""},null,{"$f":"IF(P7=\"Yes\",\"1\",IF(P7=\"No\", \"5\", IF(P7=\"Don't Know\", \"5\",\"\")))","v":""},null,{"$f":"IF(R7=\"Yes\",\"1\",IF(R7=\"No\", \"5\", IF(R7=\"Don't Know\", \"5\",\"\")))","v":""},null,{"$f":"IF(T7=\"Yes\",\"1\",IF(T7=\"No\", \"5\", IF(T7=\"Don't Know\", \"5\",\"\")))","v":""},null,{"$f":"IF(V7=\"Yes\",\"1\",IF(V7=\"No\", \"5\", IF(V7=\"Don't Know\", \"5\",\"\")))","v":""},null,{"$f":"IF(X7=\"Yes\",\"1\",IF(X7=\"No\", \"5\", IF(X7=\"Don't Know\", \"5\",\"\")))","v":""},null,{"$f":"IF(Z7=\"Yes\",\"1\",IF(Z7=\"No\", \"5\", IF(Z7=\"Don't Know\", \"5\",\"\")))","v":""},null,{"$f":"IF(AB7=\"Yes\",\"1\",IF(AB7=\"No\", \"5\", IF(AB7=\"Don't Know\", \"5\",\"\")))","v":""},null,{"$f":"IF(AD7=\"Yes\",\"1\",IF(AD7=\"No\", \"5\", IF(AD7=\"Don't Know\", \"5\",\"\")))","v":""},null,{"$f":"IF(AF7=\"Yes\",\"1\",IF(AF7=\"No\", \"5\", IF(AF7=\"Don't Know\", \"5\",\"\")))","v":""},null,{"$f":"IF(AH7=\"Yes\",\"1\",IF(AH7=\"No\", \"5\", IF(AH7=\"Don't Know\", \"5\",\"\")))","v":""},null,{"$f":"IF(AJ7=\"Yes\",\"1\",IF(AJ7=\"No\", \"5\", IF(AJ7=\"Don't Know\", \"5\",\"\")))","v":""},null,{"$f":"IF(AL7=\"Yes\",\"1\",IF(AL7=\"No\", \"5\", IF(AL7=\"Don't Know\", \"5\",\"\")))","v":""},null,{"$f":"IF(AN7=\"Yes\",\"1\",IF(AN7=\"No\", \"5\", IF(AN7=\"Don't Know\", \"5\",\"\")))","v":""},null,{"$f":"IF(AP7=\"Yes\",\"1\",IF(AP7=\"No\", \"5\", IF(AP7=\"Don't Know\", \"5\",\"\")))","v":""},null,{"$f":"IF(AR7=\"Yes\",\"1\",IF(AR7=\"No\", \"5\", IF(AR7=\"Don't Know\", \"5\",\"\")))","v":""},null,{"$f":"IF(AT7=\"Yes\",\"1\",IF(AT7=\"No\", \"5\", IF(AT7=\"Don't Know\", \"5\",\"\")))","v":""},null,{"$f":"IF(AV7=\"Yes\",\"1\",IF(AV7=\"No\", \"5\", IF(AV7=\"Don't Know\", \"5\",\"\")))","v":""},null,{"$f":"IF(AX7=\"Yes\",\"1\",IF(AX7=\"No\", \"5\", IF(AX7=\"Don't Know\", \"5\",\"\")))","v":""},null,{"$f":"IF(AZ7=\"Yes\",\"1\",IF(AZ7=\"No\", \"5\", IF(AZ7=\"Don't Know\", \"5\",\"\")))","v":""},null,{"$f":"IF(BB7=\"Yes\",\"1\",IF(BB7=\"No\", \"5\", IF(BB7=\"Don't Know\", \"5\",\"\")))","v":""},null,{"$f":"IF(BD7=\"Yes\",\"1\",IF(BD7=\"No\", \"5\", IF(BD7=\"Don't Know\", \"5\",\"\")))","v":""},null,{"$f":"IF(BF7=\"Yes\",\"1\",IF(BF7=\"No\", \"5\", IF(BF7=\"Don't Know\", \"5\",\"\")))","v":""},null,{"$f":"IF(BH7=\"Yes\",\"1\",IF(BH7=\"No\", \"5\", IF(BH7=\"Don't Know\", \"5\",\"\")))","v":""},null,{"$f":"IF(BJ7=\"Yes\",\"1\",IF(BJ7=\"No\", \"5\", IF(BJ7=\"Don't Know\", \"5\",\"\")))","v":""},null,{"$f":"IF(BL7=\"Yes\",\"1\",IF(BL7=\"No\", \"5\", IF(BL7=\"Don't Know\", \"5\",\"\")))","v":""},null,{"$f":"IF(BN7=\"Yes\",\"1\",IF(BN7=\"No\", \"5\", IF(BN7=\"Don't Know\", \"5\",\"\")))","v":""},null,{"$f":"IF(BP7=\"Yes\",\"1\",IF(BP7=\"No\", \"5\", IF(BP7=\"Don't Know\", \"5\",\"\")))","v":""},null,{"$f":"IF(BR7=\"Yes\",\"1\",IF(BR7=\"No\", \"5\", IF(BR7=\"Don't Know\", \"5\",\"\")))","v":""},null,{"$f":"IF(BT7=\"Yes\",\"1\",IF(BT7=\"No\", \"5\", IF(BT7=\"Don't Know\", \"5\",\"\")))","v":""},null,{"$f":"IF(BV7=\"Yes\",\"1\",IF(BV7=\"No\", \"5\", IF(BV7=\"Don't Know\", \"5\",\"\")))","v":""},null,{"$f":"IF(BX7=\"Yes\",\"1\",IF(BX7=\"No\", \"5\", IF(BX7=\"Don't Know\", \"5\",\"\")))","v":""},null,{"$f":"IF(BZ7=\"Yes\",\"1\",IF(BZ7=\"No\", \"5\", IF(BZ7=\"Don't Know\", \"5\",\"\")))","v":""},null,{"$f":"IF(CB7=\"Yes\",\"1\",IF(CB7=\"No\", \"5\", IF(CB7=\"Don't Know\", \"5\",\"\")))","v":""},null,{"$f":"IF(CD7=\"Yes\",\"1\",IF(CD7=\"No\", \"5\", IF(CD7=\"Don't Know\", \"5\",\"\")))","v":""},null,{"$f":"IF(CF7=\"Yes\",\"1\",IF(CF7=\"No\", \"5\", IF(CF7=\"Don't Know\", \"5\",\"\")))","v":""},null,{"$f":"IF(CH7=\"Yes\",\"1\",IF(CH7=\"No\", \"5\", IF(CH7=\"Don't Know\", \"5\",\"\")))","v":""},null,{"$f":"IF(CJ7=\"Yes\",\"1\",IF(CJ7=\"No\", \"5\", IF(CJ7=\"Don't Know\", \"5\",\"\")))","v":""},null,{"$f":"IF(CL7=\"Yes\",\"1\",IF(CL7=\"No\", \"5\", IF(CL7=\"Don't Know\", \"5\",\"\")))","v":""},null,{"$f":"IF(CN7=\"Yes\",\"1\",IF(CN7=\"No\", \"5\", IF(CN7=\"Don't Know\", \"5\",\"\")))","v":""},null,{"$f":"IF(CP7=\"Yes\",\"1\",IF(CP7=\"No\", \"5\", IF(CP7=\"Don't Know\", \"5\",\"\")))","v":""},null,{"$f":"IF(CR7=\"Yes\",\"1\",IF(CR7=\"No\", \"5\", IF(CR7=\"Don't Know\", \"5\",\"\")))","v":""},null,{"$f":"IF(CT7=\"Yes\",\"1\",IF(CT7=\"No\", \"5\", IF(CT7=\"Don't Know\", \"5\",\"\")))","v":""},null,{"$f":"IF(CV7=\"Yes\",\"1\",IF(CV7=\"No\", \"5\", IF(CV7=\"Don't Know\", \"5\",\"\")))","v":""},null,{"$f":"IF(CX7=\"Yes\",\"1\",IF(CX7=\"No\", \"5\", IF(CX7=\"Don't Know\", \"5\",\"\")))","v":""},null,{"$f":"IF(CZ7=\"Yes\",\"1\",IF(CZ7=\"No\", \"5\", IF(CZ7=\"Don't Know\", \"5\",\"\")))","v":""},null,{"$f":"IF(DB7=\"Yes\",\"1\",IF(DB7=\"No\", \"5\", IF(DB7=\"Don't Know\", \"5\",\"\")))","v":""},null,{"$f":"IF(DD7=\"Yes\",\"1\",IF(DD7=\"No\", \"5\", IF(DD7=\"Don't Know\", \"5\",\"\")))","v":""},null,{"$f":"IF(DF7=\"Yes\",\"1\",IF(DF7=\"No\", \"5\", IF(DF7=\"Don't Know\", \"5\",\"\")))","v":""},null,{"$f":"IF(DH7=\"Yes\",\"1\",IF(DH7=\"No\", \"5\", IF(DH7=\"Don't Know\", \"5\",\"\")))","v":""},null,{"$f":"IF(DJ7=\"Yes\",\"1\",IF(DJ7=\"No\", \"5\", IF(DJ7=\"Don't Know\", \"5\",\"\")))","v":""},null,{"$f":"IF(DL7=\"Yes\",\"1\",IF(DL7=\"No\", \"5\", IF(DL7=\"Don't Know\", \"5\",\"\")))","v":""},null,{"$f":"IF(DN7=\"Yes\",\"1\",IF(DN7=\"No\", \"5\", IF(DN7=\"Don't Know\", \"5\",\"\")))","v":""},null,{"$f":"IF(DP7=\"Yes\",\"1\",IF(DP7=\"No\", \"5\", IF(DP7=\"Don't Know\", \"5\",\"\")))","v":""},null,{"$f":"IF(DR7=\"Yes\",\"1\",IF(DR7=\"No\", \"5\", IF(DR7=\"Don't Know\", \"5\",\"\")))","v":""},null,{"$f":"IF(DT7=\"Yes\",\"1\",IF(DT7=\"No\", \"5\", IF(DT7=\"Don't Know\", \"5\",\"\")))","v":""},null,{"$f":"IF(DV7=\"Yes\",\"1\",IF(DV7=\"No\", \"5\", IF(DV7=\"Don't Know\", \"5\",\"\")))","v":""},null,{"$f":"IF(DX7=\"Yes\",\"1\",IF(DX7=\"No\", \"5\", IF(DX7=\"Don't Know\", \"5\",\"\")))","v":""},null,{"$f":"IF(DZ7=\"Yes\",\"1\",IF(DZ7=\"No\", \"5\", IF(DZ7=\"Don't Know\", \"5\",\"\")))","v":""},null,{"$f":"IF(EB7=\"Yes\",\"1\",IF(EB7=\"No\", \"5\", IF(EB7=\"Don't Know\", \"5\",\"\")))","v":""},null,{"$f":"IF(ED7=\"Yes\",\"1\",IF(ED7=\"No\", \"5\", IF(ED7=\"Don't Know\", \"5\",\"\")))","v":""},null,{"$f":"IF(EF7=\"Yes\",\"1\",IF(EF7=\"No\", \"5\", IF(EF7=\"Don't Know\", \"5\",\"\")))","v":""},null,{"$f":"IF(EH7=\"Yes\",\"1\",IF(EH7=\"No\", \"5\", IF(EH7=\"Don't Know\", \"5\",\"\")))","v":""},null,{"$f":"IF(EJ7=\"Yes\",\"1\",IF(EJ7=\"No\", \"5\", IF(EJ7=\"Don't Know\", \"5\",\"\")))","v":""},null,{"$f":"IF(EL7=\"Yes\",\"1\",IF(EL7=\"No\", \"5\", IF(EL7=\"Don't Know\", \"5\",\"\")))","v":""},null,{"$f":"IF(EN7=\"Yes\",\"1\",IF(EN7=\"No\", \"5\", IF(EN7=\"Don't Know\", \"5\",\"\")))","v":""},null,{"$f":"IF(EP7=\"Yes\",\"1\",IF(EP7=\"No\", \"5\", IF(EP7=\"Don't Know\", \"5\",\"\")))","v":""},null,{"$f":"IF(ER7=\"Yes\",\"1\",IF(ER7=\"No\", \"5\", IF(ER7=\"Don't Know\", \"5\",\"\")))","v":""},null,{"$f":"IF(ET7=\"Yes\",\"1\",IF(ET7=\"No\", \"5\", IF(ET7=\"Don't Know\", \"5\",\"\")))","v":""},null,{"$f":"IF(EV7=\"Yes\",\"1\",IF(EV7=\"No\", \"5\", IF(EV7=\"Don't Know\", \"5\",\"\")))","v":""},null,{"$f":"IF(EX7=\"Yes\",\"1\",IF(EX7=\"No\", \"5\", IF(EX7=\"Don't Know\", \"5\",\"\")))","v":""},null,{"$f":"IF(EZ7=\"Yes\",\"1\",IF(EZ7=\"No\", \"5\", IF(EZ7=\"Don't Know\", \"5\",\"\")))","v":""},null,{"$f":"IF(FB7=\"Yes\",\"1\",IF(FB7=\"No\", \"5\", IF(FB7=\"Don't Know\", \"5\",\"\")))","v":""},null,{"$f":"IF(FD7=\"Yes\",\"1\",IF(FD7=\"No\", \"5\", IF(FD7=\"Don't Know\", \"5\",\"\")))","v":""}]
[null,null,"Is the storage container made of one of the following materials: double walled stainless steel (Type 304L or 316), high density cross-linked polyethylene (HDPE), or reinforced fiberglass polyester with a vinyl ester resin?",null,{"$f":"IF(D8=\"Yes\",\"1\",IF(D8=\"No\", \"5\", IF(D8=\"Don't Know\", \"5\",\"\")))","v":""},null,{"$f":"IF(F8=\"Yes\",\"1\",IF(F8=\"No\", \"5\", IF(F8=\"Don't Know\", \"5\",\"\")))","v":""},null,{"$f":"IF(H8=\"Yes\",\"1\",IF(H8=\"No\", \"5\", IF(H8=\"Don't Know\", \"5\",\"\")))","v":""},null,{"$f":"IF(J8=\"Yes\",\"1\",IF(J8=\"No\", \"5\", IF(J8=\"Don't Know\", \"5\",\"\")))","v":""},null,{"$f":"IF(L8=\"Yes\",\"1\",IF(L8=\"No\", \"5\", IF(L8=\"Don't Know\", \"5\",\"\")))","v":""},null,{"$f":"IF(N8=\"Yes\",\"1\",IF(N8=\"No\", \"5\", IF(N8=\"Don't Know\", \"5\",\"\")))","v":""},null,{"$f":"IF(P8=\"Yes\",\"1\",IF(P8=\"No\", \"5\", IF(P8=\"Don't Know\", \"5\",\"\")))","v":""},null,{"$f":"IF(R8=\"Yes\",\"1\",IF(R8=\"No\", \"5\", IF(R8=\"Don't Know\", \"5\",\"\")))","v":""},null,{"$f":"IF(T8=\"Yes\",\"1\",IF(T8=\"No\", \"5\", IF(T8=\"Don't Know\", \"5\",\"\")))","v":""},null,{"$f":"IF(V8=\"Yes\",\"1\",IF(V8=\"No\", \"5\", IF(V8=\"Don't Know\", \"5\",\"\")))","v":""},null,{"$f":"IF(X8=\"Yes\",\"1\",IF(X8=\"No\", \"5\", IF(X8=\"Don't Know\", \"5\",\"\")))","v":""},null,{"$f":"IF(Z8=\"Yes\",\"1\",IF(Z8=\"No\", \"5\", IF(Z8=\"Don't Know\", \"5\",\"\")))","v":""},null,{"$f":"IF(AB8=\"Yes\",\"1\",IF(AB8=\"No\", \"5\", IF(AB8=\"Don't Know\", \"5\",\"\")))","v":""},null,{"$f":"IF(AD8=\"Yes\",\"1\",IF(AD8=\"No\", \"5\", IF(AD8=\"Don't Know\", \"5\",\"\")))","v":""},null,{"$f":"IF(AF8=\"Yes\",\"1\",IF(AF8=\"No\", \"5\", IF(AF8=\"Don't Know\", \"5\",\"\")))","v":""},null,{"$f":"IF(AH8=\"Yes\",\"1\",IF(AH8=\"No\", \"5\", IF(AH8=\"Don't Know\", \"5\",\"\")))","v":""},null,{"$f":"IF(AJ8=\"Yes\",\"1\",IF(AJ8=\"No\", \"5\", IF(AJ8=\"Don't Know\", \"5\",\"\")))","v":""},null,{"$f":"IF(AL8=\"Yes\",\"1\",IF(AL8=\"No\", \"5\", IF(AL8=\"Don't Know\", \"5\",\"\")))","v":""},null,{"$f":"IF(AN8=\"Yes\",\"1\",IF(AN8=\"No\", \"5\", IF(AN8=\"Don't Know\", \"5\",\"\")))","v":""},null,{"$f":"IF(AP8=\"Yes\",\"1\",IF(AP8=\"No\", \"5\", IF(AP8=\"Don't Know\", \"5\",\"\")))","v":""},null,{"$f":"IF(AR8=\"Yes\",\"1\",IF(AR8=\"No\", \"5\", IF(AR8=\"Don't Know\", \"5\",\"\")))","v":""},null,{"$f":"IF(AT8=\"Yes\",\"1\",IF(AT8=\"No\", \"5\", IF(AT8=\"Don't Know\", \"5\",\"\")))","v":""},null,{"$f":"IF(AV8=\"Yes\",\"1\",IF(AV8=\"No\", \"5\", IF(AV8=\"Don't Know\", \"5\",\"\")))","v":""},null,{"$f":"IF(AX8=\"Yes\",\"1\",IF(AX8=\"No\", \"5\", IF(AX8=\"Don't Know\", \"5\",\"\")))","v":""},null,{"$f":"IF(AZ8=\"Yes\",\"1\",IF(AZ8=\"No\", \"5\", IF(AZ8=\"Don't Know\", \"5\",\"\")))","v":""},null,{"$f":"IF(BB8=\"Yes\",\"1\",IF(BB8=\"No\", \"5\", IF(BB8=\"Don't Know\", \"5\",\"\")))","v":""},null,{"$f":"IF(BD8=\"Yes\",\"1\",IF(BD8=\"No\", \"5\", IF(BD8=\"Don't Know\", \"5\",\"\")))","v":""},null,{"$f":"IF(BF8=\"Yes\",\"1\",IF(BF8=\"No\", \"5\", IF(BF8=\"Don't Know\", \"5\",\"\")))","v":""},null,{"$f":"IF(BH8=\"Yes\",\"1\",IF(BH8=\"No\", \"5\", IF(BH8=\"Don't Know\", \"5\",\"\")))","v":""},null,{"$f":"IF(BJ8=\"Yes\",\"1\",IF(BJ8=\"No\", \"5\", IF(BJ8=\"Don't Know\", \"5\",\"\")))","v":""},null,{"$f":"IF(BL8=\"Yes\",\"1\",IF(BL8=\"No\", \"5\", IF(BL8=\"Don't Know\", \"5\",\"\")))","v":""},null,{"$f":"IF(BN8=\"Yes\",\"1\",IF(BN8=\"No\", \"5\", IF(BN8=\"Don't Know\", \"5\",\"\")))","v":""},null,{"$f":"IF(BP8=\"Yes\",\"1\",IF(BP8=\"No\", \"5\", IF(BP8=\"Don't Know\", \"5\",\"\")))","v":""},null,{"$f":"IF(BR8=\"Yes\",\"1\",IF(BR8=\"No\", \"5\", IF(BR8=\"Don't Know\", \"5\",\"\")))","v":""},null,{"$f":"IF(BT8=\"Yes\",\"1\",IF(BT8=\"No\", \"5\", IF(BT8=\"Don't Know\", \"5\",\"\")))","v":""},null,{"$f":"IF(BV8=\"Yes\",\"1\",IF(BV8=\"No\", \"5\", IF(BV8=\"Don't Know\", \"5\",\"\")))","v":""},null,{"$f":"IF(BX8=\"Yes\",\"1\",IF(BX8=\"No\", \"5\", IF(BX8=\"Don't Know\", \"5\",\"\")))","v":""},null,{"$f":"IF(BZ8=\"Yes\",\"1\",IF(BZ8=\"No\", \"5\", IF(BZ8=\"Don't Know\", \"5\",\"\")))","v":""},null,{"$f":"IF(CB8=\"Yes\",\"1\",IF(CB8=\"No\", \"5\", IF(CB8=\"Don't Know\", \"5\",\"\")))","v":""},null,{"$f":"IF(CD8=\"Yes\",\"1\",IF(CD8=\"No\", \"5\", IF(CD8=\"Don't Know\", \"5\",\"\")))","v":""},null,{"$f":"IF(CF8=\"Yes\",\"1\",IF(CF8=\"No\", \"5\", IF(CF8=\"Don't Know\", \"5\",\"\")))","v":""},null,{"$f":"IF(CH8=\"Yes\",\"1\",IF(CH8=\"No\", \"5\", IF(CH8=\"Don't Know\", \"5\",\"\")))","v":""},null,{"$f":"IF(CJ8=\"Yes\",\"1\",IF(CJ8=\"No\", \"5\", IF(CJ8=\"Don't Know\", \"5\",\"\")))","v":""},null,{"$f":"IF(CL8=\"Yes\",\"1\",IF(CL8=\"No\", \"5\", IF(CL8=\"Don't Know\", \"5\",\"\")))","v":""},null,{"$f":"IF(CN8=\"Yes\",\"1\",IF(CN8=\"No\", \"5\", IF(CN8=\"Don't Know\", \"5\",\"\")))","v":""},null,{"$f":"IF(CP8=\"Yes\",\"1\",IF(CP8=\"No\", \"5\", IF(CP8=\"Don't Know\", \"5\",\"\")))","v":""},null,{"$f":"IF(CR8=\"Yes\",\"1\",IF(CR8=\"No\", \"5\", IF(CR8=\"Don't Know\", \"5\",\"\")))","v":""},null,{"$f":"IF(CT8=\"Yes\",\"1\",IF(CT8=\"No\", \"5\", IF(CT8=\"Don't Know\", \"5\",\"\")))","v":""},null,{"$f":"IF(CV8=\"Yes\",\"1\",IF(CV8=\"No\", \"5\", IF(CV8=\"Don't Know\", \"5\",\"\")))","v":""},null,{"$f":"IF(CX8=\"Yes\",\"1\",IF(CX8=\"No\", \"5\", IF(CX8=\"Don't Know\", \"5\",\"\")))","v":""},null,{"$f":"IF(CZ8=\"Yes\",\"1\",IF(CZ8=\"No\", \"5\", IF(CZ8=\"Don't Know\", \"5\",\"\")))","v":""},null,{"$f":"IF(DB8=\"Yes\",\"1\",IF(DB8=\"No\", \"5\", IF(DB8=\"Don't Know\", \"5\",\"\")))","v":""},null,{"$f":"IF(DD8=\"Yes\",\"1\",IF(DD8=\"No\", \"5\", IF(DD8=\"Don't Know\", \"5\",\"\")))","v":""},null,{"$f":"IF(DF8=\"Yes\",\"1\",IF(DF8=\"No\", \"5\", IF(DF8=\"Don't Know\", \"5\",\"\")))","v":""},null,{"$f":"IF(DH8=\"Yes\",\"1\",IF(DH8=\"No\", \"5\", IF(DH8=\"Don't Know\", \"5\",\"\")))","v":""},null,{"$f":"IF(DJ8=\"Yes\",\"1\",IF(DJ8=\"No\", \"5\", IF(DJ8=\"Don't Know\", \"5\",\"\")))","v":""},null,{"$f":"IF(DL8=\"Yes\",\"1\",IF(DL8=\"No\", \"5\", IF(DL8=\"Don't Know\", \"5\",\"\")))","v":""},null,{"$f":"IF(DN8=\"Yes\",\"1\",IF(DN8=\"No\", \"5\", IF(DN8=\"Don't Know\", \"5\",\"\")))","v":""},null,{"$f":"IF(DP8=\"Yes\",\"1\",IF(DP8=\"No\", \"5\", IF(DP8=\"Don't Know\", \"5\",\"\")))","v":""},null,{"$f":"IF(DR8=\"Yes\",\"1\",IF(DR8=\"No\", \"5\", IF(DR8=\"Don't Know\", \"5\",\"\")))","v":""},null,{"$f":"IF(DT8=\"Yes\",\"1\",IF(DT8=\"No\", \"5\", IF(DT8=\"Don't Know\", \"5\",\"\")))","v":""},null,{"$f":"IF(DV8=\"Yes\",\"1\",IF(DV8=\"No\", \"5\", IF(DV8=\"Don't Know\", \"5\",\"\")))","v":""},null,{"$f":"IF(DX8=\"Yes\",\"1\",IF(DX8=\"No\", \"5\", IF(DX8=\"Don't Know\", \"5\",\"\")))","v":""},null,{"$f":"IF(DZ8=\"Yes\",\"1\",IF(DZ8=\"No\", \"5\", IF(DZ8=\"Don't Know\", \"5\",\"\")))","v":""},null,{"$f":"IF(EB8=\"Yes\",\"1\",IF(EB8=\"No\", \"5\", IF(EB8=\"Don't Know\", \"5\",\"\")))","v":""},null,{"$f":"IF(ED8=\"Yes\",\"1\",IF(ED8=\"No\", \"5\", IF(ED8=\"Don't Know\", \"5\",\"\")))","v":""},null,{"$f":"IF(EF8=\"Yes\",\"1\",IF(EF8=\"No\", \"5\", IF(EF8=\"Don't Know\", \"5\",\"\")))","v":""},null,{"$f":"IF(EH8=\"Yes\",\"1\",IF(EH8=\"No\", \"5\", IF(EH8=\"Don't Know\", \"5\",\"\")))","v":""},null,{"$f":"IF(EJ8=\"Yes\",\"1\",IF(EJ8=\"No\", \"5\", IF(EJ8=\"Don't Know\", \"5\",\"\")))","v":""},null,{"$f":"IF(EL8=\"Yes\",\"1\",IF(EL8=\"No\", \"5\", IF(EL8=\"Don't Know\", \"5\",\"\")))","v":""},null,{"$f":"IF(EN8=\"Yes\",\"1\",IF(EN8=\"No\", \"5\", IF(EN8=\"Don't Know\", \"5\",\"\")))","v":""},null,{"$f":"IF(EP8=\"Yes\",\"1\",IF(EP8=\"No\", \"5\", IF(EP8=\"Don't Know\", \"5\",\"\")))","v":""},null,{"$f":"IF(ER8=\"Yes\",\"1\",IF(ER8=\"No\", \"5\", IF(ER8=\"Don't Know\", \"5\",\"\")))","v":""},null,{"$f":"IF(ET8=\"Yes\",\"1\",IF(ET8=\"No\", \"5\", IF(ET8=\"Don't Know\", \"5\",\"\")))","v":""},null,{"$f":"IF(EV8=\"Yes\",\"1\",IF(EV8=\"No\", \"5\", IF(EV8=\"Don't Know\", \"5\",\"\")))","v":""},null,{"$f":"IF(EX8=\"Yes\",\"1\",IF(EX8=\"No\", \"5\", IF(EX8=\"Don't Know\", \"5\",\"\")))","v":""},null,{"$f":"IF(EZ8=\"Yes\",\"1\",IF(EZ8=\"No\", \"5\", IF(EZ8=\"Don't Know\", \"5\",\"\")))","v":""},null,{"$f":"IF(FB8=\"Yes\",\"1\",IF(FB8=\"No\", \"5\", IF(FB8=\"Don't Know\", \"5\",\"\")))","v":""},null,{"$f":"IF(FD8=\"Yes\",\"1\",IF(FD8=\"No\", \"5\", IF(FD8=\"Don't Know\", \"5\",\"\")))","v":""}]
[null,null,"What volume of AFFF solution is being stored in this location?",null,{"$f":"IF(D9=\"Less than 25 gallons/ less than 95 L\",\"1\",IF(D9=\"25 to 75 gallons/ 95 to 285 L\",\"2\",IF(D9=\"75 to 250 gallons/ 285 to 945 L\",\"4\",IF(D9=\"250 to 750 gallons/ 945 to 2,840 L\",\"6\",IF(D9=\" 750 to 1,000 gallons/ 2, 840 to 3,785 L\",\"8\",IF(D9=\"More than 1,000 gallons/ More than 3,785 L\",\"10\",\"\"))))))","v":""},null,{"$f":"IF(F9=\"Less than 25 gallons/ less than 95 L\",\"1\",IF(F9=\"25 to 75 gallons/ 95 to 285 L\",\"2\",IF(F9=\"75 to 250 gallons/ 285 to 945 L\",\"4\",IF(F9=\"250 to 750 gallons/ 945 to 2,840 L\",\"6\",IF(F9=\" 750 to 1,000 gallons/ 2, 840 to 3,785 L\",\"8\",IF(F9=\"More than 1,000 gallons/ More than 3,785 L\",\"10\",\"\"))))))","v":""},null,{"$f":"IF(H9=\"Less than 25 gallons/ less than 95 L\",\"1\",IF(H9=\"25 to 75 gallons/ 95 to 285 L\",\"2\",IF(H9=\"75 to 250 gallons/ 285 to 945 L\",\"4\",IF(H9=\"250 to 750 gallons/ 945 to 2,840 L\",\"6\",IF(H9=\" 750 to 1,000 gallons/ 2, 840 to 3,785 L\",\"8\",IF(H9=\"More than 1,000 gallons/ More than 3,785 L\",\"10\",\"\"))))))","v":""},null,{"$f":"IF(J9=\"Less than 25 gallons/ less than 95 L\",\"1\",IF(J9=\"25 to 75 gallons/ 95 to 285 L\",\"2\",IF(J9=\"75 to 250 gallons/ 285 to 945 L\",\"4\",IF(J9=\"250 to 750 gallons/ 945 to 2,840 L\",\"6\",IF(J9=\" 750 to 1,000 gallons/ 2, 840 to 3,785 L\",\"8\",IF(J9=\"More than 1,000 gallons/ More than 3,785 L\",\"10\",\"\"))))))","v":""},null,{"$f":"IF(L9=\"Less than 25 gallons/ less than 95 L\",\"1\",IF(L9=\"25 to 75 gallons/ 95 to 285 L\",\"2\",IF(L9=\"75 to 250 gallons/ 285 to 945 L\",\"4\",IF(L9=\"250 to 750 gallons/ 945 to 2,840 L\",\"6\",IF(L9=\" 750 to 1,000 gallons/ 2, 840 to 3,785 L\",\"8\",IF(L9=\"More than 1,000 gallons/ More than 3,785 L\",\"10\",\"\"))))))","v":""},null,{"$f":"IF(N9=\"Less than 25 gallons/ less than 95 L\",\"1\",IF(N9=\"25 to 75 gallons/ 95 to 285 L\",\"2\",IF(N9=\"75 to 250 gallons/ 285 to 945 L\",\"4\",IF(N9=\"250 to 750 gallons/ 945 to 2,840 L\",\"6\",IF(N9=\" 750 to 1,000 gallons/ 2, 840 to 3,785 L\",\"8\",IF(N9=\"More than 1,000 gallons/ More than 3,785 L\",\"10\",\"\"))))))","v":""},null,{"$f":"IF(P9=\"Less than 25 gallons/ less than 95 L\",\"1\",IF(P9=\"25 to 75 gallons/ 95 to 285 L\",\"2\",IF(P9=\"75 to 250 gallons/ 285 to 945 L\",\"4\",IF(P9=\"250 to 750 gallons/ 945 to 2,840 L\",\"6\",IF(P9=\" 750 to 1,000 gallons/ 2, 840 to 3,785 L\",\"8\",IF(P9=\"More than 1,000 gallons/ More than 3,785 L\",\"10\",\"\"))))))","v":""},null,{"$f":"IF(R9=\"Less than 25 gallons/ less than 95 L\",\"1\",IF(R9=\"25 to 75 gallons/ 95 to 285 L\",\"2\",IF(R9=\"75 to 250 gallons/ 285 to 945 L\",\"4\",IF(R9=\"250 to 750 gallons/ 945 to 2,840 L\",\"6\",IF(R9=\" 750 to 1,000 gallons/ 2, 840 to 3,785 L\",\"8\",IF(R9=\"More than 1,000 gallons/ More than 3,785 L\",\"10\",\"\"))))))","v":""},null,{"$f":"IF(T9=\"Less than 25 gallons/ less than 95 L\",\"1\",IF(T9=\"25 to 75 gallons/ 95 to 285 L\",\"2\",IF(T9=\"75 to 250 gallons/ 285 to 945 L\",\"4\",IF(T9=\"250 to 750 gallons/ 945 to 2,840 L\",\"6\",IF(T9=\" 750 to 1,000 gallons/ 2, 840 to 3,785 L\",\"8\",IF(T9=\"More than 1,000 gallons/ More than 3,785 L\",\"10\",\"\"))))))","v":""},null,{"$f":"IF(V9=\"Less than 25 gallons/ less than 95 L\",\"1\",IF(V9=\"25 to 75 gallons/ 95 to 285 L\",\"2\",IF(V9=\"75 to 250 gallons/ 285 to 945 L\",\"4\",IF(V9=\"250 to 750 gallons/ 945 to 2,840 L\",\"6\",IF(V9=\" 750 to 1,000 gallons/ 2, 840 to 3,785 L\",\"8\",IF(V9=\"More than 1,000 gallons/ More than 3,785 L\",\"10\",\"\"))))))","v":""},null,{"$f":"IF(X9=\"Less than 25 gallons/ less than 95 L\",\"1\",IF(X9=\"25 to 75 gallons/ 95 to 285 L\",\"2\",IF(X9=\"75 to 250 gallons/ 285 to 945 L\",\"4\",IF(X9=\"250 to 750 gallons/ 945 to 2,840 L\",\"6\",IF(X9=\" 750 to 1,000 gallons/ 2, 840 to 3,785 L\",\"8\",IF(X9=\"More than 1,000 gallons/ More than 3,785 L\",\"10\",\"\"))))))","v":""},null,{"$f":"IF(Z9=\"Less than 25 gallons/ less than 95 L\",\"1\",IF(Z9=\"25 to 75 gallons/ 95 to 285 L\",\"2\",IF(Z9=\"75 to 250 gallons/ 285 to 945 L\",\"4\",IF(Z9=\"250 to 750 gallons/ 945 to 2,840 L\",\"6\",IF(Z9=\" 750 to 1,000 gallons/ 2, 840 to 3,785 L\",\"8\",IF(Z9=\"More than 1,000 gallons/ More than 3,785 L\",\"10\",\"\"))))))","v":""},null,{"$f":"IF(AB9=\"Less than 25 gallons/ less than 95 L\",\"1\",IF(AB9=\"25 to 75 gallons/ 95 to 285 L\",\"2\",IF(AB9=\"75 to 250 gallons/ 285 to 945 L\",\"4\",IF(AB9=\"250 to 750 gallons/ 945 to 2,840 L\",\"6\",IF(AB9=\" 750 to 1,000 gallons/ 2, 840 to 3,785 L\",\"8\",IF(AB9=\"More than 1,000 gallons/ More than 3,785 L\",\"10\",\"\"))))))","v":""},null,{"$f":"IF(AD9=\"Less than 25 gallons/ less than 95 L\",\"1\",IF(AD9=\"25 to 75 gallons/ 95 to 285 L\",\"2\",IF(AD9=\"75 to 250 gallons/ 285 to 945 L\",\"4\",IF(AD9=\"250 to 750 gallons/ 945 to 2,840 L\",\"6\",IF(AD9=\" 750 to 1,000 gallons/ 2, 840 to 3,785 L\",\"8\",IF(AD9=\"More than 1,000 gallons/ More than 3,785 L\",\"10\",\"\"))))))","v":""},null,{"$f":"IF(AF9=\"Less than 25 gallons/ less than 95 L\",\"1\",IF(AF9=\"25 to 75 gallons/ 95 to 285 L\",\"2\",IF(AF9=\"75 to 250 gallons/ 285 to 945 L\",\"4\",IF(AF9=\"250 to 750 gallons/ 945 to 2,840 L\",\"6\",IF(AF9=\" 750 to 1,000 gallons/ 2, 840 to 3,785 L\",\"8\",IF(AF9=\"More than 1,000 gallons/ More than 3,785 L\",\"10\",\"\"))))))","v":""},null,{"$f":"IF(AH9=\"Less than 25 gallons/ less than 95 L\",\"1\",IF(AH9=\"25 to 75 gallons/ 95 to 285 L\",\"2\",IF(AH9=\"75 to 250 gallons/ 285 to 945 L\",\"4\",IF(AH9=\"250 to 750 gallons/ 945 to 2,840 L\",\"6\",IF(AH9=\" 750 to 1,000 gallons/ 2, 840 to 3,785 L\",\"8\",IF(AH9=\"More than 1,000 gallons/ More than 3,785 L\",\"10\",\"\"))))))","v":""},null,{"$f":"IF(AJ9=\"Less than 25 gallons/ less than 95 L\",\"1\",IF(AJ9=\"25 to 75 gallons/ 95 to 285 L\",\"2\",IF(AJ9=\"75 to 250 gallons/ 285 to 945 L\",\"4\",IF(AJ9=\"250 to 750 gallons/ 945 to 2,840 L\",\"6\",IF(AJ9=\" 750 to 1,000 gallons/ 2, 840 to 3,785 L\",\"8\",IF(AJ9=\"More than 1,000 gallons/ More than 3,785 L\",\"10\",\"\"))))))","v":""},null,{"$f":"IF(AL9=\"Less than 25 gallons/ less than 95 L\",\"1\",IF(AL9=\"25 to 75 gallons/ 95 to 285 L\",\"2\",IF(AL9=\"75 to 250 gallons/ 285 to 945 L\",\"4\",IF(AL9=\"250 to 750 gallons/ 945 to 2,840 L\",\"6\",IF(AL9=\" 750 to 1,000 gallons/ 2, 840 to 3,785 L\",\"8\",IF(AL9=\"More than 1,000 gallons/ More than 3,785 L\",\"10\",\"\"))))))","v":""},null,{"$f":"IF(AN9=\"Less than 25 gallons/ less than 95 L\",\"1\",IF(AN9=\"25 to 75 gallons/ 95 to 285 L\",\"2\",IF(AN9=\"75 to 250 gallons/ 285 to 945 L\",\"4\",IF(AN9=\"250 to 750 gallons/ 945 to 2,840 L\",\"6\",IF(AN9=\" 750 to 1,000 gallons/ 2, 840 to 3,785 L\",\"8\",IF(AN9=\"More than 1,000 gallons/ More than 3,785 L\",\"10\",\"\"))))))","v":""},null,{"$f":"IF(AP9=\"Less than 25 gallons/ less than 95 L\",\"1\",IF(AP9=\"25 to 75 gallons/ 95 to 285 L\",\"2\",IF(AP9=\"75 to 250 gallons/ 285 to 945 L\",\"4\",IF(AP9=\"250 to 750 gallons/ 945 to 2,840 L\",\"6\",IF(AP9=\" 750 to 1,000 gallons/ 2, 840 to 3,785 L\",\"8\",IF(AP9=\"More than 1,000 gallons/ More than 3,785 L\",\"10\",\"\"))))))","v":""},null,{"$f":"IF(AR9=\"Less than 25 gallons/ less than 95 L\",\"1\",IF(AR9=\"25 to 75 gallons/ 95 to 285 L\",\"2\",IF(AR9=\"75 to 250 gallons/ 285 to 945 L\",\"4\",IF(AR9=\"250 to 750 gallons/ 945 to 2,840 L\",\"6\",IF(AR9=\" 750 to 1,000 gallons/ 2, 840 to 3,785 L\",\"8\",IF(AR9=\"More than 1,000 gallons/ More than 3,785 L\",\"10\",\"\"))))))","v":""},null,{"$f":"IF(AT9=\"Less than 25 gallons/ less than 95 L\",\"1\",IF(AT9=\"25 to 75 gallons/ 95 to 285 L\",\"2\",IF(AT9=\"75 to 250 gallons/ 285 to 945 L\",\"4\",IF(AT9=\"250 to 750 gallons/ 945 to 2,840 L\",\"6\",IF(AT9=\" 750 to 1,000 gallons/ 2, 840 to 3,785 L\",\"8\",IF(AT9=\"More than 1,000 gallons/ More than 3,785 L\",\"10\",\"\"))))))","v":""},null,{"$f":"IF(AV9=\"Less than 25 gallons/ less than 95 L\",\"1\",IF(AV9=\"25 to 75 gallons/ 95 to 285 L\",\"2\",IF(AV9=\"75 to 250 gallons/ 285 to 945 L\",\"4\",IF(AV9=\"250 to 750 gallons/ 945 to 2,840 L\",\"6\",IF(AV9=\" 750 to 1,000 gallons/ 2, 840 to 3,785 L\",\"8\",IF(AV9=\"More than 1,000 gallons/ More than 3,785 L\",\"10\",\"\"))))))","v":""},null,{"$f":"IF(AX9=\"Less than 25 gallons/ less than 95 L\",\"1\",IF(AX9=\"25 to 75 gallons/ 95 to 285 L\",\"2\",IF(AX9=\"75 to 250 gallons/ 285 to 945 L\",\"4\",IF(AX9=\"250 to 750 gallons/ 945 to 2,840 L\",\"6\",IF(AX9=\" 750 to 1,000 gallons/ 2, 840 to 3,785 L\",\"8\",IF(AX9=\"More than 1,000 gallons/ More than 3,785 L\",\"10\",\"\"))))))","v":""},null,{"$f":"IF(AZ9=\"Less than 25 gallons/ less than 95 L\",\"1\",IF(AZ9=\"25 to 75 gallons/ 95 to 285 L\",\"2\",IF(AZ9=\"75 to 250 gallons/ 285 to 945 L\",\"4\",IF(AZ9=\"250 to 750 gallons/ 945 to 2,840 L\",\"6\",IF(AZ9=\" 750 to 1,000 gallons/ 2, 840 to 3,785 L\",\"8\",IF(AZ9=\"More than 1,000 gallons/ More than 3,785 L\",\"10\",\"\"))))))","v":""},null,{"$f":"IF(BB9=\"Less than 25 gallons/ less than 95 L\",\"1\",IF(BB9=\"25 to 75 gallons/ 95 to 285 L\",\"2\",IF(BB9=\"75 to 250 gallons/ 285 to 945 L\",\"4\",IF(BB9=\"250 to 750 gallons/ 945 to 2,840 L\",\"6\",IF(BB9=\" 750 to 1,000 gallons/ 2, 840 to 3,785 L\",\"8\",IF(BB9=\"More than 1,000 gallons/ More than 3,785 L\",\"10\",\"\"))))))","v":""},null,{"$f":"IF(BD9=\"Less than 25 gallons/ less than 95 L\",\"1\",IF(BD9=\"25 to 75 gallons/ 95 to 285 L\",\"2\",IF(BD9=\"75 to 250 gallons/ 285 to 945 L\",\"4\",IF(BD9=\"250 to 750 gallons/ 945 to 2,840 L\",\"6\",IF(BD9=\" 750 to 1,000 gallons/ 2, 840 to 3,785 L\",\"8\",IF(BD9=\"More than 1,000 gallons/ More than 3,785 L\",\"10\",\"\"))))))","v":""},null,{"$f":"IF(BF9=\"Less than 25 gallons/ less than 95 L\",\"1\",IF(BF9=\"25 to 75 gallons/ 95 to 285 L\",\"2\",IF(BF9=\"75 to 250 gallons/ 285 to 945 L\",\"4\",IF(BF9=\"250 to 750 gallons/ 945 to 2,840 L\",\"6\",IF(BF9=\" 750 to 1,000 gallons/ 2, 840 to 3,785 L\",\"8\",IF(BF9=\"More than 1,000 gallons/ More than 3,785 L\",\"10\",\"\"))))))","v":""},null,{"$f":"IF(BH9=\"Less than 25 gallons/ less than 95 L\",\"1\",IF(BH9=\"25 to 75 gallons/ 95 to 285 L\",\"2\",IF(BH9=\"75 to 250 gallons/ 285 to 945 L\",\"4\",IF(BH9=\"250 to 750 gallons/ 945 to 2,840 L\",\"6\",IF(BH9=\" 750 to 1,000 gallons/ 2, 840 to 3,785 L\",\"8\",IF(BH9=\"More than 1,000 gallons/ More than 3,785 L\",\"10\",\"\"))))))","v":""},null,{"$f":"IF(BJ9=\"Less than 25 gallons/ less than 95 L\",\"1\",IF(BJ9=\"25 to 75 gallons/ 95 to 285 L\",\"2\",IF(BJ9=\"75 to 250 gallons/ 285 to 945 L\",\"4\",IF(BJ9=\"250 to 750 gallons/ 945 to 2,840 L\",\"6\",IF(BJ9=\" 750 to 1,000 gallons/ 2, 840 to 3,785 L\",\"8\",IF(BJ9=\"More than 1,000 gallons/ More than 3,785 L\",\"10\",\"\"))))))","v":""},null,{"$f":"IF(BL9=\"Less than 25 gallons/ less than 95 L\",\"1\",IF(BL9=\"25 to 75 gallons/ 95 to 285 L\",\"2\",IF(BL9=\"75 to 250 gallons/ 285 to 945 L\",\"4\",IF(BL9=\"250 to 750 gallons/ 945 to 2,840 L\",\"6\",IF(BL9=\" 750 to 1,000 gallons/ 2, 840 to 3,785 L\",\"8\",IF(BL9=\"More than 1,000 gallons/ More than 3,785 L\",\"10\",\"\"))))))","v":""},null,{"$f":"IF(BN9=\"Less than 25 gallons/ less than 95 L\",\"1\",IF(BN9=\"25 to 75 gallons/ 95 to 285 L\",\"2\",IF(BN9=\"75 to 250 gallons/ 285 to 945 L\",\"4\",IF(BN9=\"250 to 750 gallons/ 945 to 2,840 L\",\"6\",IF(BN9=\" 750 to 1,000 gallons/ 2, 840 to 3,785 L\",\"8\",IF(BN9=\"More than 1,000 gallons/ More than 3,785 L\",\"10\",\"\"))))))","v":""},null,{"$f":"IF(BP9=\"Less than 25 gallons/ less than 95 L\",\"1\",IF(BP9=\"25 to 75 gallons/ 95 to 285 L\",\"2\",IF(BP9=\"75 to 250 gallons/ 285 to 945 L\",\"4\",IF(BP9=\"250 to 750 gallons/ 945 to 2,840 L\",\"6\",IF(BP9=\" 750 to 1,000 gallons/ 2, 840 to 3,785 L\",\"8\",IF(BP9=\"More than 1,000 gallons/ More than 3,785 L\",\"10\",\"\"))))))","v":""},null,{"$f":"IF(BR9=\"Less than 25 gallons/ less than 95 L\",\"1\",IF(BR9=\"25 to 75 gallons/ 95 to 285 L\",\"2\",IF(BR9=\"75 to 250 gallons/ 285 to 945 L\",\"4\",IF(BR9=\"250 to 750 gallons/ 945 to 2,840 L\",\"6\",IF(BR9=\" 750 to 1,000 gallons/ 2, 840 to 3,785 L\",\"8\",IF(BR9=\"More than 1,000 gallons/ More than 3,785 L\",\"10\",\"\"))))))","v":""},null,{"$f":"IF(BT9=\"Less than 25 gallons/ less than 95 L\",\"1\",IF(BT9=\"25 to 75 gallons/ 95 to 285 L\",\"2\",IF(BT9=\"75 to 250 gallons/ 285 to 945 L\",\"4\",IF(BT9=\"250 to 750 gallons/ 945 to 2,840 L\",\"6\",IF(BT9=\" 750 to 1,000 gallons/ 2, 840 to 3,785 L\",\"8\",IF(BT9=\"More than 1,000 gallons/ More than 3,785 L\",\"10\",\"\"))))))","v":""},null,{"$f":"IF(BV9=\"Less than 25 gallons/ less than 95 L\",\"1\",IF(BV9=\"25 to 75 gallons/ 95 to 285 L\",\"2\",IF(BV9=\"75 to 250 gallons/ 285 to 945 L\",\"4\",IF(BV9=\"250 to 750 gallons/ 945 to 2,840 L\",\"6\",IF(BV9=\" 750 to 1,000 gallons/ 2, 840 to 3,785 L\",\"8\",IF(BV9=\"More than 1,000 gallons/ More than 3,785 L\",\"10\",\"\"))))))","v":""},null,{"$f":"IF(BX9=\"Less than 25 gallons/ less than 95 L\",\"1\",IF(BX9=\"25 to 75 gallons/ 95 to 285 L\",\"2\",IF(BX9=\"75 to 250 gallons/ 285 to 945 L\",\"4\",IF(BX9=\"250 to 750 gallons/ 945 to 2,840 L\",\"6\",IF(BX9=\" 750 to 1,000 gallons/ 2, 840 to 3,785 L\",\"8\",IF(BX9=\"More than 1,000 gallons/ More than 3,785 L\",\"10\",\"\"))))))","v":""},null,{"$f":"IF(BZ9=\"Less than 25 gallons/ less than 95 L\",\"1\",IF(BZ9=\"25 to 75 gallons/ 95 to 285 L\",\"2\",IF(BZ9=\"75 to 250 gallons/ 285 to 945 L\",\"4\",IF(BZ9=\"250 to 750 gallons/ 945 to 2,840 L\",\"6\",IF(BZ9=\" 750 to 1,000 gallons/ 2, 840 to 3,785 L\",\"8\",IF(BZ9=\"More than 1,000 gallons/ More than 3,785 L\",\"10\",\"\"))))))","v":""},null,{"$f":"IF(CB9=\"Less than 25 gallons/ less than 95 L\",\"1\",IF(CB9=\"25 to 75 gallons/ 95 to 285 L\",\"2\",IF(CB9=\"75 to 250 gallons/ 285 to 945 L\",\"4\",IF(CB9=\"250 to 750 gallons/ 945 to 2,840 L\",\"6\",IF(CB9=\" 750 to 1,000 gallons/ 2, 840 to 3,785 L\",\"8\",IF(CB9=\"More than 1,000 gallons/ More than 3,785 L\",\"10\",\"\"))))))","v":""},null,{"$f":"IF(CD9=\"Less than 25 gallons/ less than 95 L\",\"1\",IF(CD9=\"25 to 75 gallons/ 95 to 285 L\",\"2\",IF(CD9=\"75 to 250 gallons/ 285 to 945 L\",\"4\",IF(CD9=\"250 to 750 gallons/ 945 to 2,840 L\",\"6\",IF(CD9=\" 750 to 1,000 gallons/ 2, 840 to 3,785 L\",\"8\",IF(CD9=\"More than 1,000 gallons/ More than 3,785 L\",\"10\",\"\"))))))","v":""},null,{"$f":"IF(CF9=\"Less than 25 gallons/ less than 95 L\",\"1\",IF(CF9=\"25 to 75 gallons/ 95 to 285 L\",\"2\",IF(CF9=\"75 to 250 gallons/ 285 to 945 L\",\"4\",IF(CF9=\"250 to 750 gallons/ 945 to 2,840 L\",\"6\",IF(CF9=\" 750 to 1,000 gallons/ 2, 840 to 3,785 L\",\"8\",IF(CF9=\"More than 1,000 gallons/ More than 3,785 L\",\"10\",\"\"))))))","v":""},null,{"$f":"IF(CH9=\"Less than 25 gallons/ less than 95 L\",\"1\",IF(CH9=\"25 to 75 gallons/ 95 to 285 L\",\"2\",IF(CH9=\"75 to 250 gallons/ 285 to 945 L\",\"4\",IF(CH9=\"250 to 750 gallons/ 945 to 2,840 L\",\"6\",IF(CH9=\" 750 to 1,000 gallons/ 2, 840 to 3,785 L\",\"8\",IF(CH9=\"More than 1,000 gallons/ More than 3,785 L\",\"10\",\"\"))))))","v":""},null,{"$f":"IF(CJ9=\"Less than 25 gallons/ less than 95 L\",\"1\",IF(CJ9=\"25 to 75 gallons/ 95 to 285 L\",\"2\",IF(CJ9=\"75 to 250 gallons/ 285 to 945 L\",\"4\",IF(CJ9=\"250 to 750 gallons/ 945 to 2,840 L\",\"6\",IF(CJ9=\" 750 to 1,000 gallons/ 2, 840 to 3,785 L\",\"8\",IF(CJ9=\"More than 1,000 gallons/ More than 3,785 L\",\"10\",\"\"))))))","v":""},null,{"$f":"IF(CL9=\"Less than 25 gallons/ less than 95 L\",\"1\",IF(CL9=\"25 to 75 gallons/ 95 to 285 L\",\"2\",IF(CL9=\"75 to 250 gallons/ 285 to 945 L\",\"4\",IF(CL9=\"250 to 750 gallons/ 945 to 2,840 L\",\"6\",IF(CL9=\" 750 to 1,000 gallons/ 2, 840 to 3,785 L\",\"8\",IF(CL9=\"More than 1,000 gallons/ More than 3,785 L\",\"10\",\"\"))))))","v":""},null,{"$f":"IF(CN9=\"Less than 25 gallons/ less than 95 L\",\"1\",IF(CN9=\"25 to 75 gallons/ 95 to 285 L\",\"2\",IF(CN9=\"75 to 250 gallons/ 285 to 945 L\",\"4\",IF(CN9=\"250 to 750 gallons/ 945 to 2,840 L\",\"6\",IF(CN9=\" 750 to 1,000 gallons/ 2, 840 to 3,785 L\",\"8\",IF(CN9=\"More than 1,000 gallons/ More than 3,785 L\",\"10\",\"\"))))))","v":""},null,{"$f":"IF(CP9=\"Less than 25 gallons/ less than 95 L\",\"1\",IF(CP9=\"25 to 75 gallons/ 95 to 285 L\",\"2\",IF(CP9=\"75 to 250 gallons/ 285 to 945 L\",\"4\",IF(CP9=\"250 to 750 gallons/ 945 to 2,840 L\",\"6\",IF(CP9=\" 750 to 1,000 gallons/ 2, 840 to 3,785 L\",\"8\",IF(CP9=\"More than 1,000 gallons/ More than 3,785 L\",\"10\",\"\"))))))","v":""},null,{"$f":"IF(CR9=\"Less than 25 gallons/ less than 95 L\",\"1\",IF(CR9=\"25 to 75 gallons/ 95 to 285 L\",\"2\",IF(CR9=\"75 to 250 gallons/ 285 to 945 L\",\"4\",IF(CR9=\"250 to 750 gallons/ 945 to 2,840 L\",\"6\",IF(CR9=\" 750 to 1,000 gallons/ 2, 840 to 3,785 L\",\"8\",IF(CR9=\"More than 1,000 gallons/ More than 3,785 L\",\"10\",\"\"))))))","v":""},null,{"$f":"IF(CT9=\"Less than 25 gallons/ less than 95 L\",\"1\",IF(CT9=\"25 to 75 gallons/ 95 to 285 L\",\"2\",IF(CT9=\"75 to 250 gallons/ 285 to 945 L\",\"4\",IF(CT9=\"250 to 750 gallons/ 945 to 2,840 L\",\"6\",IF(CT9=\" 750 to 1,000 gallons/ 2, 840 to 3,785 L\",\"8\",IF(CT9=\"More than 1,000 gallons/ More than 3,785 L\",\"10\",\"\"))))))","v":""},null,{"$f":"IF(CV9=\"Less than 25 gallons/ less than 95 L\",\"1\",IF(CV9=\"25 to 75 gallons/ 95 to 285 L\",\"2\",IF(CV9=\"75 to 250 gallons/ 285 to 945 L\",\"4\",IF(CV9=\"250 to 750 gallons/ 945 to 2,840 L\",\"6\",IF(CV9=\" 750 to 1,000 gallons/ 2, 840 to 3,785 L\",\"8\",IF(CV9=\"More than 1,000 gallons/ More than 3,785 L\",\"10\",\"\"))))))","v":""},null,{"$f":"IF(CX9=\"Less than 25 gallons/ less than 95 L\",\"1\",IF(CX9=\"25 to 75 gallons/ 95 to 285 L\",\"2\",IF(CX9=\"75 to 250 gallons/ 285 to 945 L\",\"4\",IF(CX9=\"250 to 750 gallons/ 945 to 2,840 L\",\"6\",IF(CX9=\" 750 to 1,000 gallons/ 2, 840 to 3,785 L\",\"8\",IF(CX9=\"More than 1,000 gallons/ More than 3,785 L\",\"10\",\"\"))))))","v":""},null,{"$f":"IF(CZ9=\"Less than 25 gallons/ less than 95 L\",\"1\",IF(CZ9=\"25 to 75 gallons/ 95 to 285 L\",\"2\",IF(CZ9=\"75 to 250 gallons/ 285 to 945 L\",\"4\",IF(CZ9=\"250 to 750 gallons/ 945 to 2,840 L\",\"6\",IF(CZ9=\" 750 to 1,000 gallons/ 2, 840 to 3,785 L\",\"8\",IF(CZ9=\"More than 1,000 gallons/ More than 3,785 L\",\"10\",\"\"))))))","v":""},null,{"$f":"IF(DB9=\"Less than 25 gallons/ less than 95 L\",\"1\",IF(DB9=\"25 to 75 gallons/ 95 to 285 L\",\"2\",IF(DB9=\"75 to 250 gallons/ 285 to 945 L\",\"4\",IF(DB9=\"250 to 750 gallons/ 945 to 2,840 L\",\"6\",IF(DB9=\" 750 to 1,000 gallons/ 2, 840 to 3,785 L\",\"8\",IF(DB9=\"More than 1,000 gallons/ More than 3,785 L\",\"10\",\"\"))))))","v":""},null,{"$f":"IF(DD9=\"Less than 25 gallons/ less than 95 L\",\"1\",IF(DD9=\"25 to 75 gallons/ 95 to 285 L\",\"2\",IF(DD9=\"75 to 250 gallons/ 285 to 945 L\",\"4\",IF(DD9=\"250 to 750 gallons/ 945 to 2,840 L\",\"6\",IF(DD9=\" 750 to 1,000 gallons/ 2, 840 to 3,785 L\",\"8\",IF(DD9=\"More than 1,000 gallons/ More than 3,785 L\",\"10\",\"\"))))))","v":""},null,{"$f":"IF(DF9=\"Less than 25 gallons/ less than 95 L\",\"1\",IF(DF9=\"25 to 75 gallons/ 95 to 285 L\",\"2\",IF(DF9=\"75 to 250 gallons/ 285 to 945 L\",\"4\",IF(DF9=\"250 to 750 gallons/ 945 to 2,840 L\",\"6\",IF(DF9=\" 750 to 1,000 gallons/ 2, 840 to 3,785 L\",\"8\",IF(DF9=\"More than 1,000 gallons/ More than 3,785 L\",\"10\",\"\"))))))","v":""},null,{"$f":"IF(DH9=\"Less than 25 gallons/ less than 95 L\",\"1\",IF(DH9=\"25 to 75 gallons/ 95 to 285 L\",\"2\",IF(DH9=\"75 to 250 gallons/ 285 to 945 L\",\"4\",IF(DH9=\"250 to 750 gallons/ 945 to 2,840 L\",\"6\",IF(DH9=\" 750 to 1,000 gallons/ 2, 840 to 3,785 L\",\"8\",IF(DH9=\"More than 1,000 gallons/ More than 3,785 L\",\"10\",\"\"))))))","v":""},null,{"$f":"IF(DJ9=\"Less than 25 gallons/ less than 95 L\",\"1\",IF(DJ9=\"25 to 75 gallons/ 95 to 285 L\",\"2\",IF(DJ9=\"75 to 250 gallons/ 285 to 945 L\",\"4\",IF(DJ9=\"250 to 750 gallons/ 945 to 2,840 L\",\"6\",IF(DJ9=\" 750 to 1,000 gallons/ 2, 840 to 3,785 L\",\"8\",IF(DJ9=\"More than 1,000 gallons/ More than 3,785 L\",\"10\",\"\"))))))","v":""},null,{"$f":"IF(DL9=\"Less than 25 gallons/ less than 95 L\",\"1\",IF(DL9=\"25 to 75 gallons/ 95 to 285 L\",\"2\",IF(DL9=\"75 to 250 gallons/ 285 to 945 L\",\"4\",IF(DL9=\"250 to 750 gallons/ 945 to 2,840 L\",\"6\",IF(DL9=\" 750 to 1,000 gallons/ 2, 840 to 3,785 L\",\"8\",IF(DL9=\"More than 1,000 gallons/ More than 3,785 L\",\"10\",\"\"))))))","v":""},null,{"$f":"IF(DN9=\"Less than 25 gallons/ less than 95 L\",\"1\",IF(DN9=\"25 to 75 gallons/ 95 to 285 L\",\"2\",IF(DN9=\"75 to 250 gallons/ 285 to 945 L\",\"4\",IF(DN9=\"250 to 750 gallons/ 945 to 2,840 L\",\"6\",IF(DN9=\" 750 to 1,000 gallons/ 2, 840 to 3,785 L\",\"8\",IF(DN9=\"More than 1,000 gallons/ More than 3,785 L\",\"10\",\"\"))))))","v":""},null,{"$f":"IF(DP9=\"Less than 25 gallons/ less than 95 L\",\"1\",IF(DP9=\"25 to 75 gallons/ 95 to 285 L\",\"2\",IF(DP9=\"75 to 250 gallons/ 285 to 945 L\",\"4\",IF(DP9=\"250 to 750 gallons/ 945 to 2,840 L\",\"6\",IF(DP9=\" 750 to 1,000 gallons/ 2, 840 to 3,785 L\",\"8\",IF(DP9=\"More than 1,000 gallons/ More than 3,785 L\",\"10\",\"\"))))))","v":""},null,{"$f":"IF(DR9=\"Less than 25 gallons/ less than 95 L\",\"1\",IF(DR9=\"25 to 75 gallons/ 95 to 285 L\",\"2\",IF(DR9=\"75 to 250 gallons/ 285 to 945 L\",\"4\",IF(DR9=\"250 to 750 gallons/ 945 to 2,840 L\",\"6\",IF(DR9=\" 750 to 1,000 gallons/ 2, 840 to 3,785 L\",\"8\",IF(DR9=\"More than 1,000 gallons/ More than 3,785 L\",\"10\",\"\"))))))","v":""},null,{"$f":"IF(DT9=\"Less than 25 gallons/ less than 95 L\",\"1\",IF(DT9=\"25 to 75 gallons/ 95 to 285 L\",\"2\",IF(DT9=\"75 to 250 gallons/ 285 to 945 L\",\"4\",IF(DT9=\"250 to 750 gallons/ 945 to 2,840 L\",\"6\",IF(DT9=\" 750 to 1,000 gallons/ 2, 840 to 3,785 L\",\"8\",IF(DT9=\"More than 1,000 gallons/ More than 3,785 L\",\"10\",\"\"))))))","v":""},null,{"$f":"IF(DV9=\"Less than 25 gallons/ less than 95 L\",\"1\",IF(DV9=\"25 to 75 gallons/ 95 to 285 L\",\"2\",IF(DV9=\"75 to 250 gallons/ 285 to 945 L\",\"4\",IF(DV9=\"250 to 750 gallons/ 945 to 2,840 L\",\"6\",IF(DV9=\" 750 to 1,000 gallons/ 2, 840 to 3,785 L\",\"8\",IF(DV9=\"More than 1,000 gallons/ More than 3,785 L\",\"10\",\"\"))))))","v":""},null,{"$f":"IF(DX9=\"Less than 25 gallons/ less than 95 L\",\"1\",IF(DX9=\"25 to 75 gallons/ 95 to 285 L\",\"2\",IF(DX9=\"75 to 250 gallons/ 285 to 945 L\",\"4\",IF(DX9=\"250 to 750 gallons/ 945 to 2,840 L\",\"6\",IF(DX9=\" 750 to 1,000 gallons/ 2, 840 to 3,785 L\",\"8\",IF(DX9=\"More than 1,000 gallons/ More than 3,785 L\",\"10\",\"\"))))))","v":""},null,{"$f":"IF(DZ9=\"Less than 25 gallons/ less than 95 L\",\"1\",IF(DZ9=\"25 to 75 gallons/ 95 to 285 L\",\"2\",IF(DZ9=\"75 to 250 gallons/ 285 to 945 L\",\"4\",IF(DZ9=\"250 to 750 gallons/ 945 to 2,840 L\",\"6\",IF(DZ9=\" 750 to 1,000 gallons/ 2, 840 to 3,785 L\",\"8\",IF(DZ9=\"More than 1,000 gallons/ More than 3,785 L\",\"10\",\"\"))))))","v":""},null,{"$f":"IF(EB9=\"Less than 25 gallons/ less than 95 L\",\"1\",IF(EB9=\"25 to 75 gallons/ 95 to 285 L\",\"2\",IF(EB9=\"75 to 250 gallons/ 285 to 945 L\",\"4\",IF(EB9=\"250 to 750 gallons/ 945 to 2,840 L\",\"6\",IF(EB9=\" 750 to 1,000 gallons/ 2, 840 to 3,785 L\",\"8\",IF(EB9=\"More than 1,000 gallons/ More than 3,785 L\",\"10\",\"\"))))))","v":""},null,{"$f":"IF(ED9=\"Less than 25 gallons/ less than 95 L\",\"1\",IF(ED9=\"25 to 75 gallons/ 95 to 285 L\",\"2\",IF(ED9=\"75 to 250 gallons/ 285 to 945 L\",\"4\",IF(ED9=\"250 to 750 gallons/ 945 to 2,840 L\",\"6\",IF(ED9=\" 750 to 1,000 gallons/ 2, 840 to 3,785 L\",\"8\",IF(ED9=\"More than 1,000 gallons/ More than 3,785 L\",\"10\",\"\"))))))","v":""},null,{"$f":"IF(EF9=\"Less than 25 gallons/ less than 95 L\",\"1\",IF(EF9=\"25 to 75 gallons/ 95 to 285 L\",\"2\",IF(EF9=\"75 to 250 gallons/ 285 to 945 L\",\"4\",IF(EF9=\"250 to 750 gallons/ 945 to 2,840 L\",\"6\",IF(EF9=\" 750 to 1,000 gallons/ 2, 840 to 3,785 L\",\"8\",IF(EF9=\"More than 1,000 gallons/ More than 3,785 L\",\"10\",\"\"))))))","v":""},null,{"$f":"IF(EH9=\"Less than 25 gallons/ less than 95 L\",\"1\",IF(EH9=\"25 to 75 gallons/ 95 to 285 L\",\"2\",IF(EH9=\"75 to 250 gallons/ 285 to 945 L\",\"4\",IF(EH9=\"250 to 750 gallons/ 945 to 2,840 L\",\"6\",IF(EH9=\" 750 to 1,000 gallons/ 2, 840 to 3,785 L\",\"8\",IF(EH9=\"More than 1,000 gallons/ More than 3,785 L\",\"10\",\"\"))))))","v":""},null,{"$f":"IF(EJ9=\"Less than 25 gallons/ less than 95 L\",\"1\",IF(EJ9=\"25 to 75 gallons/ 95 to 285 L\",\"2\",IF(EJ9=\"75 to 250 gallons/ 285 to 945 L\",\"4\",IF(EJ9=\"250 to 750 gallons/ 945 to 2,840 L\",\"6\",IF(EJ9=\" 750 to 1,000 gallons/ 2, 840 to 3,785 L\",\"8\",IF(EJ9=\"More than 1,000 gallons/ More than 3,785 L\",\"10\",\"\"))))))","v":""},null,{"$f":"IF(EL9=\"Less than 25 gallons/ less than 95 L\",\"1\",IF(EL9=\"25 to 75 gallons/ 95 to 285 L\",\"2\",IF(EL9=\"75 to 250 gallons/ 285 to 945 L\",\"4\",IF(EL9=\"250 to 750 gallons/ 945 to 2,840 L\",\"6\",IF(EL9=\" 750 to 1,000 gallons/ 2, 840 to 3,785 L\",\"8\",IF(EL9=\"More than 1,000 gallons/ More than 3,785 L\",\"10\",\"\"))))))","v":""},null,{"$f":"IF(EN9=\"Less than 25 gallons/ less than 95 L\",\"1\",IF(EN9=\"25 to 75 gallons/ 95 to 285 L\",\"2\",IF(EN9=\"75 to 250 gallons/ 285 to 945 L\",\"4\",IF(EN9=\"250 to 750 gallons/ 945 to 2,840 L\",\"6\",IF(EN9=\" 750 to 1,000 gallons/ 2, 840 to 3,785 L\",\"8\",IF(EN9=\"More than 1,000 gallons/ More than 3,785 L\",\"10\",\"\"))))))","v":""},null,{"$f":"IF(EP9=\"Less than 25 gallons/ less than 95 L\",\"1\",IF(EP9=\"25 to 75 gallons/ 95 to 285 L\",\"2\",IF(EP9=\"75 to 250 gallons/ 285 to 945 L\",\"4\",IF(EP9=\"250 to 750 gallons/ 945 to 2,840 L\",\"6\",IF(EP9=\" 750 to 1,000 gallons/ 2, 840 to 3,785 L\",\"8\",IF(EP9=\"More than 1,000 gallons/ More than 3,785 L\",\"10\",\"\"))))))","v":""},null,{"$f":"IF(ER9=\"Less than 25 gallons/ less than 95 L\",\"1\",IF(ER9=\"25 to 75 gallons/ 95 to 285 L\",\"2\",IF(ER9=\"75 to 250 gallons/ 285 to 945 L\",\"4\",IF(ER9=\"250 to 750 gallons/ 945 to 2,840 L\",\"6\",IF(ER9=\" 750 to 1,000 gallons/ 2, 840 to 3,785 L\",\"8\",IF(ER9=\"More than 1,000 gallons/ More than 3,785 L\",\"10\",\"\"))))))","v":""},null,{"$f":"IF(ET9=\"Less than 25 gallons/ less than 95 L\",\"1\",IF(ET9=\"25 to 75 gallons/ 95 to 285 L\",\"2\",IF(ET9=\"75 to 250 gallons/ 285 to 945 L\",\"4\",IF(ET9=\"250 to 750 gallons/ 945 to 2,840 L\",\"6\",IF(ET9=\" 750 to 1,000 gallons/ 2, 840 to 3,785 L\",\"8\",IF(ET9=\"More than 1,000 gallons/ More than 3,785 L\",\"10\",\"\"))))))","v":""},null,{"$f":"IF(EV9=\"Less than 25 gallons/ less than 95 L\",\"1\",IF(EV9=\"25 to 75 gallons/ 95 to 285 L\",\"2\",IF(EV9=\"75 to 250 gallons/ 285 to 945 L\",\"4\",IF(EV9=\"250 to 750 gallons/ 945 to 2,840 L\",\"6\",IF(EV9=\" 750 to 1,000 gallons/ 2, 840 to 3,785 L\",\"8\",IF(EV9=\"More than 1,000 gallons/ More than 3,785 L\",\"10\",\"\"))))))","v":""},null,{"$f":"IF(EX9=\"Less than 25 gallons/ less than 95 L\",\"1\",IF(EX9=\"25 to 75 gallons/ 95 to 285 L\",\"2\",IF(EX9=\"75 to 250 gallons/ 285 to 945 L\",\"4\",IF(EX9=\"250 to 750 gallons/ 945 to 2,840 L\",\"6\",IF(EX9=\" 750 to 1,000 gallons/ 2, 840 to 3,785 L\",\"8\",IF(EX9=\"More than 1,000 gallons/ More than 3,785 L\",\"10\",\"\"))))))","v":""},null,{"$f":"IF(EZ9=\"Less than 25 gallons/ less than 95 L\",\"1\",IF(EZ9=\"25 to 75 gallons/ 95 to 285 L\",\"2\",IF(EZ9=\"75 to 250 gallons/ 285 to 945 L\",\"4\",IF(EZ9=\"250 to 750 gallons/ 945 to 2,840 L\",\"6\",IF(EZ9=\" 750 to 1,000 gallons/ 2, 840 to 3,785 L\",\"8\",IF(EZ9=\"More than 1,000 gallons/ More than 3,785 L\",\"10\",\"\"))))))","v":""},null,{"$f":"IF(FB9=\"Less than 25 gallons/ less than 95 L\",\"1\",IF(FB9=\"25 to 75 gallons/ 95 to 285 L\",\"2\",IF(FB9=\"75 to 250 gallons/ 285 to 945 L\",\"4\",IF(FB9=\"250 to 750 gallons/ 945 to 2,840 L\",\"6\",IF(FB9=\" 750 to 1,000 gallons/ 2, 840 to 3,785 L\",\"8\",IF(FB9=\"More than 1,000 gallons/ More than 3,785 L\",\"10\",\"\"))))))","v":""},null,{"$f":"IF(FD9=\"Less than 25 gallons/ less than 95 L\",\"1\",IF(FD9=\"25 to 75 gallons/ 95 to 285 L\",\"2\",IF(FD9=\"75 to 250 gallons/ 285 to 945 L\",\"4\",IF(FD9=\"250 to 750 gallons/ 945 to 2,840 L\",\"6\",IF(FD9=\" 750 to 1,000 gallons/ 2, 840 to 3,785 L\",\"8\",IF(FD9=\"More than 1,000 gallons/ More than 3,785 L\",\"10\",\"\"))))))","v":""}]
[null,null,"What is the containment of the storage vessel?",null,{"$f":"IF(D10=\"Double\",\"1\",IF(D10=\"Single\",\"5\",\"\"))","v":""},null,{"$f":"IF(F10=\"Double\",\"1\",IF(F10=\"Single\",\"5\",\"\"))","v":""},null,{"$f":"IF(H10=\"Double\",\"1\",IF(H10=\"Single\",\"5\",\"\"))","v":""},null,{"$f":"IF(J10=\"Double\",\"1\",IF(J10=\"Single\",\"5\",\"\"))","v":""},null,{"$f":"IF(L10=\"Double\",\"1\",IF(L10=\"Single\",\"5\",\"\"))","v":""},null,{"$f":"IF(N10=\"Double\",\"1\",IF(N10=\"Single\",\"5\",\"\"))","v":""},null,{"$f":"IF(P10=\"Double\",\"1\",IF(P10=\"Single\",\"5\",\"\"))","v":""},null,{"$f":"IF(R10=\"Double\",\"1\",IF(R10=\"Single\",\"5\",\"\"))","v":""},null,{"$f":"IF(T10=\"Double\",\"1\",IF(T10=\"Single\",\"5\",\"\"))","v":""},null,{"$f":"IF(V10=\"Double\",\"1\",IF(V10=\"Single\",\"5\",\"\"))","v":""},null,{"$f":"IF(X10=\"Double\",\"1\",IF(X10=\"Single\",\"5\",\"\"))","v":""},null,{"$f":"IF(Z10=\"Double\",\"1\",IF(Z10=\"Single\",\"5\",\"\"))","v":""},null,{"$f":"IF(AB10=\"Double\",\"1\",IF(AB10=\"Single\",\"5\",\"\"))","v":""},null,{"$f":"IF(AD10=\"Double\",\"1\",IF(AD10=\"Single\",\"5\",\"\"))","v":""},null,{"$f":"IF(AF10=\"Double\",\"1\",IF(AF10=\"Single\",\"5\",\"\"))","v":""},null,{"$f":"IF(AH10=\"Double\",\"1\",IF(AH10=\"Single\",\"5\",\"\"))","v":""},null,{"$f":"IF(AJ10=\"Double\",\"1\",IF(AJ10=\"Single\",\"5\",\"\"))","v":""},null,{"$f":"IF(AL10=\"Double\",\"1\",IF(AL10=\"Single\",\"5\",\"\"))","v":""},null,{"$f":"IF(AN10=\"Double\",\"1\",IF(AN10=\"Single\",\"5\",\"\"))","v":""},null,{"$f":"IF(AP10=\"Double\",\"1\",IF(AP10=\"Single\",\"5\",\"\"))","v":""},null,{"$f":"IF(AR10=\"Double\",\"1\",IF(AR10=\"Single\",\"5\",\"\"))","v":""},null,{"$f":"IF(AT10=\"Double\",\"1\",IF(AT10=\"Single\",\"5\",\"\"))","v":""},null,{"$f":"IF(AV10=\"Double\",\"1\",IF(AV10=\"Single\",\"5\",\"\"))","v":""},null,{"$f":"IF(AX10=\"Double\",\"1\",IF(AX10=\"Single\",\"5\",\"\"))","v":""},null,{"$f":"IF(AZ10=\"Double\",\"1\",IF(AZ10=\"Single\",\"5\",\"\"))","v":""},null,{"$f":"IF(BB10=\"Double\",\"1\",IF(BB10=\"Single\",\"5\",\"\"))","v":""},null,{"$f":"IF(BD10=\"Double\",\"1\",IF(BD10=\"Single\",\"5\",\"\"))","v":""},null,{"$f":"IF(BF10=\"Double\",\"1\",IF(BF10=\"Single\",\"5\",\"\"))","v":""},null,{"$f":"IF(BH10=\"Double\",\"1\",IF(BH10=\"Single\",\"5\",\"\"))","v":""},null,{"$f":"IF(BJ10=\"Double\",\"1\",IF(BJ10=\"Single\",\"5\",\"\"))","v":""},null,{"$f":"IF(BL10=\"Double\",\"1\",IF(BL10=\"Single\",\"5\",\"\"))","v":""},null,{"$f":"IF(BN10=\"Double\",\"1\",IF(BN10=\"Single\",\"5\",\"\"))","v":""},null,{"$f":"IF(BP10=\"Double\",\"1\",IF(BP10=\"Single\",\"5\",\"\"))","v":""},null,{"$f":"IF(BR10=\"Double\",\"1\",IF(BR10=\"Single\",\"5\",\"\"))","v":""},null,{"$f":"IF(BT10=\"Double\",\"1\",IF(BT10=\"Single\",\"5\",\"\"))","v":""},null,{"$f":"IF(BV10=\"Double\",\"1\",IF(BV10=\"Single\",\"5\",\"\"))","v":""},null,{"$f":"IF(BX10=\"Double\",\"1\",IF(BX10=\"Single\",\"5\",\"\"))","v":""},null,{"$f":"IF(BZ10=\"Double\",\"1\",IF(BZ10=\"Single\",\"5\",\"\"))","v":""},null,{"$f":"IF(CB10=\"Double\",\"1\",IF(CB10=\"Single\",\"5\",\"\"))","v":""},null,{"$f":"IF(CD10=\"Double\",\"1\",IF(CD10=\"Single\",\"5\",\"\"))","v":""},null,{"$f":"IF(CF10=\"Double\",\"1\",IF(CF10=\"Single\",\"5\",\"\"))","v":""},null,{"$f":"IF(CH10=\"Double\",\"1\",IF(CH10=\"Single\",\"5\",\"\"))","v":""},null,{"$f":"IF(CJ10=\"Double\",\"1\",IF(CJ10=\"Single\",\"5\",\"\"))","v":""},null,{"$f":"IF(CL10=\"Double\",\"1\",IF(CL10=\"Single\",\"5\",\"\"))","v":""},null,{"$f":"IF(CN10=\"Double\",\"1\",IF(CN10=\"Single\",\"5\",\"\"))","v":""},null,{"$f":"IF(CP10=\"Double\",\"1\",IF(CP10=\"Single\",\"5\",\"\"))","v":""},null,{"$f":"IF(CR10=\"Double\",\"1\",IF(CR10=\"Single\",\"5\",\"\"))","v":""},null,{"$f":"IF(CT10=\"Double\",\"1\",IF(CT10=\"Single\",\"5\",\"\"))","v":""},null,{"$f":"IF(CV10=\"Double\",\"1\",IF(CV10=\"Single\",\"5\",\"\"))","v":""},null,{"$f":"IF(CX10=\"Double\",\"1\",IF(CX10=\"Single\",\"5\",\"\"))","v":""},null,{"$f":"IF(CZ10=\"Double\",\"1\",IF(CZ10=\"Single\",\"5\",\"\"))","v":""},null,{"$f":"IF(DB10=\"Double\",\"1\",IF(DB10=\"Single\",\"5\",\"\"))","v":""},null,{"$f":"IF(DD10=\"Double\",\"1\",IF(DD10=\"Single\",\"5\",\"\"))","v":""},null,{"$f":"IF(DF10=\"Double\",\"1\",IF(DF10=\"Single\",\"5\",\"\"))","v":""},null,{"$f":"IF(DH10=\"Double\",\"1\",IF(DH10=\"Single\",\"5\",\"\"))","v":""},null,{"$f":"IF(DJ10=\"Double\",\"1\",IF(DJ10=\"Single\",\"5\",\"\"))","v":""},null,{"$f":"IF(DL10=\"Double\",\"1\",IF(DL10=\"Single\",\"5\",\"\"))","v":""},null,{"$f":"IF(DN10=\"Double\",\"1\",IF(DN10=\"Single\",\"5\",\"\"))","v":""},null,{"$f":"IF(DP10=\"Double\",\"1\",IF(DP10=\"Single\",\"5\",\"\"))","v":""},null,{"$f":"IF(DR10=\"Double\",\"1\",IF(DR10=\"Single\",\"5\",\"\"))","v":""},null,{"$f":"IF(DT10=\"Double\",\"1\",IF(DT10=\"Single\",\"5\",\"\"))","v":""},null,{"$f":"IF(DV10=\"Double\",\"1\",IF(DV10=\"Single\",\"5\",\"\"))","v":""},null,{"$f":"IF(DX10=\"Double\",\"1\",IF(DX10=\"Single\",\"5\",\"\"))","v":""},null,{"$f":"IF(DZ10=\"Double\",\"1\",IF(DZ10=\"Single\",\"5\",\"\"))","v":""},null,{"$f":"IF(EB10=\"Double\",\"1\",IF(EB10=\"Single\",\"5\",\"\"))","v":""},null,{"$f":"IF(ED10=\"Double\",\"1\",IF(ED10=\"Single\",\"5\",\"\"))","v":""},null,{"$f":"IF(EF10=\"Double\",\"1\",IF(EF10=\"Single\",\"5\",\"\"))","v":""},null,{"$f":"IF(EH10=\"Double\",\"1\",IF(EH10=\"Single\",\"5\",\"\"))","v":""},null,{"$f":"IF(EJ10=\"Double\",\"1\",IF(EJ10=\"Single\",\"5\",\"\"))","v":""},null,{"$f":"IF(EL10=\"Double\",\"1\",IF(EL10=\"Single\",\"5\",\"\"))","v":""},null,{"$f":"IF(EN10=\"Double\",\"1\",IF(EN10=\"Single\",\"5\",\"\"))","v":""},null,{"$f":"IF(EP10=\"Double\",\"1\",IF(EP10=\"Single\",\"5\",\"\"))","v":""},null,{"$f":"IF(ER10=\"Double\",\"1\",IF(ER10=\"Single\",\"5\",\"\"))","v":""},null,{"$f":"IF(ET10=\"Double\",\"1\",IF(ET10=\"Single\",\"5\",\"\"))","v":""},null,{"$f":"IF(EV10=\"Double\",\"1\",IF(EV10=\"Single\",\"5\",\"\"))","v":""},null,{"$f":"IF(EX10=\"Double\",\"1\",IF(EX10=\"Single\",\"5\",\"\"))","v":""},null,{"$f":"IF(EZ10=\"Double\",\"1\",IF(EZ10=\"Single\",\"5\",\"\"))","v":""},null,{"$f":"IF(FB10=\"Double\",\"1\",IF(FB10=\"Single\",\"5\",\"\"))","v":""},null,{"$f":"IF(FD10=\"Double\",\"1\",IF(FD10=\"Single\",\"5\",\"\"))","v":""}]
[null,null," Describe the type and condition of the floor where AFFF is stored.",null,{"$f":"IF(D11= \"Paved\", \"1\", IF(D11=\"Slightly cracked pavement\", \"2\", IF(D11=\"Moderately cracked pavement\", \"3\",IF(D11=\"Heavily cracked/broken pavement\", \"4\", IF(D11=\"Earthen\", \"5\", \"\")))))","v":""},null,{"$f":"IF(F11= \"Paved\", \"1\", IF(F11=\"Slightly cracked pavement\", \"2\", IF(F11=\"Moderately cracked pavement\", \"3\",IF(F11=\"Heavily cracked/broken pavement\", \"4\", IF(F11=\"Earthen\", \"5\", \"\")))))","v":""},null,{"$f":"IF(H11= \"Paved\", \"1\", IF(H11=\"Slightly cracked pavement\", \"2\", IF(H11=\"Moderately cracked pavement\", \"3\",IF(H11=\"Heavily cracked/broken pavement\", \"4\", IF(H11=\"Earthen\", \"5\", \"\")))))","v":""},null,{"$f":"IF(J11= \"Paved\", \"1\", IF(J11=\"Slightly cracked pavement\", \"2\", IF(J11=\"Moderately cracked pavement\", \"3\",IF(J11=\"Heavily cracked/broken pavement\", \"4\", IF(J11=\"Earthen\", \"5\", \"\")))))","v":""},null,{"$f":"IF(L11= \"Paved\", \"1\", IF(L11=\"Slightly cracked pavement\", \"2\", IF(L11=\"Moderately cracked pavement\", \"3\",IF(L11=\"Heavily cracked/broken pavement\", \"4\", IF(L11=\"Earthen\", \"5\", \"\")))))","v":""},null,{"$f":"IF(N11= \"Paved\", \"1\", IF(N11=\"Slightly cracked pavement\", \"2\", IF(N11=\"Moderately cracked pavement\", \"3\",IF(N11=\"Heavily cracked/broken pavement\", \"4\", IF(N11=\"Earthen\", \"5\", \"\")))))","v":""},null,{"$f":"IF(P11= \"Paved\", \"1\", IF(P11=\"Slightly cracked pavement\", \"2\", IF(P11=\"Moderately cracked pavement\", \"3\",IF(P11=\"Heavily cracked/broken pavement\", \"4\", IF(P11=\"Earthen\", \"5\", \"\")))))","v":""},null,{"$f":"IF(R11= \"Paved\", \"1\", IF(R11=\"Slightly cracked pavement\", \"2\", IF(R11=\"Moderately cracked pavement\", \"3\",IF(R11=\"Heavily cracked/broken pavement\", \"4\", IF(R11=\"Earthen\", \"5\", \"\")))))","v":""},null,{"$f":"IF(T11= \"Paved\", \"1\", IF(T11=\"Slightly cracked pavement\", \"2\", IF(T11=\"Moderately cracked pavement\", \"3\",IF(T11=\"Heavily cracked/broken pavement\", \"4\", IF(T11=\"Earthen\", \"5\", \"\")))))","v":""},null,{"$f":"IF(V11= \"Paved\", \"1\", IF(V11=\"Slightly cracked pavement\", \"2\", IF(V11=\"Moderately cracked pavement\", \"3\",IF(V11=\"Heavily cracked/broken pavement\", \"4\", IF(V11=\"Earthen\", \"5\", \"\")))))","v":""},null,{"$f":"IF(X11= \"Paved\", \"1\", IF(X11=\"Slightly cracked pavement\", \"2\", IF(X11=\"Moderately cracked pavement\", \"3\",IF(X11=\"Heavily cracked/broken pavement\", \"4\", IF(X11=\"Earthen\", \"5\", \"\")))))","v":""},null,{"$f":"IF(Z11= \"Paved\", \"1\", IF(Z11=\"Slightly cracked pavement\", \"2\", IF(Z11=\"Moderately cracked pavement\", \"3\",IF(Z11=\"Heavily cracked/broken pavement\", \"4\", IF(Z11=\"Earthen\", \"5\", \"\")))))","v":""},null,{"$f":"IF(AB11= \"Paved\", \"1\", IF(AB11=\"Slightly cracked pavement\", \"2\", IF(AB11=\"Moderately cracked pavement\", \"3\",IF(AB11=\"Heavily cracked/broken pavement\", \"4\", IF(AB11=\"Earthen\", \"5\", \"\")))))","v":""},null,{"$f":"IF(AD11= \"Paved\", \"1\", IF(AD11=\"Slightly cracked pavement\", \"2\", IF(AD11=\"Moderately cracked pavement\", \"3\",IF(AD11=\"Heavily cracked/broken pavement\", \"4\", IF(AD11=\"Earthen\", \"5\", \"\")))))","v":""},null,{"$f":"IF(AF11= \"Paved\", \"1\", IF(AF11=\"Slightly cracked pavement\", \"2\", IF(AF11=\"Moderately cracked pavement\", \"3\",IF(AF11=\"Heavily cracked/broken pavement\", \"4\", IF(AF11=\"Earthen\", \"5\", \"\")))))","v":""},null,{"$f":"IF(AH11= \"Paved\", \"1\", IF(AH11=\"Slightly cracked pavement\", \"2\", IF(AH11=\"Moderately cracked pavement\", \"3\",IF(AH11=\"Heavily cracked/broken pavement\", \"4\", IF(AH11=\"Earthen\", \"5\", \"\")))))","v":""},null,{"$f":"IF(AJ11= \"Paved\", \"1\", IF(AJ11=\"Slightly cracked pavement\", \"2\", IF(AJ11=\"Moderately cracked pavement\", \"3\",IF(AJ11=\"Heavily cracked/broken pavement\", \"4\", IF(AJ11=\"Earthen\", \"5\", \"\")))))","v":""},null,{"$f":"IF(AL11= \"Paved\", \"1\", IF(AL11=\"Slightly cracked pavement\", \"2\", IF(AL11=\"Moderately cracked pavement\", \"3\",IF(AL11=\"Heavily cracked/broken pavement\", \"4\", IF(AL11=\"Earthen\", \"5\", \"\")))))","v":""},null,{"$f":"IF(AN11= \"Paved\", \"1\", IF(AN11=\"Slightly cracked pavement\", \"2\", IF(AN11=\"Moderately cracked pavement\", \"3\",IF(AN11=\"Heavily cracked/broken pavement\", \"4\", IF(AN11=\"Earthen\", \"5\", \"\")))))","v":""},null,{"$f":"IF(AP11= \"Paved\", \"1\", IF(AP11=\"Slightly cracked pavement\", \"2\", IF(AP11=\"Moderately cracked pavement\", \"3\",IF(AP11=\"Heavily cracked/broken pavement\", \"4\", IF(AP11=\"Earthen\", \"5\", \"\")))))","v":""},null,{"$f":"IF(AR11= \"Paved\", \"1\", IF(AR11=\"Slightly cracked pavement\", \"2\", IF(AR11=\"Moderately cracked pavement\", \"3\",IF(AR11=\"Heavily cracked/broken pavement\", \"4\", IF(AR11=\"Earthen\", \"5\", \"\")))))","v":""},null,{"$f":"IF(AT11= \"Paved\", \"1\", IF(AT11=\"Slightly cracked pavement\", \"2\", IF(AT11=\"Moderately cracked pavement\", \"3\",IF(AT11=\"Heavily cracked/broken pavement\", \"4\", IF(AT11=\"Earthen\", \"5\", \"\")))))","v":""},null,{"$f":"IF(AV11= \"Paved\", \"1\", IF(AV11=\"Slightly cracked pavement\", \"2\", IF(AV11=\"Moderately cracked pavement\", \"3\",IF(AV11=\"Heavily cracked/broken pavement\", \"4\", IF(AV11=\"Earthen\", \"5\", \"\")))))","v":""},null,{"$f":"IF(AX11= \"Paved\", \"1\", IF(AX11=\"Slightly cracked pavement\", \"2\", IF(AX11=\"Moderately cracked pavement\", \"3\",IF(AX11=\"Heavily cracked/broken pavement\", \"4\", IF(AX11=\"Earthen\", \"5\", \"\")))))","v":""},null,{"$f":"IF(AZ11= \"Paved\", \"1\", IF(AZ11=\"Slightly cracked pavement\", \"2\", IF(AZ11=\"Moderately cracked pavement\", \"3\",IF(AZ11=\"Heavily cracked/broken pavement\", \"4\", IF(AZ11=\"Earthen\", \"5\", \"\")))))","v":""},null,{"$f":"IF(BB11= \"Paved\", \"1\", IF(BB11=\"Slightly cracked pavement\", \"2\", IF(BB11=\"Moderately cracked pavement\", \"3\",IF(BB11=\"Heavily cracked/broken pavement\", \"4\", IF(BB11=\"Earthen\", \"5\", \"\")))))","v":""},null,{"$f":"IF(BD11= \"Paved\", \"1\", IF(BD11=\"Slightly cracked pavement\", \"2\", IF(BD11=\"Moderately cracked pavement\", \"3\",IF(BD11=\"Heavily cracked/broken pavement\", \"4\", IF(BD11=\"Earthen\", \"5\", \"\")))))","v":""},null,{"$f":"IF(BF11= \"Paved\", \"1\", IF(BF11=\"Slightly cracked pavement\", \"2\", IF(BF11=\"Moderately cracked pavement\", \"3\",IF(BF11=\"Heavily cracked/broken pavement\", \"4\", IF(BF11=\"Earthen\", \"5\", \"\")))))","v":""},null,{"$f":"IF(BH11= \"Paved\", \"1\", IF(BH11=\"Slightly cracked pavement\", \"2\", IF(BH11=\"Moderately cracked pavement\", \"3\",IF(BH11=\"Heavily cracked/broken pavement\", \"4\", IF(BH11=\"Earthen\", \"5\", \"\")))))","v":""},null,{"$f":"IF(BJ11= \"Paved\", \"1\", IF(BJ11=\"Slightly cracked pavement\", \"2\", IF(BJ11=\"Moderately cracked pavement\", \"3\",IF(BJ11=\"Heavily cracked/broken pavement\", \"4\", IF(BJ11=\"Earthen\", \"5\", \"\")))))","v":""},null,{"$f":"IF(BL11= \"Paved\", \"1\", IF(BL11=\"Slightly cracked pavement\", \"2\", IF(BL11=\"Moderately cracked pavement\", \"3\",IF(BL11=\"Heavily cracked/broken pavement\", \"4\", IF(BL11=\"Earthen\", \"5\", \"\")))))","v":""},null,{"$f":"IF(BN11= \"Paved\", \"1\", IF(BN11=\"Slightly cracked pavement\", \"2\", IF(BN11=\"Moderately cracked pavement\", \"3\",IF(BN11=\"Heavily cracked/broken pavement\", \"4\", IF(BN11=\"Earthen\", \"5\", \"\")))))","v":""},null,{"$f":"IF(BP11= \"Paved\", \"1\", IF(BP11=\"Slightly cracked pavement\", \"2\", IF(BP11=\"Moderately cracked pavement\", \"3\",IF(BP11=\"Heavily cracked/broken pavement\", \"4\", IF(BP11=\"Earthen\", \"5\", \"\")))))","v":""},null,{"$f":"IF(BR11= \"Paved\", \"1\", IF(BR11=\"Slightly cracked pavement\", \"2\", IF(BR11=\"Moderately cracked pavement\", \"3\",IF(BR11=\"Heavily cracked/broken pavement\", \"4\", IF(BR11=\"Earthen\", \"5\", \"\")))))","v":""},null,{"$f":"IF(BT11= \"Paved\", \"1\", IF(BT11=\"Slightly cracked pavement\", \"2\", IF(BT11=\"Moderately cracked pavement\", \"3\",IF(BT11=\"Heavily cracked/broken pavement\", \"4\", IF(BT11=\"Earthen\", \"5\", \"\")))))","v":""},null,{"$f":"IF(BV11= \"Paved\", \"1\", IF(BV11=\"Slightly cracked pavement\", \"2\", IF(BV11=\"Moderately cracked pavement\", \"3\",IF(BV11=\"Heavily cracked/broken pavement\", \"4\", IF(BV11=\"Earthen\", \"5\", \"\")))))","v":""},null,{"$f":"IF(BX11= \"Paved\", \"1\", IF(BX11=\"Slightly cracked pavement\", \"2\", IF(BX11=\"Moderately cracked pavement\", \"3\",IF(BX11=\"Heavily cracked/broken pavement\", \"4\", IF(BX11=\"Earthen\", \"5\", \"\")))))","v":""},null,{"$f":"IF(BZ11= \"Paved\", \"1\", IF(BZ11=\"Slightly cracked pavement\", \"2\", IF(BZ11=\"Moderately cracked pavement\", \"3\",IF(BZ11=\"Heavily cracked/broken pavement\", \"4\", IF(BZ11=\"Earthen\", \"5\", \"\")))))","v":""},null,{"$f":"IF(CB11= \"Paved\", \"1\", IF(CB11=\"Slightly cracked pavement\", \"2\", IF(CB11=\"Moderately cracked pavement\", \"3\",IF(CB11=\"Heavily cracked/broken pavement\", \"4\", IF(CB11=\"Earthen\", \"5\", \"\")))))","v":""},null,{"$f":"IF(CD11= \"Paved\", \"1\", IF(CD11=\"Slightly cracked pavement\", \"2\", IF(CD11=\"Moderately cracked pavement\", \"3\",IF(CD11=\"Heavily cracked/broken pavement\", \"4\", IF(CD11=\"Earthen\", \"5\", \"\")))))","v":""},null,{"$f":"IF(CF11= \"Paved\", \"1\", IF(CF11=\"Slightly cracked pavement\", \"2\", IF(CF11=\"Moderately cracked pavement\", \"3\",IF(CF11=\"Heavily cracked/broken pavement\", \"4\", IF(CF11=\"Earthen\", \"5\", \"\")))))","v":""},null,{"$f":"IF(CH11= \"Paved\", \"1\", IF(CH11=\"Slightly cracked pavement\", \"2\", IF(CH11=\"Moderately cracked pavement\", \"3\",IF(CH11=\"Heavily cracked/broken pavement\", \"4\", IF(CH11=\"Earthen\", \"5\", \"\")))))","v":""},null,{"$f":"IF(CJ11= \"Paved\", \"1\", IF(CJ11=\"Slightly cracked pavement\", \"2\", IF(CJ11=\"Moderately cracked pavement\", \"3\",IF(CJ11=\"Heavily cracked/broken pavement\", \"4\", IF(CJ11=\"Earthen\", \"5\", \"\")))))","v":""},null,{"$f":"IF(CL11= \"Paved\", \"1\", IF(CL11=\"Slightly cracked pavement\", \"2\", IF(CL11=\"Moderately cracked pavement\", \"3\",IF(CL11=\"Heavily cracked/broken pavement\", \"4\", IF(CL11=\"Earthen\", \"5\", \"\")))))","v":""},null,{"$f":"IF(CN11= \"Paved\", \"1\", IF(CN11=\"Slightly cracked pavement\", \"2\", IF(CN11=\"Moderately cracked pavement\", \"3\",IF(CN11=\"Heavily cracked/broken pavement\", \"4\", IF(CN11=\"Earthen\", \"5\", \"\")))))","v":""},null,{"$f":"IF(CP11= \"Paved\", \"1\", IF(CP11=\"Slightly cracked pavement\", \"2\", IF(CP11=\"Moderately cracked pavement\", \"3\",IF(CP11=\"Heavily cracked/broken pavement\", \"4\", IF(CP11=\"Earthen\", \"5\", \"\")))))","v":""},null,{"$f":"IF(CR11= \"Paved\", \"1\", IF(CR11=\"Slightly cracked pavement\", \"2\", IF(CR11=\"Moderately cracked pavement\", \"3\",IF(CR11=\"Heavily cracked/broken pavement\", \"4\", IF(CR11=\"Earthen\", \"5\", \"\")))))","v":""},null,{"$f":"IF(CT11= \"Paved\", \"1\", IF(CT11=\"Slightly cracked pavement\", \"2\", IF(CT11=\"Moderately cracked pavement\", \"3\",IF(CT11=\"Heavily cracked/broken pavement\", \"4\", IF(CT11=\"Earthen\", \"5\", \"\")))))","v":""},null,{"$f":"IF(CV11= \"Paved\", \"1\", IF(CV11=\"Slightly cracked pavement\", \"2\", IF(CV11=\"Moderately cracked pavement\", \"3\",IF(CV11=\"Heavily cracked/broken pavement\", \"4\", IF(CV11=\"Earthen\", \"5\", \"\")))))","v":""},null,{"$f":"IF(CX11= \"Paved\", \"1\", IF(CX11=\"Slightly cracked pavement\", \"2\", IF(CX11=\"Moderately cracked pavement\", \"3\",IF(CX11=\"Heavily cracked/broken pavement\", \"4\", IF(CX11=\"Earthen\", \"5\", \"\")))))","v":""},null,{"$f":"IF(CZ11= \"Paved\", \"1\", IF(CZ11=\"Slightly cracked pavement\", \"2\", IF(CZ11=\"Moderately cracked pavement\", \"3\",IF(CZ11=\"Heavily cracked/broken pavement\", \"4\", IF(CZ11=\"Earthen\", \"5\", \"\")))))","v":""},null,{"$f":"IF(DB11= \"Paved\", \"1\", IF(DB11=\"Slightly cracked pavement\", \"2\", IF(DB11=\"Moderately cracked pavement\", \"3\",IF(DB11=\"Heavily cracked/broken pavement\", \"4\", IF(DB11=\"Earthen\", \"5\", \"\")))))","v":""},null,{"$f":"IF(DD11= \"Paved\", \"1\", IF(DD11=\"Slightly cracked pavement\", \"2\", IF(DD11=\"Moderately cracked pavement\", \"3\",IF(DD11=\"Heavily cracked/broken pavement\", \"4\", IF(DD11=\"Earthen\", \"5\", \"\")))))","v":""},null,{"$f":"IF(DF11= \"Paved\", \"1\", IF(DF11=\"Slightly cracked pavement\", \"2\", IF(DF11=\"Moderately cracked pavement\", \"3\",IF(DF11=\"Heavily cracked/broken pavement\", \"4\", IF(DF11=\"Earthen\", \"5\", \"\")))))","v":""},null,{"$f":"IF(DH11= \"Paved\", \"1\", IF(DH11=\"Slightly cracked pavement\", \"2\", IF(DH11=\"Moderately cracked pavement\", \"3\",IF(DH11=\"Heavily cracked/broken pavement\", \"4\", IF(DH11=\"Earthen\", \"5\", \"\")))))","v":""},null,{"$f":"IF(DJ11= \"Paved\", \"1\", IF(DJ11=\"Slightly cracked pavement\", \"2\", IF(DJ11=\"Moderately cracked pavement\", \"3\",IF(DJ11=\"Heavily cracked/broken pavement\", \"4\", IF(DJ11=\"Earthen\", \"5\", \"\")))))","v":""},null,{"$f":"IF(DL11= \"Paved\", \"1\", IF(DL11=\"Slightly cracked pavement\", \"2\", IF(DL11=\"Moderately cracked pavement\", \"3\",IF(DL11=\"Heavily cracked/broken pavement\", \"4\", IF(DL11=\"Earthen\", \"5\", \"\")))))","v":""},null,{"$f":"IF(DN11= \"Paved\", \"1\", IF(DN11=\"Slightly cracked pavement\", \"2\", IF(DN11=\"Moderately cracked pavement\", \"3\",IF(DN11=\"Heavily cracked/broken pavement\", \"4\", IF(DN11=\"Earthen\", \"5\", \"\")))))","v":""},null,{"$f":"IF(DP11= \"Paved\", \"1\", IF(DP11=\"Slightly cracked pavement\", \"2\", IF(DP11=\"Moderately cracked pavement\", \"3\",IF(DP11=\"Heavily cracked/broken pavement\", \"4\", IF(DP11=\"Earthen\", \"5\", \"\")))))","v":""},null,{"$f":"IF(DR11= \"Paved\", \"1\", IF(DR11=\"Slightly cracked pavement\", \"2\", IF(DR11=\"Moderately cracked pavement\", \"3\",IF(DR11=\"Heavily cracked/broken pavement\", \"4\", IF(DR11=\"Earthen\", \"5\", \"\")))))","v":""},null,{"$f":"IF(DT11= \"Paved\", \"1\", IF(DT11=\"Slightly cracked pavement\", \"2\", IF(DT11=\"Moderately cracked pavement\", \"3\",IF(DT11=\"Heavily cracked/broken pavement\", \"4\", IF(DT11=\"Earthen\", \"5\", \"\")))))","v":""},null,{"$f":"IF(DV11= \"Paved\", \"1\", IF(DV11=\"Slightly cracked pavement\", \"2\", IF(DV11=\"Moderately cracked pavement\", \"3\",IF(DV11=\"Heavily cracked/broken pavement\", \"4\", IF(DV11=\"Earthen\", \"5\", \"\")))))","v":""},null,{"$f":"IF(DX11= \"Paved\", \"1\", IF(DX11=\"Slightly cracked pavement\", \"2\", IF(DX11=\"Moderately cracked pavement\", \"3\",IF(DX11=\"Heavily cracked/broken pavement\", \"4\", IF(DX11=\"Earthen\", \"5\", \"\")))))","v":""},null,{"$f":"IF(DZ11= \"Paved\", \"1\", IF(DZ11=\"Slightly cracked pavement\", \"2\", IF(DZ11=\"Moderately cracked pavement\", \"3\",IF(DZ11=\"Heavily cracked/broken pavement\", \"4\", IF(DZ11=\"Earthen\", \"5\", \"\")))))","v":""},null,{"$f":"IF(EB11= \"Paved\", \"1\", IF(EB11=\"Slightly cracked pavement\", \"2\", IF(EB11=\"Moderately cracked pavement\", \"3\",IF(EB11=\"Heavily cracked/broken pavement\", \"4\", IF(EB11=\"Earthen\", \"5\", \"\")))))","v":""},null,{"$f":"IF(ED11= \"Paved\", \"1\", IF(ED11=\"Slightly cracked pavement\", \"2\", IF(ED11=\"Moderately cracked pavement\", \"3\",IF(ED11=\"Heavily cracked/broken pavement\", \"4\", IF(ED11=\"Earthen\", \"5\", \"\")))))","v":""},null,{"$f":"IF(EF11= \"Paved\", \"1\", IF(EF11=\"Slightly cracked pavement\", \"2\", IF(EF11=\"Moderately cracked pavement\", \"3\",IF(EF11=\"Heavily cracked/broken pavement\", \"4\", IF(EF11=\"Earthen\", \"5\", \"\")))))","v":""},null,{"$f":"IF(EH11= \"Paved\", \"1\", IF(EH11=\"Slightly cracked pavement\", \"2\", IF(EH11=\"Moderately cracked pavement\", \"3\",IF(EH11=\"Heavily cracked/broken pavement\", \"4\", IF(EH11=\"Earthen\", \"5\", \"\")))))","v":""},null,{"$f":"IF(EJ11= \"Paved\", \"1\", IF(EJ11=\"Slightly cracked pavement\", \"2\", IF(EJ11=\"Moderately cracked pavement\", \"3\",IF(EJ11=\"Heavily cracked/broken pavement\", \"4\", IF(EJ11=\"Earthen\", \"5\", \"\")))))","v":""},null,{"$f":"IF(EL11= \"Paved\", \"1\", IF(EL11=\"Slightly cracked pavement\", \"2\", IF(EL11=\"Moderately cracked pavement\", \"3\",IF(EL11=\"Heavily cracked/broken pavement\", \"4\", IF(EL11=\"Earthen\", \"5\", \"\")))))","v":""},null,{"$f":"IF(EN11= \"Paved\", \"1\", IF(EN11=\"Slightly cracked pavement\", \"2\", IF(EN11=\"Moderately cracked pavement\", \"3\",IF(EN11=\"Heavily cracked/broken pavement\", \"4\", IF(EN11=\"Earthen\", \"5\", \"\")))))","v":""},null,{"$f":"IF(EP11= \"Paved\", \"1\", IF(EP11=\"Slightly cracked pavement\", \"2\", IF(EP11=\"Moderately cracked pavement\", \"3\",IF(EP11=\"Heavily cracked/broken pavement\", \"4\", IF(EP11=\"Earthen\", \"5\", \"\")))))","v":""},null,{"$f":"IF(ER11= \"Paved\", \"1\", IF(ER11=\"Slightly cracked pavement\", \"2\", IF(ER11=\"Moderately cracked pavement\", \"3\",IF(ER11=\"Heavily cracked/broken pavement\", \"4\", IF(ER11=\"Earthen\", \"5\", \"\")))))","v":""},null,{"$f":"IF(ET11= \"Paved\", \"1\", IF(ET11=\"Slightly cracked pavement\", \"2\", IF(ET11=\"Moderately cracked pavement\", \"3\",IF(ET11=\"Heavily cracked/broken pavement\", \"4\", IF(ET11=\"Earthen\", \"5\", \"\")))))","v":""},null,{"$f":"IF(EV11= \"Paved\", \"1\", IF(EV11=\"Slightly cracked pavement\", \"2\", IF(EV11=\"Moderately cracked pavement\", \"3\",IF(EV11=\"Heavily cracked/broken pavement\", \"4\", IF(EV11=\"Earthen\", \"5\", \"\")))))","v":""},null,{"$f":"IF(EX11= \"Paved\", \"1\", IF(EX11=\"Slightly cracked pavement\", \"2\", IF(EX11=\"Moderately cracked pavement\", \"3\",IF(EX11=\"Heavily cracked/broken pavement\", \"4\", IF(EX11=\"Earthen\", \"5\", \"\")))))","v":""},null,{"$f":"IF(EZ11= \"Paved\", \"1\", IF(EZ11=\"Slightly cracked pavement\", \"2\", IF(EZ11=\"Moderately cracked pavement\", \"3\",IF(EZ11=\"Heavily cracked/broken pavement\", \"4\", IF(EZ11=\"Earthen\", \"5\", \"\")))))","v":""},null,{"$f":"IF(FB11= \"Paved\", \"1\", IF(FB11=\"Slightly cracked pavement\", \"2\", IF(FB11=\"Moderately cracked pavement\", \"3\",IF(FB11=\"Heavily cracked/broken pavement\", \"4\", IF(FB11=\"Earthen\", \"5\", \"\")))))","v":""},null,{"$f":"IF(FD11= \"Paved\", \"1\", IF(FD11=\"Slightly cracked pavement\", \"2\", IF(FD11=\"Moderately cracked pavement\", \"3\",IF(FD11=\"Heavily cracked/broken pavement\", \"4\", IF(FD11=\"Earthen\", \"5\", \"\")))))","v":""}]
[null,null,"Does the storage location have a history of leaking? (If you pick any of the answers with yes, please ensure that you have identified the location as being associated with a release to the environment on the Phase 1 APEC Summary page)",null,{"$f":"IF(D12=\"Yes, on a couple of occasions\", \"3\",IF(D12=\"Yes, substantial leaking has occurred\", \"4\",IF(D12=\"Yes, currently leaks\", \"5\", IF(D12=\"No, does not currently leak or have a history of leaking\", \"0\",\"\"))))","v":""},null,{"$f":"IF(F12=\"Yes, on a couple of occasions\", \"3\",IF(F12=\"Yes, substantial leaking has occurred\", \"4\",IF(F12=\"Yes, currently leaks\", \"5\", IF(F12=\"No, does not currently leak or have a history of leaking\", \"0\",\"\"))))","v":""},null,{"$f":"IF(H12=\"Yes, on a couple of occasions\", \"3\",IF(H12=\"Yes, substantial leaking has occurred\", \"4\",IF(H12=\"Yes, currently leaks\", \"5\", IF(H12=\"No, does not currently leak or have a history of leaking\", \"0\",\"\"))))","v":""},null,{"$f":"IF(J12=\"Yes, on a couple of occasions\", \"3\",IF(J12=\"Yes, substantial leaking has occurred\", \"4\",IF(J12=\"Yes, currently leaks\", \"5\", IF(J12=\"No, does not currently leak or have a history of leaking\", \"0\",\"\"))))","v":""},null,{"$f":"IF(L12=\"Yes, on a couple of occasions\", \"3\",IF(L12=\"Yes, substantial leaking has occurred\", \"4\",IF(L12=\"Yes, currently leaks\", \"5\", IF(L12=\"No, does not currently leak or have a history of leaking\", \"0\",\"\"))))","v":""},null,{"$f":"IF(N12=\"Yes, on a couple of occasions\", \"3\",IF(N12=\"Yes, substantial leaking has occurred\", \"4\",IF(N12=\"Yes, currently leaks\", \"5\", IF(N12=\"No, does not currently leak or have a history of leaking\", \"0\",\"\"))))","v":""},null,{"$f":"IF(P12=\"Yes, on a couple of occasions\", \"3\",IF(P12=\"Yes, substantial leaking has occurred\", \"4\",IF(P12=\"Yes, currently leaks\", \"5\", IF(P12=\"No, does not currently leak or have a history of leaking\", \"0\",\"\"))))","v":""},null,{"$f":"IF(R12=\"Yes, on a couple of occasions\", \"3\",IF(R12=\"Yes, substantial leaking has occurred\", \"4\",IF(R12=\"Yes, currently leaks\", \"5\", IF(R12=\"No, does not currently leak or have a history of leaking\", \"0\",\"\"))))","v":""},null,{"$f":"IF(T12=\"Yes, on a couple of occasions\", \"3\",IF(T12=\"Yes, substantial leaking has occurred\", \"4\",IF(T12=\"Yes, currently leaks\", \"5\", IF(T12=\"No, does not currently leak or have a history of leaking\", \"0\",\"\"))))","v":""},null,{"$f":"IF(V12=\"Yes, on a couple of occasions\", \"3\",IF(V12=\"Yes, substantial leaking has occurred\", \"4\",IF(V12=\"Yes, currently leaks\", \"5\", IF(V12=\"No, does not currently leak or have a history of leaking\", \"0\",\"\"))))","v":""},null,{"$f":"IF(X12=\"Yes, on a couple of occasions\", \"3\",IF(X12=\"Yes, substantial leaking has occurred\", \"4\",IF(X12=\"Yes, currently leaks\", \"5\", IF(X12=\"No, does not currently leak or have a history of leaking\", \"0\",\"\"))))","v":""},null,{"$f":"IF(Z12=\"Yes, on a couple of occasions\", \"3\",IF(Z12=\"Yes, substantial leaking has occurred\", \"4\",IF(Z12=\"Yes, currently leaks\", \"5\", IF(Z12=\"No, does not currently leak or have a history of leaking\", \"0\",\"\"))))","v":""},null,{"$f":"IF(AB12=\"Yes, on a couple of occasions\", \"3\",IF(AB12=\"Yes, substantial leaking has occurred\", \"4\",IF(AB12=\"Yes, currently leaks\", \"5\", IF(AB12=\"No, does not currently leak or have a history of leaking\", \"0\",\"\"))))","v":""},null,{"$f":"IF(AD12=\"Yes, on a couple of occasions\", \"3\",IF(AD12=\"Yes, substantial leaking has occurred\", \"4\",IF(AD12=\"Yes, currently leaks\", \"5\", IF(AD12=\"No, does not currently leak or have a history of leaking\", \"0\",\"\"))))","v":""},null,{"$f":"IF(AF12=\"Yes, on a couple of occasions\", \"3\",IF(AF12=\"Yes, substantial leaking has occurred\", \"4\",IF(AF12=\"Yes, currently leaks\", \"5\", IF(AF12=\"No, does not currently leak or have a history of leaking\", \"0\",\"\"))))","v":""},null,{"$f":"IF(AH12=\"Yes, on a couple of occasions\", \"3\",IF(AH12=\"Yes, substantial leaking has occurred\", \"4\",IF(AH12=\"Yes, currently leaks\", \"5\", IF(AH12=\"No, does not currently leak or have a history of leaking\", \"0\",\"\"))))","v":""},null,{"$f":"IF(AJ12=\"Yes, on a couple of occasions\", \"3\",IF(AJ12=\"Yes, substantial leaking has occurred\", \"4\",IF(AJ12=\"Yes, currently leaks\", \"5\", IF(AJ12=\"No, does not currently leak or have a history of leaking\", \"0\",\"\"))))","v":""},null,{"$f":"IF(AL12=\"Yes, on a couple of occasions\", \"3\",IF(AL12=\"Yes, substantial leaking has occurred\", \"4\",IF(AL12=\"Yes, currently leaks\", \"5\", IF(AL12=\"No, does not currently leak or have a history of leaking\", \"0\",\"\"))))","v":""},null,{"$f":"IF(AN12=\"Yes, on a couple of occasions\", \"3\",IF(AN12=\"Yes, substantial leaking has occurred\", \"4\",IF(AN12=\"Yes, currently leaks\", \"5\", IF(AN12=\"No, does not currently leak or have a history of leaking\", \"0\",\"\"))))","v":""},null,{"$f":"IF(AP12=\"Yes, on a couple of occasions\", \"3\",IF(AP12=\"Yes, substantial leaking has occurred\", \"4\",IF(AP12=\"Yes, currently leaks\", \"5\", IF(AP12=\"No, does not currently leak or have a history of leaking\", \"0\",\"\"))))","v":""},null,{"$f":"IF(AR12=\"Yes, on a couple of occasions\", \"3\",IF(AR12=\"Yes, substantial leaking has occurred\", \"4\",IF(AR12=\"Yes, currently leaks\", \"5\", IF(AR12=\"No, does not currently leak or have a history of leaking\", \"0\",\"\"))))","v":""},null,{"$f":"IF(AT12=\"Yes, on a couple of occasions\", \"3\",IF(AT12=\"Yes, substantial leaking has occurred\", \"4\",IF(AT12=\"Yes, currently leaks\", \"5\", IF(AT12=\"No, does not currently leak or have a history of leaking\", \"0\",\"\"))))","v":""},null,{"$f":"IF(AV12=\"Yes, on a couple of occasions\", \"3\",IF(AV12=\"Yes, substantial leaking has occurred\", \"4\",IF(AV12=\"Yes, currently leaks\", \"5\", IF(AV12=\"No, does not currently leak or have a history of leaking\", \"0\",\"\"))))","v":""},null,{"$f":"IF(AX12=\"Yes, on a couple of occasions\", \"3\",IF(AX12=\"Yes, substantial leaking has occurred\", \"4\",IF(AX12=\"Yes, currently leaks\", \"5\", IF(AX12=\"No, does not currently leak or have a history of leaking\", \"0\",\"\"))))","v":""},null,{"$f":"IF(AZ12=\"Yes, on a couple of occasions\", \"3\",IF(AZ12=\"Yes, substantial leaking has occurred\", \"4\",IF(AZ12=\"Yes, currently leaks\", \"5\", IF(AZ12=\"No, does not currently leak or have a history of leaking\", \"0\",\"\"))))","v":""},null,{"$f":"IF(BB12=\"Yes, on a couple of occasions\", \"3\",IF(BB12=\"Yes, substantial leaking has occurred\", \"4\",IF(BB12=\"Yes, currently leaks\", \"5\", IF(BB12=\"No, does not currently leak or have a history of leaking\", \"0\",\"\"))))","v":""},null,{"$f":"IF(BD12=\"Yes, on a couple of occasions\", \"3\",IF(BD12=\"Yes, substantial leaking has occurred\", \"4\",IF(BD12=\"Yes, currently leaks\", \"5\", IF(BD12=\"No, does not currently leak or have a history of leaking\", \"0\",\"\"))))","v":""},null,{"$f":"IF(BF12=\"Yes, on a couple of occasions\", \"3\",IF(BF12=\"Yes, substantial leaking has occurred\", \"4\",IF(BF12=\"Yes, currently leaks\", \"5\", IF(BF12=\"No, does not currently leak or have a history of leaking\", \"0\",\"\"))))","v":""},null,{"$f":"IF(BH12=\"Yes, on a couple of occasions\", \"3\",IF(BH12=\"Yes, substantial leaking has occurred\", \"4\",IF(BH12=\"Yes, currently leaks\", \"5\", IF(BH12=\"No, does not currently leak or have a history of leaking\", \"0\",\"\"))))","v":""},null,{"$f":"IF(BJ12=\"Yes, on a couple of occasions\", \"3\",IF(BJ12=\"Yes, substantial leaking has occurred\", \"4\",IF(BJ12=\"Yes, currently leaks\", \"5\", IF(BJ12=\"No, does not currently leak or have a history of leaking\", \"0\",\"\"))))","v":""},null,{"$f":"IF(BL12=\"Yes, on a couple of occasions\", \"3\",IF(BL12=\"Yes, substantial leaking has occurred\", \"4\",IF(BL12=\"Yes, currently leaks\", \"5\", IF(BL12=\"No, does not currently leak or have a history of leaking\", \"0\",\"\"))))","v":""},null,{"$f":"IF(BN12=\"Yes, on a couple of occasions\", \"3\",IF(BN12=\"Yes, substantial leaking has occurred\", \"4\",IF(BN12=\"Yes, currently leaks\", \"5\", IF(BN12=\"No, does not currently leak or have a history of leaking\", \"0\",\"\"))))","v":""},null,{"$f":"IF(BP12=\"Yes, on a couple of occasions\", \"3\",IF(BP12=\"Yes, substantial leaking has occurred\", \"4\",IF(BP12=\"Yes, currently leaks\", \"5\", IF(BP12=\"No, does not currently leak or have a history of leaking\", \"0\",\"\"))))","v":""},null,{"$f":"IF(BR12=\"Yes, on a couple of occasions\", \"3\",IF(BR12=\"Yes, substantial leaking has occurred\", \"4\",IF(BR12=\"Yes, currently leaks\", \"5\", IF(BR12=\"No, does not currently leak or have a history of leaking\", \"0\",\"\"))))","v":""},null,{"$f":"IF(BT12=\"Yes, on a couple of occasions\", \"3\",IF(BT12=\"Yes, substantial leaking has occurred\", \"4\",IF(BT12=\"Yes, currently leaks\", \"5\", IF(BT12=\"No, does not currently leak or have a history of leaking\", \"0\",\"\"))))","v":""},null,{"$f":"IF(BV12=\"Yes, on a couple of occasions\", \"3\",IF(BV12=\"Yes, substantial leaking has occurred\", \"4\",IF(BV12=\"Yes, currently leaks\", \"5\", IF(BV12=\"No, does not currently leak or have a history of leaking\", \"0\",\"\"))))","v":""},null,{"$f":"IF(BX12=\"Yes, on a couple of occasions\", \"3\",IF(BX12=\"Yes, substantial leaking has occurred\", \"4\",IF(BX12=\"Yes, currently leaks\", \"5\", IF(BX12=\"No, does not currently leak or have a history of leaking\", \"0\",\"\"))))","v":""},null,{"$f":"IF(BZ12=\"Yes, on a couple of occasions\", \"3\",IF(BZ12=\"Yes, substantial leaking has occurred\", \"4\",IF(BZ12=\"Yes, currently leaks\", \"5\", IF(BZ12=\"No, does not currently leak or have a history of leaking\", \"0\",\"\"))))","v":""},null,{"$f":"IF(CB12=\"Yes, on a couple of occasions\", \"3\",IF(CB12=\"Yes, substantial leaking has occurred\", \"4\",IF(CB12=\"Yes, currently leaks\", \"5\", IF(CB12=\"No, does not currently leak or have a history of leaking\", \"0\",\"\"))))","v":""},null,{"$f":"IF(CD12=\"Yes, on a couple of occasions\", \"3\",IF(CD12=\"Yes, substantial leaking has occurred\", \"4\",IF(CD12=\"Yes, currently leaks\", \"5\", IF(CD12=\"No, does not currently leak or have a history of leaking\", \"0\",\"\"))))","v":""},null,{"$f":"IF(CF12=\"Yes, on a couple of occasions\", \"3\",IF(CF12=\"Yes, substantial leaking has occurred\", \"4\",IF(CF12=\"Yes, currently leaks\", \"5\", IF(CF12=\"No, does not currently leak or have a history of leaking\", \"0\",\"\"))))","v":""},null,{"$f":"IF(CH12=\"Yes, on a couple of occasions\", \"3\",IF(CH12=\"Yes, substantial leaking has occurred\", \"4\",IF(CH12=\"Yes, currently leaks\", \"5\", IF(CH12=\"No, does not currently leak or have a history of leaking\", \"0\",\"\"))))","v":""},null,{"$f":"IF(CJ12=\"Yes, on a couple of occasions\", \"3\",IF(CJ12=\"Yes, substantial leaking has occurred\", \"4\",IF(CJ12=\"Yes, currently leaks\", \"5\", IF(CJ12=\"No, does not currently leak or have a history of leaking\", \"0\",\"\"))))","v":""},null,{"$f":"IF(CL12=\"Yes, on a couple of occasions\", \"3\",IF(CL12=\"Yes, substantial leaking has occurred\", \"4\",IF(CL12=\"Yes, currently leaks\", \"5\", IF(CL12=\"No, does not currently leak or have a history of leaking\", \"0\",\"\"))))","v":""},null,{"$f":"IF(CN12=\"Yes, on a couple of occasions\", \"3\",IF(CN12=\"Yes, substantial leaking has occurred\", \"4\",IF(CN12=\"Yes, currently leaks\", \"5\", IF(CN12=\"No, does not currently leak or have a history of leaking\", \"0\",\"\"))))","v":""},null,{"$f":"IF(CP12=\"Yes, on a couple of occasions\", \"3\",IF(CP12=\"Yes, substantial leaking has occurred\", \"4\",IF(CP12=\"Yes, currently leaks\", \"5\", IF(CP12=\"No, does not currently leak or have a history of leaking\", \"0\",\"\"))))","v":""},null,{"$f":"IF(CR12=\"Yes, on a couple of occasions\", \"3\",IF(CR12=\"Yes, substantial leaking has occurred\", \"4\",IF(CR12=\"Yes, currently leaks\", \"5\", IF(CR12=\"No, does not currently leak or have a history of leaking\", \"0\",\"\"))))","v":""},null,{"$f":"IF(CT12=\"Yes, on a couple of occasions\", \"3\",IF(CT12=\"Yes, substantial leaking has occurred\", \"4\",IF(CT12=\"Yes, currently leaks\", \"5\", IF(CT12=\"No, does not currently leak or have a history of leaking\", \"0\",\"\"))))","v":""},null,{"$f":"IF(CV12=\"Yes, on a couple of occasions\", \"3\",IF(CV12=\"Yes, substantial leaking has occurred\", \"4\",IF(CV12=\"Yes, currently leaks\", \"5\", IF(CV12=\"No, does not currently leak or have a history of leaking\", \"0\",\"\"))))","v":""},null,{"$f":"IF(CX12=\"Yes, on a couple of occasions\", \"3\",IF(CX12=\"Yes, substantial leaking has occurred\", \"4\",IF(CX12=\"Yes, currently leaks\", \"5\", IF(CX12=\"No, does not currently leak or have a history of leaking\", \"0\",\"\"))))","v":""},null,{"$f":"IF(CZ12=\"Yes, on a couple of occasions\", \"3\",IF(CZ12=\"Yes, substantial leaking has occurred\", \"4\",IF(CZ12=\"Yes, currently leaks\", \"5\", IF(CZ12=\"No, does not currently leak or have a history of leaking\", \"0\",\"\"))))","v":""},null,{"$f":"IF(DB12=\"Yes, on a couple of occasions\", \"3\",IF(DB12=\"Yes, substantial leaking has occurred\", \"4\",IF(DB12=\"Yes, currently leaks\", \"5\", IF(DB12=\"No, does not currently leak or have a history of leaking\", \"0\",\"\"))))","v":""},null,{"$f":"IF(DD12=\"Yes, on a couple of occasions\", \"3\",IF(DD12=\"Yes, substantial leaking has occurred\", \"4\",IF(DD12=\"Yes, currently leaks\", \"5\", IF(DD12=\"No, does not currently leak or have a history of leaking\", \"0\",\"\"))))","v":""},null,{"$f":"IF(DF12=\"Yes, on a couple of occasions\", \"3\",IF(DF12=\"Yes, substantial leaking has occurred\", \"4\",IF(DF12=\"Yes, currently leaks\", \"5\", IF(DF12=\"No, does not currently leak or have a history of leaking\", \"0\",\"\"))))","v":""},null,{"$f":"IF(DH12=\"Yes, on a couple of occasions\", \"3\",IF(DH12=\"Yes, substantial leaking has occurred\", \"4\",IF(DH12=\"Yes, currently leaks\", \"5\", IF(DH12=\"No, does not currently leak or have a history of leaking\", \"0\",\"\"))))","v":""},null,{"$f":"IF(DJ12=\"Yes, on a couple of occasions\", \"3\",IF(DJ12=\"Yes, substantial leaking has occurred\", \"4\",IF(DJ12=\"Yes, currently leaks\", \"5\", IF(DJ12=\"No, does not currently leak or have a history of leaking\", \"0\",\"\"))))","v":""},null,{"$f":"IF(DL12=\"Yes, on a couple of occasions\", \"3\",IF(DL12=\"Yes, substantial leaking has occurred\", \"4\",IF(DL12=\"Yes, currently leaks\", \"5\", IF(DL12=\"No, does not currently leak or have a history of leaking\", \"0\",\"\"))))","v":""},null,{"$f":"IF(DN12=\"Yes, on a couple of occasions\", \"3\",IF(DN12=\"Yes, substantial leaking has occurred\", \"4\",IF(DN12=\"Yes, currently leaks\", \"5\", IF(DN12=\"No, does not currently leak or have a history of leaking\", \"0\",\"\"))))","v":""},null,{"$f":"IF(DP12=\"Yes, on a couple of occasions\", \"3\",IF(DP12=\"Yes, substantial leaking has occurred\", \"4\",IF(DP12=\"Yes, currently leaks\", \"5\", IF(DP12=\"No, does not currently leak or have a history of leaking\", \"0\",\"\"))))","v":""},null,{"$f":"IF(DR12=\"Yes, on a couple of occasions\", \"3\",IF(DR12=\"Yes, substantial leaking has occurred\", \"4\",IF(DR12=\"Yes, currently leaks\", \"5\", IF(DR12=\"No, does not currently leak or have a history of leaking\", \"0\",\"\"))))","v":""},null,{"$f":"IF(DT12=\"Yes, on a couple of occasions\", \"3\",IF(DT12=\"Yes, substantial leaking has occurred\", \"4\",IF(DT12=\"Yes, currently leaks\", \"5\", IF(DT12=\"No, does not currently leak or have a history of leaking\", \"0\",\"\"))))","v":""},null,{"$f":"IF(DV12=\"Yes, on a couple of occasions\", \"3\",IF(DV12=\"Yes, substantial leaking has occurred\", \"4\",IF(DV12=\"Yes, currently leaks\", \"5\", IF(DV12=\"No, does not currently leak or have a history of leaking\", \"0\",\"\"))))","v":""},null,{"$f":"IF(DX12=\"Yes, on a couple of occasions\", \"3\",IF(DX12=\"Yes, substantial leaking has occurred\", \"4\",IF(DX12=\"Yes, currently leaks\", \"5\", IF(DX12=\"No, does not currently leak or have a history of leaking\", \"0\",\"\"))))","v":""},null,{"$f":"IF(DZ12=\"Yes, on a couple of occasions\", \"3\",IF(DZ12=\"Yes, substantial leaking has occurred\", \"4\",IF(DZ12=\"Yes, currently leaks\", \"5\", IF(DZ12=\"No, does not currently leak or have a history of leaking\", \"0\",\"\"))))","v":""},null,{"$f":"IF(EB12=\"Yes, on a couple of occasions\", \"3\",IF(EB12=\"Yes, substantial leaking has occurred\", \"4\",IF(EB12=\"Yes, currently leaks\", \"5\", IF(EB12=\"No, does not currently leak or have a history of leaking\", \"0\",\"\"))))","v":""},null,{"$f":"IF(ED12=\"Yes, on a couple of occasions\", \"3\",IF(ED12=\"Yes, substantial leaking has occurred\", \"4\",IF(ED12=\"Yes, currently leaks\", \"5\", IF(ED12=\"No, does not currently leak or have a history of leaking\", \"0\",\"\"))))","v":""},null,{"$f":"IF(EF12=\"Yes, on a couple of occasions\", \"3\",IF(EF12=\"Yes, substantial leaking has occurred\", \"4\",IF(EF12=\"Yes, currently leaks\", \"5\", IF(EF12=\"No, does not currently leak or have a history of leaking\", \"0\",\"\"))))","v":""},null,{"$f":"IF(EH12=\"Yes, on a couple of occasions\", \"3\",IF(EH12=\"Yes, substantial leaking has occurred\", \"4\",IF(EH12=\"Yes, currently leaks\", \"5\", IF(EH12=\"No, does not currently leak or have a history of leaking\", \"0\",\"\"))))","v":""},null,{"$f":"IF(EJ12=\"Yes, on a couple of occasions\", \"3\",IF(EJ12=\"Yes, substantial leaking has occurred\", \"4\",IF(EJ12=\"Yes, currently leaks\", \"5\", IF(EJ12=\"No, does not currently leak or have a history of leaking\", \"0\",\"\"))))","v":""},null,{"$f":"IF(EL12=\"Yes, on a couple of occasions\", \"3\",IF(EL12=\"Yes, substantial leaking has occurred\", \"4\",IF(EL12=\"Yes, currently leaks\", \"5\", IF(EL12=\"No, does not currently leak or have a history of leaking\", \"0\",\"\"))))","v":""},null,{"$f":"IF(EN12=\"Yes, on a couple of occasions\", \"3\",IF(EN12=\"Yes, substantial leaking has occurred\", \"4\",IF(EN12=\"Yes, currently leaks\", \"5\", IF(EN12=\"No, does not currently leak or have a history of leaking\", \"0\",\"\"))))","v":""},null,{"$f":"IF(EP12=\"Yes, on a couple of occasions\", \"3\",IF(EP12=\"Yes, substantial leaking has occurred\", \"4\",IF(EP12=\"Yes, currently leaks\", \"5\", IF(EP12=\"No, does not currently leak or have a history of leaking\", \"0\",\"\"))))","v":""},null,{"$f":"IF(ER12=\"Yes, on a couple of occasions\", \"3\",IF(ER12=\"Yes, substantial leaking has occurred\", \"4\",IF(ER12=\"Yes, currently leaks\", \"5\", IF(ER12=\"No, does not currently leak or have a history of leaking\", \"0\",\"\"))))","v":""},null,{"$f":"IF(ET12=\"Yes, on a couple of occasions\", \"3\",IF(ET12=\"Yes, substantial leaking has occurred\", \"4\",IF(ET12=\"Yes, currently leaks\", \"5\", IF(ET12=\"No, does not currently leak or have a history of leaking\", \"0\",\"\"))))","v":""},null,{"$f":"IF(EV12=\"Yes, on a couple of occasions\", \"3\",IF(EV12=\"Yes, substantial leaking has occurred\", \"4\",IF(EV12=\"Yes, currently leaks\", \"5\", IF(EV12=\"No, does not currently leak or have a history of leaking\", \"0\",\"\"))))","v":""},null,{"$f":"IF(EX12=\"Yes, on a couple of occasions\", \"3\",IF(EX12=\"Yes, substantial leaking has occurred\", \"4\",IF(EX12=\"Yes, currently leaks\", \"5\", IF(EX12=\"No, does not currently leak or have a history of leaking\", \"0\",\"\"))))","v":""},null,{"$f":"IF(EZ12=\"Yes, on a couple of occasions\", \"3\",IF(EZ12=\"Yes, substantial leaking has occurred\", \"4\",IF(EZ12=\"Yes, currently leaks\", \"5\", IF(EZ12=\"No, does not currently leak or have a history of leaking\", \"0\",\"\"))))","v":""},null,{"$f":"IF(FB12=\"Yes, on a couple of occasions\", \"3\",IF(FB12=\"Yes, substantial leaking has occurred\", \"4\",IF(FB12=\"Yes, currently leaks\", \"5\", IF(FB12=\"No, does not currently leak or have a history of leaking\", \"0\",\"\"))))","v":""},null," "]
[null,null,"SCORE",{"$f":"IFERROR(E5+E6+ E7+E8+E9+E10+E11+E12, \"\")","v":""},null,{"$f":"IFERROR(G5+G6+ G7+G8+G9+G10+G11+G12, \"\")","v":""},null,{"$f":"IFERROR(I5+I6+ I7+I8+I9+I10+I11+I12, \"\")","v":""},null,{"$f":"IFERROR(K5+K6+ K7+K8+K9+K10+K11+K12, \"\")","v":""},null,{"$f":"IFERROR(M5+M6+ M7+M8+M9+M10+M11+M12, \"\")","v":""},null,{"$f":"IFERROR(O5+O6+ O7+O8+O9+O10+O11+O12, \"\")","v":""},null,{"$f":"IFERROR(Q5+Q6+ Q7+Q8+Q9+Q10+Q11+Q12, \"\")","v":""},null,{"$f":"IFERROR(S5+S6+ S7+S8+S9+S10+S11+S12, \"\")","v":""},null,{"$f":"IFERROR(U5+U6+ U7+U8+U9+U10+U11+U12, \"\")","v":""},null,{"$f":"IFERROR(W5+W6+ W7+W8+W9+W10+W11+W12, \"\")","v":""},null,{"$f":"IFERROR(Y5+Y6+ Y7+Y8+Y9+Y10+Y11+Y12, \"\")","v":""},null,{"$f":"IFERROR(AA5+AA6+ AA7+AA8+AA9+AA10+AA11+AA12, \"\")","v":""},null,{"$f":"IFERROR(AC5+AC6+ AC7+AC8+AC9+AC10+AC11+AC12, \"\")","v":""},null,{"$f":"IFERROR(AE5+AE6+ AE7+AE8+AE9+AE10+AE11+AE12, \"\")","v":""},null,{"$f":"IFERROR(AG5+AG6+ AG7+AG8+AG9+AG10+AG11+AG12, \"\")","v":""},null,{"$f":"IFERROR(AI5+AI6+ AI7+AI8+AI9+AI10+AI11+AI12, \"\")","v":""},null,{"$f":"IFERROR(AK5+AK6+ AK7+AK8+AK9+AK10+AK11+AK12, \"\")","v":""},null,{"$f":"IFERROR(AM5+AM6+ AM7+AM8+AM9+AM10+AM11+AM12, \"\")","v":""},null,{"$f":"IFERROR(AO5+AO6+ AO7+AO8+AO9+AO10+AO11+AO12, \"\")","v":""},null,{"$f":"IFERROR(AQ5+AQ6+ AQ7+AQ8+AQ9+AQ10+AQ11+AQ12, \"\")","v":""},null,{"$f":"IFERROR(AS5+AS6+ AS7+AS8+AS9+AS10+AS11+AS12, \"\")","v":""},null,{"$f":"IFERROR(AU5+AU6+ AU7+AU8+AU9+AU10+AU11+AU12, \"\")","v":""},null,{"$f":"IFERROR(AW5+AW6+ AW7+AW8+AW9+AW10+AW11+AW12, \"\")","v":""},null,{"$f":"IFERROR(AY5+AY6+ AY7+AY8+AY9+AY10+AY11+AY12, \"\")","v":""},null,{"$f":"IFERROR(BA5+BA6+ BA7+BA8+BA9+BA10+BA11+BA12, \"\")","v":""},null,{"$f":"IFERROR(BC5+BC6+ BC7+BC8+BC9+BC10+BC11+BC12, \"\")","v":""},null,{"$f":"IFERROR(BE5+BE6+ BE7+BE8+BE9+BE10+BE11+BE12, \"\")","v":""},null,{"$f":"IFERROR(BG5+BG6+ BG7+BG8+BG9+BG10+BG11+BG12, \"\")","v":""},null,{"$f":"IFERROR(BI5+BI6+ BI7+BI8+BI9+BI10+BI11+BI12, \"\")","v":""},null,{"$f":"IFERROR(BK5+BK6+ BK7+BK8+BK9+BK10+BK11+BK12, \"\")","v":""},null,{"$f":"IFERROR(BM5+BM6+ BM7+BM8+BM9+BM10+BM11+BM12, \"\")","v":""},null,{"$f":"IFERROR(BO5+BO6+ BO7+BO8+BO9+BO10+BO11+BO12, \"\")","v":""},null,{"$f":"IFERROR(BQ5+BQ6+ BQ7+BQ8+BQ9+BQ10+BQ11+BQ12, \"\")","v":""},null,{"$f":"IFERROR(BS5+BS6+ BS7+BS8+BS9+BS10+BS11+BS12, \"\")","v":""},null,{"$f":"IFERROR(BU5+BU6+ BU7+BU8+BU9+BU10+BU11+BU12, \"\")","v":""},null,{"$f":"IFERROR(BW5+BW6+ BW7+BW8+BW9+BW10+BW11+BW12, \"\")","v":""},null,{"$f":"IFERROR(BY5+BY6+ BY7+BY8+BY9+BY10+BY11+BY12, \"\")","v":""},null,{"$f":"IFERROR(CA5+CA6+ CA7+CA8+CA9+CA10+CA11+CA12, \"\")","v":""},null,{"$f":"IFERROR(CC5+CC6+ CC7+CC8+CC9+CC10+CC11+CC12, \"\")","v":""},null,{"$f":"IFERROR(CE5+CE6+ CE7+CE8+CE9+CE10+CE11+CE12, \"\")","v":""},null,{"$f":"IFERROR(CG5+CG6+ CG7+CG8+CG9+CG10+CG11+CG12, \"\")","v":""},null,{"$f":"IFERROR(CI5+CI6+ CI7+CI8+CI9+CI10+CI11+CI12, \"\")","v":""},null,{"$f":"IFERROR(CK5+CK6+ CK7+CK8+CK9+CK10+CK11+CK12, \"\")","v":""},null,{"$f":"IFERROR(CM5+CM6+ CM7+CM8+CM9+CM10+CM11+CM12, \"\")","v":""},null,{"$f":"IFERROR(CO5+CO6+ CO7+CO8+CO9+CO10+CO11+CO12, \"\")","v":""},null,{"$f":"IFERROR(CQ5+CQ6+ CQ7+CQ8+CQ9+CQ10+CQ11+CQ12, \"\")","v":""},null,{"$f":"IFERROR(CS5+CS6+ CS7+CS8+CS9+CS10+CS11+CS12, \"\")","v":""},null,{"$f":"IFERROR(CU5+CU6+ CU7+CU8+CU9+CU10+CU11+CU12, \"\")","v":""},null,{"$f":"IFERROR(CW5+CW6+ CW7+CW8+CW9+CW10+CW11+CW12, \"\")","v":""},null,{"$f":"IFERROR(CY5+CY6+ CY7+CY8+CY9+CY10+CY11+CY12, \"\")","v":""},null,{"$f":"IFERROR(DA5+DA6+ DA7+DA8+DA9+DA10+DA11+DA12, \"\")","v":""},null,{"$f":"IFERROR(DC5+DC6+ DC7+DC8+DC9+DC10+DC11+DC12, \"\")","v":""},null,{"$f":"IFERROR(DE5+DE6+ DE7+DE8+DE9+DE10+DE11+DE12, \"\")","v":""},null,{"$f":"IFERROR(DG5+DG6+ DG7+DG8+DG9+DG10+DG11+DG12, \"\")","v":""},null,{"$f":"IFERROR(DI5+DI6+ DI7+DI8+DI9+DI10+DI11+DI12, \"\")","v":""},null,{"$f":"IFERROR(DK5+DK6+ DK7+DK8+DK9+DK10+DK11+DK12, \"\")","v":""},null,{"$f":"IFERROR(DM5+DM6+ DM7+DM8+DM9+DM10+DM11+DM12, \"\")","v":""},null,{"$f":"IFERROR(DO5+DO6+ DO7+DO8+DO9+DO10+DO11+DO12, \"\")","v":""},null,{"$f":"IFERROR(DQ5+DQ6+ DQ7+DQ8+DQ9+DQ10+DQ11+DQ12, \"\")","v":""},null,{"$f":"IFERROR(DS5+DS6+ DS7+DS8+DS9+DS10+DS11+DS12, \"\")","v":""},null,{"$f":"IFERROR(DU5+DU6+ DU7+DU8+DU9+DU10+DU11+DU12, \"\")","v":""},null,{"$f":"IFERROR(DW5+DW6+ DW7+DW8+DW9+DW10+DW11+DW12, \"\")","v":""},null,{"$f":"IFERROR(DY5+DY6+ DY7+DY8+DY9+DY10+DY11+DY12, \"\")","v":""},null,{"$f":"IFERROR(EA5+EA6+ EA7+EA8+EA9+EA10+EA11+EA12, \"\")","v":""},null,{"$f":"IFERROR(EC5+EC6+ EC7+EC8+EC9+EC10+EC11+EC12, \"\")","v":""},null,{"$f":"IFERROR(EE5+EE6+ EE7+EE8+EE9+EE10+EE11+EE12, \"\")","v":""},null,{"$f":"IFERROR(EG5+EG6+ EG7+EG8+EG9+EG10+EG11+EG12, \"\")","v":""},null,{"$f":"IFERROR(EI5+EI6+ EI7+EI8+EI9+EI10+EI11+EI12, \"\")","v":""},null,{"$f":"IFERROR(EK5+EK6+ EK7+EK8+EK9+EK10+EK11+EK12, \"\")","v":""},null,{"$f":"IFERROR(EM5+EM6+ EM7+EM8+EM9+EM10+EM11+EM12, \"\")","v":""},null,{"$f":"IFERROR(EO5+EO6+ EO7+EO8+EO9+EO10+EO11+EO12, \"\")","v":""},null,{"$f":"IFERROR(EQ5+EQ6+ EQ7+EQ8+EQ9+EQ10+EQ11+EQ12, \"\")","v":""},null,{"$f":"IFERROR(ES5+ES6+ ES7+ES8+ES9+ES10+ES11+ES12, \"\")","v":""},null,{"$f":"IFERROR(EU5+EU6+ EU7+EU8+EU9+EU10+EU11+EU12, \"\")","v":""},null,{"$f":"IFERROR(EW5+EW6+ EW7+EW8+EW9+EW10+EW11+EW12, \"\")","v":""},null,{"$f":"IFERROR(EY5+EY6+ EY7+EY8+EY9+EY10+EY11+EY12, \"\")","v":""},null,{"$f":"IFERROR(FA5+FA6+ FA7+FA8+FA9+FA10+FA11+FA12, \"\")","v":""},null,{"$f":"IFERROR(FC5+FC6+ FC7+FC8+FC9+FC10+FC11+FC12, \"\")","v":""},null,{"$f":"IFERROR(FE5+FE6+ FE7+FE8+FE9+FE10+FE11+FE12, \"\")","v":""}]
[null,"USE","How frequently is AFFF used at this location?",null,{"$f":"IF(D14=\"Less than once per every 5 years\", \"1\", IF(D14=\"Between 1 and 5 years\", \"2\", IF(D14=\"Semi-anually\", \"3\", IF(D14=\"Annually\", \"4\", IF(D14=\"Monthly\", \"5\", \"\")))))","v":""},null,{"$f":"IF(F14=\"Less than once per every 5 years\", \"1\", IF(F14=\"Between 1 and 5 years\", \"2\", IF(F14=\"Semi-anually\", \"3\", IF(F14=\"Annually\", \"4\", IF(F14=\"Monthly\", \"5\", \"\")))))","v":""},null,{"$f":"IF(H14=\"Less than once per every 5 years\", \"1\", IF(H14=\"Between 1 and 5 years\", \"2\", IF(H14=\"Semi-anually\", \"3\", IF(H14=\"Annually\", \"4\", IF(H14=\"Monthly\", \"5\", \"\")))))","v":""},null,{"$f":"IF(J14=\"Less than once per every 5 years\", \"1\", IF(J14=\"Between 1 and 5 years\", \"2\", IF(J14=\"Semi-anually\", \"3\", IF(J14=\"Annually\", \"4\", IF(J14=\"Monthly\", \"5\", \"\")))))","v":""},null,{"$f":"IF(L14=\"Less than once per every 5 years\", \"1\", IF(L14=\"Between 1 and 5 years\", \"2\", IF(L14=\"Semi-anually\", \"3\", IF(L14=\"Annually\", \"4\", IF(L14=\"Monthly\", \"5\", \"\")))))","v":""},null,{"$f":"IF(N14=\"Less than once per every 5 years\", \"1\", IF(N14=\"Between 1 and 5 years\", \"2\", IF(N14=\"Semi-anually\", \"3\", IF(N14=\"Annually\", \"4\", IF(N14=\"Monthly\", \"5\", \"\")))))","v":""},null,{"$f":"IF(P14=\"Less than once per every 5 years\", \"1\", IF(P14=\"Between 1 and 5 years\", \"2\", IF(P14=\"Semi-anually\", \"3\", IF(P14=\"Annually\", \"4\", IF(P14=\"Monthly\", \"5\", \"\")))))","v":""},null,{"$f":"IF(R14=\"Less than once per every 5 years\", \"1\", IF(R14=\"Between 1 and 5 years\", \"2\", IF(R14=\"Semi-anually\", \"3\", IF(R14=\"Annually\", \"4\", IF(R14=\"Monthly\", \"5\", \"\")))))","v":""},null,{"$f":"IF(T14=\"Less than once per every 5 years\", \"1\", IF(T14=\"Between 1 and 5 years\", \"2\", IF(T14=\"Semi-anually\", \"3\", IF(T14=\"Annually\", \"4\", IF(T14=\"Monthly\", \"5\", \"\")))))","v":""},null,{"$f":"IF(V14=\"Less than once per every 5 years\", \"1\", IF(V14=\"Between 1 and 5 years\", \"2\", IF(V14=\"Semi-anually\", \"3\", IF(V14=\"Annually\", \"4\", IF(V14=\"Monthly\", \"5\", \"\")))))","v":""},null,{"$f":"IF(X14=\"Less than once per every 5 years\", \"1\", IF(X14=\"Between 1 and 5 years\", \"2\", IF(X14=\"Semi-anually\", \"3\", IF(X14=\"Annually\", \"4\", IF(X14=\"Monthly\", \"5\", \"\")))))","v":""},null,{"$f":"IF(Z14=\"Less than once per every 5 years\", \"1\", IF(Z14=\"Between 1 and 5 years\", \"2\", IF(Z14=\"Semi-anually\", \"3\", IF(Z14=\"Annually\", \"4\", IF(Z14=\"Monthly\", \"5\", \"\")))))","v":""},null,{"$f":"IF(AB14=\"Less than once per every 5 years\", \"1\", IF(AB14=\"Between 1 and 5 years\", \"2\", IF(AB14=\"Semi-anually\", \"3\", IF(AB14=\"Annually\", \"4\", IF(AB14=\"Monthly\", \"5\", \"\")))))","v":""},null,{"$f":"IF(AD14=\"Less than once per every 5 years\", \"1\", IF(AD14=\"Between 1 and 5 years\", \"2\", IF(AD14=\"Semi-anually\", \"3\", IF(AD14=\"Annually\", \"4\", IF(AD14=\"Monthly\", \"5\", \"\")))))","v":""},null,{"$f":"IF(AF14=\"Less than once per every 5 years\", \"1\", IF(AF14=\"Between 1 and 5 years\", \"2\", IF(AF14=\"Semi-anually\", \"3\", IF(AF14=\"Annually\", \"4\", IF(AF14=\"Monthly\", \"5\", \"\")))))","v":""},null,{"$f":"IF(AH14=\"Less than once per every 5 years\", \"1\", IF(AH14=\"Between 1 and 5 years\", \"2\", IF(AH14=\"Semi-anually\", \"3\", IF(AH14=\"Annually\", \"4\", IF(AH14=\"Monthly\", \"5\", \"\")))))","v":""},null,{"$f":"IF(AJ14=\"Less than once per every 5 years\", \"1\", IF(AJ14=\"Between 1 and 5 years\", \"2\", IF(AJ14=\"Semi-anually\", \"3\", IF(AJ14=\"Annually\", \"4\", IF(AJ14=\"Monthly\", \"5\", \"\")))))","v":""},null,{"$f":"IF(AL14=\"Less than once per every 5 years\", \"1\", IF(AL14=\"Between 1 and 5 years\", \"2\", IF(AL14=\"Semi-anually\", \"3\", IF(AL14=\"Annually\", \"4\", IF(AL14=\"Monthly\", \"5\", \"\")))))","v":""},null,{"$f":"IF(AN14=\"Less than once per every 5 years\", \"1\", IF(AN14=\"Between 1 and 5 years\", \"2\", IF(AN14=\"Semi-anually\", \"3\", IF(AN14=\"Annually\", \"4\", IF(AN14=\"Monthly\", \"5\", \"\")))))","v":""},null,{"$f":"IF(AP14=\"Less than once per every 5 years\", \"1\", IF(AP14=\"Between 1 and 5 years\", \"2\", IF(AP14=\"Semi-anually\", \"3\", IF(AP14=\"Annually\", \"4\", IF(AP14=\"Monthly\", \"5\", \"\")))))","v":""},null,{"$f":"IF(AR14=\"Less than once per every 5 years\", \"1\", IF(AR14=\"Between 1 and 5 years\", \"2\", IF(AR14=\"Semi-anually\", \"3\", IF(AR14=\"Annually\", \"4\", IF(AR14=\"Monthly\", \"5\", \"\")))))","v":""},null,{"$f":"IF(AT14=\"Less than once per every 5 years\", \"1\", IF(AT14=\"Between 1 and 5 years\", \"2\", IF(AT14=\"Semi-anually\", \"3\", IF(AT14=\"Annually\", \"4\", IF(AT14=\"Monthly\", \"5\", \"\")))))","v":""},null,{"$f":"IF(AV14=\"Less than once per every 5 years\", \"1\", IF(AV14=\"Between 1 and 5 years\", \"2\", IF(AV14=\"Semi-anually\", \"3\", IF(AV14=\"Annually\", \"4\", IF(AV14=\"Monthly\", \"5\", \"\")))))","v":""},null,{"$f":"IF(AX14=\"Less than once per every 5 years\", \"1\", IF(AX14=\"Between 1 and 5 years\", \"2\", IF(AX14=\"Semi-anually\", \"3\", IF(AX14=\"Annually\", \"4\", IF(AX14=\"Monthly\", \"5\", \"\")))))","v":""},null,{"$f":"IF(AZ14=\"Less than once per every 5 years\", \"1\", IF(AZ14=\"Between 1 and 5 years\", \"2\", IF(AZ14=\"Semi-anually\", \"3\", IF(AZ14=\"Annually\", \"4\", IF(AZ14=\"Monthly\", \"5\", \"\")))))","v":""},null,{"$f":"IF(BB14=\"Less than once per every 5 years\", \"1\", IF(BB14=\"Between 1 and 5 years\", \"2\", IF(BB14=\"Semi-anually\", \"3\", IF(BB14=\"Annually\", \"4\", IF(BB14=\"Monthly\", \"5\", \"\")))))","v":""},null,{"$f":"IF(BD14=\"Less than once per every 5 years\", \"1\", IF(BD14=\"Between 1 and 5 years\", \"2\", IF(BD14=\"Semi-anually\", \"3\", IF(BD14=\"Annually\", \"4\", IF(BD14=\"Monthly\", \"5\", \"\")))))","v":""},null,{"$f":"IF(BF14=\"Less than once per every 5 years\", \"1\", IF(BF14=\"Between 1 and 5 years\", \"2\", IF(BF14=\"Semi-anually\", \"3\", IF(BF14=\"Annually\", \"4\", IF(BF14=\"Monthly\", \"5\", \"\")))))","v":""},null,{"$f":"IF(BH14=\"Less than once per every 5 years\", \"1\", IF(BH14=\"Between 1 and 5 years\", \"2\", IF(BH14=\"Semi-anually\", \"3\", IF(BH14=\"Annually\", \"4\", IF(BH14=\"Monthly\", \"5\", \"\")))))","v":""},null,{"$f":"IF(BJ14=\"Less than once per every 5 years\", \"1\", IF(BJ14=\"Between 1 and 5 years\", \"2\", IF(BJ14=\"Semi-anually\", \"3\", IF(BJ14=\"Annually\", \"4\", IF(BJ14=\"Monthly\", \"5\", \"\")))))","v":""},null,{"$f":"IF(BL14=\"Less than once per every 5 years\", \"1\", IF(BL14=\"Between 1 and 5 years\", \"2\", IF(BL14=\"Semi-anually\", \"3\", IF(BL14=\"Annually\", \"4\", IF(BL14=\"Monthly\", \"5\", \"\")))))","v":""},null,{"$f":"IF(BN14=\"Less than once per every 5 years\", \"1\", IF(BN14=\"Between 1 and 5 years\", \"2\", IF(BN14=\"Semi-anually\", \"3\", IF(BN14=\"Annually\", \"4\", IF(BN14=\"Monthly\", \"5\", \"\")))))","v":""},null,{"$f":"IF(BP14=\"Less than once per every 5 years\", \"1\", IF(BP14=\"Between 1 and 5 years\", \"2\", IF(BP14=\"Semi-anually\", \"3\", IF(BP14=\"Annually\", \"4\", IF(BP14=\"Monthly\", \"5\", \"\")))))","v":""},null,{"$f":"IF(BR14=\"Less than once per every 5 years\", \"1\", IF(BR14=\"Between 1 and 5 years\", \"2\", IF(BR14=\"Semi-anually\", \"3\", IF(BR14=\"Annually\", \"4\", IF(BR14=\"Monthly\", \"5\", \"\")))))","v":""},null,{"$f":"IF(BT14=\"Less than once per every 5 years\", \"1\", IF(BT14=\"Between 1 and 5 years\", \"2\", IF(BT14=\"Semi-anually\", \"3\", IF(BT14=\"Annually\", \"4\", IF(BT14=\"Monthly\", \"5\", \"\")))))","v":""},null,{"$f":"IF(BV14=\"Less than once per every 5 years\", \"1\", IF(BV14=\"Between 1 and 5 years\", \"2\", IF(BV14=\"Semi-anually\", \"3\", IF(BV14=\"Annually\", \"4\", IF(BV14=\"Monthly\", \"5\", \"\")))))","v":""},null,{"$f":"IF(BX14=\"Less than once per every 5 years\", \"1\", IF(BX14=\"Between 1 and 5 years\", \"2\", IF(BX14=\"Semi-anually\", \"3\", IF(BX14=\"Annually\", \"4\", IF(BX14=\"Monthly\", \"5\", \"\")))))","v":""},null,{"$f":"IF(BZ14=\"Less than once per every 5 years\", \"1\", IF(BZ14=\"Between 1 and 5 years\", \"2\", IF(BZ14=\"Semi-anually\", \"3\", IF(BZ14=\"Annually\", \"4\", IF(BZ14=\"Monthly\", \"5\", \"\")))))","v":""},null,{"$f":"IF(CB14=\"Less than once per every 5 years\", \"1\", IF(CB14=\"Between 1 and 5 years\", \"2\", IF(CB14=\"Semi-anually\", \"3\", IF(CB14=\"Annually\", \"4\", IF(CB14=\"Monthly\", \"5\", \"\")))))","v":""},null,{"$f":"IF(CD14=\"Less than once per every 5 years\", \"1\", IF(CD14=\"Between 1 and 5 years\", \"2\", IF(CD14=\"Semi-anually\", \"3\", IF(CD14=\"Annually\", \"4\", IF(CD14=\"Monthly\", \"5\", \"\")))))","v":""},null,{"$f":"IF(CF14=\"Less than once per every 5 years\", \"1\", IF(CF14=\"Between 1 and 5 years\", \"2\", IF(CF14=\"Semi-anually\", \"3\", IF(CF14=\"Annually\", \"4\", IF(CF14=\"Monthly\", \"5\", \"\")))))","v":""},null,{"$f":"IF(CH14=\"Less than once per every 5 years\", \"1\", IF(CH14=\"Between 1 and 5 years\", \"2\", IF(CH14=\"Semi-anually\", \"3\", IF(CH14=\"Annually\", \"4\", IF(CH14=\"Monthly\", \"5\", \"\")))))","v":""},null,{"$f":"IF(CJ14=\"Less than once per every 5 years\", \"1\", IF(CJ14=\"Between 1 and 5 years\", \"2\", IF(CJ14=\"Semi-anually\", \"3\", IF(CJ14=\"Annually\", \"4\", IF(CJ14=\"Monthly\", \"5\", \"\")))))","v":""},null,{"$f":"IF(CL14=\"Less than once per every 5 years\", \"1\", IF(CL14=\"Between 1 and 5 years\", \"2\", IF(CL14=\"Semi-anually\", \"3\", IF(CL14=\"Annually\", \"4\", IF(CL14=\"Monthly\", \"5\", \"\")))))","v":""},null,{"$f":"IF(CN14=\"Less than once per every 5 years\", \"1\", IF(CN14=\"Between 1 and 5 years\", \"2\", IF(CN14=\"Semi-anually\", \"3\", IF(CN14=\"Annually\", \"4\", IF(CN14=\"Monthly\", \"5\", \"\")))))","v":""},null,{"$f":"IF(CP14=\"Less than once per every 5 years\", \"1\", IF(CP14=\"Between 1 and 5 years\", \"2\", IF(CP14=\"Semi-anually\", \"3\", IF(CP14=\"Annually\", \"4\", IF(CP14=\"Monthly\", \"5\", \"\")))))","v":""},null,{"$f":"IF(CR14=\"Less than once per every 5 years\", \"1\", IF(CR14=\"Between 1 and 5 years\", \"2\", IF(CR14=\"Semi-anually\", \"3\", IF(CR14=\"Annually\", \"4\", IF(CR14=\"Monthly\", \"5\", \"\")))))","v":""},null,{"$f":"IF(CT14=\"Less than once per every 5 years\", \"1\", IF(CT14=\"Between 1 and 5 years\", \"2\", IF(CT14=\"Semi-anually\", \"3\", IF(CT14=\"Annually\", \"4\", IF(CT14=\"Monthly\", \"5\", \"\")))))","v":""},null,{"$f":"IF(CV14=\"Less than once per every 5 years\", \"1\", IF(CV14=\"Between 1 and 5 years\", \"2\", IF(CV14=\"Semi-anually\", \"3\", IF(CV14=\"Annually\", \"4\", IF(CV14=\"Monthly\", \"5\", \"\")))))","v":""},null,{"$f":"IF(CX14=\"Less than once per every 5 years\", \"1\", IF(CX14=\"Between 1 and 5 years\", \"2\", IF(CX14=\"Semi-anually\", \"3\", IF(CX14=\"Annually\", \"4\", IF(CX14=\"Monthly\", \"5\", \"\")))))","v":""},null,{"$f":"IF(CZ14=\"Less than once per every 5 years\", \"1\", IF(CZ14=\"Between 1 and 5 years\", \"2\", IF(CZ14=\"Semi-anually\", \"3\", IF(CZ14=\"Annually\", \"4\", IF(CZ14=\"Monthly\", \"5\", \"\")))))","v":""},null,{"$f":"IF(DB14=\"Less than once per every 5 years\", \"1\", IF(DB14=\"Between 1 and 5 years\", \"2\", IF(DB14=\"Semi-anually\", \"3\", IF(DB14=\"Annually\", \"4\", IF(DB14=\"Monthly\", \"5\", \"\")))))","v":""},null,{"$f":"IF(DD14=\"Less than once per every 5 years\", \"1\", IF(DD14=\"Between 1 and 5 years\", \"2\", IF(DD14=\"Semi-anually\", \"3\", IF(DD14=\"Annually\", \"4\", IF(DD14=\"Monthly\", \"5\", \"\")))))","v":""},null,{"$f":"IF(DF14=\"Less than once per every 5 years\", \"1\", IF(DF14=\"Between 1 and 5 years\", \"2\", IF(DF14=\"Semi-anually\", \"3\", IF(DF14=\"Annually\", \"4\", IF(DF14=\"Monthly\", \"5\", \"\")))))","v":""},null,{"$f":"IF(DH14=\"Less than once per every 5 years\", \"1\", IF(DH14=\"Between 1 and 5 years\", \"2\", IF(DH14=\"Semi-anually\", \"3\", IF(DH14=\"Annually\", \"4\", IF(DH14=\"Monthly\", \"5\", \"\")))))","v":""},null,{"$f":"IF(DJ14=\"Less than once per every 5 years\", \"1\", IF(DJ14=\"Between 1 and 5 years\", \"2\", IF(DJ14=\"Semi-anually\", \"3\", IF(DJ14=\"Annually\", \"4\", IF(DJ14=\"Monthly\", \"5\", \"\")))))","v":""},null,{"$f":"IF(DL14=\"Less than once per every 5 years\", \"1\", IF(DL14=\"Between 1 and 5 years\", \"2\", IF(DL14=\"Semi-anually\", \"3\", IF(DL14=\"Annually\", \"4\", IF(DL14=\"Monthly\", \"5\", \"\")))))","v":""},null,{"$f":"IF(DN14=\"Less than once per every 5 years\", \"1\", IF(DN14=\"Between 1 and 5 years\", \"2\", IF(DN14=\"Semi-anually\", \"3\", IF(DN14=\"Annually\", \"4\", IF(DN14=\"Monthly\", \"5\", \"\")))))","v":""},null,{"$f":"IF(DP14=\"Less than once per every 5 years\", \"1\", IF(DP14=\"Between 1 and 5 years\", \"2\", IF(DP14=\"Semi-anually\", \"3\", IF(DP14=\"Annually\", \"4\", IF(DP14=\"Monthly\", \"5\", \"\")))))","v":""},null,{"$f":"IF(DR14=\"Less than once per every 5 years\", \"1\", IF(DR14=\"Between 1 and 5 years\", \"2\", IF(DR14=\"Semi-anually\", \"3\", IF(DR14=\"Annually\", \"4\", IF(DR14=\"Monthly\", \"5\", \"\")))))","v":""},null,{"$f":"IF(DT14=\"Less than once per every 5 years\", \"1\", IF(DT14=\"Between 1 and 5 years\", \"2\", IF(DT14=\"Semi-anually\", \"3\", IF(DT14=\"Annually\", \"4\", IF(DT14=\"Monthly\", \"5\", \"\")))))","v":""},null,{"$f":"IF(DV14=\"Less than once per every 5 years\", \"1\", IF(DV14=\"Between 1 and 5 years\", \"2\", IF(DV14=\"Semi-anually\", \"3\", IF(DV14=\"Annually\", \"4\", IF(DV14=\"Monthly\", \"5\", \"\")))))","v":""},null,{"$f":"IF(DX14=\"Less than once per every 5 years\", \"1\", IF(DX14=\"Between 1 and 5 years\", \"2\", IF(DX14=\"Semi-anually\", \"3\", IF(DX14=\"Annually\", \"4\", IF(DX14=\"Monthly\", \"5\", \"\")))))","v":""},null,{"$f":"IF(DZ14=\"Less than once per every 5 years\", \"1\", IF(DZ14=\"Between 1 and 5 years\", \"2\", IF(DZ14=\"Semi-anually\", \"3\", IF(DZ14=\"Annually\", \"4\", IF(DZ14=\"Monthly\", \"5\", \"\")))))","v":""},null,{"$f":"IF(EB14=\"Less than once per every 5 years\", \"1\", IF(EB14=\"Between 1 and 5 years\", \"2\", IF(EB14=\"Semi-anually\", \"3\", IF(EB14=\"Annually\", \"4\", IF(EB14=\"Monthly\", \"5\", \"\")))))","v":""},null,{"$f":"IF(ED14=\"Less than once per every 5 years\", \"1\", IF(ED14=\"Between 1 and 5 years\", \"2\", IF(ED14=\"Semi-anually\", \"3\", IF(ED14=\"Annually\", \"4\", IF(ED14=\"Monthly\", \"5\", \"\")))))","v":""},null,{"$f":"IF(EF14=\"Less than once per every 5 years\", \"1\", IF(EF14=\"Between 1 and 5 years\", \"2\", IF(EF14=\"Semi-anually\", \"3\", IF(EF14=\"Annually\", \"4\", IF(EF14=\"Monthly\", \"5\", \"\")))))","v":""},null,{"$f":"IF(EH14=\"Less than once per every 5 years\", \"1\", IF(EH14=\"Between 1 and 5 years\", \"2\", IF(EH14=\"Semi-anually\", \"3\", IF(EH14=\"Annually\", \"4\", IF(EH14=\"Monthly\", \"5\", \"\")))))","v":""},null,{"$f":"IF(EJ14=\"Less than once per every 5 years\", \"1\", IF(EJ14=\"Between 1 and 5 years\", \"2\", IF(EJ14=\"Semi-anually\", \"3\", IF(EJ14=\"Annually\", \"4\", IF(EJ14=\"Monthly\", \"5\", \"\")))))","v":""},null,{"$f":"IF(EL14=\"Less than once per every 5 years\", \"1\", IF(EL14=\"Between 1 and 5 years\", \"2\", IF(EL14=\"Semi-anually\", \"3\", IF(EL14=\"Annually\", \"4\", IF(EL14=\"Monthly\", \"5\", \"\")))))","v":""},null,{"$f":"IF(EN14=\"Less than once per every 5 years\", \"1\", IF(EN14=\"Between 1 and 5 years\", \"2\", IF(EN14=\"Semi-anually\", \"3\", IF(EN14=\"Annually\", \"4\", IF(EN14=\"Monthly\", \"5\", \"\")))))","v":""},null,{"$f":"IF(EP14=\"Less than once per every 5 years\", \"1\", IF(EP14=\"Between 1 and 5 years\", \"2\", IF(EP14=\"Semi-anually\", \"3\", IF(EP14=\"Annually\", \"4\", IF(EP14=\"Monthly\", \"5\", \"\")))))","v":""},null,{"$f":"IF(ER14=\"Less than once per every 5 years\", \"1\", IF(ER14=\"Between 1 and 5 years\", \"2\", IF(ER14=\"Semi-anually\", \"3\", IF(ER14=\"Annually\", \"4\", IF(ER14=\"Monthly\", \"5\", \"\")))))","v":""},null,{"$f":"IF(ET14=\"Less than once per every 5 years\", \"1\", IF(ET14=\"Between 1 and 5 years\", \"2\", IF(ET14=\"Semi-anually\", \"3\", IF(ET14=\"Annually\", \"4\", IF(ET14=\"Monthly\", \"5\", \"\")))))","v":""},null,{"$f":"IF(EV14=\"Less than once per every 5 years\", \"1\", IF(EV14=\"Between 1 and 5 years\", \"2\", IF(EV14=\"Semi-anually\", \"3\", IF(EV14=\"Annually\", \"4\", IF(EV14=\"Monthly\", \"5\", \"\")))))","v":""},null,{"$f":"IF(EX14=\"Less than once per every 5 years\", \"1\", IF(EX14=\"Between 1 and 5 years\", \"2\", IF(EX14=\"Semi-anually\", \"3\", IF(EX14=\"Annually\", \"4\", IF(EX14=\"Monthly\", \"5\", \"\")))))","v":""},null,{"$f":"IF(EZ14=\"Less than once per every 5 years\", \"1\", IF(EZ14=\"Between 1 and 5 years\", \"2\", IF(EZ14=\"Semi-anually\", \"3\", IF(EZ14=\"Annually\", \"4\", IF(EZ14=\"Monthly\", \"5\", \"\")))))","v":""},null,{"$f":"IF(FB14=\"Less than once per every 5 years\", \"1\", IF(FB14=\"Between 1 and 5 years\", \"2\", IF(FB14=\"Semi-anually\", \"3\", IF(FB14=\"Annually\", \"4\", IF(FB14=\"Monthly\", \"5\", \"\")))))","v":""},null,{"$f":"IF(FD14=\"Less than once per every 5 years\", \"1\", IF(FD14=\"Between 1 and 5 years\", \"2\", IF(FD14=\"Semi-anually\", \"3\", IF(FD14=\"Annually\", \"4\", IF(FD14=\"Monthly\", \"5\", \"\")))))","v":""}]
[null,null,"How much AFFF is used per use?",null,{"$f":"IF(D15=\"0 to 5 gallons/ 0 to 20 L\", \"1\", IF(D15=\"5 to 20 gallons/ 20 to 75 L\", \"2\", IF(D15=\"20 to 50 gallons/ 75 to 190 L\", \"4\", IF(D15=\"50 to 100 gallons/ 190 to 375 L\", \"6\", IF(D15=\"100 to 500 gallons/ 375 to 1900 L\", \"8\", IF(D15=\"500 to 1000 gallons/ 1900 to 3800 L\", \"10\", IF(D15=\"Greater than 1000 gallons/Greater than 3800 L\", \"15\", \"\")))))))","v":""},null,{"$f":"IF(F15=\"0 to 5 gallons/ 0 to 20 L\", \"1\", IF(F15=\"5 to 20 gallons/ 20 to 75 L\", \"2\", IF(F15=\"20 to 50 gallons/ 75 to 190 L\", \"4\", IF(F15=\"50 to 100 gallons/ 190 to 375 L\", \"6\", IF(F15=\"100 to 500 gallons/ 375 to 1900 L\", \"8\", IF(F15=\"500 to 1000 gallons/ 1900 to 3800 L\", \"10\", IF(F15=\"Greater than 1000 gallons/Greater than 3800 L\", \"15\", \"\")))))))","v":""},null,{"$f":"IF(H15=\"0 to 5 gallons/ 0 to 20 L\", \"1\", IF(H15=\"5 to 20 gallons/ 20 to 75 L\", \"2\", IF(H15=\"20 to 50 gallons/ 75 to 190 L\", \"4\", IF(H15=\"50 to 100 gallons/ 190 to 375 L\", \"6\", IF(H15=\"100 to 500 gallons/ 375 to 1900 L\", \"8\", IF(H15=\"500 to 1000 gallons/ 1900 to 3800 L\", \"10\", IF(H15=\"Greater than 1000 gallons/Greater than 3800 L\", \"15\", \"\")))))))","v":""},null,{"$f":"IF(J15=\"0 to 5 gallons/ 0 to 20 L\", \"1\", IF(J15=\"5 to 20 gallons/ 20 to 75 L\", \"2\", IF(J15=\"20 to 50 gallons/ 75 to 190 L\", \"4\", IF(J15=\"50 to 100 gallons/ 190 to 375 L\", \"6\", IF(J15=\"100 to 500 gallons/ 375 to 1900 L\", \"8\", IF(J15=\"500 to 1000 gallons/ 1900 to 3800 L\", \"10\", IF(J15=\"Greater than 1000 gallons/Greater than 3800 L\", \"15\", \"\")))))))","v":""},null,{"$f":"IF(L15=\"0 to 5 gallons/ 0 to 20 L\", \"1\", IF(L15=\"5 to 20 gallons/ 20 to 75 L\", \"2\", IF(L15=\"20 to 50 gallons/ 75 to 190 L\", \"4\", IF(L15=\"50 to 100 gallons/ 190 to 375 L\", \"6\", IF(L15=\"100 to 500 gallons/ 375 to 1900 L\", \"8\", IF(L15=\"500 to 1000 gallons/ 1900 to 3800 L\", \"10\", IF(L15=\"Greater than 1000 gallons/Greater than 3800 L\", \"15\", \"\")))))))","v":""},null,{"$f":"IF(N15=\"0 to 5 gallons/ 0 to 20 L\", \"1\", IF(N15=\"5 to 20 gallons/ 20 to 75 L\", \"2\", IF(N15=\"20 to 50 gallons/ 75 to 190 L\", \"4\", IF(N15=\"50 to 100 gallons/ 190 to 375 L\", \"6\", IF(N15=\"100 to 500 gallons/ 375 to 1900 L\", \"8\", IF(N15=\"500 to 1000 gallons/ 1900 to 3800 L\", \"10\", IF(N15=\"Greater than 1000 gallons/Greater than 3800 L\", \"15\", \"\")))))))","v":""},null,{"$f":"IF(P15=\"0 to 5 gallons/ 0 to 20 L\", \"1\", IF(P15=\"5 to 20 gallons/ 20 to 75 L\", \"2\", IF(P15=\"20 to 50 gallons/ 75 to 190 L\", \"4\", IF(P15=\"50 to 100 gallons/ 190 to 375 L\", \"6\", IF(P15=\"100 to 500 gallons/ 375 to 1900 L\", \"8\", IF(P15=\"500 to 1000 gallons/ 1900 to 3800 L\", \"10\", IF(P15=\"Greater than 1000 gallons/Greater than 3800 L\", \"15\", \"\")))))))","v":""},null,{"$f":"IF(R15=\"0 to 5 gallons/ 0 to 20 L\", \"1\", IF(R15=\"5 to 20 gallons/ 20 to 75 L\", \"2\", IF(R15=\"20 to 50 gallons/ 75 to 190 L\", \"4\", IF(R15=\"50 to 100 gallons/ 190 to 375 L\", \"6\", IF(R15=\"100 to 500 gallons/ 375 to 1900 L\", \"8\", IF(R15=\"500 to 1000 gallons/ 1900 to 3800 L\", \"10\", IF(R15=\"Greater than 1000 gallons/Greater than 3800 L\", \"15\", \"\")))))))","v":""},null,{"$f":"IF(T15=\"0 to 5 gallons/ 0 to 20 L\", \"1\", IF(T15=\"5 to 20 gallons/ 20 to 75 L\", \"2\", IF(T15=\"20 to 50 gallons/ 75 to 190 L\", \"4\", IF(T15=\"50 to 100 gallons/ 190 to 375 L\", \"6\", IF(T15=\"100 to 500 gallons/ 375 to 1900 L\", \"8\", IF(T15=\"500 to 1000 gallons/ 1900 to 3800 L\", \"10\", IF(T15=\"Greater than 1000 gallons/Greater than 3800 L\", \"15\", \"\")))))))","v":""},null,{"$f":"IF(V15=\"0 to 5 gallons/ 0 to 20 L\", \"1\", IF(V15=\"5 to 20 gallons/ 20 to 75 L\", \"2\", IF(V15=\"20 to 50 gallons/ 75 to 190 L\", \"4\", IF(V15=\"50 to 100 gallons/ 190 to 375 L\", \"6\", IF(V15=\"100 to 500 gallons/ 375 to 1900 L\", \"8\", IF(V15=\"500 to 1000 gallons/ 1900 to 3800 L\", \"10\", IF(V15=\"Greater than 1000 gallons/Greater than 3800 L\", \"15\", \"\")))))))","v":""},null,{"$f":"IF(X15=\"0 to 5 gallons/ 0 to 20 L\", \"1\", IF(X15=\"5 to 20 gallons/ 20 to 75 L\", \"2\", IF(X15=\"20 to 50 gallons/ 75 to 190 L\", \"4\", IF(X15=\"50 to 100 gallons/ 190 to 375 L\", \"6\", IF(X15=\"100 to 500 gallons/ 375 to 1900 L\", \"8\", IF(X15=\"500 to 1000 gallons/ 1900 to 3800 L\", \"10\", IF(X15=\"Greater than 1000 gallons/Greater than 3800 L\", \"15\", \"\")))))))","v":""},null,{"$f":"IF(Z15=\"0 to 5 gallons/ 0 to 20 L\", \"1\", IF(Z15=\"5 to 20 gallons/ 20 to 75 L\", \"2\", IF(Z15=\"20 to 50 gallons/ 75 to 190 L\", \"4\", IF(Z15=\"50 to 100 gallons/ 190 to 375 L\", \"6\", IF(Z15=\"100 to 500 gallons/ 375 to 1900 L\", \"8\", IF(Z15=\"500 to 1000 gallons/ 1900 to 3800 L\", \"10\", IF(Z15=\"Greater than 1000 gallons/Greater than 3800 L\", \"15\", \"\")))))))","v":""},null,{"$f":"IF(AB15=\"0 to 5 gallons/ 0 to 20 L\", \"1\", IF(AB15=\"5 to 20 gallons/ 20 to 75 L\", \"2\", IF(AB15=\"20 to 50 gallons/ 75 to 190 L\", \"4\", IF(AB15=\"50 to 100 gallons/ 190 to 375 L\", \"6\", IF(AB15=\"100 to 500 gallons/ 375 to 1900 L\", \"8\", IF(AB15=\"500 to 1000 gallons/ 1900 to 3800 L\", \"10\", IF(AB15=\"Greater than 1000 gallons/Greater than 3800 L\", \"15\", \"\")))))))","v":""},null,{"$f":"IF(AD15=\"0 to 5 gallons/ 0 to 20 L\", \"1\", IF(AD15=\"5 to 20 gallons/ 20 to 75 L\", \"2\", IF(AD15=\"20 to 50 gallons/ 75 to 190 L\", \"4\", IF(AD15=\"50 to 100 gallons/ 190 to 375 L\", \"6\", IF(AD15=\"100 to 500 gallons/ 375 to 1900 L\", \"8\", IF(AD15=\"500 to 1000 gallons/ 1900 to 3800 L\", \"10\", IF(AD15=\"Greater than 1000 gallons/Greater than 3800 L\", \"15\", \"\")))))))","v":""},null,{"$f":"IF(AF15=\"0 to 5 gallons/ 0 to 20 L\", \"1\", IF(AF15=\"5 to 20 gallons/ 20 to 75 L\", \"2\", IF(AF15=\"20 to 50 gallons/ 75 to 190 L\", \"4\", IF(AF15=\"50 to 100 gallons/ 190 to 375 L\", \"6\", IF(AF15=\"100 to 500 gallons/ 375 to 1900 L\", \"8\", IF(AF15=\"500 to 1000 gallons/ 1900 to 3800 L\", \"10\", IF(AF15=\"Greater than 1000 gallons/Greater than 3800 L\", \"15\", \"\")))))))","v":""},null,{"$f":"IF(AH15=\"0 to 5 gallons/ 0 to 20 L\", \"1\", IF(AH15=\"5 to 20 gallons/ 20 to 75 L\", \"2\", IF(AH15=\"20 to 50 gallons/ 75 to 190 L\", \"4\", IF(AH15=\"50 to 100 gallons/ 190 to 375 L\", \"6\", IF(AH15=\"100 to 500 gallons/ 375 to 1900 L\", \"8\", IF(AH15=\"500 to 1000 gallons/ 1900 to 3800 L\", \"10\", IF(AH15=\"Greater than 1000 gallons/Greater than 3800 L\", \"15\", \"\")))))))","v":""},null,{"$f":"IF(AJ15=\"0 to 5 gallons/ 0 to 20 L\", \"1\", IF(AJ15=\"5 to 20 gallons/ 20 to 75 L\", \"2\", IF(AJ15=\"20 to 50 gallons/ 75 to 190 L\", \"4\", IF(AJ15=\"50 to 100 gallons/ 190 to 375 L\", \"6\", IF(AJ15=\"100 to 500 gallons/ 375 to 1900 L\", \"8\", IF(AJ15=\"500 to 1000 gallons/ 1900 to 3800 L\", \"10\", IF(AJ15=\"Greater than 1000 gallons/Greater than 3800 L\", \"15\", \"\")))))))","v":""},null,{"$f":"IF(AL15=\"0 to 5 gallons/ 0 to 20 L\", \"1\", IF(AL15=\"5 to 20 gallons/ 20 to 75 L\", \"2\", IF(AL15=\"20 to 50 gallons/ 75 to 190 L\", \"4\", IF(AL15=\"50 to 100 gallons/ 190 to 375 L\", \"6\", IF(AL15=\"100 to 500 gallons/ 375 to 1900 L\", \"8\", IF(AL15=\"500 to 1000 gallons/ 1900 to 3800 L\", \"10\", IF(AL15=\"Greater than 1000 gallons/Greater than 3800 L\", \"15\", \"\")))))))","v":""},null,{"$f":"IF(AN15=\"0 to 5 gallons/ 0 to 20 L\", \"1\", IF(AN15=\"5 to 20 gallons/ 20 to 75 L\", \"2\", IF(AN15=\"20 to 50 gallons/ 75 to 190 L\", \"4\", IF(AN15=\"50 to 100 gallons/ 190 to 375 L\", \"6\", IF(AN15=\"100 to 500 gallons/ 375 to 1900 L\", \"8\", IF(AN15=\"500 to 1000 gallons/ 1900 to 3800 L\", \"10\", IF(AN15=\"Greater than 1000 gallons/Greater than 3800 L\", \"15\", \"\")))))))","v":""},null,{"$f":"IF(AP15=\"0 to 5 gallons/ 0 to 20 L\", \"1\", IF(AP15=\"5 to 20 gallons/ 20 to 75 L\", \"2\", IF(AP15=\"20 to 50 gallons/ 75 to 190 L\", \"4\", IF(AP15=\"50 to 100 gallons/ 190 to 375 L\", \"6\", IF(AP15=\"100 to 500 gallons/ 375 to 1900 L\", \"8\", IF(AP15=\"500 to 1000 gallons/ 1900 to 3800 L\", \"10\", IF(AP15=\"Greater than 1000 gallons/Greater than 3800 L\", \"15\", \"\")))))))","v":""},null,{"$f":"IF(AR15=\"0 to 5 gallons/ 0 to 20 L\", \"1\", IF(AR15=\"5 to 20 gallons/ 20 to 75 L\", \"2\", IF(AR15=\"20 to 50 gallons/ 75 to 190 L\", \"4\", IF(AR15=\"50 to 100 gallons/ 190 to 375 L\", \"6\", IF(AR15=\"100 to 500 gallons/ 375 to 1900 L\", \"8\", IF(AR15=\"500 to 1000 gallons/ 1900 to 3800 L\", \"10\", IF(AR15=\"Greater than 1000 gallons/Greater than 3800 L\", \"15\", \"\")))))))","v":""},null,{"$f":"IF(AT15=\"0 to 5 gallons/ 0 to 20 L\", \"1\", IF(AT15=\"5 to 20 gallons/ 20 to 75 L\", \"2\", IF(AT15=\"20 to 50 gallons/ 75 to 190 L\", \"4\", IF(AT15=\"50 to 100 gallons/ 190 to 375 L\", \"6\", IF(AT15=\"100 to 500 gallons/ 375 to 1900 L\", \"8\", IF(AT15=\"500 to 1000 gallons/ 1900 to 3800 L\", \"10\", IF(AT15=\"Greater than 1000 gallons/Greater than 3800 L\", \"15\", \"\")))))))","v":""},null,{"$f":"IF(AV15=\"0 to 5 gallons/ 0 to 20 L\", \"1\", IF(AV15=\"5 to 20 gallons/ 20 to 75 L\", \"2\", IF(AV15=\"20 to 50 gallons/ 75 to 190 L\", \"4\", IF(AV15=\"50 to 100 gallons/ 190 to 375 L\", \"6\", IF(AV15=\"100 to 500 gallons/ 375 to 1900 L\", \"8\", IF(AV15=\"500 to 1000 gallons/ 1900 to 3800 L\", \"10\", IF(AV15=\"Greater than 1000 gallons/Greater than 3800 L\", \"15\", \"\")))))))","v":""},null,{"$f":"IF(AX15=\"0 to 5 gallons/ 0 to 20 L\", \"1\", IF(AX15=\"5 to 20 gallons/ 20 to 75 L\", \"2\", IF(AX15=\"20 to 50 gallons/ 75 to 190 L\", \"4\", IF(AX15=\"50 to 100 gallons/ 190 to 375 L\", \"6\", IF(AX15=\"100 to 500 gallons/ 375 to 1900 L\", \"8\", IF(AX15=\"500 to 1000 gallons/ 1900 to 3800 L\", \"10\", IF(AX15=\"Greater than 1000 gallons/Greater than 3800 L\", \"15\", \"\")))))))","v":""},null,{"$f":"IF(AZ15=\"0 to 5 gallons/ 0 to 20 L\", \"1\", IF(AZ15=\"5 to 20 gallons/ 20 to 75 L\", \"2\", IF(AZ15=\"20 to 50 gallons/ 75 to 190 L\", \"4\", IF(AZ15=\"50 to 100 gallons/ 190 to 375 L\", \"6\", IF(AZ15=\"100 to 500 gallons/ 375 to 1900 L\", \"8\", IF(AZ15=\"500 to 1000 gallons/ 1900 to 3800 L\", \"10\", IF(AZ15=\"Greater than 1000 gallons/Greater than 3800 L\", \"15\", \"\")))))))","v":""},null,{"$f":"IF(BB15=\"0 to 5 gallons/ 0 to 20 L\", \"1\", IF(BB15=\"5 to 20 gallons/ 20 to 75 L\", \"2\", IF(BB15=\"20 to 50 gallons/ 75 to 190 L\", \"4\", IF(BB15=\"50 to 100 gallons/ 190 to 375 L\", \"6\", IF(BB15=\"100 to 500 gallons/ 375 to 1900 L\", \"8\", IF(BB15=\"500 to 1000 gallons/ 1900 to 3800 L\", \"10\", IF(BB15=\"Greater than 1000 gallons/Greater than 3800 L\", \"15\", \"\")))))))","v":""},null,{"$f":"IF(BD15=\"0 to 5 gallons/ 0 to 20 L\", \"1\", IF(BD15=\"5 to 20 gallons/ 20 to 75 L\", \"2\", IF(BD15=\"20 to 50 gallons/ 75 to 190 L\", \"4\", IF(BD15=\"50 to 100 gallons/ 190 to 375 L\", \"6\", IF(BD15=\"100 to 500 gallons/ 375 to 1900 L\", \"8\", IF(BD15=\"500 to 1000 gallons/ 1900 to 3800 L\", \"10\", IF(BD15=\"Greater than 1000 gallons/Greater than 3800 L\", \"15\", \"\")))))))","v":""},null,{"$f":"IF(BF15=\"0 to 5 gallons/ 0 to 20 L\", \"1\", IF(BF15=\"5 to 20 gallons/ 20 to 75 L\", \"2\", IF(BF15=\"20 to 50 gallons/ 75 to 190 L\", \"4\", IF(BF15=\"50 to 100 gallons/ 190 to 375 L\", \"6\", IF(BF15=\"100 to 500 gallons/ 375 to 1900 L\", \"8\", IF(BF15=\"500 to 1000 gallons/ 1900 to 3800 L\", \"10\", IF(BF15=\"Greater than 1000 gallons/Greater than 3800 L\", \"15\", \"\")))))))","v":""},null,{"$f":"IF(BH15=\"0 to 5 gallons/ 0 to 20 L\", \"1\", IF(BH15=\"5 to 20 gallons/ 20 to 75 L\", \"2\", IF(BH15=\"20 to 50 gallons/ 75 to 190 L\", \"4\", IF(BH15=\"50 to 100 gallons/ 190 to 375 L\", \"6\", IF(BH15=\"100 to 500 gallons/ 375 to 1900 L\", \"8\", IF(BH15=\"500 to 1000 gallons/ 1900 to 3800 L\", \"10\", IF(BH15=\"Greater than 1000 gallons/Greater than 3800 L\", \"15\", \"\")))))))","v":""},null,{"$f":"IF(BJ15=\"0 to 5 gallons/ 0 to 20 L\", \"1\", IF(BJ15=\"5 to 20 gallons/ 20 to 75 L\", \"2\", IF(BJ15=\"20 to 50 gallons/ 75 to 190 L\", \"4\", IF(BJ15=\"50 to 100 gallons/ 190 to 375 L\", \"6\", IF(BJ15=\"100 to 500 gallons/ 375 to 1900 L\", \"8\", IF(BJ15=\"500 to 1000 gallons/ 1900 to 3800 L\", \"10\", IF(BJ15=\"Greater than 1000 gallons/Greater than 3800 L\", \"15\", \"\")))))))","v":""},null,{"$f":"IF(BL15=\"0 to 5 gallons/ 0 to 20 L\", \"1\", IF(BL15=\"5 to 20 gallons/ 20 to 75 L\", \"2\", IF(BL15=\"20 to 50 gallons/ 75 to 190 L\", \"4\", IF(BL15=\"50 to 100 gallons/ 190 to 375 L\", \"6\", IF(BL15=\"100 to 500 gallons/ 375 to 1900 L\", \"8\", IF(BL15=\"500 to 1000 gallons/ 1900 to 3800 L\", \"10\", IF(BL15=\"Greater than 1000 gallons/Greater than 3800 L\", \"15\", \"\")))))))","v":""},null,{"$f":"IF(BN15=\"0 to 5 gallons/ 0 to 20 L\", \"1\", IF(BN15=\"5 to 20 gallons/ 20 to 75 L\", \"2\", IF(BN15=\"20 to 50 gallons/ 75 to 190 L\", \"4\", IF(BN15=\"50 to 100 gallons/ 190 to 375 L\", \"6\", IF(BN15=\"100 to 500 gallons/ 375 to 1900 L\", \"8\", IF(BN15=\"500 to 1000 gallons/ 1900 to 3800 L\", \"10\", IF(BN15=\"Greater than 1000 gallons/Greater than 3800 L\", \"15\", \"\")))))))","v":""},null,{"$f":"IF(BP15=\"0 to 5 gallons/ 0 to 20 L\", \"1\", IF(BP15=\"5 to 20 gallons/ 20 to 75 L\", \"2\", IF(BP15=\"20 to 50 gallons/ 75 to 190 L\", \"4\", IF(BP15=\"50 to 100 gallons/ 190 to 375 L\", \"6\", IF(BP15=\"100 to 500 gallons/ 375 to 1900 L\", \"8\", IF(BP15=\"500 to 1000 gallons/ 1900 to 3800 L\", \"10\", IF(BP15=\"Greater than 1000 gallons/Greater than 3800 L\", \"15\", \"\")))))))","v":""},null,{"$f":"IF(BR15=\"0 to 5 gallons/ 0 to 20 L\", \"1\", IF(BR15=\"5 to 20 gallons/ 20 to 75 L\", \"2\", IF(BR15=\"20 to 50 gallons/ 75 to 190 L\", \"4\", IF(BR15=\"50 to 100 gallons/ 190 to 375 L\", \"6\", IF(BR15=\"100 to 500 gallons/ 375 to 1900 L\", \"8\", IF(BR15=\"500 to 1000 gallons/ 1900 to 3800 L\", \"10\", IF(BR15=\"Greater than 1000 gallons/Greater than 3800 L\", \"15\", \"\")))))))","v":""},null,{"$f":"IF(BT15=\"0 to 5 gallons/ 0 to 20 L\", \"1\", IF(BT15=\"5 to 20 gallons/ 20 to 75 L\", \"2\", IF(BT15=\"20 to 50 gallons/ 75 to 190 L\", \"4\", IF(BT15=\"50 to 100 gallons/ 190 to 375 L\", \"6\", IF(BT15=\"100 to 500 gallons/ 375 to 1900 L\", \"8\", IF(BT15=\"500 to 1000 gallons/ 1900 to 3800 L\", \"10\", IF(BT15=\"Greater than 1000 gallons/Greater than 3800 L\", \"15\", \"\")))))))","v":""},null,{"$f":"IF(BV15=\"0 to 5 gallons/ 0 to 20 L\", \"1\", IF(BV15=\"5 to 20 gallons/ 20 to 75 L\", \"2\", IF(BV15=\"20 to 50 gallons/ 75 to 190 L\", \"4\", IF(BV15=\"50 to 100 gallons/ 190 to 375 L\", \"6\", IF(BV15=\"100 to 500 gallons/ 375 to 1900 L\", \"8\", IF(BV15=\"500 to 1000 gallons/ 1900 to 3800 L\", \"10\", IF(BV15=\"Greater than 1000 gallons/Greater than 3800 L\", \"15\", \"\")))))))","v":""},null,{"$f":"IF(BX15=\"0 to 5 gallons/ 0 to 20 L\", \"1\", IF(BX15=\"5 to 20 gallons/ 20 to 75 L\", \"2\", IF(BX15=\"20 to 50 gallons/ 75 to 190 L\", \"4\", IF(BX15=\"50 to 100 gallons/ 190 to 375 L\", \"6\", IF(BX15=\"100 to 500 gallons/ 375 to 1900 L\", \"8\", IF(BX15=\"500 to 1000 gallons/ 1900 to 3800 L\", \"10\", IF(BX15=\"Greater than 1000 gallons/Greater than 3800 L\", \"15\", \"\")))))))","v":""},null,{"$f":"IF(BZ15=\"0 to 5 gallons/ 0 to 20 L\", \"1\", IF(BZ15=\"5 to 20 gallons/ 20 to 75 L\", \"2\", IF(BZ15=\"20 to 50 gallons/ 75 to 190 L\", \"4\", IF(BZ15=\"50 to 100 gallons/ 190 to 375 L\", \"6\", IF(BZ15=\"100 to 500 gallons/ 375 to 1900 L\", \"8\", IF(BZ15=\"500 to 1000 gallons/ 1900 to 3800 L\", \"10\", IF(BZ15=\"Greater than 1000 gallons/Greater than 3800 L\", \"15\", \"\")))))))","v":""},null,{"$f":"IF(CB15=\"0 to 5 gallons/ 0 to 20 L\", \"1\", IF(CB15=\"5 to 20 gallons/ 20 to 75 L\", \"2\", IF(CB15=\"20 to 50 gallons/ 75 to 190 L\", \"4\", IF(CB15=\"50 to 100 gallons/ 190 to 375 L\", \"6\", IF(CB15=\"100 to 500 gallons/ 375 to 1900 L\", \"8\", IF(CB15=\"500 to 1000 gallons/ 1900 to 3800 L\", \"10\", IF(CB15=\"Greater than 1000 gallons/Greater than 3800 L\", \"15\", \"\")))))))","v":""},null,{"$f":"IF(CD15=\"0 to 5 gallons/ 0 to 20 L\", \"1\", IF(CD15=\"5 to 20 gallons/ 20 to 75 L\", \"2\", IF(CD15=\"20 to 50 gallons/ 75 to 190 L\", \"4\", IF(CD15=\"50 to 100 gallons/ 190 to 375 L\", \"6\", IF(CD15=\"100 to 500 gallons/ 375 to 1900 L\", \"8\", IF(CD15=\"500 to 1000 gallons/ 1900 to 3800 L\", \"10\", IF(CD15=\"Greater than 1000 gallons/Greater than 3800 L\", \"15\", \"\")))))))","v":""},null,{"$f":"IF(CF15=\"0 to 5 gallons/ 0 to 20 L\", \"1\", IF(CF15=\"5 to 20 gallons/ 20 to 75 L\", \"2\", IF(CF15=\"20 to 50 gallons/ 75 to 190 L\", \"4\", IF(CF15=\"50 to 100 gallons/ 190 to 375 L\", \"6\", IF(CF15=\"100 to 500 gallons/ 375 to 1900 L\", \"8\", IF(CF15=\"500 to 1000 gallons/ 1900 to 3800 L\", \"10\", IF(CF15=\"Greater than 1000 gallons/Greater than 3800 L\", \"15\", \"\")))))))","v":""},null,{"$f":"IF(CH15=\"0 to 5 gallons/ 0 to 20 L\", \"1\", IF(CH15=\"5 to 20 gallons/ 20 to 75 L\", \"2\", IF(CH15=\"20 to 50 gallons/ 75 to 190 L\", \"4\", IF(CH15=\"50 to 100 gallons/ 190 to 375 L\", \"6\", IF(CH15=\"100 to 500 gallons/ 375 to 1900 L\", \"8\", IF(CH15=\"500 to 1000 gallons/ 1900 to 3800 L\", \"10\", IF(CH15=\"Greater than 1000 gallons/Greater than 3800 L\", \"15\", \"\")))))))","v":""},null,{"$f":"IF(CJ15=\"0 to 5 gallons/ 0 to 20 L\", \"1\", IF(CJ15=\"5 to 20 gallons/ 20 to 75 L\", \"2\", IF(CJ15=\"20 to 50 gallons/ 75 to 190 L\", \"4\", IF(CJ15=\"50 to 100 gallons/ 190 to 375 L\", \"6\", IF(CJ15=\"100 to 500 gallons/ 375 to 1900 L\", \"8\", IF(CJ15=\"500 to 1000 gallons/ 1900 to 3800 L\", \"10\", IF(CJ15=\"Greater than 1000 gallons/Greater than 3800 L\", \"15\", \"\")))))))","v":""},null,{"$f":"IF(CL15=\"0 to 5 gallons/ 0 to 20 L\", \"1\", IF(CL15=\"5 to 20 gallons/ 20 to 75 L\", \"2\", IF(CL15=\"20 to 50 gallons/ 75 to 190 L\", \"4\", IF(CL15=\"50 to 100 gallons/ 190 to 375 L\", \"6\", IF(CL15=\"100 to 500 gallons/ 375 to 1900 L\", \"8\", IF(CL15=\"500 to 1000 gallons/ 1900 to 3800 L\", \"10\", IF(CL15=\"Greater than 1000 gallons/Greater than 3800 L\", \"15\", \"\")))))))","v":""},null,{"$f":"IF(CN15=\"0 to 5 gallons/ 0 to 20 L\", \"1\", IF(CN15=\"5 to 20 gallons/ 20 to 75 L\", \"2\", IF(CN15=\"20 to 50 gallons/ 75 to 190 L\", \"4\", IF(CN15=\"50 to 100 gallons/ 190 to 375 L\", \"6\", IF(CN15=\"100 to 500 gallons/ 375 to 1900 L\", \"8\", IF(CN15=\"500 to 1000 gallons/ 1900 to 3800 L\", \"10\", IF(CN15=\"Greater than 1000 gallons/Greater than 3800 L\", \"15\", \"\")))))))","v":""},null,{"$f":"IF(CP15=\"0 to 5 gallons/ 0 to 20 L\", \"1\", IF(CP15=\"5 to 20 gallons/ 20 to 75 L\", \"2\", IF(CP15=\"20 to 50 gallons/ 75 to 190 L\", \"4\", IF(CP15=\"50 to 100 gallons/ 190 to 375 L\", \"6\", IF(CP15=\"100 to 500 gallons/ 375 to 1900 L\", \"8\", IF(CP15=\"500 to 1000 gallons/ 1900 to 3800 L\", \"10\", IF(CP15=\"Greater than 1000 gallons/Greater than 3800 L\", \"15\", \"\")))))))","v":""},null,{"$f":"IF(CR15=\"0 to 5 gallons/ 0 to 20 L\", \"1\", IF(CR15=\"5 to 20 gallons/ 20 to 75 L\", \"2\", IF(CR15=\"20 to 50 gallons/ 75 to 190 L\", \"4\", IF(CR15=\"50 to 100 gallons/ 190 to 375 L\", \"6\", IF(CR15=\"100 to 500 gallons/ 375 to 1900 L\", \"8\", IF(CR15=\"500 to 1000 gallons/ 1900 to 3800 L\", \"10\", IF(CR15=\"Greater than 1000 gallons/Greater than 3800 L\", \"15\", \"\")))))))","v":""},null,{"$f":"IF(CT15=\"0 to 5 gallons/ 0 to 20 L\", \"1\", IF(CT15=\"5 to 20 gallons/ 20 to 75 L\", \"2\", IF(CT15=\"20 to 50 gallons/ 75 to 190 L\", \"4\", IF(CT15=\"50 to 100 gallons/ 190 to 375 L\", \"6\", IF(CT15=\"100 to 500 gallons/ 375 to 1900 L\", \"8\", IF(CT15=\"500 to 1000 gallons/ 1900 to 3800 L\", \"10\", IF(CT15=\"Greater than 1000 gallons/Greater than 3800 L\", \"15\", \"\")))))))","v":""},null,{"$f":"IF(CV15=\"0 to 5 gallons/ 0 to 20 L\", \"1\", IF(CV15=\"5 to 20 gallons/ 20 to 75 L\", \"2\", IF(CV15=\"20 to 50 gallons/ 75 to 190 L\", \"4\", IF(CV15=\"50 to 100 gallons/ 190 to 375 L\", \"6\", IF(CV15=\"100 to 500 gallons/ 375 to 1900 L\", \"8\", IF(CV15=\"500 to 1000 gallons/ 1900 to 3800 L\", \"10\", IF(CV15=\"Greater than 1000 gallons/Greater than 3800 L\", \"15\", \"\")))))))","v":""},null,{"$f":"IF(CX15=\"0 to 5 gallons/ 0 to 20 L\", \"1\", IF(CX15=\"5 to 20 gallons/ 20 to 75 L\", \"2\", IF(CX15=\"20 to 50 gallons/ 75 to 190 L\", \"4\", IF(CX15=\"50 to 100 gallons/ 190 to 375 L\", \"6\", IF(CX15=\"100 to 500 gallons/ 375 to 1900 L\", \"8\", IF(CX15=\"500 to 1000 gallons/ 1900 to 3800 L\", \"10\", IF(CX15=\"Greater than 1000 gallons/Greater than 3800 L\", \"15\", \"\")))))))","v":""},null,{"$f":"IF(CZ15=\"0 to 5 gallons/ 0 to 20 L\", \"1\", IF(CZ15=\"5 to 20 gallons/ 20 to 75 L\", \"2\", IF(CZ15=\"20 to 50 gallons/ 75 to 190 L\", \"4\", IF(CZ15=\"50 to 100 gallons/ 190 to 375 L\", \"6\", IF(CZ15=\"100 to 500 gallons/ 375 to 1900 L\", \"8\", IF(CZ15=\"500 to 1000 gallons/ 1900 to 3800 L\", \"10\", IF(CZ15=\"Greater than 1000 gallons/Greater than 3800 L\", \"15\", \"\")))))))","v":""},null,{"$f":"IF(DB15=\"0 to 5 gallons/ 0 to 20 L\", \"1\", IF(DB15=\"5 to 20 gallons/ 20 to 75 L\", \"2\", IF(DB15=\"20 to 50 gallons/ 75 to 190 L\", \"4\", IF(DB15=\"50 to 100 gallons/ 190 to 375 L\", \"6\", IF(DB15=\"100 to 500 gallons/ 375 to 1900 L\", \"8\", IF(DB15=\"500 to 1000 gallons/ 1900 to 3800 L\", \"10\", IF(DB15=\"Greater than 1000 gallons/Greater than 3800 L\", \"15\", \"\")))))))","v":""},null,{"$f":"IF(DD15=\"0 to 5 gallons/ 0 to 20 L\", \"1\", IF(DD15=\"5 to 20 gallons/ 20 to 75 L\", \"2\", IF(DD15=\"20 to 50 gallons/ 75 to 190 L\", \"4\", IF(DD15=\"50 to 100 gallons/ 190 to 375 L\", \"6\", IF(DD15=\"100 to 500 gallons/ 375 to 1900 L\", \"8\", IF(DD15=\"500 to 1000 gallons/ 1900 to 3800 L\", \"10\", IF(DD15=\"Greater than 1000 gallons/Greater than 3800 L\", \"15\", \"\")))))))","v":""},null,{"$f":"IF(DF15=\"0 to 5 gallons/ 0 to 20 L\", \"1\", IF(DF15=\"5 to 20 gallons/ 20 to 75 L\", \"2\", IF(DF15=\"20 to 50 gallons/ 75 to 190 L\", \"4\", IF(DF15=\"50 to 100 gallons/ 190 to 375 L\", \"6\", IF(DF15=\"100 to 500 gallons/ 375 to 1900 L\", \"8\", IF(DF15=\"500 to 1000 gallons/ 1900 to 3800 L\", \"10\", IF(DF15=\"Greater than 1000 gallons/Greater than 3800 L\", \"15\", \"\")))))))","v":""},null,{"$f":"IF(DH15=\"0 to 5 gallons/ 0 to 20 L\", \"1\", IF(DH15=\"5 to 20 gallons/ 20 to 75 L\", \"2\", IF(DH15=\"20 to 50 gallons/ 75 to 190 L\", \"4\", IF(DH15=\"50 to 100 gallons/ 190 to 375 L\", \"6\", IF(DH15=\"100 to 500 gallons/ 375 to 1900 L\", \"8\", IF(DH15=\"500 to 1000 gallons/ 1900 to 3800 L\", \"10\", IF(DH15=\"Greater than 1000 gallons/Greater than 3800 L\", \"15\", \"\")))))))","v":""},null,{"$f":"IF(DJ15=\"0 to 5 gallons/ 0 to 20 L\", \"1\", IF(DJ15=\"5 to 20 gallons/ 20 to 75 L\", \"2\", IF(DJ15=\"20 to 50 gallons/ 75 to 190 L\", \"4\", IF(DJ15=\"50 to 100 gallons/ 190 to 375 L\", \"6\", IF(DJ15=\"100 to 500 gallons/ 375 to 1900 L\", \"8\", IF(DJ15=\"500 to 1000 gallons/ 1900 to 3800 L\", \"10\", IF(DJ15=\"Greater than 1000 gallons/Greater than 3800 L\", \"15\", \"\")))))))","v":""},null,{"$f":"IF(DL15=\"0 to 5 gallons/ 0 to 20 L\", \"1\", IF(DL15=\"5 to 20 gallons/ 20 to 75 L\", \"2\", IF(DL15=\"20 to 50 gallons/ 75 to 190 L\", \"4\", IF(DL15=\"50 to 100 gallons/ 190 to 375 L\", \"6\", IF(DL15=\"100 to 500 gallons/ 375 to 1900 L\", \"8\", IF(DL15=\"500 to 1000 gallons/ 1900 to 3800 L\", \"10\", IF(DL15=\"Greater than 1000 gallons/Greater than 3800 L\", \"15\", \"\")))))))","v":""},null,{"$f":"IF(DN15=\"0 to 5 gallons/ 0 to 20 L\", \"1\", IF(DN15=\"5 to 20 gallons/ 20 to 75 L\", \"2\", IF(DN15=\"20 to 50 gallons/ 75 to 190 L\", \"4\", IF(DN15=\"50 to 100 gallons/ 190 to 375 L\", \"6\", IF(DN15=\"100 to 500 gallons/ 375 to 1900 L\", \"8\", IF(DN15=\"500 to 1000 gallons/ 1900 to 3800 L\", \"10\", IF(DN15=\"Greater than 1000 gallons/Greater than 3800 L\", \"15\", \"\")))))))","v":""},null,{"$f":"IF(DP15=\"0 to 5 gallons/ 0 to 20 L\", \"1\", IF(DP15=\"5 to 20 gallons/ 20 to 75 L\", \"2\", IF(DP15=\"20 to 50 gallons/ 75 to 190 L\", \"4\", IF(DP15=\"50 to 100 gallons/ 190 to 375 L\", \"6\", IF(DP15=\"100 to 500 gallons/ 375 to 1900 L\", \"8\", IF(DP15=\"500 to 1000 gallons/ 1900 to 3800 L\", \"10\", IF(DP15=\"Greater than 1000 gallons/Greater than 3800 L\", \"15\", \"\")))))))","v":""},null,{"$f":"IF(DR15=\"0 to 5 gallons/ 0 to 20 L\", \"1\", IF(DR15=\"5 to 20 gallons/ 20 to 75 L\", \"2\", IF(DR15=\"20 to 50 gallons/ 75 to 190 L\", \"4\", IF(DR15=\"50 to 100 gallons/ 190 to 375 L\", \"6\", IF(DR15=\"100 to 500 gallons/ 375 to 1900 L\", \"8\", IF(DR15=\"500 to 1000 gallons/ 1900 to 3800 L\", \"10\", IF(DR15=\"Greater than 1000 gallons/Greater than 3800 L\", \"15\", \"\")))))))","v":""},null,{"$f":"IF(DT15=\"0 to 5 gallons/ 0 to 20 L\", \"1\", IF(DT15=\"5 to 20 gallons/ 20 to 75 L\", \"2\", IF(DT15=\"20 to 50 gallons/ 75 to 190 L\", \"4\", IF(DT15=\"50 to 100 gallons/ 190 to 375 L\", \"6\", IF(DT15=\"100 to 500 gallons/ 375 to 1900 L\", \"8\", IF(DT15=\"500 to 1000 gallons/ 1900 to 3800 L\", \"10\", IF(DT15=\"Greater than 1000 gallons/Greater than 3800 L\", \"15\", \"\")))))))","v":""},null,{"$f":"IF(DV15=\"0 to 5 gallons/ 0 to 20 L\", \"1\", IF(DV15=\"5 to 20 gallons/ 20 to 75 L\", \"2\", IF(DV15=\"20 to 50 gallons/ 75 to 190 L\", \"4\", IF(DV15=\"50 to 100 gallons/ 190 to 375 L\", \"6\", IF(DV15=\"100 to 500 gallons/ 375 to 1900 L\", \"8\", IF(DV15=\"500 to 1000 gallons/ 1900 to 3800 L\", \"10\", IF(DV15=\"Greater than 1000 gallons/Greater than 3800 L\", \"15\", \"\")))))))","v":""},null,{"$f":"IF(DX15=\"0 to 5 gallons/ 0 to 20 L\", \"1\", IF(DX15=\"5 to 20 gallons/ 20 to 75 L\", \"2\", IF(DX15=\"20 to 50 gallons/ 75 to 190 L\", \"4\", IF(DX15=\"50 to 100 gallons/ 190 to 375 L\", \"6\", IF(DX15=\"100 to 500 gallons/ 375 to 1900 L\", \"8\", IF(DX15=\"500 to 1000 gallons/ 1900 to 3800 L\", \"10\", IF(DX15=\"Greater than 1000 gallons/Greater than 3800 L\", \"15\", \"\")))))))","v":""},null,{"$f":"IF(DZ15=\"0 to 5 gallons/ 0 to 20 L\", \"1\", IF(DZ15=\"5 to 20 gallons/ 20 to 75 L\", \"2\", IF(DZ15=\"20 to 50 gallons/ 75 to 190 L\", \"4\", IF(DZ15=\"50 to 100 gallons/ 190 to 375 L\", \"6\", IF(DZ15=\"100 to 500 gallons/ 375 to 1900 L\", \"8\", IF(DZ15=\"500 to 1000 gallons/ 1900 to 3800 L\", \"10\", IF(DZ15=\"Greater than 1000 gallons/Greater than 3800 L\", \"15\", \"\")))))))","v":""},null,{"$f":"IF(EB15=\"0 to 5 gallons/ 0 to 20 L\", \"1\", IF(EB15=\"5 to 20 gallons/ 20 to 75 L\", \"2\", IF(EB15=\"20 to 50 gallons/ 75 to 190 L\", \"4\", IF(EB15=\"50 to 100 gallons/ 190 to 375 L\", \"6\", IF(EB15=\"100 to 500 gallons/ 375 to 1900 L\", \"8\", IF(EB15=\"500 to 1000 gallons/ 1900 to 3800 L\", \"10\", IF(EB15=\"Greater than 1000 gallons/Greater than 3800 L\", \"15\", \"\")))))))","v":""},null,{"$f":"IF(ED15=\"0 to 5 gallons/ 0 to 20 L\", \"1\", IF(ED15=\"5 to 20 gallons/ 20 to 75 L\", \"2\", IF(ED15=\"20 to 50 gallons/ 75 to 190 L\", \"4\", IF(ED15=\"50 to 100 gallons/ 190 to 375 L\", \"6\", IF(ED15=\"100 to 500 gallons/ 375 to 1900 L\", \"8\", IF(ED15=\"500 to 1000 gallons/ 1900 to 3800 L\", \"10\", IF(ED15=\"Greater than 1000 gallons/Greater than 3800 L\", \"15\", \"\")))))))","v":""},null,{"$f":"IF(EF15=\"0 to 5 gallons/ 0 to 20 L\", \"1\", IF(EF15=\"5 to 20 gallons/ 20 to 75 L\", \"2\", IF(EF15=\"20 to 50 gallons/ 75 to 190 L\", \"4\", IF(EF15=\"50 to 100 gallons/ 190 to 375 L\", \"6\", IF(EF15=\"100 to 500 gallons/ 375 to 1900 L\", \"8\", IF(EF15=\"500 to 1000 gallons/ 1900 to 3800 L\", \"10\", IF(EF15=\"Greater than 1000 gallons/Greater than 3800 L\", \"15\", \"\")))))))","v":""},null,{"$f":"IF(EH15=\"0 to 5 gallons/ 0 to 20 L\", \"1\", IF(EH15=\"5 to 20 gallons/ 20 to 75 L\", \"2\", IF(EH15=\"20 to 50 gallons/ 75 to 190 L\", \"4\", IF(EH15=\"50 to 100 gallons/ 190 to 375 L\", \"6\", IF(EH15=\"100 to 500 gallons/ 375 to 1900 L\", \"8\", IF(EH15=\"500 to 1000 gallons/ 1900 to 3800 L\", \"10\", IF(EH15=\"Greater than 1000 gallons/Greater than 3800 L\", \"15\", \"\")))))))","v":""},null,{"$f":"IF(EJ15=\"0 to 5 gallons/ 0 to 20 L\", \"1\", IF(EJ15=\"5 to 20 gallons/ 20 to 75 L\", \"2\", IF(EJ15=\"20 to 50 gallons/ 75 to 190 L\", \"4\", IF(EJ15=\"50 to 100 gallons/ 190 to 375 L\", \"6\", IF(EJ15=\"100 to 500 gallons/ 375 to 1900 L\", \"8\", IF(EJ15=\"500 to 1000 gallons/ 1900 to 3800 L\", \"10\", IF(EJ15=\"Greater than 1000 gallons/Greater than 3800 L\", \"15\", \"\")))))))","v":""},null,{"$f":"IF(EL15=\"0 to 5 gallons/ 0 to 20 L\", \"1\", IF(EL15=\"5 to 20 gallons/ 20 to 75 L\", \"2\", IF(EL15=\"20 to 50 gallons/ 75 to 190 L\", \"4\", IF(EL15=\"50 to 100 gallons/ 190 to 375 L\", \"6\", IF(EL15=\"100 to 500 gallons/ 375 to 1900 L\", \"8\", IF(EL15=\"500 to 1000 gallons/ 1900 to 3800 L\", \"10\", IF(EL15=\"Greater than 1000 gallons/Greater than 3800 L\", \"15\", \"\")))))))","v":""},null,{"$f":"IF(EN15=\"0 to 5 gallons/ 0 to 20 L\", \"1\", IF(EN15=\"5 to 20 gallons/ 20 to 75 L\", \"2\", IF(EN15=\"20 to 50 gallons/ 75 to 190 L\", \"4\", IF(EN15=\"50 to 100 gallons/ 190 to 375 L\", \"6\", IF(EN15=\"100 to 500 gallons/ 375 to 1900 L\", \"8\", IF(EN15=\"500 to 1000 gallons/ 1900 to 3800 L\", \"10\", IF(EN15=\"Greater than 1000 gallons/Greater than 3800 L\", \"15\", \"\")))))))","v":""},null,{"$f":"IF(EP15=\"0 to 5 gallons/ 0 to 20 L\", \"1\", IF(EP15=\"5 to 20 gallons/ 20 to 75 L\", \"2\", IF(EP15=\"20 to 50 gallons/ 75 to 190 L\", \"4\", IF(EP15=\"50 to 100 gallons/ 190 to 375 L\", \"6\", IF(EP15=\"100 to 500 gallons/ 375 to 1900 L\", \"8\", IF(EP15=\"500 to 1000 gallons/ 1900 to 3800 L\", \"10\", IF(EP15=\"Greater than 1000 gallons/Greater than 3800 L\", \"15\", \"\")))))))","v":""},null,{"$f":"IF(ER15=\"0 to 5 gallons/ 0 to 20 L\", \"1\", IF(ER15=\"5 to 20 gallons/ 20 to 75 L\", \"2\", IF(ER15=\"20 to 50 gallons/ 75 to 190 L\", \"4\", IF(ER15=\"50 to 100 gallons/ 190 to 375 L\", \"6\", IF(ER15=\"100 to 500 gallons/ 375 to 1900 L\", \"8\", IF(ER15=\"500 to 1000 gallons/ 1900 to 3800 L\", \"10\", IF(ER15=\"Greater than 1000 gallons/Greater than 3800 L\", \"15\", \"\")))))))","v":""},null,{"$f":"IF(ET15=\"0 to 5 gallons/ 0 to 20 L\", \"1\", IF(ET15=\"5 to 20 gallons/ 20 to 75 L\", \"2\", IF(ET15=\"20 to 50 gallons/ 75 to 190 L\", \"4\", IF(ET15=\"50 to 100 gallons/ 190 to 375 L\", \"6\", IF(ET15=\"100 to 500 gallons/ 375 to 1900 L\", \"8\", IF(ET15=\"500 to 1000 gallons/ 1900 to 3800 L\", \"10\", IF(ET15=\"Greater than 1000 gallons/Greater than 3800 L\", \"15\", \"\")))))))","v":""},null,{"$f":"IF(EV15=\"0 to 5 gallons/ 0 to 20 L\", \"1\", IF(EV15=\"5 to 20 gallons/ 20 to 75 L\", \"2\", IF(EV15=\"20 to 50 gallons/ 75 to 190 L\", \"4\", IF(EV15=\"50 to 100 gallons/ 190 to 375 L\", \"6\", IF(EV15=\"100 to 500 gallons/ 375 to 1900 L\", \"8\", IF(EV15=\"500 to 1000 gallons/ 1900 to 3800 L\", \"10\", IF(EV15=\"Greater than 1000 gallons/Greater than 3800 L\", \"15\", \"\")))))))","v":""},null,{"$f":"IF(EX15=\"0 to 5 gallons/ 0 to 20 L\", \"1\", IF(EX15=\"5 to 20 gallons/ 20 to 75 L\", \"2\", IF(EX15=\"20 to 50 gallons/ 75 to 190 L\", \"4\", IF(EX15=\"50 to 100 gallons/ 190 to 375 L\", \"6\", IF(EX15=\"100 to 500 gallons/ 375 to 1900 L\", \"8\", IF(EX15=\"500 to 1000 gallons/ 1900 to 3800 L\", \"10\", IF(EX15=\"Greater than 1000 gallons/Greater than 3800 L\", \"15\", \"\")))))))","v":""},null,{"$f":"IF(EZ15=\"0 to 5 gallons/ 0 to 20 L\", \"1\", IF(EZ15=\"5 to 20 gallons/ 20 to 75 L\", \"2\", IF(EZ15=\"20 to 50 gallons/ 75 to 190 L\", \"4\", IF(EZ15=\"50 to 100 gallons/ 190 to 375 L\", \"6\", IF(EZ15=\"100 to 500 gallons/ 375 to 1900 L\", \"8\", IF(EZ15=\"500 to 1000 gallons/ 1900 to 3800 L\", \"10\", IF(EZ15=\"Greater than 1000 gallons/Greater than 3800 L\", \"15\", \"\")))))))","v":""},null,{"$f":"IF(FB15=\"0 to 5 gallons/ 0 to 20 L\", \"1\", IF(FB15=\"5 to 20 gallons/ 20 to 75 L\", \"2\", IF(FB15=\"20 to 50 gallons/ 75 to 190 L\", \"4\", IF(FB15=\"50 to 100 gallons/ 190 to 375 L\", \"6\", IF(FB15=\"100 to 500 gallons/ 375 to 1900 L\", \"8\", IF(FB15=\"500 to 1000 gallons/ 1900 to 3800 L\", \"10\", IF(FB15=\"Greater than 1000 gallons/Greater than 3800 L\", \"15\", \"\")))))))","v":""},null,{"$f":"IF(FD15=\"0 to 5 gallons/ 0 to 20 L\", \"1\", IF(FD15=\"5 to 20 gallons/ 20 to 75 L\", \"2\", IF(FD15=\"20 to 50 gallons/ 75 to 190 L\", \"4\", IF(FD15=\"50 to 100 gallons/ 190 to 375 L\", \"6\", IF(FD15=\"100 to 500 gallons/ 375 to 1900 L\", \"8\", IF(FD15=\"500 to 1000 gallons/ 1900 to 3800 L\", \"10\", IF(FD15=\"Greater than 1000 gallons/Greater than 3800 L\", \"15\", \"\")))))))","v":""}]
[null,null,"Are absorbents, a spill kit and a spill management plan in place during AFFF use?",null,{"$f":"IF(D16=\"Yes\",\"1\",IF(D16=\"No\", \"5\", IF(D16=\"Don't Know\", \"5\",\"\")))","v":""},null,{"$f":"IF(F16=\"Yes\",\"1\",IF(F16=\"No\", \"5\", IF(F16=\"Don't Know\", \"5\",\"\")))","v":""},null,{"$f":"IF(H16=\"Yes\",\"1\",IF(H16=\"No\", \"5\", IF(H16=\"Don't Know\", \"5\",\"\")))","v":""},null,{"$f":"IF(J16=\"Yes\",\"1\",IF(J16=\"No\", \"5\", IF(J16=\"Don't Know\", \"5\",\"\")))","v":""},null,{"$f":"IF(L16=\"Yes\",\"1\",IF(L16=\"No\", \"5\", IF(L16=\"Don't Know\", \"5\",\"\")))","v":""},null,{"$f":"IF(N16=\"Yes\",\"1\",IF(N16=\"No\", \"5\", IF(N16=\"Don't Know\", \"5\",\"\")))","v":""},null,{"$f":"IF(P16=\"Yes\",\"1\",IF(P16=\"No\", \"5\", IF(P16=\"Don't Know\", \"5\",\"\")))","v":""},null,{"$f":"IF(R16=\"Yes\",\"1\",IF(R16=\"No\", \"5\", IF(R16=\"Don't Know\", \"5\",\"\")))","v":""},null,{"$f":"IF(T16=\"Yes\",\"1\",IF(T16=\"No\", \"5\", IF(T16=\"Don't Know\", \"5\",\"\")))","v":""},null,{"$f":"IF(V16=\"Yes\",\"1\",IF(V16=\"No\", \"5\", IF(V16=\"Don't Know\", \"5\",\"\")))","v":""},null,{"$f":"IF(X16=\"Yes\",\"1\",IF(X16=\"No\", \"5\", IF(X16=\"Don't Know\", \"5\",\"\")))","v":""},null,{"$f":"IF(Z16=\"Yes\",\"1\",IF(Z16=\"No\", \"5\", IF(Z16=\"Don't Know\", \"5\",\"\")))","v":""},null,{"$f":"IF(AB16=\"Yes\",\"1\",IF(AB16=\"No\", \"5\", IF(AB16=\"Don't Know\", \"5\",\"\")))","v":""},null,{"$f":"IF(AD16=\"Yes\",\"1\",IF(AD16=\"No\", \"5\", IF(AD16=\"Don't Know\", \"5\",\"\")))","v":""},null,{"$f":"IF(AF16=\"Yes\",\"1\",IF(AF16=\"No\", \"5\", IF(AF16=\"Don't Know\", \"5\",\"\")))","v":""},null,{"$f":"IF(AH16=\"Yes\",\"1\",IF(AH16=\"No\", \"5\", IF(AH16=\"Don't Know\", \"5\",\"\")))","v":""},null,{"$f":"IF(AJ16=\"Yes\",\"1\",IF(AJ16=\"No\", \"5\", IF(AJ16=\"Don't Know\", \"5\",\"\")))","v":""},null,{"$f":"IF(AL16=\"Yes\",\"1\",IF(AL16=\"No\", \"5\", IF(AL16=\"Don't Know\", \"5\",\"\")))","v":""},null,{"$f":"IF(AN16=\"Yes\",\"1\",IF(AN16=\"No\", \"5\", IF(AN16=\"Don't Know\", \"5\",\"\")))","v":""},null,{"$f":"IF(AP16=\"Yes\",\"1\",IF(AP16=\"No\", \"5\", IF(AP16=\"Don't Know\", \"5\",\"\")))","v":""},null,{"$f":"IF(AR16=\"Yes\",\"1\",IF(AR16=\"No\", \"5\", IF(AR16=\"Don't Know\", \"5\",\"\")))","v":""},null,{"$f":"IF(AT16=\"Yes\",\"1\",IF(AT16=\"No\", \"5\", IF(AT16=\"Don't Know\", \"5\",\"\")))","v":""},null,{"$f":"IF(AV16=\"Yes\",\"1\",IF(AV16=\"No\", \"5\", IF(AV16=\"Don't Know\", \"5\",\"\")))","v":""},null,{"$f":"IF(AX16=\"Yes\",\"1\",IF(AX16=\"No\", \"5\", IF(AX16=\"Don't Know\", \"5\",\"\")))","v":""},null,{"$f":"IF(AZ16=\"Yes\",\"1\",IF(AZ16=\"No\", \"5\", IF(AZ16=\"Don't Know\", \"5\",\"\")))","v":""},null,{"$f":"IF(BB16=\"Yes\",\"1\",IF(BB16=\"No\", \"5\", IF(BB16=\"Don't Know\", \"5\",\"\")))","v":""},null,{"$f":"IF(BD16=\"Yes\",\"1\",IF(BD16=\"No\", \"5\", IF(BD16=\"Don't Know\", \"5\",\"\")))","v":""},null,{"$f":"IF(BF16=\"Yes\",\"1\",IF(BF16=\"No\", \"5\", IF(BF16=\"Don't Know\", \"5\",\"\")))","v":""},null,{"$f":"IF(BH16=\"Yes\",\"1\",IF(BH16=\"No\", \"5\", IF(BH16=\"Don't Know\", \"5\",\"\")))","v":""},null,{"$f":"IF(BJ16=\"Yes\",\"1\",IF(BJ16=\"No\", \"5\", IF(BJ16=\"Don't Know\", \"5\",\"\")))","v":""},null,{"$f":"IF(BL16=\"Yes\",\"1\",IF(BL16=\"No\", \"5\", IF(BL16=\"Don't Know\", \"5\",\"\")))","v":""},null,{"$f":"IF(BN16=\"Yes\",\"1\",IF(BN16=\"No\", \"5\", IF(BN16=\"Don't Know\", \"5\",\"\")))","v":""},null,{"$f":"IF(BP16=\"Yes\",\"1\",IF(BP16=\"No\", \"5\", IF(BP16=\"Don't Know\", \"5\",\"\")))","v":""},null,{"$f":"IF(BR16=\"Yes\",\"1\",IF(BR16=\"No\", \"5\", IF(BR16=\"Don't Know\", \"5\",\"\")))","v":""},null,{"$f":"IF(BT16=\"Yes\",\"1\",IF(BT16=\"No\", \"5\", IF(BT16=\"Don't Know\", \"5\",\"\")))","v":""},null,{"$f":"IF(BV16=\"Yes\",\"1\",IF(BV16=\"No\", \"5\", IF(BV16=\"Don't Know\", \"5\",\"\")))","v":""},null,{"$f":"IF(BX16=\"Yes\",\"1\",IF(BX16=\"No\", \"5\", IF(BX16=\"Don't Know\", \"5\",\"\")))","v":""},null,{"$f":"IF(BZ16=\"Yes\",\"1\",IF(BZ16=\"No\", \"5\", IF(BZ16=\"Don't Know\", \"5\",\"\")))","v":""},null,{"$f":"IF(CB16=\"Yes\",\"1\",IF(CB16=\"No\", \"5\", IF(CB16=\"Don't Know\", \"5\",\"\")))","v":""},null,{"$f":"IF(CD16=\"Yes\",\"1\",IF(CD16=\"No\", \"5\", IF(CD16=\"Don't Know\", \"5\",\"\")))","v":""},null,{"$f":"IF(CF16=\"Yes\",\"1\",IF(CF16=\"No\", \"5\", IF(CF16=\"Don't Know\", \"5\",\"\")))","v":""},null,{"$f":"IF(CH16=\"Yes\",\"1\",IF(CH16=\"No\", \"5\", IF(CH16=\"Don't Know\", \"5\",\"\")))","v":""},null,{"$f":"IF(CJ16=\"Yes\",\"1\",IF(CJ16=\"No\", \"5\", IF(CJ16=\"Don't Know\", \"5\",\"\")))","v":""},null,{"$f":"IF(CL16=\"Yes\",\"1\",IF(CL16=\"No\", \"5\", IF(CL16=\"Don't Know\", \"5\",\"\")))","v":""},null,{"$f":"IF(CN16=\"Yes\",\"1\",IF(CN16=\"No\", \"5\", IF(CN16=\"Don't Know\", \"5\",\"\")))","v":""},null,{"$f":"IF(CP16=\"Yes\",\"1\",IF(CP16=\"No\", \"5\", IF(CP16=\"Don't Know\", \"5\",\"\")))","v":""},null,{"$f":"IF(CR16=\"Yes\",\"1\",IF(CR16=\"No\", \"5\", IF(CR16=\"Don't Know\", \"5\",\"\")))","v":""},null,{"$f":"IF(CT16=\"Yes\",\"1\",IF(CT16=\"No\", \"5\", IF(CT16=\"Don't Know\", \"5\",\"\")))","v":""},null,{"$f":"IF(CV16=\"Yes\",\"1\",IF(CV16=\"No\", \"5\", IF(CV16=\"Don't Know\", \"5\",\"\")))","v":""},null,{"$f":"IF(CX16=\"Yes\",\"1\",IF(CX16=\"No\", \"5\", IF(CX16=\"Don't Know\", \"5\",\"\")))","v":""},null,{"$f":"IF(CZ16=\"Yes\",\"1\",IF(CZ16=\"No\", \"5\", IF(CZ16=\"Don't Know\", \"5\",\"\")))","v":""},null,{"$f":"IF(DB16=\"Yes\",\"1\",IF(DB16=\"No\", \"5\", IF(DB16=\"Don't Know\", \"5\",\"\")))","v":""},null,{"$f":"IF(DD16=\"Yes\",\"1\",IF(DD16=\"No\", \"5\", IF(DD16=\"Don't Know\", \"5\",\"\")))","v":""},null,{"$f":"IF(DF16=\"Yes\",\"1\",IF(DF16=\"No\", \"5\", IF(DF16=\"Don't Know\", \"5\",\"\")))","v":""},null,{"$f":"IF(DH16=\"Yes\",\"1\",IF(DH16=\"No\", \"5\", IF(DH16=\"Don't Know\", \"5\",\"\")))","v":""},null,{"$f":"IF(DJ16=\"Yes\",\"1\",IF(DJ16=\"No\", \"5\", IF(DJ16=\"Don't Know\", \"5\",\"\")))","v":""},null,{"$f":"IF(DL16=\"Yes\",\"1\",IF(DL16=\"No\", \"5\", IF(DL16=\"Don't Know\", \"5\",\"\")))","v":""},null,{"$f":"IF(DN16=\"Yes\",\"1\",IF(DN16=\"No\", \"5\", IF(DN16=\"Don't Know\", \"5\",\"\")))","v":""},null,{"$f":"IF(DP16=\"Yes\",\"1\",IF(DP16=\"No\", \"5\", IF(DP16=\"Don't Know\", \"5\",\"\")))","v":""},null,{"$f":"IF(DR16=\"Yes\",\"1\",IF(DR16=\"No\", \"5\", IF(DR16=\"Don't Know\", \"5\",\"\")))","v":""},null,{"$f":"IF(DT16=\"Yes\",\"1\",IF(DT16=\"No\", \"5\", IF(DT16=\"Don't Know\", \"5\",\"\")))","v":""},null,{"$f":"IF(DV16=\"Yes\",\"1\",IF(DV16=\"No\", \"5\", IF(DV16=\"Don't Know\", \"5\",\"\")))","v":""},null,{"$f":"IF(DX16=\"Yes\",\"1\",IF(DX16=\"No\", \"5\", IF(DX16=\"Don't Know\", \"5\",\"\")))","v":""},null,{"$f":"IF(DZ16=\"Yes\",\"1\",IF(DZ16=\"No\", \"5\", IF(DZ16=\"Don't Know\", \"5\",\"\")))","v":""},null,{"$f":"IF(EB16=\"Yes\",\"1\",IF(EB16=\"No\", \"5\", IF(EB16=\"Don't Know\", \"5\",\"\")))","v":""},null,{"$f":"IF(ED16=\"Yes\",\"1\",IF(ED16=\"No\", \"5\", IF(ED16=\"Don't Know\", \"5\",\"\")))","v":""},null,{"$f":"IF(EF16=\"Yes\",\"1\",IF(EF16=\"No\", \"5\", IF(EF16=\"Don't Know\", \"5\",\"\")))","v":""},null,{"$f":"IF(EH16=\"Yes\",\"1\",IF(EH16=\"No\", \"5\", IF(EH16=\"Don't Know\", \"5\",\"\")))","v":""},null,{"$f":"IF(EJ16=\"Yes\",\"1\",IF(EJ16=\"No\", \"5\", IF(EJ16=\"Don't Know\", \"5\",\"\")))","v":""},null,{"$f":"IF(EL16=\"Yes\",\"1\",IF(EL16=\"No\", \"5\", IF(EL16=\"Don't Know\", \"5\",\"\")))","v":""},null,{"$f":"IF(EN16=\"Yes\",\"1\",IF(EN16=\"No\", \"5\", IF(EN16=\"Don't Know\", \"5\",\"\")))","v":""},null,{"$f":"IF(EP16=\"Yes\",\"1\",IF(EP16=\"No\", \"5\", IF(EP16=\"Don't Know\", \"5\",\"\")))","v":""},null,{"$f":"IF(ER16=\"Yes\",\"1\",IF(ER16=\"No\", \"5\", IF(ER16=\"Don't Know\", \"5\",\"\")))","v":""},null,{"$f":"IF(ET16=\"Yes\",\"1\",IF(ET16=\"No\", \"5\", IF(ET16=\"Don't Know\", \"5\",\"\")))","v":""},null,{"$f":"IF(EV16=\"Yes\",\"1\",IF(EV16=\"No\", \"5\", IF(EV16=\"Don't Know\", \"5\",\"\")))","v":""},null,{"$f":"IF(EX16=\"Yes\",\"1\",IF(EX16=\"No\", \"5\", IF(EX16=\"Don't Know\", \"5\",\"\")))","v":""},null,{"$f":"IF(EZ16=\"Yes\",\"1\",IF(EZ16=\"No\", \"5\", IF(EZ16=\"Don't Know\", \"5\",\"\")))","v":""},null,{"$f":"IF(FB16=\"Yes\",\"1\",IF(FB16=\"No\", \"5\", IF(FB16=\"Don't Know\", \"5\",\"\")))","v":""},null,{"$f":"IF(FD16=\"Yes\",\"1\",IF(FD16=\"No\", \"5\", IF(FD16=\"Don't Know\", \"5\",\"\")))","v":""}]
[null,null,"Where (ultimate receiver) does the used AFFF (or unused if returned to the manufacturer) go when used?",null,{"$f":"IF(D17=\"Sent off-site for disposal\", \"1\", IF(D17=\"Down the drain\", \"5\", IF(D17=\"Evaporated off of pavement\", \"5\", IF(D17=\"Soaked into the ground\", \"8\", IF(D17=\"Washed/runoff into surface water body\", \"10\", \"\")))))","v":""},null,{"$f":"IF(F17=\"Sent off-site for disposal\", \"1\", IF(F17=\"Down the drain\", \"5\", IF(F17=\"Evaporated off of pavement\", \"5\", IF(F17=\"Soaked into the ground\", \"8\", IF(F17=\"Washed/runoff into surface water body\", \"10\", \"\")))))","v":""},null,{"$f":"IF(H17=\"Sent off-site for disposal\", \"1\", IF(H17=\"Down the drain\", \"5\", IF(H17=\"Evaporated off of pavement\", \"5\", IF(H17=\"Soaked into the ground\", \"8\", IF(H17=\"Washed/runoff into surface water body\", \"10\", \"\")))))","v":""},null,{"$f":"IF(J17=\"Sent off-site for disposal\", \"1\", IF(J17=\"Down the drain\", \"5\", IF(J17=\"Evaporated off of pavement\", \"5\", IF(J17=\"Soaked into the ground\", \"8\", IF(J17=\"Washed/runoff into surface water body\", \"10\", \"\")))))","v":""},null,{"$f":"IF(L17=\"Sent off-site for disposal\", \"1\", IF(L17=\"Down the drain\", \"5\", IF(L17=\"Evaporated off of pavement\", \"5\", IF(L17=\"Soaked into the ground\", \"8\", IF(L17=\"Washed/runoff into surface water body\", \"10\", \"\")))))","v":""},null,{"$f":"IF(N17=\"Sent off-site for disposal\", \"1\", IF(N17=\"Down the drain\", \"5\", IF(N17=\"Evaporated off of pavement\", \"5\", IF(N17=\"Soaked into the ground\", \"8\", IF(N17=\"Washed/runoff into surface water body\", \"10\", \"\")))))","v":""},null,{"$f":"IF(P17=\"Sent off-site for disposal\", \"1\", IF(P17=\"Down the drain\", \"5\", IF(P17=\"Evaporated off of pavement\", \"5\", IF(P17=\"Soaked into the ground\", \"8\", IF(P17=\"Washed/runoff into surface water body\", \"10\", \"\")))))","v":""},null,{"$f":"IF(R17=\"Sent off-site for disposal\", \"1\", IF(R17=\"Down the drain\", \"5\", IF(R17=\"Evaporated off of pavement\", \"5\", IF(R17=\"Soaked into the ground\", \"8\", IF(R17=\"Washed/runoff into surface water body\", \"10\", \"\")))))","v":""},null,{"$f":"IF(T17=\"Sent off-site for disposal\", \"1\", IF(T17=\"Down the drain\", \"5\", IF(T17=\"Evaporated off of pavement\", \"5\", IF(T17=\"Soaked into the ground\", \"8\", IF(T17=\"Washed/runoff into surface water body\", \"10\", \"\")))))","v":""},null,{"$f":"IF(V17=\"Sent off-site for disposal\", \"1\", IF(V17=\"Down the drain\", \"5\", IF(V17=\"Evaporated off of pavement\", \"5\", IF(V17=\"Soaked into the ground\", \"8\", IF(V17=\"Washed/runoff into surface water body\", \"10\", \"\")))))","v":""},null,{"$f":"IF(X17=\"Sent off-site for disposal\", \"1\", IF(X17=\"Down the drain\", \"5\", IF(X17=\"Evaporated off of pavement\", \"5\", IF(X17=\"Soaked into the ground\", \"8\", IF(X17=\"Washed/runoff into surface water body\", \"10\", \"\")))))","v":""},null,{"$f":"IF(Z17=\"Sent off-site for disposal\", \"1\", IF(Z17=\"Down the drain\", \"5\", IF(Z17=\"Evaporated off of pavement\", \"5\", IF(Z17=\"Soaked into the ground\", \"8\", IF(Z17=\"Washed/runoff into surface water body\", \"10\", \"\")))))","v":""},null,{"$f":"IF(AB17=\"Sent off-site for disposal\", \"1\", IF(AB17=\"Down the drain\", \"5\", IF(AB17=\"Evaporated off of pavement\", \"5\", IF(AB17=\"Soaked into the ground\", \"8\", IF(AB17=\"Washed/runoff into surface water body\", \"10\", \"\")))))","v":""},null,{"$f":"IF(AD17=\"Sent off-site for disposal\", \"1\", IF(AD17=\"Down the drain\", \"5\", IF(AD17=\"Evaporated off of pavement\", \"5\", IF(AD17=\"Soaked into the ground\", \"8\", IF(AD17=\"Washed/runoff into surface water body\", \"10\", \"\")))))","v":""},null,{"$f":"IF(AF17=\"Sent off-site for disposal\", \"1\", IF(AF17=\"Down the drain\", \"5\", IF(AF17=\"Evaporated off of pavement\", \"5\", IF(AF17=\"Soaked into the ground\", \"8\", IF(AF17=\"Washed/runoff into surface water body\", \"10\", \"\")))))","v":""},null,{"$f":"IF(AH17=\"Sent off-site for disposal\", \"1\", IF(AH17=\"Down the drain\", \"5\", IF(AH17=\"Evaporated off of pavement\", \"5\", IF(AH17=\"Soaked into the ground\", \"8\", IF(AH17=\"Washed/runoff into surface water body\", \"10\", \"\")))))","v":""},null,{"$f":"IF(AJ17=\"Sent off-site for disposal\", \"1\", IF(AJ17=\"Down the drain\", \"5\", IF(AJ17=\"Evaporated off of pavement\", \"5\", IF(AJ17=\"Soaked into the ground\", \"8\", IF(AJ17=\"Washed/runoff into surface water body\", \"10\", \"\")))))","v":""},null,{"$f":"IF(AL17=\"Sent off-site for disposal\", \"1\", IF(AL17=\"Down the drain\", \"5\", IF(AL17=\"Evaporated off of pavement\", \"5\", IF(AL17=\"Soaked into the ground\", \"8\", IF(AL17=\"Washed/runoff into surface water body\", \"10\", \"\")))))","v":""},null,{"$f":"IF(AN17=\"Sent off-site for disposal\", \"1\", IF(AN17=\"Down the drain\", \"5\", IF(AN17=\"Evaporated off of pavement\", \"5\", IF(AN17=\"Soaked into the ground\", \"8\", IF(AN17=\"Washed/runoff into surface water body\", \"10\", \"\")))))","v":""},null,{"$f":"IF(AP17=\"Sent off-site for disposal\", \"1\", IF(AP17=\"Down the drain\", \"5\", IF(AP17=\"Evaporated off of pavement\", \"5\", IF(AP17=\"Soaked into the ground\", \"8\", IF(AP17=\"Washed/runoff into surface water body\", \"10\", \"\")))))","v":""},null,{"$f":"IF(AR17=\"Sent off-site for disposal\", \"1\", IF(AR17=\"Down the drain\", \"5\", IF(AR17=\"Evaporated off of pavement\", \"5\", IF(AR17=\"Soaked into the ground\", \"8\", IF(AR17=\"Washed/runoff into surface water body\", \"10\", \"\")))))","v":""},null,{"$f":"IF(AT17=\"Sent off-site for disposal\", \"1\", IF(AT17=\"Down the drain\", \"5\", IF(AT17=\"Evaporated off of pavement\", \"5\", IF(AT17=\"Soaked into the ground\", \"8\", IF(AT17=\"Washed/runoff into surface water body\", \"10\", \"\")))))","v":""},null,{"$f":"IF(AV17=\"Sent off-site for disposal\", \"1\", IF(AV17=\"Down the drain\", \"5\", IF(AV17=\"Evaporated off of pavement\", \"5\", IF(AV17=\"Soaked into the ground\", \"8\", IF(AV17=\"Washed/runoff into surface water body\", \"10\", \"\")))))","v":""},null,{"$f":"IF(AX17=\"Sent off-site for disposal\", \"1\", IF(AX17=\"Down the drain\", \"5\", IF(AX17=\"Evaporated off of pavement\", \"5\", IF(AX17=\"Soaked into the ground\", \"8\", IF(AX17=\"Washed/runoff into surface water body\", \"10\", \"\")))))","v":""},null,{"$f":"IF(AZ17=\"Sent off-site for disposal\", \"1\", IF(AZ17=\"Down the drain\", \"5\", IF(AZ17=\"Evaporated off of pavement\", \"5\", IF(AZ17=\"Soaked into the ground\", \"8\", IF(AZ17=\"Washed/runoff into surface water body\", \"10\", \"\")))))","v":""},null,{"$f":"IF(BB17=\"Sent off-site for disposal\", \"1\", IF(BB17=\"Down the drain\", \"5\", IF(BB17=\"Evaporated off of pavement\", \"5\", IF(BB17=\"Soaked into the ground\", \"8\", IF(BB17=\"Washed/runoff into surface water body\", \"10\", \"\")))))","v":""},null,{"$f":"IF(BD17=\"Sent off-site for disposal\", \"1\", IF(BD17=\"Down the drain\", \"5\", IF(BD17=\"Evaporated off of pavement\", \"5\", IF(BD17=\"Soaked into the ground\", \"8\", IF(BD17=\"Washed/runoff into surface water body\", \"10\", \"\")))))","v":""},null,{"$f":"IF(BF17=\"Sent off-site for disposal\", \"1\", IF(BF17=\"Down the drain\", \"5\", IF(BF17=\"Evaporated off of pavement\", \"5\", IF(BF17=\"Soaked into the ground\", \"8\", IF(BF17=\"Washed/runoff into surface water body\", \"10\", \"\")))))","v":""},null,{"$f":"IF(BH17=\"Sent off-site for disposal\", \"1\", IF(BH17=\"Down the drain\", \"5\", IF(BH17=\"Evaporated off of pavement\", \"5\", IF(BH17=\"Soaked into the ground\", \"8\", IF(BH17=\"Washed/runoff into surface water body\", \"10\", \"\")))))","v":""},null,{"$f":"IF(BJ17=\"Sent off-site for disposal\", \"1\", IF(BJ17=\"Down the drain\", \"5\", IF(BJ17=\"Evaporated off of pavement\", \"5\", IF(BJ17=\"Soaked into the ground\", \"8\", IF(BJ17=\"Washed/runoff into surface water body\", \"10\", \"\")))))","v":""},null,{"$f":"IF(BL17=\"Sent off-site for disposal\", \"1\", IF(BL17=\"Down the drain\", \"5\", IF(BL17=\"Evaporated off of pavement\", \"5\", IF(BL17=\"Soaked into the ground\", \"8\", IF(BL17=\"Washed/runoff into surface water body\", \"10\", \"\")))))","v":""},null,{"$f":"IF(BN17=\"Sent off-site for disposal\", \"1\", IF(BN17=\"Down the drain\", \"5\", IF(BN17=\"Evaporated off of pavement\", \"5\", IF(BN17=\"Soaked into the ground\", \"8\", IF(BN17=\"Washed/runoff into surface water body\", \"10\", \"\")))))","v":""},null,{"$f":"IF(BP17=\"Sent off-site for disposal\", \"1\", IF(BP17=\"Down the drain\", \"5\", IF(BP17=\"Evaporated off of pavement\", \"5\", IF(BP17=\"Soaked into the ground\", \"8\", IF(BP17=\"Washed/runoff into surface water body\", \"10\", \"\")))))","v":""},null,{"$f":"IF(BR17=\"Sent off-site for disposal\", \"1\", IF(BR17=\"Down the drain\", \"5\", IF(BR17=\"Evaporated off of pavement\", \"5\", IF(BR17=\"Soaked into the ground\", \"8\", IF(BR17=\"Washed/runoff into surface water body\", \"10\", \"\")))))","v":""},null,{"$f":"IF(BT17=\"Sent off-site for disposal\", \"1\", IF(BT17=\"Down the drain\", \"5\", IF(BT17=\"Evaporated off of pavement\", \"5\", IF(BT17=\"Soaked into the ground\", \"8\", IF(BT17=\"Washed/runoff into surface water body\", \"10\", \"\")))))","v":""},null,{"$f":"IF(BV17=\"Sent off-site for disposal\", \"1\", IF(BV17=\"Down the drain\", \"5\", IF(BV17=\"Evaporated off of pavement\", \"5\", IF(BV17=\"Soaked into the ground\", \"8\", IF(BV17=\"Washed/runoff into surface water body\", \"10\", \"\")))))","v":""},null,{"$f":"IF(BX17=\"Sent off-site for disposal\", \"1\", IF(BX17=\"Down the drain\", \"5\", IF(BX17=\"Evaporated off of pavement\", \"5\", IF(BX17=\"Soaked into the ground\", \"8\", IF(BX17=\"Washed/runoff into surface water body\", \"10\", \"\")))))","v":""},null,{"$f":"IF(BZ17=\"Sent off-site for disposal\", \"1\", IF(BZ17=\"Down the drain\", \"5\", IF(BZ17=\"Evaporated off of pavement\", \"5\", IF(BZ17=\"Soaked into the ground\", \"8\", IF(BZ17=\"Washed/runoff into surface water body\", \"10\", \"\")))))","v":""},null,{"$f":"IF(CB17=\"Sent off-site for disposal\", \"1\", IF(CB17=\"Down the drain\", \"5\", IF(CB17=\"Evaporated off of pavement\", \"5\", IF(CB17=\"Soaked into the ground\", \"8\", IF(CB17=\"Washed/runoff into surface water body\", \"10\", \"\")))))","v":""},null,{"$f":"IF(CD17=\"Sent off-site for disposal\", \"1\", IF(CD17=\"Down the drain\", \"5\", IF(CD17=\"Evaporated off of pavement\", \"5\", IF(CD17=\"Soaked into the ground\", \"8\", IF(CD17=\"Washed/runoff into surface water body\", \"10\", \"\")))))","v":""},null,{"$f":"IF(CF17=\"Sent off-site for disposal\", \"1\", IF(CF17=\"Down the drain\", \"5\", IF(CF17=\"Evaporated off of pavement\", \"5\", IF(CF17=\"Soaked into the ground\", \"8\", IF(CF17=\"Washed/runoff into surface water body\", \"10\", \"\")))))","v":""},null,{"$f":"IF(CH17=\"Sent off-site for disposal\", \"1\", IF(CH17=\"Down the drain\", \"5\", IF(CH17=\"Evaporated off of pavement\", \"5\", IF(CH17=\"Soaked into the ground\", \"8\", IF(CH17=\"Washed/runoff into surface water body\", \"10\", \"\")))))","v":""},null,{"$f":"IF(CJ17=\"Sent off-site for disposal\", \"1\", IF(CJ17=\"Down the drain\", \"5\", IF(CJ17=\"Evaporated off of pavement\", \"5\", IF(CJ17=\"Soaked into the ground\", \"8\", IF(CJ17=\"Washed/runoff into surface water body\", \"10\", \"\")))))","v":""},null,{"$f":"IF(CL17=\"Sent off-site for disposal\", \"1\", IF(CL17=\"Down the drain\", \"5\", IF(CL17=\"Evaporated off of pavement\", \"5\", IF(CL17=\"Soaked into the ground\", \"8\", IF(CL17=\"Washed/runoff into surface water body\", \"10\", \"\")))))","v":""},null,{"$f":"IF(CN17=\"Sent off-site for disposal\", \"1\", IF(CN17=\"Down the drain\", \"5\", IF(CN17=\"Evaporated off of pavement\", \"5\", IF(CN17=\"Soaked into the ground\", \"8\", IF(CN17=\"Washed/runoff into surface water body\", \"10\", \"\")))))","v":""},null,{"$f":"IF(CP17=\"Sent off-site for disposal\", \"1\", IF(CP17=\"Down the drain\", \"5\", IF(CP17=\"Evaporated off of pavement\", \"5\", IF(CP17=\"Soaked into the ground\", \"8\", IF(CP17=\"Washed/runoff into surface water body\", \"10\", \"\")))))","v":""},null,{"$f":"IF(CR17=\"Sent off-site for disposal\", \"1\", IF(CR17=\"Down the drain\", \"5\", IF(CR17=\"Evaporated off of pavement\", \"5\", IF(CR17=\"Soaked into the ground\", \"8\", IF(CR17=\"Washed/runoff into surface water body\", \"10\", \"\")))))","v":""},null,{"$f":"IF(CT17=\"Sent off-site for disposal\", \"1\", IF(CT17=\"Down the drain\", \"5\", IF(CT17=\"Evaporated off of pavement\", \"5\", IF(CT17=\"Soaked into the ground\", \"8\", IF(CT17=\"Washed/runoff into surface water body\", \"10\", \"\")))))","v":""},null,{"$f":"IF(CV17=\"Sent off-site for disposal\", \"1\", IF(CV17=\"Down the drain\", \"5\", IF(CV17=\"Evaporated off of pavement\", \"5\", IF(CV17=\"Soaked into the ground\", \"8\", IF(CV17=\"Washed/runoff into surface water body\", \"10\", \"\")))))","v":""},null,{"$f":"IF(CX17=\"Sent off-site for disposal\", \"1\", IF(CX17=\"Down the drain\", \"5\", IF(CX17=\"Evaporated off of pavement\", \"5\", IF(CX17=\"Soaked into the ground\", \"8\", IF(CX17=\"Washed/runoff into surface water body\", \"10\", \"\")))))","v":""},null,{"$f":"IF(CZ17=\"Sent off-site for disposal\", \"1\", IF(CZ17=\"Down the drain\", \"5\", IF(CZ17=\"Evaporated off of pavement\", \"5\", IF(CZ17=\"Soaked into the ground\", \"8\", IF(CZ17=\"Washed/runoff into surface water body\", \"10\", \"\")))))","v":""},null,{"$f":"IF(DB17=\"Sent off-site for disposal\", \"1\", IF(DB17=\"Down the drain\", \"5\", IF(DB17=\"Evaporated off of pavement\", \"5\", IF(DB17=\"Soaked into the ground\", \"8\", IF(DB17=\"Washed/runoff into surface water body\", \"10\", \"\")))))","v":""},null,{"$f":"IF(DD17=\"Sent off-site for disposal\", \"1\", IF(DD17=\"Down the drain\", \"5\", IF(DD17=\"Evaporated off of pavement\", \"5\", IF(DD17=\"Soaked into the ground\", \"8\", IF(DD17=\"Washed/runoff into surface water body\", \"10\", \"\")))))","v":""},null,{"$f":"IF(DF17=\"Sent off-site for disposal\", \"1\", IF(DF17=\"Down the drain\", \"5\", IF(DF17=\"Evaporated off of pavement\", \"5\", IF(DF17=\"Soaked into the ground\", \"8\", IF(DF17=\"Washed/runoff into surface water body\", \"10\", \"\")))))","v":""},null,{"$f":"IF(DH17=\"Sent off-site for disposal\", \"1\", IF(DH17=\"Down the drain\", \"5\", IF(DH17=\"Evaporated off of pavement\", \"5\", IF(DH17=\"Soaked into the ground\", \"8\", IF(DH17=\"Washed/runoff into surface water body\", \"10\", \"\")))))","v":""},null,{"$f":"IF(DJ17=\"Sent off-site for disposal\", \"1\", IF(DJ17=\"Down the drain\", \"5\", IF(DJ17=\"Evaporated off of pavement\", \"5\", IF(DJ17=\"Soaked into the ground\", \"8\", IF(DJ17=\"Washed/runoff into surface water body\", \"10\", \"\")))))","v":""},null,{"$f":"IF(DL17=\"Sent off-site for disposal\", \"1\", IF(DL17=\"Down the drain\", \"5\", IF(DL17=\"Evaporated off of pavement\", \"5\", IF(DL17=\"Soaked into the ground\", \"8\", IF(DL17=\"Washed/runoff into surface water body\", \"10\", \"\")))))","v":""},null,{"$f":"IF(DN17=\"Sent off-site for disposal\", \"1\", IF(DN17=\"Down the drain\", \"5\", IF(DN17=\"Evaporated off of pavement\", \"5\", IF(DN17=\"Soaked into the ground\", \"8\", IF(DN17=\"Washed/runoff into surface water body\", \"10\", \"\")))))","v":""},null,{"$f":"IF(DP17=\"Sent off-site for disposal\", \"1\", IF(DP17=\"Down the drain\", \"5\", IF(DP17=\"Evaporated off of pavement\", \"5\", IF(DP17=\"Soaked into the ground\", \"8\", IF(DP17=\"Washed/runoff into surface water body\", \"10\", \"\")))))","v":""},null,{"$f":"IF(DR17=\"Sent off-site for disposal\", \"1\", IF(DR17=\"Down the drain\", \"5\", IF(DR17=\"Evaporated off of pavement\", \"5\", IF(DR17=\"Soaked into the ground\", \"8\", IF(DR17=\"Washed/runoff into surface water body\", \"10\", \"\")))))","v":""},null,{"$f":"IF(DT17=\"Sent off-site for disposal\", \"1\", IF(DT17=\"Down the drain\", \"5\", IF(DT17=\"Evaporated off of pavement\", \"5\", IF(DT17=\"Soaked into the ground\", \"8\", IF(DT17=\"Washed/runoff into surface water body\", \"10\", \"\")))))","v":""},null,{"$f":"IF(DV17=\"Sent off-site for disposal\", \"1\", IF(DV17=\"Down the drain\", \"5\", IF(DV17=\"Evaporated off of pavement\", \"5\", IF(DV17=\"Soaked into the ground\", \"8\", IF(DV17=\"Washed/runoff into surface water body\", \"10\", \"\")))))","v":""},null,{"$f":"IF(DX17=\"Sent off-site for disposal\", \"1\", IF(DX17=\"Down the drain\", \"5\", IF(DX17=\"Evaporated off of pavement\", \"5\", IF(DX17=\"Soaked into the ground\", \"8\", IF(DX17=\"Washed/runoff into surface water body\", \"10\", \"\")))))","v":""},null,{"$f":"IF(DZ17=\"Sent off-site for disposal\", \"1\", IF(DZ17=\"Down the drain\", \"5\", IF(DZ17=\"Evaporated off of pavement\", \"5\", IF(DZ17=\"Soaked into the ground\", \"8\", IF(DZ17=\"Washed/runoff into surface water body\", \"10\", \"\")))))","v":""},null,{"$f":"IF(EB17=\"Sent off-site for disposal\", \"1\", IF(EB17=\"Down the drain\", \"5\", IF(EB17=\"Evaporated off of pavement\", \"5\", IF(EB17=\"Soaked into the ground\", \"8\", IF(EB17=\"Washed/runoff into surface water body\", \"10\", \"\")))))","v":""},null,{"$f":"IF(ED17=\"Sent off-site for disposal\", \"1\", IF(ED17=\"Down the drain\", \"5\", IF(ED17=\"Evaporated off of pavement\", \"5\", IF(ED17=\"Soaked into the ground\", \"8\", IF(ED17=\"Washed/runoff into surface water body\", \"10\", \"\")))))","v":""},null,{"$f":"IF(EF17=\"Sent off-site for disposal\", \"1\", IF(EF17=\"Down the drain\", \"5\", IF(EF17=\"Evaporated off of pavement\", \"5\", IF(EF17=\"Soaked into the ground\", \"8\", IF(EF17=\"Washed/runoff into surface water body\", \"10\", \"\")))))","v":""},null,{"$f":"IF(EH17=\"Sent off-site for disposal\", \"1\", IF(EH17=\"Down the drain\", \"5\", IF(EH17=\"Evaporated off of pavement\", \"5\", IF(EH17=\"Soaked into the ground\", \"8\", IF(EH17=\"Washed/runoff into surface water body\", \"10\", \"\")))))","v":""},null,{"$f":"IF(EJ17=\"Sent off-site for disposal\", \"1\", IF(EJ17=\"Down the drain\", \"5\", IF(EJ17=\"Evaporated off of pavement\", \"5\", IF(EJ17=\"Soaked into the ground\", \"8\", IF(EJ17=\"Washed/runoff into surface water body\", \"10\", \"\")))))","v":""},null,{"$f":"IF(EL17=\"Sent off-site for disposal\", \"1\", IF(EL17=\"Down the drain\", \"5\", IF(EL17=\"Evaporated off of pavement\", \"5\", IF(EL17=\"Soaked into the ground\", \"8\", IF(EL17=\"Washed/runoff into surface water body\", \"10\", \"\")))))","v":""},null,{"$f":"IF(EN17=\"Sent off-site for disposal\", \"1\", IF(EN17=\"Down the drain\", \"5\", IF(EN17=\"Evaporated off of pavement\", \"5\", IF(EN17=\"Soaked into the ground\", \"8\", IF(EN17=\"Washed/runoff into surface water body\", \"10\", \"\")))))","v":""},null,{"$f":"IF(EP17=\"Sent off-site for disposal\", \"1\", IF(EP17=\"Down the drain\", \"5\", IF(EP17=\"Evaporated off of pavement\", \"5\", IF(EP17=\"Soaked into the ground\", \"8\", IF(EP17=\"Washed/runoff into surface water body\", \"10\", \"\")))))","v":""},null,{"$f":"IF(ER17=\"Sent off-site for disposal\", \"1\", IF(ER17=\"Down the drain\", \"5\", IF(ER17=\"Evaporated off of pavement\", \"5\", IF(ER17=\"Soaked into the ground\", \"8\", IF(ER17=\"Washed/runoff into surface water body\", \"10\", \"\")))))","v":""},null,{"$f":"IF(ET17=\"Sent off-site for disposal\", \"1\", IF(ET17=\"Down the drain\", \"5\", IF(ET17=\"Evaporated off of pavement\", \"5\", IF(ET17=\"Soaked into the ground\", \"8\", IF(ET17=\"Washed/runoff into surface water body\", \"10\", \"\")))))","v":""},null,{"$f":"IF(EV17=\"Sent off-site for disposal\", \"1\", IF(EV17=\"Down the drain\", \"5\", IF(EV17=\"Evaporated off of pavement\", \"5\", IF(EV17=\"Soaked into the ground\", \"8\", IF(EV17=\"Washed/runoff into surface water body\", \"10\", \"\")))))","v":""},null,{"$f":"IF(EX17=\"Sent off-site for disposal\", \"1\", IF(EX17=\"Down the drain\", \"5\", IF(EX17=\"Evaporated off of pavement\", \"5\", IF(EX17=\"Soaked into the ground\", \"8\", IF(EX17=\"Washed/runoff into surface water body\", \"10\", \"\")))))","v":""},null,{"$f":"IF(EZ17=\"Sent off-site for disposal\", \"1\", IF(EZ17=\"Down the drain\", \"5\", IF(EZ17=\"Evaporated off of pavement\", \"5\", IF(EZ17=\"Soaked into the ground\", \"8\", IF(EZ17=\"Washed/runoff into surface water body\", \"10\", \"\")))))","v":""},null,{"$f":"IF(FB17=\"Sent off-site for disposal\", \"1\", IF(FB17=\"Down the drain\", \"5\", IF(FB17=\"Evaporated off of pavement\", \"5\", IF(FB17=\"Soaked into the ground\", \"8\", IF(FB17=\"Washed/runoff into surface water body\", \"10\", \"\")))))","v":""},null,{"$f":"IF(FD17=\"Sent off-site for disposal\", \"1\", IF(FD17=\"Down the drain\", \"5\", IF(FD17=\"Evaporated off of pavement\", \"5\", IF(FD17=\"Soaked into the ground\", \"8\", IF(FD17=\"Washed/runoff into surface water body\", \"10\", \"\")))))","v":""}]
[null,null,"How many of the following types of PPE are used during the handling and use of AFFF? (eye protection, work gloves, nitrile/single-use gloves, fire-retardant/turnout gear, well ventilated location)",null,{"$f":"IF(D18=\"All\", \"0\", IF(D18=\"Four\", \"1\", IF(D18=\"Three \", \"2\", IF(D18=\"Two \", \"3\", IF(D18=\"One\", \"4\", IF(D18=\"None\", \"5\", \"\"))))))","v":""},null,{"$f":"IF(F18=\"All\", \"0\", IF(F18=\"Four\", \"1\", IF(F18=\"Three \", \"2\", IF(F18=\"Two \", \"3\", IF(F18=\"One\", \"4\", IF(F18=\"None\", \"5\", \"\"))))))","v":""},null,{"$f":"IF(H18=\"All\", \"0\", IF(H18=\"Four\", \"1\", IF(H18=\"Three \", \"2\", IF(H18=\"Two \", \"3\", IF(H18=\"One\", \"4\", IF(H18=\"None\", \"5\", \"\"))))))","v":""},null,{"$f":"IF(J18=\"All\", \"0\", IF(J18=\"Four\", \"1\", IF(J18=\"Three \", \"2\", IF(J18=\"Two \", \"3\", IF(J18=\"One\", \"4\", IF(J18=\"None\", \"5\", \"\"))))))","v":""},null,{"$f":"IF(L18=\"All\", \"0\", IF(L18=\"Four\", \"1\", IF(L18=\"Three \", \"2\", IF(L18=\"Two \", \"3\", IF(L18=\"One\", \"4\", IF(L18=\"None\", \"5\", \"\"))))))","v":""},null,{"$f":"IF(N18=\"All\", \"0\", IF(N18=\"Four\", \"1\", IF(N18=\"Three \", \"2\", IF(N18=\"Two \", \"3\", IF(N18=\"One\", \"4\", IF(N18=\"None\", \"5\", \"\"))))))","v":""},null,{"$f":"IF(P18=\"All\", \"0\", IF(P18=\"Four\", \"1\", IF(P18=\"Three \", \"2\", IF(P18=\"Two \", \"3\", IF(P18=\"One\", \"4\", IF(P18=\"None\", \"5\", \"\"))))))","v":""},null,{"$f":"IF(R18=\"All\", \"0\", IF(R18=\"Four\", \"1\", IF(R18=\"Three \", \"2\", IF(R18=\"Two \", \"3\", IF(R18=\"One\", \"4\", IF(R18=\"None\", \"5\", \"\"))))))","v":""},null,{"$f":"IF(T18=\"All\", \"0\", IF(T18=\"Four\", \"1\", IF(T18=\"Three \", \"2\", IF(T18=\"Two \", \"3\", IF(T18=\"One\", \"4\", IF(T18=\"None\", \"5\", \"\"))))))","v":""},null,{"$f":"IF(V18=\"All\", \"0\", IF(V18=\"Four\", \"1\", IF(V18=\"Three \", \"2\", IF(V18=\"Two \", \"3\", IF(V18=\"One\", \"4\", IF(V18=\"None\", \"5\", \"\"))))))","v":""},null,{"$f":"IF(X18=\"All\", \"0\", IF(X18=\"Four\", \"1\", IF(X18=\"Three \", \"2\", IF(X18=\"Two \", \"3\", IF(X18=\"One\", \"4\", IF(X18=\"None\", \"5\", \"\"))))))","v":""},null,{"$f":"IF(Z18=\"All\", \"0\", IF(Z18=\"Four\", \"1\", IF(Z18=\"Three \", \"2\", IF(Z18=\"Two \", \"3\", IF(Z18=\"One\", \"4\", IF(Z18=\"None\", \"5\", \"\"))))))","v":""},null,{"$f":"IF(AB18=\"All\", \"0\", IF(AB18=\"Four\", \"1\", IF(AB18=\"Three \", \"2\", IF(AB18=\"Two \", \"3\", IF(AB18=\"One\", \"4\", IF(AB18=\"None\", \"5\", \"\"))))))","v":""},null,{"$f":"IF(AD18=\"All\", \"0\", IF(AD18=\"Four\", \"1\", IF(AD18=\"Three \", \"2\", IF(AD18=\"Two \", \"3\", IF(AD18=\"One\", \"4\", IF(AD18=\"None\", \"5\", \"\"))))))","v":""},null,{"$f":"IF(AF18=\"All\", \"0\", IF(AF18=\"Four\", \"1\", IF(AF18=\"Three \", \"2\", IF(AF18=\"Two \", \"3\", IF(AF18=\"One\", \"4\", IF(AF18=\"None\", \"5\", \"\"))))))","v":""},null,{"$f":"IF(AH18=\"All\", \"0\", IF(AH18=\"Four\", \"1\", IF(AH18=\"Three \", \"2\", IF(AH18=\"Two \", \"3\", IF(AH18=\"One\", \"4\", IF(AH18=\"None\", \"5\", \"\"))))))","v":""},null,{"$f":"IF(AJ18=\"All\", \"0\", IF(AJ18=\"Four\", \"1\", IF(AJ18=\"Three \", \"2\", IF(AJ18=\"Two \", \"3\", IF(AJ18=\"One\", \"4\", IF(AJ18=\"None\", \"5\", \"\"))))))","v":""},null,{"$f":"IF(AL18=\"All\", \"0\", IF(AL18=\"Four\", \"1\", IF(AL18=\"Three \", \"2\", IF(AL18=\"Two \", \"3\", IF(AL18=\"One\", \"4\", IF(AL18=\"None\", \"5\", \"\"))))))","v":""},null,{"$f":"IF(AN18=\"All\", \"0\", IF(AN18=\"Four\", \"1\", IF(AN18=\"Three \", \"2\", IF(AN18=\"Two \", \"3\", IF(AN18=\"One\", \"4\", IF(AN18=\"None\", \"5\", \"\"))))))","v":""},null,{"$f":"IF(AP18=\"All\", \"0\", IF(AP18=\"Four\", \"1\", IF(AP18=\"Three \", \"2\", IF(AP18=\"Two \", \"3\", IF(AP18=\"One\", \"4\", IF(AP18=\"None\", \"5\", \"\"))))))","v":""},null,{"$f":"IF(AR18=\"All\", \"0\", IF(AR18=\"Four\", \"1\", IF(AR18=\"Three \", \"2\", IF(AR18=\"Two \", \"3\", IF(AR18=\"One\", \"4\", IF(AR18=\"None\", \"5\", \"\"))))))","v":""},null,{"$f":"IF(AT18=\"All\", \"0\", IF(AT18=\"Four\", \"1\", IF(AT18=\"Three \", \"2\", IF(AT18=\"Two \", \"3\", IF(AT18=\"One\", \"4\", IF(AT18=\"None\", \"5\", \"\"))))))","v":""},null,{"$f":"IF(AV18=\"All\", \"0\", IF(AV18=\"Four\", \"1\", IF(AV18=\"Three \", \"2\", IF(AV18=\"Two \", \"3\", IF(AV18=\"One\", \"4\", IF(AV18=\"None\", \"5\", \"\"))))))","v":""},null,{"$f":"IF(AX18=\"All\", \"0\", IF(AX18=\"Four\", \"1\", IF(AX18=\"Three \", \"2\", IF(AX18=\"Two \", \"3\", IF(AX18=\"One\", \"4\", IF(AX18=\"None\", \"5\", \"\"))))))","v":""},null,{"$f":"IF(AZ18=\"All\", \"0\", IF(AZ18=\"Four\", \"1\", IF(AZ18=\"Three \", \"2\", IF(AZ18=\"Two \", \"3\", IF(AZ18=\"One\", \"4\", IF(AZ18=\"None\", \"5\", \"\"))))))","v":""},null,{"$f":"IF(BB18=\"All\", \"0\", IF(BB18=\"Four\", \"1\", IF(BB18=\"Three \", \"2\", IF(BB18=\"Two \", \"3\", IF(BB18=\"One\", \"4\", IF(BB18=\"None\", \"5\", \"\"))))))","v":""},null,{"$f":"IF(BD18=\"All\", \"0\", IF(BD18=\"Four\", \"1\", IF(BD18=\"Three \", \"2\", IF(BD18=\"Two \", \"3\", IF(BD18=\"One\", \"4\", IF(BD18=\"None\", \"5\", \"\"))))))","v":""},null,{"$f":"IF(BF18=\"All\", \"0\", IF(BF18=\"Four\", \"1\", IF(BF18=\"Three \", \"2\", IF(BF18=\"Two \", \"3\", IF(BF18=\"One\", \"4\", IF(BF18=\"None\", \"5\", \"\"))))))","v":""},null,{"$f":"IF(BH18=\"All\", \"0\", IF(BH18=\"Four\", \"1\", IF(BH18=\"Three \", \"2\", IF(BH18=\"Two \", \"3\", IF(BH18=\"One\", \"4\", IF(BH18=\"None\", \"5\", \"\"))))))","v":""},null,{"$f":"IF(BJ18=\"All\", \"0\", IF(BJ18=\"Four\", \"1\", IF(BJ18=\"Three \", \"2\", IF(BJ18=\"Two \", \"3\", IF(BJ18=\"One\", \"4\", IF(BJ18=\"None\", \"5\", \"\"))))))","v":""},null,{"$f":"IF(BL18=\"All\", \"0\", IF(BL18=\"Four\", \"1\", IF(BL18=\"Three \", \"2\", IF(BL18=\"Two \", \"3\", IF(BL18=\"One\", \"4\", IF(BL18=\"None\", \"5\", \"\"))))))","v":""},null,{"$f":"IF(BN18=\"All\", \"0\", IF(BN18=\"Four\", \"1\", IF(BN18=\"Three \", \"2\", IF(BN18=\"Two \", \"3\", IF(BN18=\"One\", \"4\", IF(BN18=\"None\", \"5\", \"\"))))))","v":""},null,{"$f":"IF(BP18=\"All\", \"0\", IF(BP18=\"Four\", \"1\", IF(BP18=\"Three \", \"2\", IF(BP18=\"Two \", \"3\", IF(BP18=\"One\", \"4\", IF(BP18=\"None\", \"5\", \"\"))))))","v":""},null,{"$f":"IF(BR18=\"All\", \"0\", IF(BR18=\"Four\", \"1\", IF(BR18=\"Three \", \"2\", IF(BR18=\"Two \", \"3\", IF(BR18=\"One\", \"4\", IF(BR18=\"None\", \"5\", \"\"))))))","v":""},null,{"$f":"IF(BT18=\"All\", \"0\", IF(BT18=\"Four\", \"1\", IF(BT18=\"Three \", \"2\", IF(BT18=\"Two \", \"3\", IF(BT18=\"One\", \"4\", IF(BT18=\"None\", \"5\", \"\"))))))","v":""},null,{"$f":"IF(BV18=\"All\", \"0\", IF(BV18=\"Four\", \"1\", IF(BV18=\"Three \", \"2\", IF(BV18=\"Two \", \"3\", IF(BV18=\"One\", \"4\", IF(BV18=\"None\", \"5\", \"\"))))))","v":""},null,{"$f":"IF(BX18=\"All\", \"0\", IF(BX18=\"Four\", \"1\", IF(BX18=\"Three \", \"2\", IF(BX18=\"Two \", \"3\", IF(BX18=\"One\", \"4\", IF(BX18=\"None\", \"5\", \"\"))))))","v":""},null,{"$f":"IF(BZ18=\"All\", \"0\", IF(BZ18=\"Four\", \"1\", IF(BZ18=\"Three \", \"2\", IF(BZ18=\"Two \", \"3\", IF(BZ18=\"One\", \"4\", IF(BZ18=\"None\", \"5\", \"\"))))))","v":""},null,{"$f":"IF(CB18=\"All\", \"0\", IF(CB18=\"Four\", \"1\", IF(CB18=\"Three \", \"2\", IF(CB18=\"Two \", \"3\", IF(CB18=\"One\", \"4\", IF(CB18=\"None\", \"5\", \"\"))))))","v":""},null,{"$f":"IF(CD18=\"All\", \"0\", IF(CD18=\"Four\", \"1\", IF(CD18=\"Three \", \"2\", IF(CD18=\"Two \", \"3\", IF(CD18=\"One\", \"4\", IF(CD18=\"None\", \"5\", \"\"))))))","v":""},null,{"$f":"IF(CF18=\"All\", \"0\", IF(CF18=\"Four\", \"1\", IF(CF18=\"Three \", \"2\", IF(CF18=\"Two \", \"3\", IF(CF18=\"One\", \"4\", IF(CF18=\"None\", \"5\", \"\"))))))","v":""},null,{"$f":"IF(CH18=\"All\", \"0\", IF(CH18=\"Four\", \"1\", IF(CH18=\"Three \", \"2\", IF(CH18=\"Two \", \"3\", IF(CH18=\"One\", \"4\", IF(CH18=\"None\", \"5\", \"\"))))))","v":""},null,{"$f":"IF(CJ18=\"All\", \"0\", IF(CJ18=\"Four\", \"1\", IF(CJ18=\"Three \", \"2\", IF(CJ18=\"Two \", \"3\", IF(CJ18=\"One\", \"4\", IF(CJ18=\"None\", \"5\", \"\"))))))","v":""},null,{"$f":"IF(CL18=\"All\", \"0\", IF(CL18=\"Four\", \"1\", IF(CL18=\"Three \", \"2\", IF(CL18=\"Two \", \"3\", IF(CL18=\"One\", \"4\", IF(CL18=\"None\", \"5\", \"\"))))))","v":""},null,{"$f":"IF(CN18=\"All\", \"0\", IF(CN18=\"Four\", \"1\", IF(CN18=\"Three \", \"2\", IF(CN18=\"Two \", \"3\", IF(CN18=\"One\", \"4\", IF(CN18=\"None\", \"5\", \"\"))))))","v":""},null,{"$f":"IF(CP18=\"All\", \"0\", IF(CP18=\"Four\", \"1\", IF(CP18=\"Three \", \"2\", IF(CP18=\"Two \", \"3\", IF(CP18=\"One\", \"4\", IF(CP18=\"None\", \"5\", \"\"))))))","v":""},null,{"$f":"IF(CR18=\"All\", \"0\", IF(CR18=\"Four\", \"1\", IF(CR18=\"Three \", \"2\", IF(CR18=\"Two \", \"3\", IF(CR18=\"One\", \"4\", IF(CR18=\"None\", \"5\", \"\"))))))","v":""},null,{"$f":"IF(CT18=\"All\", \"0\", IF(CT18=\"Four\", \"1\", IF(CT18=\"Three \", \"2\", IF(CT18=\"Two \", \"3\", IF(CT18=\"One\", \"4\", IF(CT18=\"None\", \"5\", \"\"))))))","v":""},null,{"$f":"IF(CV18=\"All\", \"0\", IF(CV18=\"Four\", \"1\", IF(CV18=\"Three \", \"2\", IF(CV18=\"Two \", \"3\", IF(CV18=\"One\", \"4\", IF(CV18=\"None\", \"5\", \"\"))))))","v":""},null,{"$f":"IF(CX18=\"All\", \"0\", IF(CX18=\"Four\", \"1\", IF(CX18=\"Three \", \"2\", IF(CX18=\"Two \", \"3\", IF(CX18=\"One\", \"4\", IF(CX18=\"None\", \"5\", \"\"))))))","v":""},null,{"$f":"IF(CZ18=\"All\", \"0\", IF(CZ18=\"Four\", \"1\", IF(CZ18=\"Three \", \"2\", IF(CZ18=\"Two \", \"3\", IF(CZ18=\"One\", \"4\", IF(CZ18=\"None\", \"5\", \"\"))))))","v":""},null,{"$f":"IF(DB18=\"All\", \"0\", IF(DB18=\"Four\", \"1\", IF(DB18=\"Three \", \"2\", IF(DB18=\"Two \", \"3\", IF(DB18=\"One\", \"4\", IF(DB18=\"None\", \"5\", \"\"))))))","v":""},null,{"$f":"IF(DD18=\"All\", \"0\", IF(DD18=\"Four\", \"1\", IF(DD18=\"Three \", \"2\", IF(DD18=\"Two \", \"3\", IF(DD18=\"One\", \"4\", IF(DD18=\"None\", \"5\", \"\"))))))","v":""},null,{"$f":"IF(DF18=\"All\", \"0\", IF(DF18=\"Four\", \"1\", IF(DF18=\"Three \", \"2\", IF(DF18=\"Two \", \"3\", IF(DF18=\"One\", \"4\", IF(DF18=\"None\", \"5\", \"\"))))))","v":""},null,{"$f":"IF(DH18=\"All\", \"0\", IF(DH18=\"Four\", \"1\", IF(DH18=\"Three \", \"2\", IF(DH18=\"Two \", \"3\", IF(DH18=\"One\", \"4\", IF(DH18=\"None\", \"5\", \"\"))))))","v":""},null,{"$f":"IF(DJ18=\"All\", \"0\", IF(DJ18=\"Four\", \"1\", IF(DJ18=\"Three \", \"2\", IF(DJ18=\"Two \", \"3\", IF(DJ18=\"One\", \"4\", IF(DJ18=\"None\", \"5\", \"\"))))))","v":""},null,{"$f":"IF(DL18=\"All\", \"0\", IF(DL18=\"Four\", \"1\", IF(DL18=\"Three \", \"2\", IF(DL18=\"Two \", \"3\", IF(DL18=\"One\", \"4\", IF(DL18=\"None\", \"5\", \"\"))))))","v":""},null,{"$f":"IF(DN18=\"All\", \"0\", IF(DN18=\"Four\", \"1\", IF(DN18=\"Three \", \"2\", IF(DN18=\"Two \", \"3\", IF(DN18=\"One\", \"4\", IF(DN18=\"None\", \"5\", \"\"))))))","v":""},null,{"$f":"IF(DP18=\"All\", \"0\", IF(DP18=\"Four\", \"1\", IF(DP18=\"Three \", \"2\", IF(DP18=\"Two \", \"3\", IF(DP18=\"One\", \"4\", IF(DP18=\"None\", \"5\", \"\"))))))","v":""},null,{"$f":"IF(DR18=\"All\", \"0\", IF(DR18=\"Four\", \"1\", IF(DR18=\"Three \", \"2\", IF(DR18=\"Two \", \"3\", IF(DR18=\"One\", \"4\", IF(DR18=\"None\", \"5\", \"\"))))))","v":""},null,{"$f":"IF(DT18=\"All\", \"0\", IF(DT18=\"Four\", \"1\", IF(DT18=\"Three \", \"2\", IF(DT18=\"Two \", \"3\", IF(DT18=\"One\", \"4\", IF(DT18=\"None\", \"5\", \"\"))))))","v":""},null,{"$f":"IF(DV18=\"All\", \"0\", IF(DV18=\"Four\", \"1\", IF(DV18=\"Three \", \"2\", IF(DV18=\"Two \", \"3\", IF(DV18=\"One\", \"4\", IF(DV18=\"None\", \"5\", \"\"))))))","v":""},null,{"$f":"IF(DX18=\"All\", \"0\", IF(DX18=\"Four\", \"1\", IF(DX18=\"Three \", \"2\", IF(DX18=\"Two \", \"3\", IF(DX18=\"One\", \"4\", IF(DX18=\"None\", \"5\", \"\"))))))","v":""},null,{"$f":"IF(DZ18=\"All\", \"0\", IF(DZ18=\"Four\", \"1\", IF(DZ18=\"Three \", \"2\", IF(DZ18=\"Two \", \"3\", IF(DZ18=\"One\", \"4\", IF(DZ18=\"None\", \"5\", \"\"))))))","v":""},null,{"$f":"IF(EB18=\"All\", \"0\", IF(EB18=\"Four\", \"1\", IF(EB18=\"Three \", \"2\", IF(EB18=\"Two \", \"3\", IF(EB18=\"One\", \"4\", IF(EB18=\"None\", \"5\", \"\"))))))","v":""},null,{"$f":"IF(ED18=\"All\", \"0\", IF(ED18=\"Four\", \"1\", IF(ED18=\"Three \", \"2\", IF(ED18=\"Two \", \"3\", IF(ED18=\"One\", \"4\", IF(ED18=\"None\", \"5\", \"\"))))))","v":""},null,{"$f":"IF(EF18=\"All\", \"0\", IF(EF18=\"Four\", \"1\", IF(EF18=\"Three \", \"2\", IF(EF18=\"Two \", \"3\", IF(EF18=\"One\", \"4\", IF(EF18=\"None\", \"5\", \"\"))))))","v":""},null,{"$f":"IF(EH18=\"All\", \"0\", IF(EH18=\"Four\", \"1\", IF(EH18=\"Three \", \"2\", IF(EH18=\"Two \", \"3\", IF(EH18=\"One\", \"4\", IF(EH18=\"None\", \"5\", \"\"))))))","v":""},null,{"$f":"IF(EJ18=\"All\", \"0\", IF(EJ18=\"Four\", \"1\", IF(EJ18=\"Three \", \"2\", IF(EJ18=\"Two \", \"3\", IF(EJ18=\"One\", \"4\", IF(EJ18=\"None\", \"5\", \"\"))))))","v":""},null,{"$f":"IF(EL18=\"All\", \"0\", IF(EL18=\"Four\", \"1\", IF(EL18=\"Three \", \"2\", IF(EL18=\"Two \", \"3\", IF(EL18=\"One\", \"4\", IF(EL18=\"None\", \"5\", \"\"))))))","v":""},null,{"$f":"IF(EN18=\"All\", \"0\", IF(EN18=\"Four\", \"1\", IF(EN18=\"Three \", \"2\", IF(EN18=\"Two \", \"3\", IF(EN18=\"One\", \"4\", IF(EN18=\"None\", \"5\", \"\"))))))","v":""},null,{"$f":"IF(EP18=\"All\", \"0\", IF(EP18=\"Four\", \"1\", IF(EP18=\"Three \", \"2\", IF(EP18=\"Two \", \"3\", IF(EP18=\"One\", \"4\", IF(EP18=\"None\", \"5\", \"\"))))))","v":""},null,{"$f":"IF(ER18=\"All\", \"0\", IF(ER18=\"Four\", \"1\", IF(ER18=\"Three \", \"2\", IF(ER18=\"Two \", \"3\", IF(ER18=\"One\", \"4\", IF(ER18=\"None\", \"5\", \"\"))))))","v":""},null,{"$f":"IF(ET18=\"All\", \"0\", IF(ET18=\"Four\", \"1\", IF(ET18=\"Three \", \"2\", IF(ET18=\"Two \", \"3\", IF(ET18=\"One\", \"4\", IF(ET18=\"None\", \"5\", \"\"))))))","v":""},null,{"$f":"IF(EV18=\"All\", \"0\", IF(EV18=\"Four\", \"1\", IF(EV18=\"Three \", \"2\", IF(EV18=\"Two \", \"3\", IF(EV18=\"One\", \"4\", IF(EV18=\"None\", \"5\", \"\"))))))","v":""},null,{"$f":"IF(EX18=\"All\", \"0\", IF(EX18=\"Four\", \"1\", IF(EX18=\"Three \", \"2\", IF(EX18=\"Two \", \"3\", IF(EX18=\"One\", \"4\", IF(EX18=\"None\", \"5\", \"\"))))))","v":""},null,{"$f":"IF(EZ18=\"All\", \"0\", IF(EZ18=\"Four\", \"1\", IF(EZ18=\"Three \", \"2\", IF(EZ18=\"Two \", \"3\", IF(EZ18=\"One\", \"4\", IF(EZ18=\"None\", \"5\", \"\"))))))","v":""},null,{"$f":"IF(FB18=\"All\", \"0\", IF(FB18=\"Four\", \"1\", IF(FB18=\"Three \", \"2\", IF(FB18=\"Two \", \"3\", IF(FB18=\"One\", \"4\", IF(FB18=\"None\", \"5\", \"\"))))))","v":""},null,{"$f":"IF(FD18=\"All\", \"0\", IF(FD18=\"Four\", \"1\", IF(FD18=\"Three \", \"2\", IF(FD18=\"Two \", \"3\", IF(FD18=\"One\", \"4\", IF(FD18=\"None\", \"5\", \"\"))))))","v":""}]
[null,null,"Under current operational conditions, is there exposure contact via direct contact to humans without any of the PPE listed above?",null,{"$f":"IF(D19=\"Yes - workers during daily operations\", \"240\", IF(D19=\"Yes - workers during weekly operations\", \"48\", IF(D19=\"Yes - workers during monthly operations\", \"12\", IF(D19=\"Yes - workers during emergency operations\", \"5\", IF(D19=\"Yes- trespassers\", \"3\", IF(D19=\"No\", \"0\", IF(D19=\"Don't know\", \"240\", \"\")))))))","v":""},null,{"$f":"IF(F19=\"Yes - workers during daily operations\", \"240\", IF(F19=\"Yes - workers during weekly operations\", \"48\", IF(F19=\"Yes - workers during monthly operations\", \"12\", IF(F19=\"Yes - workers during emergency operations\", \"5\", IF(F19=\"Yes- trespassers\", \"3\", IF(F19=\"No\", \"0\", IF(F19=\"Don't know\", \"240\", \"\")))))))","v":""},null,{"$f":"IF(H19=\"Yes - workers during daily operations\", \"240\", IF(H19=\"Yes - workers during weekly operations\", \"48\", IF(H19=\"Yes - workers during monthly operations\", \"12\", IF(H19=\"Yes - workers during emergency operations\", \"5\", IF(H19=\"Yes- trespassers\", \"3\", IF(H19=\"No\", \"0\", IF(H19=\"Don't know\", \"240\", \"\")))))))","v":""},null,{"$f":"IF(J19=\"Yes - workers during daily operations\", \"240\", IF(J19=\"Yes - workers during weekly operations\", \"48\", IF(J19=\"Yes - workers during monthly operations\", \"12\", IF(J19=\"Yes - workers during emergency operations\", \"5\", IF(J19=\"Yes- trespassers\", \"3\", IF(J19=\"No\", \"0\", IF(J19=\"Don't know\", \"240\", \"\")))))))","v":""},null,{"$f":"IF(L19=\"Yes - workers during daily operations\", \"240\", IF(L19=\"Yes - workers during weekly operations\", \"48\", IF(L19=\"Yes - workers during monthly operations\", \"12\", IF(L19=\"Yes - workers during emergency operations\", \"5\", IF(L19=\"Yes- trespassers\", \"3\", IF(L19=\"No\", \"0\", IF(L19=\"Don't know\", \"240\", \"\")))))))","v":""},null,{"$f":"IF(N19=\"Yes - workers during daily operations\", \"240\", IF(N19=\"Yes - workers during weekly operations\", \"48\", IF(N19=\"Yes - workers during monthly operations\", \"12\", IF(N19=\"Yes - workers during emergency operations\", \"5\", IF(N19=\"Yes- trespassers\", \"3\", IF(N19=\"No\", \"0\", IF(N19=\"Don't know\", \"240\", \"\")))))))","v":""},null,{"$f":"IF(P19=\"Yes - workers during daily operations\", \"240\", IF(P19=\"Yes - workers during weekly operations\", \"48\", IF(P19=\"Yes - workers during monthly operations\", \"12\", IF(P19=\"Yes - workers during emergency operations\", \"5\", IF(P19=\"Yes- trespassers\", \"3\", IF(P19=\"No\", \"0\", IF(P19=\"Don't know\", \"240\", \"\")))))))","v":""},null,{"$f":"IF(R19=\"Yes - workers during daily operations\", \"240\", IF(R19=\"Yes - workers during weekly operations\", \"48\", IF(R19=\"Yes - workers during monthly operations\", \"12\", IF(R19=\"Yes - workers during emergency operations\", \"5\", IF(R19=\"Yes- trespassers\", \"3\", IF(R19=\"No\", \"0\", IF(R19=\"Don't know\", \"240\", \"\")))))))","v":""},null,{"$f":"IF(T19=\"Yes - workers during daily operations\", \"240\", IF(T19=\"Yes - workers during weekly operations\", \"48\", IF(T19=\"Yes - workers during monthly operations\", \"12\", IF(T19=\"Yes - workers during emergency operations\", \"5\", IF(T19=\"Yes- trespassers\", \"3\", IF(T19=\"No\", \"0\", IF(T19=\"Don't know\", \"240\", \"\")))))))","v":""},null,{"$f":"IF(V19=\"Yes - workers during daily operations\", \"240\", IF(V19=\"Yes - workers during weekly operations\", \"48\", IF(V19=\"Yes - workers during monthly operations\", \"12\", IF(V19=\"Yes - workers during emergency operations\", \"5\", IF(V19=\"Yes- trespassers\", \"3\", IF(V19=\"No\", \"0\", IF(V19=\"Don't know\", \"240\", \"\")))))))","v":""},null,{"$f":"IF(X19=\"Yes - workers during daily operations\", \"240\", IF(X19=\"Yes - workers during weekly operations\", \"48\", IF(X19=\"Yes - workers during monthly operations\", \"12\", IF(X19=\"Yes - workers during emergency operations\", \"5\", IF(X19=\"Yes- trespassers\", \"3\", IF(X19=\"No\", \"0\", IF(X19=\"Don't know\", \"240\", \"\")))))))","v":""},null,{"$f":"IF(Z19=\"Yes - workers during daily operations\", \"240\", IF(Z19=\"Yes - workers during weekly operations\", \"48\", IF(Z19=\"Yes - workers during monthly operations\", \"12\", IF(Z19=\"Yes - workers during emergency operations\", \"5\", IF(Z19=\"Yes- trespassers\", \"3\", IF(Z19=\"No\", \"0\", IF(Z19=\"Don't know\", \"240\", \"\")))))))","v":""},null,{"$f":"IF(AB19=\"Yes - workers during daily operations\", \"240\", IF(AB19=\"Yes - workers during weekly operations\", \"48\", IF(AB19=\"Yes - workers during monthly operations\", \"12\", IF(AB19=\"Yes - workers during emergency operations\", \"5\", IF(AB19=\"Yes- trespassers\", \"3\", IF(AB19=\"No\", \"0\", IF(AB19=\"Don't know\", \"240\", \"\")))))))","v":""},null,{"$f":"IF(AD19=\"Yes - workers during daily operations\", \"240\", IF(AD19=\"Yes - workers during weekly operations\", \"48\", IF(AD19=\"Yes - workers during monthly operations\", \"12\", IF(AD19=\"Yes - workers during emergency operations\", \"5\", IF(AD19=\"Yes- trespassers\", \"3\", IF(AD19=\"No\", \"0\", IF(AD19=\"Don't know\", \"240\", \"\")))))))","v":""},null,{"$f":"IF(AF19=\"Yes - workers during daily operations\", \"240\", IF(AF19=\"Yes - workers during weekly operations\", \"48\", IF(AF19=\"Yes - workers during monthly operations\", \"12\", IF(AF19=\"Yes - workers during emergency operations\", \"5\", IF(AF19=\"Yes- trespassers\", \"3\", IF(AF19=\"No\", \"0\", IF(AF19=\"Don't know\", \"240\", \"\")))))))","v":""},null,{"$f":"IF(AH19=\"Yes - workers during daily operations\", \"240\", IF(AH19=\"Yes - workers during weekly operations\", \"48\", IF(AH19=\"Yes - workers during monthly operations\", \"12\", IF(AH19=\"Yes - workers during emergency operations\", \"5\", IF(AH19=\"Yes- trespassers\", \"3\", IF(AH19=\"No\", \"0\", IF(AH19=\"Don't know\", \"240\", \"\")))))))","v":""},null,{"$f":"IF(AJ19=\"Yes - workers during daily operations\", \"240\", IF(AJ19=\"Yes - workers during weekly operations\", \"48\", IF(AJ19=\"Yes - workers during monthly operations\", \"12\", IF(AJ19=\"Yes - workers during emergency operations\", \"5\", IF(AJ19=\"Yes- trespassers\", \"3\", IF(AJ19=\"No\", \"0\", IF(AJ19=\"Don't know\", \"240\", \"\")))))))","v":""},null,{"$f":"IF(AL19=\"Yes - workers during daily operations\", \"240\", IF(AL19=\"Yes - workers during weekly operations\", \"48\", IF(AL19=\"Yes - workers during monthly operations\", \"12\", IF(AL19=\"Yes - workers during emergency operations\", \"5\", IF(AL19=\"Yes- trespassers\", \"3\", IF(AL19=\"No\", \"0\", IF(AL19=\"Don't know\", \"240\", \"\")))))))","v":""},null,{"$f":"IF(AN19=\"Yes - workers during daily operations\", \"240\", IF(AN19=\"Yes - workers during weekly operations\", \"48\", IF(AN19=\"Yes - workers during monthly operations\", \"12\", IF(AN19=\"Yes - workers during emergency operations\", \"5\", IF(AN19=\"Yes- trespassers\", \"3\", IF(AN19=\"No\", \"0\", IF(AN19=\"Don't know\", \"240\", \"\")))))))","v":""},null,{"$f":"IF(AP19=\"Yes - workers during daily operations\", \"240\", IF(AP19=\"Yes - workers during weekly operations\", \"48\", IF(AP19=\"Yes - workers during monthly operations\", \"12\", IF(AP19=\"Yes - workers during emergency operations\", \"5\", IF(AP19=\"Yes- trespassers\", \"3\", IF(AP19=\"No\", \"0\", IF(AP19=\"Don't know\", \"240\", \"\")))))))","v":""},null,{"$f":"IF(AR19=\"Yes - workers during daily operations\", \"240\", IF(AR19=\"Yes - workers during weekly operations\", \"48\", IF(AR19=\"Yes - workers during monthly operations\", \"12\", IF(AR19=\"Yes - workers during emergency operations\", \"5\", IF(AR19=\"Yes- trespassers\", \"3\", IF(AR19=\"No\", \"0\", IF(AR19=\"Don't know\", \"240\", \"\")))))))","v":""},null,{"$f":"IF(AT19=\"Yes - workers during daily operations\", \"240\", IF(AT19=\"Yes - workers during weekly operations\", \"48\", IF(AT19=\"Yes - workers during monthly operations\", \"12\", IF(AT19=\"Yes - workers during emergency operations\", \"5\", IF(AT19=\"Yes- trespassers\", \"3\", IF(AT19=\"No\", \"0\", IF(AT19=\"Don't know\", \"240\", \"\")))))))","v":""},null,{"$f":"IF(AV19=\"Yes - workers during daily operations\", \"240\", IF(AV19=\"Yes - workers during weekly operations\", \"48\", IF(AV19=\"Yes - workers during monthly operations\", \"12\", IF(AV19=\"Yes - workers during emergency operations\", \"5\", IF(AV19=\"Yes- trespassers\", \"3\", IF(AV19=\"No\", \"0\", IF(AV19=\"Don't know\", \"240\", \"\")))))))","v":""},null,{"$f":"IF(AX19=\"Yes - workers during daily operations\", \"240\", IF(AX19=\"Yes - workers during weekly operations\", \"48\", IF(AX19=\"Yes - workers during monthly operations\", \"12\", IF(AX19=\"Yes - workers during emergency operations\", \"5\", IF(AX19=\"Yes- trespassers\", \"3\", IF(AX19=\"No\", \"0\", IF(AX19=\"Don't know\", \"240\", \"\")))))))","v":""},null,{"$f":"IF(AZ19=\"Yes - workers during daily operations\", \"240\", IF(AZ19=\"Yes - workers during weekly operations\", \"48\", IF(AZ19=\"Yes - workers during monthly operations\", \"12\", IF(AZ19=\"Yes - workers during emergency operations\", \"5\", IF(AZ19=\"Yes- trespassers\", \"3\", IF(AZ19=\"No\", \"0\", IF(AZ19=\"Don't know\", \"240\", \"\")))))))","v":""},null,{"$f":"IF(BB19=\"Yes - workers during daily operations\", \"240\", IF(BB19=\"Yes - workers during weekly operations\", \"48\", IF(BB19=\"Yes - workers during monthly operations\", \"12\", IF(BB19=\"Yes - workers during emergency operations\", \"5\", IF(BB19=\"Yes- trespassers\", \"3\", IF(BB19=\"No\", \"0\", IF(BB19=\"Don't know\", \"240\", \"\")))))))","v":""},null,{"$f":"IF(BD19=\"Yes - workers during daily operations\", \"240\", IF(BD19=\"Yes - workers during weekly operations\", \"48\", IF(BD19=\"Yes - workers during monthly operations\", \"12\", IF(BD19=\"Yes - workers during emergency operations\", \"5\", IF(BD19=\"Yes- trespassers\", \"3\", IF(BD19=\"No\", \"0\", IF(BD19=\"Don't know\", \"240\", \"\")))))))","v":""},null,{"$f":"IF(BF19=\"Yes - workers during daily operations\", \"240\", IF(BF19=\"Yes - workers during weekly operations\", \"48\", IF(BF19=\"Yes - workers during monthly operations\", \"12\", IF(BF19=\"Yes - workers during emergency operations\", \"5\", IF(BF19=\"Yes- trespassers\", \"3\", IF(BF19=\"No\", \"0\", IF(BF19=\"Don't know\", \"240\", \"\")))))))","v":""},null,{"$f":"IF(BH19=\"Yes - workers during daily operations\", \"240\", IF(BH19=\"Yes - workers during weekly operations\", \"48\", IF(BH19=\"Yes - workers during monthly operations\", \"12\", IF(BH19=\"Yes - workers during emergency operations\", \"5\", IF(BH19=\"Yes- trespassers\", \"3\", IF(BH19=\"No\", \"0\", IF(BH19=\"Don't know\", \"240\", \"\")))))))","v":""},null,{"$f":"IF(BJ19=\"Yes - workers during daily operations\", \"240\", IF(BJ19=\"Yes - workers during weekly operations\", \"48\", IF(BJ19=\"Yes - workers during monthly operations\", \"12\", IF(BJ19=\"Yes - workers during emergency operations\", \"5\", IF(BJ19=\"Yes- trespassers\", \"3\", IF(BJ19=\"No\", \"0\", IF(BJ19=\"Don't know\", \"240\", \"\")))))))","v":""},null,{"$f":"IF(BL19=\"Yes - workers during daily operations\", \"240\", IF(BL19=\"Yes - workers during weekly operations\", \"48\", IF(BL19=\"Yes - workers during monthly operations\", \"12\", IF(BL19=\"Yes - workers during emergency operations\", \"5\", IF(BL19=\"Yes- trespassers\", \"3\", IF(BL19=\"No\", \"0\", IF(BL19=\"Don't know\", \"240\", \"\")))))))","v":""},null,{"$f":"IF(BN19=\"Yes - workers during daily operations\", \"240\", IF(BN19=\"Yes - workers during weekly operations\", \"48\", IF(BN19=\"Yes - workers during monthly operations\", \"12\", IF(BN19=\"Yes - workers during emergency operations\", \"5\", IF(BN19=\"Yes- trespassers\", \"3\", IF(BN19=\"No\", \"0\", IF(BN19=\"Don't know\", \"240\", \"\")))))))","v":""},null,{"$f":"IF(BP19=\"Yes - workers during daily operations\", \"240\", IF(BP19=\"Yes - workers during weekly operations\", \"48\", IF(BP19=\"Yes - workers during monthly operations\", \"12\", IF(BP19=\"Yes - workers during emergency operations\", \"5\", IF(BP19=\"Yes- trespassers\", \"3\", IF(BP19=\"No\", \"0\", IF(BP19=\"Don't know\", \"240\", \"\")))))))","v":""},null,{"$f":"IF(BR19=\"Yes - workers during daily operations\", \"240\", IF(BR19=\"Yes - workers during weekly operations\", \"48\", IF(BR19=\"Yes - workers during monthly operations\", \"12\", IF(BR19=\"Yes - workers during emergency operations\", \"5\", IF(BR19=\"Yes- trespassers\", \"3\", IF(BR19=\"No\", \"0\", IF(BR19=\"Don't know\", \"240\", \"\")))))))","v":""},null,{"$f":"IF(BT19=\"Yes - workers during daily operations\", \"240\", IF(BT19=\"Yes - workers during weekly operations\", \"48\", IF(BT19=\"Yes - workers during monthly operations\", \"12\", IF(BT19=\"Yes - workers during emergency operations\", \"5\", IF(BT19=\"Yes- trespassers\", \"3\", IF(BT19=\"No\", \"0\", IF(BT19=\"Don't know\", \"240\", \"\")))))))","v":""},null,{"$f":"IF(BV19=\"Yes - workers during daily operations\", \"240\", IF(BV19=\"Yes - workers during weekly operations\", \"48\", IF(BV19=\"Yes - workers during monthly operations\", \"12\", IF(BV19=\"Yes - workers during emergency operations\", \"5\", IF(BV19=\"Yes- trespassers\", \"3\", IF(BV19=\"No\", \"0\", IF(BV19=\"Don't know\", \"240\", \"\")))))))","v":""},null,{"$f":"IF(BX19=\"Yes - workers during daily operations\", \"240\", IF(BX19=\"Yes - workers during weekly operations\", \"48\", IF(BX19=\"Yes - workers during monthly operations\", \"12\", IF(BX19=\"Yes - workers during emergency operations\", \"5\", IF(BX19=\"Yes- trespassers\", \"3\", IF(BX19=\"No\", \"0\", IF(BX19=\"Don't know\", \"240\", \"\")))))))","v":""},null,{"$f":"IF(BZ19=\"Yes - workers during daily operations\", \"240\", IF(BZ19=\"Yes - workers during weekly operations\", \"48\", IF(BZ19=\"Yes - workers during monthly operations\", \"12\", IF(BZ19=\"Yes - workers during emergency operations\", \"5\", IF(BZ19=\"Yes- trespassers\", \"3\", IF(BZ19=\"No\", \"0\", IF(BZ19=\"Don't know\", \"240\", \"\")))))))","v":""},null,{"$f":"IF(CB19=\"Yes - workers during daily operations\", \"240\", IF(CB19=\"Yes - workers during weekly operations\", \"48\", IF(CB19=\"Yes - workers during monthly operations\", \"12\", IF(CB19=\"Yes - workers during emergency operations\", \"5\", IF(CB19=\"Yes- trespassers\", \"3\", IF(CB19=\"No\", \"0\", IF(CB19=\"Don't know\", \"240\", \"\")))))))","v":""},null,{"$f":"IF(CD19=\"Yes - workers during daily operations\", \"240\", IF(CD19=\"Yes - workers during weekly operations\", \"48\", IF(CD19=\"Yes - workers during monthly operations\", \"12\", IF(CD19=\"Yes - workers during emergency operations\", \"5\", IF(CD19=\"Yes- trespassers\", \"3\", IF(CD19=\"No\", \"0\", IF(CD19=\"Don't know\", \"240\", \"\")))))))","v":""},null,{"$f":"IF(CF19=\"Yes - workers during daily operations\", \"240\", IF(CF19=\"Yes - workers during weekly operations\", \"48\", IF(CF19=\"Yes - workers during monthly operations\", \"12\", IF(CF19=\"Yes - workers during emergency operations\", \"5\", IF(CF19=\"Yes- trespassers\", \"3\", IF(CF19=\"No\", \"0\", IF(CF19=\"Don't know\", \"240\", \"\")))))))","v":""},null,{"$f":"IF(CH19=\"Yes - workers during daily operations\", \"240\", IF(CH19=\"Yes - workers during weekly operations\", \"48\", IF(CH19=\"Yes - workers during monthly operations\", \"12\", IF(CH19=\"Yes - workers during emergency operations\", \"5\", IF(CH19=\"Yes- trespassers\", \"3\", IF(CH19=\"No\", \"0\", IF(CH19=\"Don't know\", \"240\", \"\")))))))","v":""},null,{"$f":"IF(CJ19=\"Yes - workers during daily operations\", \"240\", IF(CJ19=\"Yes - workers during weekly operations\", \"48\", IF(CJ19=\"Yes - workers during monthly operations\", \"12\", IF(CJ19=\"Yes - workers during emergency operations\", \"5\", IF(CJ19=\"Yes- trespassers\", \"3\", IF(CJ19=\"No\", \"0\", IF(CJ19=\"Don't know\", \"240\", \"\")))))))","v":""},null,{"$f":"IF(CL19=\"Yes - workers during daily operations\", \"240\", IF(CL19=\"Yes - workers during weekly operations\", \"48\", IF(CL19=\"Yes - workers during monthly operations\", \"12\", IF(CL19=\"Yes - workers during emergency operations\", \"5\", IF(CL19=\"Yes- trespassers\", \"3\", IF(CL19=\"No\", \"0\", IF(CL19=\"Don't know\", \"240\", \"\")))))))","v":""},null,{"$f":"IF(CN19=\"Yes - workers during daily operations\", \"240\", IF(CN19=\"Yes - workers during weekly operations\", \"48\", IF(CN19=\"Yes - workers during monthly operations\", \"12\", IF(CN19=\"Yes - workers during emergency operations\", \"5\", IF(CN19=\"Yes- trespassers\", \"3\", IF(CN19=\"No\", \"0\", IF(CN19=\"Don't know\", \"240\", \"\")))))))","v":""},null,{"$f":"IF(CP19=\"Yes - workers during daily operations\", \"240\", IF(CP19=\"Yes - workers during weekly operations\", \"48\", IF(CP19=\"Yes - workers during monthly operations\", \"12\", IF(CP19=\"Yes - workers during emergency operations\", \"5\", IF(CP19=\"Yes- trespassers\", \"3\", IF(CP19=\"No\", \"0\", IF(CP19=\"Don't know\", \"240\", \"\")))))))","v":""},null,{"$f":"IF(CR19=\"Yes - workers during daily operations\", \"240\", IF(CR19=\"Yes - workers during weekly operations\", \"48\", IF(CR19=\"Yes - workers during monthly operations\", \"12\", IF(CR19=\"Yes - workers during emergency operations\", \"5\", IF(CR19=\"Yes- trespassers\", \"3\", IF(CR19=\"No\", \"0\", IF(CR19=\"Don't know\", \"240\", \"\")))))))","v":""},null,{"$f":"IF(CT19=\"Yes - workers during daily operations\", \"240\", IF(CT19=\"Yes - workers during weekly operations\", \"48\", IF(CT19=\"Yes - workers during monthly operations\", \"12\", IF(CT19=\"Yes - workers during emergency operations\", \"5\", IF(CT19=\"Yes- trespassers\", \"3\", IF(CT19=\"No\", \"0\", IF(CT19=\"Don't know\", \"240\", \"\")))))))","v":""},null,{"$f":"IF(CV19=\"Yes - workers during daily operations\", \"240\", IF(CV19=\"Yes - workers during weekly operations\", \"48\", IF(CV19=\"Yes - workers during monthly operations\", \"12\", IF(CV19=\"Yes - workers during emergency operations\", \"5\", IF(CV19=\"Yes- trespassers\", \"3\", IF(CV19=\"No\", \"0\", IF(CV19=\"Don't know\", \"240\", \"\")))))))","v":""},null,{"$f":"IF(CX19=\"Yes - workers during daily operations\", \"240\", IF(CX19=\"Yes - workers during weekly operations\", \"48\", IF(CX19=\"Yes - workers during monthly operations\", \"12\", IF(CX19=\"Yes - workers during emergency operations\", \"5\", IF(CX19=\"Yes- trespassers\", \"3\", IF(CX19=\"No\", \"0\", IF(CX19=\"Don't know\", \"240\", \"\")))))))","v":""},null,{"$f":"IF(CZ19=\"Yes - workers during daily operations\", \"240\", IF(CZ19=\"Yes - workers during weekly operations\", \"48\", IF(CZ19=\"Yes - workers during monthly operations\", \"12\", IF(CZ19=\"Yes - workers during emergency operations\", \"5\", IF(CZ19=\"Yes- trespassers\", \"3\", IF(CZ19=\"No\", \"0\", IF(CZ19=\"Don't know\", \"240\", \"\")))))))","v":""},null,{"$f":"IF(DB19=\"Yes - workers during daily operations\", \"240\", IF(DB19=\"Yes - workers during weekly operations\", \"48\", IF(DB19=\"Yes - workers during monthly operations\", \"12\", IF(DB19=\"Yes - workers during emergency operations\", \"5\", IF(DB19=\"Yes- trespassers\", \"3\", IF(DB19=\"No\", \"0\", IF(DB19=\"Don't know\", \"240\", \"\")))))))","v":""},null,{"$f":"IF(DD19=\"Yes - workers during daily operations\", \"240\", IF(DD19=\"Yes - workers during weekly operations\", \"48\", IF(DD19=\"Yes - workers during monthly operations\", \"12\", IF(DD19=\"Yes - workers during emergency operations\", \"5\", IF(DD19=\"Yes- trespassers\", \"3\", IF(DD19=\"No\", \"0\", IF(DD19=\"Don't know\", \"240\", \"\")))))))","v":""},null,{"$f":"IF(DF19=\"Yes - workers during daily operations\", \"240\", IF(DF19=\"Yes - workers during weekly operations\", \"48\", IF(DF19=\"Yes - workers during monthly operations\", \"12\", IF(DF19=\"Yes - workers during emergency operations\", \"5\", IF(DF19=\"Yes- trespassers\", \"3\", IF(DF19=\"No\", \"0\", IF(DF19=\"Don't know\", \"240\", \"\")))))))","v":""},null,{"$f":"IF(DH19=\"Yes - workers during daily operations\", \"240\", IF(DH19=\"Yes - workers during weekly operations\", \"48\", IF(DH19=\"Yes - workers during monthly operations\", \"12\", IF(DH19=\"Yes - workers during emergency operations\", \"5\", IF(DH19=\"Yes- trespassers\", \"3\", IF(DH19=\"No\", \"0\", IF(DH19=\"Don't know\", \"240\", \"\")))))))","v":""},null,{"$f":"IF(DJ19=\"Yes - workers during daily operations\", \"240\", IF(DJ19=\"Yes - workers during weekly operations\", \"48\", IF(DJ19=\"Yes - workers during monthly operations\", \"12\", IF(DJ19=\"Yes - workers during emergency operations\", \"5\", IF(DJ19=\"Yes- trespassers\", \"3\", IF(DJ19=\"No\", \"0\", IF(DJ19=\"Don't know\", \"240\", \"\")))))))","v":""},null,{"$f":"IF(DL19=\"Yes - workers during daily operations\", \"240\", IF(DL19=\"Yes - workers during weekly operations\", \"48\", IF(DL19=\"Yes - workers during monthly operations\", \"12\", IF(DL19=\"Yes - workers during emergency operations\", \"5\", IF(DL19=\"Yes- trespassers\", \"3\", IF(DL19=\"No\", \"0\", IF(DL19=\"Don't know\", \"240\", \"\")))))))","v":""},null,{"$f":"IF(DN19=\"Yes - workers during daily operations\", \"240\", IF(DN19=\"Yes - workers during weekly operations\", \"48\", IF(DN19=\"Yes - workers during monthly operations\", \"12\", IF(DN19=\"Yes - workers during emergency operations\", \"5\", IF(DN19=\"Yes- trespassers\", \"3\", IF(DN19=\"No\", \"0\", IF(DN19=\"Don't know\", \"240\", \"\")))))))","v":""},null,{"$f":"IF(DP19=\"Yes - workers during daily operations\", \"240\", IF(DP19=\"Yes - workers during weekly operations\", \"48\", IF(DP19=\"Yes - workers during monthly operations\", \"12\", IF(DP19=\"Yes - workers during emergency operations\", \"5\", IF(DP19=\"Yes- trespassers\", \"3\", IF(DP19=\"No\", \"0\", IF(DP19=\"Don't know\", \"240\", \"\")))))))","v":""},null,{"$f":"IF(DR19=\"Yes - workers during daily operations\", \"240\", IF(DR19=\"Yes - workers during weekly operations\", \"48\", IF(DR19=\"Yes - workers during monthly operations\", \"12\", IF(DR19=\"Yes - workers during emergency operations\", \"5\", IF(DR19=\"Yes- trespassers\", \"3\", IF(DR19=\"No\", \"0\", IF(DR19=\"Don't know\", \"240\", \"\")))))))","v":""},null,{"$f":"IF(DT19=\"Yes - workers during daily operations\", \"240\", IF(DT19=\"Yes - workers during weekly operations\", \"48\", IF(DT19=\"Yes - workers during monthly operations\", \"12\", IF(DT19=\"Yes - workers during emergency operations\", \"5\", IF(DT19=\"Yes- trespassers\", \"3\", IF(DT19=\"No\", \"0\", IF(DT19=\"Don't know\", \"240\", \"\")))))))","v":""},null,{"$f":"IF(DV19=\"Yes - workers during daily operations\", \"240\", IF(DV19=\"Yes - workers during weekly operations\", \"48\", IF(DV19=\"Yes - workers during monthly operations\", \"12\", IF(DV19=\"Yes - workers during emergency operations\", \"5\", IF(DV19=\"Yes- trespassers\", \"3\", IF(DV19=\"No\", \"0\", IF(DV19=\"Don't know\", \"240\", \"\")))))))","v":""},null,{"$f":"IF(DX19=\"Yes - workers during daily operations\", \"240\", IF(DX19=\"Yes - workers during weekly operations\", \"48\", IF(DX19=\"Yes - workers during monthly operations\", \"12\", IF(DX19=\"Yes - workers during emergency operations\", \"5\", IF(DX19=\"Yes- trespassers\", \"3\", IF(DX19=\"No\", \"0\", IF(DX19=\"Don't know\", \"240\", \"\")))))))","v":""},null,{"$f":"IF(DZ19=\"Yes - workers during daily operations\", \"240\", IF(DZ19=\"Yes - workers during weekly operations\", \"48\", IF(DZ19=\"Yes - workers during monthly operations\", \"12\", IF(DZ19=\"Yes - workers during emergency operations\", \"5\", IF(DZ19=\"Yes- trespassers\", \"3\", IF(DZ19=\"No\", \"0\", IF(DZ19=\"Don't know\", \"240\", \"\")))))))","v":""},null,{"$f":"IF(EB19=\"Yes - workers during daily operations\", \"240\", IF(EB19=\"Yes - workers during weekly operations\", \"48\", IF(EB19=\"Yes - workers during monthly operations\", \"12\", IF(EB19=\"Yes - workers during emergency operations\", \"5\", IF(EB19=\"Yes- trespassers\", \"3\", IF(EB19=\"No\", \"0\", IF(EB19=\"Don't know\", \"240\", \"\")))))))","v":""},null,{"$f":"IF(ED19=\"Yes - workers during daily operations\", \"240\", IF(ED19=\"Yes - workers during weekly operations\", \"48\", IF(ED19=\"Yes - workers during monthly operations\", \"12\", IF(ED19=\"Yes - workers during emergency operations\", \"5\", IF(ED19=\"Yes- trespassers\", \"3\", IF(ED19=\"No\", \"0\", IF(ED19=\"Don't know\", \"240\", \"\")))))))","v":""},null,{"$f":"IF(EF19=\"Yes - workers during daily operations\", \"240\", IF(EF19=\"Yes - workers during weekly operations\", \"48\", IF(EF19=\"Yes - workers during monthly operations\", \"12\", IF(EF19=\"Yes - workers during emergency operations\", \"5\", IF(EF19=\"Yes- trespassers\", \"3\", IF(EF19=\"No\", \"0\", IF(EF19=\"Don't know\", \"240\", \"\")))))))","v":""},null,{"$f":"IF(EH19=\"Yes - workers during daily operations\", \"240\", IF(EH19=\"Yes - workers during weekly operations\", \"48\", IF(EH19=\"Yes - workers during monthly operations\", \"12\", IF(EH19=\"Yes - workers during emergency operations\", \"5\", IF(EH19=\"Yes- trespassers\", \"3\", IF(EH19=\"No\", \"0\", IF(EH19=\"Don't know\", \"240\", \"\")))))))","v":""},null,{"$f":"IF(EJ19=\"Yes - workers during daily operations\", \"240\", IF(EJ19=\"Yes - workers during weekly operations\", \"48\", IF(EJ19=\"Yes - workers during monthly operations\", \"12\", IF(EJ19=\"Yes - workers during emergency operations\", \"5\", IF(EJ19=\"Yes- trespassers\", \"3\", IF(EJ19=\"No\", \"0\", IF(EJ19=\"Don't know\", \"240\", \"\")))))))","v":""},null,{"$f":"IF(EL19=\"Yes - workers during daily operations\", \"240\", IF(EL19=\"Yes - workers during weekly operations\", \"48\", IF(EL19=\"Yes - workers during monthly operations\", \"12\", IF(EL19=\"Yes - workers during emergency operations\", \"5\", IF(EL19=\"Yes- trespassers\", \"3\", IF(EL19=\"No\", \"0\", IF(EL19=\"Don't know\", \"240\", \"\")))))))","v":""},null,{"$f":"IF(EN19=\"Yes - workers during daily operations\", \"240\", IF(EN19=\"Yes - workers during weekly operations\", \"48\", IF(EN19=\"Yes - workers during monthly operations\", \"12\", IF(EN19=\"Yes - workers during emergency operations\", \"5\", IF(EN19=\"Yes- trespassers\", \"3\", IF(EN19=\"No\", \"0\", IF(EN19=\"Don't know\", \"240\", \"\")))))))","v":""},null,{"$f":"IF(EP19=\"Yes - workers during daily operations\", \"240\", IF(EP19=\"Yes - workers during weekly operations\", \"48\", IF(EP19=\"Yes - workers during monthly operations\", \"12\", IF(EP19=\"Yes - workers during emergency operations\", \"5\", IF(EP19=\"Yes- trespassers\", \"3\", IF(EP19=\"No\", \"0\", IF(EP19=\"Don't know\", \"240\", \"\")))))))","v":""},null,{"$f":"IF(ER19=\"Yes - workers during daily operations\", \"240\", IF(ER19=\"Yes - workers during weekly operations\", \"48\", IF(ER19=\"Yes - workers during monthly operations\", \"12\", IF(ER19=\"Yes - workers during emergency operations\", \"5\", IF(ER19=\"Yes- trespassers\", \"3\", IF(ER19=\"No\", \"0\", IF(ER19=\"Don't know\", \"240\", \"\")))))))","v":""},null,{"$f":"IF(ET19=\"Yes - workers during daily operations\", \"240\", IF(ET19=\"Yes - workers during weekly operations\", \"48\", IF(ET19=\"Yes - workers during monthly operations\", \"12\", IF(ET19=\"Yes - workers during emergency operations\", \"5\", IF(ET19=\"Yes- trespassers\", \"3\", IF(ET19=\"No\", \"0\", IF(ET19=\"Don't know\", \"240\", \"\")))))))","v":""},null,{"$f":"IF(EV19=\"Yes - workers during daily operations\", \"240\", IF(EV19=\"Yes - workers during weekly operations\", \"48\", IF(EV19=\"Yes - workers during monthly operations\", \"12\", IF(EV19=\"Yes - workers during emergency operations\", \"5\", IF(EV19=\"Yes- trespassers\", \"3\", IF(EV19=\"No\", \"0\", IF(EV19=\"Don't know\", \"240\", \"\")))))))","v":""},null,{"$f":"IF(EX19=\"Yes - workers during daily operations\", \"240\", IF(EX19=\"Yes - workers during weekly operations\", \"48\", IF(EX19=\"Yes - workers during monthly operations\", \"12\", IF(EX19=\"Yes - workers during emergency operations\", \"5\", IF(EX19=\"Yes- trespassers\", \"3\", IF(EX19=\"No\", \"0\", IF(EX19=\"Don't know\", \"240\", \"\")))))))","v":""},null,{"$f":"IF(EZ19=\"Yes - workers during daily operations\", \"240\", IF(EZ19=\"Yes - workers during weekly operations\", \"48\", IF(EZ19=\"Yes - workers during monthly operations\", \"12\", IF(EZ19=\"Yes - workers during emergency operations\", \"5\", IF(EZ19=\"Yes- trespassers\", \"3\", IF(EZ19=\"No\", \"0\", IF(EZ19=\"Don't know\", \"240\", \"\")))))))","v":""},null,{"$f":"IF(FB19=\"Yes - workers during daily operations\", \"240\", IF(FB19=\"Yes - workers during weekly operations\", \"48\", IF(FB19=\"Yes - workers during monthly operations\", \"12\", IF(FB19=\"Yes - workers during emergency operations\", \"5\", IF(FB19=\"Yes- trespassers\", \"3\", IF(FB19=\"No\", \"0\", IF(FB19=\"Don't know\", \"240\", \"\")))))))","v":""},null,{"$f":"IF(FD19=\"Yes - workers during daily operations\", \"240\", IF(FD19=\"Yes - workers during weekly operations\", \"48\", IF(FD19=\"Yes - workers during monthly operations\", \"12\", IF(FD19=\"Yes - workers during emergency operations\", \"5\", IF(FD19=\"Yes- trespassers\", \"3\", IF(FD19=\"No\", \"0\", IF(FD19=\"Don't know\", \"240\", \"\")))))))","v":""}]
[null,null,"SCORE",{"$f":"IFERROR((E14*E15*E17) + E18 + E16+E19, \"\")","v":""},null,{"$f":"IFERROR((G14*G15*G17) + G18 + G16+G19, \"\")","v":""},null,{"$f":"IFERROR((I14*I15*I17) + I18 + I16+I19, \"\")","v":""},null,{"$f":"IFERROR((K14*K15*K17) + K18 + K16+K19, \"\")","v":""},null,{"$f":"IFERROR((M14*M15*M17) + M18 + M16+M19, \"\")","v":""},null,{"$f":"IFERROR((O14*O15*O17) + O18 + O16+O19, \"\")","v":""},null,{"$f":"IFERROR((Q14*Q15*Q17) + Q18 + Q16+Q19, \"\")","v":""},null,{"$f":"IFERROR((S14*S15*S17) + S18 + S16+S19, \"\")","v":""},null,{"$f":"IFERROR((U14*U15*U17) + U18 + U16+U19, \"\")","v":""},null,{"$f":"IFERROR((W14*W15*W17) + W18 + W16+W19, \"\")","v":""},null,{"$f":"IFERROR((Y14*Y15*Y17) + Y18 + Y16+Y19, \"\")","v":""},null,{"$f":"IFERROR((AA14*AA15*AA17) + AA18 + AA16+AA19, \"\")","v":""},null,{"$f":"IFERROR((AC14*AC15*AC17) + AC18 + AC16+AC19, \"\")","v":""},null,{"$f":"IFERROR((AE14*AE15*AE17) + AE18 + AE16+AE19, \"\")","v":""},null,{"$f":"IFERROR((AG14*AG15*AG17) + AG18 + AG16+AG19, \"\")","v":""},null,{"$f":"IFERROR((AI14*AI15*AI17) + AI18 + AI16+AI19, \"\")","v":""},null,{"$f":"IFERROR((AK14*AK15*AK17) + AK18 + AK16+AK19, \"\")","v":""},null,{"$f":"IFERROR((AM14*AM15*AM17) + AM18 + AM16+AM19, \"\")","v":""},null,{"$f":"IFERROR((AO14*AO15*AO17) + AO18 + AO16+AO19, \"\")","v":""},null,{"$f":"IFERROR((AQ14*AQ15*AQ17) + AQ18 + AQ16+AQ19, \"\")","v":""},null,{"$f":"IFERROR((AS14*AS15*AS17) + AS18 + AS16+AS19, \"\")","v":""},null,{"$f":"IFERROR((AU14*AU15*AU17) + AU18 + AU16+AU19, \"\")","v":""},null,{"$f":"IFERROR((AW14*AW15*AW17) + AW18 + AW16+AW19, \"\")","v":""},null,{"$f":"IFERROR((AY14*AY15*AY17) + AY18 + AY16+AY19, \"\")","v":""},null,{"$f":"IFERROR((BA14*BA15*BA17) + BA18 + BA16+BA19, \"\")","v":""},null,{"$f":"IFERROR((BC14*BC15*BC17) + BC18 + BC16+BC19, \"\")","v":""},null,{"$f":"IFERROR((BE14*BE15*BE17) + BE18 + BE16+BE19, \"\")","v":""},null,{"$f":"IFERROR((BG14*BG15*BG17) + BG18 + BG16+BG19, \"\")","v":""},null,{"$f":"IFERROR((BI14*BI15*BI17) + BI18 + BI16+BI19, \"\")","v":""},null,{"$f":"IFERROR((BK14*BK15*BK17) + BK18 + BK16+BK19, \"\")","v":""},null,{"$f":"IFERROR((BM14*BM15*BM17) + BM18 + BM16+BM19, \"\")","v":""},null,{"$f":"IFERROR((BO14*BO15*BO17) + BO18 + BO16+BO19, \"\")","v":""},null,{"$f":"IFERROR((BQ14*BQ15*BQ17) + BQ18 + BQ16+BQ19, \"\")","v":""},null,{"$f":"IFERROR((BS14*BS15*BS17) + BS18 + BS16+BS19, \"\")","v":""},null,{"$f":"IFERROR((BU14*BU15*BU17) + BU18 + BU16+BU19, \"\")","v":""},null,{"$f":"IFERROR((BW14*BW15*BW17) + BW18 + BW16+BW19, \"\")","v":""},null,{"$f":"IFERROR((BY14*BY15*BY17) + BY18 + BY16+BY19, \"\")","v":""},null,{"$f":"IFERROR((CA14*CA15*CA17) + CA18 + CA16+CA19, \"\")","v":""},null,{"$f":"IFERROR((CC14*CC15*CC17) + CC18 + CC16+CC19, \"\")","v":""},null,{"$f":"IFERROR((CE14*CE15*CE17) + CE18 + CE16+CE19, \"\")","v":""},null,{"$f":"IFERROR((CG14*CG15*CG17) + CG18 + CG16+CG19, \"\")","v":""},null,{"$f":"IFERROR((CI14*CI15*CI17) + CI18 + CI16+CI19, \"\")","v":""},null,{"$f":"IFERROR((CK14*CK15*CK17) + CK18 + CK16+CK19, \"\")","v":""},null,{"$f":"IFERROR((CM14*CM15*CM17) + CM18 + CM16+CM19, \"\")","v":""},null,{"$f":"IFERROR((CO14*CO15*CO17) + CO18 + CO16+CO19, \"\")","v":""},null,{"$f":"IFERROR((CQ14*CQ15*CQ17) + CQ18 + CQ16+CQ19, \"\")","v":""},null,{"$f":"IFERROR((CS14*CS15*CS17) + CS18 + CS16+CS19, \"\")","v":""},null,{"$f":"IFERROR((CU14*CU15*CU17) + CU18 + CU16+CU19, \"\")","v":""},null,{"$f":"IFERROR((CW14*CW15*CW17) + CW18 + CW16+CW19, \"\")","v":""},null,{"$f":"IFERROR((CY14*CY15*CY17) + CY18 + CY16+CY19, \"\")","v":""},null,{"$f":"IFERROR((DA14*DA15*DA17) + DA18 + DA16+DA19, \"\")","v":""},null,{"$f":"IFERROR((DC14*DC15*DC17) + DC18 + DC16+DC19, \"\")","v":""},null,{"$f":"IFERROR((DE14*DE15*DE17) + DE18 + DE16+DE19, \"\")","v":""},null,{"$f":"IFERROR((DG14*DG15*DG17) + DG18 + DG16+DG19, \"\")","v":""},null,{"$f":"IFERROR((DI14*DI15*DI17) + DI18 + DI16+DI19, \"\")","v":""},null,{"$f":"IFERROR((DK14*DK15*DK17) + DK18 + DK16+DK19, \"\")","v":""},null,{"$f":"IFERROR((DM14*DM15*DM17) + DM18 + DM16+DM19, \"\")","v":""},null,{"$f":"IFERROR((DO14*DO15*DO17) + DO18 + DO16+DO19, \"\")","v":""},null,{"$f":"IFERROR((DQ14*DQ15*DQ17) + DQ18 + DQ16+DQ19, \"\")","v":""},null,{"$f":"IFERROR((DS14*DS15*DS17) + DS18 + DS16+DS19, \"\")","v":""},null,{"$f":"IFERROR((DU14*DU15*DU17) + DU18 + DU16+DU19, \"\")","v":""},null,{"$f":"IFERROR((DW14*DW15*DW17) + DW18 + DW16+DW19, \"\")","v":""},null,{"$f":"IFERROR((DY14*DY15*DY17) + DY18 + DY16+DY19, \"\")","v":""},null,{"$f":"IFERROR((EA14*EA15*EA17) + EA18 + EA16+EA19, \"\")","v":""},null,{"$f":"IFERROR((EC14*EC15*EC17) + EC18 + EC16+EC19, \"\")","v":""},null,{"$f":"IFERROR((EE14*EE15*EE17) + EE18 + EE16+EE19, \"\")","v":""},null,{"$f":"IFERROR((EG14*EG15*EG17) + EG18 + EG16+EG19, \"\")","v":""},null,{"$f":"IFERROR((EI14*EI15*EI17) + EI18 + EI16+EI19, \"\")","v":""},null,{"$f":"IFERROR((EK14*EK15*EK17) + EK18 + EK16+EK19, \"\")","v":""},null,{"$f":"IFERROR((EM14*EM15*EM17) + EM18 + EM16+EM19, \"\")","v":""},null,{"$f":"IFERROR((EO14*EO15*EO17) + EO18 + EO16+EO19, \"\")","v":""},null,{"$f":"IFERROR((EQ14*EQ15*EQ17) + EQ18 + EQ16+EQ19, \"\")","v":""},null,{"$f":"IFERROR((ES14*ES15*ES17) + ES18 + ES16+ES19, \"\")","v":""},null,{"$f":"IFERROR((EU14*EU15*EU17) + EU18 + EU16+EU19, \"\")","v":""},null,{"$f":"IFERROR((EW14*EW15*EW17) + EW18 + EW16+EW19, \"\")","v":""},null,{"$f":"IFERROR((EY14*EY15*EY17) + EY18 + EY16+EY19, \"\")","v":""},null,{"$f":"IFERROR((FA14*FA15*FA17) + FA18 + FA16+FA19, \"\")","v":""},null,{"$f":"IFERROR((FC14*FC15*FC17) + FC18 + FC16+FC19, \"\")","v":""},null,{"$f":"IFERROR((FE14*FE15*FE17) + FE18 + FE16+FE19, \"\")","v":""}]
[null,"MAINTENANCE","How frequently  is the AFFF equipment checked for malfunctions/degradation (leaks, cracks, erosion, etc.)?",null,{"$f":"IF(D21=\"Monthly or more frequently\",\"1\",IF(D21=\"Quarterly\",\"2\",IF(D21=\"Semi-anually\",\"4\",IF(D21=\"Annually\",\"8\",IF(D21=\"None\",\"0\",\"\")))))","v":""},null,{"$f":"IF(F21=\"Monthly or more frequently\",\"1\",IF(F21=\"Quarterly\",\"2\",IF(F21=\"Semi-anually\",\"4\",IF(F21=\"Annually\",\"8\",IF(F21=\"None\",\"0\",\"\")))))","v":""},null,{"$f":"IF(H21=\"Monthly or more frequently\",\"1\",IF(H21=\"Quarterly\",\"2\",IF(H21=\"Semi-anually\",\"4\",IF(H21=\"Annually\",\"8\",IF(H21=\"None\",\"0\",\"\")))))","v":""},null,{"$f":"IF(J21=\"Monthly or more frequently\",\"1\",IF(J21=\"Quarterly\",\"2\",IF(J21=\"Semi-anually\",\"4\",IF(J21=\"Annually\",\"8\",IF(J21=\"None\",\"0\",\"\")))))","v":""},null,{"$f":"IF(L21=\"Monthly or more frequently\",\"1\",IF(L21=\"Quarterly\",\"2\",IF(L21=\"Semi-anually\",\"4\",IF(L21=\"Annually\",\"8\",IF(L21=\"None\",\"0\",\"\")))))","v":""},null,{"$f":"IF(N21=\"Monthly or more frequently\",\"1\",IF(N21=\"Quarterly\",\"2\",IF(N21=\"Semi-anually\",\"4\",IF(N21=\"Annually\",\"8\",IF(N21=\"None\",\"0\",\"\")))))","v":""},null,{"$f":"IF(P21=\"Monthly or more frequently\",\"1\",IF(P21=\"Quarterly\",\"2\",IF(P21=\"Semi-anually\",\"4\",IF(P21=\"Annually\",\"8\",IF(P21=\"None\",\"0\",\"\")))))","v":""},null,{"$f":"IF(R21=\"Monthly or more frequently\",\"1\",IF(R21=\"Quarterly\",\"2\",IF(R21=\"Semi-anually\",\"4\",IF(R21=\"Annually\",\"8\",IF(R21=\"None\",\"0\",\"\")))))","v":""},null,{"$f":"IF(T21=\"Monthly or more frequently\",\"1\",IF(T21=\"Quarterly\",\"2\",IF(T21=\"Semi-anually\",\"4\",IF(T21=\"Annually\",\"8\",IF(T21=\"None\",\"0\",\"\")))))","v":""},null,{"$f":"IF(V21=\"Monthly or more frequently\",\"1\",IF(V21=\"Quarterly\",\"2\",IF(V21=\"Semi-anually\",\"4\",IF(V21=\"Annually\",\"8\",IF(V21=\"None\",\"0\",\"\")))))","v":""},null,{"$f":"IF(X21=\"Monthly or more frequently\",\"1\",IF(X21=\"Quarterly\",\"2\",IF(X21=\"Semi-anually\",\"4\",IF(X21=\"Annually\",\"8\",IF(X21=\"None\",\"0\",\"\")))))","v":""},null,{"$f":"IF(Z21=\"Monthly or more frequently\",\"1\",IF(Z21=\"Quarterly\",\"2\",IF(Z21=\"Semi-anually\",\"4\",IF(Z21=\"Annually\",\"8\",IF(Z21=\"None\",\"0\",\"\")))))","v":""},null,{"$f":"IF(AB21=\"Monthly or more frequently\",\"1\",IF(AB21=\"Quarterly\",\"2\",IF(AB21=\"Semi-anually\",\"4\",IF(AB21=\"Annually\",\"8\",IF(AB21=\"None\",\"0\",\"\")))))","v":""},null,{"$f":"IF(AD21=\"Monthly or more frequently\",\"1\",IF(AD21=\"Quarterly\",\"2\",IF(AD21=\"Semi-anually\",\"4\",IF(AD21=\"Annually\",\"8\",IF(AD21=\"None\",\"0\",\"\")))))","v":""},null,{"$f":"IF(AF21=\"Monthly or more frequently\",\"1\",IF(AF21=\"Quarterly\",\"2\",IF(AF21=\"Semi-anually\",\"4\",IF(AF21=\"Annually\",\"8\",IF(AF21=\"None\",\"0\",\"\")))))","v":""},null,{"$f":"IF(AH21=\"Monthly or more frequently\",\"1\",IF(AH21=\"Quarterly\",\"2\",IF(AH21=\"Semi-anually\",\"4\",IF(AH21=\"Annually\",\"8\",IF(AH21=\"None\",\"0\",\"\")))))","v":""},null,{"$f":"IF(AJ21=\"Monthly or more frequently\",\"1\",IF(AJ21=\"Quarterly\",\"2\",IF(AJ21=\"Semi-anually\",\"4\",IF(AJ21=\"Annually\",\"8\",IF(AJ21=\"None\",\"0\",\"\")))))","v":""},null,{"$f":"IF(AL21=\"Monthly or more frequently\",\"1\",IF(AL21=\"Quarterly\",\"2\",IF(AL21=\"Semi-anually\",\"4\",IF(AL21=\"Annually\",\"8\",IF(AL21=\"None\",\"0\",\"\")))))","v":""},null,{"$f":"IF(AN21=\"Monthly or more frequently\",\"1\",IF(AN21=\"Quarterly\",\"2\",IF(AN21=\"Semi-anually\",\"4\",IF(AN21=\"Annually\",\"8\",IF(AN21=\"None\",\"0\",\"\")))))","v":""},null,{"$f":"IF(AP21=\"Monthly or more frequently\",\"1\",IF(AP21=\"Quarterly\",\"2\",IF(AP21=\"Semi-anually\",\"4\",IF(AP21=\"Annually\",\"8\",IF(AP21=\"None\",\"0\",\"\")))))","v":""},null,{"$f":"IF(AR21=\"Monthly or more frequently\",\"1\",IF(AR21=\"Quarterly\",\"2\",IF(AR21=\"Semi-anually\",\"4\",IF(AR21=\"Annually\",\"8\",IF(AR21=\"None\",\"0\",\"\")))))","v":""},"Semi-anually",{"$f":"IF(AT21=\"Monthly or more frequently\",\"1\",IF(AT21=\"Quarterly\",\"2\",IF(AT21=\"Semi-anually\",\"4\",IF(AT21=\"Annually\",\"8\",IF(AT21=\"None\",\"0\",\"\")))))","v":"4"},"Monthly or more frequently",{"$f":"IF(AV21=\"Monthly or more frequently\",\"1\",IF(AV21=\"Quarterly\",\"2\",IF(AV21=\"Semi-anually\",\"4\",IF(AV21=\"Annually\",\"8\",IF(AV21=\"None\",\"0\",\"\")))))","v":"1"},null,{"$f":"IF(AX21=\"Monthly or more frequently\",\"1\",IF(AX21=\"Quarterly\",\"2\",IF(AX21=\"Semi-anually\",\"4\",IF(AX21=\"Annually\",\"8\",IF(AX21=\"None\",\"0\",\"\")))))","v":""},null,{"$f":"IF(AZ21=\"Monthly or more frequently\",\"1\",IF(AZ21=\"Quarterly\",\"2\",IF(AZ21=\"Semi-anually\",\"4\",IF(AZ21=\"Annually\",\"8\",IF(AZ21=\"None\",\"0\",\"\")))))","v":""},null,{"$f":"IF(BB21=\"Monthly or more frequently\",\"1\",IF(BB21=\"Quarterly\",\"2\",IF(BB21=\"Semi-anually\",\"4\",IF(BB21=\"Annually\",\"8\",IF(BB21=\"None\",\"0\",\"\")))))","v":""},null,{"$f":"IF(BD21=\"Monthly or more frequently\",\"1\",IF(BD21=\"Quarterly\",\"2\",IF(BD21=\"Semi-anually\",\"4\",IF(BD21=\"Annually\",\"8\",IF(BD21=\"None\",\"0\",\"\")))))","v":""},null,{"$f":"IF(BF21=\"Monthly or more frequently\",\"1\",IF(BF21=\"Quarterly\",\"2\",IF(BF21=\"Semi-anually\",\"4\",IF(BF21=\"Annually\",\"8\",IF(BF21=\"None\",\"0\",\"\")))))","v":""},null,{"$f":"IF(BH21=\"Monthly or more frequently\",\"1\",IF(BH21=\"Quarterly\",\"2\",IF(BH21=\"Semi-anually\",\"4\",IF(BH21=\"Annually\",\"8\",IF(BH21=\"None\",\"0\",\"\")))))","v":""},null,{"$f":"IF(BJ21=\"Monthly or more frequently\",\"1\",IF(BJ21=\"Quarterly\",\"2\",IF(BJ21=\"Semi-anually\",\"4\",IF(BJ21=\"Annually\",\"8\",IF(BJ21=\"None\",\"0\",\"\")))))","v":""},null,{"$f":"IF(BL21=\"Monthly or more frequently\",\"1\",IF(BL21=\"Quarterly\",\"2\",IF(BL21=\"Semi-anually\",\"4\",IF(BL21=\"Annually\",\"8\",IF(BL21=\"None\",\"0\",\"\")))))","v":""},null,{"$f":"IF(BN21=\"Monthly or more frequently\",\"1\",IF(BN21=\"Quarterly\",\"2\",IF(BN21=\"Semi-anually\",\"4\",IF(BN21=\"Annually\",\"8\",IF(BN21=\"None\",\"0\",\"\")))))","v":""},null,{"$f":"IF(BP21=\"Monthly or more frequently\",\"1\",IF(BP21=\"Quarterly\",\"2\",IF(BP21=\"Semi-anually\",\"4\",IF(BP21=\"Annually\",\"8\",IF(BP21=\"None\",\"0\",\"\")))))","v":""},null,{"$f":"IF(BR21=\"Monthly or more frequently\",\"1\",IF(BR21=\"Quarterly\",\"2\",IF(BR21=\"Semi-anually\",\"4\",IF(BR21=\"Annually\",\"8\",IF(BR21=\"None\",\"0\",\"\")))))","v":""},null,{"$f":"IF(BT21=\"Monthly or more frequently\",\"1\",IF(BT21=\"Quarterly\",\"2\",IF(BT21=\"Semi-anually\",\"4\",IF(BT21=\"Annually\",\"8\",IF(BT21=\"None\",\"0\",\"\")))))","v":""},null,{"$f":"IF(BV21=\"Monthly or more frequently\",\"1\",IF(BV21=\"Quarterly\",\"2\",IF(BV21=\"Semi-anually\",\"4\",IF(BV21=\"Annually\",\"8\",IF(BV21=\"None\",\"0\",\"\")))))","v":""},null,{"$f":"IF(BX21=\"Monthly or more frequently\",\"1\",IF(BX21=\"Quarterly\",\"2\",IF(BX21=\"Semi-anually\",\"4\",IF(BX21=\"Annually\",\"8\",IF(BX21=\"None\",\"0\",\"\")))))","v":""},null,{"$f":"IF(BZ21=\"Monthly or more frequently\",\"1\",IF(BZ21=\"Quarterly\",\"2\",IF(BZ21=\"Semi-anually\",\"4\",IF(BZ21=\"Annually\",\"8\",IF(BZ21=\"None\",\"0\",\"\")))))","v":""},null,{"$f":"IF(CB21=\"Monthly or more frequently\",\"1\",IF(CB21=\"Quarterly\",\"2\",IF(CB21=\"Semi-anually\",\"4\",IF(CB21=\"Annually\",\"8\",IF(CB21=\"None\",\"0\",\"\")))))","v":""},null,{"$f":"IF(CD21=\"Monthly or more frequently\",\"1\",IF(CD21=\"Quarterly\",\"2\",IF(CD21=\"Semi-anually\",\"4\",IF(CD21=\"Annually\",\"8\",IF(CD21=\"None\",\"0\",\"\")))))","v":""},null,{"$f":"IF(CF21=\"Monthly or more frequently\",\"1\",IF(CF21=\"Quarterly\",\"2\",IF(CF21=\"Semi-anually\",\"4\",IF(CF21=\"Annually\",\"8\",IF(CF21=\"None\",\"0\",\"\")))))","v":""},null,{"$f":"IF(CH21=\"Monthly or more frequently\",\"1\",IF(CH21=\"Quarterly\",\"2\",IF(CH21=\"Semi-anually\",\"4\",IF(CH21=\"Annually\",\"8\",IF(CH21=\"None\",\"0\",\"\")))))","v":""},null,{"$f":"IF(CJ21=\"Monthly or more frequently\",\"1\",IF(CJ21=\"Quarterly\",\"2\",IF(CJ21=\"Semi-anually\",\"4\",IF(CJ21=\"Annually\",\"8\",IF(CJ21=\"None\",\"0\",\"\")))))","v":""},null,{"$f":"IF(CL21=\"Monthly or more frequently\",\"1\",IF(CL21=\"Quarterly\",\"2\",IF(CL21=\"Semi-anually\",\"4\",IF(CL21=\"Annually\",\"8\",IF(CL21=\"None\",\"0\",\"\")))))","v":""},null,{"$f":"IF(CN21=\"Monthly or more frequently\",\"1\",IF(CN21=\"Quarterly\",\"2\",IF(CN21=\"Semi-anually\",\"4\",IF(CN21=\"Annually\",\"8\",IF(CN21=\"None\",\"0\",\"\")))))","v":""},null,{"$f":"IF(CP21=\"Monthly or more frequently\",\"1\",IF(CP21=\"Quarterly\",\"2\",IF(CP21=\"Semi-anually\",\"4\",IF(CP21=\"Annually\",\"8\",IF(CP21=\"None\",\"0\",\"\")))))","v":""},null,{"$f":"IF(CR21=\"Monthly or more frequently\",\"1\",IF(CR21=\"Quarterly\",\"2\",IF(CR21=\"Semi-anually\",\"4\",IF(CR21=\"Annually\",\"8\",IF(CR21=\"None\",\"0\",\"\")))))","v":""},null,{"$f":"IF(CT21=\"Monthly or more frequently\",\"1\",IF(CT21=\"Quarterly\",\"2\",IF(CT21=\"Semi-anually\",\"4\",IF(CT21=\"Annually\",\"8\",IF(CT21=\"None\",\"0\",\"\")))))","v":""},null,{"$f":"IF(CV21=\"Monthly or more frequently\",\"1\",IF(CV21=\"Quarterly\",\"2\",IF(CV21=\"Semi-anually\",\"4\",IF(CV21=\"Annually\",\"8\",IF(CV21=\"None\",\"0\",\"\")))))","v":""},null,{"$f":"IF(CX21=\"Monthly or more frequently\",\"1\",IF(CX21=\"Quarterly\",\"2\",IF(CX21=\"Semi-anually\",\"4\",IF(CX21=\"Annually\",\"8\",IF(CX21=\"None\",\"0\",\"\")))))","v":""},null,{"$f":"IF(CZ21=\"Monthly or more frequently\",\"1\",IF(CZ21=\"Quarterly\",\"2\",IF(CZ21=\"Semi-anually\",\"4\",IF(CZ21=\"Annually\",\"8\",IF(CZ21=\"None\",\"0\",\"\")))))","v":""},null,{"$f":"IF(DB21=\"Monthly or more frequently\",\"1\",IF(DB21=\"Quarterly\",\"2\",IF(DB21=\"Semi-anually\",\"4\",IF(DB21=\"Annually\",\"8\",IF(DB21=\"None\",\"0\",\"\")))))","v":""},null,{"$f":"IF(DD21=\"Monthly or more frequently\",\"1\",IF(DD21=\"Quarterly\",\"2\",IF(DD21=\"Semi-anually\",\"4\",IF(DD21=\"Annually\",\"8\",IF(DD21=\"None\",\"0\",\"\")))))","v":""},null,{"$f":"IF(DF21=\"Monthly or more frequently\",\"1\",IF(DF21=\"Quarterly\",\"2\",IF(DF21=\"Semi-anually\",\"4\",IF(DF21=\"Annually\",\"8\",IF(DF21=\"None\",\"0\",\"\")))))","v":""},null,{"$f":"IF(DH21=\"Monthly or more frequently\",\"1\",IF(DH21=\"Quarterly\",\"2\",IF(DH21=\"Semi-anually\",\"4\",IF(DH21=\"Annually\",\"8\",IF(DH21=\"None\",\"0\",\"\")))))","v":""},null,{"$f":"IF(DJ21=\"Monthly or more frequently\",\"1\",IF(DJ21=\"Quarterly\",\"2\",IF(DJ21=\"Semi-anually\",\"4\",IF(DJ21=\"Annually\",\"8\",IF(DJ21=\"None\",\"0\",\"\")))))","v":""},null,{"$f":"IF(DL21=\"Monthly or more frequently\",\"1\",IF(DL21=\"Quarterly\",\"2\",IF(DL21=\"Semi-anually\",\"4\",IF(DL21=\"Annually\",\"8\",IF(DL21=\"None\",\"0\",\"\")))))","v":""},null,{"$f":"IF(DN21=\"Monthly or more frequently\",\"1\",IF(DN21=\"Quarterly\",\"2\",IF(DN21=\"Semi-anually\",\"4\",IF(DN21=\"Annually\",\"8\",IF(DN21=\"None\",\"0\",\"\")))))","v":""},null,{"$f":"IF(DP21=\"Monthly or more frequently\",\"1\",IF(DP21=\"Quarterly\",\"2\",IF(DP21=\"Semi-anually\",\"4\",IF(DP21=\"Annually\",\"8\",IF(DP21=\"None\",\"0\",\"\")))))","v":""},null,{"$f":"IF(DR21=\"Monthly or more frequently\",\"1\",IF(DR21=\"Quarterly\",\"2\",IF(DR21=\"Semi-anually\",\"4\",IF(DR21=\"Annually\",\"8\",IF(DR21=\"None\",\"0\",\"\")))))","v":""},null,{"$f":"IF(DT21=\"Monthly or more frequently\",\"1\",IF(DT21=\"Quarterly\",\"2\",IF(DT21=\"Semi-anually\",\"4\",IF(DT21=\"Annually\",\"8\",IF(DT21=\"None\",\"0\",\"\")))))","v":""},null,{"$f":"IF(DV21=\"Monthly or more frequently\",\"1\",IF(DV21=\"Quarterly\",\"2\",IF(DV21=\"Semi-anually\",\"4\",IF(DV21=\"Annually\",\"8\",IF(DV21=\"None\",\"0\",\"\")))))","v":""},null,{"$f":"IF(DX21=\"Monthly or more frequently\",\"1\",IF(DX21=\"Quarterly\",\"2\",IF(DX21=\"Semi-anually\",\"4\",IF(DX21=\"Annually\",\"8\",IF(DX21=\"None\",\"0\",\"\")))))","v":""},null,{"$f":"IF(DZ21=\"Monthly or more frequently\",\"1\",IF(DZ21=\"Quarterly\",\"2\",IF(DZ21=\"Semi-anually\",\"4\",IF(DZ21=\"Annually\",\"8\",IF(DZ21=\"None\",\"0\",\"\")))))","v":""},null,{"$f":"IF(EB21=\"Monthly or more frequently\",\"1\",IF(EB21=\"Quarterly\",\"2\",IF(EB21=\"Semi-anually\",\"4\",IF(EB21=\"Annually\",\"8\",IF(EB21=\"None\",\"0\",\"\")))))","v":""},null,{"$f":"IF(ED21=\"Monthly or more frequently\",\"1\",IF(ED21=\"Quarterly\",\"2\",IF(ED21=\"Semi-anually\",\"4\",IF(ED21=\"Annually\",\"8\",IF(ED21=\"None\",\"0\",\"\")))))","v":""},null,{"$f":"IF(EF21=\"Monthly or more frequently\",\"1\",IF(EF21=\"Quarterly\",\"2\",IF(EF21=\"Semi-anually\",\"4\",IF(EF21=\"Annually\",\"8\",IF(EF21=\"None\",\"0\",\"\")))))","v":""},null,{"$f":"IF(EH21=\"Monthly or more frequently\",\"1\",IF(EH21=\"Quarterly\",\"2\",IF(EH21=\"Semi-anually\",\"4\",IF(EH21=\"Annually\",\"8\",IF(EH21=\"None\",\"0\",\"\")))))","v":""},null,{"$f":"IF(EJ21=\"Monthly or more frequently\",\"1\",IF(EJ21=\"Quarterly\",\"2\",IF(EJ21=\"Semi-anually\",\"4\",IF(EJ21=\"Annually\",\"8\",IF(EJ21=\"None\",\"0\",\"\")))))","v":""},null,{"$f":"IF(EL21=\"Monthly or more frequently\",\"1\",IF(EL21=\"Quarterly\",\"2\",IF(EL21=\"Semi-anually\",\"4\",IF(EL21=\"Annually\",\"8\",IF(EL21=\"None\",\"0\",\"\")))))","v":""},null,{"$f":"IF(EN21=\"Monthly or more frequently\",\"1\",IF(EN21=\"Quarterly\",\"2\",IF(EN21=\"Semi-anually\",\"4\",IF(EN21=\"Annually\",\"8\",IF(EN21=\"None\",\"0\",\"\")))))","v":""},null,{"$f":"IF(EP21=\"Monthly or more frequently\",\"1\",IF(EP21=\"Quarterly\",\"2\",IF(EP21=\"Semi-anually\",\"4\",IF(EP21=\"Annually\",\"8\",IF(EP21=\"None\",\"0\",\"\")))))","v":""},null,{"$f":"IF(ER21=\"Monthly or more frequently\",\"1\",IF(ER21=\"Quarterly\",\"2\",IF(ER21=\"Semi-anually\",\"4\",IF(ER21=\"Annually\",\"8\",IF(ER21=\"None\",\"0\",\"\")))))","v":""},null,{"$f":"IF(ET21=\"Monthly or more frequently\",\"1\",IF(ET21=\"Quarterly\",\"2\",IF(ET21=\"Semi-anually\",\"4\",IF(ET21=\"Annually\",\"8\",IF(ET21=\"None\",\"0\",\"\")))))","v":""},null,{"$f":"IF(EV21=\"Monthly or more frequently\",\"1\",IF(EV21=\"Quarterly\",\"2\",IF(EV21=\"Semi-anually\",\"4\",IF(EV21=\"Annually\",\"8\",IF(EV21=\"None\",\"0\",\"\")))))","v":""},null,{"$f":"IF(EX21=\"Monthly or more frequently\",\"1\",IF(EX21=\"Quarterly\",\"2\",IF(EX21=\"Semi-anually\",\"4\",IF(EX21=\"Annually\",\"8\",IF(EX21=\"None\",\"0\",\"\")))))","v":""},null,{"$f":"IF(EZ21=\"Monthly or more frequently\",\"1\",IF(EZ21=\"Quarterly\",\"2\",IF(EZ21=\"Semi-anually\",\"4\",IF(EZ21=\"Annually\",\"8\",IF(EZ21=\"None\",\"0\",\"\")))))","v":""},null,{"$f":"IF(FB21=\"Monthly or more frequently\",\"1\",IF(FB21=\"Quarterly\",\"2\",IF(FB21=\"Semi-anually\",\"4\",IF(FB21=\"Annually\",\"8\",IF(FB21=\"None\",\"0\",\"\")))))","v":""},null,{"$f":"IF(FD21=\"Monthly or more frequently\",\"1\",IF(FD21=\"Quarterly\",\"2\",IF(FD21=\"Semi-anually\",\"4\",IF(FD21=\"Annually\",\"8\",IF(FD21=\"None\",\"0\",\"\")))))","v":""}]
[null,null,"What is used to clean equipment that had contained AFFF?",null,{"$f":"IF(D22=\"Nothing\", \"5\", IF(D22=\"Rinsed/flushed with water\", \"3\", IF(D22=\"Cleaned with water and soap/detergent\", \"2\", IF(D22=\"Rinsed/flushed with a solvent\", \"0\", \"\"))))","v":""},null,{"$f":"IF(F22=\"Nothing\", \"5\", IF(F22=\"Rinsed/flushed with water\", \"3\", IF(F22=\"Cleaned with water and soap/detergent\", \"2\", IF(F22=\"Rinsed/flushed with a solvent\", \"0\", \"\"))))","v":""},null,{"$f":"IF(H22=\"Nothing\", \"5\", IF(H22=\"Rinsed/flushed with water\", \"3\", IF(H22=\"Cleaned with water and soap/detergent\", \"2\", IF(H22=\"Rinsed/flushed with a solvent\", \"0\", \"\"))))","v":""},null,{"$f":"IF(J22=\"Nothing\", \"5\", IF(J22=\"Rinsed/flushed with water\", \"3\", IF(J22=\"Cleaned with water and soap/detergent\", \"2\", IF(J22=\"Rinsed/flushed with a solvent\", \"0\", \"\"))))","v":""},null,{"$f":"IF(L22=\"Nothing\", \"5\", IF(L22=\"Rinsed/flushed with water\", \"3\", IF(L22=\"Cleaned with water and soap/detergent\", \"2\", IF(L22=\"Rinsed/flushed with a solvent\", \"0\", \"\"))))","v":""},null,{"$f":"IF(N22=\"Nothing\", \"5\", IF(N22=\"Rinsed/flushed with water\", \"3\", IF(N22=\"Cleaned with water and soap/detergent\", \"2\", IF(N22=\"Rinsed/flushed with a solvent\", \"0\", \"\"))))","v":""},null,{"$f":"IF(P22=\"Nothing\", \"5\", IF(P22=\"Rinsed/flushed with water\", \"3\", IF(P22=\"Cleaned with water and soap/detergent\", \"2\", IF(P22=\"Rinsed/flushed with a solvent\", \"0\", \"\"))))","v":""},null,{"$f":"IF(R22=\"Nothing\", \"5\", IF(R22=\"Rinsed/flushed with water\", \"3\", IF(R22=\"Cleaned with water and soap/detergent\", \"2\", IF(R22=\"Rinsed/flushed with a solvent\", \"0\", \"\"))))","v":""},null,{"$f":"IF(T22=\"Nothing\", \"5\", IF(T22=\"Rinsed/flushed with water\", \"3\", IF(T22=\"Cleaned with water and soap/detergent\", \"2\", IF(T22=\"Rinsed/flushed with a solvent\", \"0\", \"\"))))","v":""},null,{"$f":"IF(V22=\"Nothing\", \"5\", IF(V22=\"Rinsed/flushed with water\", \"3\", IF(V22=\"Cleaned with water and soap/detergent\", \"2\", IF(V22=\"Rinsed/flushed with a solvent\", \"0\", \"\"))))","v":""},null,{"$f":"IF(X22=\"Nothing\", \"5\", IF(X22=\"Rinsed/flushed with water\", \"3\", IF(X22=\"Cleaned with water and soap/detergent\", \"2\", IF(X22=\"Rinsed/flushed with a solvent\", \"0\", \"\"))))","v":""},null,{"$f":"IF(Z22=\"Nothing\", \"5\", IF(Z22=\"Rinsed/flushed with water\", \"3\", IF(Z22=\"Cleaned with water and soap/detergent\", \"2\", IF(Z22=\"Rinsed/flushed with a solvent\", \"0\", \"\"))))","v":""},null,{"$f":"IF(AB22=\"Nothing\", \"5\", IF(AB22=\"Rinsed/flushed with water\", \"3\", IF(AB22=\"Cleaned with water and soap/detergent\", \"2\", IF(AB22=\"Rinsed/flushed with a solvent\", \"0\", \"\"))))","v":""},null,{"$f":"IF(AD22=\"Nothing\", \"5\", IF(AD22=\"Rinsed/flushed with water\", \"3\", IF(AD22=\"Cleaned with water and soap/detergent\", \"2\", IF(AD22=\"Rinsed/flushed with a solvent\", \"0\", \"\"))))","v":""},null,{"$f":"IF(AF22=\"Nothing\", \"5\", IF(AF22=\"Rinsed/flushed with water\", \"3\", IF(AF22=\"Cleaned with water and soap/detergent\", \"2\", IF(AF22=\"Rinsed/flushed with a solvent\", \"0\", \"\"))))","v":""},null,{"$f":"IF(AH22=\"Nothing\", \"5\", IF(AH22=\"Rinsed/flushed with water\", \"3\", IF(AH22=\"Cleaned with water and soap/detergent\", \"2\", IF(AH22=\"Rinsed/flushed with a solvent\", \"0\", \"\"))))","v":""},null,{"$f":"IF(AJ22=\"Nothing\", \"5\", IF(AJ22=\"Rinsed/flushed with water\", \"3\", IF(AJ22=\"Cleaned with water and soap/detergent\", \"2\", IF(AJ22=\"Rinsed/flushed with a solvent\", \"0\", \"\"))))","v":""},null,{"$f":"IF(AL22=\"Nothing\", \"5\", IF(AL22=\"Rinsed/flushed with water\", \"3\", IF(AL22=\"Cleaned with water and soap/detergent\", \"2\", IF(AL22=\"Rinsed/flushed with a solvent\", \"0\", \"\"))))","v":""},null,{"$f":"IF(AN22=\"Nothing\", \"5\", IF(AN22=\"Rinsed/flushed with water\", \"3\", IF(AN22=\"Cleaned with water and soap/detergent\", \"2\", IF(AN22=\"Rinsed/flushed with a solvent\", \"0\", \"\"))))","v":""},null,{"$f":"IF(AP22=\"Nothing\", \"5\", IF(AP22=\"Rinsed/flushed with water\", \"3\", IF(AP22=\"Cleaned with water and soap/detergent\", \"2\", IF(AP22=\"Rinsed/flushed with a solvent\", \"0\", \"\"))))","v":""},null,{"$f":"IF(AR22=\"Nothing\", \"5\", IF(AR22=\"Rinsed/flushed with water\", \"3\", IF(AR22=\"Cleaned with water and soap/detergent\", \"2\", IF(AR22=\"Rinsed/flushed with a solvent\", \"0\", \"\"))))","v":""},"Cleaned with water and soap/detergent",{"$f":"IF(AT22=\"Nothing\", \"5\", IF(AT22=\"Rinsed/flushed with water\", \"3\", IF(AT22=\"Cleaned with water and soap/detergent\", \"2\", IF(AT22=\"Rinsed/flushed with a solvent\", \"0\", \"\"))))","v":"2"},"Rinsed/flushed with water",{"$f":"IF(AV22=\"Nothing\", \"5\", IF(AV22=\"Rinsed/flushed with water\", \"3\", IF(AV22=\"Cleaned with water and soap/detergent\", \"2\", IF(AV22=\"Rinsed/flushed with a solvent\", \"0\", \"\"))))","v":"3"},null,{"$f":"IF(AX22=\"Nothing\", \"5\", IF(AX22=\"Rinsed/flushed with water\", \"3\", IF(AX22=\"Cleaned with water and soap/detergent\", \"2\", IF(AX22=\"Rinsed/flushed with a solvent\", \"0\", \"\"))))","v":""},null,{"$f":"IF(AZ22=\"Nothing\", \"5\", IF(AZ22=\"Rinsed/flushed with water\", \"3\", IF(AZ22=\"Cleaned with water and soap/detergent\", \"2\", IF(AZ22=\"Rinsed/flushed with a solvent\", \"0\", \"\"))))","v":""},null,{"$f":"IF(BB22=\"Nothing\", \"5\", IF(BB22=\"Rinsed/flushed with water\", \"3\", IF(BB22=\"Cleaned with water and soap/detergent\", \"2\", IF(BB22=\"Rinsed/flushed with a solvent\", \"0\", \"\"))))","v":""},null,{"$f":"IF(BD22=\"Nothing\", \"5\", IF(BD22=\"Rinsed/flushed with water\", \"3\", IF(BD22=\"Cleaned with water and soap/detergent\", \"2\", IF(BD22=\"Rinsed/flushed with a solvent\", \"0\", \"\"))))","v":""},null,{"$f":"IF(BF22=\"Nothing\", \"5\", IF(BF22=\"Rinsed/flushed with water\", \"3\", IF(BF22=\"Cleaned with water and soap/detergent\", \"2\", IF(BF22=\"Rinsed/flushed with a solvent\", \"0\", \"\"))))","v":""},null,{"$f":"IF(BH22=\"Nothing\", \"5\", IF(BH22=\"Rinsed/flushed with water\", \"3\", IF(BH22=\"Cleaned with water and soap/detergent\", \"2\", IF(BH22=\"Rinsed/flushed with a solvent\", \"0\", \"\"))))","v":""},null,{"$f":"IF(BJ22=\"Nothing\", \"5\", IF(BJ22=\"Rinsed/flushed with water\", \"3\", IF(BJ22=\"Cleaned with water and soap/detergent\", \"2\", IF(BJ22=\"Rinsed/flushed with a solvent\", \"0\", \"\"))))","v":""},null,{"$f":"IF(BL22=\"Nothing\", \"5\", IF(BL22=\"Rinsed/flushed with water\", \"3\", IF(BL22=\"Cleaned with water and soap/detergent\", \"2\", IF(BL22=\"Rinsed/flushed with a solvent\", \"0\", \"\"))))","v":""},null,{"$f":"IF(BN22=\"Nothing\", \"5\", IF(BN22=\"Rinsed/flushed with water\", \"3\", IF(BN22=\"Cleaned with water and soap/detergent\", \"2\", IF(BN22=\"Rinsed/flushed with a solvent\", \"0\", \"\"))))","v":""},null,{"$f":"IF(BP22=\"Nothing\", \"5\", IF(BP22=\"Rinsed/flushed with water\", \"3\", IF(BP22=\"Cleaned with water and soap/detergent\", \"2\", IF(BP22=\"Rinsed/flushed with a solvent\", \"0\", \"\"))))","v":""},null,{"$f":"IF(BR22=\"Nothing\", \"5\", IF(BR22=\"Rinsed/flushed with water\", \"3\", IF(BR22=\"Cleaned with water and soap/detergent\", \"2\", IF(BR22=\"Rinsed/flushed with a solvent\", \"0\", \"\"))))","v":""},null,{"$f":"IF(BT22=\"Nothing\", \"5\", IF(BT22=\"Rinsed/flushed with water\", \"3\", IF(BT22=\"Cleaned with water and soap/detergent\", \"2\", IF(BT22=\"Rinsed/flushed with a solvent\", \"0\", \"\"))))","v":""},null,{"$f":"IF(BV22=\"Nothing\", \"5\", IF(BV22=\"Rinsed/flushed with water\", \"3\", IF(BV22=\"Cleaned with water and soap/detergent\", \"2\", IF(BV22=\"Rinsed/flushed with a solvent\", \"0\", \"\"))))","v":""},null,{"$f":"IF(BX22=\"Nothing\", \"5\", IF(BX22=\"Rinsed/flushed with water\", \"3\", IF(BX22=\"Cleaned with water and soap/detergent\", \"2\", IF(BX22=\"Rinsed/flushed with a solvent\", \"0\", \"\"))))","v":""},null,{"$f":"IF(BZ22=\"Nothing\", \"5\", IF(BZ22=\"Rinsed/flushed with water\", \"3\", IF(BZ22=\"Cleaned with water and soap/detergent\", \"2\", IF(BZ22=\"Rinsed/flushed with a solvent\", \"0\", \"\"))))","v":""},null,{"$f":"IF(CB22=\"Nothing\", \"5\", IF(CB22=\"Rinsed/flushed with water\", \"3\", IF(CB22=\"Cleaned with water and soap/detergent\", \"2\", IF(CB22=\"Rinsed/flushed with a solvent\", \"0\", \"\"))))","v":""},null,{"$f":"IF(CD22=\"Nothing\", \"5\", IF(CD22=\"Rinsed/flushed with water\", \"3\", IF(CD22=\"Cleaned with water and soap/detergent\", \"2\", IF(CD22=\"Rinsed/flushed with a solvent\", \"0\", \"\"))))","v":""},null,{"$f":"IF(CF22=\"Nothing\", \"5\", IF(CF22=\"Rinsed/flushed with water\", \"3\", IF(CF22=\"Cleaned with water and soap/detergent\", \"2\", IF(CF22=\"Rinsed/flushed with a solvent\", \"0\", \"\"))))","v":""},null,{"$f":"IF(CH22=\"Nothing\", \"5\", IF(CH22=\"Rinsed/flushed with water\", \"3\", IF(CH22=\"Cleaned with water and soap/detergent\", \"2\", IF(CH22=\"Rinsed/flushed with a solvent\", \"0\", \"\"))))","v":""},null,{"$f":"IF(CJ22=\"Nothing\", \"5\", IF(CJ22=\"Rinsed/flushed with water\", \"3\", IF(CJ22=\"Cleaned with water and soap/detergent\", \"2\", IF(CJ22=\"Rinsed/flushed with a solvent\", \"0\", \"\"))))","v":""},null,{"$f":"IF(CL22=\"Nothing\", \"5\", IF(CL22=\"Rinsed/flushed with water\", \"3\", IF(CL22=\"Cleaned with water and soap/detergent\", \"2\", IF(CL22=\"Rinsed/flushed with a solvent\", \"0\", \"\"))))","v":""},null,{"$f":"IF(CN22=\"Nothing\", \"5\", IF(CN22=\"Rinsed/flushed with water\", \"3\", IF(CN22=\"Cleaned with water and soap/detergent\", \"2\", IF(CN22=\"Rinsed/flushed with a solvent\", \"0\", \"\"))))","v":""},null,{"$f":"IF(CP22=\"Nothing\", \"5\", IF(CP22=\"Rinsed/flushed with water\", \"3\", IF(CP22=\"Cleaned with water and soap/detergent\", \"2\", IF(CP22=\"Rinsed/flushed with a solvent\", \"0\", \"\"))))","v":""},null,{"$f":"IF(CR22=\"Nothing\", \"5\", IF(CR22=\"Rinsed/flushed with water\", \"3\", IF(CR22=\"Cleaned with water and soap/detergent\", \"2\", IF(CR22=\"Rinsed/flushed with a solvent\", \"0\", \"\"))))","v":""},null,{"$f":"IF(CT22=\"Nothing\", \"5\", IF(CT22=\"Rinsed/flushed with water\", \"3\", IF(CT22=\"Cleaned with water and soap/detergent\", \"2\", IF(CT22=\"Rinsed/flushed with a solvent\", \"0\", \"\"))))","v":""},null,{"$f":"IF(CV22=\"Nothing\", \"5\", IF(CV22=\"Rinsed/flushed with water\", \"3\", IF(CV22=\"Cleaned with water and soap/detergent\", \"2\", IF(CV22=\"Rinsed/flushed with a solvent\", \"0\", \"\"))))","v":""},null,{"$f":"IF(CX22=\"Nothing\", \"5\", IF(CX22=\"Rinsed/flushed with water\", \"3\", IF(CX22=\"Cleaned with water and soap/detergent\", \"2\", IF(CX22=\"Rinsed/flushed with a solvent\", \"0\", \"\"))))","v":""},null,{"$f":"IF(CZ22=\"Nothing\", \"5\", IF(CZ22=\"Rinsed/flushed with water\", \"3\", IF(CZ22=\"Cleaned with water and soap/detergent\", \"2\", IF(CZ22=\"Rinsed/flushed with a solvent\", \"0\", \"\"))))","v":""},null,{"$f":"IF(DB22=\"Nothing\", \"5\", IF(DB22=\"Rinsed/flushed with water\", \"3\", IF(DB22=\"Cleaned with water and soap/detergent\", \"2\", IF(DB22=\"Rinsed/flushed with a solvent\", \"0\", \"\"))))","v":""},null,{"$f":"IF(DD22=\"Nothing\", \"5\", IF(DD22=\"Rinsed/flushed with water\", \"3\", IF(DD22=\"Cleaned with water and soap/detergent\", \"2\", IF(DD22=\"Rinsed/flushed with a solvent\", \"0\", \"\"))))","v":""},null,{"$f":"IF(DF22=\"Nothing\", \"5\", IF(DF22=\"Rinsed/flushed with water\", \"3\", IF(DF22=\"Cleaned with water and soap/detergent\", \"2\", IF(DF22=\"Rinsed/flushed with a solvent\", \"0\", \"\"))))","v":""},null,{"$f":"IF(DH22=\"Nothing\", \"5\", IF(DH22=\"Rinsed/flushed with water\", \"3\", IF(DH22=\"Cleaned with water and soap/detergent\", \"2\", IF(DH22=\"Rinsed/flushed with a solvent\", \"0\", \"\"))))","v":""},null,{"$f":"IF(DJ22=\"Nothing\", \"5\", IF(DJ22=\"Rinsed/flushed with water\", \"3\", IF(DJ22=\"Cleaned with water and soap/detergent\", \"2\", IF(DJ22=\"Rinsed/flushed with a solvent\", \"0\", \"\"))))","v":""},null,{"$f":"IF(DL22=\"Nothing\", \"5\", IF(DL22=\"Rinsed/flushed with water\", \"3\", IF(DL22=\"Cleaned with water and soap/detergent\", \"2\", IF(DL22=\"Rinsed/flushed with a solvent\", \"0\", \"\"))))","v":""},null,{"$f":"IF(DN22=\"Nothing\", \"5\", IF(DN22=\"Rinsed/flushed with water\", \"3\", IF(DN22=\"Cleaned with water and soap/detergent\", \"2\", IF(DN22=\"Rinsed/flushed with a solvent\", \"0\", \"\"))))","v":""},null,{"$f":"IF(DP22=\"Nothing\", \"5\", IF(DP22=\"Rinsed/flushed with water\", \"3\", IF(DP22=\"Cleaned with water and soap/detergent\", \"2\", IF(DP22=\"Rinsed/flushed with a solvent\", \"0\", \"\"))))","v":""},null,{"$f":"IF(DR22=\"Nothing\", \"5\", IF(DR22=\"Rinsed/flushed with water\", \"3\", IF(DR22=\"Cleaned with water and soap/detergent\", \"2\", IF(DR22=\"Rinsed/flushed with a solvent\", \"0\", \"\"))))","v":""},null,{"$f":"IF(DT22=\"Nothing\", \"5\", IF(DT22=\"Rinsed/flushed with water\", \"3\", IF(DT22=\"Cleaned with water and soap/detergent\", \"2\", IF(DT22=\"Rinsed/flushed with a solvent\", \"0\", \"\"))))","v":""},null,{"$f":"IF(DV22=\"Nothing\", \"5\", IF(DV22=\"Rinsed/flushed with water\", \"3\", IF(DV22=\"Cleaned with water and soap/detergent\", \"2\", IF(DV22=\"Rinsed/flushed with a solvent\", \"0\", \"\"))))","v":""},null,{"$f":"IF(DX22=\"Nothing\", \"5\", IF(DX22=\"Rinsed/flushed with water\", \"3\", IF(DX22=\"Cleaned with water and soap/detergent\", \"2\", IF(DX22=\"Rinsed/flushed with a solvent\", \"0\", \"\"))))","v":""},null,{"$f":"IF(DZ22=\"Nothing\", \"5\", IF(DZ22=\"Rinsed/flushed with water\", \"3\", IF(DZ22=\"Cleaned with water and soap/detergent\", \"2\", IF(DZ22=\"Rinsed/flushed with a solvent\", \"0\", \"\"))))","v":""},null,{"$f":"IF(EB22=\"Nothing\", \"5\", IF(EB22=\"Rinsed/flushed with water\", \"3\", IF(EB22=\"Cleaned with water and soap/detergent\", \"2\", IF(EB22=\"Rinsed/flushed with a solvent\", \"0\", \"\"))))","v":""},null,{"$f":"IF(ED22=\"Nothing\", \"5\", IF(ED22=\"Rinsed/flushed with water\", \"3\", IF(ED22=\"Cleaned with water and soap/detergent\", \"2\", IF(ED22=\"Rinsed/flushed with a solvent\", \"0\", \"\"))))","v":""},null,{"$f":"IF(EF22=\"Nothing\", \"5\", IF(EF22=\"Rinsed/flushed with water\", \"3\", IF(EF22=\"Cleaned with water and soap/detergent\", \"2\", IF(EF22=\"Rinsed/flushed with a solvent\", \"0\", \"\"))))","v":""},null,{"$f":"IF(EH22=\"Nothing\", \"5\", IF(EH22=\"Rinsed/flushed with water\", \"3\", IF(EH22=\"Cleaned with water and soap/detergent\", \"2\", IF(EH22=\"Rinsed/flushed with a solvent\", \"0\", \"\"))))","v":""},null,{"$f":"IF(EJ22=\"Nothing\", \"5\", IF(EJ22=\"Rinsed/flushed with water\", \"3\", IF(EJ22=\"Cleaned with water and soap/detergent\", \"2\", IF(EJ22=\"Rinsed/flushed with a solvent\", \"0\", \"\"))))","v":""},null,{"$f":"IF(EL22=\"Nothing\", \"5\", IF(EL22=\"Rinsed/flushed with water\", \"3\", IF(EL22=\"Cleaned with water and soap/detergent\", \"2\", IF(EL22=\"Rinsed/flushed with a solvent\", \"0\", \"\"))))","v":""},null,{"$f":"IF(EN22=\"Nothing\", \"5\", IF(EN22=\"Rinsed/flushed with water\", \"3\", IF(EN22=\"Cleaned with water and soap/detergent\", \"2\", IF(EN22=\"Rinsed/flushed with a solvent\", \"0\", \"\"))))","v":""},null,{"$f":"IF(EP22=\"Nothing\", \"5\", IF(EP22=\"Rinsed/flushed with water\", \"3\", IF(EP22=\"Cleaned with water and soap/detergent\", \"2\", IF(EP22=\"Rinsed/flushed with a solvent\", \"0\", \"\"))))","v":""},null,{"$f":"IF(ER22=\"Nothing\", \"5\", IF(ER22=\"Rinsed/flushed with water\", \"3\", IF(ER22=\"Cleaned with water and soap/detergent\", \"2\", IF(ER22=\"Rinsed/flushed with a solvent\", \"0\", \"\"))))","v":""},null,{"$f":"IF(ET22=\"Nothing\", \"5\", IF(ET22=\"Rinsed/flushed with water\", \"3\", IF(ET22=\"Cleaned with water and soap/detergent\", \"2\", IF(ET22=\"Rinsed/flushed with a solvent\", \"0\", \"\"))))","v":""},null,{"$f":"IF(EV22=\"Nothing\", \"5\", IF(EV22=\"Rinsed/flushed with water\", \"3\", IF(EV22=\"Cleaned with water and soap/detergent\", \"2\", IF(EV22=\"Rinsed/flushed with a solvent\", \"0\", \"\"))))","v":""},null,{"$f":"IF(EX22=\"Nothing\", \"5\", IF(EX22=\"Rinsed/flushed with water\", \"3\", IF(EX22=\"Cleaned with water and soap/detergent\", \"2\", IF(EX22=\"Rinsed/flushed with a solvent\", \"0\", \"\"))))","v":""},null,{"$f":"IF(EZ22=\"Nothing\", \"5\", IF(EZ22=\"Rinsed/flushed with water\", \"3\", IF(EZ22=\"Cleaned with water and soap/detergent\", \"2\", IF(EZ22=\"Rinsed/flushed with a solvent\", \"0\", \"\"))))","v":""},null,{"$f":"IF(FB22=\"Nothing\", \"5\", IF(FB22=\"Rinsed/flushed with water\", \"3\", IF(FB22=\"Cleaned with water and soap/detergent\", \"2\", IF(FB22=\"Rinsed/flushed with a solvent\", \"0\", \"\"))))","v":""},null,{"$f":"IF(FD22=\"Nothing\", \"5\", IF(FD22=\"Rinsed/flushed with water\", \"3\", IF(FD22=\"Cleaned with water and soap/detergent\", \"2\", IF(FD22=\"Rinsed/flushed with a solvent\", \"0\", \"\"))))","v":""}]
[null,null,"How is AFFF removed from the distribution equipment (deluge systems or fire trucks) during the maintenance activities?",null,{"$f":"IF(D23=\"Mechanical pump\", \"1\", IF(D23= \"Manual pump\", \"3\", IF(D23=\"Gravity/drain valve\", \"5\", IF(D23=\"AFFF not removed\", \"7\", \"\"))))","v":""},null,{"$f":"IF(F23=\"Mechanical pump\", \"1\", IF(F23= \"Manual pump\", \"3\", IF(F23=\"Gravity/drain valve\", \"5\", IF(F23=\"AFFF not removed\", \"7\", \"\"))))","v":""},null,{"$f":"IF(H23=\"Mechanical pump\", \"1\", IF(H23= \"Manual pump\", \"3\", IF(H23=\"Gravity/drain valve\", \"5\", IF(H23=\"AFFF not removed\", \"7\", \"\"))))","v":""},null,{"$f":"IF(J23=\"Mechanical pump\", \"1\", IF(J23= \"Manual pump\", \"3\", IF(J23=\"Gravity/drain valve\", \"5\", IF(J23=\"AFFF not removed\", \"7\", \"\"))))","v":""},null,{"$f":"IF(L23=\"Mechanical pump\", \"1\", IF(L23= \"Manual pump\", \"3\", IF(L23=\"Gravity/drain valve\", \"5\", IF(L23=\"AFFF not removed\", \"7\", \"\"))))","v":""},null,{"$f":"IF(N23=\"Mechanical pump\", \"1\", IF(N23= \"Manual pump\", \"3\", IF(N23=\"Gravity/drain valve\", \"5\", IF(N23=\"AFFF not removed\", \"7\", \"\"))))","v":""},null,{"$f":"IF(P23=\"Mechanical pump\", \"1\", IF(P23= \"Manual pump\", \"3\", IF(P23=\"Gravity/drain valve\", \"5\", IF(P23=\"AFFF not removed\", \"7\", \"\"))))","v":""},null,{"$f":"IF(R23=\"Mechanical pump\", \"1\", IF(R23= \"Manual pump\", \"3\", IF(R23=\"Gravity/drain valve\", \"5\", IF(R23=\"AFFF not removed\", \"7\", \"\"))))","v":""},null,{"$f":"IF(T23=\"Mechanical pump\", \"1\", IF(T23= \"Manual pump\", \"3\", IF(T23=\"Gravity/drain valve\", \"5\", IF(T23=\"AFFF not removed\", \"7\", \"\"))))","v":""},null,{"$f":"IF(V23=\"Mechanical pump\", \"1\", IF(V23= \"Manual pump\", \"3\", IF(V23=\"Gravity/drain valve\", \"5\", IF(V23=\"AFFF not removed\", \"7\", \"\"))))","v":""},null,{"$f":"IF(X23=\"Mechanical pump\", \"1\", IF(X23= \"Manual pump\", \"3\", IF(X23=\"Gravity/drain valve\", \"5\", IF(X23=\"AFFF not removed\", \"7\", \"\"))))","v":""},null,{"$f":"IF(Z23=\"Mechanical pump\", \"1\", IF(Z23= \"Manual pump\", \"3\", IF(Z23=\"Gravity/drain valve\", \"5\", IF(Z23=\"AFFF not removed\", \"7\", \"\"))))","v":""},null,{"$f":"IF(AB23=\"Mechanical pump\", \"1\", IF(AB23= \"Manual pump\", \"3\", IF(AB23=\"Gravity/drain valve\", \"5\", IF(AB23=\"AFFF not removed\", \"7\", \"\"))))","v":""},null,{"$f":"IF(AD23=\"Mechanical pump\", \"1\", IF(AD23= \"Manual pump\", \"3\", IF(AD23=\"Gravity/drain valve\", \"5\", IF(AD23=\"AFFF not removed\", \"7\", \"\"))))","v":""},null,{"$f":"IF(AF23=\"Mechanical pump\", \"1\", IF(AF23= \"Manual pump\", \"3\", IF(AF23=\"Gravity/drain valve\", \"5\", IF(AF23=\"AFFF not removed\", \"7\", \"\"))))","v":""},null,{"$f":"IF(AH23=\"Mechanical pump\", \"1\", IF(AH23= \"Manual pump\", \"3\", IF(AH23=\"Gravity/drain valve\", \"5\", IF(AH23=\"AFFF not removed\", \"7\", \"\"))))","v":""},null,{"$f":"IF(AJ23=\"Mechanical pump\", \"1\", IF(AJ23= \"Manual pump\", \"3\", IF(AJ23=\"Gravity/drain valve\", \"5\", IF(AJ23=\"AFFF not removed\", \"7\", \"\"))))","v":""},null,{"$f":"IF(AL23=\"Mechanical pump\", \"1\", IF(AL23= \"Manual pump\", \"3\", IF(AL23=\"Gravity/drain valve\", \"5\", IF(AL23=\"AFFF not removed\", \"7\", \"\"))))","v":""},null,{"$f":"IF(AN23=\"Mechanical pump\", \"1\", IF(AN23= \"Manual pump\", \"3\", IF(AN23=\"Gravity/drain valve\", \"5\", IF(AN23=\"AFFF not removed\", \"7\", \"\"))))","v":""},null,{"$f":"IF(AP23=\"Mechanical pump\", \"1\", IF(AP23= \"Manual pump\", \"3\", IF(AP23=\"Gravity/drain valve\", \"5\", IF(AP23=\"AFFF not removed\", \"7\", \"\"))))","v":""},null,{"$f":"IF(AR23=\"Mechanical pump\", \"1\", IF(AR23= \"Manual pump\", \"3\", IF(AR23=\"Gravity/drain valve\", \"5\", IF(AR23=\"AFFF not removed\", \"7\", \"\"))))","v":""},"Gravity/drain valve",{"$f":"IF(AT23=\"Mechanical pump\", \"1\", IF(AT23= \"Manual pump\", \"3\", IF(AT23=\"Gravity/drain valve\", \"5\", IF(AT23=\"AFFF not removed\", \"7\", \"\"))))","v":"5"},"Gravity/drain valve",{"$f":"IF(AV23=\"Mechanical pump\", \"1\", IF(AV23= \"Manual pump\", \"3\", IF(AV23=\"Gravity/drain valve\", \"5\", IF(AV23=\"AFFF not removed\", \"7\", \"\"))))","v":"5"},null,{"$f":"IF(AX23=\"Mechanical pump\", \"1\", IF(AX23= \"Manual pump\", \"3\", IF(AX23=\"Gravity/drain valve\", \"5\", IF(AX23=\"AFFF not removed\", \"7\", \"\"))))","v":""},null,{"$f":"IF(AZ23=\"Mechanical pump\", \"1\", IF(AZ23= \"Manual pump\", \"3\", IF(AZ23=\"Gravity/drain valve\", \"5\", IF(AZ23=\"AFFF not removed\", \"7\", \"\"))))","v":""},null,{"$f":"IF(BB23=\"Mechanical pump\", \"1\", IF(BB23= \"Manual pump\", \"3\", IF(BB23=\"Gravity/drain valve\", \"5\", IF(BB23=\"AFFF not removed\", \"7\", \"\"))))","v":""},null,{"$f":"IF(BD23=\"Mechanical pump\", \"1\", IF(BD23= \"Manual pump\", \"3\", IF(BD23=\"Gravity/drain valve\", \"5\", IF(BD23=\"AFFF not removed\", \"7\", \"\"))))","v":""},null,{"$f":"IF(BF23=\"Mechanical pump\", \"1\", IF(BF23= \"Manual pump\", \"3\", IF(BF23=\"Gravity/drain valve\", \"5\", IF(BF23=\"AFFF not removed\", \"7\", \"\"))))","v":""},null,{"$f":"IF(BH23=\"Mechanical pump\", \"1\", IF(BH23= \"Manual pump\", \"3\", IF(BH23=\"Gravity/drain valve\", \"5\", IF(BH23=\"AFFF not removed\", \"7\", \"\"))))","v":""},null,{"$f":"IF(BJ23=\"Mechanical pump\", \"1\", IF(BJ23= \"Manual pump\", \"3\", IF(BJ23=\"Gravity/drain valve\", \"5\", IF(BJ23=\"AFFF not removed\", \"7\", \"\"))))","v":""},null,{"$f":"IF(BL23=\"Mechanical pump\", \"1\", IF(BL23= \"Manual pump\", \"3\", IF(BL23=\"Gravity/drain valve\", \"5\", IF(BL23=\"AFFF not removed\", \"7\", \"\"))))","v":""},null,{"$f":"IF(BN23=\"Mechanical pump\", \"1\", IF(BN23= \"Manual pump\", \"3\", IF(BN23=\"Gravity/drain valve\", \"5\", IF(BN23=\"AFFF not removed\", \"7\", \"\"))))","v":""},null,{"$f":"IF(BP23=\"Mechanical pump\", \"1\", IF(BP23= \"Manual pump\", \"3\", IF(BP23=\"Gravity/drain valve\", \"5\", IF(BP23=\"AFFF not removed\", \"7\", \"\"))))","v":""},null,{"$f":"IF(BR23=\"Mechanical pump\", \"1\", IF(BR23= \"Manual pump\", \"3\", IF(BR23=\"Gravity/drain valve\", \"5\", IF(BR23=\"AFFF not removed\", \"7\", \"\"))))","v":""},null,{"$f":"IF(BT23=\"Mechanical pump\", \"1\", IF(BT23= \"Manual pump\", \"3\", IF(BT23=\"Gravity/drain valve\", \"5\", IF(BT23=\"AFFF not removed\", \"7\", \"\"))))","v":""},null,{"$f":"IF(BV23=\"Mechanical pump\", \"1\", IF(BV23= \"Manual pump\", \"3\", IF(BV23=\"Gravity/drain valve\", \"5\", IF(BV23=\"AFFF not removed\", \"7\", \"\"))))","v":""},null,{"$f":"IF(BX23=\"Mechanical pump\", \"1\", IF(BX23= \"Manual pump\", \"3\", IF(BX23=\"Gravity/drain valve\", \"5\", IF(BX23=\"AFFF not removed\", \"7\", \"\"))))","v":""},null,{"$f":"IF(BZ23=\"Mechanical pump\", \"1\", IF(BZ23= \"Manual pump\", \"3\", IF(BZ23=\"Gravity/drain valve\", \"5\", IF(BZ23=\"AFFF not removed\", \"7\", \"\"))))","v":""},null,{"$f":"IF(CB23=\"Mechanical pump\", \"1\", IF(CB23= \"Manual pump\", \"3\", IF(CB23=\"Gravity/drain valve\", \"5\", IF(CB23=\"AFFF not removed\", \"7\", \"\"))))","v":""},null,{"$f":"IF(CD23=\"Mechanical pump\", \"1\", IF(CD23= \"Manual pump\", \"3\", IF(CD23=\"Gravity/drain valve\", \"5\", IF(CD23=\"AFFF not removed\", \"7\", \"\"))))","v":""},null,{"$f":"IF(CF23=\"Mechanical pump\", \"1\", IF(CF23= \"Manual pump\", \"3\", IF(CF23=\"Gravity/drain valve\", \"5\", IF(CF23=\"AFFF not removed\", \"7\", \"\"))))","v":""},null,{"$f":"IF(CH23=\"Mechanical pump\", \"1\", IF(CH23= \"Manual pump\", \"3\", IF(CH23=\"Gravity/drain valve\", \"5\", IF(CH23=\"AFFF not removed\", \"7\", \"\"))))","v":""},null,{"$f":"IF(CJ23=\"Mechanical pump\", \"1\", IF(CJ23= \"Manual pump\", \"3\", IF(CJ23=\"Gravity/drain valve\", \"5\", IF(CJ23=\"AFFF not removed\", \"7\", \"\"))))","v":""},null,{"$f":"IF(CL23=\"Mechanical pump\", \"1\", IF(CL23= \"Manual pump\", \"3\", IF(CL23=\"Gravity/drain valve\", \"5\", IF(CL23=\"AFFF not removed\", \"7\", \"\"))))","v":""},null,{"$f":"IF(CN23=\"Mechanical pump\", \"1\", IF(CN23= \"Manual pump\", \"3\", IF(CN23=\"Gravity/drain valve\", \"5\", IF(CN23=\"AFFF not removed\", \"7\", \"\"))))","v":""},null,{"$f":"IF(CP23=\"Mechanical pump\", \"1\", IF(CP23= \"Manual pump\", \"3\", IF(CP23=\"Gravity/drain valve\", \"5\", IF(CP23=\"AFFF not removed\", \"7\", \"\"))))","v":""},null,{"$f":"IF(CR23=\"Mechanical pump\", \"1\", IF(CR23= \"Manual pump\", \"3\", IF(CR23=\"Gravity/drain valve\", \"5\", IF(CR23=\"AFFF not removed\", \"7\", \"\"))))","v":""},null,{"$f":"IF(CT23=\"Mechanical pump\", \"1\", IF(CT23= \"Manual pump\", \"3\", IF(CT23=\"Gravity/drain valve\", \"5\", IF(CT23=\"AFFF not removed\", \"7\", \"\"))))","v":""},null,{"$f":"IF(CV23=\"Mechanical pump\", \"1\", IF(CV23= \"Manual pump\", \"3\", IF(CV23=\"Gravity/drain valve\", \"5\", IF(CV23=\"AFFF not removed\", \"7\", \"\"))))","v":""},null,{"$f":"IF(CX23=\"Mechanical pump\", \"1\", IF(CX23= \"Manual pump\", \"3\", IF(CX23=\"Gravity/drain valve\", \"5\", IF(CX23=\"AFFF not removed\", \"7\", \"\"))))","v":""},null,{"$f":"IF(CZ23=\"Mechanical pump\", \"1\", IF(CZ23= \"Manual pump\", \"3\", IF(CZ23=\"Gravity/drain valve\", \"5\", IF(CZ23=\"AFFF not removed\", \"7\", \"\"))))","v":""},null,{"$f":"IF(DB23=\"Mechanical pump\", \"1\", IF(DB23= \"Manual pump\", \"3\", IF(DB23=\"Gravity/drain valve\", \"5\", IF(DB23=\"AFFF not removed\", \"7\", \"\"))))","v":""},null,{"$f":"IF(DD23=\"Mechanical pump\", \"1\", IF(DD23= \"Manual pump\", \"3\", IF(DD23=\"Gravity/drain valve\", \"5\", IF(DD23=\"AFFF not removed\", \"7\", \"\"))))","v":""},null,{"$f":"IF(DF23=\"Mechanical pump\", \"1\", IF(DF23= \"Manual pump\", \"3\", IF(DF23=\"Gravity/drain valve\", \"5\", IF(DF23=\"AFFF not removed\", \"7\", \"\"))))","v":""},null,{"$f":"IF(DH23=\"Mechanical pump\", \"1\", IF(DH23= \"Manual pump\", \"3\", IF(DH23=\"Gravity/drain valve\", \"5\", IF(DH23=\"AFFF not removed\", \"7\", \"\"))))","v":""},null,{"$f":"IF(DJ23=\"Mechanical pump\", \"1\", IF(DJ23= \"Manual pump\", \"3\", IF(DJ23=\"Gravity/drain valve\", \"5\", IF(DJ23=\"AFFF not removed\", \"7\", \"\"))))","v":""},null,{"$f":"IF(DL23=\"Mechanical pump\", \"1\", IF(DL23= \"Manual pump\", \"3\", IF(DL23=\"Gravity/drain valve\", \"5\", IF(DL23=\"AFFF not removed\", \"7\", \"\"))))","v":""},null,{"$f":"IF(DN23=\"Mechanical pump\", \"1\", IF(DN23= \"Manual pump\", \"3\", IF(DN23=\"Gravity/drain valve\", \"5\", IF(DN23=\"AFFF not removed\", \"7\", \"\"))))","v":""},null,{"$f":"IF(DP23=\"Mechanical pump\", \"1\", IF(DP23= \"Manual pump\", \"3\", IF(DP23=\"Gravity/drain valve\", \"5\", IF(DP23=\"AFFF not removed\", \"7\", \"\"))))","v":""},null,{"$f":"IF(DR23=\"Mechanical pump\", \"1\", IF(DR23= \"Manual pump\", \"3\", IF(DR23=\"Gravity/drain valve\", \"5\", IF(DR23=\"AFFF not removed\", \"7\", \"\"))))","v":""},null,{"$f":"IF(DT23=\"Mechanical pump\", \"1\", IF(DT23= \"Manual pump\", \"3\", IF(DT23=\"Gravity/drain valve\", \"5\", IF(DT23=\"AFFF not removed\", \"7\", \"\"))))","v":""},null,{"$f":"IF(DV23=\"Mechanical pump\", \"1\", IF(DV23= \"Manual pump\", \"3\", IF(DV23=\"Gravity/drain valve\", \"5\", IF(DV23=\"AFFF not removed\", \"7\", \"\"))))","v":""},null,{"$f":"IF(DX23=\"Mechanical pump\", \"1\", IF(DX23= \"Manual pump\", \"3\", IF(DX23=\"Gravity/drain valve\", \"5\", IF(DX23=\"AFFF not removed\", \"7\", \"\"))))","v":""},null,{"$f":"IF(DZ23=\"Mechanical pump\", \"1\", IF(DZ23= \"Manual pump\", \"3\", IF(DZ23=\"Gravity/drain valve\", \"5\", IF(DZ23=\"AFFF not removed\", \"7\", \"\"))))","v":""},null,{"$f":"IF(EB23=\"Mechanical pump\", \"1\", IF(EB23= \"Manual pump\", \"3\", IF(EB23=\"Gravity/drain valve\", \"5\", IF(EB23=\"AFFF not removed\", \"7\", \"\"))))","v":""},null,{"$f":"IF(ED23=\"Mechanical pump\", \"1\", IF(ED23= \"Manual pump\", \"3\", IF(ED23=\"Gravity/drain valve\", \"5\", IF(ED23=\"AFFF not removed\", \"7\", \"\"))))","v":""},null,{"$f":"IF(EF23=\"Mechanical pump\", \"1\", IF(EF23= \"Manual pump\", \"3\", IF(EF23=\"Gravity/drain valve\", \"5\", IF(EF23=\"AFFF not removed\", \"7\", \"\"))))","v":""},null,{"$f":"IF(EH23=\"Mechanical pump\", \"1\", IF(EH23= \"Manual pump\", \"3\", IF(EH23=\"Gravity/drain valve\", \"5\", IF(EH23=\"AFFF not removed\", \"7\", \"\"))))","v":""},null,{"$f":"IF(EJ23=\"Mechanical pump\", \"1\", IF(EJ23= \"Manual pump\", \"3\", IF(EJ23=\"Gravity/drain valve\", \"5\", IF(EJ23=\"AFFF not removed\", \"7\", \"\"))))","v":""},null,{"$f":"IF(EL23=\"Mechanical pump\", \"1\", IF(EL23= \"Manual pump\", \"3\", IF(EL23=\"Gravity/drain valve\", \"5\", IF(EL23=\"AFFF not removed\", \"7\", \"\"))))","v":""},null,{"$f":"IF(EN23=\"Mechanical pump\", \"1\", IF(EN23= \"Manual pump\", \"3\", IF(EN23=\"Gravity/drain valve\", \"5\", IF(EN23=\"AFFF not removed\", \"7\", \"\"))))","v":""},null,{"$f":"IF(EP23=\"Mechanical pump\", \"1\", IF(EP23= \"Manual pump\", \"3\", IF(EP23=\"Gravity/drain valve\", \"5\", IF(EP23=\"AFFF not removed\", \"7\", \"\"))))","v":""},null,{"$f":"IF(ER23=\"Mechanical pump\", \"1\", IF(ER23= \"Manual pump\", \"3\", IF(ER23=\"Gravity/drain valve\", \"5\", IF(ER23=\"AFFF not removed\", \"7\", \"\"))))","v":""},null,{"$f":"IF(ET23=\"Mechanical pump\", \"1\", IF(ET23= \"Manual pump\", \"3\", IF(ET23=\"Gravity/drain valve\", \"5\", IF(ET23=\"AFFF not removed\", \"7\", \"\"))))","v":""},null,{"$f":"IF(EV23=\"Mechanical pump\", \"1\", IF(EV23= \"Manual pump\", \"3\", IF(EV23=\"Gravity/drain valve\", \"5\", IF(EV23=\"AFFF not removed\", \"7\", \"\"))))","v":""},null,{"$f":"IF(EX23=\"Mechanical pump\", \"1\", IF(EX23= \"Manual pump\", \"3\", IF(EX23=\"Gravity/drain valve\", \"5\", IF(EX23=\"AFFF not removed\", \"7\", \"\"))))","v":""},null,{"$f":"IF(EZ23=\"Mechanical pump\", \"1\", IF(EZ23= \"Manual pump\", \"3\", IF(EZ23=\"Gravity/drain valve\", \"5\", IF(EZ23=\"AFFF not removed\", \"7\", \"\"))))","v":""},null,{"$f":"IF(FB23=\"Mechanical pump\", \"1\", IF(FB23= \"Manual pump\", \"3\", IF(FB23=\"Gravity/drain valve\", \"5\", IF(FB23=\"AFFF not removed\", \"7\", \"\"))))","v":""},null,{"$f":"IF(FD23=\"Mechanical pump\", \"1\", IF(FD23= \"Manual pump\", \"3\", IF(FD23=\"Gravity/drain valve\", \"5\", IF(FD23=\"AFFF not removed\", \"7\", \"\"))))","v":""}]
[null,null,"When AFFF is removed from distribution equipment, what is done with it?",null,{"$f":"IF(D24=\"Discharged into temporary storage containers and returned to the equipment\", \"1\", IF(D24=\"Kept in storage containers\", \"2\", IF(D24=\"Discharged onto ground\", \"10\", IF(D24=\"Disposed of off-site\", \"1\", \"\"))))","v":""},null,{"$f":"IF(F24=\"Discharged into temporary storage containers and returned to the equipment\", \"1\", IF(F24=\"Kept in storage containers\", \"2\", IF(F24=\"Discharged onto ground\", \"10\", IF(F24=\"Disposed of off-site\", \"1\", \"\"))))","v":""},null,{"$f":"IF(H24=\"Discharged into temporary storage containers and returned to the equipment\", \"1\", IF(H24=\"Kept in storage containers\", \"2\", IF(H24=\"Discharged onto ground\", \"10\", IF(H24=\"Disposed of off-site\", \"1\", \"\"))))","v":""},null,{"$f":"IF(J24=\"Discharged into temporary storage containers and returned to the equipment\", \"1\", IF(J24=\"Kept in storage containers\", \"2\", IF(J24=\"Discharged onto ground\", \"10\", IF(J24=\"Disposed of off-site\", \"1\", \"\"))))","v":""},null,{"$f":"IF(L24=\"Discharged into temporary storage containers and returned to the equipment\", \"1\", IF(L24=\"Kept in storage containers\", \"2\", IF(L24=\"Discharged onto ground\", \"10\", IF(L24=\"Disposed of off-site\", \"1\", \"\"))))","v":""},null,{"$f":"IF(N24=\"Discharged into temporary storage containers and returned to the equipment\", \"1\", IF(N24=\"Kept in storage containers\", \"2\", IF(N24=\"Discharged onto ground\", \"10\", IF(N24=\"Disposed of off-site\", \"1\", \"\"))))","v":""},null,{"$f":"IF(P24=\"Discharged into temporary storage containers and returned to the equipment\", \"1\", IF(P24=\"Kept in storage containers\", \"2\", IF(P24=\"Discharged onto ground\", \"10\", IF(P24=\"Disposed of off-site\", \"1\", \"\"))))","v":""},null,{"$f":"IF(R24=\"Discharged into temporary storage containers and returned to the equipment\", \"1\", IF(R24=\"Kept in storage containers\", \"2\", IF(R24=\"Discharged onto ground\", \"10\", IF(R24=\"Disposed of off-site\", \"1\", \"\"))))","v":""},null,{"$f":"IF(T24=\"Discharged into temporary storage containers and returned to the equipment\", \"1\", IF(T24=\"Kept in storage containers\", \"2\", IF(T24=\"Discharged onto ground\", \"10\", IF(T24=\"Disposed of off-site\", \"1\", \"\"))))","v":""},null,{"$f":"IF(V24=\"Discharged into temporary storage containers and returned to the equipment\", \"1\", IF(V24=\"Kept in storage containers\", \"2\", IF(V24=\"Discharged onto ground\", \"10\", IF(V24=\"Disposed of off-site\", \"1\", \"\"))))","v":""},null,{"$f":"IF(X24=\"Discharged into temporary storage containers and returned to the equipment\", \"1\", IF(X24=\"Kept in storage containers\", \"2\", IF(X24=\"Discharged onto ground\", \"10\", IF(X24=\"Disposed of off-site\", \"1\", \"\"))))","v":""},null,{"$f":"IF(Z24=\"Discharged into temporary storage containers and returned to the equipment\", \"1\", IF(Z24=\"Kept in storage containers\", \"2\", IF(Z24=\"Discharged onto ground\", \"10\", IF(Z24=\"Disposed of off-site\", \"1\", \"\"))))","v":""},null,{"$f":"IF(AB24=\"Discharged into temporary storage containers and returned to the equipment\", \"1\", IF(AB24=\"Kept in storage containers\", \"2\", IF(AB24=\"Discharged onto ground\", \"10\", IF(AB24=\"Disposed of off-site\", \"1\", \"\"))))","v":""},null,{"$f":"IF(AD24=\"Discharged into temporary storage containers and returned to the equipment\", \"1\", IF(AD24=\"Kept in storage containers\", \"2\", IF(AD24=\"Discharged onto ground\", \"10\", IF(AD24=\"Disposed of off-site\", \"1\", \"\"))))","v":""},null,{"$f":"IF(AF24=\"Discharged into temporary storage containers and returned to the equipment\", \"1\", IF(AF24=\"Kept in storage containers\", \"2\", IF(AF24=\"Discharged onto ground\", \"10\", IF(AF24=\"Disposed of off-site\", \"1\", \"\"))))","v":""},null,{"$f":"IF(AH24=\"Discharged into temporary storage containers and returned to the equipment\", \"1\", IF(AH24=\"Kept in storage containers\", \"2\", IF(AH24=\"Discharged onto ground\", \"10\", IF(AH24=\"Disposed of off-site\", \"1\", \"\"))))","v":""},null,{"$f":"IF(AJ24=\"Discharged into temporary storage containers and returned to the equipment\", \"1\", IF(AJ24=\"Kept in storage containers\", \"2\", IF(AJ24=\"Discharged onto ground\", \"10\", IF(AJ24=\"Disposed of off-site\", \"1\", \"\"))))","v":""},null,{"$f":"IF(AL24=\"Discharged into temporary storage containers and returned to the equipment\", \"1\", IF(AL24=\"Kept in storage containers\", \"2\", IF(AL24=\"Discharged onto ground\", \"10\", IF(AL24=\"Disposed of off-site\", \"1\", \"\"))))","v":""},null,{"$f":"IF(AN24=\"Discharged into temporary storage containers and returned to the equipment\", \"1\", IF(AN24=\"Kept in storage containers\", \"2\", IF(AN24=\"Discharged onto ground\", \"10\", IF(AN24=\"Disposed of off-site\", \"1\", \"\"))))","v":""},null,{"$f":"IF(AP24=\"Discharged into temporary storage containers and returned to the equipment\", \"1\", IF(AP24=\"Kept in storage containers\", \"2\", IF(AP24=\"Discharged onto ground\", \"10\", IF(AP24=\"Disposed of off-site\", \"1\", \"\"))))","v":""},null,{"$f":"IF(AR24=\"Discharged into temporary storage containers and returned to the equipment\", \"1\", IF(AR24=\"Kept in storage containers\", \"2\", IF(AR24=\"Discharged onto ground\", \"10\", IF(AR24=\"Disposed of off-site\", \"1\", \"\"))))","v":""},"Discharged onto ground",{"$f":"IF(AT24=\"Discharged into temporary storage containers and returned to the equipment\", \"1\", IF(AT24=\"Kept in storage containers\", \"2\", IF(AT24=\"Discharged onto ground\", \"10\", IF(AT24=\"Disposed of off-site\", \"1\", \"\"))))","v":"10"},"Discharged into temporary storage containers and returned to the equipment",{"$f":"IF(AV24=\"Discharged into temporary storage containers and returned to the equipment\", \"1\", IF(AV24=\"Kept in storage containers\", \"2\", IF(AV24=\"Discharged onto ground\", \"10\", IF(AV24=\"Disposed of off-site\", \"1\", \"\"))))","v":"1"},null,{"$f":"IF(AX24=\"Discharged into temporary storage containers and returned to the equipment\", \"1\", IF(AX24=\"Kept in storage containers\", \"2\", IF(AX24=\"Discharged onto ground\", \"10\", IF(AX24=\"Disposed of off-site\", \"1\", \"\"))))","v":""},null,{"$f":"IF(AZ24=\"Discharged into temporary storage containers and returned to the equipment\", \"1\", IF(AZ24=\"Kept in storage containers\", \"2\", IF(AZ24=\"Discharged onto ground\", \"10\", IF(AZ24=\"Disposed of off-site\", \"1\", \"\"))))","v":""},null,{"$f":"IF(BB24=\"Discharged into temporary storage containers and returned to the equipment\", \"1\", IF(BB24=\"Kept in storage containers\", \"2\", IF(BB24=\"Discharged onto ground\", \"10\", IF(BB24=\"Disposed of off-site\", \"1\", \"\"))))","v":""},null,{"$f":"IF(BD24=\"Discharged into temporary storage containers and returned to the equipment\", \"1\", IF(BD24=\"Kept in storage containers\", \"2\", IF(BD24=\"Discharged onto ground\", \"10\", IF(BD24=\"Disposed of off-site\", \"1\", \"\"))))","v":""},null,{"$f":"IF(BF24=\"Discharged into temporary storage containers and returned to the equipment\", \"1\", IF(BF24=\"Kept in storage containers\", \"2\", IF(BF24=\"Discharged onto ground\", \"10\", IF(BF24=\"Disposed of off-site\", \"1\", \"\"))))","v":""},null,{"$f":"IF(BH24=\"Discharged into temporary storage containers and returned to the equipment\", \"1\", IF(BH24=\"Kept in storage containers\", \"2\", IF(BH24=\"Discharged onto ground\", \"10\", IF(BH24=\"Disposed of off-site\", \"1\", \"\"))))","v":""},null,{"$f":"IF(BJ24=\"Discharged into temporary storage containers and returned to the equipment\", \"1\", IF(BJ24=\"Kept in storage containers\", \"2\", IF(BJ24=\"Discharged onto ground\", \"10\", IF(BJ24=\"Disposed of off-site\", \"1\", \"\"))))","v":""},null,{"$f":"IF(BL24=\"Discharged into temporary storage containers and returned to the equipment\", \"1\", IF(BL24=\"Kept in storage containers\", \"2\", IF(BL24=\"Discharged onto ground\", \"10\", IF(BL24=\"Disposed of off-site\", \"1\", \"\"))))","v":""},null,{"$f":"IF(BN24=\"Discharged into temporary storage containers and returned to the equipment\", \"1\", IF(BN24=\"Kept in storage containers\", \"2\", IF(BN24=\"Discharged onto ground\", \"10\", IF(BN24=\"Disposed of off-site\", \"1\", \"\"))))","v":""},null,{"$f":"IF(BP24=\"Discharged into temporary storage containers and returned to the equipment\", \"1\", IF(BP24=\"Kept in storage containers\", \"2\", IF(BP24=\"Discharged onto ground\", \"10\", IF(BP24=\"Disposed of off-site\", \"1\", \"\"))))","v":""},null,{"$f":"IF(BR24=\"Discharged into temporary storage containers and returned to the equipment\", \"1\", IF(BR24=\"Kept in storage containers\", \"2\", IF(BR24=\"Discharged onto ground\", \"10\", IF(BR24=\"Disposed of off-site\", \"1\", \"\"))))","v":""},null,{"$f":"IF(BT24=\"Discharged into temporary storage containers and returned to the equipment\", \"1\", IF(BT24=\"Kept in storage containers\", \"2\", IF(BT24=\"Discharged onto ground\", \"10\", IF(BT24=\"Disposed of off-site\", \"1\", \"\"))))","v":""},null,{"$f":"IF(BV24=\"Discharged into temporary storage containers and returned to the equipment\", \"1\", IF(BV24=\"Kept in storage containers\", \"2\", IF(BV24=\"Discharged onto ground\", \"10\", IF(BV24=\"Disposed of off-site\", \"1\", \"\"))))","v":""},null,{"$f":"IF(BX24=\"Discharged into temporary storage containers and returned to the equipment\", \"1\", IF(BX24=\"Kept in storage containers\", \"2\", IF(BX24=\"Discharged onto ground\", \"10\", IF(BX24=\"Disposed of off-site\", \"1\", \"\"))))","v":""},null,{"$f":"IF(BZ24=\"Discharged into temporary storage containers and returned to the equipment\", \"1\", IF(BZ24=\"Kept in storage containers\", \"2\", IF(BZ24=\"Discharged onto ground\", \"10\", IF(BZ24=\"Disposed of off-site\", \"1\", \"\"))))","v":""},null,{"$f":"IF(CB24=\"Discharged into temporary storage containers and returned to the equipment\", \"1\", IF(CB24=\"Kept in storage containers\", \"2\", IF(CB24=\"Discharged onto ground\", \"10\", IF(CB24=\"Disposed of off-site\", \"1\", \"\"))))","v":""},null,{"$f":"IF(CD24=\"Discharged into temporary storage containers and returned to the equipment\", \"1\", IF(CD24=\"Kept in storage containers\", \"2\", IF(CD24=\"Discharged onto ground\", \"10\", IF(CD24=\"Disposed of off-site\", \"1\", \"\"))))","v":""},null,{"$f":"IF(CF24=\"Discharged into temporary storage containers and returned to the equipment\", \"1\", IF(CF24=\"Kept in storage containers\", \"2\", IF(CF24=\"Discharged onto ground\", \"10\", IF(CF24=\"Disposed of off-site\", \"1\", \"\"))))","v":""},null,{"$f":"IF(CH24=\"Discharged into temporary storage containers and returned to the equipment\", \"1\", IF(CH24=\"Kept in storage containers\", \"2\", IF(CH24=\"Discharged onto ground\", \"10\", IF(CH24=\"Disposed of off-site\", \"1\", \"\"))))","v":""},null,{"$f":"IF(CJ24=\"Discharged into temporary storage containers and returned to the equipment\", \"1\", IF(CJ24=\"Kept in storage containers\", \"2\", IF(CJ24=\"Discharged onto ground\", \"10\", IF(CJ24=\"Disposed of off-site\", \"1\", \"\"))))","v":""},null,{"$f":"IF(CL24=\"Discharged into temporary storage containers and returned to the equipment\", \"1\", IF(CL24=\"Kept in storage containers\", \"2\", IF(CL24=\"Discharged onto ground\", \"10\", IF(CL24=\"Disposed of off-site\", \"1\", \"\"))))","v":""},null,{"$f":"IF(CN24=\"Discharged into temporary storage containers and returned to the equipment\", \"1\", IF(CN24=\"Kept in storage containers\", \"2\", IF(CN24=\"Discharged onto ground\", \"10\", IF(CN24=\"Disposed of off-site\", \"1\", \"\"))))","v":""},null,{"$f":"IF(CP24=\"Discharged into temporary storage containers and returned to the equipment\", \"1\", IF(CP24=\"Kept in storage containers\", \"2\", IF(CP24=\"Discharged onto ground\", \"10\", IF(CP24=\"Disposed of off-site\", \"1\", \"\"))))","v":""},null,{"$f":"IF(CR24=\"Discharged into temporary storage containers and returned to the equipment\", \"1\", IF(CR24=\"Kept in storage containers\", \"2\", IF(CR24=\"Discharged onto ground\", \"10\", IF(CR24=\"Disposed of off-site\", \"1\", \"\"))))","v":""},null,{"$f":"IF(CT24=\"Discharged into temporary storage containers and returned to the equipment\", \"1\", IF(CT24=\"Kept in storage containers\", \"2\", IF(CT24=\"Discharged onto ground\", \"10\", IF(CT24=\"Disposed of off-site\", \"1\", \"\"))))","v":""},null,{"$f":"IF(CV24=\"Discharged into temporary storage containers and returned to the equipment\", \"1\", IF(CV24=\"Kept in storage containers\", \"2\", IF(CV24=\"Discharged onto ground\", \"10\", IF(CV24=\"Disposed of off-site\", \"1\", \"\"))))","v":""},null,{"$f":"IF(CX24=\"Discharged into temporary storage containers and returned to the equipment\", \"1\", IF(CX24=\"Kept in storage containers\", \"2\", IF(CX24=\"Discharged onto ground\", \"10\", IF(CX24=\"Disposed of off-site\", \"1\", \"\"))))","v":""},null,{"$f":"IF(CZ24=\"Discharged into temporary storage containers and returned to the equipment\", \"1\", IF(CZ24=\"Kept in storage containers\", \"2\", IF(CZ24=\"Discharged onto ground\", \"10\", IF(CZ24=\"Disposed of off-site\", \"1\", \"\"))))","v":""},null,{"$f":"IF(DB24=\"Discharged into temporary storage containers and returned to the equipment\", \"1\", IF(DB24=\"Kept in storage containers\", \"2\", IF(DB24=\"Discharged onto ground\", \"10\", IF(DB24=\"Disposed of off-site\", \"1\", \"\"))))","v":""},null,{"$f":"IF(DD24=\"Discharged into temporary storage containers and returned to the equipment\", \"1\", IF(DD24=\"Kept in storage containers\", \"2\", IF(DD24=\"Discharged onto ground\", \"10\", IF(DD24=\"Disposed of off-site\", \"1\", \"\"))))","v":""},null,{"$f":"IF(DF24=\"Discharged into temporary storage containers and returned to the equipment\", \"1\", IF(DF24=\"Kept in storage containers\", \"2\", IF(DF24=\"Discharged onto ground\", \"10\", IF(DF24=\"Disposed of off-site\", \"1\", \"\"))))","v":""},null,{"$f":"IF(DH24=\"Discharged into temporary storage containers and returned to the equipment\", \"1\", IF(DH24=\"Kept in storage containers\", \"2\", IF(DH24=\"Discharged onto ground\", \"10\", IF(DH24=\"Disposed of off-site\", \"1\", \"\"))))","v":""},null,{"$f":"IF(DJ24=\"Discharged into temporary storage containers and returned to the equipment\", \"1\", IF(DJ24=\"Kept in storage containers\", \"2\", IF(DJ24=\"Discharged onto ground\", \"10\", IF(DJ24=\"Disposed of off-site\", \"1\", \"\"))))","v":""},null,{"$f":"IF(DL24=\"Discharged into temporary storage containers and returned to the equipment\", \"1\", IF(DL24=\"Kept in storage containers\", \"2\", IF(DL24=\"Discharged onto ground\", \"10\", IF(DL24=\"Disposed of off-site\", \"1\", \"\"))))","v":""},null,{"$f":"IF(DN24=\"Discharged into temporary storage containers and returned to the equipment\", \"1\", IF(DN24=\"Kept in storage containers\", \"2\", IF(DN24=\"Discharged onto ground\", \"10\", IF(DN24=\"Disposed of off-site\", \"1\", \"\"))))","v":""},null,{"$f":"IF(DP24=\"Discharged into temporary storage containers and returned to the equipment\", \"1\", IF(DP24=\"Kept in storage containers\", \"2\", IF(DP24=\"Discharged onto ground\", \"10\", IF(DP24=\"Disposed of off-site\", \"1\", \"\"))))","v":""},null,{"$f":"IF(DR24=\"Discharged into temporary storage containers and returned to the equipment\", \"1\", IF(DR24=\"Kept in storage containers\", \"2\", IF(DR24=\"Discharged onto ground\", \"10\", IF(DR24=\"Disposed of off-site\", \"1\", \"\"))))","v":""},null,{"$f":"IF(DT24=\"Discharged into temporary storage containers and returned to the equipment\", \"1\", IF(DT24=\"Kept in storage containers\", \"2\", IF(DT24=\"Discharged onto ground\", \"10\", IF(DT24=\"Disposed of off-site\", \"1\", \"\"))))","v":""},null,{"$f":"IF(DV24=\"Discharged into temporary storage containers and returned to the equipment\", \"1\", IF(DV24=\"Kept in storage containers\", \"2\", IF(DV24=\"Discharged onto ground\", \"10\", IF(DV24=\"Disposed of off-site\", \"1\", \"\"))))","v":""},null,{"$f":"IF(DX24=\"Discharged into temporary storage containers and returned to the equipment\", \"1\", IF(DX24=\"Kept in storage containers\", \"2\", IF(DX24=\"Discharged onto ground\", \"10\", IF(DX24=\"Disposed of off-site\", \"1\", \"\"))))","v":""},null,{"$f":"IF(DZ24=\"Discharged into temporary storage containers and returned to the equipment\", \"1\", IF(DZ24=\"Kept in storage containers\", \"2\", IF(DZ24=\"Discharged onto ground\", \"10\", IF(DZ24=\"Disposed of off-site\", \"1\", \"\"))))","v":""},null,{"$f":"IF(EB24=\"Discharged into temporary storage containers and returned to the equipment\", \"1\", IF(EB24=\"Kept in storage containers\", \"2\", IF(EB24=\"Discharged onto ground\", \"10\", IF(EB24=\"Disposed of off-site\", \"1\", \"\"))))","v":""},null,{"$f":"IF(ED24=\"Discharged into temporary storage containers and returned to the equipment\", \"1\", IF(ED24=\"Kept in storage containers\", \"2\", IF(ED24=\"Discharged onto ground\", \"10\", IF(ED24=\"Disposed of off-site\", \"1\", \"\"))))","v":""},null,{"$f":"IF(EF24=\"Discharged into temporary storage containers and returned to the equipment\", \"1\", IF(EF24=\"Kept in storage containers\", \"2\", IF(EF24=\"Discharged onto ground\", \"10\", IF(EF24=\"Disposed of off-site\", \"1\", \"\"))))","v":""},null,{"$f":"IF(EH24=\"Discharged into temporary storage containers and returned to the equipment\", \"1\", IF(EH24=\"Kept in storage containers\", \"2\", IF(EH24=\"Discharged onto ground\", \"10\", IF(EH24=\"Disposed of off-site\", \"1\", \"\"))))","v":""},null,{"$f":"IF(EJ24=\"Discharged into temporary storage containers and returned to the equipment\", \"1\", IF(EJ24=\"Kept in storage containers\", \"2\", IF(EJ24=\"Discharged onto ground\", \"10\", IF(EJ24=\"Disposed of off-site\", \"1\", \"\"))))","v":""},null,{"$f":"IF(EL24=\"Discharged into temporary storage containers and returned to the equipment\", \"1\", IF(EL24=\"Kept in storage containers\", \"2\", IF(EL24=\"Discharged onto ground\", \"10\", IF(EL24=\"Disposed of off-site\", \"1\", \"\"))))","v":""},null,{"$f":"IF(EN24=\"Discharged into temporary storage containers and returned to the equipment\", \"1\", IF(EN24=\"Kept in storage containers\", \"2\", IF(EN24=\"Discharged onto ground\", \"10\", IF(EN24=\"Disposed of off-site\", \"1\", \"\"))))","v":""},null,{"$f":"IF(EP24=\"Discharged into temporary storage containers and returned to the equipment\", \"1\", IF(EP24=\"Kept in storage containers\", \"2\", IF(EP24=\"Discharged onto ground\", \"10\", IF(EP24=\"Disposed of off-site\", \"1\", \"\"))))","v":""},null,{"$f":"IF(ER24=\"Discharged into temporary storage containers and returned to the equipment\", \"1\", IF(ER24=\"Kept in storage containers\", \"2\", IF(ER24=\"Discharged onto ground\", \"10\", IF(ER24=\"Disposed of off-site\", \"1\", \"\"))))","v":""},null,{"$f":"IF(ET24=\"Discharged into temporary storage containers and returned to the equipment\", \"1\", IF(ET24=\"Kept in storage containers\", \"2\", IF(ET24=\"Discharged onto ground\", \"10\", IF(ET24=\"Disposed of off-site\", \"1\", \"\"))))","v":""},null,{"$f":"IF(EV24=\"Discharged into temporary storage containers and returned to the equipment\", \"1\", IF(EV24=\"Kept in storage containers\", \"2\", IF(EV24=\"Discharged onto ground\", \"10\", IF(EV24=\"Disposed of off-site\", \"1\", \"\"))))","v":""},null,{"$f":"IF(EX24=\"Discharged into temporary storage containers and returned to the equipment\", \"1\", IF(EX24=\"Kept in storage containers\", \"2\", IF(EX24=\"Discharged onto ground\", \"10\", IF(EX24=\"Disposed of off-site\", \"1\", \"\"))))","v":""},null,{"$f":"IF(EZ24=\"Discharged into temporary storage containers and returned to the equipment\", \"1\", IF(EZ24=\"Kept in storage containers\", \"2\", IF(EZ24=\"Discharged onto ground\", \"10\", IF(EZ24=\"Disposed of off-site\", \"1\", \"\"))))","v":""},null,{"$f":"IF(FB24=\"Discharged into temporary storage containers and returned to the equipment\", \"1\", IF(FB24=\"Kept in storage containers\", \"2\", IF(FB24=\"Discharged onto ground\", \"10\", IF(FB24=\"Disposed of off-site\", \"1\", \"\"))))","v":""},null,{"$f":"IF(FD24=\"Discharged into temporary storage containers and returned to the equipment\", \"1\", IF(FD24=\"Kept in storage containers\", \"2\", IF(FD24=\"Discharged onto ground\", \"10\", IF(FD24=\"Disposed of off-site\", \"1\", \"\"))))","v":""}]
[null,null,"What volume of AFFF is used during maintenance (lost in transportation or resulting in waste from testing?",null,{"$f":"IF(D25=\"None\", \"0\", IF(D25=\"Less than 1 gallon/ Less than 3 L\", \"1\", IF(D25=\"1 to 2 gallons/ 3 to 8 L\", \"2\", IF(D25=\"3 to 5 gallons/ 9 to 19 L\", \"3\", IF(D25=\"More than 5 gallons/ More than 19 L\", \"5\", \"\")))))","v":""},null,{"$f":"IF(F25=\"None\", \"0\", IF(F25=\"Less than 1 gallon/ Less than 3 L\", \"1\", IF(F25=\"1 to 2 gallons/ 3 to 8 L\", \"2\", IF(F25=\"3 to 5 gallons/ 9 to 19 L\", \"3\", IF(F25=\"More than 5 gallons/ More than 19 L\", \"5\", \"\")))))","v":""},null,{"$f":"IF(H25=\"None\", \"0\", IF(H25=\"Less than 1 gallon/ Less than 3 L\", \"1\", IF(H25=\"1 to 2 gallons/ 3 to 8 L\", \"2\", IF(H25=\"3 to 5 gallons/ 9 to 19 L\", \"3\", IF(H25=\"More than 5 gallons/ More than 19 L\", \"5\", \"\")))))","v":""},null,{"$f":"IF(J25=\"None\", \"0\", IF(J25=\"Less than 1 gallon/ Less than 3 L\", \"1\", IF(J25=\"1 to 2 gallons/ 3 to 8 L\", \"2\", IF(J25=\"3 to 5 gallons/ 9 to 19 L\", \"3\", IF(J25=\"More than 5 gallons/ More than 19 L\", \"5\", \"\")))))","v":""},null,{"$f":"IF(L25=\"None\", \"0\", IF(L25=\"Less than 1 gallon/ Less than 3 L\", \"1\", IF(L25=\"1 to 2 gallons/ 3 to 8 L\", \"2\", IF(L25=\"3 to 5 gallons/ 9 to 19 L\", \"3\", IF(L25=\"More than 5 gallons/ More than 19 L\", \"5\", \"\")))))","v":""},null,{"$f":"IF(N25=\"None\", \"0\", IF(N25=\"Less than 1 gallon/ Less than 3 L\", \"1\", IF(N25=\"1 to 2 gallons/ 3 to 8 L\", \"2\", IF(N25=\"3 to 5 gallons/ 9 to 19 L\", \"3\", IF(N25=\"More than 5 gallons/ More than 19 L\", \"5\", \"\")))))","v":""},null,{"$f":"IF(P25=\"None\", \"0\", IF(P25=\"Less than 1 gallon/ Less than 3 L\", \"1\", IF(P25=\"1 to 2 gallons/ 3 to 8 L\", \"2\", IF(P25=\"3 to 5 gallons/ 9 to 19 L\", \"3\", IF(P25=\"More than 5 gallons/ More than 19 L\", \"5\", \"\")))))","v":""},null,{"$f":"IF(R25=\"None\", \"0\", IF(R25=\"Less than 1 gallon/ Less than 3 L\", \"1\", IF(R25=\"1 to 2 gallons/ 3 to 8 L\", \"2\", IF(R25=\"3 to 5 gallons/ 9 to 19 L\", \"3\", IF(R25=\"More than 5 gallons/ More than 19 L\", \"5\", \"\")))))","v":""},null,{"$f":"IF(T25=\"None\", \"0\", IF(T25=\"Less than 1 gallon/ Less than 3 L\", \"1\", IF(T25=\"1 to 2 gallons/ 3 to 8 L\", \"2\", IF(T25=\"3 to 5 gallons/ 9 to 19 L\", \"3\", IF(T25=\"More than 5 gallons/ More than 19 L\", \"5\", \"\")))))","v":""},null,{"$f":"IF(V25=\"None\", \"0\", IF(V25=\"Less than 1 gallon/ Less than 3 L\", \"1\", IF(V25=\"1 to 2 gallons/ 3 to 8 L\", \"2\", IF(V25=\"3 to 5 gallons/ 9 to 19 L\", \"3\", IF(V25=\"More than 5 gallons/ More than 19 L\", \"5\", \"\")))))","v":""},null,{"$f":"IF(X25=\"None\", \"0\", IF(X25=\"Less than 1 gallon/ Less than 3 L\", \"1\", IF(X25=\"1 to 2 gallons/ 3 to 8 L\", \"2\", IF(X25=\"3 to 5 gallons/ 9 to 19 L\", \"3\", IF(X25=\"More than 5 gallons/ More than 19 L\", \"5\", \"\")))))","v":""},null,{"$f":"IF(Z25=\"None\", \"0\", IF(Z25=\"Less than 1 gallon/ Less than 3 L\", \"1\", IF(Z25=\"1 to 2 gallons/ 3 to 8 L\", \"2\", IF(Z25=\"3 to 5 gallons/ 9 to 19 L\", \"3\", IF(Z25=\"More than 5 gallons/ More than 19 L\", \"5\", \"\")))))","v":""},null,{"$f":"IF(AB25=\"None\", \"0\", IF(AB25=\"Less than 1 gallon/ Less than 3 L\", \"1\", IF(AB25=\"1 to 2 gallons/ 3 to 8 L\", \"2\", IF(AB25=\"3 to 5 gallons/ 9 to 19 L\", \"3\", IF(AB25=\"More than 5 gallons/ More than 19 L\", \"5\", \"\")))))","v":""},null,{"$f":"IF(AD25=\"None\", \"0\", IF(AD25=\"Less than 1 gallon/ Less than 3 L\", \"1\", IF(AD25=\"1 to 2 gallons/ 3 to 8 L\", \"2\", IF(AD25=\"3 to 5 gallons/ 9 to 19 L\", \"3\", IF(AD25=\"More than 5 gallons/ More than 19 L\", \"5\", \"\")))))","v":""},null,{"$f":"IF(AF25=\"None\", \"0\", IF(AF25=\"Less than 1 gallon/ Less than 3 L\", \"1\", IF(AF25=\"1 to 2 gallons/ 3 to 8 L\", \"2\", IF(AF25=\"3 to 5 gallons/ 9 to 19 L\", \"3\", IF(AF25=\"More than 5 gallons/ More than 19 L\", \"5\", \"\")))))","v":""},null,{"$f":"IF(AH25=\"None\", \"0\", IF(AH25=\"Less than 1 gallon/ Less than 3 L\", \"1\", IF(AH25=\"1 to 2 gallons/ 3 to 8 L\", \"2\", IF(AH25=\"3 to 5 gallons/ 9 to 19 L\", \"3\", IF(AH25=\"More than 5 gallons/ More than 19 L\", \"5\", \"\")))))","v":""},null,{"$f":"IF(AJ25=\"None\", \"0\", IF(AJ25=\"Less than 1 gallon/ Less than 3 L\", \"1\", IF(AJ25=\"1 to 2 gallons/ 3 to 8 L\", \"2\", IF(AJ25=\"3 to 5 gallons/ 9 to 19 L\", \"3\", IF(AJ25=\"More than 5 gallons/ More than 19 L\", \"5\", \"\")))))","v":""},null,{"$f":"IF(AL25=\"None\", \"0\", IF(AL25=\"Less than 1 gallon/ Less than 3 L\", \"1\", IF(AL25=\"1 to 2 gallons/ 3 to 8 L\", \"2\", IF(AL25=\"3 to 5 gallons/ 9 to 19 L\", \"3\", IF(AL25=\"More than 5 gallons/ More than 19 L\", \"5\", \"\")))))","v":""},null,{"$f":"IF(AN25=\"None\", \"0\", IF(AN25=\"Less than 1 gallon/ Less than 3 L\", \"1\", IF(AN25=\"1 to 2 gallons/ 3 to 8 L\", \"2\", IF(AN25=\"3 to 5 gallons/ 9 to 19 L\", \"3\", IF(AN25=\"More than 5 gallons/ More than 19 L\", \"5\", \"\")))))","v":""},null,{"$f":"IF(AP25=\"None\", \"0\", IF(AP25=\"Less than 1 gallon/ Less than 3 L\", \"1\", IF(AP25=\"1 to 2 gallons/ 3 to 8 L\", \"2\", IF(AP25=\"3 to 5 gallons/ 9 to 19 L\", \"3\", IF(AP25=\"More than 5 gallons/ More than 19 L\", \"5\", \"\")))))","v":""},null,{"$f":"IF(AR25=\"None\", \"0\", IF(AR25=\"Less than 1 gallon/ Less than 3 L\", \"1\", IF(AR25=\"1 to 2 gallons/ 3 to 8 L\", \"2\", IF(AR25=\"3 to 5 gallons/ 9 to 19 L\", \"3\", IF(AR25=\"More than 5 gallons/ More than 19 L\", \"5\", \"\")))))","v":""},"3 to 5 gallons/ 9 to 19 L",{"$f":"IF(AT25=\"None\", \"0\", IF(AT25=\"Less than 1 gallon/ Less than 3 L\", \"1\", IF(AT25=\"1 to 2 gallons/ 3 to 8 L\", \"2\", IF(AT25=\"3 to 5 gallons/ 9 to 19 L\", \"3\", IF(AT25=\"More than 5 gallons/ More than 19 L\", \"5\", \"\")))))","v":"3"},"Less than 1 gallon/ Less than 3 L",{"$f":"IF(AV25=\"None\", \"0\", IF(AV25=\"Less than 1 gallon/ Less than 3 L\", \"1\", IF(AV25=\"1 to 2 gallons/ 3 to 8 L\", \"2\", IF(AV25=\"3 to 5 gallons/ 9 to 19 L\", \"3\", IF(AV25=\"More than 5 gallons/ More than 19 L\", \"5\", \"\")))))","v":"1"},null,{"$f":"IF(AX25=\"None\", \"0\", IF(AX25=\"Less than 1 gallon/ Less than 3 L\", \"1\", IF(AX25=\"1 to 2 gallons/ 3 to 8 L\", \"2\", IF(AX25=\"3 to 5 gallons/ 9 to 19 L\", \"3\", IF(AX25=\"More than 5 gallons/ More than 19 L\", \"5\", \"\")))))","v":""},null,{"$f":"IF(AZ25=\"None\", \"0\", IF(AZ25=\"Less than 1 gallon/ Less than 3 L\", \"1\", IF(AZ25=\"1 to 2 gallons/ 3 to 8 L\", \"2\", IF(AZ25=\"3 to 5 gallons/ 9 to 19 L\", \"3\", IF(AZ25=\"More than 5 gallons/ More than 19 L\", \"5\", \"\")))))","v":""},null,{"$f":"IF(BB25=\"None\", \"0\", IF(BB25=\"Less than 1 gallon/ Less than 3 L\", \"1\", IF(BB25=\"1 to 2 gallons/ 3 to 8 L\", \"2\", IF(BB25=\"3 to 5 gallons/ 9 to 19 L\", \"3\", IF(BB25=\"More than 5 gallons/ More than 19 L\", \"5\", \"\")))))","v":""},null,{"$f":"IF(BD25=\"None\", \"0\", IF(BD25=\"Less than 1 gallon/ Less than 3 L\", \"1\", IF(BD25=\"1 to 2 gallons/ 3 to 8 L\", \"2\", IF(BD25=\"3 to 5 gallons/ 9 to 19 L\", \"3\", IF(BD25=\"More than 5 gallons/ More than 19 L\", \"5\", \"\")))))","v":""},null,{"$f":"IF(BF25=\"None\", \"0\", IF(BF25=\"Less than 1 gallon/ Less than 3 L\", \"1\", IF(BF25=\"1 to 2 gallons/ 3 to 8 L\", \"2\", IF(BF25=\"3 to 5 gallons/ 9 to 19 L\", \"3\", IF(BF25=\"More than 5 gallons/ More than 19 L\", \"5\", \"\")))))","v":""},null,{"$f":"IF(BH25=\"None\", \"0\", IF(BH25=\"Less than 1 gallon/ Less than 3 L\", \"1\", IF(BH25=\"1 to 2 gallons/ 3 to 8 L\", \"2\", IF(BH25=\"3 to 5 gallons/ 9 to 19 L\", \"3\", IF(BH25=\"More than 5 gallons/ More than 19 L\", \"5\", \"\")))))","v":""},null,{"$f":"IF(BJ25=\"None\", \"0\", IF(BJ25=\"Less than 1 gallon/ Less than 3 L\", \"1\", IF(BJ25=\"1 to 2 gallons/ 3 to 8 L\", \"2\", IF(BJ25=\"3 to 5 gallons/ 9 to 19 L\", \"3\", IF(BJ25=\"More than 5 gallons/ More than 19 L\", \"5\", \"\")))))","v":""},null,{"$f":"IF(BL25=\"None\", \"0\", IF(BL25=\"Less than 1 gallon/ Less than 3 L\", \"1\", IF(BL25=\"1 to 2 gallons/ 3 to 8 L\", \"2\", IF(BL25=\"3 to 5 gallons/ 9 to 19 L\", \"3\", IF(BL25=\"More than 5 gallons/ More than 19 L\", \"5\", \"\")))))","v":""},null,{"$f":"IF(BN25=\"None\", \"0\", IF(BN25=\"Less than 1 gallon/ Less than 3 L\", \"1\", IF(BN25=\"1 to 2 gallons/ 3 to 8 L\", \"2\", IF(BN25=\"3 to 5 gallons/ 9 to 19 L\", \"3\", IF(BN25=\"More than 5 gallons/ More than 19 L\", \"5\", \"\")))))","v":""},null,{"$f":"IF(BP25=\"None\", \"0\", IF(BP25=\"Less than 1 gallon/ Less than 3 L\", \"1\", IF(BP25=\"1 to 2 gallons/ 3 to 8 L\", \"2\", IF(BP25=\"3 to 5 gallons/ 9 to 19 L\", \"3\", IF(BP25=\"More than 5 gallons/ More than 19 L\", \"5\", \"\")))))","v":""},null,{"$f":"IF(BR25=\"None\", \"0\", IF(BR25=\"Less than 1 gallon/ Less than 3 L\", \"1\", IF(BR25=\"1 to 2 gallons/ 3 to 8 L\", \"2\", IF(BR25=\"3 to 5 gallons/ 9 to 19 L\", \"3\", IF(BR25=\"More than 5 gallons/ More than 19 L\", \"5\", \"\")))))","v":""},null,{"$f":"IF(BT25=\"None\", \"0\", IF(BT25=\"Less than 1 gallon/ Less than 3 L\", \"1\", IF(BT25=\"1 to 2 gallons/ 3 to 8 L\", \"2\", IF(BT25=\"3 to 5 gallons/ 9 to 19 L\", \"3\", IF(BT25=\"More than 5 gallons/ More than 19 L\", \"5\", \"\")))))","v":""},null,{"$f":"IF(BV25=\"None\", \"0\", IF(BV25=\"Less than 1 gallon/ Less than 3 L\", \"1\", IF(BV25=\"1 to 2 gallons/ 3 to 8 L\", \"2\", IF(BV25=\"3 to 5 gallons/ 9 to 19 L\", \"3\", IF(BV25=\"More than 5 gallons/ More than 19 L\", \"5\", \"\")))))","v":""},null,{"$f":"IF(BX25=\"None\", \"0\", IF(BX25=\"Less than 1 gallon/ Less than 3 L\", \"1\", IF(BX25=\"1 to 2 gallons/ 3 to 8 L\", \"2\", IF(BX25=\"3 to 5 gallons/ 9 to 19 L\", \"3\", IF(BX25=\"More than 5 gallons/ More than 19 L\", \"5\", \"\")))))","v":""},null,{"$f":"IF(BZ25=\"None\", \"0\", IF(BZ25=\"Less than 1 gallon/ Less than 3 L\", \"1\", IF(BZ25=\"1 to 2 gallons/ 3 to 8 L\", \"2\", IF(BZ25=\"3 to 5 gallons/ 9 to 19 L\", \"3\", IF(BZ25=\"More than 5 gallons/ More than 19 L\", \"5\", \"\")))))","v":""},null,{"$f":"IF(CB25=\"None\", \"0\", IF(CB25=\"Less than 1 gallon/ Less than 3 L\", \"1\", IF(CB25=\"1 to 2 gallons/ 3 to 8 L\", \"2\", IF(CB25=\"3 to 5 gallons/ 9 to 19 L\", \"3\", IF(CB25=\"More than 5 gallons/ More than 19 L\", \"5\", \"\")))))","v":""},null,{"$f":"IF(CD25=\"None\", \"0\", IF(CD25=\"Less than 1 gallon/ Less than 3 L\", \"1\", IF(CD25=\"1 to 2 gallons/ 3 to 8 L\", \"2\", IF(CD25=\"3 to 5 gallons/ 9 to 19 L\", \"3\", IF(CD25=\"More than 5 gallons/ More than 19 L\", \"5\", \"\")))))","v":""},null,{"$f":"IF(CF25=\"None\", \"0\", IF(CF25=\"Less than 1 gallon/ Less than 3 L\", \"1\", IF(CF25=\"1 to 2 gallons/ 3 to 8 L\", \"2\", IF(CF25=\"3 to 5 gallons/ 9 to 19 L\", \"3\", IF(CF25=\"More than 5 gallons/ More than 19 L\", \"5\", \"\")))))","v":""},null,{"$f":"IF(CH25=\"None\", \"0\", IF(CH25=\"Less than 1 gallon/ Less than 3 L\", \"1\", IF(CH25=\"1 to 2 gallons/ 3 to 8 L\", \"2\", IF(CH25=\"3 to 5 gallons/ 9 to 19 L\", \"3\", IF(CH25=\"More than 5 gallons/ More than 19 L\", \"5\", \"\")))))","v":""},null,{"$f":"IF(CJ25=\"None\", \"0\", IF(CJ25=\"Less than 1 gallon/ Less than 3 L\", \"1\", IF(CJ25=\"1 to 2 gallons/ 3 to 8 L\", \"2\", IF(CJ25=\"3 to 5 gallons/ 9 to 19 L\", \"3\", IF(CJ25=\"More than 5 gallons/ More than 19 L\", \"5\", \"\")))))","v":""},null,{"$f":"IF(CL25=\"None\", \"0\", IF(CL25=\"Less than 1 gallon/ Less than 3 L\", \"1\", IF(CL25=\"1 to 2 gallons/ 3 to 8 L\", \"2\", IF(CL25=\"3 to 5 gallons/ 9 to 19 L\", \"3\", IF(CL25=\"More than 5 gallons/ More than 19 L\", \"5\", \"\")))))","v":""},null,{"$f":"IF(CN25=\"None\", \"0\", IF(CN25=\"Less than 1 gallon/ Less than 3 L\", \"1\", IF(CN25=\"1 to 2 gallons/ 3 to 8 L\", \"2\", IF(CN25=\"3 to 5 gallons/ 9 to 19 L\", \"3\", IF(CN25=\"More than 5 gallons/ More than 19 L\", \"5\", \"\")))))","v":""},null,{"$f":"IF(CP25=\"None\", \"0\", IF(CP25=\"Less than 1 gallon/ Less than 3 L\", \"1\", IF(CP25=\"1 to 2 gallons/ 3 to 8 L\", \"2\", IF(CP25=\"3 to 5 gallons/ 9 to 19 L\", \"3\", IF(CP25=\"More than 5 gallons/ More than 19 L\", \"5\", \"\")))))","v":""},null,{"$f":"IF(CR25=\"None\", \"0\", IF(CR25=\"Less than 1 gallon/ Less than 3 L\", \"1\", IF(CR25=\"1 to 2 gallons/ 3 to 8 L\", \"2\", IF(CR25=\"3 to 5 gallons/ 9 to 19 L\", \"3\", IF(CR25=\"More than 5 gallons/ More than 19 L\", \"5\", \"\")))))","v":""},null,{"$f":"IF(CT25=\"None\", \"0\", IF(CT25=\"Less than 1 gallon/ Less than 3 L\", \"1\", IF(CT25=\"1 to 2 gallons/ 3 to 8 L\", \"2\", IF(CT25=\"3 to 5 gallons/ 9 to 19 L\", \"3\", IF(CT25=\"More than 5 gallons/ More than 19 L\", \"5\", \"\")))))","v":""},null,{"$f":"IF(CV25=\"None\", \"0\", IF(CV25=\"Less than 1 gallon/ Less than 3 L\", \"1\", IF(CV25=\"1 to 2 gallons/ 3 to 8 L\", \"2\", IF(CV25=\"3 to 5 gallons/ 9 to 19 L\", \"3\", IF(CV25=\"More than 5 gallons/ More than 19 L\", \"5\", \"\")))))","v":""},null,{"$f":"IF(CX25=\"None\", \"0\", IF(CX25=\"Less than 1 gallon/ Less than 3 L\", \"1\", IF(CX25=\"1 to 2 gallons/ 3 to 8 L\", \"2\", IF(CX25=\"3 to 5 gallons/ 9 to 19 L\", \"3\", IF(CX25=\"More than 5 gallons/ More than 19 L\", \"5\", \"\")))))","v":""},null,{"$f":"IF(CZ25=\"None\", \"0\", IF(CZ25=\"Less than 1 gallon/ Less than 3 L\", \"1\", IF(CZ25=\"1 to 2 gallons/ 3 to 8 L\", \"2\", IF(CZ25=\"3 to 5 gallons/ 9 to 19 L\", \"3\", IF(CZ25=\"More than 5 gallons/ More than 19 L\", \"5\", \"\")))))","v":""},null,{"$f":"IF(DB25=\"None\", \"0\", IF(DB25=\"Less than 1 gallon/ Less than 3 L\", \"1\", IF(DB25=\"1 to 2 gallons/ 3 to 8 L\", \"2\", IF(DB25=\"3 to 5 gallons/ 9 to 19 L\", \"3\", IF(DB25=\"More than 5 gallons/ More than 19 L\", \"5\", \"\")))))","v":""},null,{"$f":"IF(DD25=\"None\", \"0\", IF(DD25=\"Less than 1 gallon/ Less than 3 L\", \"1\", IF(DD25=\"1 to 2 gallons/ 3 to 8 L\", \"2\", IF(DD25=\"3 to 5 gallons/ 9 to 19 L\", \"3\", IF(DD25=\"More than 5 gallons/ More than 19 L\", \"5\", \"\")))))","v":""},null,{"$f":"IF(DF25=\"None\", \"0\", IF(DF25=\"Less than 1 gallon/ Less than 3 L\", \"1\", IF(DF25=\"1 to 2 gallons/ 3 to 8 L\", \"2\", IF(DF25=\"3 to 5 gallons/ 9 to 19 L\", \"3\", IF(DF25=\"More than 5 gallons/ More than 19 L\", \"5\", \"\")))))","v":""},null,{"$f":"IF(DH25=\"None\", \"0\", IF(DH25=\"Less than 1 gallon/ Less than 3 L\", \"1\", IF(DH25=\"1 to 2 gallons/ 3 to 8 L\", \"2\", IF(DH25=\"3 to 5 gallons/ 9 to 19 L\", \"3\", IF(DH25=\"More than 5 gallons/ More than 19 L\", \"5\", \"\")))))","v":""},null,{"$f":"IF(DJ25=\"None\", \"0\", IF(DJ25=\"Less than 1 gallon/ Less than 3 L\", \"1\", IF(DJ25=\"1 to 2 gallons/ 3 to 8 L\", \"2\", IF(DJ25=\"3 to 5 gallons/ 9 to 19 L\", \"3\", IF(DJ25=\"More than 5 gallons/ More than 19 L\", \"5\", \"\")))))","v":""},null,{"$f":"IF(DL25=\"None\", \"0\", IF(DL25=\"Less than 1 gallon/ Less than 3 L\", \"1\", IF(DL25=\"1 to 2 gallons/ 3 to 8 L\", \"2\", IF(DL25=\"3 to 5 gallons/ 9 to 19 L\", \"3\", IF(DL25=\"More than 5 gallons/ More than 19 L\", \"5\", \"\")))))","v":""},null,{"$f":"IF(DN25=\"None\", \"0\", IF(DN25=\"Less than 1 gallon/ Less than 3 L\", \"1\", IF(DN25=\"1 to 2 gallons/ 3 to 8 L\", \"2\", IF(DN25=\"3 to 5 gallons/ 9 to 19 L\", \"3\", IF(DN25=\"More than 5 gallons/ More than 19 L\", \"5\", \"\")))))","v":""},null,{"$f":"IF(DP25=\"None\", \"0\", IF(DP25=\"Less than 1 gallon/ Less than 3 L\", \"1\", IF(DP25=\"1 to 2 gallons/ 3 to 8 L\", \"2\", IF(DP25=\"3 to 5 gallons/ 9 to 19 L\", \"3\", IF(DP25=\"More than 5 gallons/ More than 19 L\", \"5\", \"\")))))","v":""},null,{"$f":"IF(DR25=\"None\", \"0\", IF(DR25=\"Less than 1 gallon/ Less than 3 L\", \"1\", IF(DR25=\"1 to 2 gallons/ 3 to 8 L\", \"2\", IF(DR25=\"3 to 5 gallons/ 9 to 19 L\", \"3\", IF(DR25=\"More than 5 gallons/ More than 19 L\", \"5\", \"\")))))","v":""},null,{"$f":"IF(DT25=\"None\", \"0\", IF(DT25=\"Less than 1 gallon/ Less than 3 L\", \"1\", IF(DT25=\"1 to 2 gallons/ 3 to 8 L\", \"2\", IF(DT25=\"3 to 5 gallons/ 9 to 19 L\", \"3\", IF(DT25=\"More than 5 gallons/ More than 19 L\", \"5\", \"\")))))","v":""},null,{"$f":"IF(DV25=\"None\", \"0\", IF(DV25=\"Less than 1 gallon/ Less than 3 L\", \"1\", IF(DV25=\"1 to 2 gallons/ 3 to 8 L\", \"2\", IF(DV25=\"3 to 5 gallons/ 9 to 19 L\", \"3\", IF(DV25=\"More than 5 gallons/ More than 19 L\", \"5\", \"\")))))","v":""},null,{"$f":"IF(DX25=\"None\", \"0\", IF(DX25=\"Less than 1 gallon/ Less than 3 L\", \"1\", IF(DX25=\"1 to 2 gallons/ 3 to 8 L\", \"2\", IF(DX25=\"3 to 5 gallons/ 9 to 19 L\", \"3\", IF(DX25=\"More than 5 gallons/ More than 19 L\", \"5\", \"\")))))","v":""},null,{"$f":"IF(DZ25=\"None\", \"0\", IF(DZ25=\"Less than 1 gallon/ Less than 3 L\", \"1\", IF(DZ25=\"1 to 2 gallons/ 3 to 8 L\", \"2\", IF(DZ25=\"3 to 5 gallons/ 9 to 19 L\", \"3\", IF(DZ25=\"More than 5 gallons/ More than 19 L\", \"5\", \"\")))))","v":""},null,{"$f":"IF(EB25=\"None\", \"0\", IF(EB25=\"Less than 1 gallon/ Less than 3 L\", \"1\", IF(EB25=\"1 to 2 gallons/ 3 to 8 L\", \"2\", IF(EB25=\"3 to 5 gallons/ 9 to 19 L\", \"3\", IF(EB25=\"More than 5 gallons/ More than 19 L\", \"5\", \"\")))))","v":""},null,{"$f":"IF(ED25=\"None\", \"0\", IF(ED25=\"Less than 1 gallon/ Less than 3 L\", \"1\", IF(ED25=\"1 to 2 gallons/ 3 to 8 L\", \"2\", IF(ED25=\"3 to 5 gallons/ 9 to 19 L\", \"3\", IF(ED25=\"More than 5 gallons/ More than 19 L\", \"5\", \"\")))))","v":""},null,{"$f":"IF(EF25=\"None\", \"0\", IF(EF25=\"Less than 1 gallon/ Less than 3 L\", \"1\", IF(EF25=\"1 to 2 gallons/ 3 to 8 L\", \"2\", IF(EF25=\"3 to 5 gallons/ 9 to 19 L\", \"3\", IF(EF25=\"More than 5 gallons/ More than 19 L\", \"5\", \"\")))))","v":""},null,{"$f":"IF(EH25=\"None\", \"0\", IF(EH25=\"Less than 1 gallon/ Less than 3 L\", \"1\", IF(EH25=\"1 to 2 gallons/ 3 to 8 L\", \"2\", IF(EH25=\"3 to 5 gallons/ 9 to 19 L\", \"3\", IF(EH25=\"More than 5 gallons/ More than 19 L\", \"5\", \"\")))))","v":""},null,{"$f":"IF(EJ25=\"None\", \"0\", IF(EJ25=\"Less than 1 gallon/ Less than 3 L\", \"1\", IF(EJ25=\"1 to 2 gallons/ 3 to 8 L\", \"2\", IF(EJ25=\"3 to 5 gallons/ 9 to 19 L\", \"3\", IF(EJ25=\"More than 5 gallons/ More than 19 L\", \"5\", \"\")))))","v":""},null,{"$f":"IF(EL25=\"None\", \"0\", IF(EL25=\"Less than 1 gallon/ Less than 3 L\", \"1\", IF(EL25=\"1 to 2 gallons/ 3 to 8 L\", \"2\", IF(EL25=\"3 to 5 gallons/ 9 to 19 L\", \"3\", IF(EL25=\"More than 5 gallons/ More than 19 L\", \"5\", \"\")))))","v":""},null,{"$f":"IF(EN25=\"None\", \"0\", IF(EN25=\"Less than 1 gallon/ Less than 3 L\", \"1\", IF(EN25=\"1 to 2 gallons/ 3 to 8 L\", \"2\", IF(EN25=\"3 to 5 gallons/ 9 to 19 L\", \"3\", IF(EN25=\"More than 5 gallons/ More than 19 L\", \"5\", \"\")))))","v":""},null,{"$f":"IF(EP25=\"None\", \"0\", IF(EP25=\"Less than 1 gallon/ Less than 3 L\", \"1\", IF(EP25=\"1 to 2 gallons/ 3 to 8 L\", \"2\", IF(EP25=\"3 to 5 gallons/ 9 to 19 L\", \"3\", IF(EP25=\"More than 5 gallons/ More than 19 L\", \"5\", \"\")))))","v":""},null,{"$f":"IF(ER25=\"None\", \"0\", IF(ER25=\"Less than 1 gallon/ Less than 3 L\", \"1\", IF(ER25=\"1 to 2 gallons/ 3 to 8 L\", \"2\", IF(ER25=\"3 to 5 gallons/ 9 to 19 L\", \"3\", IF(ER25=\"More than 5 gallons/ More than 19 L\", \"5\", \"\")))))","v":""},null,{"$f":"IF(ET25=\"None\", \"0\", IF(ET25=\"Less than 1 gallon/ Less than 3 L\", \"1\", IF(ET25=\"1 to 2 gallons/ 3 to 8 L\", \"2\", IF(ET25=\"3 to 5 gallons/ 9 to 19 L\", \"3\", IF(ET25=\"More than 5 gallons/ More than 19 L\", \"5\", \"\")))))","v":""},null,{"$f":"IF(EV25=\"None\", \"0\", IF(EV25=\"Less than 1 gallon/ Less than 3 L\", \"1\", IF(EV25=\"1 to 2 gallons/ 3 to 8 L\", \"2\", IF(EV25=\"3 to 5 gallons/ 9 to 19 L\", \"3\", IF(EV25=\"More than 5 gallons/ More than 19 L\", \"5\", \"\")))))","v":""},null,{"$f":"IF(EX25=\"None\", \"0\", IF(EX25=\"Less than 1 gallon/ Less than 3 L\", \"1\", IF(EX25=\"1 to 2 gallons/ 3 to 8 L\", \"2\", IF(EX25=\"3 to 5 gallons/ 9 to 19 L\", \"3\", IF(EX25=\"More than 5 gallons/ More than 19 L\", \"5\", \"\")))))","v":""},null,{"$f":"IF(EZ25=\"None\", \"0\", IF(EZ25=\"Less than 1 gallon/ Less than 3 L\", \"1\", IF(EZ25=\"1 to 2 gallons/ 3 to 8 L\", \"2\", IF(EZ25=\"3 to 5 gallons/ 9 to 19 L\", \"3\", IF(EZ25=\"More than 5 gallons/ More than 19 L\", \"5\", \"\")))))","v":""},null,{"$f":"IF(FB25=\"None\", \"0\", IF(FB25=\"Less than 1 gallon/ Less than 3 L\", \"1\", IF(FB25=\"1 to 2 gallons/ 3 to 8 L\", \"2\", IF(FB25=\"3 to 5 gallons/ 9 to 19 L\", \"3\", IF(FB25=\"More than 5 gallons/ More than 19 L\", \"5\", \"\")))))","v":""},null,{"$f":"IF(FD25=\"None\", \"0\", IF(FD25=\"Less than 1 gallon/ Less than 3 L\", \"1\", IF(FD25=\"1 to 2 gallons/ 3 to 8 L\", \"2\", IF(FD25=\"3 to 5 gallons/ 9 to 19 L\", \"3\", IF(FD25=\"More than 5 gallons/ More than 19 L\", \"5\", \"\")))))","v":""}]
[null,null,"What is the typical volume of rinsate that results from cleaning equipment that had contained AFFF?",null,{"$f":"IF(D26=\"Less than 200 gallons/ Less than760 L\", \"4\", IF(D26=\"More than 200 gallons/ More than 760 L\", \"5\", IF(D26=\"None\", \"0\", \"\")))","v":""},null,{"$f":"IF(F26=\"Less than 200 gallons/ Less than760 L\", \"4\", IF(F26=\"More than 200 gallons/ More than 760 L\", \"5\", IF(F26=\"None\", \"0\", \"\")))","v":""},null,{"$f":"IF(H26=\"Less than 200 gallons/ Less than760 L\", \"4\", IF(H26=\"More than 200 gallons/ More than 760 L\", \"5\", IF(H26=\"None\", \"0\", \"\")))","v":""},null,{"$f":"IF(J26=\"Less than 200 gallons/ Less than760 L\", \"4\", IF(J26=\"More than 200 gallons/ More than 760 L\", \"5\", IF(J26=\"None\", \"0\", \"\")))","v":""},null,{"$f":"IF(L26=\"Less than 200 gallons/ Less than760 L\", \"4\", IF(L26=\"More than 200 gallons/ More than 760 L\", \"5\", IF(L26=\"None\", \"0\", \"\")))","v":""},null,{"$f":"IF(N26=\"Less than 200 gallons/ Less than760 L\", \"4\", IF(N26=\"More than 200 gallons/ More than 760 L\", \"5\", IF(N26=\"None\", \"0\", \"\")))","v":""},null,{"$f":"IF(P26=\"Less than 200 gallons/ Less than760 L\", \"4\", IF(P26=\"More than 200 gallons/ More than 760 L\", \"5\", IF(P26=\"None\", \"0\", \"\")))","v":""},null,{"$f":"IF(R26=\"Less than 200 gallons/ Less than760 L\", \"4\", IF(R26=\"More than 200 gallons/ More than 760 L\", \"5\", IF(R26=\"None\", \"0\", \"\")))","v":""},null,{"$f":"IF(T26=\"Less than 200 gallons/ Less than760 L\", \"4\", IF(T26=\"More than 200 gallons/ More than 760 L\", \"5\", IF(T26=\"None\", \"0\", \"\")))","v":""},null,{"$f":"IF(V26=\"Less than 200 gallons/ Less than760 L\", \"4\", IF(V26=\"More than 200 gallons/ More than 760 L\", \"5\", IF(V26=\"None\", \"0\", \"\")))","v":""},null,{"$f":"IF(X26=\"Less than 200 gallons/ Less than760 L\", \"4\", IF(X26=\"More than 200 gallons/ More than 760 L\", \"5\", IF(X26=\"None\", \"0\", \"\")))","v":""},null,{"$f":"IF(Z26=\"Less than 200 gallons/ Less than760 L\", \"4\", IF(Z26=\"More than 200 gallons/ More than 760 L\", \"5\", IF(Z26=\"None\", \"0\", \"\")))","v":""},null,{"$f":"IF(AB26=\"Less than 200 gallons/ Less than760 L\", \"4\", IF(AB26=\"More than 200 gallons/ More than 760 L\", \"5\", IF(AB26=\"None\", \"0\", \"\")))","v":""},null,{"$f":"IF(AD26=\"Less than 200 gallons/ Less than760 L\", \"4\", IF(AD26=\"More than 200 gallons/ More than 760 L\", \"5\", IF(AD26=\"None\", \"0\", \"\")))","v":""},null,{"$f":"IF(AF26=\"Less than 200 gallons/ Less than760 L\", \"4\", IF(AF26=\"More than 200 gallons/ More than 760 L\", \"5\", IF(AF26=\"None\", \"0\", \"\")))","v":""},null,{"$f":"IF(AH26=\"Less than 200 gallons/ Less than760 L\", \"4\", IF(AH26=\"More than 200 gallons/ More than 760 L\", \"5\", IF(AH26=\"None\", \"0\", \"\")))","v":""},null,{"$f":"IF(AJ26=\"Less than 200 gallons/ Less than760 L\", \"4\", IF(AJ26=\"More than 200 gallons/ More than 760 L\", \"5\", IF(AJ26=\"None\", \"0\", \"\")))","v":""},null,{"$f":"IF(AL26=\"Less than 200 gallons/ Less than760 L\", \"4\", IF(AL26=\"More than 200 gallons/ More than 760 L\", \"5\", IF(AL26=\"None\", \"0\", \"\")))","v":""},null,{"$f":"IF(AN26=\"Less than 200 gallons/ Less than760 L\", \"4\", IF(AN26=\"More than 200 gallons/ More than 760 L\", \"5\", IF(AN26=\"None\", \"0\", \"\")))","v":""},null,{"$f":"IF(AP26=\"Less than 200 gallons/ Less than760 L\", \"4\", IF(AP26=\"More than 200 gallons/ More than 760 L\", \"5\", IF(AP26=\"None\", \"0\", \"\")))","v":""},null,{"$f":"IF(AR26=\"Less than 200 gallons/ Less than760 L\", \"4\", IF(AR26=\"More than 200 gallons/ More than 760 L\", \"5\", IF(AR26=\"None\", \"0\", \"\")))","v":""},"None",{"$f":"IF(AT26=\"Less than 200 gallons/ Less than760 L\", \"4\", IF(AT26=\"More than 200 gallons/ More than 760 L\", \"5\", IF(AT26=\"None\", \"0\", \"\")))","v":"0"},"More than 200 gallons/ More than 760 L",{"$f":"IF(AV26=\"Less than 200 gallons/ Less than760 L\", \"4\", IF(AV26=\"More than 200 gallons/ More than 760 L\", \"5\", IF(AV26=\"None\", \"0\", \"\")))","v":"5"},null,{"$f":"IF(AX26=\"Less than 200 gallons/ Less than760 L\", \"4\", IF(AX26=\"More than 200 gallons/ More than 760 L\", \"5\", IF(AX26=\"None\", \"0\", \"\")))","v":""},null,{"$f":"IF(AZ26=\"Less than 200 gallons/ Less than760 L\", \"4\", IF(AZ26=\"More than 200 gallons/ More than 760 L\", \"5\", IF(AZ26=\"None\", \"0\", \"\")))","v":""},null,{"$f":"IF(BB26=\"Less than 200 gallons/ Less than760 L\", \"4\", IF(BB26=\"More than 200 gallons/ More than 760 L\", \"5\", IF(BB26=\"None\", \"0\", \"\")))","v":""},null,{"$f":"IF(BD26=\"Less than 200 gallons/ Less than760 L\", \"4\", IF(BD26=\"More than 200 gallons/ More than 760 L\", \"5\", IF(BD26=\"None\", \"0\", \"\")))","v":""},null,{"$f":"IF(BF26=\"Less than 200 gallons/ Less than760 L\", \"4\", IF(BF26=\"More than 200 gallons/ More than 760 L\", \"5\", IF(BF26=\"None\", \"0\", \"\")))","v":""},null,{"$f":"IF(BH26=\"Less than 200 gallons/ Less than760 L\", \"4\", IF(BH26=\"More than 200 gallons/ More than 760 L\", \"5\", IF(BH26=\"None\", \"0\", \"\")))","v":""},null,{"$f":"IF(BJ26=\"Less than 200 gallons/ Less than760 L\", \"4\", IF(BJ26=\"More than 200 gallons/ More than 760 L\", \"5\", IF(BJ26=\"None\", \"0\", \"\")))","v":""},null,{"$f":"IF(BL26=\"Less than 200 gallons/ Less than760 L\", \"4\", IF(BL26=\"More than 200 gallons/ More than 760 L\", \"5\", IF(BL26=\"None\", \"0\", \"\")))","v":""},null,{"$f":"IF(BN26=\"Less than 200 gallons/ Less than760 L\", \"4\", IF(BN26=\"More than 200 gallons/ More than 760 L\", \"5\", IF(BN26=\"None\", \"0\", \"\")))","v":""},null,{"$f":"IF(BP26=\"Less than 200 gallons/ Less than760 L\", \"4\", IF(BP26=\"More than 200 gallons/ More than 760 L\", \"5\", IF(BP26=\"None\", \"0\", \"\")))","v":""},null,{"$f":"IF(BR26=\"Less than 200 gallons/ Less than760 L\", \"4\", IF(BR26=\"More than 200 gallons/ More than 760 L\", \"5\", IF(BR26=\"None\", \"0\", \"\")))","v":""},null,{"$f":"IF(BT26=\"Less than 200 gallons/ Less than760 L\", \"4\", IF(BT26=\"More than 200 gallons/ More than 760 L\", \"5\", IF(BT26=\"None\", \"0\", \"\")))","v":""},null,{"$f":"IF(BV26=\"Less than 200 gallons/ Less than760 L\", \"4\", IF(BV26=\"More than 200 gallons/ More than 760 L\", \"5\", IF(BV26=\"None\", \"0\", \"\")))","v":""},null,{"$f":"IF(BX26=\"Less than 200 gallons/ Less than760 L\", \"4\", IF(BX26=\"More than 200 gallons/ More than 760 L\", \"5\", IF(BX26=\"None\", \"0\", \"\")))","v":""},null,{"$f":"IF(BZ26=\"Less than 200 gallons/ Less than760 L\", \"4\", IF(BZ26=\"More than 200 gallons/ More than 760 L\", \"5\", IF(BZ26=\"None\", \"0\", \"\")))","v":""},null,{"$f":"IF(CB26=\"Less than 200 gallons/ Less than760 L\", \"4\", IF(CB26=\"More than 200 gallons/ More than 760 L\", \"5\", IF(CB26=\"None\", \"0\", \"\")))","v":""},null,{"$f":"IF(CD26=\"Less than 200 gallons/ Less than760 L\", \"4\", IF(CD26=\"More than 200 gallons/ More than 760 L\", \"5\", IF(CD26=\"None\", \"0\", \"\")))","v":""},null,{"$f":"IF(CF26=\"Less than 200 gallons/ Less than760 L\", \"4\", IF(CF26=\"More than 200 gallons/ More than 760 L\", \"5\", IF(CF26=\"None\", \"0\", \"\")))","v":""},null,{"$f":"IF(CH26=\"Less than 200 gallons/ Less than760 L\", \"4\", IF(CH26=\"More than 200 gallons/ More than 760 L\", \"5\", IF(CH26=\"None\", \"0\", \"\")))","v":""},null,{"$f":"IF(CJ26=\"Less than 200 gallons/ Less than760 L\", \"4\", IF(CJ26=\"More than 200 gallons/ More than 760 L\", \"5\", IF(CJ26=\"None\", \"0\", \"\")))","v":""},null,{"$f":"IF(CL26=\"Less than 200 gallons/ Less than760 L\", \"4\", IF(CL26=\"More than 200 gallons/ More than 760 L\", \"5\", IF(CL26=\"None\", \"0\", \"\")))","v":""},null,{"$f":"IF(CN26=\"Less than 200 gallons/ Less than760 L\", \"4\", IF(CN26=\"More than 200 gallons/ More than 760 L\", \"5\", IF(CN26=\"None\", \"0\", \"\")))","v":""},null,{"$f":"IF(CP26=\"Less than 200 gallons/ Less than760 L\", \"4\", IF(CP26=\"More than 200 gallons/ More than 760 L\", \"5\", IF(CP26=\"None\", \"0\", \"\")))","v":""},null,{"$f":"IF(CR26=\"Less than 200 gallons/ Less than760 L\", \"4\", IF(CR26=\"More than 200 gallons/ More than 760 L\", \"5\", IF(CR26=\"None\", \"0\", \"\")))","v":""},null,{"$f":"IF(CT26=\"Less than 200 gallons/ Less than760 L\", \"4\", IF(CT26=\"More than 200 gallons/ More than 760 L\", \"5\", IF(CT26=\"None\", \"0\", \"\")))","v":""},null,{"$f":"IF(CV26=\"Less than 200 gallons/ Less than760 L\", \"4\", IF(CV26=\"More than 200 gallons/ More than 760 L\", \"5\", IF(CV26=\"None\", \"0\", \"\")))","v":""},null,{"$f":"IF(CX26=\"Less than 200 gallons/ Less than760 L\", \"4\", IF(CX26=\"More than 200 gallons/ More than 760 L\", \"5\", IF(CX26=\"None\", \"0\", \"\")))","v":""},null,{"$f":"IF(CZ26=\"Less than 200 gallons/ Less than760 L\", \"4\", IF(CZ26=\"More than 200 gallons/ More than 760 L\", \"5\", IF(CZ26=\"None\", \"0\", \"\")))","v":""},null,{"$f":"IF(DB26=\"Less than 200 gallons/ Less than760 L\", \"4\", IF(DB26=\"More than 200 gallons/ More than 760 L\", \"5\", IF(DB26=\"None\", \"0\", \"\")))","v":""},null,{"$f":"IF(DD26=\"Less than 200 gallons/ Less than760 L\", \"4\", IF(DD26=\"More than 200 gallons/ More than 760 L\", \"5\", IF(DD26=\"None\", \"0\", \"\")))","v":""},null,{"$f":"IF(DF26=\"Less than 200 gallons/ Less than760 L\", \"4\", IF(DF26=\"More than 200 gallons/ More than 760 L\", \"5\", IF(DF26=\"None\", \"0\", \"\")))","v":""},null,{"$f":"IF(DH26=\"Less than 200 gallons/ Less than760 L\", \"4\", IF(DH26=\"More than 200 gallons/ More than 760 L\", \"5\", IF(DH26=\"None\", \"0\", \"\")))","v":""},null,{"$f":"IF(DJ26=\"Less than 200 gallons/ Less than760 L\", \"4\", IF(DJ26=\"More than 200 gallons/ More than 760 L\", \"5\", IF(DJ26=\"None\", \"0\", \"\")))","v":""},null,{"$f":"IF(DL26=\"Less than 200 gallons/ Less than760 L\", \"4\", IF(DL26=\"More than 200 gallons/ More than 760 L\", \"5\", IF(DL26=\"None\", \"0\", \"\")))","v":""},null,{"$f":"IF(DN26=\"Less than 200 gallons/ Less than760 L\", \"4\", IF(DN26=\"More than 200 gallons/ More than 760 L\", \"5\", IF(DN26=\"None\", \"0\", \"\")))","v":""},null,{"$f":"IF(DP26=\"Less than 200 gallons/ Less than760 L\", \"4\", IF(DP26=\"More than 200 gallons/ More than 760 L\", \"5\", IF(DP26=\"None\", \"0\", \"\")))","v":""},null,{"$f":"IF(DR26=\"Less than 200 gallons/ Less than760 L\", \"4\", IF(DR26=\"More than 200 gallons/ More than 760 L\", \"5\", IF(DR26=\"None\", \"0\", \"\")))","v":""},null,{"$f":"IF(DT26=\"Less than 200 gallons/ Less than760 L\", \"4\", IF(DT26=\"More than 200 gallons/ More than 760 L\", \"5\", IF(DT26=\"None\", \"0\", \"\")))","v":""},null,{"$f":"IF(DV26=\"Less than 200 gallons/ Less than760 L\", \"4\", IF(DV26=\"More than 200 gallons/ More than 760 L\", \"5\", IF(DV26=\"None\", \"0\", \"\")))","v":""},null,{"$f":"IF(DX26=\"Less than 200 gallons/ Less than760 L\", \"4\", IF(DX26=\"More than 200 gallons/ More than 760 L\", \"5\", IF(DX26=\"None\", \"0\", \"\")))","v":""},null,{"$f":"IF(DZ26=\"Less than 200 gallons/ Less than760 L\", \"4\", IF(DZ26=\"More than 200 gallons/ More than 760 L\", \"5\", IF(DZ26=\"None\", \"0\", \"\")))","v":""},null,{"$f":"IF(EB26=\"Less than 200 gallons/ Less than760 L\", \"4\", IF(EB26=\"More than 200 gallons/ More than 760 L\", \"5\", IF(EB26=\"None\", \"0\", \"\")))","v":""},null,{"$f":"IF(ED26=\"Less than 200 gallons/ Less than760 L\", \"4\", IF(ED26=\"More than 200 gallons/ More than 760 L\", \"5\", IF(ED26=\"None\", \"0\", \"\")))","v":""},null,{"$f":"IF(EF26=\"Less than 200 gallons/ Less than760 L\", \"4\", IF(EF26=\"More than 200 gallons/ More than 760 L\", \"5\", IF(EF26=\"None\", \"0\", \"\")))","v":""},null,{"$f":"IF(EH26=\"Less than 200 gallons/ Less than760 L\", \"4\", IF(EH26=\"More than 200 gallons/ More than 760 L\", \"5\", IF(EH26=\"None\", \"0\", \"\")))","v":""},null,{"$f":"IF(EJ26=\"Less than 200 gallons/ Less than760 L\", \"4\", IF(EJ26=\"More than 200 gallons/ More than 760 L\", \"5\", IF(EJ26=\"None\", \"0\", \"\")))","v":""},null,{"$f":"IF(EL26=\"Less than 200 gallons/ Less than760 L\", \"4\", IF(EL26=\"More than 200 gallons/ More than 760 L\", \"5\", IF(EL26=\"None\", \"0\", \"\")))","v":""},null,{"$f":"IF(EN26=\"Less than 200 gallons/ Less than760 L\", \"4\", IF(EN26=\"More than 200 gallons/ More than 760 L\", \"5\", IF(EN26=\"None\", \"0\", \"\")))","v":""},null,{"$f":"IF(EP26=\"Less than 200 gallons/ Less than760 L\", \"4\", IF(EP26=\"More than 200 gallons/ More than 760 L\", \"5\", IF(EP26=\"None\", \"0\", \"\")))","v":""},null,{"$f":"IF(ER26=\"Less than 200 gallons/ Less than760 L\", \"4\", IF(ER26=\"More than 200 gallons/ More than 760 L\", \"5\", IF(ER26=\"None\", \"0\", \"\")))","v":""},null,{"$f":"IF(ET26=\"Less than 200 gallons/ Less than760 L\", \"4\", IF(ET26=\"More than 200 gallons/ More than 760 L\", \"5\", IF(ET26=\"None\", \"0\", \"\")))","v":""},null,{"$f":"IF(EV26=\"Less than 200 gallons/ Less than760 L\", \"4\", IF(EV26=\"More than 200 gallons/ More than 760 L\", \"5\", IF(EV26=\"None\", \"0\", \"\")))","v":""},null,{"$f":"IF(EX26=\"Less than 200 gallons/ Less than760 L\", \"4\", IF(EX26=\"More than 200 gallons/ More than 760 L\", \"5\", IF(EX26=\"None\", \"0\", \"\")))","v":""},null,{"$f":"IF(EZ26=\"Less than 200 gallons/ Less than760 L\", \"4\", IF(EZ26=\"More than 200 gallons/ More than 760 L\", \"5\", IF(EZ26=\"None\", \"0\", \"\")))","v":""},null,{"$f":"IF(FB26=\"Less than 200 gallons/ Less than760 L\", \"4\", IF(FB26=\"More than 200 gallons/ More than 760 L\", \"5\", IF(FB26=\"None\", \"0\", \"\")))","v":""},null,{"$f":"IF(FD26=\"Less than 200 gallons/ Less than760 L\", \"4\", IF(FD26=\"More than 200 gallons/ More than 760 L\", \"5\", IF(FD26=\"None\", \"0\", \"\")))","v":""}]
[null,null," Describe the type and condition of the floor where maintenance activities are conducted.",null,{"$f":"IF(D27= \"Paved\", \"1\", IF(D27=\"Slightly cracked pavement\", \"2\", IF(D27=\"Moderately cracked pavement\", \"3\",IF(D27=\"Heavily cracked/broken pavement\", \"4\", IF(D27=\"Earthen\", \"5\", \"\")))))","v":""},null,{"$f":"IF(F27= \"Paved\", \"1\", IF(F27=\"Slightly cracked pavement\", \"2\", IF(F27=\"Moderately cracked pavement\", \"3\",IF(F27=\"Heavily cracked/broken pavement\", \"4\", IF(F27=\"Earthen\", \"5\", \"\")))))","v":""},null,{"$f":"IF(H27= \"Paved\", \"1\", IF(H27=\"Slightly cracked pavement\", \"2\", IF(H27=\"Moderately cracked pavement\", \"3\",IF(H27=\"Heavily cracked/broken pavement\", \"4\", IF(H27=\"Earthen\", \"5\", \"\")))))","v":""},null,{"$f":"IF(J27= \"Paved\", \"1\", IF(J27=\"Slightly cracked pavement\", \"2\", IF(J27=\"Moderately cracked pavement\", \"3\",IF(J27=\"Heavily cracked/broken pavement\", \"4\", IF(J27=\"Earthen\", \"5\", \"\")))))","v":""},null,{"$f":"IF(L27= \"Paved\", \"1\", IF(L27=\"Slightly cracked pavement\", \"2\", IF(L27=\"Moderately cracked pavement\", \"3\",IF(L27=\"Heavily cracked/broken pavement\", \"4\", IF(L27=\"Earthen\", \"5\", \"\")))))","v":""},null,{"$f":"IF(N27= \"Paved\", \"1\", IF(N27=\"Slightly cracked pavement\", \"2\", IF(N27=\"Moderately cracked pavement\", \"3\",IF(N27=\"Heavily cracked/broken pavement\", \"4\", IF(N27=\"Earthen\", \"5\", \"\")))))","v":""},null,{"$f":"IF(P27= \"Paved\", \"1\", IF(P27=\"Slightly cracked pavement\", \"2\", IF(P27=\"Moderately cracked pavement\", \"3\",IF(P27=\"Heavily cracked/broken pavement\", \"4\", IF(P27=\"Earthen\", \"5\", \"\")))))","v":""},null,{"$f":"IF(R27= \"Paved\", \"1\", IF(R27=\"Slightly cracked pavement\", \"2\", IF(R27=\"Moderately cracked pavement\", \"3\",IF(R27=\"Heavily cracked/broken pavement\", \"4\", IF(R27=\"Earthen\", \"5\", \"\")))))","v":""},null,{"$f":"IF(T27= \"Paved\", \"1\", IF(T27=\"Slightly cracked pavement\", \"2\", IF(T27=\"Moderately cracked pavement\", \"3\",IF(T27=\"Heavily cracked/broken pavement\", \"4\", IF(T27=\"Earthen\", \"5\", \"\")))))","v":""},null,{"$f":"IF(V27= \"Paved\", \"1\", IF(V27=\"Slightly cracked pavement\", \"2\", IF(V27=\"Moderately cracked pavement\", \"3\",IF(V27=\"Heavily cracked/broken pavement\", \"4\", IF(V27=\"Earthen\", \"5\", \"\")))))","v":""},null,{"$f":"IF(X27= \"Paved\", \"1\", IF(X27=\"Slightly cracked pavement\", \"2\", IF(X27=\"Moderately cracked pavement\", \"3\",IF(X27=\"Heavily cracked/broken pavement\", \"4\", IF(X27=\"Earthen\", \"5\", \"\")))))","v":""},null,{"$f":"IF(Z27= \"Paved\", \"1\", IF(Z27=\"Slightly cracked pavement\", \"2\", IF(Z27=\"Moderately cracked pavement\", \"3\",IF(Z27=\"Heavily cracked/broken pavement\", \"4\", IF(Z27=\"Earthen\", \"5\", \"\")))))","v":""},null,{"$f":"IF(AB27= \"Paved\", \"1\", IF(AB27=\"Slightly cracked pavement\", \"2\", IF(AB27=\"Moderately cracked pavement\", \"3\",IF(AB27=\"Heavily cracked/broken pavement\", \"4\", IF(AB27=\"Earthen\", \"5\", \"\")))))","v":""},null,{"$f":"IF(AD27= \"Paved\", \"1\", IF(AD27=\"Slightly cracked pavement\", \"2\", IF(AD27=\"Moderately cracked pavement\", \"3\",IF(AD27=\"Heavily cracked/broken pavement\", \"4\", IF(AD27=\"Earthen\", \"5\", \"\")))))","v":""},null,{"$f":"IF(AF27= \"Paved\", \"1\", IF(AF27=\"Slightly cracked pavement\", \"2\", IF(AF27=\"Moderately cracked pavement\", \"3\",IF(AF27=\"Heavily cracked/broken pavement\", \"4\", IF(AF27=\"Earthen\", \"5\", \"\")))))","v":""},null,{"$f":"IF(AH27= \"Paved\", \"1\", IF(AH27=\"Slightly cracked pavement\", \"2\", IF(AH27=\"Moderately cracked pavement\", \"3\",IF(AH27=\"Heavily cracked/broken pavement\", \"4\", IF(AH27=\"Earthen\", \"5\", \"\")))))","v":""},null,{"$f":"IF(AJ27= \"Paved\", \"1\", IF(AJ27=\"Slightly cracked pavement\", \"2\", IF(AJ27=\"Moderately cracked pavement\", \"3\",IF(AJ27=\"Heavily cracked/broken pavement\", \"4\", IF(AJ27=\"Earthen\", \"5\", \"\")))))","v":""},null,{"$f":"IF(AL27= \"Paved\", \"1\", IF(AL27=\"Slightly cracked pavement\", \"2\", IF(AL27=\"Moderately cracked pavement\", \"3\",IF(AL27=\"Heavily cracked/broken pavement\", \"4\", IF(AL27=\"Earthen\", \"5\", \"\")))))","v":""},null,{"$f":"IF(AN27= \"Paved\", \"1\", IF(AN27=\"Slightly cracked pavement\", \"2\", IF(AN27=\"Moderately cracked pavement\", \"3\",IF(AN27=\"Heavily cracked/broken pavement\", \"4\", IF(AN27=\"Earthen\", \"5\", \"\")))))","v":""},null,{"$f":"IF(AP27= \"Paved\", \"1\", IF(AP27=\"Slightly cracked pavement\", \"2\", IF(AP27=\"Moderately cracked pavement\", \"3\",IF(AP27=\"Heavily cracked/broken pavement\", \"4\", IF(AP27=\"Earthen\", \"5\", \"\")))))","v":""},null,{"$f":"IF(AR27= \"Paved\", \"1\", IF(AR27=\"Slightly cracked pavement\", \"2\", IF(AR27=\"Moderately cracked pavement\", \"3\",IF(AR27=\"Heavily cracked/broken pavement\", \"4\", IF(AR27=\"Earthen\", \"5\", \"\")))))","v":""},"Paved",{"$f":"IF(AT27= \"Paved\", \"1\", IF(AT27=\"Slightly cracked pavement\", \"2\", IF(AT27=\"Moderately cracked pavement\", \"3\",IF(AT27=\"Heavily cracked/broken pavement\", \"4\", IF(AT27=\"Earthen\", \"5\", \"\")))))","v":"1"},"Slightly cracked pavement",{"$f":"IF(AV27= \"Paved\", \"1\", IF(AV27=\"Slightly cracked pavement\", \"2\", IF(AV27=\"Moderately cracked pavement\", \"3\",IF(AV27=\"Heavily cracked/broken pavement\", \"4\", IF(AV27=\"Earthen\", \"5\", \"\")))))","v":"2"},null,{"$f":"IF(AX27= \"Paved\", \"1\", IF(AX27=\"Slightly cracked pavement\", \"2\", IF(AX27=\"Moderately cracked pavement\", \"3\",IF(AX27=\"Heavily cracked/broken pavement\", \"4\", IF(AX27=\"Earthen\", \"5\", \"\")))))","v":""},null,{"$f":"IF(AZ27= \"Paved\", \"1\", IF(AZ27=\"Slightly cracked pavement\", \"2\", IF(AZ27=\"Moderately cracked pavement\", \"3\",IF(AZ27=\"Heavily cracked/broken pavement\", \"4\", IF(AZ27=\"Earthen\", \"5\", \"\")))))","v":""},null,{"$f":"IF(BB27= \"Paved\", \"1\", IF(BB27=\"Slightly cracked pavement\", \"2\", IF(BB27=\"Moderately cracked pavement\", \"3\",IF(BB27=\"Heavily cracked/broken pavement\", \"4\", IF(BB27=\"Earthen\", \"5\", \"\")))))","v":""},null,{"$f":"IF(BD27= \"Paved\", \"1\", IF(BD27=\"Slightly cracked pavement\", \"2\", IF(BD27=\"Moderately cracked pavement\", \"3\",IF(BD27=\"Heavily cracked/broken pavement\", \"4\", IF(BD27=\"Earthen\", \"5\", \"\")))))","v":""},null,{"$f":"IF(BF27= \"Paved\", \"1\", IF(BF27=\"Slightly cracked pavement\", \"2\", IF(BF27=\"Moderately cracked pavement\", \"3\",IF(BF27=\"Heavily cracked/broken pavement\", \"4\", IF(BF27=\"Earthen\", \"5\", \"\")))))","v":""},null,{"$f":"IF(BH27= \"Paved\", \"1\", IF(BH27=\"Slightly cracked pavement\", \"2\", IF(BH27=\"Moderately cracked pavement\", \"3\",IF(BH27=\"Heavily cracked/broken pavement\", \"4\", IF(BH27=\"Earthen\", \"5\", \"\")))))","v":""},null,{"$f":"IF(BJ27= \"Paved\", \"1\", IF(BJ27=\"Slightly cracked pavement\", \"2\", IF(BJ27=\"Moderately cracked pavement\", \"3\",IF(BJ27=\"Heavily cracked/broken pavement\", \"4\", IF(BJ27=\"Earthen\", \"5\", \"\")))))","v":""},null,{"$f":"IF(BL27= \"Paved\", \"1\", IF(BL27=\"Slightly cracked pavement\", \"2\", IF(BL27=\"Moderately cracked pavement\", \"3\",IF(BL27=\"Heavily cracked/broken pavement\", \"4\", IF(BL27=\"Earthen\", \"5\", \"\")))))","v":""},null,{"$f":"IF(BN27= \"Paved\", \"1\", IF(BN27=\"Slightly cracked pavement\", \"2\", IF(BN27=\"Moderately cracked pavement\", \"3\",IF(BN27=\"Heavily cracked/broken pavement\", \"4\", IF(BN27=\"Earthen\", \"5\", \"\")))))","v":""},null,{"$f":"IF(BP27= \"Paved\", \"1\", IF(BP27=\"Slightly cracked pavement\", \"2\", IF(BP27=\"Moderately cracked pavement\", \"3\",IF(BP27=\"Heavily cracked/broken pavement\", \"4\", IF(BP27=\"Earthen\", \"5\", \"\")))))","v":""},null,{"$f":"IF(BR27= \"Paved\", \"1\", IF(BR27=\"Slightly cracked pavement\", \"2\", IF(BR27=\"Moderately cracked pavement\", \"3\",IF(BR27=\"Heavily cracked/broken pavement\", \"4\", IF(BR27=\"Earthen\", \"5\", \"\")))))","v":""},null,{"$f":"IF(BT27= \"Paved\", \"1\", IF(BT27=\"Slightly cracked pavement\", \"2\", IF(BT27=\"Moderately cracked pavement\", \"3\",IF(BT27=\"Heavily cracked/broken pavement\", \"4\", IF(BT27=\"Earthen\", \"5\", \"\")))))","v":""},null,{"$f":"IF(BV27= \"Paved\", \"1\", IF(BV27=\"Slightly cracked pavement\", \"2\", IF(BV27=\"Moderately cracked pavement\", \"3\",IF(BV27=\"Heavily cracked/broken pavement\", \"4\", IF(BV27=\"Earthen\", \"5\", \"\")))))","v":""},null,{"$f":"IF(BX27= \"Paved\", \"1\", IF(BX27=\"Slightly cracked pavement\", \"2\", IF(BX27=\"Moderately cracked pavement\", \"3\",IF(BX27=\"Heavily cracked/broken pavement\", \"4\", IF(BX27=\"Earthen\", \"5\", \"\")))))","v":""},null,{"$f":"IF(BZ27= \"Paved\", \"1\", IF(BZ27=\"Slightly cracked pavement\", \"2\", IF(BZ27=\"Moderately cracked pavement\", \"3\",IF(BZ27=\"Heavily cracked/broken pavement\", \"4\", IF(BZ27=\"Earthen\", \"5\", \"\")))))","v":""},null,{"$f":"IF(CB27= \"Paved\", \"1\", IF(CB27=\"Slightly cracked pavement\", \"2\", IF(CB27=\"Moderately cracked pavement\", \"3\",IF(CB27=\"Heavily cracked/broken pavement\", \"4\", IF(CB27=\"Earthen\", \"5\", \"\")))))","v":""},null,{"$f":"IF(CD27= \"Paved\", \"1\", IF(CD27=\"Slightly cracked pavement\", \"2\", IF(CD27=\"Moderately cracked pavement\", \"3\",IF(CD27=\"Heavily cracked/broken pavement\", \"4\", IF(CD27=\"Earthen\", \"5\", \"\")))))","v":""},null,{"$f":"IF(CF27= \"Paved\", \"1\", IF(CF27=\"Slightly cracked pavement\", \"2\", IF(CF27=\"Moderately cracked pavement\", \"3\",IF(CF27=\"Heavily cracked/broken pavement\", \"4\", IF(CF27=\"Earthen\", \"5\", \"\")))))","v":""},null,{"$f":"IF(CH27= \"Paved\", \"1\", IF(CH27=\"Slightly cracked pavement\", \"2\", IF(CH27=\"Moderately cracked pavement\", \"3\",IF(CH27=\"Heavily cracked/broken pavement\", \"4\", IF(CH27=\"Earthen\", \"5\", \"\")))))","v":""},null,{"$f":"IF(CJ27= \"Paved\", \"1\", IF(CJ27=\"Slightly cracked pavement\", \"2\", IF(CJ27=\"Moderately cracked pavement\", \"3\",IF(CJ27=\"Heavily cracked/broken pavement\", \"4\", IF(CJ27=\"Earthen\", \"5\", \"\")))))","v":""},null,{"$f":"IF(CL27= \"Paved\", \"1\", IF(CL27=\"Slightly cracked pavement\", \"2\", IF(CL27=\"Moderately cracked pavement\", \"3\",IF(CL27=\"Heavily cracked/broken pavement\", \"4\", IF(CL27=\"Earthen\", \"5\", \"\")))))","v":""},null,{"$f":"IF(CN27= \"Paved\", \"1\", IF(CN27=\"Slightly cracked pavement\", \"2\", IF(CN27=\"Moderately cracked pavement\", \"3\",IF(CN27=\"Heavily cracked/broken pavement\", \"4\", IF(CN27=\"Earthen\", \"5\", \"\")))))","v":""},null,{"$f":"IF(CP27= \"Paved\", \"1\", IF(CP27=\"Slightly cracked pavement\", \"2\", IF(CP27=\"Moderately cracked pavement\", \"3\",IF(CP27=\"Heavily cracked/broken pavement\", \"4\", IF(CP27=\"Earthen\", \"5\", \"\")))))","v":""},null,{"$f":"IF(CR27= \"Paved\", \"1\", IF(CR27=\"Slightly cracked pavement\", \"2\", IF(CR27=\"Moderately cracked pavement\", \"3\",IF(CR27=\"Heavily cracked/broken pavement\", \"4\", IF(CR27=\"Earthen\", \"5\", \"\")))))","v":""},null,{"$f":"IF(CT27= \"Paved\", \"1\", IF(CT27=\"Slightly cracked pavement\", \"2\", IF(CT27=\"Moderately cracked pavement\", \"3\",IF(CT27=\"Heavily cracked/broken pavement\", \"4\", IF(CT27=\"Earthen\", \"5\", \"\")))))","v":""},null,{"$f":"IF(CV27= \"Paved\", \"1\", IF(CV27=\"Slightly cracked pavement\", \"2\", IF(CV27=\"Moderately cracked pavement\", \"3\",IF(CV27=\"Heavily cracked/broken pavement\", \"4\", IF(CV27=\"Earthen\", \"5\", \"\")))))","v":""},null,{"$f":"IF(CX27= \"Paved\", \"1\", IF(CX27=\"Slightly cracked pavement\", \"2\", IF(CX27=\"Moderately cracked pavement\", \"3\",IF(CX27=\"Heavily cracked/broken pavement\", \"4\", IF(CX27=\"Earthen\", \"5\", \"\")))))","v":""},null,{"$f":"IF(CZ27= \"Paved\", \"1\", IF(CZ27=\"Slightly cracked pavement\", \"2\", IF(CZ27=\"Moderately cracked pavement\", \"3\",IF(CZ27=\"Heavily cracked/broken pavement\", \"4\", IF(CZ27=\"Earthen\", \"5\", \"\")))))","v":""},null,{"$f":"IF(DB27= \"Paved\", \"1\", IF(DB27=\"Slightly cracked pavement\", \"2\", IF(DB27=\"Moderately cracked pavement\", \"3\",IF(DB27=\"Heavily cracked/broken pavement\", \"4\", IF(DB27=\"Earthen\", \"5\", \"\")))))","v":""},null,{"$f":"IF(DD27= \"Paved\", \"1\", IF(DD27=\"Slightly cracked pavement\", \"2\", IF(DD27=\"Moderately cracked pavement\", \"3\",IF(DD27=\"Heavily cracked/broken pavement\", \"4\", IF(DD27=\"Earthen\", \"5\", \"\")))))","v":""},null,{"$f":"IF(DF27= \"Paved\", \"1\", IF(DF27=\"Slightly cracked pavement\", \"2\", IF(DF27=\"Moderately cracked pavement\", \"3\",IF(DF27=\"Heavily cracked/broken pavement\", \"4\", IF(DF27=\"Earthen\", \"5\", \"\")))))","v":""},null,{"$f":"IF(DH27= \"Paved\", \"1\", IF(DH27=\"Slightly cracked pavement\", \"2\", IF(DH27=\"Moderately cracked pavement\", \"3\",IF(DH27=\"Heavily cracked/broken pavement\", \"4\", IF(DH27=\"Earthen\", \"5\", \"\")))))","v":""},null,{"$f":"IF(DJ27= \"Paved\", \"1\", IF(DJ27=\"Slightly cracked pavement\", \"2\", IF(DJ27=\"Moderately cracked pavement\", \"3\",IF(DJ27=\"Heavily cracked/broken pavement\", \"4\", IF(DJ27=\"Earthen\", \"5\", \"\")))))","v":""},null,{"$f":"IF(DL27= \"Paved\", \"1\", IF(DL27=\"Slightly cracked pavement\", \"2\", IF(DL27=\"Moderately cracked pavement\", \"3\",IF(DL27=\"Heavily cracked/broken pavement\", \"4\", IF(DL27=\"Earthen\", \"5\", \"\")))))","v":""},null,{"$f":"IF(DN27= \"Paved\", \"1\", IF(DN27=\"Slightly cracked pavement\", \"2\", IF(DN27=\"Moderately cracked pavement\", \"3\",IF(DN27=\"Heavily cracked/broken pavement\", \"4\", IF(DN27=\"Earthen\", \"5\", \"\")))))","v":""},null,{"$f":"IF(DP27= \"Paved\", \"1\", IF(DP27=\"Slightly cracked pavement\", \"2\", IF(DP27=\"Moderately cracked pavement\", \"3\",IF(DP27=\"Heavily cracked/broken pavement\", \"4\", IF(DP27=\"Earthen\", \"5\", \"\")))))","v":""},null,{"$f":"IF(DR27= \"Paved\", \"1\", IF(DR27=\"Slightly cracked pavement\", \"2\", IF(DR27=\"Moderately cracked pavement\", \"3\",IF(DR27=\"Heavily cracked/broken pavement\", \"4\", IF(DR27=\"Earthen\", \"5\", \"\")))))","v":""},null,{"$f":"IF(DT27= \"Paved\", \"1\", IF(DT27=\"Slightly cracked pavement\", \"2\", IF(DT27=\"Moderately cracked pavement\", \"3\",IF(DT27=\"Heavily cracked/broken pavement\", \"4\", IF(DT27=\"Earthen\", \"5\", \"\")))))","v":""},null,{"$f":"IF(DV27= \"Paved\", \"1\", IF(DV27=\"Slightly cracked pavement\", \"2\", IF(DV27=\"Moderately cracked pavement\", \"3\",IF(DV27=\"Heavily cracked/broken pavement\", \"4\", IF(DV27=\"Earthen\", \"5\", \"\")))))","v":""},null,{"$f":"IF(DX27= \"Paved\", \"1\", IF(DX27=\"Slightly cracked pavement\", \"2\", IF(DX27=\"Moderately cracked pavement\", \"3\",IF(DX27=\"Heavily cracked/broken pavement\", \"4\", IF(DX27=\"Earthen\", \"5\", \"\")))))","v":""},null,{"$f":"IF(DZ27= \"Paved\", \"1\", IF(DZ27=\"Slightly cracked pavement\", \"2\", IF(DZ27=\"Moderately cracked pavement\", \"3\",IF(DZ27=\"Heavily cracked/broken pavement\", \"4\", IF(DZ27=\"Earthen\", \"5\", \"\")))))","v":""},null,{"$f":"IF(EB27= \"Paved\", \"1\", IF(EB27=\"Slightly cracked pavement\", \"2\", IF(EB27=\"Moderately cracked pavement\", \"3\",IF(EB27=\"Heavily cracked/broken pavement\", \"4\", IF(EB27=\"Earthen\", \"5\", \"\")))))","v":""},null,{"$f":"IF(ED27= \"Paved\", \"1\", IF(ED27=\"Slightly cracked pavement\", \"2\", IF(ED27=\"Moderately cracked pavement\", \"3\",IF(ED27=\"Heavily cracked/broken pavement\", \"4\", IF(ED27=\"Earthen\", \"5\", \"\")))))","v":""},null,{"$f":"IF(EF27= \"Paved\", \"1\", IF(EF27=\"Slightly cracked pavement\", \"2\", IF(EF27=\"Moderately cracked pavement\", \"3\",IF(EF27=\"Heavily cracked/broken pavement\", \"4\", IF(EF27=\"Earthen\", \"5\", \"\")))))","v":""},null,{"$f":"IF(EH27= \"Paved\", \"1\", IF(EH27=\"Slightly cracked pavement\", \"2\", IF(EH27=\"Moderately cracked pavement\", \"3\",IF(EH27=\"Heavily cracked/broken pavement\", \"4\", IF(EH27=\"Earthen\", \"5\", \"\")))))","v":""},null,{"$f":"IF(EJ27= \"Paved\", \"1\", IF(EJ27=\"Slightly cracked pavement\", \"2\", IF(EJ27=\"Moderately cracked pavement\", \"3\",IF(EJ27=\"Heavily cracked/broken pavement\", \"4\", IF(EJ27=\"Earthen\", \"5\", \"\")))))","v":""},null,{"$f":"IF(EL27= \"Paved\", \"1\", IF(EL27=\"Slightly cracked pavement\", \"2\", IF(EL27=\"Moderately cracked pavement\", \"3\",IF(EL27=\"Heavily cracked/broken pavement\", \"4\", IF(EL27=\"Earthen\", \"5\", \"\")))))","v":""},null,{"$f":"IF(EN27= \"Paved\", \"1\", IF(EN27=\"Slightly cracked pavement\", \"2\", IF(EN27=\"Moderately cracked pavement\", \"3\",IF(EN27=\"Heavily cracked/broken pavement\", \"4\", IF(EN27=\"Earthen\", \"5\", \"\")))))","v":""},null,{"$f":"IF(EP27= \"Paved\", \"1\", IF(EP27=\"Slightly cracked pavement\", \"2\", IF(EP27=\"Moderately cracked pavement\", \"3\",IF(EP27=\"Heavily cracked/broken pavement\", \"4\", IF(EP27=\"Earthen\", \"5\", \"\")))))","v":""},null,{"$f":"IF(ER27= \"Paved\", \"1\", IF(ER27=\"Slightly cracked pavement\", \"2\", IF(ER27=\"Moderately cracked pavement\", \"3\",IF(ER27=\"Heavily cracked/broken pavement\", \"4\", IF(ER27=\"Earthen\", \"5\", \"\")))))","v":""},null,{"$f":"IF(ET27= \"Paved\", \"1\", IF(ET27=\"Slightly cracked pavement\", \"2\", IF(ET27=\"Moderately cracked pavement\", \"3\",IF(ET27=\"Heavily cracked/broken pavement\", \"4\", IF(ET27=\"Earthen\", \"5\", \"\")))))","v":""},null,{"$f":"IF(EV27= \"Paved\", \"1\", IF(EV27=\"Slightly cracked pavement\", \"2\", IF(EV27=\"Moderately cracked pavement\", \"3\",IF(EV27=\"Heavily cracked/broken pavement\", \"4\", IF(EV27=\"Earthen\", \"5\", \"\")))))","v":""},null,{"$f":"IF(EX27= \"Paved\", \"1\", IF(EX27=\"Slightly cracked pavement\", \"2\", IF(EX27=\"Moderately cracked pavement\", \"3\",IF(EX27=\"Heavily cracked/broken pavement\", \"4\", IF(EX27=\"Earthen\", \"5\", \"\")))))","v":""},null,{"$f":"IF(EZ27= \"Paved\", \"1\", IF(EZ27=\"Slightly cracked pavement\", \"2\", IF(EZ27=\"Moderately cracked pavement\", \"3\",IF(EZ27=\"Heavily cracked/broken pavement\", \"4\", IF(EZ27=\"Earthen\", \"5\", \"\")))))","v":""},null,{"$f":"IF(FB27= \"Paved\", \"1\", IF(FB27=\"Slightly cracked pavement\", \"2\", IF(FB27=\"Moderately cracked pavement\", \"3\",IF(FB27=\"Heavily cracked/broken pavement\", \"4\", IF(FB27=\"Earthen\", \"5\", \"\")))))","v":""},null,{"$f":"IF(FD27= \"Paved\", \"1\", IF(FD27=\"Slightly cracked pavement\", \"2\", IF(FD27=\"Moderately cracked pavement\", \"3\",IF(FD27=\"Heavily cracked/broken pavement\", \"4\", IF(FD27=\"Earthen\", \"5\", \"\")))))","v":""}]
[null,null,"What is the ultimate receiver of the waste produced from AFFF equipment maintenance activities?",null,{"$f":"IF(D28=\"Manufacturer\", \"0\", IF(D28=\"Sent off-site for disposal\", \"1\", IF(D28=\"Down the drain\", \"5\", IF(D28=\"Evaporated off of pavement\", \"5\", IF(D28=\"Soaked into the ground\", \"8\", IF(D28=\"Washed/runoff into surface water body\", \"10\", \"\"))))))","v":""},null,{"$f":"IF(F28=\"Manufacturer\", \"0\", IF(F28=\"Sent off-site for disposal\", \"1\", IF(F28=\"Down the drain\", \"5\", IF(F28=\"Evaporated off of pavement\", \"5\", IF(F28=\"Soaked into the ground\", \"8\", IF(F28=\"Washed/runoff into surface water body\", \"10\", \"\"))))))","v":""},null,{"$f":"IF(H28=\"Manufacturer\", \"0\", IF(H28=\"Sent off-site for disposal\", \"1\", IF(H28=\"Down the drain\", \"5\", IF(H28=\"Evaporated off of pavement\", \"5\", IF(H28=\"Soaked into the ground\", \"8\", IF(H28=\"Washed/runoff into surface water body\", \"10\", \"\"))))))","v":""},null,{"$f":"IF(J28=\"Manufacturer\", \"0\", IF(J28=\"Sent off-site for disposal\", \"1\", IF(J28=\"Down the drain\", \"5\", IF(J28=\"Evaporated off of pavement\", \"5\", IF(J28=\"Soaked into the ground\", \"8\", IF(J28=\"Washed/runoff into surface water body\", \"10\", \"\"))))))","v":""},null,{"$f":"IF(L28=\"Manufacturer\", \"0\", IF(L28=\"Sent off-site for disposal\", \"1\", IF(L28=\"Down the drain\", \"5\", IF(L28=\"Evaporated off of pavement\", \"5\", IF(L28=\"Soaked into the ground\", \"8\", IF(L28=\"Washed/runoff into surface water body\", \"10\", \"\"))))))","v":""},null,{"$f":"IF(N28=\"Manufacturer\", \"0\", IF(N28=\"Sent off-site for disposal\", \"1\", IF(N28=\"Down the drain\", \"5\", IF(N28=\"Evaporated off of pavement\", \"5\", IF(N28=\"Soaked into the ground\", \"8\", IF(N28=\"Washed/runoff into surface water body\", \"10\", \"\"))))))","v":""},null,{"$f":"IF(P28=\"Manufacturer\", \"0\", IF(P28=\"Sent off-site for disposal\", \"1\", IF(P28=\"Down the drain\", \"5\", IF(P28=\"Evaporated off of pavement\", \"5\", IF(P28=\"Soaked into the ground\", \"8\", IF(P28=\"Washed/runoff into surface water body\", \"10\", \"\"))))))","v":""},null,{"$f":"IF(R28=\"Manufacturer\", \"0\", IF(R28=\"Sent off-site for disposal\", \"1\", IF(R28=\"Down the drain\", \"5\", IF(R28=\"Evaporated off of pavement\", \"5\", IF(R28=\"Soaked into the ground\", \"8\", IF(R28=\"Washed/runoff into surface water body\", \"10\", \"\"))))))","v":""},null,{"$f":"IF(T28=\"Manufacturer\", \"0\", IF(T28=\"Sent off-site for disposal\", \"1\", IF(T28=\"Down the drain\", \"5\", IF(T28=\"Evaporated off of pavement\", \"5\", IF(T28=\"Soaked into the ground\", \"8\", IF(T28=\"Washed/runoff into surface water body\", \"10\", \"\"))))))","v":""},null,{"$f":"IF(V28=\"Manufacturer\", \"0\", IF(V28=\"Sent off-site for disposal\", \"1\", IF(V28=\"Down the drain\", \"5\", IF(V28=\"Evaporated off of pavement\", \"5\", IF(V28=\"Soaked into the ground\", \"8\", IF(V28=\"Washed/runoff into surface water body\", \"10\", \"\"))))))","v":""},null,{"$f":"IF(X28=\"Manufacturer\", \"0\", IF(X28=\"Sent off-site for disposal\", \"1\", IF(X28=\"Down the drain\", \"5\", IF(X28=\"Evaporated off of pavement\", \"5\", IF(X28=\"Soaked into the ground\", \"8\", IF(X28=\"Washed/runoff into surface water body\", \"10\", \"\"))))))","v":""},null,{"$f":"IF(Z28=\"Manufacturer\", \"0\", IF(Z28=\"Sent off-site for disposal\", \"1\", IF(Z28=\"Down the drain\", \"5\", IF(Z28=\"Evaporated off of pavement\", \"5\", IF(Z28=\"Soaked into the ground\", \"8\", IF(Z28=\"Washed/runoff into surface water body\", \"10\", \"\"))))))","v":""},null,{"$f":"IF(AB28=\"Manufacturer\", \"0\", IF(AB28=\"Sent off-site for disposal\", \"1\", IF(AB28=\"Down the drain\", \"5\", IF(AB28=\"Evaporated off of pavement\", \"5\", IF(AB28=\"Soaked into the ground\", \"8\", IF(AB28=\"Washed/runoff into surface water body\", \"10\", \"\"))))))","v":""},null,{"$f":"IF(AD28=\"Manufacturer\", \"0\", IF(AD28=\"Sent off-site for disposal\", \"1\", IF(AD28=\"Down the drain\", \"5\", IF(AD28=\"Evaporated off of pavement\", \"5\", IF(AD28=\"Soaked into the ground\", \"8\", IF(AD28=\"Washed/runoff into surface water body\", \"10\", \"\"))))))","v":""},null,{"$f":"IF(AF28=\"Manufacturer\", \"0\", IF(AF28=\"Sent off-site for disposal\", \"1\", IF(AF28=\"Down the drain\", \"5\", IF(AF28=\"Evaporated off of pavement\", \"5\", IF(AF28=\"Soaked into the ground\", \"8\", IF(AF28=\"Washed/runoff into surface water body\", \"10\", \"\"))))))","v":""},null,{"$f":"IF(AH28=\"Manufacturer\", \"0\", IF(AH28=\"Sent off-site for disposal\", \"1\", IF(AH28=\"Down the drain\", \"5\", IF(AH28=\"Evaporated off of pavement\", \"5\", IF(AH28=\"Soaked into the ground\", \"8\", IF(AH28=\"Washed/runoff into surface water body\", \"10\", \"\"))))))","v":""},null,{"$f":"IF(AJ28=\"Manufacturer\", \"0\", IF(AJ28=\"Sent off-site for disposal\", \"1\", IF(AJ28=\"Down the drain\", \"5\", IF(AJ28=\"Evaporated off of pavement\", \"5\", IF(AJ28=\"Soaked into the ground\", \"8\", IF(AJ28=\"Washed/runoff into surface water body\", \"10\", \"\"))))))","v":""},null,{"$f":"IF(AL28=\"Manufacturer\", \"0\", IF(AL28=\"Sent off-site for disposal\", \"1\", IF(AL28=\"Down the drain\", \"5\", IF(AL28=\"Evaporated off of pavement\", \"5\", IF(AL28=\"Soaked into the ground\", \"8\", IF(AL28=\"Washed/runoff into surface water body\", \"10\", \"\"))))))","v":""},null,{"$f":"IF(AN28=\"Manufacturer\", \"0\", IF(AN28=\"Sent off-site for disposal\", \"1\", IF(AN28=\"Down the drain\", \"5\", IF(AN28=\"Evaporated off of pavement\", \"5\", IF(AN28=\"Soaked into the ground\", \"8\", IF(AN28=\"Washed/runoff into surface water body\", \"10\", \"\"))))))","v":""},null,{"$f":"IF(AP28=\"Manufacturer\", \"0\", IF(AP28=\"Sent off-site for disposal\", \"1\", IF(AP28=\"Down the drain\", \"5\", IF(AP28=\"Evaporated off of pavement\", \"5\", IF(AP28=\"Soaked into the ground\", \"8\", IF(AP28=\"Washed/runoff into surface water body\", \"10\", \"\"))))))","v":""},null,{"$f":"IF(AR28=\"Manufacturer\", \"0\", IF(AR28=\"Sent off-site for disposal\", \"1\", IF(AR28=\"Down the drain\", \"5\", IF(AR28=\"Evaporated off of pavement\", \"5\", IF(AR28=\"Soaked into the ground\", \"8\", IF(AR28=\"Washed/runoff into surface water body\", \"10\", \"\"))))))","v":""},"Evaporated off of pavement",{"$f":"IF(AT28=\"Manufacturer\", \"0\", IF(AT28=\"Sent off-site for disposal\", \"1\", IF(AT28=\"Down the drain\", \"5\", IF(AT28=\"Evaporated off of pavement\", \"5\", IF(AT28=\"Soaked into the ground\", \"8\", IF(AT28=\"Washed/runoff into surface water body\", \"10\", \"\"))))))","v":"5"},"Sent off-site for disposal",{"$f":"IF(AV28=\"Manufacturer\", \"0\", IF(AV28=\"Sent off-site for disposal\", \"1\", IF(AV28=\"Down the drain\", \"5\", IF(AV28=\"Evaporated off of pavement\", \"5\", IF(AV28=\"Soaked into the ground\", \"8\", IF(AV28=\"Washed/runoff into surface water body\", \"10\", \"\"))))))","v":"1"},null,{"$f":"IF(AX28=\"Manufacturer\", \"0\", IF(AX28=\"Sent off-site for disposal\", \"1\", IF(AX28=\"Down the drain\", \"5\", IF(AX28=\"Evaporated off of pavement\", \"5\", IF(AX28=\"Soaked into the ground\", \"8\", IF(AX28=\"Washed/runoff into surface water body\", \"10\", \"\"))))))","v":""},null,{"$f":"IF(AZ28=\"Manufacturer\", \"0\", IF(AZ28=\"Sent off-site for disposal\", \"1\", IF(AZ28=\"Down the drain\", \"5\", IF(AZ28=\"Evaporated off of pavement\", \"5\", IF(AZ28=\"Soaked into the ground\", \"8\", IF(AZ28=\"Washed/runoff into surface water body\", \"10\", \"\"))))))","v":""},null,{"$f":"IF(BB28=\"Manufacturer\", \"0\", IF(BB28=\"Sent off-site for disposal\", \"1\", IF(BB28=\"Down the drain\", \"5\", IF(BB28=\"Evaporated off of pavement\", \"5\", IF(BB28=\"Soaked into the ground\", \"8\", IF(BB28=\"Washed/runoff into surface water body\", \"10\", \"\"))))))","v":""},null,{"$f":"IF(BD28=\"Manufacturer\", \"0\", IF(BD28=\"Sent off-site for disposal\", \"1\", IF(BD28=\"Down the drain\", \"5\", IF(BD28=\"Evaporated off of pavement\", \"5\", IF(BD28=\"Soaked into the ground\", \"8\", IF(BD28=\"Washed/runoff into surface water body\", \"10\", \"\"))))))","v":""},null,{"$f":"IF(BF28=\"Manufacturer\", \"0\", IF(BF28=\"Sent off-site for disposal\", \"1\", IF(BF28=\"Down the drain\", \"5\", IF(BF28=\"Evaporated off of pavement\", \"5\", IF(BF28=\"Soaked into the ground\", \"8\", IF(BF28=\"Washed/runoff into surface water body\", \"10\", \"\"))))))","v":""},null,{"$f":"IF(BH28=\"Manufacturer\", \"0\", IF(BH28=\"Sent off-site for disposal\", \"1\", IF(BH28=\"Down the drain\", \"5\", IF(BH28=\"Evaporated off of pavement\", \"5\", IF(BH28=\"Soaked into the ground\", \"8\", IF(BH28=\"Washed/runoff into surface water body\", \"10\", \"\"))))))","v":""},null,{"$f":"IF(BJ28=\"Manufacturer\", \"0\", IF(BJ28=\"Sent off-site for disposal\", \"1\", IF(BJ28=\"Down the drain\", \"5\", IF(BJ28=\"Evaporated off of pavement\", \"5\", IF(BJ28=\"Soaked into the ground\", \"8\", IF(BJ28=\"Washed/runoff into surface water body\", \"10\", \"\"))))))","v":""},null,{"$f":"IF(BL28=\"Manufacturer\", \"0\", IF(BL28=\"Sent off-site for disposal\", \"1\", IF(BL28=\"Down the drain\", \"5\", IF(BL28=\"Evaporated off of pavement\", \"5\", IF(BL28=\"Soaked into the ground\", \"8\", IF(BL28=\"Washed/runoff into surface water body\", \"10\", \"\"))))))","v":""},null,{"$f":"IF(BN28=\"Manufacturer\", \"0\", IF(BN28=\"Sent off-site for disposal\", \"1\", IF(BN28=\"Down the drain\", \"5\", IF(BN28=\"Evaporated off of pavement\", \"5\", IF(BN28=\"Soaked into the ground\", \"8\", IF(BN28=\"Washed/runoff into surface water body\", \"10\", \"\"))))))","v":""},null,{"$f":"IF(BP28=\"Manufacturer\", \"0\", IF(BP28=\"Sent off-site for disposal\", \"1\", IF(BP28=\"Down the drain\", \"5\", IF(BP28=\"Evaporated off of pavement\", \"5\", IF(BP28=\"Soaked into the ground\", \"8\", IF(BP28=\"Washed/runoff into surface water body\", \"10\", \"\"))))))","v":""},null,{"$f":"IF(BR28=\"Manufacturer\", \"0\", IF(BR28=\"Sent off-site for disposal\", \"1\", IF(BR28=\"Down the drain\", \"5\", IF(BR28=\"Evaporated off of pavement\", \"5\", IF(BR28=\"Soaked into the ground\", \"8\", IF(BR28=\"Washed/runoff into surface water body\", \"10\", \"\"))))))","v":""},null,{"$f":"IF(BT28=\"Manufacturer\", \"0\", IF(BT28=\"Sent off-site for disposal\", \"1\", IF(BT28=\"Down the drain\", \"5\", IF(BT28=\"Evaporated off of pavement\", \"5\", IF(BT28=\"Soaked into the ground\", \"8\", IF(BT28=\"Washed/runoff into surface water body\", \"10\", \"\"))))))","v":""},null,{"$f":"IF(BV28=\"Manufacturer\", \"0\", IF(BV28=\"Sent off-site for disposal\", \"1\", IF(BV28=\"Down the drain\", \"5\", IF(BV28=\"Evaporated off of pavement\", \"5\", IF(BV28=\"Soaked into the ground\", \"8\", IF(BV28=\"Washed/runoff into surface water body\", \"10\", \"\"))))))","v":""},null,{"$f":"IF(BX28=\"Manufacturer\", \"0\", IF(BX28=\"Sent off-site for disposal\", \"1\", IF(BX28=\"Down the drain\", \"5\", IF(BX28=\"Evaporated off of pavement\", \"5\", IF(BX28=\"Soaked into the ground\", \"8\", IF(BX28=\"Washed/runoff into surface water body\", \"10\", \"\"))))))","v":""},null,{"$f":"IF(BZ28=\"Manufacturer\", \"0\", IF(BZ28=\"Sent off-site for disposal\", \"1\", IF(BZ28=\"Down the drain\", \"5\", IF(BZ28=\"Evaporated off of pavement\", \"5\", IF(BZ28=\"Soaked into the ground\", \"8\", IF(BZ28=\"Washed/runoff into surface water body\", \"10\", \"\"))))))","v":""},null,{"$f":"IF(CB28=\"Manufacturer\", \"0\", IF(CB28=\"Sent off-site for disposal\", \"1\", IF(CB28=\"Down the drain\", \"5\", IF(CB28=\"Evaporated off of pavement\", \"5\", IF(CB28=\"Soaked into the ground\", \"8\", IF(CB28=\"Washed/runoff into surface water body\", \"10\", \"\"))))))","v":""},null,{"$f":"IF(CD28=\"Manufacturer\", \"0\", IF(CD28=\"Sent off-site for disposal\", \"1\", IF(CD28=\"Down the drain\", \"5\", IF(CD28=\"Evaporated off of pavement\", \"5\", IF(CD28=\"Soaked into the ground\", \"8\", IF(CD28=\"Washed/runoff into surface water body\", \"10\", \"\"))))))","v":""},null,{"$f":"IF(CF28=\"Manufacturer\", \"0\", IF(CF28=\"Sent off-site for disposal\", \"1\", IF(CF28=\"Down the drain\", \"5\", IF(CF28=\"Evaporated off of pavement\", \"5\", IF(CF28=\"Soaked into the ground\", \"8\", IF(CF28=\"Washed/runoff into surface water body\", \"10\", \"\"))))))","v":""},null,{"$f":"IF(CH28=\"Manufacturer\", \"0\", IF(CH28=\"Sent off-site for disposal\", \"1\", IF(CH28=\"Down the drain\", \"5\", IF(CH28=\"Evaporated off of pavement\", \"5\", IF(CH28=\"Soaked into the ground\", \"8\", IF(CH28=\"Washed/runoff into surface water body\", \"10\", \"\"))))))","v":""},null,{"$f":"IF(CJ28=\"Manufacturer\", \"0\", IF(CJ28=\"Sent off-site for disposal\", \"1\", IF(CJ28=\"Down the drain\", \"5\", IF(CJ28=\"Evaporated off of pavement\", \"5\", IF(CJ28=\"Soaked into the ground\", \"8\", IF(CJ28=\"Washed/runoff into surface water body\", \"10\", \"\"))))))","v":""},null,{"$f":"IF(CL28=\"Manufacturer\", \"0\", IF(CL28=\"Sent off-site for disposal\", \"1\", IF(CL28=\"Down the drain\", \"5\", IF(CL28=\"Evaporated off of pavement\", \"5\", IF(CL28=\"Soaked into the ground\", \"8\", IF(CL28=\"Washed/runoff into surface water body\", \"10\", \"\"))))))","v":""},null,{"$f":"IF(CN28=\"Manufacturer\", \"0\", IF(CN28=\"Sent off-site for disposal\", \"1\", IF(CN28=\"Down the drain\", \"5\", IF(CN28=\"Evaporated off of pavement\", \"5\", IF(CN28=\"Soaked into the ground\", \"8\", IF(CN28=\"Washed/runoff into surface water body\", \"10\", \"\"))))))","v":""},null,{"$f":"IF(CP28=\"Manufacturer\", \"0\", IF(CP28=\"Sent off-site for disposal\", \"1\", IF(CP28=\"Down the drain\", \"5\", IF(CP28=\"Evaporated off of pavement\", \"5\", IF(CP28=\"Soaked into the ground\", \"8\", IF(CP28=\"Washed/runoff into surface water body\", \"10\", \"\"))))))","v":""},null,{"$f":"IF(CR28=\"Manufacturer\", \"0\", IF(CR28=\"Sent off-site for disposal\", \"1\", IF(CR28=\"Down the drain\", \"5\", IF(CR28=\"Evaporated off of pavement\", \"5\", IF(CR28=\"Soaked into the ground\", \"8\", IF(CR28=\"Washed/runoff into surface water body\", \"10\", \"\"))))))","v":""},null,{"$f":"IF(CT28=\"Manufacturer\", \"0\", IF(CT28=\"Sent off-site for disposal\", \"1\", IF(CT28=\"Down the drain\", \"5\", IF(CT28=\"Evaporated off of pavement\", \"5\", IF(CT28=\"Soaked into the ground\", \"8\", IF(CT28=\"Washed/runoff into surface water body\", \"10\", \"\"))))))","v":""},null,{"$f":"IF(CV28=\"Manufacturer\", \"0\", IF(CV28=\"Sent off-site for disposal\", \"1\", IF(CV28=\"Down the drain\", \"5\", IF(CV28=\"Evaporated off of pavement\", \"5\", IF(CV28=\"Soaked into the ground\", \"8\", IF(CV28=\"Washed/runoff into surface water body\", \"10\", \"\"))))))","v":""},null,{"$f":"IF(CX28=\"Manufacturer\", \"0\", IF(CX28=\"Sent off-site for disposal\", \"1\", IF(CX28=\"Down the drain\", \"5\", IF(CX28=\"Evaporated off of pavement\", \"5\", IF(CX28=\"Soaked into the ground\", \"8\", IF(CX28=\"Washed/runoff into surface water body\", \"10\", \"\"))))))","v":""},null,{"$f":"IF(CZ28=\"Manufacturer\", \"0\", IF(CZ28=\"Sent off-site for disposal\", \"1\", IF(CZ28=\"Down the drain\", \"5\", IF(CZ28=\"Evaporated off of pavement\", \"5\", IF(CZ28=\"Soaked into the ground\", \"8\", IF(CZ28=\"Washed/runoff into surface water body\", \"10\", \"\"))))))","v":""},null,{"$f":"IF(DB28=\"Manufacturer\", \"0\", IF(DB28=\"Sent off-site for disposal\", \"1\", IF(DB28=\"Down the drain\", \"5\", IF(DB28=\"Evaporated off of pavement\", \"5\", IF(DB28=\"Soaked into the ground\", \"8\", IF(DB28=\"Washed/runoff into surface water body\", \"10\", \"\"))))))","v":""},null,{"$f":"IF(DD28=\"Manufacturer\", \"0\", IF(DD28=\"Sent off-site for disposal\", \"1\", IF(DD28=\"Down the drain\", \"5\", IF(DD28=\"Evaporated off of pavement\", \"5\", IF(DD28=\"Soaked into the ground\", \"8\", IF(DD28=\"Washed/runoff into surface water body\", \"10\", \"\"))))))","v":""},null,{"$f":"IF(DF28=\"Manufacturer\", \"0\", IF(DF28=\"Sent off-site for disposal\", \"1\", IF(DF28=\"Down the drain\", \"5\", IF(DF28=\"Evaporated off of pavement\", \"5\", IF(DF28=\"Soaked into the ground\", \"8\", IF(DF28=\"Washed/runoff into surface water body\", \"10\", \"\"))))))","v":""},null,{"$f":"IF(DH28=\"Manufacturer\", \"0\", IF(DH28=\"Sent off-site for disposal\", \"1\", IF(DH28=\"Down the drain\", \"5\", IF(DH28=\"Evaporated off of pavement\", \"5\", IF(DH28=\"Soaked into the ground\", \"8\", IF(DH28=\"Washed/runoff into surface water body\", \"10\", \"\"))))))","v":""},null,{"$f":"IF(DJ28=\"Manufacturer\", \"0\", IF(DJ28=\"Sent off-site for disposal\", \"1\", IF(DJ28=\"Down the drain\", \"5\", IF(DJ28=\"Evaporated off of pavement\", \"5\", IF(DJ28=\"Soaked into the ground\", \"8\", IF(DJ28=\"Washed/runoff into surface water body\", \"10\", \"\"))))))","v":""},null,{"$f":"IF(DL28=\"Manufacturer\", \"0\", IF(DL28=\"Sent off-site for disposal\", \"1\", IF(DL28=\"Down the drain\", \"5\", IF(DL28=\"Evaporated off of pavement\", \"5\", IF(DL28=\"Soaked into the ground\", \"8\", IF(DL28=\"Washed/runoff into surface water body\", \"10\", \"\"))))))","v":""},null,{"$f":"IF(DN28=\"Manufacturer\", \"0\", IF(DN28=\"Sent off-site for disposal\", \"1\", IF(DN28=\"Down the drain\", \"5\", IF(DN28=\"Evaporated off of pavement\", \"5\", IF(DN28=\"Soaked into the ground\", \"8\", IF(DN28=\"Washed/runoff into surface water body\", \"10\", \"\"))))))","v":""},null,{"$f":"IF(DP28=\"Manufacturer\", \"0\", IF(DP28=\"Sent off-site for disposal\", \"1\", IF(DP28=\"Down the drain\", \"5\", IF(DP28=\"Evaporated off of pavement\", \"5\", IF(DP28=\"Soaked into the ground\", \"8\", IF(DP28=\"Washed/runoff into surface water body\", \"10\", \"\"))))))","v":""},null,{"$f":"IF(DR28=\"Manufacturer\", \"0\", IF(DR28=\"Sent off-site for disposal\", \"1\", IF(DR28=\"Down the drain\", \"5\", IF(DR28=\"Evaporated off of pavement\", \"5\", IF(DR28=\"Soaked into the ground\", \"8\", IF(DR28=\"Washed/runoff into surface water body\", \"10\", \"\"))))))","v":""},null,{"$f":"IF(DT28=\"Manufacturer\", \"0\", IF(DT28=\"Sent off-site for disposal\", \"1\", IF(DT28=\"Down the drain\", \"5\", IF(DT28=\"Evaporated off of pavement\", \"5\", IF(DT28=\"Soaked into the ground\", \"8\", IF(DT28=\"Washed/runoff into surface water body\", \"10\", \"\"))))))","v":""},null,{"$f":"IF(DV28=\"Manufacturer\", \"0\", IF(DV28=\"Sent off-site for disposal\", \"1\", IF(DV28=\"Down the drain\", \"5\", IF(DV28=\"Evaporated off of pavement\", \"5\", IF(DV28=\"Soaked into the ground\", \"8\", IF(DV28=\"Washed/runoff into surface water body\", \"10\", \"\"))))))","v":""},null,{"$f":"IF(DX28=\"Manufacturer\", \"0\", IF(DX28=\"Sent off-site for disposal\", \"1\", IF(DX28=\"Down the drain\", \"5\", IF(DX28=\"Evaporated off of pavement\", \"5\", IF(DX28=\"Soaked into the ground\", \"8\", IF(DX28=\"Washed/runoff into surface water body\", \"10\", \"\"))))))","v":""},null,{"$f":"IF(DZ28=\"Manufacturer\", \"0\", IF(DZ28=\"Sent off-site for disposal\", \"1\", IF(DZ28=\"Down the drain\", \"5\", IF(DZ28=\"Evaporated off of pavement\", \"5\", IF(DZ28=\"Soaked into the ground\", \"8\", IF(DZ28=\"Washed/runoff into surface water body\", \"10\", \"\"))))))","v":""},null,{"$f":"IF(EB28=\"Manufacturer\", \"0\", IF(EB28=\"Sent off-site for disposal\", \"1\", IF(EB28=\"Down the drain\", \"5\", IF(EB28=\"Evaporated off of pavement\", \"5\", IF(EB28=\"Soaked into the ground\", \"8\", IF(EB28=\"Washed/runoff into surface water body\", \"10\", \"\"))))))","v":""},null,{"$f":"IF(ED28=\"Manufacturer\", \"0\", IF(ED28=\"Sent off-site for disposal\", \"1\", IF(ED28=\"Down the drain\", \"5\", IF(ED28=\"Evaporated off of pavement\", \"5\", IF(ED28=\"Soaked into the ground\", \"8\", IF(ED28=\"Washed/runoff into surface water body\", \"10\", \"\"))))))","v":""},null,{"$f":"IF(EF28=\"Manufacturer\", \"0\", IF(EF28=\"Sent off-site for disposal\", \"1\", IF(EF28=\"Down the drain\", \"5\", IF(EF28=\"Evaporated off of pavement\", \"5\", IF(EF28=\"Soaked into the ground\", \"8\", IF(EF28=\"Washed/runoff into surface water body\", \"10\", \"\"))))))","v":""},null,{"$f":"IF(EH28=\"Manufacturer\", \"0\", IF(EH28=\"Sent off-site for disposal\", \"1\", IF(EH28=\"Down the drain\", \"5\", IF(EH28=\"Evaporated off of pavement\", \"5\", IF(EH28=\"Soaked into the ground\", \"8\", IF(EH28=\"Washed/runoff into surface water body\", \"10\", \"\"))))))","v":""},null,{"$f":"IF(EJ28=\"Manufacturer\", \"0\", IF(EJ28=\"Sent off-site for disposal\", \"1\", IF(EJ28=\"Down the drain\", \"5\", IF(EJ28=\"Evaporated off of pavement\", \"5\", IF(EJ28=\"Soaked into the ground\", \"8\", IF(EJ28=\"Washed/runoff into surface water body\", \"10\", \"\"))))))","v":""},null,{"$f":"IF(EL28=\"Manufacturer\", \"0\", IF(EL28=\"Sent off-site for disposal\", \"1\", IF(EL28=\"Down the drain\", \"5\", IF(EL28=\"Evaporated off of pavement\", \"5\", IF(EL28=\"Soaked into the ground\", \"8\", IF(EL28=\"Washed/runoff into surface water body\", \"10\", \"\"))))))","v":""},null,{"$f":"IF(EN28=\"Manufacturer\", \"0\", IF(EN28=\"Sent off-site for disposal\", \"1\", IF(EN28=\"Down the drain\", \"5\", IF(EN28=\"Evaporated off of pavement\", \"5\", IF(EN28=\"Soaked into the ground\", \"8\", IF(EN28=\"Washed/runoff into surface water body\", \"10\", \"\"))))))","v":""},null,{"$f":"IF(EP28=\"Manufacturer\", \"0\", IF(EP28=\"Sent off-site for disposal\", \"1\", IF(EP28=\"Down the drain\", \"5\", IF(EP28=\"Evaporated off of pavement\", \"5\", IF(EP28=\"Soaked into the ground\", \"8\", IF(EP28=\"Washed/runoff into surface water body\", \"10\", \"\"))))))","v":""},null,{"$f":"IF(ER28=\"Manufacturer\", \"0\", IF(ER28=\"Sent off-site for disposal\", \"1\", IF(ER28=\"Down the drain\", \"5\", IF(ER28=\"Evaporated off of pavement\", \"5\", IF(ER28=\"Soaked into the ground\", \"8\", IF(ER28=\"Washed/runoff into surface water body\", \"10\", \"\"))))))","v":""},null,{"$f":"IF(ET28=\"Manufacturer\", \"0\", IF(ET28=\"Sent off-site for disposal\", \"1\", IF(ET28=\"Down the drain\", \"5\", IF(ET28=\"Evaporated off of pavement\", \"5\", IF(ET28=\"Soaked into the ground\", \"8\", IF(ET28=\"Washed/runoff into surface water body\", \"10\", \"\"))))))","v":""},null,{"$f":"IF(EV28=\"Manufacturer\", \"0\", IF(EV28=\"Sent off-site for disposal\", \"1\", IF(EV28=\"Down the drain\", \"5\", IF(EV28=\"Evaporated off of pavement\", \"5\", IF(EV28=\"Soaked into the ground\", \"8\", IF(EV28=\"Washed/runoff into surface water body\", \"10\", \"\"))))))","v":""},null,{"$f":"IF(EX28=\"Manufacturer\", \"0\", IF(EX28=\"Sent off-site for disposal\", \"1\", IF(EX28=\"Down the drain\", \"5\", IF(EX28=\"Evaporated off of pavement\", \"5\", IF(EX28=\"Soaked into the ground\", \"8\", IF(EX28=\"Washed/runoff into surface water body\", \"10\", \"\"))))))","v":""},null,{"$f":"IF(EZ28=\"Manufacturer\", \"0\", IF(EZ28=\"Sent off-site for disposal\", \"1\", IF(EZ28=\"Down the drain\", \"5\", IF(EZ28=\"Evaporated off of pavement\", \"5\", IF(EZ28=\"Soaked into the ground\", \"8\", IF(EZ28=\"Washed/runoff into surface water body\", \"10\", \"\"))))))","v":""},null,{"$f":"IF(FB28=\"Manufacturer\", \"0\", IF(FB28=\"Sent off-site for disposal\", \"1\", IF(FB28=\"Down the drain\", \"5\", IF(FB28=\"Evaporated off of pavement\", \"5\", IF(FB28=\"Soaked into the ground\", \"8\", IF(FB28=\"Washed/runoff into surface water body\", \"10\", \"\"))))))","v":""},null,{"$f":"IF(FD28=\"Manufacturer\", \"0\", IF(FD28=\"Sent off-site for disposal\", \"1\", IF(FD28=\"Down the drain\", \"5\", IF(FD28=\"Evaporated off of pavement\", \"5\", IF(FD28=\"Soaked into the ground\", \"8\", IF(FD28=\"Washed/runoff into surface water body\", \"10\", \"\"))))))","v":""}]
[null,null,"Are absorbents, a spill kit and a spill management plan in place during AFFF use?",null,{"$f":"IF(D29=\"Yes\",\"1\",IF(D29=\"No\", \"5\", IF(D29=\"Don't Know\", \"5\",\"\")))","v":""},null,{"$f":"IF(F29=\"Yes\",\"1\",IF(F29=\"No\", \"5\", IF(F29=\"Don't Know\", \"5\",\"\")))","v":""},null,{"$f":"IF(H29=\"Yes\",\"1\",IF(H29=\"No\", \"5\", IF(H29=\"Don't Know\", \"5\",\"\")))","v":""},null,{"$f":"IF(J29=\"Yes\",\"1\",IF(J29=\"No\", \"5\", IF(J29=\"Don't Know\", \"5\",\"\")))","v":""},null,{"$f":"IF(L29=\"Yes\",\"1\",IF(L29=\"No\", \"5\", IF(L29=\"Don't Know\", \"5\",\"\")))","v":""},null,{"$f":"IF(N29=\"Yes\",\"1\",IF(N29=\"No\", \"5\", IF(N29=\"Don't Know\", \"5\",\"\")))","v":""},null,{"$f":"IF(P29=\"Yes\",\"1\",IF(P29=\"No\", \"5\", IF(P29=\"Don't Know\", \"5\",\"\")))","v":""},null,{"$f":"IF(R29=\"Yes\",\"1\",IF(R29=\"No\", \"5\", IF(R29=\"Don't Know\", \"5\",\"\")))","v":""},null,{"$f":"IF(T29=\"Yes\",\"1\",IF(T29=\"No\", \"5\", IF(T29=\"Don't Know\", \"5\",\"\")))","v":""},null,{"$f":"IF(V29=\"Yes\",\"1\",IF(V29=\"No\", \"5\", IF(V29=\"Don't Know\", \"5\",\"\")))","v":""},null,{"$f":"IF(X29=\"Yes\",\"1\",IF(X29=\"No\", \"5\", IF(X29=\"Don't Know\", \"5\",\"\")))","v":""},null,{"$f":"IF(Z29=\"Yes\",\"1\",IF(Z29=\"No\", \"5\", IF(Z29=\"Don't Know\", \"5\",\"\")))","v":""},null,{"$f":"IF(AB29=\"Yes\",\"1\",IF(AB29=\"No\", \"5\", IF(AB29=\"Don't Know\", \"5\",\"\")))","v":""},null,{"$f":"IF(AD29=\"Yes\",\"1\",IF(AD29=\"No\", \"5\", IF(AD29=\"Don't Know\", \"5\",\"\")))","v":""},null,{"$f":"IF(AF29=\"Yes\",\"1\",IF(AF29=\"No\", \"5\", IF(AF29=\"Don't Know\", \"5\",\"\")))","v":""},null,{"$f":"IF(AH29=\"Yes\",\"1\",IF(AH29=\"No\", \"5\", IF(AH29=\"Don't Know\", \"5\",\"\")))","v":""},null,{"$f":"IF(AJ29=\"Yes\",\"1\",IF(AJ29=\"No\", \"5\", IF(AJ29=\"Don't Know\", \"5\",\"\")))","v":""},null,{"$f":"IF(AL29=\"Yes\",\"1\",IF(AL29=\"No\", \"5\", IF(AL29=\"Don't Know\", \"5\",\"\")))","v":""},null,{"$f":"IF(AN29=\"Yes\",\"1\",IF(AN29=\"No\", \"5\", IF(AN29=\"Don't Know\", \"5\",\"\")))","v":""},null,{"$f":"IF(AP29=\"Yes\",\"1\",IF(AP29=\"No\", \"5\", IF(AP29=\"Don't Know\", \"5\",\"\")))","v":""},null,{"$f":"IF(AR29=\"Yes\",\"1\",IF(AR29=\"No\", \"5\", IF(AR29=\"Don't Know\", \"5\",\"\")))","v":""},"Don't Know",{"$f":"IF(AT29=\"Yes\",\"1\",IF(AT29=\"No\", \"5\", IF(AT29=\"Don't Know\", \"5\",\"\")))","v":"5"},"No",{"$f":"IF(AV29=\"Yes\",\"1\",IF(AV29=\"No\", \"5\", IF(AV29=\"Don't Know\", \"5\",\"\")))","v":"5"},null,{"$f":"IF(AX29=\"Yes\",\"1\",IF(AX29=\"No\", \"5\", IF(AX29=\"Don't Know\", \"5\",\"\")))","v":""},null,{"$f":"IF(AZ29=\"Yes\",\"1\",IF(AZ29=\"No\", \"5\", IF(AZ29=\"Don't Know\", \"5\",\"\")))","v":""},null,{"$f":"IF(BB29=\"Yes\",\"1\",IF(BB29=\"No\", \"5\", IF(BB29=\"Don't Know\", \"5\",\"\")))","v":""},null,{"$f":"IF(BD29=\"Yes\",\"1\",IF(BD29=\"No\", \"5\", IF(BD29=\"Don't Know\", \"5\",\"\")))","v":""},null,{"$f":"IF(BF29=\"Yes\",\"1\",IF(BF29=\"No\", \"5\", IF(BF29=\"Don't Know\", \"5\",\"\")))","v":""},null,{"$f":"IF(BH29=\"Yes\",\"1\",IF(BH29=\"No\", \"5\", IF(BH29=\"Don't Know\", \"5\",\"\")))","v":""},null,{"$f":"IF(BJ29=\"Yes\",\"1\",IF(BJ29=\"No\", \"5\", IF(BJ29=\"Don't Know\", \"5\",\"\")))","v":""},null,{"$f":"IF(BL29=\"Yes\",\"1\",IF(BL29=\"No\", \"5\", IF(BL29=\"Don't Know\", \"5\",\"\")))","v":""},null,{"$f":"IF(BN29=\"Yes\",\"1\",IF(BN29=\"No\", \"5\", IF(BN29=\"Don't Know\", \"5\",\"\")))","v":""},null,{"$f":"IF(BP29=\"Yes\",\"1\",IF(BP29=\"No\", \"5\", IF(BP29=\"Don't Know\", \"5\",\"\")))","v":""},null,{"$f":"IF(BR29=\"Yes\",\"1\",IF(BR29=\"No\", \"5\", IF(BR29=\"Don't Know\", \"5\",\"\")))","v":""},null,{"$f":"IF(BT29=\"Yes\",\"1\",IF(BT29=\"No\", \"5\", IF(BT29=\"Don't Know\", \"5\",\"\")))","v":""},null,{"$f":"IF(BV29=\"Yes\",\"1\",IF(BV29=\"No\", \"5\", IF(BV29=\"Don't Know\", \"5\",\"\")))","v":""},null,{"$f":"IF(BX29=\"Yes\",\"1\",IF(BX29=\"No\", \"5\", IF(BX29=\"Don't Know\", \"5\",\"\")))","v":""},null,{"$f":"IF(BZ29=\"Yes\",\"1\",IF(BZ29=\"No\", \"5\", IF(BZ29=\"Don't Know\", \"5\",\"\")))","v":""},null,{"$f":"IF(CB29=\"Yes\",\"1\",IF(CB29=\"No\", \"5\", IF(CB29=\"Don't Know\", \"5\",\"\")))","v":""},null,{"$f":"IF(CD29=\"Yes\",\"1\",IF(CD29=\"No\", \"5\", IF(CD29=\"Don't Know\", \"5\",\"\")))","v":""},null,{"$f":"IF(CF29=\"Yes\",\"1\",IF(CF29=\"No\", \"5\", IF(CF29=\"Don't Know\", \"5\",\"\")))","v":""},null,{"$f":"IF(CH29=\"Yes\",\"1\",IF(CH29=\"No\", \"5\", IF(CH29=\"Don't Know\", \"5\",\"\")))","v":""},null,{"$f":"IF(CJ29=\"Yes\",\"1\",IF(CJ29=\"No\", \"5\", IF(CJ29=\"Don't Know\", \"5\",\"\")))","v":""},null,{"$f":"IF(CL29=\"Yes\",\"1\",IF(CL29=\"No\", \"5\", IF(CL29=\"Don't Know\", \"5\",\"\")))","v":""},null,{"$f":"IF(CN29=\"Yes\",\"1\",IF(CN29=\"No\", \"5\", IF(CN29=\"Don't Know\", \"5\",\"\")))","v":""},null,{"$f":"IF(CP29=\"Yes\",\"1\",IF(CP29=\"No\", \"5\", IF(CP29=\"Don't Know\", \"5\",\"\")))","v":""},null,{"$f":"IF(CR29=\"Yes\",\"1\",IF(CR29=\"No\", \"5\", IF(CR29=\"Don't Know\", \"5\",\"\")))","v":""},null,{"$f":"IF(CT29=\"Yes\",\"1\",IF(CT29=\"No\", \"5\", IF(CT29=\"Don't Know\", \"5\",\"\")))","v":""},null,{"$f":"IF(CV29=\"Yes\",\"1\",IF(CV29=\"No\", \"5\", IF(CV29=\"Don't Know\", \"5\",\"\")))","v":""},null,{"$f":"IF(CX29=\"Yes\",\"1\",IF(CX29=\"No\", \"5\", IF(CX29=\"Don't Know\", \"5\",\"\")))","v":""},null,{"$f":"IF(CZ29=\"Yes\",\"1\",IF(CZ29=\"No\", \"5\", IF(CZ29=\"Don't Know\", \"5\",\"\")))","v":""},null,{"$f":"IF(DB29=\"Yes\",\"1\",IF(DB29=\"No\", \"5\", IF(DB29=\"Don't Know\", \"5\",\"\")))","v":""},null,{"$f":"IF(DD29=\"Yes\",\"1\",IF(DD29=\"No\", \"5\", IF(DD29=\"Don't Know\", \"5\",\"\")))","v":""},null,{"$f":"IF(DF29=\"Yes\",\"1\",IF(DF29=\"No\", \"5\", IF(DF29=\"Don't Know\", \"5\",\"\")))","v":""},null,{"$f":"IF(DH29=\"Yes\",\"1\",IF(DH29=\"No\", \"5\", IF(DH29=\"Don't Know\", \"5\",\"\")))","v":""},null,{"$f":"IF(DJ29=\"Yes\",\"1\",IF(DJ29=\"No\", \"5\", IF(DJ29=\"Don't Know\", \"5\",\"\")))","v":""},null,{"$f":"IF(DL29=\"Yes\",\"1\",IF(DL29=\"No\", \"5\", IF(DL29=\"Don't Know\", \"5\",\"\")))","v":""},null,{"$f":"IF(DN29=\"Yes\",\"1\",IF(DN29=\"No\", \"5\", IF(DN29=\"Don't Know\", \"5\",\"\")))","v":""},null,{"$f":"IF(DP29=\"Yes\",\"1\",IF(DP29=\"No\", \"5\", IF(DP29=\"Don't Know\", \"5\",\"\")))","v":""},null,{"$f":"IF(DR29=\"Yes\",\"1\",IF(DR29=\"No\", \"5\", IF(DR29=\"Don't Know\", \"5\",\"\")))","v":""},null,{"$f":"IF(DT29=\"Yes\",\"1\",IF(DT29=\"No\", \"5\", IF(DT29=\"Don't Know\", \"5\",\"\")))","v":""},null,{"$f":"IF(DV29=\"Yes\",\"1\",IF(DV29=\"No\", \"5\", IF(DV29=\"Don't Know\", \"5\",\"\")))","v":""},null,{"$f":"IF(DX29=\"Yes\",\"1\",IF(DX29=\"No\", \"5\", IF(DX29=\"Don't Know\", \"5\",\"\")))","v":""},null,{"$f":"IF(DZ29=\"Yes\",\"1\",IF(DZ29=\"No\", \"5\", IF(DZ29=\"Don't Know\", \"5\",\"\")))","v":""},null,{"$f":"IF(EB29=\"Yes\",\"1\",IF(EB29=\"No\", \"5\", IF(EB29=\"Don't Know\", \"5\",\"\")))","v":""},null,{"$f":"IF(ED29=\"Yes\",\"1\",IF(ED29=\"No\", \"5\", IF(ED29=\"Don't Know\", \"5\",\"\")))","v":""},null,{"$f":"IF(EF29=\"Yes\",\"1\",IF(EF29=\"No\", \"5\", IF(EF29=\"Don't Know\", \"5\",\"\")))","v":""},null,{"$f":"IF(EH29=\"Yes\",\"1\",IF(EH29=\"No\", \"5\", IF(EH29=\"Don't Know\", \"5\",\"\")))","v":""},null,{"$f":"IF(EJ29=\"Yes\",\"1\",IF(EJ29=\"No\", \"5\", IF(EJ29=\"Don't Know\", \"5\",\"\")))","v":""},null,{"$f":"IF(EL29=\"Yes\",\"1\",IF(EL29=\"No\", \"5\", IF(EL29=\"Don't Know\", \"5\",\"\")))","v":""},null,{"$f":"IF(EN29=\"Yes\",\"1\",IF(EN29=\"No\", \"5\", IF(EN29=\"Don't Know\", \"5\",\"\")))","v":""},null,{"$f":"IF(EP29=\"Yes\",\"1\",IF(EP29=\"No\", \"5\", IF(EP29=\"Don't Know\", \"5\",\"\")))","v":""},null,{"$f":"IF(ER29=\"Yes\",\"1\",IF(ER29=\"No\", \"5\", IF(ER29=\"Don't Know\", \"5\",\"\")))","v":""},null,{"$f":"IF(ET29=\"Yes\",\"1\",IF(ET29=\"No\", \"5\", IF(ET29=\"Don't Know\", \"5\",\"\")))","v":""},null,{"$f":"IF(EV29=\"Yes\",\"1\",IF(EV29=\"No\", \"5\", IF(EV29=\"Don't Know\", \"5\",\"\")))","v":""},null,{"$f":"IF(EX29=\"Yes\",\"1\",IF(EX29=\"No\", \"5\", IF(EX29=\"Don't Know\", \"5\",\"\")))","v":""},null,{"$f":"IF(EZ29=\"Yes\",\"1\",IF(EZ29=\"No\", \"5\", IF(EZ29=\"Don't Know\", \"5\",\"\")))","v":""},null,{"$f":"IF(FB29=\"Yes\",\"1\",IF(FB29=\"No\", \"5\", IF(FB29=\"Don't Know\", \"5\",\"\")))","v":""},null,{"$f":"IF(FD29=\"Yes\",\"1\",IF(FD29=\"No\", \"5\", IF(FD29=\"Don't Know\", \"5\",\"\")))","v":""}]
[null,null,"How many of the following procedures are required for the handling of AFFF? (Two or more people involved in the handling of AFFF, clear procedural standards, procedural training for those handling AFFF, ensuring fittings and connections are tight)\n",null,{"$f":"IF(D30=\"All\", \"0\", IF(D30=\"Three\", \"2\", IF(D30=\"Two\", \"3\", IF(D30=\"One\", \"4\", IF(D30=\"None\", \"5\", \"\")))))","v":""},null,{"$f":"IF(F30=\"All\", \"0\", IF(F30=\"Three\", \"2\", IF(F30=\"Two\", \"3\", IF(F30=\"One\", \"4\", IF(F30=\"None\", \"5\", \"\")))))","v":""},null,{"$f":"IF(H30=\"All\", \"0\", IF(H30=\"Three\", \"2\", IF(H30=\"Two\", \"3\", IF(H30=\"One\", \"4\", IF(H30=\"None\", \"5\", \"\")))))","v":""},null,{"$f":"IF(J30=\"All\", \"0\", IF(J30=\"Three\", \"2\", IF(J30=\"Two\", \"3\", IF(J30=\"One\", \"4\", IF(J30=\"None\", \"5\", \"\")))))","v":""},null,{"$f":"IF(L30=\"All\", \"0\", IF(L30=\"Three\", \"2\", IF(L30=\"Two\", \"3\", IF(L30=\"One\", \"4\", IF(L30=\"None\", \"5\", \"\")))))","v":""},null,{"$f":"IF(N30=\"All\", \"0\", IF(N30=\"Three\", \"2\", IF(N30=\"Two\", \"3\", IF(N30=\"One\", \"4\", IF(N30=\"None\", \"5\", \"\")))))","v":""},null,{"$f":"IF(P30=\"All\", \"0\", IF(P30=\"Three\", \"2\", IF(P30=\"Two\", \"3\", IF(P30=\"One\", \"4\", IF(P30=\"None\", \"5\", \"\")))))","v":""},null,{"$f":"IF(R30=\"All\", \"0\", IF(R30=\"Three\", \"2\", IF(R30=\"Two\", \"3\", IF(R30=\"One\", \"4\", IF(R30=\"None\", \"5\", \"\")))))","v":""},null,{"$f":"IF(T30=\"All\", \"0\", IF(T30=\"Three\", \"2\", IF(T30=\"Two\", \"3\", IF(T30=\"One\", \"4\", IF(T30=\"None\", \"5\", \"\")))))","v":""},null,{"$f":"IF(V30=\"All\", \"0\", IF(V30=\"Three\", \"2\", IF(V30=\"Two\", \"3\", IF(V30=\"One\", \"4\", IF(V30=\"None\", \"5\", \"\")))))","v":""},null,{"$f":"IF(X30=\"All\", \"0\", IF(X30=\"Three\", \"2\", IF(X30=\"Two\", \"3\", IF(X30=\"One\", \"4\", IF(X30=\"None\", \"5\", \"\")))))","v":""},null,{"$f":"IF(Z30=\"All\", \"0\", IF(Z30=\"Three\", \"2\", IF(Z30=\"Two\", \"3\", IF(Z30=\"One\", \"4\", IF(Z30=\"None\", \"5\", \"\")))))","v":""},null,{"$f":"IF(AB30=\"All\", \"0\", IF(AB30=\"Three\", \"2\", IF(AB30=\"Two\", \"3\", IF(AB30=\"One\", \"4\", IF(AB30=\"None\", \"5\", \"\")))))","v":""},null,{"$f":"IF(AD30=\"All\", \"0\", IF(AD30=\"Three\", \"2\", IF(AD30=\"Two\", \"3\", IF(AD30=\"One\", \"4\", IF(AD30=\"None\", \"5\", \"\")))))","v":""},null,{"$f":"IF(AF30=\"All\", \"0\", IF(AF30=\"Three\", \"2\", IF(AF30=\"Two\", \"3\", IF(AF30=\"One\", \"4\", IF(AF30=\"None\", \"5\", \"\")))))","v":""},null,{"$f":"IF(AH30=\"All\", \"0\", IF(AH30=\"Three\", \"2\", IF(AH30=\"Two\", \"3\", IF(AH30=\"One\", \"4\", IF(AH30=\"None\", \"5\", \"\")))))","v":""},null,{"$f":"IF(AJ30=\"All\", \"0\", IF(AJ30=\"Three\", \"2\", IF(AJ30=\"Two\", \"3\", IF(AJ30=\"One\", \"4\", IF(AJ30=\"None\", \"5\", \"\")))))","v":""},null,{"$f":"IF(AL30=\"All\", \"0\", IF(AL30=\"Three\", \"2\", IF(AL30=\"Two\", \"3\", IF(AL30=\"One\", \"4\", IF(AL30=\"None\", \"5\", \"\")))))","v":""},null,{"$f":"IF(AN30=\"All\", \"0\", IF(AN30=\"Three\", \"2\", IF(AN30=\"Two\", \"3\", IF(AN30=\"One\", \"4\", IF(AN30=\"None\", \"5\", \"\")))))","v":""},null,{"$f":"IF(AP30=\"All\", \"0\", IF(AP30=\"Three\", \"2\", IF(AP30=\"Two\", \"3\", IF(AP30=\"One\", \"4\", IF(AP30=\"None\", \"5\", \"\")))))","v":""},null,{"$f":"IF(AR30=\"All\", \"0\", IF(AR30=\"Three\", \"2\", IF(AR30=\"Two\", \"3\", IF(AR30=\"One\", \"4\", IF(AR30=\"None\", \"5\", \"\")))))","v":""},"Three",{"$f":"IF(AT30=\"All\", \"0\", IF(AT30=\"Three\", \"2\", IF(AT30=\"Two\", \"3\", IF(AT30=\"One\", \"4\", IF(AT30=\"None\", \"5\", \"\")))))","v":"2"},"Three",{"$f":"IF(AV30=\"All\", \"0\", IF(AV30=\"Three\", \"2\", IF(AV30=\"Two\", \"3\", IF(AV30=\"One\", \"4\", IF(AV30=\"None\", \"5\", \"\")))))","v":"2"},null,{"$f":"IF(AX30=\"All\", \"0\", IF(AX30=\"Three\", \"2\", IF(AX30=\"Two\", \"3\", IF(AX30=\"One\", \"4\", IF(AX30=\"None\", \"5\", \"\")))))","v":""},null,{"$f":"IF(AZ30=\"All\", \"0\", IF(AZ30=\"Three\", \"2\", IF(AZ30=\"Two\", \"3\", IF(AZ30=\"One\", \"4\", IF(AZ30=\"None\", \"5\", \"\")))))","v":""},null,{"$f":"IF(BB30=\"All\", \"0\", IF(BB30=\"Three\", \"2\", IF(BB30=\"Two\", \"3\", IF(BB30=\"One\", \"4\", IF(BB30=\"None\", \"5\", \"\")))))","v":""},null,{"$f":"IF(BD30=\"All\", \"0\", IF(BD30=\"Three\", \"2\", IF(BD30=\"Two\", \"3\", IF(BD30=\"One\", \"4\", IF(BD30=\"None\", \"5\", \"\")))))","v":""},null,{"$f":"IF(BF30=\"All\", \"0\", IF(BF30=\"Three\", \"2\", IF(BF30=\"Two\", \"3\", IF(BF30=\"One\", \"4\", IF(BF30=\"None\", \"5\", \"\")))))","v":""},null,{"$f":"IF(BH30=\"All\", \"0\", IF(BH30=\"Three\", \"2\", IF(BH30=\"Two\", \"3\", IF(BH30=\"One\", \"4\", IF(BH30=\"None\", \"5\", \"\")))))","v":""},null,{"$f":"IF(BJ30=\"All\", \"0\", IF(BJ30=\"Three\", \"2\", IF(BJ30=\"Two\", \"3\", IF(BJ30=\"One\", \"4\", IF(BJ30=\"None\", \"5\", \"\")))))","v":""},null,{"$f":"IF(BL30=\"All\", \"0\", IF(BL30=\"Three\", \"2\", IF(BL30=\"Two\", \"3\", IF(BL30=\"One\", \"4\", IF(BL30=\"None\", \"5\", \"\")))))","v":""},null,{"$f":"IF(BN30=\"All\", \"0\", IF(BN30=\"Three\", \"2\", IF(BN30=\"Two\", \"3\", IF(BN30=\"One\", \"4\", IF(BN30=\"None\", \"5\", \"\")))))","v":""},null,{"$f":"IF(BP30=\"All\", \"0\", IF(BP30=\"Three\", \"2\", IF(BP30=\"Two\", \"3\", IF(BP30=\"One\", \"4\", IF(BP30=\"None\", \"5\", \"\")))))","v":""},null,{"$f":"IF(BR30=\"All\", \"0\", IF(BR30=\"Three\", \"2\", IF(BR30=\"Two\", \"3\", IF(BR30=\"One\", \"4\", IF(BR30=\"None\", \"5\", \"\")))))","v":""},null,{"$f":"IF(BT30=\"All\", \"0\", IF(BT30=\"Three\", \"2\", IF(BT30=\"Two\", \"3\", IF(BT30=\"One\", \"4\", IF(BT30=\"None\", \"5\", \"\")))))","v":""},null,{"$f":"IF(BV30=\"All\", \"0\", IF(BV30=\"Three\", \"2\", IF(BV30=\"Two\", \"3\", IF(BV30=\"One\", \"4\", IF(BV30=\"None\", \"5\", \"\")))))","v":""},null,{"$f":"IF(BX30=\"All\", \"0\", IF(BX30=\"Three\", \"2\", IF(BX30=\"Two\", \"3\", IF(BX30=\"One\", \"4\", IF(BX30=\"None\", \"5\", \"\")))))","v":""},null,{"$f":"IF(BZ30=\"All\", \"0\", IF(BZ30=\"Three\", \"2\", IF(BZ30=\"Two\", \"3\", IF(BZ30=\"One\", \"4\", IF(BZ30=\"None\", \"5\", \"\")))))","v":""},null,{"$f":"IF(CB30=\"All\", \"0\", IF(CB30=\"Three\", \"2\", IF(CB30=\"Two\", \"3\", IF(CB30=\"One\", \"4\", IF(CB30=\"None\", \"5\", \"\")))))","v":""},null,{"$f":"IF(CD30=\"All\", \"0\", IF(CD30=\"Three\", \"2\", IF(CD30=\"Two\", \"3\", IF(CD30=\"One\", \"4\", IF(CD30=\"None\", \"5\", \"\")))))","v":""},null,{"$f":"IF(CF30=\"All\", \"0\", IF(CF30=\"Three\", \"2\", IF(CF30=\"Two\", \"3\", IF(CF30=\"One\", \"4\", IF(CF30=\"None\", \"5\", \"\")))))","v":""},null,{"$f":"IF(CH30=\"All\", \"0\", IF(CH30=\"Three\", \"2\", IF(CH30=\"Two\", \"3\", IF(CH30=\"One\", \"4\", IF(CH30=\"None\", \"5\", \"\")))))","v":""},null,{"$f":"IF(CJ30=\"All\", \"0\", IF(CJ30=\"Three\", \"2\", IF(CJ30=\"Two\", \"3\", IF(CJ30=\"One\", \"4\", IF(CJ30=\"None\", \"5\", \"\")))))","v":""},null,{"$f":"IF(CL30=\"All\", \"0\", IF(CL30=\"Three\", \"2\", IF(CL30=\"Two\", \"3\", IF(CL30=\"One\", \"4\", IF(CL30=\"None\", \"5\", \"\")))))","v":""},null,{"$f":"IF(CN30=\"All\", \"0\", IF(CN30=\"Three\", \"2\", IF(CN30=\"Two\", \"3\", IF(CN30=\"One\", \"4\", IF(CN30=\"None\", \"5\", \"\")))))","v":""},null,{"$f":"IF(CP30=\"All\", \"0\", IF(CP30=\"Three\", \"2\", IF(CP30=\"Two\", \"3\", IF(CP30=\"One\", \"4\", IF(CP30=\"None\", \"5\", \"\")))))","v":""},null,{"$f":"IF(CR30=\"All\", \"0\", IF(CR30=\"Three\", \"2\", IF(CR30=\"Two\", \"3\", IF(CR30=\"One\", \"4\", IF(CR30=\"None\", \"5\", \"\")))))","v":""},null,{"$f":"IF(CT30=\"All\", \"0\", IF(CT30=\"Three\", \"2\", IF(CT30=\"Two\", \"3\", IF(CT30=\"One\", \"4\", IF(CT30=\"None\", \"5\", \"\")))))","v":""},null,{"$f":"IF(CV30=\"All\", \"0\", IF(CV30=\"Three\", \"2\", IF(CV30=\"Two\", \"3\", IF(CV30=\"One\", \"4\", IF(CV30=\"None\", \"5\", \"\")))))","v":""},null,{"$f":"IF(CX30=\"All\", \"0\", IF(CX30=\"Three\", \"2\", IF(CX30=\"Two\", \"3\", IF(CX30=\"One\", \"4\", IF(CX30=\"None\", \"5\", \"\")))))","v":""},null,{"$f":"IF(CZ30=\"All\", \"0\", IF(CZ30=\"Three\", \"2\", IF(CZ30=\"Two\", \"3\", IF(CZ30=\"One\", \"4\", IF(CZ30=\"None\", \"5\", \"\")))))","v":""},null,{"$f":"IF(DB30=\"All\", \"0\", IF(DB30=\"Three\", \"2\", IF(DB30=\"Two\", \"3\", IF(DB30=\"One\", \"4\", IF(DB30=\"None\", \"5\", \"\")))))","v":""},null,{"$f":"IF(DD30=\"All\", \"0\", IF(DD30=\"Three\", \"2\", IF(DD30=\"Two\", \"3\", IF(DD30=\"One\", \"4\", IF(DD30=\"None\", \"5\", \"\")))))","v":""},null,{"$f":"IF(DF30=\"All\", \"0\", IF(DF30=\"Three\", \"2\", IF(DF30=\"Two\", \"3\", IF(DF30=\"One\", \"4\", IF(DF30=\"None\", \"5\", \"\")))))","v":""},null,{"$f":"IF(DH30=\"All\", \"0\", IF(DH30=\"Three\", \"2\", IF(DH30=\"Two\", \"3\", IF(DH30=\"One\", \"4\", IF(DH30=\"None\", \"5\", \"\")))))","v":""},null,{"$f":"IF(DJ30=\"All\", \"0\", IF(DJ30=\"Three\", \"2\", IF(DJ30=\"Two\", \"3\", IF(DJ30=\"One\", \"4\", IF(DJ30=\"None\", \"5\", \"\")))))","v":""},null,{"$f":"IF(DL30=\"All\", \"0\", IF(DL30=\"Three\", \"2\", IF(DL30=\"Two\", \"3\", IF(DL30=\"One\", \"4\", IF(DL30=\"None\", \"5\", \"\")))))","v":""},null,{"$f":"IF(DN30=\"All\", \"0\", IF(DN30=\"Three\", \"2\", IF(DN30=\"Two\", \"3\", IF(DN30=\"One\", \"4\", IF(DN30=\"None\", \"5\", \"\")))))","v":""},null,{"$f":"IF(DP30=\"All\", \"0\", IF(DP30=\"Three\", \"2\", IF(DP30=\"Two\", \"3\", IF(DP30=\"One\", \"4\", IF(DP30=\"None\", \"5\", \"\")))))","v":""},null,{"$f":"IF(DR30=\"All\", \"0\", IF(DR30=\"Three\", \"2\", IF(DR30=\"Two\", \"3\", IF(DR30=\"One\", \"4\", IF(DR30=\"None\", \"5\", \"\")))))","v":""},null,{"$f":"IF(DT30=\"All\", \"0\", IF(DT30=\"Three\", \"2\", IF(DT30=\"Two\", \"3\", IF(DT30=\"One\", \"4\", IF(DT30=\"None\", \"5\", \"\")))))","v":""},null,{"$f":"IF(DV30=\"All\", \"0\", IF(DV30=\"Three\", \"2\", IF(DV30=\"Two\", \"3\", IF(DV30=\"One\", \"4\", IF(DV30=\"None\", \"5\", \"\")))))","v":""},null,{"$f":"IF(DX30=\"All\", \"0\", IF(DX30=\"Three\", \"2\", IF(DX30=\"Two\", \"3\", IF(DX30=\"One\", \"4\", IF(DX30=\"None\", \"5\", \"\")))))","v":""},null,{"$f":"IF(DZ30=\"All\", \"0\", IF(DZ30=\"Three\", \"2\", IF(DZ30=\"Two\", \"3\", IF(DZ30=\"One\", \"4\", IF(DZ30=\"None\", \"5\", \"\")))))","v":""},null,{"$f":"IF(EB30=\"All\", \"0\", IF(EB30=\"Three\", \"2\", IF(EB30=\"Two\", \"3\", IF(EB30=\"One\", \"4\", IF(EB30=\"None\", \"5\", \"\")))))","v":""},null,{"$f":"IF(ED30=\"All\", \"0\", IF(ED30=\"Three\", \"2\", IF(ED30=\"Two\", \"3\", IF(ED30=\"One\", \"4\", IF(ED30=\"None\", \"5\", \"\")))))","v":""},null,{"$f":"IF(EF30=\"All\", \"0\", IF(EF30=\"Three\", \"2\", IF(EF30=\"Two\", \"3\", IF(EF30=\"One\", \"4\", IF(EF30=\"None\", \"5\", \"\")))))","v":""},null,{"$f":"IF(EH30=\"All\", \"0\", IF(EH30=\"Three\", \"2\", IF(EH30=\"Two\", \"3\", IF(EH30=\"One\", \"4\", IF(EH30=\"None\", \"5\", \"\")))))","v":""},null,{"$f":"IF(EJ30=\"All\", \"0\", IF(EJ30=\"Three\", \"2\", IF(EJ30=\"Two\", \"3\", IF(EJ30=\"One\", \"4\", IF(EJ30=\"None\", \"5\", \"\")))))","v":""},null,{"$f":"IF(EL30=\"All\", \"0\", IF(EL30=\"Three\", \"2\", IF(EL30=\"Two\", \"3\", IF(EL30=\"One\", \"4\", IF(EL30=\"None\", \"5\", \"\")))))","v":""},null,{"$f":"IF(EN30=\"All\", \"0\", IF(EN30=\"Three\", \"2\", IF(EN30=\"Two\", \"3\", IF(EN30=\"One\", \"4\", IF(EN30=\"None\", \"5\", \"\")))))","v":""},null,{"$f":"IF(EP30=\"All\", \"0\", IF(EP30=\"Three\", \"2\", IF(EP30=\"Two\", \"3\", IF(EP30=\"One\", \"4\", IF(EP30=\"None\", \"5\", \"\")))))","v":""},null,{"$f":"IF(ER30=\"All\", \"0\", IF(ER30=\"Three\", \"2\", IF(ER30=\"Two\", \"3\", IF(ER30=\"One\", \"4\", IF(ER30=\"None\", \"5\", \"\")))))","v":""},null,{"$f":"IF(ET30=\"All\", \"0\", IF(ET30=\"Three\", \"2\", IF(ET30=\"Two\", \"3\", IF(ET30=\"One\", \"4\", IF(ET30=\"None\", \"5\", \"\")))))","v":""},null,{"$f":"IF(EV30=\"All\", \"0\", IF(EV30=\"Three\", \"2\", IF(EV30=\"Two\", \"3\", IF(EV30=\"One\", \"4\", IF(EV30=\"None\", \"5\", \"\")))))","v":""},null,{"$f":"IF(EX30=\"All\", \"0\", IF(EX30=\"Three\", \"2\", IF(EX30=\"Two\", \"3\", IF(EX30=\"One\", \"4\", IF(EX30=\"None\", \"5\", \"\")))))","v":""},null,{"$f":"IF(EZ30=\"All\", \"0\", IF(EZ30=\"Three\", \"2\", IF(EZ30=\"Two\", \"3\", IF(EZ30=\"One\", \"4\", IF(EZ30=\"None\", \"5\", \"\")))))","v":""},null,{"$f":"IF(FB30=\"All\", \"0\", IF(FB30=\"Three\", \"2\", IF(FB30=\"Two\", \"3\", IF(FB30=\"One\", \"4\", IF(FB30=\"None\", \"5\", \"\")))))","v":""},null,{"$f":"IF(FD30=\"All\", \"0\", IF(FD30=\"Three\", \"2\", IF(FD30=\"Two\", \"3\", IF(FD30=\"One\", \"4\", IF(FD30=\"None\", \"5\", \"\")))))","v":""}]
[null,null,"SCORE",{"$f":"IFERROR(E21+E23+E24+E22+E29+E30+((E25+E26)* E28), \"\")","v":""},null,{"$f":"IFERROR(G21+G23+G24+G22+G29+G30+((G25+G26)* G28), \"\")","v":""},null,{"$f":"IFERROR(I21+I23+I24+I22+I29+I30+((I25+I26)* I28), \"\")","v":""},null,{"$f":"IFERROR(K21+K23+K24+K22+K29+K30+((K25+K26)* K28), \"\")","v":""},null,{"$f":"IFERROR(M21+M23+M24+M22+M29+M30+((M25+M26)* M28), \"\")","v":""},null,{"$f":"IFERROR(O21+O23+O24+O22+O29+O30+((O25+O26)* O28), \"\")","v":""},null,{"$f":"IFERROR(Q21+Q23+Q24+Q22+Q29+Q30+((Q25+Q26)* Q28), \"\")","v":""},null,{"$f":"IFERROR(S21+S23+S24+S22+S29+S30+((S25+S26)* S28), \"\")","v":""},null,{"$f":"IFERROR(U21+U23+U24+U22+U29+U30+((U25+U26)* U28), \"\")","v":""},null,{"$f":"IFERROR(W21+W23+W24+W22+W29+W30+((W25+W26)* W28), \"\")","v":""},null,{"$f":"IFERROR(Y21+Y23+Y24+Y22+Y29+Y30+((Y25+Y26)* Y28), \"\")","v":""},null,{"$f":"IFERROR(AA21+AA23+AA24+AA22+AA29+AA30+((AA25+AA26)* AA28), \"\")","v":""},null,{"$f":"IFERROR(AC21+AC23+AC24+AC22+AC29+AC30+((AC25+AC26)* AC28), \"\")","v":""},null,{"$f":"IFERROR(AE21+AE23+AE24+AE22+AE29+AE30+((AE25+AE26)* AE28), \"\")","v":""},null,{"$f":"IFERROR(AG21+AG23+AG24+AG22+AG29+AG30+((AG25+AG26)* AG28), \"\")","v":""},null,{"$f":"IFERROR(AI21+AI23+AI24+AI22+AI29+AI30+((AI25+AI26)* AI28), \"\")","v":""},null,{"$f":"IFERROR(AK21+AK23+AK24+AK22+AK29+AK30+((AK25+AK26)* AK28), \"\")","v":""},null,{"$f":"IFERROR(AM21+AM23+AM24+AM22+AM29+AM30+((AM25+AM26)* AM28), \"\")","v":""},null,{"$f":"IFERROR(AO21+AO23+AO24+AO22+AO29+AO30+((AO25+AO26)* AO28), \"\")","v":""},null,{"$f":"IFERROR(AQ21+AQ23+AQ24+AQ22+AQ29+AQ30+((AQ25+AQ26)* AQ28), \"\")","v":""},null,{"$f":"IFERROR(AS21+AS23+AS24+AS22+AS29+AS30+((AS25+AS26)* AS28), \"\")","v":""},null,{"$f":"IFERROR(AU21+AU23+AU24+AU22+AU29+AU30+((AU25+AU26)* AU28), \"\")","v":43},null,{"$f":"IFERROR(AW21+AW23+AW24+AW22+AW29+AW30+((AW25+AW26)* AW28), \"\")","v":23},null,{"$f":"IFERROR(AY21+AY23+AY24+AY22+AY29+AY30+((AY25+AY26)* AY28), \"\")","v":""},null,{"$f":"IFERROR(BA21+BA23+BA24+BA22+BA29+BA30+((BA25+BA26)* BA28), \"\")","v":""},null,{"$f":"IFERROR(BC21+BC23+BC24+BC22+BC29+BC30+((BC25+BC26)* BC28), \"\")","v":""},null,{"$f":"IFERROR(BE21+BE23+BE24+BE22+BE29+BE30+((BE25+BE26)* BE28), \"\")","v":""},null,{"$f":"IFERROR(BG21+BG23+BG24+BG22+BG29+BG30+((BG25+BG26)* BG28), \"\")","v":""},null,{"$f":"IFERROR(BI21+BI23+BI24+BI22+BI29+BI30+((BI25+BI26)* BI28), \"\")","v":""},null,{"$f":"IFERROR(BK21+BK23+BK24+BK22+BK29+BK30+((BK25+BK26)* BK28), \"\")","v":""},null,{"$f":"IFERROR(BM21+BM23+BM24+BM22+BM29+BM30+((BM25+BM26)* BM28), \"\")","v":""},null,{"$f":"IFERROR(BO21+BO23+BO24+BO22+BO29+BO30+((BO25+BO26)* BO28), \"\")","v":""},null,{"$f":"IFERROR(BQ21+BQ23+BQ24+BQ22+BQ29+BQ30+((BQ25+BQ26)* BQ28), \"\")","v":""},null,{"$f":"IFERROR(BS21+BS23+BS24+BS22+BS29+BS30+((BS25+BS26)* BS28), \"\")","v":""},null,{"$f":"IFERROR(BU21+BU23+BU24+BU22+BU29+BU30+((BU25+BU26)* BU28), \"\")","v":""},null,{"$f":"IFERROR(BW21+BW23+BW24+BW22+BW29+BW30+((BW25+BW26)* BW28), \"\")","v":""},null,{"$f":"IFERROR(BY21+BY23+BY24+BY22+BY29+BY30+((BY25+BY26)* BY28), \"\")","v":""},null,{"$f":"IFERROR(CA21+CA23+CA24+CA22+CA29+CA30+((CA25+CA26)* CA28), \"\")","v":""},null,{"$f":"IFERROR(CC21+CC23+CC24+CC22+CC29+CC30+((CC25+CC26)* CC28), \"\")","v":""},null,{"$f":"IFERROR(CE21+CE23+CE24+CE22+CE29+CE30+((CE25+CE26)* CE28), \"\")","v":""},null,{"$f":"IFERROR(CG21+CG23+CG24+CG22+CG29+CG30+((CG25+CG26)* CG28), \"\")","v":""},null,{"$f":"IFERROR(CI21+CI23+CI24+CI22+CI29+CI30+((CI25+CI26)* CI28), \"\")","v":""},null,{"$f":"IFERROR(CK21+CK23+CK24+CK22+CK29+CK30+((CK25+CK26)* CK28), \"\")","v":""},null,{"$f":"IFERROR(CM21+CM23+CM24+CM22+CM29+CM30+((CM25+CM26)* CM28), \"\")","v":""},null,{"$f":"IFERROR(CO21+CO23+CO24+CO22+CO29+CO30+((CO25+CO26)* CO28), \"\")","v":""},null,{"$f":"IFERROR(CQ21+CQ23+CQ24+CQ22+CQ29+CQ30+((CQ25+CQ26)* CQ28), \"\")","v":""},null,{"$f":"IFERROR(CS21+CS23+CS24+CS22+CS29+CS30+((CS25+CS26)* CS28), \"\")","v":""},null,{"$f":"IFERROR(CU21+CU23+CU24+CU22+CU29+CU30+((CU25+CU26)* CU28), \"\")","v":""},null,{"$f":"IFERROR(CW21+CW23+CW24+CW22+CW29+CW30+((CW25+CW26)* CW28), \"\")","v":""},null,{"$f":"IFERROR(CY21+CY23+CY24+CY22+CY29+CY30+((CY25+CY26)* CY28), \"\")","v":""},null,{"$f":"IFERROR(DA21+DA23+DA24+DA22+DA29+DA30+((DA25+DA26)* DA28), \"\")","v":""},null,{"$f":"IFERROR(DC21+DC23+DC24+DC22+DC29+DC30+((DC25+DC26)* DC28), \"\")","v":""},null,{"$f":"IFERROR(DE21+DE23+DE24+DE22+DE29+DE30+((DE25+DE26)* DE28), \"\")","v":""},null,{"$f":"IFERROR(DG21+DG23+DG24+DG22+DG29+DG30+((DG25+DG26)* DG28), \"\")","v":""},null,{"$f":"IFERROR(DI21+DI23+DI24+DI22+DI29+DI30+((DI25+DI26)* DI28), \"\")","v":""},null,{"$f":"IFERROR(DK21+DK23+DK24+DK22+DK29+DK30+((DK25+DK26)* DK28), \"\")","v":""},null,{"$f":"IFERROR(DM21+DM23+DM24+DM22+DM29+DM30+((DM25+DM26)* DM28), \"\")","v":""},null,{"$f":"IFERROR(DO21+DO23+DO24+DO22+DO29+DO30+((DO25+DO26)* DO28), \"\")","v":""},null,{"$f":"IFERROR(DQ21+DQ23+DQ24+DQ22+DQ29+DQ30+((DQ25+DQ26)* DQ28), \"\")","v":""},null,{"$f":"IFERROR(DS21+DS23+DS24+DS22+DS29+DS30+((DS25+DS26)* DS28), \"\")","v":""},null,{"$f":"IFERROR(DU21+DU23+DU24+DU22+DU29+DU30+((DU25+DU26)* DU28), \"\")","v":""},null,{"$f":"IFERROR(DW21+DW23+DW24+DW22+DW29+DW30+((DW25+DW26)* DW28), \"\")","v":""},null,{"$f":"IFERROR(DY21+DY23+DY24+DY22+DY29+DY30+((DY25+DY26)* DY28), \"\")","v":""},null,{"$f":"IFERROR(EA21+EA23+EA24+EA22+EA29+EA30+((EA25+EA26)* EA28), \"\")","v":""},null,{"$f":"IFERROR(EC21+EC23+EC24+EC22+EC29+EC30+((EC25+EC26)* EC28), \"\")","v":""},null,{"$f":"IFERROR(EE21+EE23+EE24+EE22+EE29+EE30+((EE25+EE26)* EE28), \"\")","v":""},null,{"$f":"IFERROR(EG21+EG23+EG24+EG22+EG29+EG30+((EG25+EG26)* EG28), \"\")","v":""},null,{"$f":"IFERROR(EI21+EI23+EI24+EI22+EI29+EI30+((EI25+EI26)* EI28), \"\")","v":""},null,{"$f":"IFERROR(EK21+EK23+EK24+EK22+EK29+EK30+((EK25+EK26)* EK28), \"\")","v":""},null,{"$f":"IFERROR(EM21+EM23+EM24+EM22+EM29+EM30+((EM25+EM26)* EM28), \"\")","v":""},null,{"$f":"IFERROR(EO21+EO23+EO24+EO22+EO29+EO30+((EO25+EO26)* EO28), \"\")","v":""},null,{"$f":"IFERROR(EQ21+EQ23+EQ24+EQ22+EQ29+EQ30+((EQ25+EQ26)* EQ28), \"\")","v":""},null,{"$f":"IFERROR(ES21+ES23+ES24+ES22+ES29+ES30+((ES25+ES26)* ES28), \"\")","v":""},null,{"$f":"IFERROR(EU21+EU23+EU24+EU22+EU29+EU30+((EU25+EU26)* EU28), \"\")","v":""},null,{"$f":"IFERROR(EW21+EW23+EW24+EW22+EW29+EW30+((EW25+EW26)* EW28), \"\")","v":""},null,{"$f":"IFERROR(EY21+EY23+EY24+EY22+EY29+EY30+((EY25+EY26)* EY28), \"\")","v":""},null,{"$f":"IFERROR(FA21+FA23+FA24+FA22+FA29+FA30+((FA25+FA26)* FA28), \"\")","v":""},null,{"$f":"IFERROR(FC21+FC23+FC24+FC22+FC29+FC30+((FC25+FC26)* FC28), \"\")","v":""},null,{"$f":"IFERROR(FE21+FE23+FE24+FE22+FE29+FE30+((FE25+FE26)* FE28), \"\")","v":""}]
[null,"DISPOSAL","What is the frequency of disposal of AFFF?",null,{"$f":"IF(D32=\"1 to 2 years\",\"5\",IF(D32=\"Never\",\"0\",IF(D32=\"2 to 5 years\",\"3\",IF(D32=\"More than 5 years\",\"1\",\"\"))))","v":""},null,{"$f":"IF(F32=\"1 to 2 years\",\"5\",IF(F32=\"Never\",\"0\",IF(F32=\"2 to 5 years\",\"3\",IF(F32=\"More than 5 years\",\"1\",\"\"))))","v":""},null,{"$f":"IF(H32=\"1 to 2 years\",\"5\",IF(H32=\"Never\",\"0\",IF(H32=\"2 to 5 years\",\"3\",IF(H32=\"More than 5 years\",\"1\",\"\"))))","v":""},null,{"$f":"IF(J32=\"1 to 2 years\",\"5\",IF(J32=\"Never\",\"0\",IF(J32=\"2 to 5 years\",\"3\",IF(J32=\"More than 5 years\",\"1\",\"\"))))","v":""},null,{"$f":"IF(L32=\"1 to 2 years\",\"5\",IF(L32=\"Never\",\"0\",IF(L32=\"2 to 5 years\",\"3\",IF(L32=\"More than 5 years\",\"1\",\"\"))))","v":""},null,{"$f":"IF(N32=\"1 to 2 years\",\"5\",IF(N32=\"Never\",\"0\",IF(N32=\"2 to 5 years\",\"3\",IF(N32=\"More than 5 years\",\"1\",\"\"))))","v":""},null,{"$f":"IF(P32=\"1 to 2 years\",\"5\",IF(P32=\"Never\",\"0\",IF(P32=\"2 to 5 years\",\"3\",IF(P32=\"More than 5 years\",\"1\",\"\"))))","v":""},null,{"$f":"IF(R32=\"1 to 2 years\",\"5\",IF(R32=\"Never\",\"0\",IF(R32=\"2 to 5 years\",\"3\",IF(R32=\"More than 5 years\",\"1\",\"\"))))","v":""},null,{"$f":"IF(T32=\"1 to 2 years\",\"5\",IF(T32=\"Never\",\"0\",IF(T32=\"2 to 5 years\",\"3\",IF(T32=\"More than 5 years\",\"1\",\"\"))))","v":""},null,{"$f":"IF(V32=\"1 to 2 years\",\"5\",IF(V32=\"Never\",\"0\",IF(V32=\"2 to 5 years\",\"3\",IF(V32=\"More than 5 years\",\"1\",\"\"))))","v":""},null,{"$f":"IF(X32=\"1 to 2 years\",\"5\",IF(X32=\"Never\",\"0\",IF(X32=\"2 to 5 years\",\"3\",IF(X32=\"More than 5 years\",\"1\",\"\"))))","v":""},null,{"$f":"IF(Z32=\"1 to 2 years\",\"5\",IF(Z32=\"Never\",\"0\",IF(Z32=\"2 to 5 years\",\"3\",IF(Z32=\"More than 5 years\",\"1\",\"\"))))","v":""},null,{"$f":"IF(AB32=\"1 to 2 years\",\"5\",IF(AB32=\"Never\",\"0\",IF(AB32=\"2 to 5 years\",\"3\",IF(AB32=\"More than 5 years\",\"1\",\"\"))))","v":""},null,{"$f":"IF(AD32=\"1 to 2 years\",\"5\",IF(AD32=\"Never\",\"0\",IF(AD32=\"2 to 5 years\",\"3\",IF(AD32=\"More than 5 years\",\"1\",\"\"))))","v":""},null,{"$f":"IF(AF32=\"1 to 2 years\",\"5\",IF(AF32=\"Never\",\"0\",IF(AF32=\"2 to 5 years\",\"3\",IF(AF32=\"More than 5 years\",\"1\",\"\"))))","v":""},null,{"$f":"IF(AH32=\"1 to 2 years\",\"5\",IF(AH32=\"Never\",\"0\",IF(AH32=\"2 to 5 years\",\"3\",IF(AH32=\"More than 5 years\",\"1\",\"\"))))","v":""},null,{"$f":"IF(AJ32=\"1 to 2 years\",\"5\",IF(AJ32=\"Never\",\"0\",IF(AJ32=\"2 to 5 years\",\"3\",IF(AJ32=\"More than 5 years\",\"1\",\"\"))))","v":""},null,{"$f":"IF(AL32=\"1 to 2 years\",\"5\",IF(AL32=\"Never\",\"0\",IF(AL32=\"2 to 5 years\",\"3\",IF(AL32=\"More than 5 years\",\"1\",\"\"))))","v":""},null,{"$f":"IF(AN32=\"1 to 2 years\",\"5\",IF(AN32=\"Never\",\"0\",IF(AN32=\"2 to 5 years\",\"3\",IF(AN32=\"More than 5 years\",\"1\",\"\"))))","v":""},null,{"$f":"IF(AP32=\"1 to 2 years\",\"5\",IF(AP32=\"Never\",\"0\",IF(AP32=\"2 to 5 years\",\"3\",IF(AP32=\"More than 5 years\",\"1\",\"\"))))","v":""},null,{"$f":"IF(AR32=\"1 to 2 years\",\"5\",IF(AR32=\"Never\",\"0\",IF(AR32=\"2 to 5 years\",\"3\",IF(AR32=\"More than 5 years\",\"1\",\"\"))))","v":""},null,{"$f":"IF(AT32=\"1 to 2 years\",\"5\",IF(AT32=\"Never\",\"0\",IF(AT32=\"2 to 5 years\",\"3\",IF(AT32=\"More than 5 years\",\"1\",\"\"))))","v":""},null,{"$f":"IF(AV32=\"1 to 2 years\",\"5\",IF(AV32=\"Never\",\"0\",IF(AV32=\"2 to 5 years\",\"3\",IF(AV32=\"More than 5 years\",\"1\",\"\"))))","v":""},null,{"$f":"IF(AX32=\"1 to 2 years\",\"5\",IF(AX32=\"Never\",\"0\",IF(AX32=\"2 to 5 years\",\"3\",IF(AX32=\"More than 5 years\",\"1\",\"\"))))","v":""},null,{"$f":"IF(AZ32=\"1 to 2 years\",\"5\",IF(AZ32=\"Never\",\"0\",IF(AZ32=\"2 to 5 years\",\"3\",IF(AZ32=\"More than 5 years\",\"1\",\"\"))))","v":""},null,{"$f":"IF(BB32=\"1 to 2 years\",\"5\",IF(BB32=\"Never\",\"0\",IF(BB32=\"2 to 5 years\",\"3\",IF(BB32=\"More than 5 years\",\"1\",\"\"))))","v":""},null,{"$f":"IF(BD32=\"1 to 2 years\",\"5\",IF(BD32=\"Never\",\"0\",IF(BD32=\"2 to 5 years\",\"3\",IF(BD32=\"More than 5 years\",\"1\",\"\"))))","v":""},null,{"$f":"IF(BF32=\"1 to 2 years\",\"5\",IF(BF32=\"Never\",\"0\",IF(BF32=\"2 to 5 years\",\"3\",IF(BF32=\"More than 5 years\",\"1\",\"\"))))","v":""},null,{"$f":"IF(BH32=\"1 to 2 years\",\"5\",IF(BH32=\"Never\",\"0\",IF(BH32=\"2 to 5 years\",\"3\",IF(BH32=\"More than 5 years\",\"1\",\"\"))))","v":""},null,{"$f":"IF(BJ32=\"1 to 2 years\",\"5\",IF(BJ32=\"Never\",\"0\",IF(BJ32=\"2 to 5 years\",\"3\",IF(BJ32=\"More than 5 years\",\"1\",\"\"))))","v":""},null,{"$f":"IF(BL32=\"1 to 2 years\",\"5\",IF(BL32=\"Never\",\"0\",IF(BL32=\"2 to 5 years\",\"3\",IF(BL32=\"More than 5 years\",\"1\",\"\"))))","v":""},null,{"$f":"IF(BN32=\"1 to 2 years\",\"5\",IF(BN32=\"Never\",\"0\",IF(BN32=\"2 to 5 years\",\"3\",IF(BN32=\"More than 5 years\",\"1\",\"\"))))","v":""},null,{"$f":"IF(BP32=\"1 to 2 years\",\"5\",IF(BP32=\"Never\",\"0\",IF(BP32=\"2 to 5 years\",\"3\",IF(BP32=\"More than 5 years\",\"1\",\"\"))))","v":""},null,{"$f":"IF(BR32=\"1 to 2 years\",\"5\",IF(BR32=\"Never\",\"0\",IF(BR32=\"2 to 5 years\",\"3\",IF(BR32=\"More than 5 years\",\"1\",\"\"))))","v":""},null,{"$f":"IF(BT32=\"1 to 2 years\",\"5\",IF(BT32=\"Never\",\"0\",IF(BT32=\"2 to 5 years\",\"3\",IF(BT32=\"More than 5 years\",\"1\",\"\"))))","v":""},null,{"$f":"IF(BV32=\"1 to 2 years\",\"5\",IF(BV32=\"Never\",\"0\",IF(BV32=\"2 to 5 years\",\"3\",IF(BV32=\"More than 5 years\",\"1\",\"\"))))","v":""},null,{"$f":"IF(BX32=\"1 to 2 years\",\"5\",IF(BX32=\"Never\",\"0\",IF(BX32=\"2 to 5 years\",\"3\",IF(BX32=\"More than 5 years\",\"1\",\"\"))))","v":""},null,{"$f":"IF(BZ32=\"1 to 2 years\",\"5\",IF(BZ32=\"Never\",\"0\",IF(BZ32=\"2 to 5 years\",\"3\",IF(BZ32=\"More than 5 years\",\"1\",\"\"))))","v":""},null,{"$f":"IF(CB32=\"1 to 2 years\",\"5\",IF(CB32=\"Never\",\"0\",IF(CB32=\"2 to 5 years\",\"3\",IF(CB32=\"More than 5 years\",\"1\",\"\"))))","v":""},null,{"$f":"IF(CD32=\"1 to 2 years\",\"5\",IF(CD32=\"Never\",\"0\",IF(CD32=\"2 to 5 years\",\"3\",IF(CD32=\"More than 5 years\",\"1\",\"\"))))","v":""},null,{"$f":"IF(CF32=\"1 to 2 years\",\"5\",IF(CF32=\"Never\",\"0\",IF(CF32=\"2 to 5 years\",\"3\",IF(CF32=\"More than 5 years\",\"1\",\"\"))))","v":""},null,{"$f":"IF(CH32=\"1 to 2 years\",\"5\",IF(CH32=\"Never\",\"0\",IF(CH32=\"2 to 5 years\",\"3\",IF(CH32=\"More than 5 years\",\"1\",\"\"))))","v":""},null,{"$f":"IF(CJ32=\"1 to 2 years\",\"5\",IF(CJ32=\"Never\",\"0\",IF(CJ32=\"2 to 5 years\",\"3\",IF(CJ32=\"More than 5 years\",\"1\",\"\"))))","v":""},null,{"$f":"IF(CL32=\"1 to 2 years\",\"5\",IF(CL32=\"Never\",\"0\",IF(CL32=\"2 to 5 years\",\"3\",IF(CL32=\"More than 5 years\",\"1\",\"\"))))","v":""},null,{"$f":"IF(CN32=\"1 to 2 years\",\"5\",IF(CN32=\"Never\",\"0\",IF(CN32=\"2 to 5 years\",\"3\",IF(CN32=\"More than 5 years\",\"1\",\"\"))))","v":""},null,{"$f":"IF(CP32=\"1 to 2 years\",\"5\",IF(CP32=\"Never\",\"0\",IF(CP32=\"2 to 5 years\",\"3\",IF(CP32=\"More than 5 years\",\"1\",\"\"))))","v":""},null,{"$f":"IF(CR32=\"1 to 2 years\",\"5\",IF(CR32=\"Never\",\"0\",IF(CR32=\"2 to 5 years\",\"3\",IF(CR32=\"More than 5 years\",\"1\",\"\"))))","v":""},null,{"$f":"IF(CT32=\"1 to 2 years\",\"5\",IF(CT32=\"Never\",\"0\",IF(CT32=\"2 to 5 years\",\"3\",IF(CT32=\"More than 5 years\",\"1\",\"\"))))","v":""},null,{"$f":"IF(CV32=\"1 to 2 years\",\"5\",IF(CV32=\"Never\",\"0\",IF(CV32=\"2 to 5 years\",\"3\",IF(CV32=\"More than 5 years\",\"1\",\"\"))))","v":""},null,{"$f":"IF(CX32=\"1 to 2 years\",\"5\",IF(CX32=\"Never\",\"0\",IF(CX32=\"2 to 5 years\",\"3\",IF(CX32=\"More than 5 years\",\"1\",\"\"))))","v":""},null,{"$f":"IF(CZ32=\"1 to 2 years\",\"5\",IF(CZ32=\"Never\",\"0\",IF(CZ32=\"2 to 5 years\",\"3\",IF(CZ32=\"More than 5 years\",\"1\",\"\"))))","v":""},null,{"$f":"IF(DB32=\"1 to 2 years\",\"5\",IF(DB32=\"Never\",\"0\",IF(DB32=\"2 to 5 years\",\"3\",IF(DB32=\"More than 5 years\",\"1\",\"\"))))","v":""},null,{"$f":"IF(DD32=\"1 to 2 years\",\"5\",IF(DD32=\"Never\",\"0\",IF(DD32=\"2 to 5 years\",\"3\",IF(DD32=\"More than 5 years\",\"1\",\"\"))))","v":""},null,{"$f":"IF(DF32=\"1 to 2 years\",\"5\",IF(DF32=\"Never\",\"0\",IF(DF32=\"2 to 5 years\",\"3\",IF(DF32=\"More than 5 years\",\"1\",\"\"))))","v":""},null,{"$f":"IF(DH32=\"1 to 2 years\",\"5\",IF(DH32=\"Never\",\"0\",IF(DH32=\"2 to 5 years\",\"3\",IF(DH32=\"More than 5 years\",\"1\",\"\"))))","v":""},null,{"$f":"IF(DJ32=\"1 to 2 years\",\"5\",IF(DJ32=\"Never\",\"0\",IF(DJ32=\"2 to 5 years\",\"3\",IF(DJ32=\"More than 5 years\",\"1\",\"\"))))","v":""},null,{"$f":"IF(DL32=\"1 to 2 years\",\"5\",IF(DL32=\"Never\",\"0\",IF(DL32=\"2 to 5 years\",\"3\",IF(DL32=\"More than 5 years\",\"1\",\"\"))))","v":""},null,{"$f":"IF(DN32=\"1 to 2 years\",\"5\",IF(DN32=\"Never\",\"0\",IF(DN32=\"2 to 5 years\",\"3\",IF(DN32=\"More than 5 years\",\"1\",\"\"))))","v":""},null,{"$f":"IF(DP32=\"1 to 2 years\",\"5\",IF(DP32=\"Never\",\"0\",IF(DP32=\"2 to 5 years\",\"3\",IF(DP32=\"More than 5 years\",\"1\",\"\"))))","v":""},null,{"$f":"IF(DR32=\"1 to 2 years\",\"5\",IF(DR32=\"Never\",\"0\",IF(DR32=\"2 to 5 years\",\"3\",IF(DR32=\"More than 5 years\",\"1\",\"\"))))","v":""},null,{"$f":"IF(DT32=\"1 to 2 years\",\"5\",IF(DT32=\"Never\",\"0\",IF(DT32=\"2 to 5 years\",\"3\",IF(DT32=\"More than 5 years\",\"1\",\"\"))))","v":""},null,{"$f":"IF(DV32=\"1 to 2 years\",\"5\",IF(DV32=\"Never\",\"0\",IF(DV32=\"2 to 5 years\",\"3\",IF(DV32=\"More than 5 years\",\"1\",\"\"))))","v":""},null,{"$f":"IF(DX32=\"1 to 2 years\",\"5\",IF(DX32=\"Never\",\"0\",IF(DX32=\"2 to 5 years\",\"3\",IF(DX32=\"More than 5 years\",\"1\",\"\"))))","v":""},null,{"$f":"IF(DZ32=\"1 to 2 years\",\"5\",IF(DZ32=\"Never\",\"0\",IF(DZ32=\"2 to 5 years\",\"3\",IF(DZ32=\"More than 5 years\",\"1\",\"\"))))","v":""},null,{"$f":"IF(EB32=\"1 to 2 years\",\"5\",IF(EB32=\"Never\",\"0\",IF(EB32=\"2 to 5 years\",\"3\",IF(EB32=\"More than 5 years\",\"1\",\"\"))))","v":""},null,{"$f":"IF(ED32=\"1 to 2 years\",\"5\",IF(ED32=\"Never\",\"0\",IF(ED32=\"2 to 5 years\",\"3\",IF(ED32=\"More than 5 years\",\"1\",\"\"))))","v":""},null,{"$f":"IF(EF32=\"1 to 2 years\",\"5\",IF(EF32=\"Never\",\"0\",IF(EF32=\"2 to 5 years\",\"3\",IF(EF32=\"More than 5 years\",\"1\",\"\"))))","v":""},null,{"$f":"IF(EH32=\"1 to 2 years\",\"5\",IF(EH32=\"Never\",\"0\",IF(EH32=\"2 to 5 years\",\"3\",IF(EH32=\"More than 5 years\",\"1\",\"\"))))","v":""},null,{"$f":"IF(EJ32=\"1 to 2 years\",\"5\",IF(EJ32=\"Never\",\"0\",IF(EJ32=\"2 to 5 years\",\"3\",IF(EJ32=\"More than 5 years\",\"1\",\"\"))))","v":""},null,{"$f":"IF(EL32=\"1 to 2 years\",\"5\",IF(EL32=\"Never\",\"0\",IF(EL32=\"2 to 5 years\",\"3\",IF(EL32=\"More than 5 years\",\"1\",\"\"))))","v":""},null,{"$f":"IF(EN32=\"1 to 2 years\",\"5\",IF(EN32=\"Never\",\"0\",IF(EN32=\"2 to 5 years\",\"3\",IF(EN32=\"More than 5 years\",\"1\",\"\"))))","v":""},null,{"$f":"IF(EP32=\"1 to 2 years\",\"5\",IF(EP32=\"Never\",\"0\",IF(EP32=\"2 to 5 years\",\"3\",IF(EP32=\"More than 5 years\",\"1\",\"\"))))","v":""},null,{"$f":"IF(ER32=\"1 to 2 years\",\"5\",IF(ER32=\"Never\",\"0\",IF(ER32=\"2 to 5 years\",\"3\",IF(ER32=\"More than 5 years\",\"1\",\"\"))))","v":""},null,{"$f":"IF(ET32=\"1 to 2 years\",\"5\",IF(ET32=\"Never\",\"0\",IF(ET32=\"2 to 5 years\",\"3\",IF(ET32=\"More than 5 years\",\"1\",\"\"))))","v":""},null,{"$f":"IF(EV32=\"1 to 2 years\",\"5\",IF(EV32=\"Never\",\"0\",IF(EV32=\"2 to 5 years\",\"3\",IF(EV32=\"More than 5 years\",\"1\",\"\"))))","v":""},null,{"$f":"IF(EX32=\"1 to 2 years\",\"5\",IF(EX32=\"Never\",\"0\",IF(EX32=\"2 to 5 years\",\"3\",IF(EX32=\"More than 5 years\",\"1\",\"\"))))","v":""},null,{"$f":"IF(EZ32=\"1 to 2 years\",\"5\",IF(EZ32=\"Never\",\"0\",IF(EZ32=\"2 to 5 years\",\"3\",IF(EZ32=\"More than 5 years\",\"1\",\"\"))))","v":""},null,{"$f":"IF(FB32=\"1 to 2 years\",\"5\",IF(FB32=\"Never\",\"0\",IF(FB32=\"2 to 5 years\",\"3\",IF(FB32=\"More than 5 years\",\"1\",\"\"))))","v":""},null,{"$f":"IF(FD32=\"1 to 2 years\",\"5\",IF(FD32=\"Never\",\"0\",IF(FD32=\"2 to 5 years\",\"3\",IF(FD32=\"More than 5 years\",\"1\",\"\"))))","v":""}]
[null,null,"What volume of AFFF is disposed of at a time?",null,{"$f":"IF(D33=\"0 to 5 gallons/ 0 to 20 L\", \"1\", IF(D33=\"5 to 20 gallons/ 20 to 75 L\", \"2\", IF(D33=\"20 to 50 gallons/ 75 to 190 L\", \"4\", IF(D33=\"50 to 100 gallons/ 190 to 375 L\", \"6\", IF(D33=\"100 to 500 gallons/ 375 to 1900 L\", \"8\", IF(D33=\"500 to 1000 gallons/ 1900 to 3800 L\", \"10\", IF(D33=\"More than 1000 gallons/More than 3800 L\", \"15\", \"\")))))))","v":""},null,{"$f":"IF(F33=\"0 to 5 gallons/ 0 to 20 L\", \"1\", IF(F33=\"5 to 20 gallons/ 20 to 75 L\", \"2\", IF(F33=\"20 to 50 gallons/ 75 to 190 L\", \"4\", IF(F33=\"50 to 100 gallons/ 190 to 375 L\", \"6\", IF(F33=\"100 to 500 gallons/ 375 to 1900 L\", \"8\", IF(F33=\"500 to 1000 gallons/ 1900 to 3800 L\", \"10\", IF(F33=\"More than 1000 gallons/More than 3800 L\", \"15\", \"\")))))))","v":""},null,{"$f":"IF(H33=\"0 to 5 gallons/ 0 to 20 L\", \"1\", IF(H33=\"5 to 20 gallons/ 20 to 75 L\", \"2\", IF(H33=\"20 to 50 gallons/ 75 to 190 L\", \"4\", IF(H33=\"50 to 100 gallons/ 190 to 375 L\", \"6\", IF(H33=\"100 to 500 gallons/ 375 to 1900 L\", \"8\", IF(H33=\"500 to 1000 gallons/ 1900 to 3800 L\", \"10\", IF(H33=\"More than 1000 gallons/More than 3800 L\", \"15\", \"\")))))))","v":""},null,{"$f":"IF(J33=\"0 to 5 gallons/ 0 to 20 L\", \"1\", IF(J33=\"5 to 20 gallons/ 20 to 75 L\", \"2\", IF(J33=\"20 to 50 gallons/ 75 to 190 L\", \"4\", IF(J33=\"50 to 100 gallons/ 190 to 375 L\", \"6\", IF(J33=\"100 to 500 gallons/ 375 to 1900 L\", \"8\", IF(J33=\"500 to 1000 gallons/ 1900 to 3800 L\", \"10\", IF(J33=\"More than 1000 gallons/More than 3800 L\", \"15\", \"\")))))))","v":""},null,{"$f":"IF(L33=\"0 to 5 gallons/ 0 to 20 L\", \"1\", IF(L33=\"5 to 20 gallons/ 20 to 75 L\", \"2\", IF(L33=\"20 to 50 gallons/ 75 to 190 L\", \"4\", IF(L33=\"50 to 100 gallons/ 190 to 375 L\", \"6\", IF(L33=\"100 to 500 gallons/ 375 to 1900 L\", \"8\", IF(L33=\"500 to 1000 gallons/ 1900 to 3800 L\", \"10\", IF(L33=\"More than 1000 gallons/More than 3800 L\", \"15\", \"\")))))))","v":""},null,{"$f":"IF(N33=\"0 to 5 gallons/ 0 to 20 L\", \"1\", IF(N33=\"5 to 20 gallons/ 20 to 75 L\", \"2\", IF(N33=\"20 to 50 gallons/ 75 to 190 L\", \"4\", IF(N33=\"50 to 100 gallons/ 190 to 375 L\", \"6\", IF(N33=\"100 to 500 gallons/ 375 to 1900 L\", \"8\", IF(N33=\"500 to 1000 gallons/ 1900 to 3800 L\", \"10\", IF(N33=\"More than 1000 gallons/More than 3800 L\", \"15\", \"\")))))))","v":""},null,{"$f":"IF(P33=\"0 to 5 gallons/ 0 to 20 L\", \"1\", IF(P33=\"5 to 20 gallons/ 20 to 75 L\", \"2\", IF(P33=\"20 to 50 gallons/ 75 to 190 L\", \"4\", IF(P33=\"50 to 100 gallons/ 190 to 375 L\", \"6\", IF(P33=\"100 to 500 gallons/ 375 to 1900 L\", \"8\", IF(P33=\"500 to 1000 gallons/ 1900 to 3800 L\", \"10\", IF(P33=\"More than 1000 gallons/More than 3800 L\", \"15\", \"\")))))))","v":""},null,{"$f":"IF(R33=\"0 to 5 gallons/ 0 to 20 L\", \"1\", IF(R33=\"5 to 20 gallons/ 20 to 75 L\", \"2\", IF(R33=\"20 to 50 gallons/ 75 to 190 L\", \"4\", IF(R33=\"50 to 100 gallons/ 190 to 375 L\", \"6\", IF(R33=\"100 to 500 gallons/ 375 to 1900 L\", \"8\", IF(R33=\"500 to 1000 gallons/ 1900 to 3800 L\", \"10\", IF(R33=\"More than 1000 gallons/More than 3800 L\", \"15\", \"\")))))))","v":""},null,{"$f":"IF(T33=\"0 to 5 gallons/ 0 to 20 L\", \"1\", IF(T33=\"5 to 20 gallons/ 20 to 75 L\", \"2\", IF(T33=\"20 to 50 gallons/ 75 to 190 L\", \"4\", IF(T33=\"50 to 100 gallons/ 190 to 375 L\", \"6\", IF(T33=\"100 to 500 gallons/ 375 to 1900 L\", \"8\", IF(T33=\"500 to 1000 gallons/ 1900 to 3800 L\", \"10\", IF(T33=\"More than 1000 gallons/More than 3800 L\", \"15\", \"\")))))))","v":""},null,{"$f":"IF(V33=\"0 to 5 gallons/ 0 to 20 L\", \"1\", IF(V33=\"5 to 20 gallons/ 20 to 75 L\", \"2\", IF(V33=\"20 to 50 gallons/ 75 to 190 L\", \"4\", IF(V33=\"50 to 100 gallons/ 190 to 375 L\", \"6\", IF(V33=\"100 to 500 gallons/ 375 to 1900 L\", \"8\", IF(V33=\"500 to 1000 gallons/ 1900 to 3800 L\", \"10\", IF(V33=\"More than 1000 gallons/More than 3800 L\", \"15\", \"\")))))))","v":""},null,{"$f":"IF(X33=\"0 to 5 gallons/ 0 to 20 L\", \"1\", IF(X33=\"5 to 20 gallons/ 20 to 75 L\", \"2\", IF(X33=\"20 to 50 gallons/ 75 to 190 L\", \"4\", IF(X33=\"50 to 100 gallons/ 190 to 375 L\", \"6\", IF(X33=\"100 to 500 gallons/ 375 to 1900 L\", \"8\", IF(X33=\"500 to 1000 gallons/ 1900 to 3800 L\", \"10\", IF(X33=\"More than 1000 gallons/More than 3800 L\", \"15\", \"\")))))))","v":""},null,{"$f":"IF(Z33=\"0 to 5 gallons/ 0 to 20 L\", \"1\", IF(Z33=\"5 to 20 gallons/ 20 to 75 L\", \"2\", IF(Z33=\"20 to 50 gallons/ 75 to 190 L\", \"4\", IF(Z33=\"50 to 100 gallons/ 190 to 375 L\", \"6\", IF(Z33=\"100 to 500 gallons/ 375 to 1900 L\", \"8\", IF(Z33=\"500 to 1000 gallons/ 1900 to 3800 L\", \"10\", IF(Z33=\"More than 1000 gallons/More than 3800 L\", \"15\", \"\")))))))","v":""},null,{"$f":"IF(AB33=\"0 to 5 gallons/ 0 to 20 L\", \"1\", IF(AB33=\"5 to 20 gallons/ 20 to 75 L\", \"2\", IF(AB33=\"20 to 50 gallons/ 75 to 190 L\", \"4\", IF(AB33=\"50 to 100 gallons/ 190 to 375 L\", \"6\", IF(AB33=\"100 to 500 gallons/ 375 to 1900 L\", \"8\", IF(AB33=\"500 to 1000 gallons/ 1900 to 3800 L\", \"10\", IF(AB33=\"More than 1000 gallons/More than 3800 L\", \"15\", \"\")))))))","v":""},null,{"$f":"IF(AD33=\"0 to 5 gallons/ 0 to 20 L\", \"1\", IF(AD33=\"5 to 20 gallons/ 20 to 75 L\", \"2\", IF(AD33=\"20 to 50 gallons/ 75 to 190 L\", \"4\", IF(AD33=\"50 to 100 gallons/ 190 to 375 L\", \"6\", IF(AD33=\"100 to 500 gallons/ 375 to 1900 L\", \"8\", IF(AD33=\"500 to 1000 gallons/ 1900 to 3800 L\", \"10\", IF(AD33=\"More than 1000 gallons/More than 3800 L\", \"15\", \"\")))))))","v":""},null,{"$f":"IF(AF33=\"0 to 5 gallons/ 0 to 20 L\", \"1\", IF(AF33=\"5 to 20 gallons/ 20 to 75 L\", \"2\", IF(AF33=\"20 to 50 gallons/ 75 to 190 L\", \"4\", IF(AF33=\"50 to 100 gallons/ 190 to 375 L\", \"6\", IF(AF33=\"100 to 500 gallons/ 375 to 1900 L\", \"8\", IF(AF33=\"500 to 1000 gallons/ 1900 to 3800 L\", \"10\", IF(AF33=\"More than 1000 gallons/More than 3800 L\", \"15\", \"\")))))))","v":""},null,{"$f":"IF(AH33=\"0 to 5 gallons/ 0 to 20 L\", \"1\", IF(AH33=\"5 to 20 gallons/ 20 to 75 L\", \"2\", IF(AH33=\"20 to 50 gallons/ 75 to 190 L\", \"4\", IF(AH33=\"50 to 100 gallons/ 190 to 375 L\", \"6\", IF(AH33=\"100 to 500 gallons/ 375 to 1900 L\", \"8\", IF(AH33=\"500 to 1000 gallons/ 1900 to 3800 L\", \"10\", IF(AH33=\"More than 1000 gallons/More than 3800 L\", \"15\", \"\")))))))","v":""},null,{"$f":"IF(AJ33=\"0 to 5 gallons/ 0 to 20 L\", \"1\", IF(AJ33=\"5 to 20 gallons/ 20 to 75 L\", \"2\", IF(AJ33=\"20 to 50 gallons/ 75 to 190 L\", \"4\", IF(AJ33=\"50 to 100 gallons/ 190 to 375 L\", \"6\", IF(AJ33=\"100 to 500 gallons/ 375 to 1900 L\", \"8\", IF(AJ33=\"500 to 1000 gallons/ 1900 to 3800 L\", \"10\", IF(AJ33=\"More than 1000 gallons/More than 3800 L\", \"15\", \"\")))))))","v":""},null,{"$f":"IF(AL33=\"0 to 5 gallons/ 0 to 20 L\", \"1\", IF(AL33=\"5 to 20 gallons/ 20 to 75 L\", \"2\", IF(AL33=\"20 to 50 gallons/ 75 to 190 L\", \"4\", IF(AL33=\"50 to 100 gallons/ 190 to 375 L\", \"6\", IF(AL33=\"100 to 500 gallons/ 375 to 1900 L\", \"8\", IF(AL33=\"500 to 1000 gallons/ 1900 to 3800 L\", \"10\", IF(AL33=\"More than 1000 gallons/More than 3800 L\", \"15\", \"\")))))))","v":""},null,{"$f":"IF(AN33=\"0 to 5 gallons/ 0 to 20 L\", \"1\", IF(AN33=\"5 to 20 gallons/ 20 to 75 L\", \"2\", IF(AN33=\"20 to 50 gallons/ 75 to 190 L\", \"4\", IF(AN33=\"50 to 100 gallons/ 190 to 375 L\", \"6\", IF(AN33=\"100 to 500 gallons/ 375 to 1900 L\", \"8\", IF(AN33=\"500 to 1000 gallons/ 1900 to 3800 L\", \"10\", IF(AN33=\"More than 1000 gallons/More than 3800 L\", \"15\", \"\")))))))","v":""},null,{"$f":"IF(AP33=\"0 to 5 gallons/ 0 to 20 L\", \"1\", IF(AP33=\"5 to 20 gallons/ 20 to 75 L\", \"2\", IF(AP33=\"20 to 50 gallons/ 75 to 190 L\", \"4\", IF(AP33=\"50 to 100 gallons/ 190 to 375 L\", \"6\", IF(AP33=\"100 to 500 gallons/ 375 to 1900 L\", \"8\", IF(AP33=\"500 to 1000 gallons/ 1900 to 3800 L\", \"10\", IF(AP33=\"More than 1000 gallons/More than 3800 L\", \"15\", \"\")))))))","v":""},null,{"$f":"IF(AR33=\"0 to 5 gallons/ 0 to 20 L\", \"1\", IF(AR33=\"5 to 20 gallons/ 20 to 75 L\", \"2\", IF(AR33=\"20 to 50 gallons/ 75 to 190 L\", \"4\", IF(AR33=\"50 to 100 gallons/ 190 to 375 L\", \"6\", IF(AR33=\"100 to 500 gallons/ 375 to 1900 L\", \"8\", IF(AR33=\"500 to 1000 gallons/ 1900 to 3800 L\", \"10\", IF(AR33=\"More than 1000 gallons/More than 3800 L\", \"15\", \"\")))))))","v":""},null,{"$f":"IF(AT33=\"0 to 5 gallons/ 0 to 20 L\", \"1\", IF(AT33=\"5 to 20 gallons/ 20 to 75 L\", \"2\", IF(AT33=\"20 to 50 gallons/ 75 to 190 L\", \"4\", IF(AT33=\"50 to 100 gallons/ 190 to 375 L\", \"6\", IF(AT33=\"100 to 500 gallons/ 375 to 1900 L\", \"8\", IF(AT33=\"500 to 1000 gallons/ 1900 to 3800 L\", \"10\", IF(AT33=\"More than 1000 gallons/More than 3800 L\", \"15\", \"\")))))))","v":""},null,{"$f":"IF(AV33=\"0 to 5 gallons/ 0 to 20 L\", \"1\", IF(AV33=\"5 to 20 gallons/ 20 to 75 L\", \"2\", IF(AV33=\"20 to 50 gallons/ 75 to 190 L\", \"4\", IF(AV33=\"50 to 100 gallons/ 190 to 375 L\", \"6\", IF(AV33=\"100 to 500 gallons/ 375 to 1900 L\", \"8\", IF(AV33=\"500 to 1000 gallons/ 1900 to 3800 L\", \"10\", IF(AV33=\"More than 1000 gallons/More than 3800 L\", \"15\", \"\")))))))","v":""},null,{"$f":"IF(AX33=\"0 to 5 gallons/ 0 to 20 L\", \"1\", IF(AX33=\"5 to 20 gallons/ 20 to 75 L\", \"2\", IF(AX33=\"20 to 50 gallons/ 75 to 190 L\", \"4\", IF(AX33=\"50 to 100 gallons/ 190 to 375 L\", \"6\", IF(AX33=\"100 to 500 gallons/ 375 to 1900 L\", \"8\", IF(AX33=\"500 to 1000 gallons/ 1900 to 3800 L\", \"10\", IF(AX33=\"More than 1000 gallons/More than 3800 L\", \"15\", \"\")))))))","v":""},null,{"$f":"IF(AZ33=\"0 to 5 gallons/ 0 to 20 L\", \"1\", IF(AZ33=\"5 to 20 gallons/ 20 to 75 L\", \"2\", IF(AZ33=\"20 to 50 gallons/ 75 to 190 L\", \"4\", IF(AZ33=\"50 to 100 gallons/ 190 to 375 L\", \"6\", IF(AZ33=\"100 to 500 gallons/ 375 to 1900 L\", \"8\", IF(AZ33=\"500 to 1000 gallons/ 1900 to 3800 L\", \"10\", IF(AZ33=\"More than 1000 gallons/More than 3800 L\", \"15\", \"\")))))))","v":""},null,{"$f":"IF(BB33=\"0 to 5 gallons/ 0 to 20 L\", \"1\", IF(BB33=\"5 to 20 gallons/ 20 to 75 L\", \"2\", IF(BB33=\"20 to 50 gallons/ 75 to 190 L\", \"4\", IF(BB33=\"50 to 100 gallons/ 190 to 375 L\", \"6\", IF(BB33=\"100 to 500 gallons/ 375 to 1900 L\", \"8\", IF(BB33=\"500 to 1000 gallons/ 1900 to 3800 L\", \"10\", IF(BB33=\"More than 1000 gallons/More than 3800 L\", \"15\", \"\")))))))","v":""},null,{"$f":"IF(BD33=\"0 to 5 gallons/ 0 to 20 L\", \"1\", IF(BD33=\"5 to 20 gallons/ 20 to 75 L\", \"2\", IF(BD33=\"20 to 50 gallons/ 75 to 190 L\", \"4\", IF(BD33=\"50 to 100 gallons/ 190 to 375 L\", \"6\", IF(BD33=\"100 to 500 gallons/ 375 to 1900 L\", \"8\", IF(BD33=\"500 to 1000 gallons/ 1900 to 3800 L\", \"10\", IF(BD33=\"More than 1000 gallons/More than 3800 L\", \"15\", \"\")))))))","v":""},null,{"$f":"IF(BF33=\"0 to 5 gallons/ 0 to 20 L\", \"1\", IF(BF33=\"5 to 20 gallons/ 20 to 75 L\", \"2\", IF(BF33=\"20 to 50 gallons/ 75 to 190 L\", \"4\", IF(BF33=\"50 to 100 gallons/ 190 to 375 L\", \"6\", IF(BF33=\"100 to 500 gallons/ 375 to 1900 L\", \"8\", IF(BF33=\"500 to 1000 gallons/ 1900 to 3800 L\", \"10\", IF(BF33=\"More than 1000 gallons/More than 3800 L\", \"15\", \"\")))))))","v":""},null,{"$f":"IF(BH33=\"0 to 5 gallons/ 0 to 20 L\", \"1\", IF(BH33=\"5 to 20 gallons/ 20 to 75 L\", \"2\", IF(BH33=\"20 to 50 gallons/ 75 to 190 L\", \"4\", IF(BH33=\"50 to 100 gallons/ 190 to 375 L\", \"6\", IF(BH33=\"100 to 500 gallons/ 375 to 1900 L\", \"8\", IF(BH33=\"500 to 1000 gallons/ 1900 to 3800 L\", \"10\", IF(BH33=\"More than 1000 gallons/More than 3800 L\", \"15\", \"\")))))))","v":""},null,{"$f":"IF(BJ33=\"0 to 5 gallons/ 0 to 20 L\", \"1\", IF(BJ33=\"5 to 20 gallons/ 20 to 75 L\", \"2\", IF(BJ33=\"20 to 50 gallons/ 75 to 190 L\", \"4\", IF(BJ33=\"50 to 100 gallons/ 190 to 375 L\", \"6\", IF(BJ33=\"100 to 500 gallons/ 375 to 1900 L\", \"8\", IF(BJ33=\"500 to 1000 gallons/ 1900 to 3800 L\", \"10\", IF(BJ33=\"More than 1000 gallons/More than 3800 L\", \"15\", \"\")))))))","v":""},null,{"$f":"IF(BL33=\"0 to 5 gallons/ 0 to 20 L\", \"1\", IF(BL33=\"5 to 20 gallons/ 20 to 75 L\", \"2\", IF(BL33=\"20 to 50 gallons/ 75 to 190 L\", \"4\", IF(BL33=\"50 to 100 gallons/ 190 to 375 L\", \"6\", IF(BL33=\"100 to 500 gallons/ 375 to 1900 L\", \"8\", IF(BL33=\"500 to 1000 gallons/ 1900 to 3800 L\", \"10\", IF(BL33=\"More than 1000 gallons/More than 3800 L\", \"15\", \"\")))))))","v":""},null,{"$f":"IF(BN33=\"0 to 5 gallons/ 0 to 20 L\", \"1\", IF(BN33=\"5 to 20 gallons/ 20 to 75 L\", \"2\", IF(BN33=\"20 to 50 gallons/ 75 to 190 L\", \"4\", IF(BN33=\"50 to 100 gallons/ 190 to 375 L\", \"6\", IF(BN33=\"100 to 500 gallons/ 375 to 1900 L\", \"8\", IF(BN33=\"500 to 1000 gallons/ 1900 to 3800 L\", \"10\", IF(BN33=\"More than 1000 gallons/More than 3800 L\", \"15\", \"\")))))))","v":""},null,{"$f":"IF(BP33=\"0 to 5 gallons/ 0 to 20 L\", \"1\", IF(BP33=\"5 to 20 gallons/ 20 to 75 L\", \"2\", IF(BP33=\"20 to 50 gallons/ 75 to 190 L\", \"4\", IF(BP33=\"50 to 100 gallons/ 190 to 375 L\", \"6\", IF(BP33=\"100 to 500 gallons/ 375 to 1900 L\", \"8\", IF(BP33=\"500 to 1000 gallons/ 1900 to 3800 L\", \"10\", IF(BP33=\"More than 1000 gallons/More than 3800 L\", \"15\", \"\")))))))","v":""},null,{"$f":"IF(BR33=\"0 to 5 gallons/ 0 to 20 L\", \"1\", IF(BR33=\"5 to 20 gallons/ 20 to 75 L\", \"2\", IF(BR33=\"20 to 50 gallons/ 75 to 190 L\", \"4\", IF(BR33=\"50 to 100 gallons/ 190 to 375 L\", \"6\", IF(BR33=\"100 to 500 gallons/ 375 to 1900 L\", \"8\", IF(BR33=\"500 to 1000 gallons/ 1900 to 3800 L\", \"10\", IF(BR33=\"More than 1000 gallons/More than 3800 L\", \"15\", \"\")))))))","v":""},null,{"$f":"IF(BT33=\"0 to 5 gallons/ 0 to 20 L\", \"1\", IF(BT33=\"5 to 20 gallons/ 20 to 75 L\", \"2\", IF(BT33=\"20 to 50 gallons/ 75 to 190 L\", \"4\", IF(BT33=\"50 to 100 gallons/ 190 to 375 L\", \"6\", IF(BT33=\"100 to 500 gallons/ 375 to 1900 L\", \"8\", IF(BT33=\"500 to 1000 gallons/ 1900 to 3800 L\", \"10\", IF(BT33=\"More than 1000 gallons/More than 3800 L\", \"15\", \"\")))))))","v":""},null,{"$f":"IF(BV33=\"0 to 5 gallons/ 0 to 20 L\", \"1\", IF(BV33=\"5 to 20 gallons/ 20 to 75 L\", \"2\", IF(BV33=\"20 to 50 gallons/ 75 to 190 L\", \"4\", IF(BV33=\"50 to 100 gallons/ 190 to 375 L\", \"6\", IF(BV33=\"100 to 500 gallons/ 375 to 1900 L\", \"8\", IF(BV33=\"500 to 1000 gallons/ 1900 to 3800 L\", \"10\", IF(BV33=\"More than 1000 gallons/More than 3800 L\", \"15\", \"\")))))))","v":""},null,{"$f":"IF(BX33=\"0 to 5 gallons/ 0 to 20 L\", \"1\", IF(BX33=\"5 to 20 gallons/ 20 to 75 L\", \"2\", IF(BX33=\"20 to 50 gallons/ 75 to 190 L\", \"4\", IF(BX33=\"50 to 100 gallons/ 190 to 375 L\", \"6\", IF(BX33=\"100 to 500 gallons/ 375 to 1900 L\", \"8\", IF(BX33=\"500 to 1000 gallons/ 1900 to 3800 L\", \"10\", IF(BX33=\"More than 1000 gallons/More than 3800 L\", \"15\", \"\")))))))","v":""},null,{"$f":"IF(BZ33=\"0 to 5 gallons/ 0 to 20 L\", \"1\", IF(BZ33=\"5 to 20 gallons/ 20 to 75 L\", \"2\", IF(BZ33=\"20 to 50 gallons/ 75 to 190 L\", \"4\", IF(BZ33=\"50 to 100 gallons/ 190 to 375 L\", \"6\", IF(BZ33=\"100 to 500 gallons/ 375 to 1900 L\", \"8\", IF(BZ33=\"500 to 1000 gallons/ 1900 to 3800 L\", \"10\", IF(BZ33=\"More than 1000 gallons/More than 3800 L\", \"15\", \"\")))))))","v":""},null,{"$f":"IF(CB33=\"0 to 5 gallons/ 0 to 20 L\", \"1\", IF(CB33=\"5 to 20 gallons/ 20 to 75 L\", \"2\", IF(CB33=\"20 to 50 gallons/ 75 to 190 L\", \"4\", IF(CB33=\"50 to 100 gallons/ 190 to 375 L\", \"6\", IF(CB33=\"100 to 500 gallons/ 375 to 1900 L\", \"8\", IF(CB33=\"500 to 1000 gallons/ 1900 to 3800 L\", \"10\", IF(CB33=\"More than 1000 gallons/More than 3800 L\", \"15\", \"\")))))))","v":""},null,{"$f":"IF(CD33=\"0 to 5 gallons/ 0 to 20 L\", \"1\", IF(CD33=\"5 to 20 gallons/ 20 to 75 L\", \"2\", IF(CD33=\"20 to 50 gallons/ 75 to 190 L\", \"4\", IF(CD33=\"50 to 100 gallons/ 190 to 375 L\", \"6\", IF(CD33=\"100 to 500 gallons/ 375 to 1900 L\", \"8\", IF(CD33=\"500 to 1000 gallons/ 1900 to 3800 L\", \"10\", IF(CD33=\"More than 1000 gallons/More than 3800 L\", \"15\", \"\")))))))","v":""},null,{"$f":"IF(CF33=\"0 to 5 gallons/ 0 to 20 L\", \"1\", IF(CF33=\"5 to 20 gallons/ 20 to 75 L\", \"2\", IF(CF33=\"20 to 50 gallons/ 75 to 190 L\", \"4\", IF(CF33=\"50 to 100 gallons/ 190 to 375 L\", \"6\", IF(CF33=\"100 to 500 gallons/ 375 to 1900 L\", \"8\", IF(CF33=\"500 to 1000 gallons/ 1900 to 3800 L\", \"10\", IF(CF33=\"More than 1000 gallons/More than 3800 L\", \"15\", \"\")))))))","v":""},null,{"$f":"IF(CH33=\"0 to 5 gallons/ 0 to 20 L\", \"1\", IF(CH33=\"5 to 20 gallons/ 20 to 75 L\", \"2\", IF(CH33=\"20 to 50 gallons/ 75 to 190 L\", \"4\", IF(CH33=\"50 to 100 gallons/ 190 to 375 L\", \"6\", IF(CH33=\"100 to 500 gallons/ 375 to 1900 L\", \"8\", IF(CH33=\"500 to 1000 gallons/ 1900 to 3800 L\", \"10\", IF(CH33=\"More than 1000 gallons/More than 3800 L\", \"15\", \"\")))))))","v":""},null,{"$f":"IF(CJ33=\"0 to 5 gallons/ 0 to 20 L\", \"1\", IF(CJ33=\"5 to 20 gallons/ 20 to 75 L\", \"2\", IF(CJ33=\"20 to 50 gallons/ 75 to 190 L\", \"4\", IF(CJ33=\"50 to 100 gallons/ 190 to 375 L\", \"6\", IF(CJ33=\"100 to 500 gallons/ 375 to 1900 L\", \"8\", IF(CJ33=\"500 to 1000 gallons/ 1900 to 3800 L\", \"10\", IF(CJ33=\"More than 1000 gallons/More than 3800 L\", \"15\", \"\")))))))","v":""},null,{"$f":"IF(CL33=\"0 to 5 gallons/ 0 to 20 L\", \"1\", IF(CL33=\"5 to 20 gallons/ 20 to 75 L\", \"2\", IF(CL33=\"20 to 50 gallons/ 75 to 190 L\", \"4\", IF(CL33=\"50 to 100 gallons/ 190 to 375 L\", \"6\", IF(CL33=\"100 to 500 gallons/ 375 to 1900 L\", \"8\", IF(CL33=\"500 to 1000 gallons/ 1900 to 3800 L\", \"10\", IF(CL33=\"More than 1000 gallons/More than 3800 L\", \"15\", \"\")))))))","v":""},null,{"$f":"IF(CN33=\"0 to 5 gallons/ 0 to 20 L\", \"1\", IF(CN33=\"5 to 20 gallons/ 20 to 75 L\", \"2\", IF(CN33=\"20 to 50 gallons/ 75 to 190 L\", \"4\", IF(CN33=\"50 to 100 gallons/ 190 to 375 L\", \"6\", IF(CN33=\"100 to 500 gallons/ 375 to 1900 L\", \"8\", IF(CN33=\"500 to 1000 gallons/ 1900 to 3800 L\", \"10\", IF(CN33=\"More than 1000 gallons/More than 3800 L\", \"15\", \"\")))))))","v":""},null,{"$f":"IF(CP33=\"0 to 5 gallons/ 0 to 20 L\", \"1\", IF(CP33=\"5 to 20 gallons/ 20 to 75 L\", \"2\", IF(CP33=\"20 to 50 gallons/ 75 to 190 L\", \"4\", IF(CP33=\"50 to 100 gallons/ 190 to 375 L\", \"6\", IF(CP33=\"100 to 500 gallons/ 375 to 1900 L\", \"8\", IF(CP33=\"500 to 1000 gallons/ 1900 to 3800 L\", \"10\", IF(CP33=\"More than 1000 gallons/More than 3800 L\", \"15\", \"\")))))))","v":""},null,{"$f":"IF(CR33=\"0 to 5 gallons/ 0 to 20 L\", \"1\", IF(CR33=\"5 to 20 gallons/ 20 to 75 L\", \"2\", IF(CR33=\"20 to 50 gallons/ 75 to 190 L\", \"4\", IF(CR33=\"50 to 100 gallons/ 190 to 375 L\", \"6\", IF(CR33=\"100 to 500 gallons/ 375 to 1900 L\", \"8\", IF(CR33=\"500 to 1000 gallons/ 1900 to 3800 L\", \"10\", IF(CR33=\"More than 1000 gallons/More than 3800 L\", \"15\", \"\")))))))","v":""},null,{"$f":"IF(CT33=\"0 to 5 gallons/ 0 to 20 L\", \"1\", IF(CT33=\"5 to 20 gallons/ 20 to 75 L\", \"2\", IF(CT33=\"20 to 50 gallons/ 75 to 190 L\", \"4\", IF(CT33=\"50 to 100 gallons/ 190 to 375 L\", \"6\", IF(CT33=\"100 to 500 gallons/ 375 to 1900 L\", \"8\", IF(CT33=\"500 to 1000 gallons/ 1900 to 3800 L\", \"10\", IF(CT33=\"More than 1000 gallons/More than 3800 L\", \"15\", \"\")))))))","v":""},null,{"$f":"IF(CV33=\"0 to 5 gallons/ 0 to 20 L\", \"1\", IF(CV33=\"5 to 20 gallons/ 20 to 75 L\", \"2\", IF(CV33=\"20 to 50 gallons/ 75 to 190 L\", \"4\", IF(CV33=\"50 to 100 gallons/ 190 to 375 L\", \"6\", IF(CV33=\"100 to 500 gallons/ 375 to 1900 L\", \"8\", IF(CV33=\"500 to 1000 gallons/ 1900 to 3800 L\", \"10\", IF(CV33=\"More than 1000 gallons/More than 3800 L\", \"15\", \"\")))))))","v":""},null,{"$f":"IF(CX33=\"0 to 5 gallons/ 0 to 20 L\", \"1\", IF(CX33=\"5 to 20 gallons/ 20 to 75 L\", \"2\", IF(CX33=\"20 to 50 gallons/ 75 to 190 L\", \"4\", IF(CX33=\"50 to 100 gallons/ 190 to 375 L\", \"6\", IF(CX33=\"100 to 500 gallons/ 375 to 1900 L\", \"8\", IF(CX33=\"500 to 1000 gallons/ 1900 to 3800 L\", \"10\", IF(CX33=\"More than 1000 gallons/More than 3800 L\", \"15\", \"\")))))))","v":""},null,{"$f":"IF(CZ33=\"0 to 5 gallons/ 0 to 20 L\", \"1\", IF(CZ33=\"5 to 20 gallons/ 20 to 75 L\", \"2\", IF(CZ33=\"20 to 50 gallons/ 75 to 190 L\", \"4\", IF(CZ33=\"50 to 100 gallons/ 190 to 375 L\", \"6\", IF(CZ33=\"100 to 500 gallons/ 375 to 1900 L\", \"8\", IF(CZ33=\"500 to 1000 gallons/ 1900 to 3800 L\", \"10\", IF(CZ33=\"More than 1000 gallons/More than 3800 L\", \"15\", \"\")))))))","v":""},null,{"$f":"IF(DB33=\"0 to 5 gallons/ 0 to 20 L\", \"1\", IF(DB33=\"5 to 20 gallons/ 20 to 75 L\", \"2\", IF(DB33=\"20 to 50 gallons/ 75 to 190 L\", \"4\", IF(DB33=\"50 to 100 gallons/ 190 to 375 L\", \"6\", IF(DB33=\"100 to 500 gallons/ 375 to 1900 L\", \"8\", IF(DB33=\"500 to 1000 gallons/ 1900 to 3800 L\", \"10\", IF(DB33=\"More than 1000 gallons/More than 3800 L\", \"15\", \"\")))))))","v":""},null,{"$f":"IF(DD33=\"0 to 5 gallons/ 0 to 20 L\", \"1\", IF(DD33=\"5 to 20 gallons/ 20 to 75 L\", \"2\", IF(DD33=\"20 to 50 gallons/ 75 to 190 L\", \"4\", IF(DD33=\"50 to 100 gallons/ 190 to 375 L\", \"6\", IF(DD33=\"100 to 500 gallons/ 375 to 1900 L\", \"8\", IF(DD33=\"500 to 1000 gallons/ 1900 to 3800 L\", \"10\", IF(DD33=\"More than 1000 gallons/More than 3800 L\", \"15\", \"\")))))))","v":""},null,{"$f":"IF(DF33=\"0 to 5 gallons/ 0 to 20 L\", \"1\", IF(DF33=\"5 to 20 gallons/ 20 to 75 L\", \"2\", IF(DF33=\"20 to 50 gallons/ 75 to 190 L\", \"4\", IF(DF33=\"50 to 100 gallons/ 190 to 375 L\", \"6\", IF(DF33=\"100 to 500 gallons/ 375 to 1900 L\", \"8\", IF(DF33=\"500 to 1000 gallons/ 1900 to 3800 L\", \"10\", IF(DF33=\"More than 1000 gallons/More than 3800 L\", \"15\", \"\")))))))","v":""},null,{"$f":"IF(DH33=\"0 to 5 gallons/ 0 to 20 L\", \"1\", IF(DH33=\"5 to 20 gallons/ 20 to 75 L\", \"2\", IF(DH33=\"20 to 50 gallons/ 75 to 190 L\", \"4\", IF(DH33=\"50 to 100 gallons/ 190 to 375 L\", \"6\", IF(DH33=\"100 to 500 gallons/ 375 to 1900 L\", \"8\", IF(DH33=\"500 to 1000 gallons/ 1900 to 3800 L\", \"10\", IF(DH33=\"More than 1000 gallons/More than 3800 L\", \"15\", \"\")))))))","v":""},null,{"$f":"IF(DJ33=\"0 to 5 gallons/ 0 to 20 L\", \"1\", IF(DJ33=\"5 to 20 gallons/ 20 to 75 L\", \"2\", IF(DJ33=\"20 to 50 gallons/ 75 to 190 L\", \"4\", IF(DJ33=\"50 to 100 gallons/ 190 to 375 L\", \"6\", IF(DJ33=\"100 to 500 gallons/ 375 to 1900 L\", \"8\", IF(DJ33=\"500 to 1000 gallons/ 1900 to 3800 L\", \"10\", IF(DJ33=\"More than 1000 gallons/More than 3800 L\", \"15\", \"\")))))))","v":""},null,{"$f":"IF(DL33=\"0 to 5 gallons/ 0 to 20 L\", \"1\", IF(DL33=\"5 to 20 gallons/ 20 to 75 L\", \"2\", IF(DL33=\"20 to 50 gallons/ 75 to 190 L\", \"4\", IF(DL33=\"50 to 100 gallons/ 190 to 375 L\", \"6\", IF(DL33=\"100 to 500 gallons/ 375 to 1900 L\", \"8\", IF(DL33=\"500 to 1000 gallons/ 1900 to 3800 L\", \"10\", IF(DL33=\"More than 1000 gallons/More than 3800 L\", \"15\", \"\")))))))","v":""},null,{"$f":"IF(DN33=\"0 to 5 gallons/ 0 to 20 L\", \"1\", IF(DN33=\"5 to 20 gallons/ 20 to 75 L\", \"2\", IF(DN33=\"20 to 50 gallons/ 75 to 190 L\", \"4\", IF(DN33=\"50 to 100 gallons/ 190 to 375 L\", \"6\", IF(DN33=\"100 to 500 gallons/ 375 to 1900 L\", \"8\", IF(DN33=\"500 to 1000 gallons/ 1900 to 3800 L\", \"10\", IF(DN33=\"More than 1000 gallons/More than 3800 L\", \"15\", \"\")))))))","v":""},null,{"$f":"IF(DP33=\"0 to 5 gallons/ 0 to 20 L\", \"1\", IF(DP33=\"5 to 20 gallons/ 20 to 75 L\", \"2\", IF(DP33=\"20 to 50 gallons/ 75 to 190 L\", \"4\", IF(DP33=\"50 to 100 gallons/ 190 to 375 L\", \"6\", IF(DP33=\"100 to 500 gallons/ 375 to 1900 L\", \"8\", IF(DP33=\"500 to 1000 gallons/ 1900 to 3800 L\", \"10\", IF(DP33=\"More than 1000 gallons/More than 3800 L\", \"15\", \"\")))))))","v":""},null,{"$f":"IF(DR33=\"0 to 5 gallons/ 0 to 20 L\", \"1\", IF(DR33=\"5 to 20 gallons/ 20 to 75 L\", \"2\", IF(DR33=\"20 to 50 gallons/ 75 to 190 L\", \"4\", IF(DR33=\"50 to 100 gallons/ 190 to 375 L\", \"6\", IF(DR33=\"100 to 500 gallons/ 375 to 1900 L\", \"8\", IF(DR33=\"500 to 1000 gallons/ 1900 to 3800 L\", \"10\", IF(DR33=\"More than 1000 gallons/More than 3800 L\", \"15\", \"\")))))))","v":""},null,{"$f":"IF(DT33=\"0 to 5 gallons/ 0 to 20 L\", \"1\", IF(DT33=\"5 to 20 gallons/ 20 to 75 L\", \"2\", IF(DT33=\"20 to 50 gallons/ 75 to 190 L\", \"4\", IF(DT33=\"50 to 100 gallons/ 190 to 375 L\", \"6\", IF(DT33=\"100 to 500 gallons/ 375 to 1900 L\", \"8\", IF(DT33=\"500 to 1000 gallons/ 1900 to 3800 L\", \"10\", IF(DT33=\"More than 1000 gallons/More than 3800 L\", \"15\", \"\")))))))","v":""},null,{"$f":"IF(DV33=\"0 to 5 gallons/ 0 to 20 L\", \"1\", IF(DV33=\"5 to 20 gallons/ 20 to 75 L\", \"2\", IF(DV33=\"20 to 50 gallons/ 75 to 190 L\", \"4\", IF(DV33=\"50 to 100 gallons/ 190 to 375 L\", \"6\", IF(DV33=\"100 to 500 gallons/ 375 to 1900 L\", \"8\", IF(DV33=\"500 to 1000 gallons/ 1900 to 3800 L\", \"10\", IF(DV33=\"More than 1000 gallons/More than 3800 L\", \"15\", \"\")))))))","v":""},null,{"$f":"IF(DX33=\"0 to 5 gallons/ 0 to 20 L\", \"1\", IF(DX33=\"5 to 20 gallons/ 20 to 75 L\", \"2\", IF(DX33=\"20 to 50 gallons/ 75 to 190 L\", \"4\", IF(DX33=\"50 to 100 gallons/ 190 to 375 L\", \"6\", IF(DX33=\"100 to 500 gallons/ 375 to 1900 L\", \"8\", IF(DX33=\"500 to 1000 gallons/ 1900 to 3800 L\", \"10\", IF(DX33=\"More than 1000 gallons/More than 3800 L\", \"15\", \"\")))))))","v":""},null,{"$f":"IF(DZ33=\"0 to 5 gallons/ 0 to 20 L\", \"1\", IF(DZ33=\"5 to 20 gallons/ 20 to 75 L\", \"2\", IF(DZ33=\"20 to 50 gallons/ 75 to 190 L\", \"4\", IF(DZ33=\"50 to 100 gallons/ 190 to 375 L\", \"6\", IF(DZ33=\"100 to 500 gallons/ 375 to 1900 L\", \"8\", IF(DZ33=\"500 to 1000 gallons/ 1900 to 3800 L\", \"10\", IF(DZ33=\"More than 1000 gallons/More than 3800 L\", \"15\", \"\")))))))","v":""},null,{"$f":"IF(EB33=\"0 to 5 gallons/ 0 to 20 L\", \"1\", IF(EB33=\"5 to 20 gallons/ 20 to 75 L\", \"2\", IF(EB33=\"20 to 50 gallons/ 75 to 190 L\", \"4\", IF(EB33=\"50 to 100 gallons/ 190 to 375 L\", \"6\", IF(EB33=\"100 to 500 gallons/ 375 to 1900 L\", \"8\", IF(EB33=\"500 to 1000 gallons/ 1900 to 3800 L\", \"10\", IF(EB33=\"More than 1000 gallons/More than 3800 L\", \"15\", \"\")))))))","v":""},null,{"$f":"IF(ED33=\"0 to 5 gallons/ 0 to 20 L\", \"1\", IF(ED33=\"5 to 20 gallons/ 20 to 75 L\", \"2\", IF(ED33=\"20 to 50 gallons/ 75 to 190 L\", \"4\", IF(ED33=\"50 to 100 gallons/ 190 to 375 L\", \"6\", IF(ED33=\"100 to 500 gallons/ 375 to 1900 L\", \"8\", IF(ED33=\"500 to 1000 gallons/ 1900 to 3800 L\", \"10\", IF(ED33=\"More than 1000 gallons/More than 3800 L\", \"15\", \"\")))))))","v":""},null,{"$f":"IF(EF33=\"0 to 5 gallons/ 0 to 20 L\", \"1\", IF(EF33=\"5 to 20 gallons/ 20 to 75 L\", \"2\", IF(EF33=\"20 to 50 gallons/ 75 to 190 L\", \"4\", IF(EF33=\"50 to 100 gallons/ 190 to 375 L\", \"6\", IF(EF33=\"100 to 500 gallons/ 375 to 1900 L\", \"8\", IF(EF33=\"500 to 1000 gallons/ 1900 to 3800 L\", \"10\", IF(EF33=\"More than 1000 gallons/More than 3800 L\", \"15\", \"\")))))))","v":""},null,{"$f":"IF(EH33=\"0 to 5 gallons/ 0 to 20 L\", \"1\", IF(EH33=\"5 to 20 gallons/ 20 to 75 L\", \"2\", IF(EH33=\"20 to 50 gallons/ 75 to 190 L\", \"4\", IF(EH33=\"50 to 100 gallons/ 190 to 375 L\", \"6\", IF(EH33=\"100 to 500 gallons/ 375 to 1900 L\", \"8\", IF(EH33=\"500 to 1000 gallons/ 1900 to 3800 L\", \"10\", IF(EH33=\"More than 1000 gallons/More than 3800 L\", \"15\", \"\")))))))","v":""},null,{"$f":"IF(EJ33=\"0 to 5 gallons/ 0 to 20 L\", \"1\", IF(EJ33=\"5 to 20 gallons/ 20 to 75 L\", \"2\", IF(EJ33=\"20 to 50 gallons/ 75 to 190 L\", \"4\", IF(EJ33=\"50 to 100 gallons/ 190 to 375 L\", \"6\", IF(EJ33=\"100 to 500 gallons/ 375 to 1900 L\", \"8\", IF(EJ33=\"500 to 1000 gallons/ 1900 to 3800 L\", \"10\", IF(EJ33=\"More than 1000 gallons/More than 3800 L\", \"15\", \"\")))))))","v":""},null,{"$f":"IF(EL33=\"0 to 5 gallons/ 0 to 20 L\", \"1\", IF(EL33=\"5 to 20 gallons/ 20 to 75 L\", \"2\", IF(EL33=\"20 to 50 gallons/ 75 to 190 L\", \"4\", IF(EL33=\"50 to 100 gallons/ 190 to 375 L\", \"6\", IF(EL33=\"100 to 500 gallons/ 375 to 1900 L\", \"8\", IF(EL33=\"500 to 1000 gallons/ 1900 to 3800 L\", \"10\", IF(EL33=\"More than 1000 gallons/More than 3800 L\", \"15\", \"\")))))))","v":""},null,{"$f":"IF(EN33=\"0 to 5 gallons/ 0 to 20 L\", \"1\", IF(EN33=\"5 to 20 gallons/ 20 to 75 L\", \"2\", IF(EN33=\"20 to 50 gallons/ 75 to 190 L\", \"4\", IF(EN33=\"50 to 100 gallons/ 190 to 375 L\", \"6\", IF(EN33=\"100 to 500 gallons/ 375 to 1900 L\", \"8\", IF(EN33=\"500 to 1000 gallons/ 1900 to 3800 L\", \"10\", IF(EN33=\"More than 1000 gallons/More than 3800 L\", \"15\", \"\")))))))","v":""},null,{"$f":"IF(EP33=\"0 to 5 gallons/ 0 to 20 L\", \"1\", IF(EP33=\"5 to 20 gallons/ 20 to 75 L\", \"2\", IF(EP33=\"20 to 50 gallons/ 75 to 190 L\", \"4\", IF(EP33=\"50 to 100 gallons/ 190 to 375 L\", \"6\", IF(EP33=\"100 to 500 gallons/ 375 to 1900 L\", \"8\", IF(EP33=\"500 to 1000 gallons/ 1900 to 3800 L\", \"10\", IF(EP33=\"More than 1000 gallons/More than 3800 L\", \"15\", \"\")))))))","v":""},null,{"$f":"IF(ER33=\"0 to 5 gallons/ 0 to 20 L\", \"1\", IF(ER33=\"5 to 20 gallons/ 20 to 75 L\", \"2\", IF(ER33=\"20 to 50 gallons/ 75 to 190 L\", \"4\", IF(ER33=\"50 to 100 gallons/ 190 to 375 L\", \"6\", IF(ER33=\"100 to 500 gallons/ 375 to 1900 L\", \"8\", IF(ER33=\"500 to 1000 gallons/ 1900 to 3800 L\", \"10\", IF(ER33=\"More than 1000 gallons/More than 3800 L\", \"15\", \"\")))))))","v":""},null,{"$f":"IF(ET33=\"0 to 5 gallons/ 0 to 20 L\", \"1\", IF(ET33=\"5 to 20 gallons/ 20 to 75 L\", \"2\", IF(ET33=\"20 to 50 gallons/ 75 to 190 L\", \"4\", IF(ET33=\"50 to 100 gallons/ 190 to 375 L\", \"6\", IF(ET33=\"100 to 500 gallons/ 375 to 1900 L\", \"8\", IF(ET33=\"500 to 1000 gallons/ 1900 to 3800 L\", \"10\", IF(ET33=\"More than 1000 gallons/More than 3800 L\", \"15\", \"\")))))))","v":""},null,{"$f":"IF(EV33=\"0 to 5 gallons/ 0 to 20 L\", \"1\", IF(EV33=\"5 to 20 gallons/ 20 to 75 L\", \"2\", IF(EV33=\"20 to 50 gallons/ 75 to 190 L\", \"4\", IF(EV33=\"50 to 100 gallons/ 190 to 375 L\", \"6\", IF(EV33=\"100 to 500 gallons/ 375 to 1900 L\", \"8\", IF(EV33=\"500 to 1000 gallons/ 1900 to 3800 L\", \"10\", IF(EV33=\"More than 1000 gallons/More than 3800 L\", \"15\", \"\")))))))","v":""},null,{"$f":"IF(EX33=\"0 to 5 gallons/ 0 to 20 L\", \"1\", IF(EX33=\"5 to 20 gallons/ 20 to 75 L\", \"2\", IF(EX33=\"20 to 50 gallons/ 75 to 190 L\", \"4\", IF(EX33=\"50 to 100 gallons/ 190 to 375 L\", \"6\", IF(EX33=\"100 to 500 gallons/ 375 to 1900 L\", \"8\", IF(EX33=\"500 to 1000 gallons/ 1900 to 3800 L\", \"10\", IF(EX33=\"More than 1000 gallons/More than 3800 L\", \"15\", \"\")))))))","v":""},null,{"$f":"IF(EZ33=\"0 to 5 gallons/ 0 to 20 L\", \"1\", IF(EZ33=\"5 to 20 gallons/ 20 to 75 L\", \"2\", IF(EZ33=\"20 to 50 gallons/ 75 to 190 L\", \"4\", IF(EZ33=\"50 to 100 gallons/ 190 to 375 L\", \"6\", IF(EZ33=\"100 to 500 gallons/ 375 to 1900 L\", \"8\", IF(EZ33=\"500 to 1000 gallons/ 1900 to 3800 L\", \"10\", IF(EZ33=\"More than 1000 gallons/More than 3800 L\", \"15\", \"\")))))))","v":""},null,{"$f":"IF(FB33=\"0 to 5 gallons/ 0 to 20 L\", \"1\", IF(FB33=\"5 to 20 gallons/ 20 to 75 L\", \"2\", IF(FB33=\"20 to 50 gallons/ 75 to 190 L\", \"4\", IF(FB33=\"50 to 100 gallons/ 190 to 375 L\", \"6\", IF(FB33=\"100 to 500 gallons/ 375 to 1900 L\", \"8\", IF(FB33=\"500 to 1000 gallons/ 1900 to 3800 L\", \"10\", IF(FB33=\"More than 1000 gallons/More than 3800 L\", \"15\", \"\")))))))","v":""},null,{"$f":"IF(FD33=\"0 to 5 gallons/ 0 to 20 L\", \"1\", IF(FD33=\"5 to 20 gallons/ 20 to 75 L\", \"2\", IF(FD33=\"20 to 50 gallons/ 75 to 190 L\", \"4\", IF(FD33=\"50 to 100 gallons/ 190 to 375 L\", \"6\", IF(FD33=\"100 to 500 gallons/ 375 to 1900 L\", \"8\", IF(FD33=\"500 to 1000 gallons/ 1900 to 3800 L\", \"10\", IF(FD33=\"More than 1000 gallons/More than 3800 L\", \"15\", \"\")))))))","v":""}]
[null,null,"Is a water-oil separator used during the disposal of foam-hydrocarbon solutions?",null,{"$f":"IF(D34=\"Yes\",\"1\",IF(D34=\"No\", \"5\", IF(D34=\"Don't Know\", \"5\",\"\")))","v":""},null,{"$f":"IF(F34=\"Yes\",\"1\",IF(F34=\"No\", \"5\", IF(F34=\"Don't Know\", \"5\",\"\")))","v":""},null,{"$f":"IF(H34=\"Yes\",\"1\",IF(H34=\"No\", \"5\", IF(H34=\"Don't Know\", \"5\",\"\")))","v":""},null,{"$f":"IF(J34=\"Yes\",\"1\",IF(J34=\"No\", \"5\", IF(J34=\"Don't Know\", \"5\",\"\")))","v":""},null,{"$f":"IF(L34=\"Yes\",\"1\",IF(L34=\"No\", \"5\", IF(L34=\"Don't Know\", \"5\",\"\")))","v":""},null,{"$f":"IF(N34=\"Yes\",\"1\",IF(N34=\"No\", \"5\", IF(N34=\"Don't Know\", \"5\",\"\")))","v":""},null,{"$f":"IF(P34=\"Yes\",\"1\",IF(P34=\"No\", \"5\", IF(P34=\"Don't Know\", \"5\",\"\")))","v":""},null,{"$f":"IF(R34=\"Yes\",\"1\",IF(R34=\"No\", \"5\", IF(R34=\"Don't Know\", \"5\",\"\")))","v":""},null,{"$f":"IF(T34=\"Yes\",\"1\",IF(T34=\"No\", \"5\", IF(T34=\"Don't Know\", \"5\",\"\")))","v":""},null,{"$f":"IF(V34=\"Yes\",\"1\",IF(V34=\"No\", \"5\", IF(V34=\"Don't Know\", \"5\",\"\")))","v":""},null,{"$f":"IF(X34=\"Yes\",\"1\",IF(X34=\"No\", \"5\", IF(X34=\"Don't Know\", \"5\",\"\")))","v":""},null,{"$f":"IF(Z34=\"Yes\",\"1\",IF(Z34=\"No\", \"5\", IF(Z34=\"Don't Know\", \"5\",\"\")))","v":""},null,{"$f":"IF(AB34=\"Yes\",\"1\",IF(AB34=\"No\", \"5\", IF(AB34=\"Don't Know\", \"5\",\"\")))","v":""},null,{"$f":"IF(AD34=\"Yes\",\"1\",IF(AD34=\"No\", \"5\", IF(AD34=\"Don't Know\", \"5\",\"\")))","v":""},null,{"$f":"IF(AF34=\"Yes\",\"1\",IF(AF34=\"No\", \"5\", IF(AF34=\"Don't Know\", \"5\",\"\")))","v":""},null,{"$f":"IF(AH34=\"Yes\",\"1\",IF(AH34=\"No\", \"5\", IF(AH34=\"Don't Know\", \"5\",\"\")))","v":""},null,{"$f":"IF(AJ34=\"Yes\",\"1\",IF(AJ34=\"No\", \"5\", IF(AJ34=\"Don't Know\", \"5\",\"\")))","v":""},null,{"$f":"IF(AL34=\"Yes\",\"1\",IF(AL34=\"No\", \"5\", IF(AL34=\"Don't Know\", \"5\",\"\")))","v":""},null,{"$f":"IF(AN34=\"Yes\",\"1\",IF(AN34=\"No\", \"5\", IF(AN34=\"Don't Know\", \"5\",\"\")))","v":""},null,{"$f":"IF(AP34=\"Yes\",\"1\",IF(AP34=\"No\", \"5\", IF(AP34=\"Don't Know\", \"5\",\"\")))","v":""},null,{"$f":"IF(AR34=\"Yes\",\"1\",IF(AR34=\"No\", \"5\", IF(AR34=\"Don't Know\", \"5\",\"\")))","v":""},null,{"$f":"IF(AT34=\"Yes\",\"1\",IF(AT34=\"No\", \"5\", IF(AT34=\"Don't Know\", \"5\",\"\")))","v":""},null,{"$f":"IF(AV34=\"Yes\",\"1\",IF(AV34=\"No\", \"5\", IF(AV34=\"Don't Know\", \"5\",\"\")))","v":""},null,{"$f":"IF(AX34=\"Yes\",\"1\",IF(AX34=\"No\", \"5\", IF(AX34=\"Don't Know\", \"5\",\"\")))","v":""},null,{"$f":"IF(AZ34=\"Yes\",\"1\",IF(AZ34=\"No\", \"5\", IF(AZ34=\"Don't Know\", \"5\",\"\")))","v":""},null,{"$f":"IF(BB34=\"Yes\",\"1\",IF(BB34=\"No\", \"5\", IF(BB34=\"Don't Know\", \"5\",\"\")))","v":""},null,{"$f":"IF(BD34=\"Yes\",\"1\",IF(BD34=\"No\", \"5\", IF(BD34=\"Don't Know\", \"5\",\"\")))","v":""},null,{"$f":"IF(BF34=\"Yes\",\"1\",IF(BF34=\"No\", \"5\", IF(BF34=\"Don't Know\", \"5\",\"\")))","v":""},null,{"$f":"IF(BH34=\"Yes\",\"1\",IF(BH34=\"No\", \"5\", IF(BH34=\"Don't Know\", \"5\",\"\")))","v":""},null,{"$f":"IF(BJ34=\"Yes\",\"1\",IF(BJ34=\"No\", \"5\", IF(BJ34=\"Don't Know\", \"5\",\"\")))","v":""},null,{"$f":"IF(BL34=\"Yes\",\"1\",IF(BL34=\"No\", \"5\", IF(BL34=\"Don't Know\", \"5\",\"\")))","v":""},null,{"$f":"IF(BN34=\"Yes\",\"1\",IF(BN34=\"No\", \"5\", IF(BN34=\"Don't Know\", \"5\",\"\")))","v":""},null,{"$f":"IF(BP34=\"Yes\",\"1\",IF(BP34=\"No\", \"5\", IF(BP34=\"Don't Know\", \"5\",\"\")))","v":""},null,{"$f":"IF(BR34=\"Yes\",\"1\",IF(BR34=\"No\", \"5\", IF(BR34=\"Don't Know\", \"5\",\"\")))","v":""},null,{"$f":"IF(BT34=\"Yes\",\"1\",IF(BT34=\"No\", \"5\", IF(BT34=\"Don't Know\", \"5\",\"\")))","v":""},null,{"$f":"IF(BV34=\"Yes\",\"1\",IF(BV34=\"No\", \"5\", IF(BV34=\"Don't Know\", \"5\",\"\")))","v":""},null,{"$f":"IF(BX34=\"Yes\",\"1\",IF(BX34=\"No\", \"5\", IF(BX34=\"Don't Know\", \"5\",\"\")))","v":""},null,{"$f":"IF(BZ34=\"Yes\",\"1\",IF(BZ34=\"No\", \"5\", IF(BZ34=\"Don't Know\", \"5\",\"\")))","v":""},null,{"$f":"IF(CB34=\"Yes\",\"1\",IF(CB34=\"No\", \"5\", IF(CB34=\"Don't Know\", \"5\",\"\")))","v":""},null,{"$f":"IF(CD34=\"Yes\",\"1\",IF(CD34=\"No\", \"5\", IF(CD34=\"Don't Know\", \"5\",\"\")))","v":""},null,{"$f":"IF(CF34=\"Yes\",\"1\",IF(CF34=\"No\", \"5\", IF(CF34=\"Don't Know\", \"5\",\"\")))","v":""},null,{"$f":"IF(CH34=\"Yes\",\"1\",IF(CH34=\"No\", \"5\", IF(CH34=\"Don't Know\", \"5\",\"\")))","v":""},null,{"$f":"IF(CJ34=\"Yes\",\"1\",IF(CJ34=\"No\", \"5\", IF(CJ34=\"Don't Know\", \"5\",\"\")))","v":""},null,{"$f":"IF(CL34=\"Yes\",\"1\",IF(CL34=\"No\", \"5\", IF(CL34=\"Don't Know\", \"5\",\"\")))","v":""},null,{"$f":"IF(CN34=\"Yes\",\"1\",IF(CN34=\"No\", \"5\", IF(CN34=\"Don't Know\", \"5\",\"\")))","v":""},null,{"$f":"IF(CP34=\"Yes\",\"1\",IF(CP34=\"No\", \"5\", IF(CP34=\"Don't Know\", \"5\",\"\")))","v":""},null,{"$f":"IF(CR34=\"Yes\",\"1\",IF(CR34=\"No\", \"5\", IF(CR34=\"Don't Know\", \"5\",\"\")))","v":""},null,{"$f":"IF(CT34=\"Yes\",\"1\",IF(CT34=\"No\", \"5\", IF(CT34=\"Don't Know\", \"5\",\"\")))","v":""},null,{"$f":"IF(CV34=\"Yes\",\"1\",IF(CV34=\"No\", \"5\", IF(CV34=\"Don't Know\", \"5\",\"\")))","v":""},null,{"$f":"IF(CX34=\"Yes\",\"1\",IF(CX34=\"No\", \"5\", IF(CX34=\"Don't Know\", \"5\",\"\")))","v":""},null,{"$f":"IF(CZ34=\"Yes\",\"1\",IF(CZ34=\"No\", \"5\", IF(CZ34=\"Don't Know\", \"5\",\"\")))","v":""},null,{"$f":"IF(DB34=\"Yes\",\"1\",IF(DB34=\"No\", \"5\", IF(DB34=\"Don't Know\", \"5\",\"\")))","v":""},null,{"$f":"IF(DD34=\"Yes\",\"1\",IF(DD34=\"No\", \"5\", IF(DD34=\"Don't Know\", \"5\",\"\")))","v":""},null,{"$f":"IF(DF34=\"Yes\",\"1\",IF(DF34=\"No\", \"5\", IF(DF34=\"Don't Know\", \"5\",\"\")))","v":""},null,{"$f":"IF(DH34=\"Yes\",\"1\",IF(DH34=\"No\", \"5\", IF(DH34=\"Don't Know\", \"5\",\"\")))","v":""},null,{"$f":"IF(DJ34=\"Yes\",\"1\",IF(DJ34=\"No\", \"5\", IF(DJ34=\"Don't Know\", \"5\",\"\")))","v":""},null,{"$f":"IF(DL34=\"Yes\",\"1\",IF(DL34=\"No\", \"5\", IF(DL34=\"Don't Know\", \"5\",\"\")))","v":""},null,{"$f":"IF(DN34=\"Yes\",\"1\",IF(DN34=\"No\", \"5\", IF(DN34=\"Don't Know\", \"5\",\"\")))","v":""},null,{"$f":"IF(DP34=\"Yes\",\"1\",IF(DP34=\"No\", \"5\", IF(DP34=\"Don't Know\", \"5\",\"\")))","v":""},null,{"$f":"IF(DR34=\"Yes\",\"1\",IF(DR34=\"No\", \"5\", IF(DR34=\"Don't Know\", \"5\",\"\")))","v":""},null,{"$f":"IF(DT34=\"Yes\",\"1\",IF(DT34=\"No\", \"5\", IF(DT34=\"Don't Know\", \"5\",\"\")))","v":""},null,{"$f":"IF(DV34=\"Yes\",\"1\",IF(DV34=\"No\", \"5\", IF(DV34=\"Don't Know\", \"5\",\"\")))","v":""},null,{"$f":"IF(DX34=\"Yes\",\"1\",IF(DX34=\"No\", \"5\", IF(DX34=\"Don't Know\", \"5\",\"\")))","v":""},null,{"$f":"IF(DZ34=\"Yes\",\"1\",IF(DZ34=\"No\", \"5\", IF(DZ34=\"Don't Know\", \"5\",\"\")))","v":""},null,{"$f":"IF(EB34=\"Yes\",\"1\",IF(EB34=\"No\", \"5\", IF(EB34=\"Don't Know\", \"5\",\"\")))","v":""},null,{"$f":"IF(ED34=\"Yes\",\"1\",IF(ED34=\"No\", \"5\", IF(ED34=\"Don't Know\", \"5\",\"\")))","v":""},null,{"$f":"IF(EF34=\"Yes\",\"1\",IF(EF34=\"No\", \"5\", IF(EF34=\"Don't Know\", \"5\",\"\")))","v":""},null,{"$f":"IF(EH34=\"Yes\",\"1\",IF(EH34=\"No\", \"5\", IF(EH34=\"Don't Know\", \"5\",\"\")))","v":""},null,{"$f":"IF(EJ34=\"Yes\",\"1\",IF(EJ34=\"No\", \"5\", IF(EJ34=\"Don't Know\", \"5\",\"\")))","v":""},null,{"$f":"IF(EL34=\"Yes\",\"1\",IF(EL34=\"No\", \"5\", IF(EL34=\"Don't Know\", \"5\",\"\")))","v":""},null,{"$f":"IF(EN34=\"Yes\",\"1\",IF(EN34=\"No\", \"5\", IF(EN34=\"Don't Know\", \"5\",\"\")))","v":""},null,{"$f":"IF(EP34=\"Yes\",\"1\",IF(EP34=\"No\", \"5\", IF(EP34=\"Don't Know\", \"5\",\"\")))","v":""},null,{"$f":"IF(ER34=\"Yes\",\"1\",IF(ER34=\"No\", \"5\", IF(ER34=\"Don't Know\", \"5\",\"\")))","v":""},null,{"$f":"IF(ET34=\"Yes\",\"1\",IF(ET34=\"No\", \"5\", IF(ET34=\"Don't Know\", \"5\",\"\")))","v":""},null,{"$f":"IF(EV34=\"Yes\",\"1\",IF(EV34=\"No\", \"5\", IF(EV34=\"Don't Know\", \"5\",\"\")))","v":""},null,{"$f":"IF(EX34=\"Yes\",\"1\",IF(EX34=\"No\", \"5\", IF(EX34=\"Don't Know\", \"5\",\"\")))","v":""},null,{"$f":"IF(EZ34=\"Yes\",\"1\",IF(EZ34=\"No\", \"5\", IF(EZ34=\"Don't Know\", \"5\",\"\")))","v":""},null,{"$f":"IF(FB34=\"Yes\",\"1\",IF(FB34=\"No\", \"5\", IF(FB34=\"Don't Know\", \"5\",\"\")))","v":""},null,{"$f":"IF(FD34=\"Yes\",\"1\",IF(FD34=\"No\", \"5\", IF(FD34=\"Don't Know\", \"5\",\"\")))","v":""}]
[null,null,"What is the ultimate receiver of the disposed AFFF?",null,{"$f":"IF(D35=\"Manufacturer\", \"1\", IF(D35=\"Incinerator\", \"2\", IF(D35=\"Down the drain/municipal sewer system\", \"4\", IF(D35=\"Evaporated off of pavement\", \"6\", IF(D35=\"Soaked into the ground\", \"8\", IF(D35=\"Washed/runoff into surface water body\", \"10\", IF(D35=\"Sent off-site for disposal (waste management contractor or landfill)\", \"3\", IF(D35=\"Sent off-site for treatment\", \"3\", \"\"))))))))","v":""},null,{"$f":"IF(F35=\"Manufacturer\", \"1\", IF(F35=\"Incinerator\", \"2\", IF(F35=\"Down the drain/municipal sewer system\", \"4\", IF(F35=\"Evaporated off of pavement\", \"6\", IF(F35=\"Soaked into the ground\", \"8\", IF(F35=\"Washed/runoff into surface water body\", \"10\", IF(F35=\"Sent off-site for disposal (waste management contractor or landfill)\", \"3\", IF(F35=\"Sent off-site for treatment\", \"3\", \"\"))))))))","v":""},null,{"$f":"IF(H35=\"Manufacturer\", \"1\", IF(H35=\"Incinerator\", \"2\", IF(H35=\"Down the drain/municipal sewer system\", \"4\", IF(H35=\"Evaporated off of pavement\", \"6\", IF(H35=\"Soaked into the ground\", \"8\", IF(H35=\"Washed/runoff into surface water body\", \"10\", IF(H35=\"Sent off-site for disposal (waste management contractor or landfill)\", \"3\", IF(H35=\"Sent off-site for treatment\", \"3\", \"\"))))))))","v":""},null,{"$f":"IF(J35=\"Manufacturer\", \"1\", IF(J35=\"Incinerator\", \"2\", IF(J35=\"Down the drain/municipal sewer system\", \"4\", IF(J35=\"Evaporated off of pavement\", \"6\", IF(J35=\"Soaked into the ground\", \"8\", IF(J35=\"Washed/runoff into surface water body\", \"10\", IF(J35=\"Sent off-site for disposal (waste management contractor or landfill)\", \"3\", IF(J35=\"Sent off-site for treatment\", \"3\", \"\"))))))))","v":""},null,{"$f":"IF(L35=\"Manufacturer\", \"1\", IF(L35=\"Incinerator\", \"2\", IF(L35=\"Down the drain/municipal sewer system\", \"4\", IF(L35=\"Evaporated off of pavement\", \"6\", IF(L35=\"Soaked into the ground\", \"8\", IF(L35=\"Washed/runoff into surface water body\", \"10\", IF(L35=\"Sent off-site for disposal (waste management contractor or landfill)\", \"3\", IF(L35=\"Sent off-site for treatment\", \"3\", \"\"))))))))","v":""},null,{"$f":"IF(N35=\"Manufacturer\", \"1\", IF(N35=\"Incinerator\", \"2\", IF(N35=\"Down the drain/municipal sewer system\", \"4\", IF(N35=\"Evaporated off of pavement\", \"6\", IF(N35=\"Soaked into the ground\", \"8\", IF(N35=\"Washed/runoff into surface water body\", \"10\", IF(N35=\"Sent off-site for disposal (waste management contractor or landfill)\", \"3\", IF(N35=\"Sent off-site for treatment\", \"3\", \"\"))))))))","v":""},null,{"$f":"IF(P35=\"Manufacturer\", \"1\", IF(P35=\"Incinerator\", \"2\", IF(P35=\"Down the drain/municipal sewer system\", \"4\", IF(P35=\"Evaporated off of pavement\", \"6\", IF(P35=\"Soaked into the ground\", \"8\", IF(P35=\"Washed/runoff into surface water body\", \"10\", IF(P35=\"Sent off-site for disposal (waste management contractor or landfill)\", \"3\", IF(P35=\"Sent off-site for treatment\", \"3\", \"\"))))))))","v":""},null,{"$f":"IF(R35=\"Manufacturer\", \"1\", IF(R35=\"Incinerator\", \"2\", IF(R35=\"Down the drain/municipal sewer system\", \"4\", IF(R35=\"Evaporated off of pavement\", \"6\", IF(R35=\"Soaked into the ground\", \"8\", IF(R35=\"Washed/runoff into surface water body\", \"10\", IF(R35=\"Sent off-site for disposal (waste management contractor or landfill)\", \"3\", IF(R35=\"Sent off-site for treatment\", \"3\", \"\"))))))))","v":""},null,{"$f":"IF(T35=\"Manufacturer\", \"1\", IF(T35=\"Incinerator\", \"2\", IF(T35=\"Down the drain/municipal sewer system\", \"4\", IF(T35=\"Evaporated off of pavement\", \"6\", IF(T35=\"Soaked into the ground\", \"8\", IF(T35=\"Washed/runoff into surface water body\", \"10\", IF(T35=\"Sent off-site for disposal (waste management contractor or landfill)\", \"3\", IF(T35=\"Sent off-site for treatment\", \"3\", \"\"))))))))","v":""},null,{"$f":"IF(V35=\"Manufacturer\", \"1\", IF(V35=\"Incinerator\", \"2\", IF(V35=\"Down the drain/municipal sewer system\", \"4\", IF(V35=\"Evaporated off of pavement\", \"6\", IF(V35=\"Soaked into the ground\", \"8\", IF(V35=\"Washed/runoff into surface water body\", \"10\", IF(V35=\"Sent off-site for disposal (waste management contractor or landfill)\", \"3\", IF(V35=\"Sent off-site for treatment\", \"3\", \"\"))))))))","v":""},null,{"$f":"IF(X35=\"Manufacturer\", \"1\", IF(X35=\"Incinerator\", \"2\", IF(X35=\"Down the drain/municipal sewer system\", \"4\", IF(X35=\"Evaporated off of pavement\", \"6\", IF(X35=\"Soaked into the ground\", \"8\", IF(X35=\"Washed/runoff into surface water body\", \"10\", IF(X35=\"Sent off-site for disposal (waste management contractor or landfill)\", \"3\", IF(X35=\"Sent off-site for treatment\", \"3\", \"\"))))))))","v":""},null,{"$f":"IF(Z35=\"Manufacturer\", \"1\", IF(Z35=\"Incinerator\", \"2\", IF(Z35=\"Down the drain/municipal sewer system\", \"4\", IF(Z35=\"Evaporated off of pavement\", \"6\", IF(Z35=\"Soaked into the ground\", \"8\", IF(Z35=\"Washed/runoff into surface water body\", \"10\", IF(Z35=\"Sent off-site for disposal (waste management contractor or landfill)\", \"3\", IF(Z35=\"Sent off-site for treatment\", \"3\", \"\"))))))))","v":""},null,{"$f":"IF(AB35=\"Manufacturer\", \"1\", IF(AB35=\"Incinerator\", \"2\", IF(AB35=\"Down the drain/municipal sewer system\", \"4\", IF(AB35=\"Evaporated off of pavement\", \"6\", IF(AB35=\"Soaked into the ground\", \"8\", IF(AB35=\"Washed/runoff into surface water body\", \"10\", IF(AB35=\"Sent off-site for disposal (waste management contractor or landfill)\", \"3\", IF(AB35=\"Sent off-site for treatment\", \"3\", \"\"))))))))","v":""},null,{"$f":"IF(AD35=\"Manufacturer\", \"1\", IF(AD35=\"Incinerator\", \"2\", IF(AD35=\"Down the drain/municipal sewer system\", \"4\", IF(AD35=\"Evaporated off of pavement\", \"6\", IF(AD35=\"Soaked into the ground\", \"8\", IF(AD35=\"Washed/runoff into surface water body\", \"10\", IF(AD35=\"Sent off-site for disposal (waste management contractor or landfill)\", \"3\", IF(AD35=\"Sent off-site for treatment\", \"3\", \"\"))))))))","v":""},null,{"$f":"IF(AF35=\"Manufacturer\", \"1\", IF(AF35=\"Incinerator\", \"2\", IF(AF35=\"Down the drain/municipal sewer system\", \"4\", IF(AF35=\"Evaporated off of pavement\", \"6\", IF(AF35=\"Soaked into the ground\", \"8\", IF(AF35=\"Washed/runoff into surface water body\", \"10\", IF(AF35=\"Sent off-site for disposal (waste management contractor or landfill)\", \"3\", IF(AF35=\"Sent off-site for treatment\", \"3\", \"\"))))))))","v":""},null,{"$f":"IF(AH35=\"Manufacturer\", \"1\", IF(AH35=\"Incinerator\", \"2\", IF(AH35=\"Down the drain/municipal sewer system\", \"4\", IF(AH35=\"Evaporated off of pavement\", \"6\", IF(AH35=\"Soaked into the ground\", \"8\", IF(AH35=\"Washed/runoff into surface water body\", \"10\", IF(AH35=\"Sent off-site for disposal (waste management contractor or landfill)\", \"3\", IF(AH35=\"Sent off-site for treatment\", \"3\", \"\"))))))))","v":""},null,{"$f":"IF(AJ35=\"Manufacturer\", \"1\", IF(AJ35=\"Incinerator\", \"2\", IF(AJ35=\"Down the drain/municipal sewer system\", \"4\", IF(AJ35=\"Evaporated off of pavement\", \"6\", IF(AJ35=\"Soaked into the ground\", \"8\", IF(AJ35=\"Washed/runoff into surface water body\", \"10\", IF(AJ35=\"Sent off-site for disposal (waste management contractor or landfill)\", \"3\", IF(AJ35=\"Sent off-site for treatment\", \"3\", \"\"))))))))","v":""},null,{"$f":"IF(AL35=\"Manufacturer\", \"1\", IF(AL35=\"Incinerator\", \"2\", IF(AL35=\"Down the drain/municipal sewer system\", \"4\", IF(AL35=\"Evaporated off of pavement\", \"6\", IF(AL35=\"Soaked into the ground\", \"8\", IF(AL35=\"Washed/runoff into surface water body\", \"10\", IF(AL35=\"Sent off-site for disposal (waste management contractor or landfill)\", \"3\", IF(AL35=\"Sent off-site for treatment\", \"3\", \"\"))))))))","v":""},null,{"$f":"IF(AN35=\"Manufacturer\", \"1\", IF(AN35=\"Incinerator\", \"2\", IF(AN35=\"Down the drain/municipal sewer system\", \"4\", IF(AN35=\"Evaporated off of pavement\", \"6\", IF(AN35=\"Soaked into the ground\", \"8\", IF(AN35=\"Washed/runoff into surface water body\", \"10\", IF(AN35=\"Sent off-site for disposal (waste management contractor or landfill)\", \"3\", IF(AN35=\"Sent off-site for treatment\", \"3\", \"\"))))))))","v":""},null,{"$f":"IF(AP35=\"Manufacturer\", \"1\", IF(AP35=\"Incinerator\", \"2\", IF(AP35=\"Down the drain/municipal sewer system\", \"4\", IF(AP35=\"Evaporated off of pavement\", \"6\", IF(AP35=\"Soaked into the ground\", \"8\", IF(AP35=\"Washed/runoff into surface water body\", \"10\", IF(AP35=\"Sent off-site for disposal (waste management contractor or landfill)\", \"3\", IF(AP35=\"Sent off-site for treatment\", \"3\", \"\"))))))))","v":""},null,{"$f":"IF(AR35=\"Manufacturer\", \"1\", IF(AR35=\"Incinerator\", \"2\", IF(AR35=\"Down the drain/municipal sewer system\", \"4\", IF(AR35=\"Evaporated off of pavement\", \"6\", IF(AR35=\"Soaked into the ground\", \"8\", IF(AR35=\"Washed/runoff into surface water body\", \"10\", IF(AR35=\"Sent off-site for disposal (waste management contractor or landfill)\", \"3\", IF(AR35=\"Sent off-site for treatment\", \"3\", \"\"))))))))","v":""},null,{"$f":"IF(AT35=\"Manufacturer\", \"1\", IF(AT35=\"Incinerator\", \"2\", IF(AT35=\"Down the drain/municipal sewer system\", \"4\", IF(AT35=\"Evaporated off of pavement\", \"6\", IF(AT35=\"Soaked into the ground\", \"8\", IF(AT35=\"Washed/runoff into surface water body\", \"10\", IF(AT35=\"Sent off-site for disposal (waste management contractor or landfill)\", \"3\", IF(AT35=\"Sent off-site for treatment\", \"3\", \"\"))))))))","v":""},null,{"$f":"IF(AV35=\"Manufacturer\", \"1\", IF(AV35=\"Incinerator\", \"2\", IF(AV35=\"Down the drain/municipal sewer system\", \"4\", IF(AV35=\"Evaporated off of pavement\", \"6\", IF(AV35=\"Soaked into the ground\", \"8\", IF(AV35=\"Washed/runoff into surface water body\", \"10\", IF(AV35=\"Sent off-site for disposal (waste management contractor or landfill)\", \"3\", IF(AV35=\"Sent off-site for treatment\", \"3\", \"\"))))))))","v":""},null,{"$f":"IF(AX35=\"Manufacturer\", \"1\", IF(AX35=\"Incinerator\", \"2\", IF(AX35=\"Down the drain/municipal sewer system\", \"4\", IF(AX35=\"Evaporated off of pavement\", \"6\", IF(AX35=\"Soaked into the ground\", \"8\", IF(AX35=\"Washed/runoff into surface water body\", \"10\", IF(AX35=\"Sent off-site for disposal (waste management contractor or landfill)\", \"3\", IF(AX35=\"Sent off-site for treatment\", \"3\", \"\"))))))))","v":""},null,{"$f":"IF(AZ35=\"Manufacturer\", \"1\", IF(AZ35=\"Incinerator\", \"2\", IF(AZ35=\"Down the drain/municipal sewer system\", \"4\", IF(AZ35=\"Evaporated off of pavement\", \"6\", IF(AZ35=\"Soaked into the ground\", \"8\", IF(AZ35=\"Washed/runoff into surface water body\", \"10\", IF(AZ35=\"Sent off-site for disposal (waste management contractor or landfill)\", \"3\", IF(AZ35=\"Sent off-site for treatment\", \"3\", \"\"))))))))","v":""},null,{"$f":"IF(BB35=\"Manufacturer\", \"1\", IF(BB35=\"Incinerator\", \"2\", IF(BB35=\"Down the drain/municipal sewer system\", \"4\", IF(BB35=\"Evaporated off of pavement\", \"6\", IF(BB35=\"Soaked into the ground\", \"8\", IF(BB35=\"Washed/runoff into surface water body\", \"10\", IF(BB35=\"Sent off-site for disposal (waste management contractor or landfill)\", \"3\", IF(BB35=\"Sent off-site for treatment\", \"3\", \"\"))))))))","v":""},null,{"$f":"IF(BD35=\"Manufacturer\", \"1\", IF(BD35=\"Incinerator\", \"2\", IF(BD35=\"Down the drain/municipal sewer system\", \"4\", IF(BD35=\"Evaporated off of pavement\", \"6\", IF(BD35=\"Soaked into the ground\", \"8\", IF(BD35=\"Washed/runoff into surface water body\", \"10\", IF(BD35=\"Sent off-site for disposal (waste management contractor or landfill)\", \"3\", IF(BD35=\"Sent off-site for treatment\", \"3\", \"\"))))))))","v":""},null,{"$f":"IF(BF35=\"Manufacturer\", \"1\", IF(BF35=\"Incinerator\", \"2\", IF(BF35=\"Down the drain/municipal sewer system\", \"4\", IF(BF35=\"Evaporated off of pavement\", \"6\", IF(BF35=\"Soaked into the ground\", \"8\", IF(BF35=\"Washed/runoff into surface water body\", \"10\", IF(BF35=\"Sent off-site for disposal (waste management contractor or landfill)\", \"3\", IF(BF35=\"Sent off-site for treatment\", \"3\", \"\"))))))))","v":""},null,{"$f":"IF(BH35=\"Manufacturer\", \"1\", IF(BH35=\"Incinerator\", \"2\", IF(BH35=\"Down the drain/municipal sewer system\", \"4\", IF(BH35=\"Evaporated off of pavement\", \"6\", IF(BH35=\"Soaked into the ground\", \"8\", IF(BH35=\"Washed/runoff into surface water body\", \"10\", IF(BH35=\"Sent off-site for disposal (waste management contractor or landfill)\", \"3\", IF(BH35=\"Sent off-site for treatment\", \"3\", \"\"))))))))","v":""},null,{"$f":"IF(BJ35=\"Manufacturer\", \"1\", IF(BJ35=\"Incinerator\", \"2\", IF(BJ35=\"Down the drain/municipal sewer system\", \"4\", IF(BJ35=\"Evaporated off of pavement\", \"6\", IF(BJ35=\"Soaked into the ground\", \"8\", IF(BJ35=\"Washed/runoff into surface water body\", \"10\", IF(BJ35=\"Sent off-site for disposal (waste management contractor or landfill)\", \"3\", IF(BJ35=\"Sent off-site for treatment\", \"3\", \"\"))))))))","v":""},null,{"$f":"IF(BL35=\"Manufacturer\", \"1\", IF(BL35=\"Incinerator\", \"2\", IF(BL35=\"Down the drain/municipal sewer system\", \"4\", IF(BL35=\"Evaporated off of pavement\", \"6\", IF(BL35=\"Soaked into the ground\", \"8\", IF(BL35=\"Washed/runoff into surface water body\", \"10\", IF(BL35=\"Sent off-site for disposal (waste management contractor or landfill)\", \"3\", IF(BL35=\"Sent off-site for treatment\", \"3\", \"\"))))))))","v":""},null,{"$f":"IF(BN35=\"Manufacturer\", \"1\", IF(BN35=\"Incinerator\", \"2\", IF(BN35=\"Down the drain/municipal sewer system\", \"4\", IF(BN35=\"Evaporated off of pavement\", \"6\", IF(BN35=\"Soaked into the ground\", \"8\", IF(BN35=\"Washed/runoff into surface water body\", \"10\", IF(BN35=\"Sent off-site for disposal (waste management contractor or landfill)\", \"3\", IF(BN35=\"Sent off-site for treatment\", \"3\", \"\"))))))))","v":""},null,{"$f":"IF(BP35=\"Manufacturer\", \"1\", IF(BP35=\"Incinerator\", \"2\", IF(BP35=\"Down the drain/municipal sewer system\", \"4\", IF(BP35=\"Evaporated off of pavement\", \"6\", IF(BP35=\"Soaked into the ground\", \"8\", IF(BP35=\"Washed/runoff into surface water body\", \"10\", IF(BP35=\"Sent off-site for disposal (waste management contractor or landfill)\", \"3\", IF(BP35=\"Sent off-site for treatment\", \"3\", \"\"))))))))","v":""},null,{"$f":"IF(BR35=\"Manufacturer\", \"1\", IF(BR35=\"Incinerator\", \"2\", IF(BR35=\"Down the drain/municipal sewer system\", \"4\", IF(BR35=\"Evaporated off of pavement\", \"6\", IF(BR35=\"Soaked into the ground\", \"8\", IF(BR35=\"Washed/runoff into surface water body\", \"10\", IF(BR35=\"Sent off-site for disposal (waste management contractor or landfill)\", \"3\", IF(BR35=\"Sent off-site for treatment\", \"3\", \"\"))))))))","v":""},null,{"$f":"IF(BT35=\"Manufacturer\", \"1\", IF(BT35=\"Incinerator\", \"2\", IF(BT35=\"Down the drain/municipal sewer system\", \"4\", IF(BT35=\"Evaporated off of pavement\", \"6\", IF(BT35=\"Soaked into the ground\", \"8\", IF(BT35=\"Washed/runoff into surface water body\", \"10\", IF(BT35=\"Sent off-site for disposal (waste management contractor or landfill)\", \"3\", IF(BT35=\"Sent off-site for treatment\", \"3\", \"\"))))))))","v":""},null,{"$f":"IF(BV35=\"Manufacturer\", \"1\", IF(BV35=\"Incinerator\", \"2\", IF(BV35=\"Down the drain/municipal sewer system\", \"4\", IF(BV35=\"Evaporated off of pavement\", \"6\", IF(BV35=\"Soaked into the ground\", \"8\", IF(BV35=\"Washed/runoff into surface water body\", \"10\", IF(BV35=\"Sent off-site for disposal (waste management contractor or landfill)\", \"3\", IF(BV35=\"Sent off-site for treatment\", \"3\", \"\"))))))))","v":""},null,{"$f":"IF(BX35=\"Manufacturer\", \"1\", IF(BX35=\"Incinerator\", \"2\", IF(BX35=\"Down the drain/municipal sewer system\", \"4\", IF(BX35=\"Evaporated off of pavement\", \"6\", IF(BX35=\"Soaked into the ground\", \"8\", IF(BX35=\"Washed/runoff into surface water body\", \"10\", IF(BX35=\"Sent off-site for disposal (waste management contractor or landfill)\", \"3\", IF(BX35=\"Sent off-site for treatment\", \"3\", \"\"))))))))","v":""},null,{"$f":"IF(BZ35=\"Manufacturer\", \"1\", IF(BZ35=\"Incinerator\", \"2\", IF(BZ35=\"Down the drain/municipal sewer system\", \"4\", IF(BZ35=\"Evaporated off of pavement\", \"6\", IF(BZ35=\"Soaked into the ground\", \"8\", IF(BZ35=\"Washed/runoff into surface water body\", \"10\", IF(BZ35=\"Sent off-site for disposal (waste management contractor or landfill)\", \"3\", IF(BZ35=\"Sent off-site for treatment\", \"3\", \"\"))))))))","v":""},null,{"$f":"IF(CB35=\"Manufacturer\", \"1\", IF(CB35=\"Incinerator\", \"2\", IF(CB35=\"Down the drain/municipal sewer system\", \"4\", IF(CB35=\"Evaporated off of pavement\", \"6\", IF(CB35=\"Soaked into the ground\", \"8\", IF(CB35=\"Washed/runoff into surface water body\", \"10\", IF(CB35=\"Sent off-site for disposal (waste management contractor or landfill)\", \"3\", IF(CB35=\"Sent off-site for treatment\", \"3\", \"\"))))))))","v":""},null,{"$f":"IF(CD35=\"Manufacturer\", \"1\", IF(CD35=\"Incinerator\", \"2\", IF(CD35=\"Down the drain/municipal sewer system\", \"4\", IF(CD35=\"Evaporated off of pavement\", \"6\", IF(CD35=\"Soaked into the ground\", \"8\", IF(CD35=\"Washed/runoff into surface water body\", \"10\", IF(CD35=\"Sent off-site for disposal (waste management contractor or landfill)\", \"3\", IF(CD35=\"Sent off-site for treatment\", \"3\", \"\"))))))))","v":""},null,{"$f":"IF(CF35=\"Manufacturer\", \"1\", IF(CF35=\"Incinerator\", \"2\", IF(CF35=\"Down the drain/municipal sewer system\", \"4\", IF(CF35=\"Evaporated off of pavement\", \"6\", IF(CF35=\"Soaked into the ground\", \"8\", IF(CF35=\"Washed/runoff into surface water body\", \"10\", IF(CF35=\"Sent off-site for disposal (waste management contractor or landfill)\", \"3\", IF(CF35=\"Sent off-site for treatment\", \"3\", \"\"))))))))","v":""},null,{"$f":"IF(CH35=\"Manufacturer\", \"1\", IF(CH35=\"Incinerator\", \"2\", IF(CH35=\"Down the drain/municipal sewer system\", \"4\", IF(CH35=\"Evaporated off of pavement\", \"6\", IF(CH35=\"Soaked into the ground\", \"8\", IF(CH35=\"Washed/runoff into surface water body\", \"10\", IF(CH35=\"Sent off-site for disposal (waste management contractor or landfill)\", \"3\", IF(CH35=\"Sent off-site for treatment\", \"3\", \"\"))))))))","v":""},null,{"$f":"IF(CJ35=\"Manufacturer\", \"1\", IF(CJ35=\"Incinerator\", \"2\", IF(CJ35=\"Down the drain/municipal sewer system\", \"4\", IF(CJ35=\"Evaporated off of pavement\", \"6\", IF(CJ35=\"Soaked into the ground\", \"8\", IF(CJ35=\"Washed/runoff into surface water body\", \"10\", IF(CJ35=\"Sent off-site for disposal (waste management contractor or landfill)\", \"3\", IF(CJ35=\"Sent off-site for treatment\", \"3\", \"\"))))))))","v":""},null,{"$f":"IF(CL35=\"Manufacturer\", \"1\", IF(CL35=\"Incinerator\", \"2\", IF(CL35=\"Down the drain/municipal sewer system\", \"4\", IF(CL35=\"Evaporated off of pavement\", \"6\", IF(CL35=\"Soaked into the ground\", \"8\", IF(CL35=\"Washed/runoff into surface water body\", \"10\", IF(CL35=\"Sent off-site for disposal (waste management contractor or landfill)\", \"3\", IF(CL35=\"Sent off-site for treatment\", \"3\", \"\"))))))))","v":""},null,{"$f":"IF(CN35=\"Manufacturer\", \"1\", IF(CN35=\"Incinerator\", \"2\", IF(CN35=\"Down the drain/municipal sewer system\", \"4\", IF(CN35=\"Evaporated off of pavement\", \"6\", IF(CN35=\"Soaked into the ground\", \"8\", IF(CN35=\"Washed/runoff into surface water body\", \"10\", IF(CN35=\"Sent off-site for disposal (waste management contractor or landfill)\", \"3\", IF(CN35=\"Sent off-site for treatment\", \"3\", \"\"))))))))","v":""},null,{"$f":"IF(CP35=\"Manufacturer\", \"1\", IF(CP35=\"Incinerator\", \"2\", IF(CP35=\"Down the drain/municipal sewer system\", \"4\", IF(CP35=\"Evaporated off of pavement\", \"6\", IF(CP35=\"Soaked into the ground\", \"8\", IF(CP35=\"Washed/runoff into surface water body\", \"10\", IF(CP35=\"Sent off-site for disposal (waste management contractor or landfill)\", \"3\", IF(CP35=\"Sent off-site for treatment\", \"3\", \"\"))))))))","v":""},null,{"$f":"IF(CR35=\"Manufacturer\", \"1\", IF(CR35=\"Incinerator\", \"2\", IF(CR35=\"Down the drain/municipal sewer system\", \"4\", IF(CR35=\"Evaporated off of pavement\", \"6\", IF(CR35=\"Soaked into the ground\", \"8\", IF(CR35=\"Washed/runoff into surface water body\", \"10\", IF(CR35=\"Sent off-site for disposal (waste management contractor or landfill)\", \"3\", IF(CR35=\"Sent off-site for treatment\", \"3\", \"\"))))))))","v":""},null,{"$f":"IF(CT35=\"Manufacturer\", \"1\", IF(CT35=\"Incinerator\", \"2\", IF(CT35=\"Down the drain/municipal sewer system\", \"4\", IF(CT35=\"Evaporated off of pavement\", \"6\", IF(CT35=\"Soaked into the ground\", \"8\", IF(CT35=\"Washed/runoff into surface water body\", \"10\", IF(CT35=\"Sent off-site for disposal (waste management contractor or landfill)\", \"3\", IF(CT35=\"Sent off-site for treatment\", \"3\", \"\"))))))))","v":""},null,{"$f":"IF(CV35=\"Manufacturer\", \"1\", IF(CV35=\"Incinerator\", \"2\", IF(CV35=\"Down the drain/municipal sewer system\", \"4\", IF(CV35=\"Evaporated off of pavement\", \"6\", IF(CV35=\"Soaked into the ground\", \"8\", IF(CV35=\"Washed/runoff into surface water body\", \"10\", IF(CV35=\"Sent off-site for disposal (waste management contractor or landfill)\", \"3\", IF(CV35=\"Sent off-site for treatment\", \"3\", \"\"))))))))","v":""},null,{"$f":"IF(CX35=\"Manufacturer\", \"1\", IF(CX35=\"Incinerator\", \"2\", IF(CX35=\"Down the drain/municipal sewer system\", \"4\", IF(CX35=\"Evaporated off of pavement\", \"6\", IF(CX35=\"Soaked into the ground\", \"8\", IF(CX35=\"Washed/runoff into surface water body\", \"10\", IF(CX35=\"Sent off-site for disposal (waste management contractor or landfill)\", \"3\", IF(CX35=\"Sent off-site for treatment\", \"3\", \"\"))))))))","v":""},null,{"$f":"IF(CZ35=\"Manufacturer\", \"1\", IF(CZ35=\"Incinerator\", \"2\", IF(CZ35=\"Down the drain/municipal sewer system\", \"4\", IF(CZ35=\"Evaporated off of pavement\", \"6\", IF(CZ35=\"Soaked into the ground\", \"8\", IF(CZ35=\"Washed/runoff into surface water body\", \"10\", IF(CZ35=\"Sent off-site for disposal (waste management contractor or landfill)\", \"3\", IF(CZ35=\"Sent off-site for treatment\", \"3\", \"\"))))))))","v":""},null,{"$f":"IF(DB35=\"Manufacturer\", \"1\", IF(DB35=\"Incinerator\", \"2\", IF(DB35=\"Down the drain/municipal sewer system\", \"4\", IF(DB35=\"Evaporated off of pavement\", \"6\", IF(DB35=\"Soaked into the ground\", \"8\", IF(DB35=\"Washed/runoff into surface water body\", \"10\", IF(DB35=\"Sent off-site for disposal (waste management contractor or landfill)\", \"3\", IF(DB35=\"Sent off-site for treatment\", \"3\", \"\"))))))))","v":""},null,{"$f":"IF(DD35=\"Manufacturer\", \"1\", IF(DD35=\"Incinerator\", \"2\", IF(DD35=\"Down the drain/municipal sewer system\", \"4\", IF(DD35=\"Evaporated off of pavement\", \"6\", IF(DD35=\"Soaked into the ground\", \"8\", IF(DD35=\"Washed/runoff into surface water body\", \"10\", IF(DD35=\"Sent off-site for disposal (waste management contractor or landfill)\", \"3\", IF(DD35=\"Sent off-site for treatment\", \"3\", \"\"))))))))","v":""},null,{"$f":"IF(DF35=\"Manufacturer\", \"1\", IF(DF35=\"Incinerator\", \"2\", IF(DF35=\"Down the drain/municipal sewer system\", \"4\", IF(DF35=\"Evaporated off of pavement\", \"6\", IF(DF35=\"Soaked into the ground\", \"8\", IF(DF35=\"Washed/runoff into surface water body\", \"10\", IF(DF35=\"Sent off-site for disposal (waste management contractor or landfill)\", \"3\", IF(DF35=\"Sent off-site for treatment\", \"3\", \"\"))))))))","v":""},null,{"$f":"IF(DH35=\"Manufacturer\", \"1\", IF(DH35=\"Incinerator\", \"2\", IF(DH35=\"Down the drain/municipal sewer system\", \"4\", IF(DH35=\"Evaporated off of pavement\", \"6\", IF(DH35=\"Soaked into the ground\", \"8\", IF(DH35=\"Washed/runoff into surface water body\", \"10\", IF(DH35=\"Sent off-site for disposal (waste management contractor or landfill)\", \"3\", IF(DH35=\"Sent off-site for treatment\", \"3\", \"\"))))))))","v":""},null,{"$f":"IF(DJ35=\"Manufacturer\", \"1\", IF(DJ35=\"Incinerator\", \"2\", IF(DJ35=\"Down the drain/municipal sewer system\", \"4\", IF(DJ35=\"Evaporated off of pavement\", \"6\", IF(DJ35=\"Soaked into the ground\", \"8\", IF(DJ35=\"Washed/runoff into surface water body\", \"10\", IF(DJ35=\"Sent off-site for disposal (waste management contractor or landfill)\", \"3\", IF(DJ35=\"Sent off-site for treatment\", \"3\", \"\"))))))))","v":""},null,{"$f":"IF(DL35=\"Manufacturer\", \"1\", IF(DL35=\"Incinerator\", \"2\", IF(DL35=\"Down the drain/municipal sewer system\", \"4\", IF(DL35=\"Evaporated off of pavement\", \"6\", IF(DL35=\"Soaked into the ground\", \"8\", IF(DL35=\"Washed/runoff into surface water body\", \"10\", IF(DL35=\"Sent off-site for disposal (waste management contractor or landfill)\", \"3\", IF(DL35=\"Sent off-site for treatment\", \"3\", \"\"))))))))","v":""},null,{"$f":"IF(DN35=\"Manufacturer\", \"1\", IF(DN35=\"Incinerator\", \"2\", IF(DN35=\"Down the drain/municipal sewer system\", \"4\", IF(DN35=\"Evaporated off of pavement\", \"6\", IF(DN35=\"Soaked into the ground\", \"8\", IF(DN35=\"Washed/runoff into surface water body\", \"10\", IF(DN35=\"Sent off-site for disposal (waste management contractor or landfill)\", \"3\", IF(DN35=\"Sent off-site for treatment\", \"3\", \"\"))))))))","v":""},null,{"$f":"IF(DP35=\"Manufacturer\", \"1\", IF(DP35=\"Incinerator\", \"2\", IF(DP35=\"Down the drain/municipal sewer system\", \"4\", IF(DP35=\"Evaporated off of pavement\", \"6\", IF(DP35=\"Soaked into the ground\", \"8\", IF(DP35=\"Washed/runoff into surface water body\", \"10\", IF(DP35=\"Sent off-site for disposal (waste management contractor or landfill)\", \"3\", IF(DP35=\"Sent off-site for treatment\", \"3\", \"\"))))))))","v":""},null,{"$f":"IF(DR35=\"Manufacturer\", \"1\", IF(DR35=\"Incinerator\", \"2\", IF(DR35=\"Down the drain/municipal sewer system\", \"4\", IF(DR35=\"Evaporated off of pavement\", \"6\", IF(DR35=\"Soaked into the ground\", \"8\", IF(DR35=\"Washed/runoff into surface water body\", \"10\", IF(DR35=\"Sent off-site for disposal (waste management contractor or landfill)\", \"3\", IF(DR35=\"Sent off-site for treatment\", \"3\", \"\"))))))))","v":""},null,{"$f":"IF(DT35=\"Manufacturer\", \"1\", IF(DT35=\"Incinerator\", \"2\", IF(DT35=\"Down the drain/municipal sewer system\", \"4\", IF(DT35=\"Evaporated off of pavement\", \"6\", IF(DT35=\"Soaked into the ground\", \"8\", IF(DT35=\"Washed/runoff into surface water body\", \"10\", IF(DT35=\"Sent off-site for disposal (waste management contractor or landfill)\", \"3\", IF(DT35=\"Sent off-site for treatment\", \"3\", \"\"))))))))","v":""},null,{"$f":"IF(DV35=\"Manufacturer\", \"1\", IF(DV35=\"Incinerator\", \"2\", IF(DV35=\"Down the drain/municipal sewer system\", \"4\", IF(DV35=\"Evaporated off of pavement\", \"6\", IF(DV35=\"Soaked into the ground\", \"8\", IF(DV35=\"Washed/runoff into surface water body\", \"10\", IF(DV35=\"Sent off-site for disposal (waste management contractor or landfill)\", \"3\", IF(DV35=\"Sent off-site for treatment\", \"3\", \"\"))))))))","v":""},null,{"$f":"IF(DX35=\"Manufacturer\", \"1\", IF(DX35=\"Incinerator\", \"2\", IF(DX35=\"Down the drain/municipal sewer system\", \"4\", IF(DX35=\"Evaporated off of pavement\", \"6\", IF(DX35=\"Soaked into the ground\", \"8\", IF(DX35=\"Washed/runoff into surface water body\", \"10\", IF(DX35=\"Sent off-site for disposal (waste management contractor or landfill)\", \"3\", IF(DX35=\"Sent off-site for treatment\", \"3\", \"\"))))))))","v":""},null,{"$f":"IF(DZ35=\"Manufacturer\", \"1\", IF(DZ35=\"Incinerator\", \"2\", IF(DZ35=\"Down the drain/municipal sewer system\", \"4\", IF(DZ35=\"Evaporated off of pavement\", \"6\", IF(DZ35=\"Soaked into the ground\", \"8\", IF(DZ35=\"Washed/runoff into surface water body\", \"10\", IF(DZ35=\"Sent off-site for disposal (waste management contractor or landfill)\", \"3\", IF(DZ35=\"Sent off-site for treatment\", \"3\", \"\"))))))))","v":""},null,{"$f":"IF(EB35=\"Manufacturer\", \"1\", IF(EB35=\"Incinerator\", \"2\", IF(EB35=\"Down the drain/municipal sewer system\", \"4\", IF(EB35=\"Evaporated off of pavement\", \"6\", IF(EB35=\"Soaked into the ground\", \"8\", IF(EB35=\"Washed/runoff into surface water body\", \"10\", IF(EB35=\"Sent off-site for disposal (waste management contractor or landfill)\", \"3\", IF(EB35=\"Sent off-site for treatment\", \"3\", \"\"))))))))","v":""},null,{"$f":"IF(ED35=\"Manufacturer\", \"1\", IF(ED35=\"Incinerator\", \"2\", IF(ED35=\"Down the drain/municipal sewer system\", \"4\", IF(ED35=\"Evaporated off of pavement\", \"6\", IF(ED35=\"Soaked into the ground\", \"8\", IF(ED35=\"Washed/runoff into surface water body\", \"10\", IF(ED35=\"Sent off-site for disposal (waste management contractor or landfill)\", \"3\", IF(ED35=\"Sent off-site for treatment\", \"3\", \"\"))))))))","v":""},null,{"$f":"IF(EF35=\"Manufacturer\", \"1\", IF(EF35=\"Incinerator\", \"2\", IF(EF35=\"Down the drain/municipal sewer system\", \"4\", IF(EF35=\"Evaporated off of pavement\", \"6\", IF(EF35=\"Soaked into the ground\", \"8\", IF(EF35=\"Washed/runoff into surface water body\", \"10\", IF(EF35=\"Sent off-site for disposal (waste management contractor or landfill)\", \"3\", IF(EF35=\"Sent off-site for treatment\", \"3\", \"\"))))))))","v":""},null,{"$f":"IF(EH35=\"Manufacturer\", \"1\", IF(EH35=\"Incinerator\", \"2\", IF(EH35=\"Down the drain/municipal sewer system\", \"4\", IF(EH35=\"Evaporated off of pavement\", \"6\", IF(EH35=\"Soaked into the ground\", \"8\", IF(EH35=\"Washed/runoff into surface water body\", \"10\", IF(EH35=\"Sent off-site for disposal (waste management contractor or landfill)\", \"3\", IF(EH35=\"Sent off-site for treatment\", \"3\", \"\"))))))))","v":""},null,{"$f":"IF(EJ35=\"Manufacturer\", \"1\", IF(EJ35=\"Incinerator\", \"2\", IF(EJ35=\"Down the drain/municipal sewer system\", \"4\", IF(EJ35=\"Evaporated off of pavement\", \"6\", IF(EJ35=\"Soaked into the ground\", \"8\", IF(EJ35=\"Washed/runoff into surface water body\", \"10\", IF(EJ35=\"Sent off-site for disposal (waste management contractor or landfill)\", \"3\", IF(EJ35=\"Sent off-site for treatment\", \"3\", \"\"))))))))","v":""},null,{"$f":"IF(EL35=\"Manufacturer\", \"1\", IF(EL35=\"Incinerator\", \"2\", IF(EL35=\"Down the drain/municipal sewer system\", \"4\", IF(EL35=\"Evaporated off of pavement\", \"6\", IF(EL35=\"Soaked into the ground\", \"8\", IF(EL35=\"Washed/runoff into surface water body\", \"10\", IF(EL35=\"Sent off-site for disposal (waste management contractor or landfill)\", \"3\", IF(EL35=\"Sent off-site for treatment\", \"3\", \"\"))))))))","v":""},null,{"$f":"IF(EN35=\"Manufacturer\", \"1\", IF(EN35=\"Incinerator\", \"2\", IF(EN35=\"Down the drain/municipal sewer system\", \"4\", IF(EN35=\"Evaporated off of pavement\", \"6\", IF(EN35=\"Soaked into the ground\", \"8\", IF(EN35=\"Washed/runoff into surface water body\", \"10\", IF(EN35=\"Sent off-site for disposal (waste management contractor or landfill)\", \"3\", IF(EN35=\"Sent off-site for treatment\", \"3\", \"\"))))))))","v":""},null,{"$f":"IF(EP35=\"Manufacturer\", \"1\", IF(EP35=\"Incinerator\", \"2\", IF(EP35=\"Down the drain/municipal sewer system\", \"4\", IF(EP35=\"Evaporated off of pavement\", \"6\", IF(EP35=\"Soaked into the ground\", \"8\", IF(EP35=\"Washed/runoff into surface water body\", \"10\", IF(EP35=\"Sent off-site for disposal (waste management contractor or landfill)\", \"3\", IF(EP35=\"Sent off-site for treatment\", \"3\", \"\"))))))))","v":""},null,{"$f":"IF(ER35=\"Manufacturer\", \"1\", IF(ER35=\"Incinerator\", \"2\", IF(ER35=\"Down the drain/municipal sewer system\", \"4\", IF(ER35=\"Evaporated off of pavement\", \"6\", IF(ER35=\"Soaked into the ground\", \"8\", IF(ER35=\"Washed/runoff into surface water body\", \"10\", IF(ER35=\"Sent off-site for disposal (waste management contractor or landfill)\", \"3\", IF(ER35=\"Sent off-site for treatment\", \"3\", \"\"))))))))","v":""},null,{"$f":"IF(ET35=\"Manufacturer\", \"1\", IF(ET35=\"Incinerator\", \"2\", IF(ET35=\"Down the drain/municipal sewer system\", \"4\", IF(ET35=\"Evaporated off of pavement\", \"6\", IF(ET35=\"Soaked into the ground\", \"8\", IF(ET35=\"Washed/runoff into surface water body\", \"10\", IF(ET35=\"Sent off-site for disposal (waste management contractor or landfill)\", \"3\", IF(ET35=\"Sent off-site for treatment\", \"3\", \"\"))))))))","v":""},null,{"$f":"IF(EV35=\"Manufacturer\", \"1\", IF(EV35=\"Incinerator\", \"2\", IF(EV35=\"Down the drain/municipal sewer system\", \"4\", IF(EV35=\"Evaporated off of pavement\", \"6\", IF(EV35=\"Soaked into the ground\", \"8\", IF(EV35=\"Washed/runoff into surface water body\", \"10\", IF(EV35=\"Sent off-site for disposal (waste management contractor or landfill)\", \"3\", IF(EV35=\"Sent off-site for treatment\", \"3\", \"\"))))))))","v":""},null,{"$f":"IF(EX35=\"Manufacturer\", \"1\", IF(EX35=\"Incinerator\", \"2\", IF(EX35=\"Down the drain/municipal sewer system\", \"4\", IF(EX35=\"Evaporated off of pavement\", \"6\", IF(EX35=\"Soaked into the ground\", \"8\", IF(EX35=\"Washed/runoff into surface water body\", \"10\", IF(EX35=\"Sent off-site for disposal (waste management contractor or landfill)\", \"3\", IF(EX35=\"Sent off-site for treatment\", \"3\", \"\"))))))))","v":""},null,{"$f":"IF(EZ35=\"Manufacturer\", \"1\", IF(EZ35=\"Incinerator\", \"2\", IF(EZ35=\"Down the drain/municipal sewer system\", \"4\", IF(EZ35=\"Evaporated off of pavement\", \"6\", IF(EZ35=\"Soaked into the ground\", \"8\", IF(EZ35=\"Washed/runoff into surface water body\", \"10\", IF(EZ35=\"Sent off-site for disposal (waste management contractor or landfill)\", \"3\", IF(EZ35=\"Sent off-site for treatment\", \"3\", \"\"))))))))","v":""},null,{"$f":"IF(FB35=\"Manufacturer\", \"1\", IF(FB35=\"Incinerator\", \"2\", IF(FB35=\"Down the drain/municipal sewer system\", \"4\", IF(FB35=\"Evaporated off of pavement\", \"6\", IF(FB35=\"Soaked into the ground\", \"8\", IF(FB35=\"Washed/runoff into surface water body\", \"10\", IF(FB35=\"Sent off-site for disposal (waste management contractor or landfill)\", \"3\", IF(FB35=\"Sent off-site for treatment\", \"3\", \"\"))))))))","v":""},null,{"$f":"IF(FD35=\"Manufacturer\", \"1\", IF(FD35=\"Incinerator\", \"2\", IF(FD35=\"Down the drain/municipal sewer system\", \"4\", IF(FD35=\"Evaporated off of pavement\", \"6\", IF(FD35=\"Soaked into the ground\", \"8\", IF(FD35=\"Washed/runoff into surface water body\", \"10\", IF(FD35=\"Sent off-site for disposal (waste management contractor or landfill)\", \"3\", IF(FD35=\"Sent off-site for treatment\", \"3\", \"\"))))))))","v":""}]
[null,null,"SCORE",{"$f":"IFERROR((E32*E33*E35)+E34, \"\")","v":""},null,{"$f":"IFERROR((G32*G33*G35)+G34, \"\")","v":""},null,{"$f":"IFERROR((I32*I33*I35)+I34, \"\")","v":""},null,{"$f":"IFERROR((K32*K33*K35)+K34, \"\")","v":""},null,{"$f":"IFERROR((M32*M33*M35)+M34, \"\")","v":""},null,{"$f":"IFERROR((O32*O33*O35)+O34, \"\")","v":""},null,{"$f":"IFERROR((Q32*Q33*Q35)+Q34, \"\")","v":""},null,{"$f":"IFERROR((S32*S33*S35)+S34, \"\")","v":""},null,{"$f":"IFERROR((U32*U33*U35)+U34, \"\")","v":""},null,{"$f":"IFERROR((W32*W33*W35)+W34, \"\")","v":""},null,{"$f":"IFERROR((Y32*Y33*Y35)+Y34, \"\")","v":""},null,{"$f":"IFERROR((AA32*AA33*AA35)+AA34, \"\")","v":""},null,{"$f":"IFERROR((AC32*AC33*AC35)+AC34, \"\")","v":""},null,{"$f":"IFERROR((AE32*AE33*AE35)+AE34, \"\")","v":""},null,{"$f":"IFERROR((AG32*AG33*AG35)+AG34, \"\")","v":""},null,{"$f":"IFERROR((AI32*AI33*AI35)+AI34, \"\")","v":""},null,{"$f":"IFERROR((AK32*AK33*AK35)+AK34, \"\")","v":""},null,{"$f":"IFERROR((AM32*AM33*AM35)+AM34, \"\")","v":""},null,{"$f":"IFERROR((AO32*AO33*AO35)+AO34, \"\")","v":""},null,{"$f":"IFERROR((AQ32*AQ33*AQ35)+AQ34, \"\")","v":""},null,{"$f":"IFERROR((AS32*AS33*AS35)+AS34, \"\")","v":""},null,{"$f":"IFERROR((AU32*AU33*AU35)+AU34, \"\")","v":""},null,{"$f":"IFERROR((AW32*AW33*AW35)+AW34, \"\")","v":""},null,{"$f":"IFERROR((AY32*AY33*AY35)+AY34, \"\")","v":""},null,{"$f":"IFERROR((BA32*BA33*BA35)+BA34, \"\")","v":""},null,{"$f":"IFERROR((BC32*BC33*BC35)+BC34, \"\")","v":""},null,{"$f":"IFERROR((BE32*BE33*BE35)+BE34, \"\")","v":""},null,{"$f":"IFERROR((BG32*BG33*BG35)+BG34, \"\")","v":""},null,{"$f":"IFERROR((BI32*BI33*BI35)+BI34, \"\")","v":""},null,{"$f":"IFERROR((BK32*BK33*BK35)+BK34, \"\")","v":""},null,{"$f":"IFERROR((BM32*BM33*BM35)+BM34, \"\")","v":""},null,{"$f":"IFERROR((BO32*BO33*BO35)+BO34, \"\")","v":""},null,{"$f":"IFERROR((BQ32*BQ33*BQ35)+BQ34, \"\")","v":""},null,{"$f":"IFERROR((BS32*BS33*BS35)+BS34, \"\")","v":""},null,{"$f":"IFERROR((BU32*BU33*BU35)+BU34, \"\")","v":""},null,{"$f":"IFERROR((BW32*BW33*BW35)+BW34, \"\")","v":""},null,{"$f":"IFERROR((BY32*BY33*BY35)+BY34, \"\")","v":""},null,{"$f":"IFERROR((CA32*CA33*CA35)+CA34, \"\")","v":""},null,{"$f":"IFERROR((CC32*CC33*CC35)+CC34, \"\")","v":""},null,{"$f":"IFERROR((CE32*CE33*CE35)+CE34, \"\")","v":""},null,{"$f":"IFERROR((CG32*CG33*CG35)+CG34, \"\")","v":""},null,{"$f":"IFERROR((CI32*CI33*CI35)+CI34, \"\")","v":""},null,{"$f":"IFERROR((CK32*CK33*CK35)+CK34, \"\")","v":""},null,{"$f":"IFERROR((CM32*CM33*CM35)+CM34, \"\")","v":""},null,{"$f":"IFERROR((CO32*CO33*CO35)+CO34, \"\")","v":""},null,{"$f":"IFERROR((CQ32*CQ33*CQ35)+CQ34, \"\")","v":""},null,{"$f":"IFERROR((CS32*CS33*CS35)+CS34, \"\")","v":""},null,{"$f":"IFERROR((CU32*CU33*CU35)+CU34, \"\")","v":""},null,{"$f":"IFERROR((CW32*CW33*CW35)+CW34, \"\")","v":""},null,{"$f":"IFERROR((CY32*CY33*CY35)+CY34, \"\")","v":""},null,{"$f":"IFERROR((DA32*DA33*DA35)+DA34, \"\")","v":""},null,{"$f":"IFERROR((DC32*DC33*DC35)+DC34, \"\")","v":""},null,{"$f":"IFERROR((DE32*DE33*DE35)+DE34, \"\")","v":""},null,{"$f":"IFERROR((DG32*DG33*DG35)+DG34, \"\")","v":""},null,{"$f":"IFERROR((DI32*DI33*DI35)+DI34, \"\")","v":""},null,{"$f":"IFERROR((DK32*DK33*DK35)+DK34, \"\")","v":""},null,{"$f":"IFERROR((DM32*DM33*DM35)+DM34, \"\")","v":""},null,{"$f":"IFERROR((DO32*DO33*DO35)+DO34, \"\")","v":""},null,{"$f":"IFERROR((DQ32*DQ33*DQ35)+DQ34, \"\")","v":""},null,{"$f":"IFERROR((DS32*DS33*DS35)+DS34, \"\")","v":""},null,{"$f":"IFERROR((DU32*DU33*DU35)+DU34, \"\")","v":""},null,{"$f":"IFERROR((DW32*DW33*DW35)+DW34, \"\")","v":""},null,{"$f":"IFERROR((DY32*DY33*DY35)+DY34, \"\")","v":""},null,{"$f":"IFERROR((EA32*EA33*EA35)+EA34, \"\")","v":""},null,{"$f":"IFERROR((EC32*EC33*EC35)+EC34, \"\")","v":""},null,{"$f":"IFERROR((EE32*EE33*EE35)+EE34, \"\")","v":""},null,{"$f":"IFERROR((EG32*EG33*EG35)+EG34, \"\")","v":""},null,{"$f":"IFERROR((EI32*EI33*EI35)+EI34, \"\")","v":""},null,{"$f":"IFERROR((EK32*EK33*EK35)+EK34, \"\")","v":""},null,{"$f":"IFERROR((EM32*EM33*EM35)+EM34, \"\")","v":""},null,{"$f":"IFERROR((EO32*EO33*EO35)+EO34, \"\")","v":""},null,{"$f":"IFERROR((EQ32*EQ33*EQ35)+EQ34, \"\")","v":""},null,{"$f":"IFERROR((ES32*ES33*ES35)+ES34, \"\")","v":""},null,{"$f":"IFERROR((EU32*EU33*EU35)+EU34, \"\")","v":""},null,{"$f":"IFERROR((EW32*EW33*EW35)+EW34, \"\")","v":""},null,{"$f":"IFERROR((EY32*EY33*EY35)+EY34, \"\")","v":""},null,{"$f":"IFERROR((FA32*FA33*FA35)+FA34, \"\")","v":""},null,{"$f":"IFERROR((FC32*FC33*FC35)+FC34, \"\")","v":""},null,{"$f":"IFERROR((FE32*FE33*FE35)+FE34, \"\")","v":""}]
[null,"TOTAL SCORE FOR APEC",null,{"$f":"IFERROR(D13+D20+D31+D36, \"\")","v":""},null,{"$f":"IFERROR(F13+F20+F31+F36, \"\")","v":""},null,{"$f":"IFERROR(H13+H20+H31+H36, \"\")","v":""},null,{"$f":"IFERROR(J13+J20+J31+J36, \"\")","v":""},null,{"$f":"IFERROR(L13+L20+L31+L36, \"\")","v":""},null,{"$f":"IFERROR(N13+N20+N31+N36, \"\")","v":""},null,{"$f":"IFERROR(P13+P20+P31+P36, \"\")","v":""},null,{"$f":"IFERROR(R13+R20+R31+R36, \"\")","v":""},null,{"$f":"IFERROR(T13+T20+T31+T36, \"\")","v":""},null,{"$f":"IFERROR(V13+V20+V31+V36, \"\")","v":""},null,{"$f":"IFERROR(X13+X20+X31+X36, \"\")","v":""},null,{"$f":"IFERROR(Z13+Z20+Z31+Z36, \"\")","v":""},null,{"$f":"IFERROR(AB13+AB20+AB31+AB36, \"\")","v":""},null,{"$f":"IFERROR(AD13+AD20+AD31+AD36, \"\")","v":""},null,{"$f":"IFERROR(AF13+AF20+AF31+AF36, \"\")","v":""},null,{"$f":"IFERROR(AH13+AH20+AH31+AH36, \"\")","v":""},null,{"$f":"IFERROR(AJ13+AJ20+AJ31+AJ36, \"\")","v":""},null,{"$f":"IFERROR(AL13+AL20+AL31+AL36, \"\")","v":""},null,{"$f":"IFERROR(AN13+AN20+AN31+AN36, \"\")","v":""},null,{"$f":"IFERROR(AP13+AP20+AP31+AP36, \"\")","v":""},null,{"$f":"IFERROR(AR13+AR20+AR31+AR36, \"\")","v":""},null,{"$f":"IFERROR(AT13+AT20+AT31+AT36, \"\")","v":""},null,{"$f":"IFERROR(AV13+AV20+AV31+AV36, \"\")","v":""},null,{"$f":"IFERROR(AX13+AX20+AX31+AX36, \"\")","v":""},null,{"$f":"IFERROR(AZ13+AZ20+AZ31+AZ36, \"\")","v":""},null,{"$f":"IFERROR(BB13+BB20+BB31+BB36, \"\")","v":""},null,{"$f":"IFERROR(BD13+BD20+BD31+BD36, \"\")","v":""},null,{"$f":"IFERROR(BF13+BF20+BF31+BF36, \"\")","v":""},null,{"$f":"IFERROR(BH13+BH20+BH31+BH36, \"\")","v":""},null,{"$f":"IFERROR(BJ13+BJ20+BJ31+BJ36, \"\")","v":""},null,{"$f":"IFERROR(BL13+BL20+BL31+BL36, \"\")","v":""},null,{"$f":"IFERROR(BN13+BN20+BN31+BN36, \"\")","v":""},null,{"$f":"IFERROR(BP13+BP20+BP31+BP36, \"\")","v":""},null,{"$f":"IFERROR(BR13+BR20+BR31+BR36, \"\")","v":""},null,{"$f":"IFERROR(BT13+BT20+BT31+BT36, \"\")","v":""},null,{"$f":"IFERROR(BV13+BV20+BV31+BV36, \"\")","v":""},null,{"$f":"IFERROR(BX13+BX20+BX31+BX36, \"\")","v":""},null,{"$f":"IFERROR(BZ13+BZ20+BZ31+BZ36, \"\")","v":""},null,{"$f":"IFERROR(CB13+CB20+CB31+CB36, \"\")","v":""},null,{"$f":"IFERROR(CD13+CD20+CD31+CD36, \"\")","v":""},null,{"$f":"IFERROR(CF13+CF20+CF31+CF36, \"\")","v":""},null,{"$f":"IFERROR(CH13+CH20+CH31+CH36, \"\")","v":""},null,{"$f":"IFERROR(CJ13+CJ20+CJ31+CJ36, \"\")","v":""},null,{"$f":"IFERROR(CL13+CL20+CL31+CL36, \"\")","v":""},null,{"$f":"IFERROR(CN13+CN20+CN31+CN36, \"\")","v":""},null,{"$f":"IFERROR(CP13+CP20+CP31+CP36, \"\")","v":""},null,{"$f":"IFERROR(CR13+CR20+CR31+CR36, \"\")","v":""},null,{"$f":"IFERROR(CT13+CT20+CT31+CT36, \"\")","v":""},null,{"$f":"IFERROR(CV13+CV20+CV31+CV36, \"\")","v":""},null,{"$f":"IFERROR(CX13+CX20+CX31+CX36, \"\")","v":""},null,{"$f":"IFERROR(CZ13+CZ20+CZ31+CZ36, \"\")","v":""},null,{"$f":"IFERROR(DB13+DB20+DB31+DB36, \"\")","v":""},null,{"$f":"IFERROR(DD13+DD20+DD31+DD36, \"\")","v":""},null,{"$f":"IFERROR(DF13+DF20+DF31+DF36, \"\")","v":""},null,{"$f":"IFERROR(DH13+DH20+DH31+DH36, \"\")","v":""},null,{"$f":"IFERROR(DJ13+DJ20+DJ31+DJ36, \"\")","v":""},null,{"$f":"IFERROR(DL13+DL20+DL31+DL36, \"\")","v":""},null,{"$f":"IFERROR(DN13+DN20+DN31+DN36, \"\")","v":""},null,{"$f":"IFERROR(DP13+DP20+DP31+DP36, \"\")","v":""},null,{"$f":"IFERROR(DR13+DR20+DR31+DR36, \"\")","v":""},null,{"$f":"IFERROR(DT13+DT20+DT31+DT36, \"\")","v":""},null,{"$f":"IFERROR(DV13+DV20+DV31+DV36, \"\")","v":""},null,{"$f":"IFERROR(DX13+DX20+DX31+DX36, \"\")","v":""},null,{"$f":"IFERROR(DZ13+DZ20+DZ31+DZ36, \"\")","v":""},null,{"$f":"IFERROR(EB13+EB20+EB31+EB36, \"\")","v":""},null,{"$f":"IFERROR(ED13+ED20+ED31+ED36, \"\")","v":""},null,{"$f":"IFERROR(EF13+EF20+EF31+EF36, \"\")","v":""},null,{"$f":"IFERROR(EH13+EH20+EH31+EH36, \"\")","v":""},null,{"$f":"IFERROR(EJ13+EJ20+EJ31+EJ36, \"\")","v":""},null,{"$f":"IFERROR(EL13+EL20+EL31+EL36, \"\")","v":""},null,{"$f":"IFERROR(EN13+EN20+EN31+EN36, \"\")","v":""},null,{"$f":"IFERROR(EP13+EP20+EP31+EP36, \"\")","v":""},null,{"$f":"IFERROR(ER13+ER20+ER31+ER36, \"\")","v":""},null,{"$f":"IFERROR(ET13+ET20+ET31+ET36, \"\")","v":""},null,{"$f":"IFERROR(EV13+EV20+EV31+EV36, \"\")","v":""},null,{"$f":"IFERROR(EX13+EX20+EX31+EX36, \"\")","v":""},null,{"$f":"IFERROR(EZ13+EZ20+EZ31+EZ36, \"\")","v":""},null,{"$f":"IFERROR(FB13+FB20+FB31+FB36, \"\")","v":""},null,{"$f":"IFERROR(FD13+FD20+FD31+FD36, \"\")","v":""}]
[]
[]
[null,{"$f":"HYPERLINK(\"[MAPA Screening Tool.xlsm]'Mod 2 Legacy APECs '!A1\", \"Click here once table is complete\")","v":"Click here once table is complete"}]

{"sheet":"Mod 2 Legacy APECs ","index":6,"n_rows":24,"n_cols":204,"rows_kept":24,"cut":false,"hidden":false,"merged":[[20,206,20,207],[20,204,20,205],[20,202,20,203],[20,200,20,201],[20,198,20,199],[20,194,20,195],[20,196,20,197],[20,192,20,193],[20,190,20,191],[20,184,20,185],[20,186,20,187],[20,188,20,189],[20,182,20,183],[20,176,20,177],[20,178,20,179],[20,180,20,181],[20,174,20,175],[20,168,20,169],[20,170,20,171],[20,172,20,173],[20,164,20,165],[20,166,20,167],[20,160,20,161],[20,162,20,163],[20,154,20,155],[20,156,20,157],[20,158,20,159],[20,150,20,151],[20,152,20,153],[20,148,20,149],[20,146,20,147],[20,144,20,145],[20,134,20,135],[20,136,20,137],[20,138,20,139],[20,140,20,141],[20,142,20,143],[20,126,20,127],[20,128,20,129],[20,130,20,131],[20,132,20,133],[20,124,20,125],[20,122,20,123],[20,116,20,117],[20,118,20,119],[20,120,20,121],[20,112,20,113],[20,114,20,115],[20,106,20,107],[20,108,20,109],[20,110,20,111],[20,102,20,103],[20,104,20,105],[20,94,20,95],[20,96,20,97],[20,100,20,101],[20,98,20,99],[20,92,20,93],[20,86,20,87],[20,90,20,91],[20,88,20,89],[20,82,20,83],[20,84,20,85],[20,80,20,81],[20,78,20,79],[20,76,20,77],[20,74,20,75],[20,72,20,73],[20,70,20,71],[20,62,20,63],[20,64,20,65],[20,66,20,67],[20,68,20,69],[20,56,20,57],[20,58,20,59],[20,60,20,61],[20,52,20,53],[20,54,20,55],[20,50,20,51],[20,42,20,43],[20,44,20,45],[20,46,20,47],[20,48,20,49],[20,40,20,41],[20,32,20,33],[20,34,20,35],[20,36,20,37],[20,38,20,39],[20,26,20,27],[20,28,20,29],[20,30,20,31],[20,22,20,23],[23,0,23,1],[20,2,20,3],[20,4,20,5],[20,6,20,7],[8,0,10,0],[7,0,7,1],[13,0,15,0],[20,0,20,1],[20,14,20,15],[20,16,20,17],[20,18,20,19],[20,20,20,21],[20,24,20,25],[6,12,6,13],[6,14,6,15],[20,12,20,13],[20,8,20,9],[20,10,20,11]]}
[]
[]
[]
[]
[]
[]
[]
["Site Features/Setting",null,{"$f":"IF('Module 1 Summary'!E8= \"Yes\", 'Module 1 Summary'!B8, \"\")","v":""},{"$f":"IF('Module 1 Summary'!E8= \"Yes\", 'Module 1 Summary'!B8, \"\")","v":""},{"$f":"IF('Module 1 Summary'!E9= \"Yes\", 'Module 1 Summary'!B9, \"\")","v":""},{"$f":"IF('Module 1 Summary'!E9= \"Yes\", 'Module 1 Summary'!B9, \"\")","v":""},{"$f":"IF('Module 1 Summary'!E10= \"Yes\", 'Module 1 Summary'!B10, \"\")","v":""},{"$f":"IF('Module 1 Summary'!E10= \"Yes\", 'Module 1 Summary'!B10, \"\")","v":""},{"$f":"IF('Module 1 Summary'!E11= \"Yes\", 'Module 1 Summary'!B11, \"\")","v":""},{"$f":"IF('Module 1 Summary'!E11= \"Yes\", 'Module 1 Summary'!B11, \"\")","v":""},{"$f":"IF('Module 1 Summary'!E12= \"Yes\", 'Module 1 Summary'!B12, \"\")","v":""},{"$f":"IF('Module 1 Summary'!E12= \"Yes\", 'Module 1 Summary'!B12, \"\")","v":""},{"$f":"IF('Module 1 Summary'!E13= \"Yes\", 'Module 1 Summary'!B13, \"\")","v":""},{"$f":"IF('Module 1 Summary'!E13= \"Yes\", 'Module 1 Summary'!B13, \"\")","v":""},{"$f":"IF('Module 1 Summary'!E14= \"Yes\", 'Module 1 Summary'!B14, \"\")","v":""},{"$f":"IF('Module 1 Summary'!E14= \"Yes\", 'Module 1 Summary'!B14, \"\")","v":""},{"$f":"IF('Module 1 Summary'!E15= \"Yes\", 'Module 1 Summary'!B15, \"\")","v":""},{"$f":"IF('Module 1 Summary'!E15= \"Yes\", 'Module 1 Summary'!B15, \"\")","v":""},{"$f":"IF('Module 1 Summary'!E16= \"Yes\", 'Module 1 Summary'!B16, \"\")","v":""},{"$f":"IF('Module 1 Summary'!E16= \"Yes\", 'Module 1 Summary'!B16, \"\")","v":""},{"$f":"IF('Module 1 Summary'!E17= \"Yes\", 'Module 1 Summary'!B17, \"\")","v":""},{"$f":"IF('Module 1 Summary'!E17= \"Yes\", 'Module 1 Summary'!B17, \"\")","v":""},{"$f":"IF('Module 1 Summary'!E18= \"Yes\", 'Module 1 Summary'!B18, \"\")","v":""},{"$f":"IF('Module 1 Summary'!E18= \"Yes\", 'Module 1 Summary'!B18, \"\")","v":""},{"$f":"IF('Module 1 Summary'!E19= \"Yes\", 'Module 1 Summary'!B19, \"\")","v":""},{"$f":"IF('Module 1 Summary'!E19= \"Yes\", 'Module 1 Summary'!B19, \"\")","v":""},{"$f":"IF('Module 1 Summary'!E20= \"Yes\", 'Module 1 Summary'!B20, \"\")","v":""},{"$f":"IF('Module 1 Summary'!E20= \"Yes\", 'Module 1 Summary'!B20, \"\")","v":""},{"$f":"IF('Module 1 Summary'!E21= \"Yes\", 'Module 1 Summary'!B21, \"\")","v":""},{"$f":"IF('Module 1 Summary'!E21= \"Yes\", 'Module 1 Summary'!B21, \"\")","v":""},{"$f":"IF('Module 1 Summary'!E22= \"Yes\", 'Module 1 Summary'!B22, \"\")","v":""},{"$f":"IF('Module 1 Summary'!E22= \"Yes\", 'Module 1 Summary'!B22, \"\")","v":""},{"$f":"IF('Module 1 Summary'!E23= \"Yes\", 'Module 1 Summary'!B23, \"\")","v":""},{"$f":"IF('Module 1 Summary'!E23= \"Yes\", 'Module 1 Summary'!B23, \"\")","v":""},{"$f":"IF('Module 1 Summary'!E24= \"Yes\", 'Module 1 Summary'!B24, \"\")","v":""},{"$f":"IF('Module 1 Summary'!E24= \"Yes\", 'Module 1 Summary'!B24, \"\")","v":""},{"$f":"IF('Module 1 Summary'!E25= \"Yes\", 'Module 1 Summary'!B25, \"\")","v":""},{"$f":"IF('Module 1 Summary'!E25= \"Yes\", 'Module 1 Summary'!B25, \"\")","v":""},{"$f":"IF('Module 1 Summary'!E26= \"Yes\", 'Module 1 Summary'!B26, \"\")","v":""},{"$f":"IF('Module 1 Summary'!E26= \"Yes\", 'Module 1 Summary'!B26, \"\")","v":""},{"$f":"IF('Module 1 Summary'!E27= \"Yes\", 'Module 1 Summary'!B27, \"\")","v":""},{"$f":"IF('Module 1 Summary'!E27= \"Yes\", 'Module 1 Summary'!B27, \"\")","v":""},{"$f":"IF('Module 1 Summary'!E28= \"Yes\", 'Module 1 Summary'!B28, \"\")","v":""},{"$f":"IF('Module 1 Summary'!E28= \"Yes\", 'Module 1 Summary'!B28, \"\")","v":""},{"$f":"IF('Module 1 Summary'!E29= \"Yes\", 'Module 1 Summary'!B29, \"\")","v":""},{"$f":"IF('Module 1 Summary'!E29= \"Yes\", 'Module 1 Summary'!B29, \"\")","v":""},{"$f":"IF('Module 1 Summary'!E30= \"Yes\", 'Module 1 Summary'!B30, \"\")","v":""},{"$f":"IF('Module 1 Summary'!E30= \"Yes\", 'Module 1 Summary'!B30, \"\")","v":""},{"$f":"IF('Module 1 Summary'!E31= \"Yes\", 'Module 1 Summary'!B31, \"\")","v":""},{"$f":"IF('Module 1 Summary'!E31= \"Yes\", 'Module 1 Summary'!B31, \"\")","v":""},{"$f":"IF('Module 1 Summary'!E32= \"Yes\", 'Module 1 Summary'!B32, \"\")","v":""},{"$f":"IF('Module 1 Summary'!E32= \"Yes\", 'Module 1 Summary'!B32, \"\")","v":""},{"$f":"IF('Module 1 Summary'!E33= \"Yes\", 'Module 1 Summary'!B33, \"\")","v":""},{"$f":"IF('Module 1 Summary'!E33= \"Yes\", 'Module 1 Summary'!B33, \"\")","v":""},{"$f":"IF('Module 1 Summary'!E34= \"Yes\", 'Module 1 Summary'!B34, \"\")","v":""},{"$f":"IF('Module 1 Summary'!E34= \"Yes\", 'Module 1 Summary'!B34, \"\")","v":""},{"$f":"IF('Module 1 Summary'!E35= \"Yes\", 'Module 1 Summary'!B35, \"\")","v":""},{"$f":"IF('Module 1 Summary'!E35= \"Yes\", 'Module 1 Summary'!B35, \"\")","v":""},{"$f":"IF('Module 1 Summary'!E36= \"Yes\", 'Module 1 Summary'!B36, \"\")","v":""},{"$f":"IF('Module 1 Summary'!E36= \"Yes\", 'Module 1 Summary'!B36, \"\")","v":""},{"$f":"IF('Module 1 Summary'!E37= \"Yes\", 'Module 1 Summary'!B37, \"\")","v":""},{"$f":"IF('Module 1 Summary'!E37= \"Yes\", 'Module 1 Summary'!B37, \"\")","v":""},{"$f":"IF('Module 1 Summary'!E38= \"Yes\", 'Module 1 Summary'!B38, \"\")","v":0},{"$f":"IF('Module 1 Summary'!E38= \"Yes\", 'Module 1 Summary'!B38, \"\")","v":0},{"$f":"IF('Module 1 Summary'!E39= \"Yes\", 'Module 1 Summary'!B39, \"\")","v":0},{"$f":"IF('Module 1 Summary'!E39= \"Yes\", 'Module 1 Summary'!B39, \"\")","v":0},{"$f":"IF('Module 1 Summary'!E40= \"Yes\", 'Module 1 Summary'!B40, \"\")","v":0},{"$f":"IF('Module 1 Summary'!E40= \"Yes\", 'Module 1 Summary'!B40, \"\")","v":0},{"$f":"IF('Module 1 Summary'!E41= \"Yes\", 'Module 1 Summary'!B41, \"\")","v":0},{"$f":"IF('Module 1 Summary'!E41= \"Yes\", 'Module 1 Summary'!B41, \"\")","v":0},{"$f":"IF('Module 1 Summary'!E42= \"Yes\", 'Module 1 Summary'!B42, \"\")","v":0},null,{"$f":"IF('Module 1 Summary'!E43= \"Yes\", 'Module 1 Summary'!B43, \"\")","v":0},null,{"$f":"IF('Module 1 Summary'!E44= \"Yes\", 'Module 1 Summary'!B44, \"\")","v":0},null,{"$f":"IF('Module 1 Summary'!E45= \"Yes\", 'Module 1 Summary'!B45, \"\")","v":0},null,{"$f":"IF('Module 1 Summary'!E46= \"Yes\", 'Module 1 Summary'!B46, \"\")","v":0},null,{"$f":"IF('Module 1 Summary'!E47= \"Yes\", 'Module 1 Summary'!B47, \"\")","v":0},null,{"$f":"IF('Module 1 Summary'!E48= \"Yes\", 'Module 1 Summary'!B48, \"\")","v":""},null,{"$f":"IF('Module 1 Summary'!E49= \"Yes\", 'Module 1 Summary'!B49, \"\")","v":""},null,{"$f":"IF('Module 1 Summary'!E50= \"Yes\", 'Module 1 Summary'!B50, \"\")","v":""},null,{"$f":"IF('Module 1 Summary'!E51= \"Yes\", 'Module 1 Summary'!B51, \"\")","v":""},null,{"$f":"IF('Module 1 Summary'!E52= \"Yes\", 'Module 1 Summary'!B52, \"\")","v":""},null,{"$f":"IF('Module 1 Summary'!E53= \"Yes\", 'Module 1 Summary'!B53, \"\")","v":""},null,{"$f":"IF('Module 1 Summary'!E54= \"Yes\", 'Module 1 Summary'!B54, \"\")","v":""},null,{"$f":"IF('Module 1 Summary'!E55= \"Yes\", 'Module 1 Summary'!B55, \"\")","v":""},null,{"$f":"IF('Module 1 Summary'!E56= \"Yes\", 'Module 1 Summary'!B56, \"\")","v":""},null,{"$f":"IF('Module 1 Summary'!E57= \"Yes\", 'Module 1 Summary'!B57, \"\")","v":""},null,{"$f":"IF('Module 1 Summary'!E58= \"Yes\", 'Module 1 Summary'!B58, \"\")","v":""},null,{"$f":"IF('Module 1 Summary'!E59= \"Yes\", 'Module 1 Summary'!B59, \"\")","v":""},null,{"$f":"IF('Module 1 Summary'!E60= \"Yes\", 'Module 1 Summary'!B60, \"\")","v":""},null,{"$f":"IF('Module 1 Summary'!E60= \"Yes\", 'Module 1 Summary'!B60, \"\")","v":""},null,{"$f":"IF('Module 1 Summary'!E62= \"Yes\", 'Module 1 Summary'!B61, \"\")","v":""},null,{"$f":"IF('Module 1 Summary'!E62= \"Yes\", 'Module 1 Summary'!B62, \"\")","v":""},null,{"$f":"IF('Module 1 Summary'!E63= \"Yes\", 'Module 1 Summary'!B63, \"\")","v":""},null,{"$f":"IF('Module 1 Summary'!E64= \"Yes\", 'Module 1 Summary'!B64, \"\")","v":""},null,{"$f":"IF('Module 1 Summary'!E65= \"Yes\", 'Module 1 Summary'!B65, \"\")","v":""},null,{"$f":"IF('Module 1 Summary'!E66= \"Yes\", 'Module 1 Summary'!B66, \"\")","v":""},null,{"$f":"IF('Module 1 Summary'!E67= \"Yes\", 'Module 1 Summary'!B67, \"\")","v":""},null,{"$f":"IF('Module 1 Summary'!E68= \"Yes\", 'Module 1 Summary'!B68, \"\")","v":""},null,{"$f":"IF('Module 1 Summary'!E69= \"Yes\", 'Module 1 Summary'!B69, \"\")","v":""},null,{"$f":"IF('Module 1 Summary'!E70= \"Yes\", 'Module 1 Summary'!B70, \"\")","v":""},null,{"$f":"IF('Module 1 Summary'!E71= \"Yes\", 'Module 1 Summary'!B71, \"\")","v":""},null,{"$f":"IF('Module 1 Summary'!E72= \"Yes\", 'Module 1 Summary'!B72, \"\")","v":""},null,{"$f":"IF('Module 1 Summary'!E73= \"Yes\", 'Module 1 Summary'!B73, \"\")","v":""},null,{"$f":"IF('Module 1 Summary'!E74= \"Yes\", 'Module 1 Summary'!B74, \"\")","v":""},null,{"$f":"IF('Module 1 Summary'!E75= \"Yes\", 'Module 1 Summary'!B75, \"\")","v":""},null,{"$f":"IF('Module 1 Summary'!E76= \"Yes\", 'Module 1 Summary'!B76, \"\")","v":""},null,{"$f":"IF('Module 1 Summary'!E77= \"Yes\", 'Module 1 Summary'!B77, \"\")","v":""},null,{"$f":"IF('Module 1 Summary'!E78= \"Yes\", 'Module 1 Summary'!B78, \"\")","v":""},null,{"$f":"IF('Module 1 Summary'!E79= \"Yes\", 'Module 1 Summary'!B79, \"\")","v":""},null,{"$f":"IF('Module 1 Summary'!E80= \"Yes\", 'Module 1 Summary'!B80, \"\")","v":""},null,{"$f":"IF('Module 1 Summary'!E81= \"Yes\", 'Module 1 Summary'!B81, \"\")","v":""},null,{"$f":"IF('Module 1 Summary'!E82= \"Yes\", 'Module 1 Summary'!B82, \"\")","v":""},null,{"$f":"IF('Module 1 Summary'!E83= \"Yes\", 'Module 1 Summary'!B83, \"\")","v":""},null,{"$f":"IF('Module 1 Summary'!E84= \"Yes\", 'Module 1 Summary'!B84, \"\")","v":""},null,{"$f":"IF('Module 1 Summary'!E85= \"Yes\", 'Module 1 Summary'!B85, \"\")","v":""},null,{"$f":"IF('Module 1 Summary'!E86= \"Yes\", 'Module 1 Summary'!B86, \"\")","v":""},null,{"$f":"IF('Module 1 Summary'!E87= \"Yes\", 'Module 1 Summary'!B87, \"\")","v":""},null,{"$f":"IF('Module 1 Summary'!E88= \"Yes\", 'Module 1 Summary'!B88, \"\")","v":0},null,{"$f":"IF('Module 1 Summary'!E89= \"Yes\", 'Module 1 Summary'!B89, \"\")","v":0},null,{"$f":"IF('Module 1 Summary'!E90= \"Yes\", 'Module 1 Summary'!B90, \"\")","v":0},null,{"$f":"IF('Module 1 Summary'!E91= \"Yes\", 'Module 1 Summary'!B91, \"\")","v":0},null,{"$f":"IF('Module 1 Summary'!E92= \"Yes\", 'Module 1 Summary'!B92, \"\")","v":0},null,{"$f":"IF('Module 1 Summary'!E93= \"Yes\", 'Module 1 Summary'!B93, \"\")","v":0},null,{"$f":"IF('Module 1 Summary'!E94= \"Yes\", 'Module 1 Summary'!B94, \"\")","v":0},null,{"$f":"IF('Module 1 Summary'!E95= \"Yes\", 'Module 1 Summary'!B95, \"\")","v":0},null,{"$f":"IF('Module 1 Summary'!E96= \"Yes\", 'Module 1 Summary'!B96, \"\")","v":0},null,{"$f":"IF('Module 1 Summary'!E97= \"Yes\", 'Module 1 Summary'!B97, \"\")","v":0},null,{"$f":"IF('Module 1 Summary'!E98= \"Yes\", 'Module 1 Summary'!B98, \"\")","v":""},null,{"$f":"IF('Module 1 Summary'!E99= \"Yes\", 'Module 1 Summary'!B99, \"\")","v":""},null,{"$f":"IF('Module 1 Summary'!E100= \"Yes\", 'Module 1 Summary'!B100, \"\")","v":""},null,{"$f":"IF('Module 1 Summary'!E101= \"Yes\", 'Module 1 Summary'!B101, \"\")","v":""},null,{"$f":"IF('Module 1 Summary'!E102= \"Yes\", 'Module 1 Summary'!B102, \"\")","v":""},null,{"$f":"IF('Module 1 Summary'!E103= \"Yes\", 'Module 1 Summary'!B103, \"\")","v":""},null,{"$f":"IF('Module 1 Summary'!E104= \"Yes\", 'Module 1 Summary'!B104, \"\")","v":""},null,{"$f":"IF('Module 1 Summary'!E105= \"Yes\", 'Module 1 Summary'!B105, \"\")","v":""},null,{"$f":"IF('Module 1 Summary'!E106= \"Yes\", 'Module 1 Summary'!B106, \"\")","v":""},null,{"$f":"IF('Module 1 Summary'!E107= \"Yes\", 'Module 1 Summary'!B107, \"\")","v":""}]
["Release Characteristics","Was AFFF foam or AFFF concentrate released?",null,{"$f":"IF(C9=\"Concentrate\",\"3\",IF(C9=\"Foam\",\"5\",\"\"))","v":""},null,{"$f":"IF(E9=\"Concentrate\",\"3\",IF(E9=\"Foam\",\"5\",\"\"))","v":""},null,{"$f":"IF(G9=\"Concentrate\",\"3\",IF(G9=\"Foam\",\"5\",\"\"))","v":""},null,{"$f":"IF(I9=\"Concentrate\",\"3\",IF(I9=\"Foam\",\"5\",\"\"))","v":""},null,{"$f":"IF(K9=\"Concentrate\",\"3\",IF(K9=\"Foam\",\"5\",\"\"))","v":""},null,{"$f":"IF(M9=\"Concentrate\",\"3\",IF(M9=\"Foam\",\"5\",\"\"))","v":""},null,{"$f":"IF(O9=\"Concentrate\",\"3\",IF(O9=\"Foam\",\"5\",\"\"))","v":""},null,{"$f":"IF(Q9=\"Concentrate\",\"3\",IF(Q9=\"Foam\",\"5\",\"\"))","v":""},null,{"$f":"IF(S9=\"Concentrate\",\"3\",IF(S9=\"Foam\",\"5\",\"\"))","v":""},null,{"$f":"IF(U9=\"Concentrate\",\"3\",IF(U9=\"Foam\",\"5\",\"\"))","v":""},null,{"$f":"IF(W9=\"Concentrate\",\"3\",IF(W9=\"Foam\",\"5\",\"\"))","v":""},null,{"$f":"IF(Y9=\"Concentrate\",\"3\",IF(Y9=\"Foam\",\"5\",\"\"))","v":""},null,{"$f":"IF(AA9=\"Concentrate\",\"3\",IF(AA9=\"Foam\",\"5\",\"\"))","v":""},null,{"$f":"IF(AC9=\"Concentrate\",\"3\",IF(AC9=\"Foam\",\"5\",\"\"))","v":""},null,{"$f":"IF(AE9=\"Concentrate\",\"3\",IF(AE9=\"Foam\",\"5\",\"\"))","v":""},null,{"$f":"IF(AG9=\"Concentrate\",\"3\",IF(AG9=\"Foam\",\"5\",\"\"))","v":""},null,{"$f":"IF(AI9=\"Concentrate\",\"3\",IF(AI9=\"Foam\",\"5\",\"\"))","v":""},null,{"$f":"IF(AK9=\"Concentrate\",\"3\",IF(AK9=\"Foam\",\"5\",\"\"))","v":""},null,{"$f":"IF(AM9=\"Concentrate\",\"3\",IF(AM9=\"Foam\",\"5\",\"\"))","v":""},null,{"$f":"IF(AO9=\"Concentrate\",\"3\",IF(AO9=\"Foam\",\"5\",\"\"))","v":""},null,{"$f":"IF(AQ9=\"Concentrate\",\"3\",IF(AQ9=\"Foam\",\"5\",\"\"))","v":""},null,{"$f":"IF(AS9=\"Concentrate\",\"3\",IF(AS9=\"Foam\",\"5\",\"\"))","v":""},null,{"$f":"IF(AU9=\"Concentrate\",\"3\",IF(AU9=\"Foam\",\"5\",\"\"))","v":""},null,{"$f":"IF(AW9=\"Concentrate\",\"3\",IF(AW9=\"Foam\",\"5\",\"\"))","v":""},null,{"$f":"IF(AY9=\"Concentrate\",\"3\",IF(AY9=\"Foam\",\"5\",\"\"))","v":""},null,{"$f":"IF(BA9=\"Concentrate\",\"3\",IF(BA9=\"Foam\",\"5\",\"\"))","v":""},null,{"$f":"IF(BC9=\"Concentrate\",\"3\",IF(BC9=\"Foam\",\"5\",\"\"))","v":""},null,{"$f":"IF(BE9=\"Concentrate\",\"3\",IF(BE9=\"Foam\",\"5\",\"\"))","v":""},null,{"$f":"IF(BG9=\"Concentrate\",\"3\",IF(BG9=\"Foam\",\"5\",\"\"))","v":""},null,{"$f":"IF(BI9=\"Concentrate\",\"3\",IF(BI9=\"Foam\",\"5\",\"\"))","v":""},null,{"$f":"IF(BK9=\"Concentrate\",\"3\",IF(BK9=\"Foam\",\"5\",\"\"))","v":""},null,{"$f":"IF(BM9=\"Concentrate\",\"3\",IF(BM9=\"Foam\",\"5\",\"\"))","v":""},null,{"$f":"IF(BO9=\"Concentrate\",\"3\",IF(BO9=\"Foam\",\"5\",\"\"))","v":""},null,{"$f":"IF(BQ9=\"Concentrate\",\"3\",IF(BQ9=\"Foam\",\"5\",\"\"))","v":""},null,{"$f":"IF(BS9=\"Concentrate\",\"3\",IF(BS9=\"Foam\",\"5\",\"\"))","v":""},null,{"$f":"IF(BU9=\"Concentrate\",\"3\",IF(BU9=\"Foam\",\"5\",\"\"))","v":""},null,{"$f":"IF(BW9=\"Concentrate\",\"3\",IF(BW9=\"Foam\",\"5\",\"\"))","v":""},null,{"$f":"IF(BY9=\"Concentrate\",\"3\",IF(BY9=\"Foam\",\"5\",\"\"))","v":""},null,{"$f":"IF(CA9=\"Concentrate\",\"3\",IF(CA9=\"Foam\",\"5\",\"\"))","v":""},null,{"$f":"IF(CC9=\"Concentrate\",\"3\",IF(CC9=\"Foam\",\"5\",\"\"))","v":""},null,{"$f":"IF(CE9=\"Concentrate\",\"3\",IF(CE9=\"Foam\",\"5\",\"\"))","v":""},null,{"$f":"IF(CG9=\"Concentrate\",\"3\",IF(CG9=\"Foam\",\"5\",\"\"))","v":""},null,{"$f":"IF(CI9=\"Concentrate\",\"3\",IF(CI9=\"Foam\",\"5\",\"\"))","v":""},null,{"$f":"IF(CK9=\"Concentrate\",\"3\",IF(CK9=\"Foam\",\"5\",\"\"))","v":""},null,{"$f":"IF(CM9=\"Concentrate\",\"3\",IF(CM9=\"Foam\",\"5\",\"\"))","v":""},null,{"$f":"IF(CO9=\"Concentrate\",\"3\",IF(CO9=\"Foam\",\"5\",\"\"))","v":""},null,{"$f":"IF(CQ9=\"Concentrate\",\"3\",IF(CQ9=\"Foam\",\"5\",\"\"))","v":""},null,{"$f":"IF(CS9=\"Concentrate\",\"3\",IF(CS9=\"Foam\",\"5\",\"\"))","v":""},null,{"$f":"IF(CU9=\"Concentrate\",\"3\",IF(CU9=\"Foam\",\"5\",\"\"))","v":""},null,{"$f":"IF(CW9=\"Concentrate\",\"3\",IF(CW9=\"Foam\",\"5\",\"\"))","v":""},null,{"$f":"IF(CY9=\"Concentrate\",\"3\",IF(CY9=\"Foam\",\"5\",\"\"))","v":""},null,{"$f":"IF(DA9=\"Concentrate\",\"3\",IF(DA9=\"Foam\",\"5\",\"\"))","v":""},null,{"$f":"IF(DC9=\"Concentrate\",\"3\",IF(DC9=\"Foam\",\"5\",\"\"))","v":""},null,{"$f":"IF(DE9=\"Concentrate\",\"3\",IF(DE9=\"Foam\",\"5\",\"\"))","v":""},null,{"$f":"IF(DG9=\"Concentrate\",\"3\",IF(DG9=\"Foam\",\"5\",\"\"))","v":""},null,{"$f":"IF(DI9=\"Concentrate\",\"3\",IF(DI9=\"Foam\",\"5\",\"\"))","v":""},null,{"$f":"IF(DK9=\"Concentrate\",\"3\",IF(DK9=\"Foam\",\"5\",\"\"))","v":""},null,{"$f":"IF(DM9=\"Concentrate\",\"3\",IF(DM9=\"Foam\",\"5\",\"\"))","v":""},null,{"$f":"IF(DO9=\"Concentrate\",\"3\",IF(DO9=\"Foam\",\"5\",\"\"))","v":""},null,{"$f":"IF(DQ9=\"Concentrate\",\"3\",IF(DQ9=\"Foam\",\"5\",\"\"))","v":""},null,{"$f":"IF(DS9=\"Concentrate\",\"3\",IF(DS9=\"Foam\",\"5\",\"\"))","v":""},null,{"$f":"IF(DU9=\"Concentrate\",\"3\",IF(DU9=\"Foam\",\"5\",\"\"))","v":""},null,{"$f":"IF(DW9=\"Concentrate\",\"3\",IF(DW9=\"Foam\",\"5\",\"\"))","v":""},null,{"$f":"IF(DY9=\"Concentrate\",\"3\",IF(DY9=\"Foam\",\"5\",\"\"))","v":""},null,{"$f":"IF(EA9=\"Concentrate\",\"3\",IF(EA9=\"Foam\",\"5\",\"\"))","v":""},null,{"$f":"IF(EC9=\"Concentrate\",\"3\",IF(EC9=\"Foam\",\"5\",\"\"))","v":""},null,{"$f":"IF(EE9=\"Concentrate\",\"3\",IF(EE9=\"Foam\",\"5\",\"\"))","v":""},null,{"$f":"IF(EG9=\"Concentrate\",\"3\",IF(EG9=\"Foam\",\"5\",\"\"))","v":""},null,{"$f":"IF(EI9=\"Concentrate\",\"3\",IF(EI9=\"Foam\",\"5\",\"\"))","v":""},null,{"$f":"IF(EK9=\"Concentrate\",\"3\",IF(EK9=\"Foam\",\"5\",\"\"))","v":""},null,{"$f":"IF(EM9=\"Concentrate\",\"3\",IF(EM9=\"Foam\",\"5\",\"\"))","v":""},null,{"$f":"IF(EO9=\"Concentrate\",\"3\",IF(EO9=\"Foam\",\"5\",\"\"))","v":""},null,{"$f":"IF(EQ9=\"Concentrate\",\"3\",IF(EQ9=\"Foam\",\"5\",\"\"))","v":""},null,{"$f":"IF(ES9=\"Concentrate\",\"3\",IF(ES9=\"Foam\",\"5\",\"\"))","v":""},null,{"$f":"IF(EU9=\"Concentrate\",\"3\",IF(EU9=\"Foam\",\"5\",\"\"))","v":""},null,{"$f":"IF(EW9=\"Concentrate\",\"3\",IF(EW9=\"Foam\",\"5\",\"\"))","v":""},null,{"$f":"IF(EY9=\"Concentrate\",\"3\",IF(EY9=\"Foam\",\"5\",\"\"))","v":""},null,{"$f":"IF(FA9=\"Concentrate\",\"3\",IF(FA9=\"Foam\",\"5\",\"\"))","v":""},null,{"$f":"IF(FC9=\"Concentrate\",\"3\",IF(FC9=\"Foam\",\"5\",\"\"))","v":""},null,{"$f":"IF(FE9=\"Concentrate\",\"3\",IF(FE9=\"Foam\",\"5\",\"\"))","v":""},null,{"$f":"IF(FG9=\"Concentrate\",\"3\",IF(FG9=\"Foam\",\"5\",\"\"))","v":""},null,{"$f":"IF(FI9=\"Concentrate\",\"3\",IF(FI9=\"Foam\",\"5\",\"\"))","v":""},null,{"$f":"IF(FK9=\"Concentrate\",\"3\",IF(FK9=\"Foam\",\"5\",\"\"))","v":""},null,{"$f":"IF(FM9=\"Concentrate\",\"3\",IF(FM9=\"Foam\",\"5\",\"\"))","v":""},null,{"$f":"IF(FO9=\"Concentrate\",\"3\",IF(FO9=\"Foam\",\"5\",\"\"))","v":""},null,{"$f":"IF(FQ9=\"Concentrate\",\"3\",IF(FQ9=\"Foam\",\"5\",\"\"))","v":""},null,{"$f":"IF(FS9=\"Concentrate\",\"3\",IF(FS9=\"Foam\",\"5\",\"\"))","v":""},null,{"$f":"IF(FU9=\"Concentrate\",\"3\",IF(FU9=\"Foam\",\"5\",\"\"))","v":""},null,{"$f":"IF(FW9=\"Concentrate\",\"3\",IF(FW9=\"Foam\",\"5\",\"\"))","v":""},null,{"$f":"IF(FY9=\"Concentrate\",\"3\",IF(FY9=\"Foam\",\"5\",\"\"))","v":""},null,{"$f":"IF(GA9=\"Concentrate\",\"3\",IF(GA9=\"Foam\",\"5\",\"\"))","v":""},null,{"$f":"IF(GC9=\"Concentrate\",\"3\",IF(GC9=\"Foam\",\"5\",\"\"))","v":""},null,{"$f":"IF(GE9=\"Concentrate\",\"3\",IF(GE9=\"Foam\",\"5\",\"\"))","v":""},null,{"$f":"IF(GG9=\"Concentrate\",\"3\",IF(GG9=\"Foam\",\"5\",\"\"))","v":""},null,{"$f":"IF(GI9=\"Concentrate\",\"3\",IF(GI9=\"Foam\",\"5\",\"\"))","v":""},null,{"$f":"IF(GK9=\"Concentrate\",\"3\",IF(GK9=\"Foam\",\"5\",\"\"))","v":""},null,{"$f":"IF(GM9=\"Concentrate\",\"3\",IF(GM9=\"Foam\",\"5\",\"\"))","v":""},null,{"$f":"IF(GO9=\"Concentrate\",\"3\",IF(GO9=\"Foam\",\"5\",\"\"))","v":""},null,{"$f":"IF(GQ9=\"Concentrate\",\"3\",IF(GQ9=\"Foam\",\"5\",\"\"))","v":""},null,{"$f":"IF(GS9=\"Concentrate\",\"3\",IF(GS9=\"Foam\",\"5\",\"\"))","v":""},null,{"$f":"IF(GU9=\"Concentrate\",\"3\",IF(GU9=\"Foam\",\"5\",\"\"))","v":""}]
[null,"What volume was released?",null,{"$f":"IF(C10=\"0 to 5 gallons/ 0 to 20 L\", \"1\", IF(C10=\"5 to 20 gallons/ 20 to 75 L\", \"2\", IF(C10=\"20 to 50 gallons/ 75 to 190 L\", \"4\", IF(C10=\"50 to 100 gallons/ 190 to 375 L\", \"6\", IF(C10=\"100 to 500 gallons/ 375 to 1900 L\", \"8\", IF(C10=\"500 to 1000 gallons/ 1900 to 3800 L\", \"10\", IF(C10=\"Greater than 1000 gallons/Greater than 3800 L\", \"15\", IF(C10=\"Unknown\", \"15\", \"\"))))))))","v":""},null,{"$f":"IF(E10=\"0 to 5 gallons/ 0 to 20 L\", \"1\", IF(E10=\"5 to 20 gallons/ 20 to 75 L\", \"2\", IF(E10=\"20 to 50 gallons/ 75 to 190 L\", \"4\", IF(E10=\"50 to 100 gallons/ 190 to 375 L\", \"6\", IF(E10=\"100 to 500 gallons/ 375 to 1900 L\", \"8\", IF(E10=\"500 to 1000 gallons/ 1900 to 3800 L\", \"10\", IF(E10=\"Greater than 1000 gallons/Greater than 3800 L\", \"15\", IF(E10=\"Unknown\", \"15\", \"\"))))))))","v":""},null,{"$f":"IF(G10=\"0 to 5 gallons/ 0 to 20 L\", \"1\", IF(G10=\"5 to 20 gallons/ 20 to 75 L\", \"2\", IF(G10=\"20 to 50 gallons/ 75 to 190 L\", \"4\", IF(G10=\"50 to 100 gallons/ 190 to 375 L\", \"6\", IF(G10=\"100 to 500 gallons/ 375 to 1900 L\", \"8\", IF(G10=\"500 to 1000 gallons/ 1900 to 3800 L\", \"10\", IF(G10=\"Greater than 1000 gallons/Greater than 3800 L\", \"15\", IF(G10=\"Unknown\", \"15\", \"\"))))))))","v":""},null,{"$f":"IF(I10=\"0 to 5 gallons/ 0 to 20 L\", \"1\", IF(I10=\"5 to 20 gallons/ 20 to 75 L\", \"2\", IF(I10=\"20 to 50 gallons/ 75 to 190 L\", \"4\", IF(I10=\"50 to 100 gallons/ 190 to 375 L\", \"6\", IF(I10=\"100 to 500 gallons/ 375 to 1900 L\", \"8\", IF(I10=\"500 to 1000 gallons/ 1900 to 3800 L\", \"10\", IF(I10=\"Greater than 1000 gallons/Greater than 3800 L\", \"15\", IF(I10=\"Unknown\", \"15\", \"\"))))))))","v":""},null,{"$f":"IF(K10=\"0 to 5 gallons/ 0 to 20 L\", \"1\", IF(K10=\"5 to 20 gallons/ 20 to 75 L\", \"2\", IF(K10=\"20 to 50 gallons/ 75 to 190 L\", \"4\", IF(K10=\"50 to 100 gallons/ 190 to 375 L\", \"6\", IF(K10=\"100 to 500 gallons/ 375 to 1900 L\", \"8\", IF(K10=\"500 to 1000 gallons/ 1900 to 3800 L\", \"10\", IF(K10=\"Greater than 1000 gallons/Greater than 3800 L\", \"15\", IF(K10=\"Unknown\", \"15\", \"\"))))))))","v":""},null,{"$f":"IF(M10=\"0 to 5 gallons/ 0 to 20 L\", \"1\", IF(M10=\"5 to 20 gallons/ 20 to 75 L\", \"2\", IF(M10=\"20 to 50 gallons/ 75 to 190 L\", \"4\", IF(M10=\"50 to 100 gallons/ 190 to 375 L\", \"6\", IF(M10=\"100 to 500 gallons/ 375 to 1900 L\", \"8\", IF(M10=\"500 to 1000 gallons/ 1900 to 3800 L\", \"10\", IF(M10=\"Greater than 1000 gallons/Greater than 3800 L\", \"15\", IF(M10=\"Unknown\", \"15\", \"\"))))))))","v":""},null,{"$f":"IF(O10=\"0 to 5 gallons/ 0 to 20 L\", \"1\", IF(O10=\"5 to 20 gallons/ 20 to 75 L\", \"2\", IF(O10=\"20 to 50 gallons/ 75 to 190 L\", \"4\", IF(O10=\"50 to 100 gallons/ 190 to 375 L\", \"6\", IF(O10=\"100 to 500 gallons/ 375 to 1900 L\", \"8\", IF(O10=\"500 to 1000 gallons/ 1900 to 3800 L\", \"10\", IF(O10=\"Greater than 1000 gallons/Greater than 3800 L\", \"15\", IF(O10=\"Unknown\", \"15\", \"\"))))))))","v":""},null,{"$f":"IF(Q10=\"0 to 5 gallons/ 0 to 20 L\", \"1\", IF(Q10=\"5 to 20 gallons/ 20 to 75 L\", \"2\", IF(Q10=\"20 to 50 gallons/ 75 to 190 L\", \"4\", IF(Q10=\"50 to 100 gallons/ 190 to 375 L\", \"6\", IF(Q10=\"100 to 500 gallons/ 375 to 1900 L\", \"8\", IF(Q10=\"500 to 1000 gallons/ 1900 to 3800 L\", \"10\", IF(Q10=\"Greater than 1000 gallons/Greater than 3800 L\", \"15\", IF(Q10=\"Unknown\", \"15\", \"\"))))))))","v":""},null,{"$f":"IF(S10=\"0 to 5 gallons/ 0 to 20 L\", \"1\", IF(S10=\"5 to 20 gallons/ 20 to 75 L\", \"2\", IF(S10=\"20 to 50 gallons/ 75 to 190 L\", \"4\", IF(S10=\"50 to 100 gallons/ 190 to 375 L\", \"6\", IF(S10=\"100 to 500 gallons/ 375 to 1900 L\", \"8\", IF(S10=\"500 to 1000 gallons/ 1900 to 3800 L\", \"10\", IF(S10=\"Greater than 1000 gallons/Greater than 3800 L\", \"15\", IF(S10=\"Unknown\", \"15\", \"\"))))))))","v":""},null,{"$f":"IF(U10=\"0 to 5 gallons/ 0 to 20 L\", \"1\", IF(U10=\"5 to 20 gallons/ 20 to 75 L\", \"2\", IF(U10=\"20 to 50 gallons/ 75 to 190 L\", \"4\", IF(U10=\"50 to 100 gallons/ 190 to 375 L\", \"6\", IF(U10=\"100 to 500 gallons/ 375 to 1900 L\", \"8\", IF(U10=\"500 to 1000 gallons/ 1900 to 3800 L\", \"10\", IF(U10=\"Greater than 1000 gallons/Greater than 3800 L\", \"15\", IF(U10=\"Unknown\", \"15\", \"\"))))))))","v":""},null,{"$f":"IF(W10=\"0 to 5 gallons/ 0 to 20 L\", \"1\", IF(W10=\"5 to 20 gallons/ 20 to 75 L\", \"2\", IF(W10=\"20 to 50 gallons/ 75 to 190 L\", \"4\", IF(W10=\"50 to 100 gallons/ 190 to 375 L\", \"6\", IF(W10=\"100 to 500 gallons/ 375 to 1900 L\", \"8\", IF(W10=\"500 to 1000 gallons/ 1900 to 3800 L\", \"10\", IF(W10=\"Greater than 1000 gallons/Greater than 3800 L\", \"15\", IF(W10=\"Unknown\", \"15\", \"\"))))))))","v":""},null,{"$f":"IF(Y10=\"0 to 5 gallons/ 0 to 20 L\", \"1\", IF(Y10=\"5 to 20 gallons/ 20 to 75 L\", \"2\", IF(Y10=\"20 to 50 gallons/ 75 to 190 L\", \"4\", IF(Y10=\"50 to 100 gallons/ 190 to 375 L\", \"6\", IF(Y10=\"100 to 500 gallons/ 375 to 1900 L\", \"8\", IF(Y10=\"500 to 1000 gallons/ 1900 to 3800 L\", \"10\", IF(Y10=\"Greater than 1000 gallons/Greater than 3800 L\", \"15\", IF(Y10=\"Unknown\", \"15\", \"\"))))))))","v":""},null,{"$f":"IF(AA10=\"0 to 5 gallons/ 0 to 20 L\", \"1\", IF(AA10=\"5 to 20 gallons/ 20 to 75 L\", \"2\", IF(AA10=\"20 to 50 gallons/ 75 to 190 L\", \"4\", IF(AA10=\"50 to 100 gallons/ 190 to 375 L\", \"6\", IF(AA10=\"100 to 500 gallons/ 375 to 1900 L\", \"8\", IF(AA10=\"500 to 1000 gallons/ 1900 to 3800 L\", \"10\", IF(AA10=\"Greater than 1000 gallons/Greater than 3800 L\", \"15\", IF(AA10=\"Unknown\", \"15\", \"\"))))))))","v":""},null,{"$f":"IF(AC10=\"0 to 5 gallons/ 0 to 20 L\", \"1\", IF(AC10=\"5 to 20 gallons/ 20 to 75 L\", \"2\", IF(AC10=\"20 to 50 gallons/ 75 to 190 L\", \"4\", IF(AC10=\"50 to 100 gallons/ 190 to 375 L\", \"6\", IF(AC10=\"100 to 500 gallons/ 375 to 1900 L\", \"8\", IF(AC10=\"500 to 1000 gallons/ 1900 to 3800 L\", \"10\", IF(AC10=\"Greater than 1000 gallons/Greater than 3800 L\", \"15\", IF(AC10=\"Unknown\", \"15\", \"\"))))))))","v":""},null,{"$f":"IF(AE10=\"0 to 5 gallons/ 0 to 20 L\", \"1\", IF(AE10=\"5 to 20 gallons/ 20 to 75 L\", \"2\", IF(AE10=\"20 to 50 gallons/ 75 to 190 L\", \"4\", IF(AE10=\"50 to 100 gallons/ 190 to 375 L\", \"6\", IF(AE10=\"100 to 500 gallons/ 375 to 1900 L\", \"8\", IF(AE10=\"500 to 1000 gallons/ 1900 to 3800 L\", \"10\", IF(AE10=\"Greater than 1000 gallons/Greater than 3800 L\", \"15\", IF(AE10=\"Unknown\", \"15\", \"\"))))))))","v":""},null,{"$f":"IF(AG10=\"0 to 5 gallons/ 0 to 20 L\", \"1\", IF(AG10=\"5 to 20 gallons/ 20 to 75 L\", \"2\", IF(AG10=\"20 to 50 gallons/ 75 to 190 L\", \"4\", IF(AG10=\"50 to 100 gallons/ 190 to 375 L\", \"6\", IF(AG10=\"100 to 500 gallons/ 375 to 1900 L\", \"8\", IF(AG10=\"500 to 1000 gallons/ 1900 to 3800 L\", \"10\", IF(AG10=\"Greater than 1000 gallons/Greater than 3800 L\", \"15\", IF(AG10=\"Unknown\", \"15\", \"\"))))))))","v":""},null,{"$f":"IF(AI10=\"0 to 5 gallons/ 0 to 20 L\", \"1\", IF(AI10=\"5 to 20 gallons/ 20 to 75 L\", \"2\", IF(AI10=\"20 to 50 gallons/ 75 to 190 L\", \"4\", IF(AI10=\"50 to 100 gallons/ 190 to 375 L\", \"6\", IF(AI10=\"100 to 500 gallons/ 375 to 1900 L\", \"8\", IF(AI10=\"500 to 1000 gallons/ 1900 to 3800 L\", \"10\", IF(AI10=\"Greater than 1000 gallons/Greater than 3800 L\", \"15\", IF(AI10=\"Unknown\", \"15\", \"\"))))))))","v":""},null,{"$f":"IF(AK10=\"0 to 5 gallons/ 0 to 20 L\", \"1\", IF(AK10=\"5 to 20 gallons/ 20 to 75 L\", \"2\", IF(AK10=\"20 to 50 gallons/ 75 to 190 L\", \"4\", IF(AK10=\"50 to 100 gallons/ 190 to 375 L\", \"6\", IF(AK10=\"100 to 500 gallons/ 375 to 1900 L\", \"8\", IF(AK10=\"500 to 1000 gallons/ 1900 to 3800 L\", \"10\", IF(AK10=\"Greater than 1000 gallons/Greater than 3800 L\", \"15\", IF(AK10=\"Unknown\", \"15\", \"\"))))))))","v":""},null,{"$f":"IF(AM10=\"0 to 5 gallons/ 0 to 20 L\", \"1\", IF(AM10=\"5 to 20 gallons/ 20 to 75 L\", \"2\", IF(AM10=\"20 to 50 gallons/ 75 to 190 L\", \"4\", IF(AM10=\"50 to 100 gallons/ 190 to 375 L\", \"6\", IF(AM10=\"100 to 500 gallons/ 375 to 1900 L\", \"8\", IF(AM10=\"500 to 1000 gallons/ 1900 to 3800 L\", \"10\", IF(AM10=\"Greater than 1000 gallons/Greater than 3800 L\", \"15\", IF(AM10=\"Unknown\", \"15\", \"\"))))))))","v":""},null,{"$f":"IF(AO10=\"0 to 5 gallons/ 0 to 20 L\", \"1\", IF(AO10=\"5 to 20 gallons/ 20 to 75 L\", \"2\", IF(AO10=\"20 to 50 gallons/ 75 to 190 L\", \"4\", IF(AO10=\"50 to 100 gallons/ 190 to 375 L\", \"6\", IF(AO10=\"100 to 500 gallons/ 375 to 1900 L\", \"8\", IF(AO10=\"500 to 1000 gallons/ 1900 to 3800 L\", \"10\", IF(AO10=\"Greater than 1000 gallons/Greater than 3800 L\", \"15\", IF(AO10=\"Unknown\", \"15\", \"\"))))))))","v":""},null,{"$f":"IF(AQ10=\"0 to 5 gallons/ 0 to 20 L\", \"1\", IF(AQ10=\"5 to 20 gallons/ 20 to 75 L\", \"2\", IF(AQ10=\"20 to 50 gallons/ 75 to 190 L\", \"4\", IF(AQ10=\"50 to 100 gallons/ 190 to 375 L\", \"6\", IF(AQ10=\"100 to 500 gallons/ 375 to 1900 L\", \"8\", IF(AQ10=\"500 to 1000 gallons/ 1900 to 3800 L\", \"10\", IF(AQ10=\"Greater than 1000 gallons/Greater than 3800 L\", \"15\", IF(AQ10=\"Unknown\", \"15\", \"\"))))))))","v":""},null,{"$f":"IF(AS10=\"0 to 5 gallons/ 0 to 20 L\", \"1\", IF(AS10=\"5 to 20 gallons/ 20 to 75 L\", \"2\", IF(AS10=\"20 to 50 gallons/ 75 to 190 L\", \"4\", IF(AS10=\"50 to 100 gallons/ 190 to 375 L\", \"6\", IF(AS10=\"100 to 500 gallons/ 375 to 1900 L\", \"8\", IF(AS10=\"500 to 1000 gallons/ 1900 to 3800 L\", \"10\", IF(AS10=\"Greater than 1000 gallons/Greater than 3800 L\", \"15\", IF(AS10=\"Unknown\", \"15\", \"\"))))))))","v":""},null,{"$f":"IF(AU10=\"0 to 5 gallons/ 0 to 20 L\", \"1\", IF(AU10=\"5 to 20 gallons/ 20 to 75 L\", \"2\", IF(AU10=\"20 to 50 gallons/ 75 to 190 L\", \"4\", IF(AU10=\"50 to 100 gallons/ 190 to 375 L\", \"6\", IF(AU10=\"100 to 500 gallons/ 375 to 1900 L\", \"8\", IF(AU10=\"500 to 1000 gallons/ 1900 to 3800 L\", \"10\", IF(AU10=\"Greater than 1000 gallons/Greater than 3800 L\", \"15\", IF(AU10=\"Unknown\", \"15\", \"\"))))))))","v":""},null,{"$f":"IF(AW10=\"0 to 5 gallons/ 0 to 20 L\", \"1\", IF(AW10=\"5 to 20 gallons/ 20 to 75 L\", \"2\", IF(AW10=\"20 to 50 gallons/ 75 to 190 L\", \"4\", IF(AW10=\"50 to 100 gallons/ 190 to 375 L\", \"6\", IF(AW10=\"100 to 500 gallons/ 375 to 1900 L\", \"8\", IF(AW10=\"500 to 1000 gallons/ 1900 to 3800 L\", \"10\", IF(AW10=\"Greater than 1000 gallons/Greater than 3800 L\", \"15\", IF(AW10=\"Unknown\", \"15\", \"\"))))))))","v":""},null,{"$f":"IF(AY10=\"0 to 5 gallons/ 0 to 20 L\", \"1\", IF(AY10=\"5 to 20 gallons/ 20 to 75 L\", \"2\", IF(AY10=\"20 to 50 gallons/ 75 to 190 L\", \"4\", IF(AY10=\"50 to 100 gallons/ 190 to 375 L\", \"6\", IF(AY10=\"100 to 500 gallons/ 375 to 1900 L\", \"8\", IF(AY10=\"500 to 1000 gallons/ 1900 to 3800 L\", \"10\", IF(AY10=\"Greater than 1000 gallons/Greater than 3800 L\", \"15\", IF(AY10=\"Unknown\", \"15\", \"\"))))))))","v":""},null,{"$f":"IF(BA10=\"0 to 5 gallons/ 0 to 20 L\", \"1\", IF(BA10=\"5 to 20 gallons/ 20 to 75 L\", \"2\", IF(BA10=\"20 to 50 gallons/ 75 to 190 L\", \"4\", IF(BA10=\"50 to 100 gallons/ 190 to 375 L\", \"6\", IF(BA10=\"100 to 500 gallons/ 375 to 1900 L\", \"8\", IF(BA10=\"500 to 1000 gallons/ 1900 to 3800 L\", \"10\", IF(BA10=\"Greater than 1000 gallons/Greater than 3800 L\", \"15\", IF(BA10=\"Unknown\", \"15\", \"\"))))))))","v":""},null,{"$f":"IF(BC10=\"0 to 5 gallons/ 0 to 20 L\", \"1\", IF(BC10=\"5 to 20 gallons/ 20 to 75 L\", \"2\", IF(BC10=\"20 to 50 gallons/ 75 to 190 L\", \"4\", IF(BC10=\"50 to 100 gallons/ 190 to 375 L\", \"6\", IF(BC10=\"100 to 500 gallons/ 375 to 1900 L\", \"8\", IF(BC10=\"500 to 1000 gallons/ 1900 to 3800 L\", \"10\", IF(BC10=\"Greater than 1000 gallons/Greater than 3800 L\", \"15\", IF(BC10=\"Unknown\", \"15\", \"\"))))))))","v":""},null,{"$f":"IF(BE10=\"0 to 5 gallons/ 0 to 20 L\", \"1\", IF(BE10=\"5 to 20 gallons/ 20 to 75 L\", \"2\", IF(BE10=\"20 to 50 gallons/ 75 to 190 L\", \"4\", IF(BE10=\"50 to 100 gallons/ 190 to 375 L\", \"6\", IF(BE10=\"100 to 500 gallons/ 375 to 1900 L\", \"8\", IF(BE10=\"500 to 1000 gallons/ 1900 to 3800 L\", \"10\", IF(BE10=\"Greater than 1000 gallons/Greater than 3800 L\", \"15\", IF(BE10=\"Unknown\", \"15\", \"\"))))))))","v":""},null,{"$f":"IF(BG10=\"0 to 5 gallons/ 0 to 20 L\", \"1\", IF(BG10=\"5 to 20 gallons/ 20 to 75 L\", \"2\", IF(BG10=\"20 to 50 gallons/ 75 to 190 L\", \"4\", IF(BG10=\"50 to 100 gallons/ 190 to 375 L\", \"6\", IF(BG10=\"100 to 500 gallons/ 375 to 1900 L\", \"8\", IF(BG10=\"500 to 1000 gallons/ 1900 to 3800 L\", \"10\", IF(BG10=\"Greater than 1000 gallons/Greater than 3800 L\", \"15\", IF(BG10=\"Unknown\", \"15\", \"\"))))))))","v":""},null,{"$f":"IF(BI10=\"0 to 5 gallons/ 0 to 20 L\", \"1\", IF(BI10=\"5 to 20 gallons/ 20 to 75 L\", \"2\", IF(BI10=\"20 to 50 gallons/ 75 to 190 L\", \"4\", IF(BI10=\"50 to 100 gallons/ 190 to 375 L\", \"6\", IF(BI10=\"100 to 500 gallons/ 375 to 1900 L\", \"8\", IF(BI10=\"500 to 1000 gallons/ 1900 to 3800 L\", \"10\", IF(BI10=\"Greater than 1000 gallons/Greater than 3800 L\", \"15\", IF(BI10=\"Unknown\", \"15\", \"\"))))))))","v":""},null,{"$f":"IF(BK10=\"0 to 5 gallons/ 0 to 20 L\", \"1\", IF(BK10=\"5 to 20 gallons/ 20 to 75 L\", \"2\", IF(BK10=\"20 to 50 gallons/ 75 to 190 L\", \"4\", IF(BK10=\"50 to 100 gallons/ 190 to 375 L\", \"6\", IF(BK10=\"100 to 500 gallons/ 375 to 1900 L\", \"8\", IF(BK10=\"500 to 1000 gallons/ 1900 to 3800 L\", \"10\", IF(BK10=\"Greater than 1000 gallons/Greater than 3800 L\", \"15\", IF(BK10=\"Unknown\", \"15\", \"\"))))))))","v":""},null,{"$f":"IF(BM10=\"0 to 5 gallons/ 0 to 20 L\", \"1\", IF(BM10=\"5 to 20 gallons/ 20 to 75 L\", \"2\", IF(BM10=\"20 to 50 gallons/ 75 to 190 L\", \"4\", IF(BM10=\"50 to 100 gallons/ 190 to 375 L\", \"6\", IF(BM10=\"100 to 500 gallons/ 375 to 1900 L\", \"8\", IF(BM10=\"500 to 1000 gallons/ 1900 to 3800 L\", \"10\", IF(BM10=\"Greater than 1000 gallons/Greater than 3800 L\", \"15\", IF(BM10=\"Unknown\", \"15\", \"\"))))))))","v":""},null,{"$f":"IF(BO10=\"0 to 5 gallons/ 0 to 20 L\", \"1\", IF(BO10=\"5 to 20 gallons/ 20 to 75 L\", \"2\", IF(BO10=\"20 to 50 gallons/ 75 to 190 L\", \"4\", IF(BO10=\"50 to 100 gallons/ 190 to 375 L\", \"6\", IF(BO10=\"100 to 500 gallons/ 375 to 1900 L\", \"8\", IF(BO10=\"500 to 1000 gallons/ 1900 to 3800 L\", \"10\", IF(BO10=\"Greater than 1000 gallons/Greater than 3800 L\", \"15\", IF(BO10=\"Unknown\", \"15\", \"\"))))))))","v":""},null,{"$f":"IF(BQ10=\"0 to 5 gallons/ 0 to 20 L\", \"1\", IF(BQ10=\"5 to 20 gallons/ 20 to 75 L\", \"2\", IF(BQ10=\"20 to 50 gallons/ 75 to 190 L\", \"4\", IF(BQ10=\"50 to 100 gallons/ 190 to 375 L\", \"6\", IF(BQ10=\"100 to 500 gallons/ 375 to 1900 L\", \"8\", IF(BQ10=\"500 to 1000 gallons/ 1900 to 3800 L\", \"10\", IF(BQ10=\"Greater than 1000 gallons/Greater than 3800 L\", \"15\", IF(BQ10=\"Unknown\", \"15\", \"\"))))))))","v":""},null,{"$f":"IF(BS10=\"0 to 5 gallons/ 0 to 20 L\", \"1\", IF(BS10=\"5 to 20 gallons/ 20 to 75 L\", \"2\", IF(BS10=\"20 to 50 gallons/ 75 to 190 L\", \"4\", IF(BS10=\"50 to 100 gallons/ 190 to 375 L\", \"6\", IF(BS10=\"100 to 500 gallons/ 375 to 1900 L\", \"8\", IF(BS10=\"500 to 1000 gallons/ 1900 to 3800 L\", \"10\", IF(BS10=\"Greater than 1000 gallons/Greater than 3800 L\", \"15\", IF(BS10=\"Unknown\", \"15\", \"\"))))))))","v":""},null,{"$f":"IF(BU10=\"0 to 5 gallons/ 0 to 20 L\", \"1\", IF(BU10=\"5 to 20 gallons/ 20 to 75 L\", \"2\", IF(BU10=\"20 to 50 gallons/ 75 to 190 L\", \"4\", IF(BU10=\"50 to 100 gallons/ 190 to 375 L\", \"6\", IF(BU10=\"100 to 500 gallons/ 375 to 1900 L\", \"8\", IF(BU10=\"500 to 1000 gallons/ 1900 to 3800 L\", \"10\", IF(BU10=\"Greater than 1000 gallons/Greater than 3800 L\", \"15\", IF(BU10=\"Unknown\", \"15\", \"\"))))))))","v":""},null,{"$f":"IF(BW10=\"0 to 5 gallons/ 0 to 20 L\", \"1\", IF(BW10=\"5 to 20 gallons/ 20 to 75 L\", \"2\", IF(BW10=\"20 to 50 gallons/ 75 to 190 L\", \"4\", IF(BW10=\"50 to 100 gallons/ 190 to 375 L\", \"6\", IF(BW10=\"100 to 500 gallons/ 375 to 1900 L\", \"8\", IF(BW10=\"500 to 1000 gallons/ 1900 to 3800 L\", \"10\", IF(BW10=\"Greater than 1000 gallons/Greater than 3800 L\", \"15\", IF(BW10=\"Unknown\", \"15\", \"\"))))))))","v":""},null,{"$f":"IF(BY10=\"0 to 5 gallons/ 0 to 20 L\", \"1\", IF(BY10=\"5 to 20 gallons/ 20 to 75 L\", \"2\", IF(BY10=\"20 to 50 gallons/ 75 to 190 L\", \"4\", IF(BY10=\"50 to 100 gallons/ 190 to 375 L\", \"6\", IF(BY10=\"100 to 500 gallons/ 375 to 1900 L\", \"8\", IF(BY10=\"500 to 1000 gallons/ 1900 to 3800 L\", \"10\", IF(BY10=\"Greater than 1000 gallons/Greater than 3800 L\", \"15\", IF(BY10=\"Unknown\", \"15\", \"\"))))))))","v":""},null,{"$f":"IF(CA10=\"0 to 5 gallons/ 0 to 20 L\", \"1\", IF(CA10=\"5 to 20 gallons/ 20 to 75 L\", \"2\", IF(CA10=\"20 to 50 gallons/ 75 to 190 L\", \"4\", IF(CA10=\"50 to 100 gallons/ 190 to 375 L\", \"6\", IF(CA10=\"100 to 500 gallons/ 375 to 1900 L\", \"8\", IF(CA10=\"500 to 1000 gallons/ 1900 to 3800 L\", \"10\", IF(CA10=\"Greater than 1000 gallons/Greater than 3800 L\", \"15\", IF(CA10=\"Unknown\", \"15\", \"\"))))))))","v":""},null,{"$f":"IF(CC10=\"0 to 5 gallons/ 0 to 20 L\", \"1\", IF(CC10=\"5 to 20 gallons/ 20 to 75 L\", \"2\", IF(CC10=\"20 to 50 gallons/ 75 to 190 L\", \"4\", IF(CC10=\"50 to 100 gallons/ 190 to 375 L\", \"6\", IF(CC10=\"100 to 500 gallons/ 375 to 1900 L\", \"8\", IF(CC10=\"500 to 1000 gallons/ 1900 to 3800 L\", \"10\", IF(CC10=\"Greater than 1000 gallons/Greater than 3800 L\", \"15\", IF(CC10=\"Unknown\", \"15\", \"\"))))))))","v":""},null,{"$f":"IF(CE10=\"0 to 5 gallons/ 0 to 20 L\", \"1\", IF(CE10=\"5 to 20 gallons/ 20 to 75 L\", \"2\", IF(CE10=\"20 to 50 gallons/ 75 to 190 L\", \"4\", IF(CE10=\"50 to 100 gallons/ 190 to 375 L\", \"6\", IF(CE10=\"100 to 500 gallons/ 375 to 1900 L\", \"8\", IF(CE10=\"500 to 1000 gallons/ 1900 to 3800 L\", \"10\", IF(CE10=\"Greater than 1000 gallons/Greater than 3800 L\", \"15\", IF(CE10=\"Unknown\", \"15\", \"\"))))))))","v":""},null,{"$f":"IF(CG10=\"0 to 5 gallons/ 0 to 20 L\", \"1\", IF(CG10=\"5 to 20 gallons/ 20 to 75 L\", \"2\", IF(CG10=\"20 to 50 gallons/ 75 to 190 L\", \"4\", IF(CG10=\"50 to 100 gallons/ 190 to 375 L\", \"6\", IF(CG10=\"100 to 500 gallons/ 375 to 1900 L\", \"8\", IF(CG10=\"500 to 1000 gallons/ 1900 to 3800 L\", \"10\", IF(CG10=\"Greater than 1000 gallons/Greater than 3800 L\", \"15\", IF(CG10=\"Unknown\", \"15\", \"\"))))))))","v":""},null,{"$f":"IF(CI10=\"0 to 5 gallons/ 0 to 20 L\", \"1\", IF(CI10=\"5 to 20 gallons/ 20 to 75 L\", \"2\", IF(CI10=\"20 to 50 gallons/ 75 to 190 L\", \"4\", IF(CI10=\"50 to 100 gallons/ 190 to 375 L\", \"6\", IF(CI10=\"100 to 500 gallons/ 375 to 1900 L\", \"8\", IF(CI10=\"500 to 1000 gallons/ 1900 to 3800 L\", \"10\", IF(CI10=\"Greater than 1000 gallons/Greater than 3800 L\", \"15\", IF(CI10=\"Unknown\", \"15\", \"\"))))))))","v":""},null,{"$f":"IF(CK10=\"0 to 5 gallons/ 0 to 20 L\", \"1\", IF(CK10=\"5 to 20 gallons/ 20 to 75 L\", \"2\", IF(CK10=\"20 to 50 gallons/ 75 to 190 L\", \"4\", IF(CK10=\"50 to 100 gallons/ 190 to 375 L\", \"6\", IF(CK10=\"100 to 500 gallons/ 375 to 1900 L\", \"8\", IF(CK10=\"500 to 1000 gallons/ 1900 to 3800 L\", \"10\", IF(CK10=\"Greater than 1000 gallons/Greater than 3800 L\", \"15\", IF(CK10=\"Unknown\", \"15\", \"\"))))))))","v":""},null,{"$f":"IF(CM10=\"0 to 5 gallons/ 0 to 20 L\", \"1\", IF(CM10=\"5 to 20 gallons/ 20 to 75 L\", \"2\", IF(CM10=\"20 to 50 gallons/ 75 to 190 L\", \"4\", IF(CM10=\"50 to 100 gallons/ 190 to 375 L\", \"6\", IF(CM10=\"100 to 500 gallons/ 375 to 1900 L\", \"8\", IF(CM10=\"500 to 1000 gallons/ 1900 to 3800 L\", \"10\", IF(CM10=\"Greater than 1000 gallons/Greater than 3800 L\", \"15\", IF(CM10=\"Unknown\", \"15\", \"\"))))))))","v":""},null,{"$f":"IF(CO10=\"0 to 5 gallons/ 0 to 20 L\", \"1\", IF(CO10=\"5 to 20 gallons/ 20 to 75 L\", \"2\", IF(CO10=\"20 to 50 gallons/ 75 to 190 L\", \"4\", IF(CO10=\"50 to 100 gallons/ 190 to 375 L\", \"6\", IF(CO10=\"100 to 500 gallons/ 375 to 1900 L\", \"8\", IF(CO10=\"500 to 1000 gallons/ 1900 to 3800 L\", \"10\", IF(CO10=\"Greater than 1000 gallons/Greater than 3800 L\", \"15\", IF(CO10=\"Unknown\", \"15\", \"\"))))))))","v":""},null,{"$f":"IF(CQ10=\"0 to 5 gallons/ 0 to 20 L\", \"1\", IF(CQ10=\"5 to 20 gallons/ 20 to 75 L\", \"2\", IF(CQ10=\"20 to 50 gallons/ 75 to 190 L\", \"4\", IF(CQ10=\"50 to 100 gallons/ 190 to 375 L\", \"6\", IF(CQ10=\"100 to 500 gallons/ 375 to 1900 L\", \"8\", IF(CQ10=\"500 to 1000 gallons/ 1900 to 3800 L\", \"10\", IF(CQ10=\"Greater than 1000 gallons/Greater than 3800 L\", \"15\", IF(CQ10=\"Unknown\", \"15\", \"\"))))))))","v":""},null,{"$f":"IF(CS10=\"0 to 5 gallons/ 0 to 20 L\", \"1\", IF(CS10=\"5 to 20 gallons/ 20 to 75 L\", \"2\", IF(CS10=\"20 to 50 gallons/ 75 to 190 L\", \"4\", IF(CS10=\"50 to 100 gallons/ 190 to 375 L\", \"6\", IF(CS10=\"100 to 500 gallons/ 375 to 1900 L\", \"8\", IF(CS10=\"500 to 1000 gallons/ 1900 to 3800 L\", \"10\", IF(CS10=\"Greater than 1000 gallons/Greater than 3800 L\", \"15\", IF(CS10=\"Unknown\", \"15\", \"\"))))))))","v":""},null,{"$f":"IF(CU10=\"0 to 5 gallons/ 0 to 20 L\", \"1\", IF(CU10=\"5 to 20 gallons/ 20 to 75 L\", \"2\", IF(CU10=\"20 to 50 gallons/ 75 to 190 L\", \"4\", IF(CU10=\"50 to 100 gallons/ 190 to 375 L\", \"6\", IF(CU10=\"100 to 500 gallons/ 375 to 1900 L\", \"8\", IF(CU10=\"500 to 1000 gallons/ 1900 to 3800 L\", \"10\", IF(CU10=\"Greater than 1000 gallons/Greater than 3800 L\", \"15\", IF(CU10=\"Unknown\", \"15\", \"\"))))))))","v":""},null,{"$f":"IF(CW10=\"0 to 5 gallons/ 0 to 20 L\", \"1\", IF(CW10=\"5 to 20 gallons/ 20 to 75 L\", \"2\", IF(CW10=\"20 to 50 gallons/ 75 to 190 L\", \"4\", IF(CW10=\"50 to 100 gallons/ 190 to 375 L\", \"6\", IF(CW10=\"100 to 500 gallons/ 375 to 1900 L\", \"8\", IF(CW10=\"500 to 1000 gallons/ 1900 to 3800 L\", \"10\", IF(CW10=\"Greater than 1000 gallons/Greater than 3800 L\", \"15\", IF(CW10=\"Unknown\", \"15\", \"\"))))))))","v":""},null,{"$f":"IF(CY10=\"0 to 5 gallons/ 0 to 20 L\", \"1\", IF(CY10=\"5 to 20 gallons/ 20 to 75 L\", \"2\", IF(CY10=\"20 to 50 gallons/ 75 to 190 L\", \"4\", IF(CY10=\"50 to 100 gallons/ 190 to 375 L\", \"6\", IF(CY10=\"100 to 500 gallons/ 375 to 1900 L\", \"8\", IF(CY10=\"500 to 1000 gallons/ 1900 to 3800 L\", \"10\", IF(CY10=\"Greater than 1000 gallons/Greater than 3800 L\", \"15\", IF(CY10=\"Unknown\", \"15\", \"\"))))))))","v":""},null,{"$f":"IF(DA10=\"0 to 5 gallons/ 0 to 20 L\", \"1\", IF(DA10=\"5 to 20 gallons/ 20 to 75 L\", \"2\", IF(DA10=\"20 to 50 gallons/ 75 to 190 L\", \"4\", IF(DA10=\"50 to 100 gallons/ 190 to 375 L\", \"6\", IF(DA10=\"100 to 500 gallons/ 375 to 1900 L\", \"8\", IF(DA10=\"500 to 1000 gallons/ 1900 to 3800 L\", \"10\", IF(DA10=\"Greater than 1000 gallons/Greater than 3800 L\", \"15\", IF(DA10=\"Unknown\", \"15\", \"\"))))))))","v":""},null,{"$f":"IF(DC10=\"0 to 5 gallons/ 0 to 20 L\", \"1\", IF(DC10=\"5 to 20 gallons/ 20 to 75 L\", \"2\", IF(DC10=\"20 to 50 gallons/ 75 to 190 L\", \"4\", IF(DC10=\"50 to 100 gallons/ 190 to 375 L\", \"6\", IF(DC10=\"100 to 500 gallons/ 375 to 1900 L\", \"8\", IF(DC10=\"500 to 1000 gallons/ 1900 to 3800 L\", \"10\", IF(DC10=\"Greater than 1000 gallons/Greater than 3800 L\", \"15\", IF(DC10=\"Unknown\", \"15\", \"\"))))))))","v":""},null,{"$f":"IF(DE10=\"0 to 5 gallons/ 0 to 20 L\", \"1\", IF(DE10=\"5 to 20 gallons/ 20 to 75 L\", \"2\", IF(DE10=\"20 to 50 gallons/ 75 to 190 L\", \"4\", IF(DE10=\"50 to 100 gallons/ 190 to 375 L\", \"6\", IF(DE10=\"100 to 500 gallons/ 375 to 1900 L\", \"8\", IF(DE10=\"500 to 1000 gallons/ 1900 to 3800 L\", \"10\", IF(DE10=\"Greater than 1000 gallons/Greater than 3800 L\", \"15\", IF(DE10=\"Unknown\", \"15\", \"\"))))))))","v":""},null,{"$f":"IF(DG10=\"0 to 5 gallons/ 0 to 20 L\", \"1\", IF(DG10=\"5 to 20 gallons/ 20 to 75 L\", \"2\", IF(DG10=\"20 to 50 gallons/ 75 to 190 L\", \"4\", IF(DG10=\"50 to 100 gallons/ 190 to 375 L\", \"6\", IF(DG10=\"100 to 500 gallons/ 375 to 1900 L\", \"8\", IF(DG10=\"500 to 1000 gallons/ 1900 to 3800 L\", \"10\", IF(DG10=\"Greater than 1000 gallons/Greater than 3800 L\", \"15\", IF(DG10=\"Unknown\", \"15\", \"\"))))))))","v":""},null,{"$f":"IF(DI10=\"0 to 5 gallons/ 0 to 20 L\", \"1\", IF(DI10=\"5 to 20 gallons/ 20 to 75 L\", \"2\", IF(DI10=\"20 to 50 gallons/ 75 to 190 L\", \"4\", IF(DI10=\"50 to 100 gallons/ 190 to 375 L\", \"6\", IF(DI10=\"100 to 500 gallons/ 375 to 1900 L\", \"8\", IF(DI10=\"500 to 1000 gallons/ 1900 to 3800 L\", \"10\", IF(DI10=\"Greater than 1000 gallons/Greater than 3800 L\", \"15\", IF(DI10=\"Unknown\", \"15\", \"\"))))))))","v":""},null,{"$f":"IF(DK10=\"0 to 5 gallons/ 0 to 20 L\", \"1\", IF(DK10=\"5 to 20 gallons/ 20 to 75 L\", \"2\", IF(DK10=\"20 to 50 gallons/ 75 to 190 L\", \"4\", IF(DK10=\"50 to 100 gallons/ 190 to 375 L\", \"6\", IF(DK10=\"100 to 500 gallons/ 375 to 1900 L\", \"8\", IF(DK10=\"500 to 1000 gallons/ 1900 to 3800 L\", \"10\", IF(DK10=\"Greater than 1000 gallons/Greater than 3800 L\", \"15\", IF(DK10=\"Unknown\", \"15\", \"\"))))))))","v":""},null,{"$f":"IF(DM10=\"0 to 5 gallons/ 0 to 20 L\", \"1\", IF(DM10=\"5 to 20 gallons/ 20 to 75 L\", \"2\", IF(DM10=\"20 to 50 gallons/ 75 to 190 L\", \"4\", IF(DM10=\"50 to 100 gallons/ 190 to 375 L\", \"6\", IF(DM10=\"100 to 500 gallons/ 375 to 1900 L\", \"8\", IF(DM10=\"500 to 1000 gallons/ 1900 to 3800 L\", \"10\", IF(DM10=\"Greater than 1000 gallons/Greater than 3800 L\", \"15\", IF(DM10=\"Unknown\", \"15\", \"\"))))))))","v":""},null,{"$f":"IF(DO10=\"0 to 5 gallons/ 0 to 20 L\", \"1\", IF(DO10=\"5 to 20 gallons/ 20 to 75 L\", \"2\", IF(DO10=\"20 to 50 gallons/ 75 to 190 L\", \"4\", IF(DO10=\"50 to 100 gallons/ 190 to 375 L\", \"6\", IF(DO10=\"100 to 500 gallons/ 375 to 1900 L\", \"8\", IF(DO10=\"500 to 1000 gallons/ 1900 to 3800 L\", \"10\", IF(DO10=\"Greater than 1000 gallons/Greater than 3800 L\", \"15\", IF(DO10=\"Unknown\", \"15\", \"\"))))))))","v":""},null,{"$f":"IF(DQ10=\"0 to 5 gallons/ 0 to 20 L\", \"1\", IF(DQ10=\"5 to 20 gallons/ 20 to 75 L\", \"2\", IF(DQ10=\"20 to 50 gallons/ 75 to 190 L\", \"4\", IF(DQ10=\"50 to 100 gallons/ 190 to 375 L\", \"6\", IF(DQ10=\"100 to 500 gallons/ 375 to 1900 L\", \"8\", IF(DQ10=\"500 to 1000 gallons/ 1900 to 3800 L\", \"10\", IF(DQ10=\"Greater than 1000 gallons/Greater than 3800 L\", \"15\", IF(DQ10=\"Unknown\", \"15\", \"\"))))))))","v":""},null,{"$f":"IF(DS10=\"0 to 5 gallons/ 0 to 20 L\", \"1\", IF(DS10=\"5 to 20 gallons/ 20 to 75 L\", \"2\", IF(DS10=\"20 to 50 gallons/ 75 to 190 L\", \"4\", IF(DS10=\"50 to 100 gallons/ 190 to 375 L\", \"6\", IF(DS10=\"100 to 500 gallons/ 375 to 1900 L\", \"8\", IF(DS10=\"500 to 1000 gallons/ 1900 to 3800 L\", \"10\", IF(DS10=\"Greater than 1000 gallons/Greater than 3800 L\", \"15\", IF(DS10=\"Unknown\", \"15\", \"\"))))))))","v":""},null,{"$f":"IF(DU10=\"0 to 5 gallons/ 0 to 20 L\", \"1\", IF(DU10=\"5 to 20 gallons/ 20 to 75 L\", \"2\", IF(DU10=\"20 to 50 gallons/ 75 to 190 L\", \"4\", IF(DU10=\"50 to 100 gallons/ 190 to 375 L\", \"6\", IF(DU10=\"100 to 500 gallons/ 375 to 1900 L\", \"8\", IF(DU10=\"500 to 1000 gallons/ 1900 to 3800 L\", \"10\", IF(DU10=\"Greater than 1000 gallons/Greater than 3800 L\", \"15\", IF(DU10=\"Unknown\", \"15\", \"\"))))))))","v":""},null,{"$f":"IF(DW10=\"0 to 5 gallons/ 0 to 20 L\", \"1\", IF(DW10=\"5 to 20 gallons/ 20 to 75 L\", \"2\", IF(DW10=\"20 to 50 gallons/ 75 to 190 L\", \"4\", IF(DW10=\"50 to 100 gallons/ 190 to 375 L\", \"6\", IF(DW10=\"100 to 500 gallons/ 375 to 1900 L\", \"8\", IF(DW10=\"500 to 1000 gallons/ 1900 to 3800 L\", \"10\", IF(DW10=\"Greater than 1000 gallons/Greater than 3800 L\", \"15\", IF(DW10=\"Unknown\", \"15\", \"\"))))))))","v":""},null,{"$f":"IF(DY10=\"0 to 5 gallons/ 0 to 20 L\", \"1\", IF(DY10=\"5 to 20 gallons/ 20 to 75 L\", \"2\", IF(DY10=\"20 to 50 gallons/ 75 to 190 L\", \"4\", IF(DY10=\"50 to 100 gallons/ 190 to 375 L\", \"6\", IF(DY10=\"100 to 500 gallons/ 375 to 1900 L\", \"8\", IF(DY10=\"500 to 1000 gallons/ 1900 to 3800 L\", \"10\", IF(DY10=\"Greater than 1000 gallons/Greater than 3800 L\", \"15\", IF(DY10=\"Unknown\", \"15\", \"\"))))))))","v":""},null,{"$f":"IF(EA10=\"0 to 5 gallons/ 0 to 20 L\", \"1\", IF(EA10=\"5 to 20 gallons/ 20 to 75 L\", \"2\", IF(EA10=\"20 to 50 gallons/ 75 to 190 L\", \"4\", IF(EA10=\"50 to 100 gallons/ 190 to 375 L\", \"6\", IF(EA10=\"100 to 500 gallons/ 375 to 1900 L\", \"8\", IF(EA10=\"500 to 1000 gallons/ 1900 to 3800 L\", \"10\", IF(EA10=\"Greater than 1000 gallons/Greater than 3800 L\", \"15\", IF(EA10=\"Unknown\", \"15\", \"\"))))))))","v":""},null,{"$f":"IF(EC10=\"0 to 5 gallons/ 0 to 20 L\", \"1\", IF(EC10=\"5 to 20 gallons/ 20 to 75 L\", \"2\", IF(EC10=\"20 to 50 gallons/ 75 to 190 L\", \"4\", IF(EC10=\"50 to 100 gallons/ 190 to 375 L\", \"6\", IF(EC10=\"100 to 500 gallons/ 375 to 1900 L\", \"8\", IF(EC10=\"500 to 1000 gallons/ 1900 to 3800 L\", \"10\", IF(EC10=\"Greater than 1000 gallons/Greater than 3800 L\", \"15\", IF(EC10=\"Unknown\", \"15\", \"\"))))))))","v":""},null,{"$f":"IF(EE10=\"0 to 5 gallons/ 0 to 20 L\", \"1\", IF(EE10=\"5 to 20 gallons/ 20 to 75 L\", \"2\", IF(EE10=\"20 to 50 gallons/ 75 to 190 L\", \"4\", IF(EE10=\"50 to 100 gallons/ 190 to 375 L\", \"6\", IF(EE10=\"100 to 500 gallons/ 375 to 1900 L\", \"8\", IF(EE10=\"500 to 1000 gallons/ 1900 to 3800 L\", \"10\", IF(EE10=\"Greater than 1000 gallons/Greater than 3800 L\", \"15\", IF(EE10=\"Unknown\", \"15\", \"\"))))))))","v":""},null,{"$f":"IF(EG10=\"0 to 5 gallons/ 0 to 20 L\", \"1\", IF(EG10=\"5 to 20 gallons/ 20 to 75 L\", \"2\", IF(EG10=\"20 to 50 gallons/ 75 to 190 L\", \"4\", IF(EG10=\"50 to 100 gallons/ 190 to 375 L\", \"6\", IF(EG10=\"100 to 500 gallons/ 375 to 1900 L\", \"8\", IF(EG10=\"500 to 1000 gallons/ 1900 to 3800 L\", \"10\", IF(EG10=\"Greater than 1000 gallons/Greater than 3800 L\", \"15\", IF(EG10=\"Unknown\", \"15\", \"\"))))))))","v":""},null,{"$f":"IF(EI10=\"0 to 5 gallons/ 0 to 20 L\", \"1\", IF(EI10=\"5 to 20 gallons/ 20 to 75 L\", \"2\", IF(EI10=\"20 to 50 gallons/ 75 to 190 L\", \"4\", IF(EI10=\"50 to 100 gallons/ 190 to 375 L\", \"6\", IF(EI10=\"100 to 500 gallons/ 375 to 1900 L\", \"8\", IF(EI10=\"500 to 1000 gallons/ 1900 to 3800 L\", \"10\", IF(EI10=\"Greater than 1000 gallons/Greater than 3800 L\", \"15\", IF(EI10=\"Unknown\", \"15\", \"\"))))))))","v":""},null,{"$f":"IF(EK10=\"0 to 5 gallons/ 0 to 20 L\", \"1\", IF(EK10=\"5 to 20 gallons/ 20 to 75 L\", \"2\", IF(EK10=\"20 to 50 gallons/ 75 to 190 L\", \"4\", IF(EK10=\"50 to 100 gallons/ 190 to 375 L\", \"6\", IF(EK10=\"100 to 500 gallons/ 375 to 1900 L\", \"8\", IF(EK10=\"500 to 1000 gallons/ 1900 to 3800 L\", \"10\", IF(EK10=\"Greater than 1000 gallons/Greater than 3800 L\", \"15\", IF(EK10=\"Unknown\", \"15\", \"\"))))))))","v":""},null,{"$f":"IF(EM10=\"0 to 5 gallons/ 0 to 20 L\", \"1\", IF(EM10=\"5 to 20 gallons/ 20 to 75 L\", \"2\", IF(EM10=\"20 to 50 gallons/ 75 to 190 L\", \"4\", IF(EM10=\"50 to 100 gallons/ 190 to 375 L\", \"6\", IF(EM10=\"100 to 500 gallons/ 375 to 1900 L\", \"8\", IF(EM10=\"500 to 1000 gallons/ 1900 to 3800 L\", \"10\", IF(EM10=\"Greater than 1000 gallons/Greater than 3800 L\", \"15\", IF(EM10=\"Unknown\", \"15\", \"\"))))))))","v":""},null,{"$f":"IF(EO10=\"0 to 5 gallons/ 0 to 20 L\", \"1\", IF(EO10=\"5 to 20 gallons/ 20 to 75 L\", \"2\", IF(EO10=\"20 to 50 gallons/ 75 to 190 L\", \"4\", IF(EO10=\"50 to 100 gallons/ 190 to 375 L\", \"6\", IF(EO10=\"100 to 500 gallons/ 375 to 1900 L\", \"8\", IF(EO10=\"500 to 1000 gallons/ 1900 to 3800 L\", \"10\", IF(EO10=\"Greater than 1000 gallons/Greater than 3800 L\", \"15\", IF(EO10=\"Unknown\", \"15\", \"\"))))))))","v":""},null,{"$f":"IF(EQ10=\"0 to 5 gallons/ 0 to 20 L\", \"1\", IF(EQ10=\"5 to 20 gallons/ 20 to 75 L\", \"2\", IF(EQ10=\"20 to 50 gallons/ 75 to 190 L\", \"4\", IF(EQ10=\"50 to 100 gallons/ 190 to 375 L\", \"6\", IF(EQ10=\"100 to 500 gallons/ 375 to 1900 L\", \"8\", IF(EQ10=\"500 to 1000 gallons/ 1900 to 3800 L\", \"10\", IF(EQ10=\"Greater than 1000 gallons/Greater than 3800 L\", \"15\", IF(EQ10=\"Unknown\", \"15\", \"\"))))))))","v":""},null,{"$f":"IF(ES10=\"0 to 5 gallons/ 0 to 20 L\", \"1\", IF(ES10=\"5 to 20 gallons/ 20 to 75 L\", \"2\", IF(ES10=\"20 to 50 gallons/ 75 to 190 L\", \"4\", IF(ES10=\"50 to 100 gallons/ 190 to 375 L\", \"6\", IF(ES10=\"100 to 500 gallons/ 375 to 1900 L\", \"8\", IF(ES10=\"500 to 1000 gallons/ 1900 to 3800 L\", \"10\", IF(ES10=\"Greater than 1000 gallons/Greater than 3800 L\", \"15\", IF(ES10=\"Unknown\", \"15\", \"\"))))))))","v":""},null,{"$f":"IF(EU10=\"0 to 5 gallons/ 0 to 20 L\", \"1\", IF(EU10=\"5 to 20 gallons/ 20 to 75 L\", \"2\", IF(EU10=\"20 to 50 gallons/ 75 to 190 L\", \"4\", IF(EU10=\"50 to 100 gallons/ 190 to 375 L\", \"6\", IF(EU10=\"100 to 500 gallons/ 375 to 1900 L\", \"8\", IF(EU10=\"500 to 1000 gallons/ 1900 to 3800 L\", \"10\", IF(EU10=\"Greater than 1000 gallons/Greater than 3800 L\", \"15\", IF(EU10=\"Unknown\", \"15\", \"\"))))))))","v":""},null,{"$f":"IF(EW10=\"0 to 5 gallons/ 0 to 20 L\", \"1\", IF(EW10=\"5 to 20 gallons/ 20 to 75 L\", \"2\", IF(EW10=\"20 to 50 gallons/ 75 to 190 L\", \"4\", IF(EW10=\"50 to 100 gallons/ 190 to 375 L\", \"6\", IF(EW10=\"100 to 500 gallons/ 375 to 1900 L\", \"8\", IF(EW10=\"500 to 1000 gallons/ 1900 to 3800 L\", \"10\", IF(EW10=\"Greater than 1000 gallons/Greater than 3800 L\", \"15\", IF(EW10=\"Unknown\", \"15\", \"\"))))))))","v":""},null,{"$f":"IF(EY10=\"0 to 5 gallons/ 0 to 20 L\", \"1\", IF(EY10=\"5 to 20 gallons/ 20 to 75 L\", \"2\", IF(EY10=\"20 to 50 gallons/ 75 to 190 L\", \"4\", IF(EY10=\"50 to 100 gallons/ 190 to 375 L\", \"6\", IF(EY10=\"100 to 500 gallons/ 375 to 1900 L\", \"8\", IF(EY10=\"500 to 1000 gallons/ 1900 to 3800 L\", \"10\", IF(EY10=\"Greater than 1000 gallons/Greater than 3800 L\", \"15\", IF(EY10=\"Unknown\", \"15\", \"\"))))))))","v":""},null,{"$f":"IF(FA10=\"0 to 5 gallons/ 0 to 20 L\", \"1\", IF(FA10=\"5 to 20 gallons/ 20 to 75 L\", \"2\", IF(FA10=\"20 to 50 gallons/ 75 to 190 L\", \"4\", IF(FA10=\"50 to 100 gallons/ 190 to 375 L\", \"6\", IF(FA10=\"100 to 500 gallons/ 375 to 1900 L\", \"8\", IF(FA10=\"500 to 1000 gallons/ 1900 to 3800 L\", \"10\", IF(FA10=\"Greater than 1000 gallons/Greater than 3800 L\", \"15\", IF(FA10=\"Unknown\", \"15\", \"\"))))))))","v":""},null,{"$f":"IF(FC10=\"0 to 5 gallons/ 0 to 20 L\", \"1\", IF(FC10=\"5 to 20 gallons/ 20 to 75 L\", \"2\", IF(FC10=\"20 to 50 gallons/ 75 to 190 L\", \"4\", IF(FC10=\"50 to 100 gallons/ 190 to 375 L\", \"6\", IF(FC10=\"100 to 500 gallons/ 375 to 1900 L\", \"8\", IF(FC10=\"500 to 1000 gallons/ 1900 to 3800 L\", \"10\", IF(FC10=\"Greater than 1000 gallons/Greater than 3800 L\", \"15\", IF(FC10=\"Unknown\", \"15\", \"\"))))))))","v":""},null,{"$f":"IF(FE10=\"0 to 5 gallons/ 0 to 20 L\", \"1\", IF(FE10=\"5 to 20 gallons/ 20 to 75 L\", \"2\", IF(FE10=\"20 to 50 gallons/ 75 to 190 L\", \"4\", IF(FE10=\"50 to 100 gallons/ 190 to 375 L\", \"6\", IF(FE10=\"100 to 500 gallons/ 375 to 1900 L\", \"8\", IF(FE10=\"500 to 1000 gallons/ 1900 to 3800 L\", \"10\", IF(FE10=\"Greater than 1000 gallons/Greater than 3800 L\", \"15\", IF(FE10=\"Unknown\", \"15\", \"\"))))))))","v":""},null,{"$f":"IF(FG10=\"0 to 5 gallons/ 0 to 20 L\", \"1\", IF(FG10=\"5 to 20 gallons/ 20 to 75 L\", \"2\", IF(FG10=\"20 to 50 gallons/ 75 to 190 L\", \"4\", IF(FG10=\"50 to 100 gallons/ 190 to 375 L\", \"6\", IF(FG10=\"100 to 500 gallons/ 375 to 1900 L\", \"8\", IF(FG10=\"500 to 1000 gallons/ 1900 to 3800 L\", \"10\", IF(FG10=\"Greater than 1000 gallons/Greater than 3800 L\", \"15\", IF(FG10=\"Unknown\", \"15\", \"\"))))))))","v":""},null,{"$f":"IF(FI10=\"0 to 5 gallons/ 0 to 20 L\", \"1\", IF(FI10=\"5 to 20 gallons/ 20 to 75 L\", \"2\", IF(FI10=\"20 to 50 gallons/ 75 to 190 L\", \"4\", IF(FI10=\"50 to 100 gallons/ 190 to 375 L\", \"6\", IF(FI10=\"100 to 500 gallons/ 375 to 1900 L\", \"8\", IF(FI10=\"500 to 1000 gallons/ 1900 to 3800 L\", \"10\", IF(FI10=\"Greater than 1000 gallons/Greater than 3800 L\", \"15\", IF(FI10=\"Unknown\", \"15\", \"\"))))))))","v":""},null,{"$f":"IF(FK10=\"0 to 5 gallons/ 0 to 20 L\", \"1\", IF(FK10=\"5 to 20 gallons/ 20 to 75 L\", \"2\", IF(FK10=\"20 to 50 gallons/ 75 to 190 L\", \"4\", IF(FK10=\"50 to 100 gallons/ 190 to 375 L\", \"6\", IF(FK10=\"100 to 500 gallons/ 375 to 1900 L\", \"8\", IF(FK10=\"500 to 1000 gallons/ 1900 to 3800 L\", \"10\", IF(FK10=\"Greater than 1000 gallons/Greater than 3800 L\", \"15\", IF(FK10=\"Unknown\", \"15\", \"\"))))))))","v":""},null,{"$f":"IF(FM10=\"0 to 5 gallons/ 0 to 20 L\", \"1\", IF(FM10=\"5 to 20 gallons/ 20 to 75 L\", \"2\", IF(FM10=\"20 to 50 gallons/ 75 to 190 L\", \"4\", IF(FM10=\"50 to 100 gallons/ 190 to 375 L\", \"6\", IF(FM10=\"100 to 500 gallons/ 375 to 1900 L\", \"8\", IF(FM10=\"500 to 1000 gallons/ 1900 to 3800 L\", \"10\", IF(FM10=\"Greater than 1000 gallons/Greater than 3800 L\", \"15\", IF(FM10=\"Unknown\", \"15\", \"\"))))))))","v":""},null,{"$f":"IF(FO10=\"0 to 5 gallons/ 0 to 20 L\", \"1\", IF(FO10=\"5 to 20 gallons/ 20 to 75 L\", \"2\", IF(FO10=\"20 to 50 gallons/ 75 to 190 L\", \"4\", IF(FO10=\"50 to 100 gallons/ 190 to 375 L\", \"6\", IF(FO10=\"100 to 500 gallons/ 375 to 1900 L\", \"8\", IF(FO10=\"500 to 1000 gallons/ 1900 to 3800 L\", \"10\", IF(FO10=\"Greater than 1000 gallons/Greater than 3800 L\", \"15\", IF(FO10=\"Unknown\", \"15\", \"\"))))))))","v":""},null,{"$f":"IF(FQ10=\"0 to 5 gallons/ 0 to 20 L\", \"1\", IF(FQ10=\"5 to 20 gallons/ 20 to 75 L\", \"2\", IF(FQ10=\"20 to 50 gallons/ 75 to 190 L\", \"4\", IF(FQ10=\"50 to 100 gallons/ 190 to 375 L\", \"6\", IF(FQ10=\"100 to 500 gallons/ 375 to 1900 L\", \"8\", IF(FQ10=\"500 to 1000 gallons/ 1900 to 3800 L\", \"10\", IF(FQ10=\"Greater than 1000 gallons/Greater than 3800 L\", \"15\", IF(FQ10=\"Unknown\", \"15\", \"\"))))))))","v":""},null,{"$f":"IF(FS10=\"0 to 5 gallons/ 0 to 20 L\", \"1\", IF(FS10=\"5 to 20 gallons/ 20 to 75 L\", \"2\", IF(FS10=\"20 to 50 gallons/ 75 to 190 L\", \"4\", IF(FS10=\"50 to 100 gallons/ 190 to 375 L\", \"6\", IF(FS10=\"100 to 500 gallons/ 375 to 1900 L\", \"8\", IF(FS10=\"500 to 1000 gallons/ 1900 to 3800 L\", \"10\", IF(FS10=\"Greater than 1000 gallons/Greater than 3800 L\", \"15\", IF(FS10=\"Unknown\", \"15\", \"\"))))))))","v":""},null,{"$f":"IF(FU10=\"0 to 5 gallons/ 0 to 20 L\", \"1\", IF(FU10=\"5 to 20 gallons/ 20 to 75 L\", \"2\", IF(FU10=\"20 to 50 gallons/ 75 to 190 L\", \"4\", IF(FU10=\"50 to 100 gallons/ 190 to 375 L\", \"6\", IF(FU10=\"100 to 500 gallons/ 375 to 1900 L\", \"8\", IF(FU10=\"500 to 1000 gallons/ 1900 to 3800 L\", \"10\", IF(FU10=\"Greater than 1000 gallons/Greater than 3800 L\", \"15\", IF(FU10=\"Unknown\", \"15\", \"\"))))))))","v":""},null,{"$f":"IF(FW10=\"0 to 5 gallons/ 0 to 20 L\", \"1\", IF(FW10=\"5 to 20 gallons/ 20 to 75 L\", \"2\", IF(FW10=\"20 to 50 gallons/ 75 to 190 L\", \"4\", IF(FW10=\"50 to 100 gallons/ 190 to 375 L\", \"6\", IF(FW10=\"100 to 500 gallons/ 375 to 1900 L\", \"8\", IF(FW10=\"500 to 1000 gallons/ 1900 to 3800 L\", \"10\", IF(FW10=\"Greater than 1000 gallons/Greater than 3800 L\", \"15\", IF(FW10=\"Unknown\", \"15\", \"\"))))))))","v":""},null,{"$f":"IF(FY10=\"0 to 5 gallons/ 0 to 20 L\", \"1\", IF(FY10=\"5 to 20 gallons/ 20 to 75 L\", \"2\", IF(FY10=\"20 to 50 gallons/ 75 to 190 L\", \"4\", IF(FY10=\"50 to 100 gallons/ 190 to 375 L\", \"6\", IF(FY10=\"100 to 500 gallons/ 375 to 1900 L\", \"8\", IF(FY10=\"500 to 1000 gallons/ 1900 to 3800 L\", \"10\", IF(FY10=\"Greater than 1000 gallons/Greater than 3800 L\", \"15\", IF(FY10=\"Unknown\", \"15\", \"\"))))))))","v":""},null,{"$f":"IF(GA10=\"0 to 5 gallons/ 0 to 20 L\", \"1\", IF(GA10=\"5 to 20 gallons/ 20 to 75 L\", \"2\", IF(GA10=\"20 to 50 gallons/ 75 to 190 L\", \"4\", IF(GA10=\"50 to 100 gallons/ 190 to 375 L\", \"6\", IF(GA10=\"100 to 500 gallons/ 375 to 1900 L\", \"8\", IF(GA10=\"500 to 1000 gallons/ 1900 to 3800 L\", \"10\", IF(GA10=\"Greater than 1000 gallons/Greater than 3800 L\", \"15\", IF(GA10=\"Unknown\", \"15\", \"\"))))))))","v":""},null,{"$f":"IF(GC10=\"0 to 5 gallons/ 0 to 20 L\", \"1\", IF(GC10=\"5 to 20 gallons/ 20 to 75 L\", \"2\", IF(GC10=\"20 to 50 gallons/ 75 to 190 L\", \"4\", IF(GC10=\"50 to 100 gallons/ 190 to 375 L\", \"6\", IF(GC10=\"100 to 500 gallons/ 375 to 1900 L\", \"8\", IF(GC10=\"500 to 1000 gallons/ 1900 to 3800 L\", \"10\", IF(GC10=\"Greater than 1000 gallons/Greater than 3800 L\", \"15\", IF(GC10=\"Unknown\", \"15\", \"\"))))))))","v":""},null,{"$f":"IF(GE10=\"0 to 5 gallons/ 0 to 20 L\", \"1\", IF(GE10=\"5 to 20 gallons/ 20 to 75 L\", \"2\", IF(GE10=\"20 to 50 gallons/ 75 to 190 L\", \"4\", IF(GE10=\"50 to 100 gallons/ 190 to 375 L\", \"6\", IF(GE10=\"100 to 500 gallons/ 375 to 1900 L\", \"8\", IF(GE10=\"500 to 1000 gallons/ 1900 to 3800 L\", \"10\", IF(GE10=\"Greater than 1000 gallons/Greater than 3800 L\", \"15\", IF(GE10=\"Unknown\", \"15\", \"\"))))))))","v":""},null,{"$f":"IF(GG10=\"0 to 5 gallons/ 0 to 20 L\", \"1\", IF(GG10=\"5 to 20 gallons/ 20 to 75 L\", \"2\", IF(GG10=\"20 to 50 gallons/ 75 to 190 L\", \"4\", IF(GG10=\"50 to 100 gallons/ 190 to 375 L\", \"6\", IF(GG10=\"100 to 500 gallons/ 375 to 1900 L\", \"8\", IF(GG10=\"500 to 1000 gallons/ 1900 to 3800 L\", \"10\", IF(GG10=\"Greater than 1000 gallons/Greater than 3800 L\", \"15\", IF(GG10=\"Unknown\", \"15\", \"\"))))))))","v":""},null,{"$f":"IF(GI10=\"0 to 5 gallons/ 0 to 20 L\", \"1\", IF(GI10=\"5 to 20 gallons/ 20 to 75 L\", \"2\", IF(GI10=\"20 to 50 gallons/ 75 to 190 L\", \"4\", IF(GI10=\"50 to 100 gallons/ 190 to 375 L\", \"6\", IF(GI10=\"100 to 500 gallons/ 375 to 1900 L\", \"8\", IF(GI10=\"500 to 1000 gallons/ 1900 to 3800 L\", \"10\", IF(GI10=\"Greater than 1000 gallons/Greater than 3800 L\", \"15\", IF(GI10=\"Unknown\", \"15\", \"\"))))))))","v":""},null,{"$f":"IF(GK10=\"0 to 5 gallons/ 0 to 20 L\", \"1\", IF(GK10=\"5 to 20 gallons/ 20 to 75 L\", \"2\", IF(GK10=\"20 to 50 gallons/ 75 to 190 L\", \"4\", IF(GK10=\"50 to 100 gallons/ 190 to 375 L\", \"6\", IF(GK10=\"100 to 500 gallons/ 375 to 1900 L\", \"8\", IF(GK10=\"500 to 1000 gallons/ 1900 to 3800 L\", \"10\", IF(GK10=\"Greater than 1000 gallons/Greater than 3800 L\", \"15\", IF(GK10=\"Unknown\", \"15\", \"\"))))))))","v":""},null,{"$f":"IF(GM10=\"0 to 5 gallons/ 0 to 20 L\", \"1\", IF(GM10=\"5 to 20 gallons/ 20 to 75 L\", \"2\", IF(GM10=\"20 to 50 gallons/ 75 to 190 L\", \"4\", IF(GM10=\"50 to 100 gallons/ 190 to 375 L\", \"6\", IF(GM10=\"100 to 500 gallons/ 375 to 1900 L\", \"8\", IF(GM10=\"500 to 1000 gallons/ 1900 to 3800 L\", \"10\", IF(GM10=\"Greater than 1000 gallons/Greater than 3800 L\", \"15\", IF(GM10=\"Unknown\", \"15\", \"\"))))))))","v":""},null,{"$f":"IF(GO10=\"0 to 5 gallons/ 0 to 20 L\", \"1\", IF(GO10=\"5 to 20 gallons/ 20 to 75 L\", \"2\", IF(GO10=\"20 to 50 gallons/ 75 to 190 L\", \"4\", IF(GO10=\"50 to 100 gallons/ 190 to 375 L\", \"6\", IF(GO10=\"100 to 500 gallons/ 375 to 1900 L\", \"8\", IF(GO10=\"500 to 1000 gallons/ 1900 to 3800 L\", \"10\", IF(GO10=\"Greater than 1000 gallons/Greater than 3800 L\", \"15\", IF(GO10=\"Unknown\", \"15\", \"\"))))))))","v":""},null,{"$f":"IF(GQ10=\"0 to 5 gallons/ 0 to 20 L\", \"1\", IF(GQ10=\"5 to 20 gallons/ 20 to 75 L\", \"2\", IF(GQ10=\"20 to 50 gallons/ 75 to 190 L\", \"4\", IF(GQ10=\"50 to 100 gallons/ 190 to 375 L\", \"6\", IF(GQ10=\"100 to 500 gallons/ 375 to 1900 L\", \"8\", IF(GQ10=\"500 to 1000 gallons/ 1900 to 3800 L\", \"10\", IF(GQ10=\"Greater than 1000 gallons/Greater than 3800 L\", \"15\", IF(GQ10=\"Unknown\", \"15\", \"\"))))))))","v":""},null,{"$f":"IF(GS10=\"0 to 5 gallons/ 0 to 20 L\", \"1\", IF(GS10=\"5 to 20 gallons/ 20 to 75 L\", \"2\", IF(GS10=\"20 to 50 gallons/ 75 to 190 L\", \"4\", IF(GS10=\"50 to 100 gallons/ 190 to 375 L\", \"6\", IF(GS10=\"100 to 500 gallons/ 375 to 1900 L\", \"8\", IF(GS10=\"500 to 1000 gallons/ 1900 to 3800 L\", \"10\", IF(GS10=\"Greater than 1000 gallons/Greater than 3800 L\", \"15\", IF(GS10=\"Unknown\", \"15\", \"\"))))))))","v":""},null,{"$f":"IF(GU10=\"0 to 5 gallons/ 0 to 20 L\", \"1\", IF(GU10=\"5 to 20 gallons/ 20 to 75 L\", \"2\", IF(GU10=\"20 to 50 gallons/ 75 to 190 L\", \"4\", IF(GU10=\"50 to 100 gallons/ 190 to 375 L\", \"6\", IF(GU10=\"100 to 500 gallons/ 375 to 1900 L\", \"8\", IF(GU10=\"500 to 1000 gallons/ 1900 to 3800 L\", \"10\", IF(GU10=\"Greater than 1000 gallons/Greater than 3800 L\", \"15\", IF(GU10=\"Unknown\", \"15\", \"\"))))))))","v":""}]
[null,"When did the release occur?",null,{"$f":"IF(C11=\"Before 2010\", \"50\", IF(C11=\"After 2010\", \"25\", IF(C11=\"Don't know\", \"50\",\"\")))","v":""},null,{"$f":"IF(E11=\"Before 2010\", \"50\", IF(E11=\"After 2010\", \"25\", IF(E11=\"Don't know\", \"50\",\"\")))","v":""},null,{"$f":"IF(G11=\"Before 2010\", \"50\", IF(G11=\"After 2010\", \"25\", IF(G11=\"Don't know\", \"50\",\"\")))","v":""},null,{"$f":"IF(I11=\"Before 2010\", \"50\", IF(I11=\"After 2010\", \"25\", IF(I11=\"Don't know\", \"50\",\"\")))","v":""},null,{"$f":"IF(K11=\"Before 2010\", \"50\", IF(K11=\"After 2010\", \"25\", IF(K11=\"Don't know\", \"50\",\"\")))","v":""},null,{"$f":"IF(M11=\"Before 2010\", \"50\", IF(M11=\"After 2010\", \"25\", IF(M11=\"Don't know\", \"50\",\"\")))","v":""},null,{"$f":"IF(O11=\"Before 2010\", \"50\", IF(O11=\"After 2010\", \"25\", IF(O11=\"Don't know\", \"50\",\"\")))","v":""},null,{"$f":"IF(Q11=\"Before 2010\", \"50\", IF(Q11=\"After 2010\", \"25\", IF(Q11=\"Don't know\", \"50\",\"\")))","v":""},null,{"$f":"IF(S11=\"Before 2010\", \"50\", IF(S11=\"After 2010\", \"25\", IF(S11=\"Don't know\", \"50\",\"\")))","v":""},null,{"$f":"IF(U11=\"Before 2010\", \"50\", IF(U11=\"After 2010\", \"25\", IF(U11=\"Don't know\", \"50\",\"\")))","v":""},null,{"$f":"IF(W11=\"Before 2010\", \"50\", IF(W11=\"After 2010\", \"25\", IF(W11=\"Don't know\", \"50\",\"\")))","v":""},null,{"$f":"IF(Y11=\"Before 2010\", \"50\", IF(Y11=\"After 2010\", \"25\", IF(Y11=\"Don't know\", \"50\",\"\")))","v":""},null,{"$f":"IF(AA11=\"Before 2010\", \"50\", IF(AA11=\"After 2010\", \"25\", IF(AA11=\"Don't know\", \"50\",\"\")))","v":""},null,{"$f":"IF(AC11=\"Before 2010\", \"50\", IF(AC11=\"After 2010\", \"25\", IF(AC11=\"Don't know\", \"50\",\"\")))","v":""},null,{"$f":"IF(AE11=\"Before 2010\", \"50\", IF(AE11=\"After 2010\", \"25\", IF(AE11=\"Don't know\", \"50\",\"\")))","v":""},null,{"$f":"IF(AG11=\"Before 2010\", \"50\", IF(AG11=\"After 2010\", \"25\", IF(AG11=\"Don't know\", \"50\",\"\")))","v":""},null,{"$f":"IF(AI11=\"Before 2010\", \"50\", IF(AI11=\"After 2010\", \"25\", IF(AI11=\"Don't know\", \"50\",\"\")))","v":""},null,{"$f":"IF(AK11=\"Before 2010\", \"50\", IF(AK11=\"After 2010\", \"25\", IF(AK11=\"Don't know\", \"50\",\"\")))","v":""},null,{"$f":"IF(AM11=\"Before 2010\", \"50\", IF(AM11=\"After 2010\", \"25\", IF(AM11=\"Don't know\", \"50\",\"\")))","v":""},null,{"$f":"IF(AO11=\"Before 2010\", \"50\", IF(AO11=\"After 2010\", \"25\", IF(AO11=\"Don't know\", \"50\",\"\")))","v":""},null,{"$f":"IF(AQ11=\"Before 2010\", \"50\", IF(AQ11=\"After 2010\", \"25\", IF(AQ11=\"Don't know\", \"50\",\"\")))","v":""},null,{"$f":"IF(AS11=\"Before 2010\", \"50\", IF(AS11=\"After 2010\", \"25\", IF(AS11=\"Don't know\", \"50\",\"\")))","v":""},null,{"$f":"IF(AU11=\"Before 2010\", \"50\", IF(AU11=\"After 2010\", \"25\", IF(AU11=\"Don't know\", \"50\",\"\")))","v":""},null,{"$f":"IF(AW11=\"Before 2010\", \"50\", IF(AW11=\"After 2010\", \"25\", IF(AW11=\"Don't know\", \"50\",\"\")))","v":""},null,{"$f":"IF(AY11=\"Before 2010\", \"50\", IF(AY11=\"After 2010\", \"25\", IF(AY11=\"Don't know\", \"50\",\"\")))","v":""},null,{"$f":"IF(BA11=\"Before 2010\", \"50\", IF(BA11=\"After 2010\", \"25\", IF(BA11=\"Don't know\", \"50\",\"\")))","v":""},null,{"$f":"IF(BC11=\"Before 2010\", \"50\", IF(BC11=\"After 2010\", \"25\", IF(BC11=\"Don't know\", \"50\",\"\")))","v":""},null,{"$f":"IF(BE11=\"Before 2010\", \"50\", IF(BE11=\"After 2010\", \"25\", IF(BE11=\"Don't know\", \"50\",\"\")))","v":""},null,{"$f":"IF(BG11=\"Before 2010\", \"50\", IF(BG11=\"After 2010\", \"25\", IF(BG11=\"Don't know\", \"50\",\"\")))","v":""},null,{"$f":"IF(BI11=\"Before 2010\", \"50\", IF(BI11=\"After 2010\", \"25\", IF(BI11=\"Don't know\", \"50\",\"\")))","v":""},null,{"$f":"IF(BK11=\"Before 2010\", \"50\", IF(BK11=\"After 2010\", \"25\", IF(BK11=\"Don't know\", \"50\",\"\")))","v":""},null,{"$f":"IF(BM11=\"Before 2010\", \"50\", IF(BM11=\"After 2010\", \"25\", IF(BM11=\"Don't know\", \"50\",\"\")))","v":""},null,{"$f":"IF(BO11=\"Before 2010\", \"50\", IF(BO11=\"After 2010\", \"25\", IF(BO11=\"Don't know\", \"50\",\"\")))","v":""},null,{"$f":"IF(BQ11=\"Before 2010\", \"50\", IF(BQ11=\"After 2010\", \"25\", IF(BQ11=\"Don't know\", \"50\",\"\")))","v":""},null,{"$f":"IF(BS11=\"Before 2010\", \"50\", IF(BS11=\"After 2010\", \"25\", IF(BS11=\"Don't know\", \"50\",\"\")))","v":""},null,{"$f":"IF(BU11=\"Before 2010\", \"50\", IF(BU11=\"After 2010\", \"25\", IF(BU11=\"Don't know\", \"50\",\"\")))","v":""},null,{"$f":"IF(BW11=\"Before 2010\", \"50\", IF(BW11=\"After 2010\", \"25\", IF(BW11=\"Don't know\", \"50\",\"\")))","v":""},null,{"$f":"IF(BY11=\"Before 2010\", \"50\", IF(BY11=\"After 2010\", \"25\", IF(BY11=\"Don't know\", \"50\",\"\")))","v":""},null,{"$f":"IF(CA11=\"Before 2010\", \"50\", IF(CA11=\"After 2010\", \"25\", IF(CA11=\"Don't know\", \"50\",\"\")))","v":""},null,{"$f":"IF(CC11=\"Before 2010\", \"50\", IF(CC11=\"After 2010\", \"25\", IF(CC11=\"Don't know\", \"50\",\"\")))","v":""},null,{"$f":"IF(CE11=\"Before 2010\", \"50\", IF(CE11=\"After 2010\", \"25\", IF(CE11=\"Don't know\", \"50\",\"\")))","v":""},null,{"$f":"IF(CG11=\"Before 2010\", \"50\", IF(CG11=\"After 2010\", \"25\", IF(CG11=\"Don't know\", \"50\",\"\")))","v":""},null,{"$f":"IF(CI11=\"Before 2010\", \"50\", IF(CI11=\"After 2010\", \"25\", IF(CI11=\"Don't know\", \"50\",\"\")))","v":""},null,{"$f":"IF(CK11=\"Before 2010\", \"50\", IF(CK11=\"After 2010\", \"25\", IF(CK11=\"Don't know\", \"50\",\"\")))","v":""},null,{"$f":"IF(CM11=\"Before 2010\", \"50\", IF(CM11=\"After 2010\", \"25\", IF(CM11=\"Don't know\", \"50\",\"\")))","v":""},null,{"$f":"IF(CO11=\"Before 2010\", \"50\", IF(CO11=\"After 2010\", \"25\", IF(CO11=\"Don't know\", \"50\",\"\")))","v":""},null,{"$f":"IF(CQ11=\"Before 2010\", \"50\", IF(CQ11=\"After 2010\", \"25\", IF(CQ11=\"Don't know\", \"50\",\"\")))","v":""},null,{"$f":"IF(CS11=\"Before 2010\", \"50\", IF(CS11=\"After 2010\", \"25\", IF(CS11=\"Don't know\", \"50\",\"\")))","v":""},null,{"$f":"IF(CU11=\"Before 2010\", \"50\", IF(CU11=\"After 2010\", \"25\", IF(CU11=\"Don't know\", \"50\",\"\")))","v":""},null,{"$f":"IF(CW11=\"Before 2010\", \"50\", IF(CW11=\"After 2010\", \"25\", IF(CW11=\"Don't know\", \"50\",\"\")))","v":""},null,{"$f":"IF(CY11=\"Before 2010\", \"50\", IF(CY11=\"After 2010\", \"25\", IF(CY11=\"Don't know\", \"50\",\"\")))","v":""},null,{"$f":"IF(DA11=\"Before 2010\", \"50\", IF(DA11=\"After 2010\", \"25\", IF(DA11=\"Don't know\", \"50\",\"\")))","v":""},null,{"$f":"IF(DC11=\"Before 2010\", \"50\", IF(DC11=\"After 2010\", \"25\", IF(DC11=\"Don't know\", \"50\",\"\")))","v":""},null,{"$f":"IF(DE11=\"Before 2010\", \"50\", IF(DE11=\"After 2010\", \"25\", IF(DE11=\"Don't know\", \"50\",\"\")))","v":""},null,{"$f":"IF(DG11=\"Before 2010\", \"50\", IF(DG11=\"After 2010\", \"25\", IF(DG11=\"Don't know\", \"50\",\"\")))","v":""},null,{"$f":"IF(DI11=\"Before 2010\", \"50\", IF(DI11=\"After 2010\", \"25\", IF(DI11=\"Don't know\", \"50\",\"\")))","v":""},null,{"$f":"IF(DK11=\"Before 2010\", \"50\", IF(DK11=\"After 2010\", \"25\", IF(DK11=\"Don't know\", \"50\",\"\")))","v":""},null,{"$f":"IF(DM11=\"Before 2010\", \"50\", IF(DM11=\"After 2010\", \"25\", IF(DM11=\"Don't know\", \"50\",\"\")))","v":""},null,{"$f":"IF(DO11=\"Before 2010\", \"50\", IF(DO11=\"After 2010\", \"25\", IF(DO11=\"Don't know\", \"50\",\"\")))","v":""},null,{"$f":"IF(DQ11=\"Before 2010\", \"50\", IF(DQ11=\"After 2010\", \"25\", IF(DQ11=\"Don't know\", \"50\",\"\")))","v":""},null,{"$f":"IF(DS11=\"Before 2010\", \"50\", IF(DS11=\"After 2010\", \"25\", IF(DS11=\"Don't know\", \"50\",\"\")))","v":""},null,{"$f":"IF(DU11=\"Before 2010\", \"50\", IF(DU11=\"After 2010\", \"25\", IF(DU11=\"Don't know\", \"50\",\"\")))","v":""},null,{"$f":"IF(DW11=\"Before 2010\", \"50\", IF(DW11=\"After 2010\", \"25\", IF(DW11=\"Don't know\", \"50\",\"\")))","v":""},null,{"$f":"IF(DY11=\"Before 2010\", \"50\", IF(DY11=\"After 2010\", \"25\", IF(DY11=\"Don't know\", \"50\",\"\")))","v":""},null,{"$f":"IF(EA11=\"Before 2010\", \"50\", IF(EA11=\"After 2010\", \"25\", IF(EA11=\"Don't know\", \"50\",\"\")))","v":""},null,{"$f":"IF(EC11=\"Before 2010\", \"50\", IF(EC11=\"After 2010\", \"25\", IF(EC11=\"Don't know\", \"50\",\"\")))","v":""},null,{"$f":"IF(EE11=\"Before 2010\", \"50\", IF(EE11=\"After 2010\", \"25\", IF(EE11=\"Don't know\", \"50\",\"\")))","v":""},null,{"$f":"IF(EG11=\"Before 2010\", \"50\", IF(EG11=\"After 2010\", \"25\", IF(EG11=\"Don't know\", \"50\",\"\")))","v":""},null,{"$f":"IF(EI11=\"Before 2010\", \"50\", IF(EI11=\"After 2010\", \"25\", IF(EI11=\"Don't know\", \"50\",\"\")))","v":""},null,{"$f":"IF(EK11=\"Before 2010\", \"50\", IF(EK11=\"After 2010\", \"25\", IF(EK11=\"Don't know\", \"50\",\"\")))","v":""},null,{"$f":"IF(EM11=\"Before 2010\", \"50\", IF(EM11=\"After 2010\", \"25\", IF(EM11=\"Don't know\", \"50\",\"\")))","v":""},null,{"$f":"IF(EO11=\"Before 2010\", \"50\", IF(EO11=\"After 2010\", \"25\", IF(EO11=\"Don't know\", \"50\",\"\")))","v":""},null,{"$f":"IF(EQ11=\"Before 2010\", \"50\", IF(EQ11=\"After 2010\", \"25\", IF(EQ11=\"Don't know\", \"50\",\"\")))","v":""},null,{"$f":"IF(ES11=\"Before 2010\", \"50\", IF(ES11=\"After 2010\", \"25\", IF(ES11=\"Don't know\", \"50\",\"\")))","v":""},null,{"$f":"IF(EU11=\"Before 2010\", \"50\", IF(EU11=\"After 2010\", \"25\", IF(EU11=\"Don't know\", \"50\",\"\")))","v":""},null,{"$f":"IF(EW11=\"Before 2010\", \"50\", IF(EW11=\"After 2010\", \"25\", IF(EW11=\"Don't know\", \"50\",\"\")))","v":""},null,{"$f":"IF(EY11=\"Before 2010\", \"50\", IF(EY11=\"After 2010\", \"25\", IF(EY11=\"Don't know\", \"50\",\"\")))","v":""},null,{"$f":"IF(FA11=\"Before 2010\", \"50\", IF(FA11=\"After 2010\", \"25\", IF(FA11=\"Don't know\", \"50\",\"\")))","v":""},null,{"$f":"IF(FC11=\"Before 2010\", \"50\", IF(FC11=\"After 2010\", \"25\", IF(FC11=\"Don't know\", \"50\",\"\")))","v":""},null,{"$f":"IF(FE11=\"Before 2010\", \"50\", IF(FE11=\"After 2010\", \"25\", IF(FE11=\"Don't know\", \"50\",\"\")))","v":""},null,{"$f":"IF(FG11=\"Before 2010\", \"50\", IF(FG11=\"After 2010\", \"25\", IF(FG11=\"Don't know\", \"50\",\"\")))","v":""},null,{"$f":"IF(FI11=\"Before 2010\", \"50\", IF(FI11=\"After 2010\", \"25\", IF(FI11=\"Don't know\", \"50\",\"\")))","v":""},null,{"$f":"IF(FK11=\"Before 2010\", \"50\", IF(FK11=\"After 2010\", \"25\", IF(FK11=\"Don't know\", \"50\",\"\")))","v":""},null,{"$f":"IF(FM11=\"Before 2010\", \"50\", IF(FM11=\"After 2010\", \"25\", IF(FM11=\"Don't know\", \"50\",\"\")))","v":""},null,{"$f":"IF(FO11=\"Before 2010\", \"50\", IF(FO11=\"After 2010\", \"25\", IF(FO11=\"Don't know\", \"50\",\"\")))","v":""},null,{"$f":"IF(FQ11=\"Before 2010\", \"50\", IF(FQ11=\"After 2010\", \"25\", IF(FQ11=\"Don't know\", \"50\",\"\")))","v":""},null,{"$f":"IF(FS11=\"Before 2010\", \"50\", IF(FS11=\"After 2010\", \"25\", IF(FS11=\"Don't know\", \"50\",\"\")))","v":""},null,{"$f":"IF(FU11=\"Before 2010\", \"50\", IF(FU11=\"After 2010\", \"25\", IF(FU11=\"Don't know\", \"50\",\"\")))","v":""},null,{"$f":"IF(FW11=\"Before 2010\", \"50\", IF(FW11=\"After 2010\", \"25\", IF(FW11=\"Don't know\", \"50\",\"\")))","v":""},null,{"$f":"IF(FY11=\"Before 2010\", \"50\", IF(FY11=\"After 2010\", \"25\", IF(FY11=\"Don't know\", \"50\",\"\")))","v":""},null,{"$f":"IF(GA11=\"Before 2010\", \"50\", IF(GA11=\"After 2010\", \"25\", IF(GA11=\"Don't know\", \"50\",\"\")))","v":""},null,{"$f":"IF(GC11=\"Before 2010\", \"50\", IF(GC11=\"After 2010\", \"25\", IF(GC11=\"Don't know\", \"50\",\"\")))","v":""},null,{"$f":"IF(GE11=\"Before 2010\", \"50\", IF(GE11=\"After 2010\", \"25\", IF(GE11=\"Don't know\", \"50\",\"\")))","v":""},null,{"$f":"IF(GG11=\"Before 2010\", \"50\", IF(GG11=\"After 2010\", \"25\", IF(GG11=\"Don't know\", \"50\",\"\")))","v":""},null,{"$f":"IF(GI11=\"Before 2010\", \"50\", IF(GI11=\"After 2010\", \"25\", IF(GI11=\"Don't know\", \"50\",\"\")))","v":""},null,{"$f":"IF(GK11=\"Before 2010\", \"50\", IF(GK11=\"After 2010\", \"25\", IF(GK11=\"Don't know\", \"50\",\"\")))","v":""},null,{"$f":"IF(GM11=\"Before 2010\", \"50\", IF(GM11=\"After 2010\", \"25\", IF(GM11=\"Don't know\", \"50\",\"\")))","v":""},null,{"$f":"IF(GO11=\"Before 2010\", \"50\", IF(GO11=\"After 2010\", \"25\", IF(GO11=\"Don't know\", \"50\",\"\")))","v":""},null,{"$f":"IF(GQ11=\"Before 2010\", \"50\", IF(GQ11=\"After 2010\", \"25\", IF(GQ11=\"Don't know\", \"50\",\"\")))","v":""},null,{"$f":"IF(GS11=\"Before 2010\", \"50\", IF(GS11=\"After 2010\", \"25\", IF(GS11=\"Don't know\", \"50\",\"\")))","v":""},null,{"$f":"IF(GU11=\"Before 2010\", \"50\", IF(GU11=\"After 2010\", \"25\", IF(GU11=\"Don't know\", \"50\",\"\")))","v":""}]
["Co-mingle Contaminants","Have petroleum hydrocarbons been known to have been present in the sub-surface and/or released at the same time as AFFF?",null,{"$f":"IF(C12=\"Yes\",\"5\", IF(C12=\"No\",\"1\", IF(C12=\"Don't Know\", \"5\", \"\")))","v":""},null,{"$f":"IF(E12=\"Yes\",\"5\", IF(E12=\"No\",\"1\", IF(E12=\"Don't Know\", \"5\", \"\")))","v":""},null,{"$f":"IF(G12=\"Yes\",\"5\", IF(G12=\"No\",\"1\", IF(G12=\"Don't Know\", \"5\", \"\")))","v":""},null,{"$f":"IF(I12=\"Yes\",\"5\", IF(I12=\"No\",\"1\", IF(I12=\"Don't Know\", \"5\", \"\")))","v":""},null,{"$f":"IF(K12=\"Yes\",\"5\", IF(K12=\"No\",\"1\", IF(K12=\"Don't Know\", \"5\", \"\")))","v":""},null,{"$f":"IF(M12=\"Yes\",\"5\", IF(M12=\"No\",\"1\", IF(M12=\"Don't Know\", \"5\", \"\")))","v":""},null,{"$f":"IF(O12=\"Yes\",\"5\", IF(O12=\"No\",\"1\", IF(O12=\"Don't Know\", \"5\", \"\")))","v":""},null,{"$f":"IF(Q12=\"Yes\",\"5\", IF(Q12=\"No\",\"1\", IF(Q12=\"Don't Know\", \"5\", \"\")))","v":""},null,{"$f":"IF(S12=\"Yes\",\"5\", IF(S12=\"No\",\"1\", IF(S12=\"Don't Know\", \"5\", \"\")))","v":""},null,{"$f":"IF(U12=\"Yes\",\"5\", IF(U12=\"No\",\"1\", IF(U12=\"Don't Know\", \"5\", \"\")))","v":""},null,{"$f":"IF(W12=\"Yes\",\"5\", IF(W12=\"No\",\"1\", IF(W12=\"Don't Know\", \"5\", \"\")))","v":""},null,{"$f":"IF(Y12=\"Yes\",\"5\", IF(Y12=\"No\",\"1\", IF(Y12=\"Don't Know\", \"5\", \"\")))","v":""},null,{"$f":"IF(AA12=\"Yes\",\"5\", IF(AA12=\"No\",\"1\", IF(AA12=\"Don't Know\", \"5\", \"\")))","v":""},null,{"$f":"IF(AC12=\"Yes\",\"5\", IF(AC12=\"No\",\"1\", IF(AC12=\"Don't Know\", \"5\", \"\")))","v":""},null,{"$f":"IF(AE12=\"Yes\",\"5\", IF(AE12=\"No\",\"1\", IF(AE12=\"Don't Know\", \"5\", \"\")))","v":""},null,{"$f":"IF(AG12=\"Yes\",\"5\", IF(AG12=\"No\",\"1\", IF(AG12=\"Don't Know\", \"5\", \"\")))","v":""},null,{"$f":"IF(AI12=\"Yes\",\"5\", IF(AI12=\"No\",\"1\", IF(AI12=\"Don't Know\", \"5\", \"\")))","v":""},null,{"$f":"IF(AK12=\"Yes\",\"5\", IF(AK12=\"No\",\"1\", IF(AK12=\"Don't Know\", \"5\", \"\")))","v":""},null,{"$f":"IF(AM12=\"Yes\",\"5\", IF(AM12=\"No\",\"1\", IF(AM12=\"Don't Know\", \"5\", \"\")))","v":""},null,{"$f":"IF(AO12=\"Yes\",\"5\", IF(AO12=\"No\",\"1\", IF(AO12=\"Don't Know\", \"5\", \"\")))","v":""},null,{"$f":"IF(AQ12=\"Yes\",\"5\", IF(AQ12=\"No\",\"1\", IF(AQ12=\"Don't Know\", \"5\", \"\")))","v":""},null,{"$f":"IF(AS12=\"Yes\",\"5\", IF(AS12=\"No\",\"1\", IF(AS12=\"Don't Know\", \"5\", \"\")))","v":""},null,{"$f":"IF(AU12=\"Yes\",\"5\", IF(AU12=\"No\",\"1\", IF(AU12=\"Don't Know\", \"5\", \"\")))","v":""},null,{"$f":"IF(AW12=\"Yes\",\"5\", IF(AW12=\"No\",\"1\", IF(AW12=\"Don't Know\", \"5\", \"\")))","v":""},null,{"$f":"IF(AY12=\"Yes\",\"5\", IF(AY12=\"No\",\"1\", IF(AY12=\"Don't Know\", \"5\", \"\")))","v":""},null,{"$f":"IF(BA12=\"Yes\",\"5\", IF(BA12=\"No\",\"1\", IF(BA12=\"Don't Know\", \"5\", \"\")))","v":""},null,{"$f":"IF(BC12=\"Yes\",\"5\", IF(BC12=\"No\",\"1\", IF(BC12=\"Don't Know\", \"5\", \"\")))","v":""},null,{"$f":"IF(BE12=\"Yes\",\"5\", IF(BE12=\"No\",\"1\", IF(BE12=\"Don't Know\", \"5\", \"\")))","v":""},null,{"$f":"IF(BG12=\"Yes\",\"5\", IF(BG12=\"No\",\"1\", IF(BG12=\"Don't Know\", \"5\", \"\")))","v":""},null,{"$f":"IF(BI12=\"Yes\",\"5\", IF(BI12=\"No\",\"1\", IF(BI12=\"Don't Know\", \"5\", \"\")))","v":""},null,{"$f":"IF(BK12=\"Yes\",\"5\", IF(BK12=\"No\",\"1\", IF(BK12=\"Don't Know\", \"5\", \"\")))","v":""},null,{"$f":"IF(BM12=\"Yes\",\"5\", IF(BM12=\"No\",\"1\", IF(BM12=\"Don't Know\", \"5\", \"\")))","v":""},null,{"$f":"IF(BO12=\"Yes\",\"5\", IF(BO12=\"No\",\"1\", IF(BO12=\"Don't Know\", \"5\", \"\")))","v":""},null,{"$f":"IF(BQ12=\"Yes\",\"5\", IF(BQ12=\"No\",\"1\", IF(BQ12=\"Don't Know\", \"5\", \"\")))","v":""},null,{"$f":"IF(BS12=\"Yes\",\"5\", IF(BS12=\"No\",\"1\", IF(BS12=\"Don't Know\", \"5\", \"\")))","v":""},null,{"$f":"IF(BU12=\"Yes\",\"5\", IF(BU12=\"No\",\"1\", IF(BU12=\"Don't Know\", \"5\", \"\")))","v":""},null,{"$f":"IF(BW12=\"Yes\",\"5\", IF(BW12=\"No\",\"1\", IF(BW12=\"Don't Know\", \"5\", \"\")))","v":""},null,{"$f":"IF(BY12=\"Yes\",\"5\", IF(BY12=\"No\",\"1\", IF(BY12=\"Don't Know\", \"5\", \"\")))","v":""},null,{"$f":"IF(CA12=\"Yes\",\"5\", IF(CA12=\"No\",\"1\", IF(CA12=\"Don't Know\", \"5\", \"\")))","v":""},null,{"$f":"IF(CC12=\"Yes\",\"5\", IF(CC12=\"No\",\"1\", IF(CC12=\"Don't Know\", \"5\", \"\")))","v":""},null,{"$f":"IF(CE12=\"Yes\",\"5\", IF(CE12=\"No\",\"1\", IF(CE12=\"Don't Know\", \"5\", \"\")))","v":""},null,{"$f":"IF(CG12=\"Yes\",\"5\", IF(CG12=\"No\",\"1\", IF(CG12=\"Don't Know\", \"5\", \"\")))","v":""},null,{"$f":"IF(CI12=\"Yes\",\"5\", IF(CI12=\"No\",\"1\", IF(CI12=\"Don't Know\", \"5\", \"\")))","v":""},null,{"$f":"IF(CK12=\"Yes\",\"5\", IF(CK12=\"No\",\"1\", IF(CK12=\"Don't Know\", \"5\", \"\")))","v":""},null,{"$f":"IF(CM12=\"Yes\",\"5\", IF(CM12=\"No\",\"1\", IF(CM12=\"Don't Know\", \"5\", \"\")))","v":""},null,{"$f":"IF(CO12=\"Yes\",\"5\", IF(CO12=\"No\",\"1\", IF(CO12=\"Don't Know\", \"5\", \"\")))","v":""},null,{"$f":"IF(CQ12=\"Yes\",\"5\", IF(CQ12=\"No\",\"1\", IF(CQ12=\"Don't Know\", \"5\", \"\")))","v":""},null,{"$f":"IF(CS12=\"Yes\",\"5\", IF(CS12=\"No\",\"1\", IF(CS12=\"Don't Know\", \"5\", \"\")))","v":""},null,{"$f":"IF(CU12=\"Yes\",\"5\", IF(CU12=\"No\",\"1\", IF(CU12=\"Don't Know\", \"5\", \"\")))","v":""},null,{"$f":"IF(CW12=\"Yes\",\"5\", IF(CW12=\"No\",\"1\", IF(CW12=\"Don't Know\", \"5\", \"\")))","v":""},null,{"$f":"IF(CY12=\"Yes\",\"5\", IF(CY12=\"No\",\"1\", IF(CY12=\"Don't Know\", \"5\", \"\")))","v":""},null,{"$f":"IF(DA12=\"Yes\",\"5\", IF(DA12=\"No\",\"1\", IF(DA12=\"Don't Know\", \"5\", \"\")))","v":""},null,{"$f":"IF(DC12=\"Yes\",\"5\", IF(DC12=\"No\",\"1\", IF(DC12=\"Don't Know\", \"5\", \"\")))","v":""},null,{"$f":"IF(DE12=\"Yes\",\"5\", IF(DE12=\"No\",\"1\", IF(DE12=\"Don't Know\", \"5\", \"\")))","v":""},null,{"$f":"IF(DG12=\"Yes\",\"5\", IF(DG12=\"No\",\"1\", IF(DG12=\"Don't Know\", \"5\", \"\")))","v":""},null,{"$f":"IF(DI12=\"Yes\",\"5\", IF(DI12=\"No\",\"1\", IF(DI12=\"Don't Know\", \"5\", \"\")))","v":""},null,{"$f":"IF(DK12=\"Yes\",\"5\", IF(DK12=\"No\",\"1\", IF(DK12=\"Don't Know\", \"5\", \"\")))","v":""},null,{"$f":"IF(DM12=\"Yes\",\"5\", IF(DM12=\"No\",\"1\", IF(DM12=\"Don't Know\", \"5\", \"\")))","v":""},null,{"$f":"IF(DO12=\"Yes\",\"5\", IF(DO12=\"No\",\"1\", IF(DO12=\"Don't Know\", \"5\", \"\")))","v":""},null,{"$f":"IF(DQ12=\"Yes\",\"5\", IF(DQ12=\"No\",\"1\", IF(DQ12=\"Don't Know\", \"5\", \"\")))","v":""},null,{"$f":"IF(DS12=\"Yes\",\"5\", IF(DS12=\"No\",\"1\", IF(DS12=\"Don't Know\", \"5\", \"\")))","v":""},null,{"$f":"IF(DU12=\"Yes\",\"5\", IF(DU12=\"No\",\"1\", IF(DU12=\"Don't Know\", \"5\", \"\")))","v":""},null,{"$f":"IF(DW12=\"Yes\",\"5\", IF(DW12=\"No\",\"1\", IF(DW12=\"Don't Know\", \"5\", \"\")))","v":""},null,{"$f":"IF(DY12=\"Yes\",\"5\", IF(DY12=\"No\",\"1\", IF(DY12=\"Don't Know\", \"5\", \"\")))","v":""},null,{"$f":"IF(EA12=\"Yes\",\"5\", IF(EA12=\"No\",\"1\", IF(EA12=\"Don't Know\", \"5\", \"\")))","v":""},null,{"$f":"IF(EC12=\"Yes\",\"5\", IF(EC12=\"No\",\"1\", IF(EC12=\"Don't Know\", \"5\", \"\")))","v":""},null,{"$f":"IF(EE12=\"Yes\",\"5\", IF(EE12=\"No\",\"1\", IF(EE12=\"Don't Know\", \"5\", \"\")))","v":""},null,{"$f":"IF(EG12=\"Yes\",\"5\", IF(EG12=\"No\",\"1\", IF(EG12=\"Don't Know\", \"5\", \"\")))","v":""},null,{"$f":"IF(EI12=\"Yes\",\"5\", IF(EI12=\"No\",\"1\", IF(EI12=\"Don't Know\", \"5\", \"\")))","v":""},null,{"$f":"IF(EK12=\"Yes\",\"5\", IF(EK12=\"No\",\"1\", IF(EK12=\"Don't Know\", \"5\", \"\")))","v":""},null,{"$f":"IF(EM12=\"Yes\",\"5\", IF(EM12=\"No\",\"1\", IF(EM12=\"Don't Know\", \"5\", \"\")))","v":""},null,{"$f":"IF(EO12=\"Yes\",\"5\", IF(EO12=\"No\",\"1\", IF(EO12=\"Don't Know\", \"5\", \"\")))","v":""},null,{"$f":"IF(EQ12=\"Yes\",\"5\", IF(EQ12=\"No\",\"1\", IF(EQ12=\"Don't Know\", \"5\", \"\")))","v":""},null,{"$f":"IF(ES12=\"Yes\",\"5\", IF(ES12=\"No\",\"1\", IF(ES12=\"Don't Know\", \"5\", \"\")))","v":""},null,{"$f":"IF(EU12=\"Yes\",\"5\", IF(EU12=\"No\",\"1\", IF(EU12=\"Don't Know\", \"5\", \"\")))","v":""},null,{"$f":"IF(EW12=\"Yes\",\"5\", IF(EW12=\"No\",\"1\", IF(EW12=\"Don't Know\", \"5\", \"\")))","v":""},null,{"$f":"IF(EY12=\"Yes\",\"5\", IF(EY12=\"No\",\"1\", IF(EY12=\"Don't Know\", \"5\", \"\")))","v":""},null,{"$f":"IF(FA12=\"Yes\",\"5\", IF(FA12=\"No\",\"1\", IF(FA12=\"Don't Know\", \"5\", \"\")))","v":""},null,{"$f":"IF(FC12=\"Yes\",\"5\", IF(FC12=\"No\",\"1\", IF(FC12=\"Don't Know\", \"5\", \"\")))","v":""},null,{"$f":"IF(FE12=\"Yes\",\"5\", IF(FE12=\"No\",\"1\", IF(FE12=\"Don't Know\", \"5\", \"\")))","v":""},null,{"$f":"IF(FG12=\"Yes\",\"5\", IF(FG12=\"No\",\"1\", IF(FG12=\"Don't Know\", \"5\", \"\")))","v":""},null,{"$f":"IF(FI12=\"Yes\",\"5\", IF(FI12=\"No\",\"1\", IF(FI12=\"Don't Know\", \"5\", \"\")))","v":""},null,{"$f":"IF(FK12=\"Yes\",\"5\", IF(FK12=\"No\",\"1\", IF(FK12=\"Don't Know\", \"5\", \"\")))","v":""},null,{"$f":"IF(FM12=\"Yes\",\"5\", IF(FM12=\"No\",\"1\", IF(FM12=\"Don't Know\", \"5\", \"\")))","v":""},null,{"$f":"IF(FO12=\"Yes\",\"5\", IF(FO12=\"No\",\"1\", IF(FO12=\"Don't Know\", \"5\", \"\")))","v":""},null,{"$f":"IF(FQ12=\"Yes\",\"5\", IF(FQ12=\"No\",\"1\", IF(FQ12=\"Don't Know\", \"5\", \"\")))","v":""},null,{"$f":"IF(FS12=\"Yes\",\"5\", IF(FS12=\"No\",\"1\", IF(FS12=\"Don't Know\", \"5\", \"\")))","v":""},null,{"$f":"IF(FU12=\"Yes\",\"5\", IF(FU12=\"No\",\"1\", IF(FU12=\"Don't Know\", \"5\", \"\")))","v":""},null,{"$f":"IF(FW12=\"Yes\",\"5\", IF(FW12=\"No\",\"1\", IF(FW12=\"Don't Know\", \"5\", \"\")))","v":""},null,{"$f":"IF(FY12=\"Yes\",\"5\", IF(FY12=\"No\",\"1\", IF(FY12=\"Don't Know\", \"5\", \"\")))","v":""},null,{"$f":"IF(GA12=\"Yes\",\"5\", IF(GA12=\"No\",\"1\", IF(GA12=\"Don't Know\", \"5\", \"\")))","v":""},null,{"$f":"IF(GC12=\"Yes\",\"5\", IF(GC12=\"No\",\"1\", IF(GC12=\"Don't Know\", \"5\", \"\")))","v":""},null,{"$f":"IF(GE12=\"Yes\",\"5\", IF(GE12=\"No\",\"1\", IF(GE12=\"Don't Know\", \"5\", \"\")))","v":""},null,{"$f":"IF(GG12=\"Yes\",\"5\", IF(GG12=\"No\",\"1\", IF(GG12=\"Don't Know\", \"5\", \"\")))","v":""},null,{"$f":"IF(GI12=\"Yes\",\"5\", IF(GI12=\"No\",\"1\", IF(GI12=\"Don't Know\", \"5\", \"\")))","v":""},null,{"$f":"IF(GK12=\"Yes\",\"5\", IF(GK12=\"No\",\"1\", IF(GK12=\"Don't Know\", \"5\", \"\")))","v":""},null,{"$f":"IF(GM12=\"Yes\",\"5\", IF(GM12=\"No\",\"1\", IF(GM12=\"Don't Know\", \"5\", \"\")))","v":""},null,{"$f":"IF(GO12=\"Yes\",\"5\", IF(GO12=\"No\",\"1\", IF(GO12=\"Don't Know\", \"5\", \"\")))","v":""},null,{"$f":"IF(GQ12=\"Yes\",\"5\", IF(GQ12=\"No\",\"1\", IF(GQ12=\"Don't Know\", \"5\", \"\")))","v":""},null,{"$f":"IF(GS12=\"Yes\",\"5\", IF(GS12=\"No\",\"1\", IF(GS12=\"Don't Know\", \"5\", \"\")))","v":""},null,{"$f":"IF(GU12=\"Yes\",\"5\", IF(GU12=\"No\",\"1\", IF(GU12=\"Don't Know\", \"5\", \"\")))","v":""}]
["Surface Covering","What type of surface covering is in the immediate vicinity of the release?",null,{"$f":"IF(C13=\"Paved (concrete or asphalt)\", \"1\", IF(C13=\"Unvegetated Soil/gravel\", \"5\", IF(C13=\"Vegetated - Treed/forested\", \"3\", IF(C13=\"Vegetated - Meadow/grassland\", \"3\", \"\"))))","v":""},null,{"$f":"IF(E13=\"Paved (concrete or asphalt)\", \"1\", IF(E13=\"Unvegetated Soil/gravel\", \"5\", IF(E13=\"Vegetated - Treed/forested\", \"3\", IF(E13=\"Vegetated - Meadow/grassland\", \"3\", \"\"))))","v":""},null,{"$f":"IF(G13=\"Paved (concrete or asphalt)\", \"1\", IF(G13=\"Unvegetated Soil/gravel\", \"5\", IF(G13=\"Vegetated - Treed/forested\", \"3\", IF(G13=\"Vegetated - Meadow/grassland\", \"3\", \"\"))))","v":""},null,{"$f":"IF(I13=\"Paved (concrete or asphalt)\", \"1\", IF(I13=\"Unvegetated Soil/gravel\", \"5\", IF(I13=\"Vegetated - Treed/forested\", \"3\", IF(I13=\"Vegetated - Meadow/grassland\", \"3\", \"\"))))","v":""},null,{"$f":"IF(K13=\"Paved (concrete or asphalt)\", \"1\", IF(K13=\"Unvegetated Soil/gravel\", \"5\", IF(K13=\"Vegetated - Treed/forested\", \"3\", IF(K13=\"Vegetated - Meadow/grassland\", \"3\", \"\"))))","v":""},null,{"$f":"IF(M13=\"Paved (concrete or asphalt)\", \"1\", IF(M13=\"Unvegetated Soil/gravel\", \"5\", IF(M13=\"Vegetated - Treed/forested\", \"3\", IF(M13=\"Vegetated - Meadow/grassland\", \"3\", \"\"))))","v":""},null,{"$f":"IF(O13=\"Paved (concrete or asphalt)\", \"1\", IF(O13=\"Unvegetated Soil/gravel\", \"5\", IF(O13=\"Vegetated - Treed/forested\", \"3\", IF(O13=\"Vegetated - Meadow/grassland\", \"3\", \"\"))))","v":""},null,{"$f":"IF(Q13=\"Paved (concrete or asphalt)\", \"1\", IF(Q13=\"Unvegetated Soil/gravel\", \"5\", IF(Q13=\"Vegetated - Treed/forested\", \"3\", IF(Q13=\"Vegetated - Meadow/grassland\", \"3\", \"\"))))","v":""},null,{"$f":"IF(S13=\"Paved (concrete or asphalt)\", \"1\", IF(S13=\"Unvegetated Soil/gravel\", \"5\", IF(S13=\"Vegetated - Treed/forested\", \"3\", IF(S13=\"Vegetated - Meadow/grassland\", \"3\", \"\"))))","v":""},null,{"$f":"IF(U13=\"Paved (concrete or asphalt)\", \"1\", IF(U13=\"Unvegetated Soil/gravel\", \"5\", IF(U13=\"Vegetated - Treed/forested\", \"3\", IF(U13=\"Vegetated - Meadow/grassland\", \"3\", \"\"))))","v":""},null,{"$f":"IF(W13=\"Paved (concrete or asphalt)\", \"1\", IF(W13=\"Unvegetated Soil/gravel\", \"5\", IF(W13=\"Vegetated - Treed/forested\", \"3\", IF(W13=\"Vegetated - Meadow/grassland\", \"3\", \"\"))))","v":""},null,{"$f":"IF(Y13=\"Paved (concrete or asphalt)\", \"1\", IF(Y13=\"Unvegetated Soil/gravel\", \"5\", IF(Y13=\"Vegetated - Treed/forested\", \"3\", IF(Y13=\"Vegetated - Meadow/grassland\", \"3\", \"\"))))","v":""},null,{"$f":"IF(AA13=\"Paved (concrete or asphalt)\", \"1\", IF(AA13=\"Unvegetated Soil/gravel\", \"5\", IF(AA13=\"Vegetated - Treed/forested\", \"3\", IF(AA13=\"Vegetated - Meadow/grassland\", \"3\", \"\"))))","v":""},null,{"$f":"IF(AC13=\"Paved (concrete or asphalt)\", \"1\", IF(AC13=\"Unvegetated Soil/gravel\", \"5\", IF(AC13=\"Vegetated - Treed/forested\", \"3\", IF(AC13=\"Vegetated - Meadow/grassland\", \"3\", \"\"))))","v":""},null,{"$f":"IF(AE13=\"Paved (concrete or asphalt)\", \"1\", IF(AE13=\"Unvegetated Soil/gravel\", \"5\", IF(AE13=\"Vegetated - Treed/forested\", \"3\", IF(AE13=\"Vegetated - Meadow/grassland\", \"3\", \"\"))))","v":""},null,{"$f":"IF(AG13=\"Paved (concrete or asphalt)\", \"1\", IF(AG13=\"Unvegetated Soil/gravel\", \"5\", IF(AG13=\"Vegetated - Treed/forested\", \"3\", IF(AG13=\"Vegetated - Meadow/grassland\", \"3\", \"\"))))","v":""},null,{"$f":"IF(AI13=\"Paved (concrete or asphalt)\", \"1\", IF(AI13=\"Unvegetated Soil/gravel\", \"5\", IF(AI13=\"Vegetated - Treed/forested\", \"3\", IF(AI13=\"Vegetated - Meadow/grassland\", \"3\", \"\"))))","v":""},null,{"$f":"IF(AK13=\"Paved (concrete or asphalt)\", \"1\", IF(AK13=\"Unvegetated Soil/gravel\", \"5\", IF(AK13=\"Vegetated - Treed/forested\", \"3\", IF(AK13=\"Vegetated - Meadow/grassland\", \"3\", \"\"))))","v":""},null,{"$f":"IF(AM13=\"Paved (concrete or asphalt)\", \"1\", IF(AM13=\"Unvegetated Soil/gravel\", \"5\", IF(AM13=\"Vegetated - Treed/forested\", \"3\", IF(AM13=\"Vegetated - Meadow/grassland\", \"3\", \"\"))))","v":""},null,{"$f":"IF(AO13=\"Paved (concrete or asphalt)\", \"1\", IF(AO13=\"Unvegetated Soil/gravel\", \"5\", IF(AO13=\"Vegetated - Treed/forested\", \"3\", IF(AO13=\"Vegetated - Meadow/grassland\", \"3\", \"\"))))","v":""},null,{"$f":"IF(AQ13=\"Paved (concrete or asphalt)\", \"1\", IF(AQ13=\"Unvegetated Soil/gravel\", \"5\", IF(AQ13=\"Vegetated - Treed/forested\", \"3\", IF(AQ13=\"Vegetated - Meadow/grassland\", \"3\", \"\"))))","v":""},null,{"$f":"IF(AS13=\"Paved (concrete or asphalt)\", \"1\", IF(AS13=\"Unvegetated Soil/gravel\", \"5\", IF(AS13=\"Vegetated - Treed/forested\", \"3\", IF(AS13=\"Vegetated - Meadow/grassland\", \"3\", \"\"))))","v":""},null,{"$f":"IF(AU13=\"Paved (concrete or asphalt)\", \"1\", IF(AU13=\"Unvegetated Soil/gravel\", \"5\", IF(AU13=\"Vegetated - Treed/forested\", \"3\", IF(AU13=\"Vegetated - Meadow/grassland\", \"3\", \"\"))))","v":""},null,{"$f":"IF(AW13=\"Paved (concrete or asphalt)\", \"1\", IF(AW13=\"Unvegetated Soil/gravel\", \"5\", IF(AW13=\"Vegetated - Treed/forested\", \"3\", IF(AW13=\"Vegetated - Meadow/grassland\", \"3\", \"\"))))","v":""},null,{"$f":"IF(AY13=\"Paved (concrete or asphalt)\", \"1\", IF(AY13=\"Unvegetated Soil/gravel\", \"5\", IF(AY13=\"Vegetated - Treed/forested\", \"3\", IF(AY13=\"Vegetated - Meadow/grassland\", \"3\", \"\"))))","v":""},null,{"$f":"IF(BA13=\"Paved (concrete or asphalt)\", \"1\", IF(BA13=\"Unvegetated Soil/gravel\", \"5\", IF(BA13=\"Vegetated - Treed/forested\", \"3\", IF(BA13=\"Vegetated - Meadow/grassland\", \"3\", \"\"))))","v":""},null,{"$f":"IF(BC13=\"Paved (concrete or asphalt)\", \"1\", IF(BC13=\"Unvegetated Soil/gravel\", \"5\", IF(BC13=\"Vegetated - Treed/forested\", \"3\", IF(BC13=\"Vegetated - Meadow/grassland\", \"3\", \"\"))))","v":""},null,{"$f":"IF(BE13=\"Paved (concrete or asphalt)\", \"1\", IF(BE13=\"Unvegetated Soil/gravel\", \"5\", IF(BE13=\"Vegetated - Treed/forested\", \"3\", IF(BE13=\"Vegetated - Meadow/grassland\", \"3\", \"\"))))","v":""},null,{"$f":"IF(BG13=\"Paved (concrete or asphalt)\", \"1\", IF(BG13=\"Unvegetated Soil/gravel\", \"5\", IF(BG13=\"Vegetated - Treed/forested\", \"3\", IF(BG13=\"Vegetated - Meadow/grassland\", \"3\", \"\"))))","v":""},null,{"$f":"IF(BI13=\"Paved (concrete or asphalt)\", \"1\", IF(BI13=\"Unvegetated Soil/gravel\", \"5\", IF(BI13=\"Vegetated - Treed/forested\", \"3\", IF(BI13=\"Vegetated - Meadow/grassland\", \"3\", \"\"))))","v":""},null,{"$f":"IF(BK13=\"Paved (concrete or asphalt)\", \"1\", IF(BK13=\"Unvegetated Soil/gravel\", \"5\", IF(BK13=\"Vegetated - Treed/forested\", \"3\", IF(BK13=\"Vegetated - Meadow/grassland\", \"3\", \"\"))))","v":""},null,{"$f":"IF(BM13=\"Paved (concrete or asphalt)\", \"1\", IF(BM13=\"Unvegetated Soil/gravel\", \"5\", IF(BM13=\"Vegetated - Treed/forested\", \"3\", IF(BM13=\"Vegetated - Meadow/grassland\", \"3\", \"\"))))","v":""},null,{"$f":"IF(BO13=\"Paved (concrete or asphalt)\", \"1\", IF(BO13=\"Unvegetated Soil/gravel\", \"5\", IF(BO13=\"Vegetated - Treed/forested\", \"3\", IF(BO13=\"Vegetated - Meadow/grassland\", \"3\", \"\"))))","v":""},null,{"$f":"IF(BQ13=\"Paved (concrete or asphalt)\", \"1\", IF(BQ13=\"Unvegetated Soil/gravel\", \"5\", IF(BQ13=\"Vegetated - Treed/forested\", \"3\", IF(BQ13=\"Vegetated - Meadow/grassland\", \"3\", \"\"))))","v":""},null,{"$f":"IF(BS13=\"Paved (concrete or asphalt)\", \"1\", IF(BS13=\"Unvegetated Soil/gravel\", \"5\", IF(BS13=\"Vegetated - Treed/forested\", \"3\", IF(BS13=\"Vegetated - Meadow/grassland\", \"3\", \"\"))))","v":""},null,{"$f":"IF(BU13=\"Paved (concrete or asphalt)\", \"1\", IF(BU13=\"Unvegetated Soil/gravel\", \"5\", IF(BU13=\"Vegetated - Treed/forested\", \"3\", IF(BU13=\"Vegetated - Meadow/grassland\", \"3\", \"\"))))","v":""},null,{"$f":"IF(BW13=\"Paved (concrete or asphalt)\", \"1\", IF(BW13=\"Unvegetated Soil/gravel\", \"5\", IF(BW13=\"Vegetated - Treed/forested\", \"3\", IF(BW13=\"Vegetated - Meadow/grassland\", \"3\", \"\"))))","v":""},null,{"$f":"IF(BY13=\"Paved (concrete or asphalt)\", \"1\", IF(BY13=\"Unvegetated Soil/gravel\", \"5\", IF(BY13=\"Vegetated - Treed/forested\", \"3\", IF(BY13=\"Vegetated - Meadow/grassland\", \"3\", \"\"))))","v":""},null,{"$f":"IF(CA13=\"Paved (concrete or asphalt)\", \"1\", IF(CA13=\"Unvegetated Soil/gravel\", \"5\", IF(CA13=\"Vegetated - Treed/forested\", \"3\", IF(CA13=\"Vegetated - Meadow/grassland\", \"3\", \"\"))))","v":""},null,{"$f":"IF(CC13=\"Paved (concrete or asphalt)\", \"1\", IF(CC13=\"Unvegetated Soil/gravel\", \"5\", IF(CC13=\"Vegetated - Treed/forested\", \"3\", IF(CC13=\"Vegetated - Meadow/grassland\", \"3\", \"\"))))","v":""},null,{"$f":"IF(CE13=\"Paved (concrete or asphalt)\", \"1\", IF(CE13=\"Unvegetated Soil/gravel\", \"5\", IF(CE13=\"Vegetated - Treed/forested\", \"3\", IF(CE13=\"Vegetated - Meadow/grassland\", \"3\", \"\"))))","v":""},null,{"$f":"IF(CG13=\"Paved (concrete or asphalt)\", \"1\", IF(CG13=\"Unvegetated Soil/gravel\", \"5\", IF(CG13=\"Vegetated - Treed/forested\", \"3\", IF(CG13=\"Vegetated - Meadow/grassland\", \"3\", \"\"))))","v":""},null,{"$f":"IF(CI13=\"Paved (concrete or asphalt)\", \"1\", IF(CI13=\"Unvegetated Soil/gravel\", \"5\", IF(CI13=\"Vegetated - Treed/forested\", \"3\", IF(CI13=\"Vegetated - Meadow/grassland\", \"3\", \"\"))))","v":""},null,{"$f":"IF(CK13=\"Paved (concrete or asphalt)\", \"1\", IF(CK13=\"Unvegetated Soil/gravel\", \"5\", IF(CK13=\"Vegetated - Treed/forested\", \"3\", IF(CK13=\"Vegetated - Meadow/grassland\", \"3\", \"\"))))","v":""},null,{"$f":"IF(CM13=\"Paved (concrete or asphalt)\", \"1\", IF(CM13=\"Unvegetated Soil/gravel\", \"5\", IF(CM13=\"Vegetated - Treed/forested\", \"3\", IF(CM13=\"Vegetated - Meadow/grassland\", \"3\", \"\"))))","v":""},null,{"$f":"IF(CO13=\"Paved (concrete or asphalt)\", \"1\", IF(CO13=\"Unvegetated Soil/gravel\", \"5\", IF(CO13=\"Vegetated - Treed/forested\", \"3\", IF(CO13=\"Vegetated - Meadow/grassland\", \"3\", \"\"))))","v":""},null,{"$f":"IF(CQ13=\"Paved (concrete or asphalt)\", \"1\", IF(CQ13=\"Unvegetated Soil/gravel\", \"5\", IF(CQ13=\"Vegetated - Treed/forested\", \"3\", IF(CQ13=\"Vegetated - Meadow/grassland\", \"3\", \"\"))))","v":""},null,{"$f":"IF(CS13=\"Paved (concrete or asphalt)\", \"1\", IF(CS13=\"Unvegetated Soil/gravel\", \"5\", IF(CS13=\"Vegetated - Treed/forested\", \"3\", IF(CS13=\"Vegetated - Meadow/grassland\", \"3\", \"\"))))","v":""},null,{"$f":"IF(CU13=\"Paved (concrete or asphalt)\", \"1\", IF(CU13=\"Unvegetated Soil/gravel\", \"5\", IF(CU13=\"Vegetated - Treed/forested\", \"3\", IF(CU13=\"Vegetated - Meadow/grassland\", \"3\", \"\"))))","v":""},null,{"$f":"IF(CW13=\"Paved (concrete or asphalt)\", \"1\", IF(CW13=\"Unvegetated Soil/gravel\", \"5\", IF(CW13=\"Vegetated - Treed/forested\", \"3\", IF(CW13=\"Vegetated - Meadow/grassland\", \"3\", \"\"))))","v":""},null,{"$f":"IF(CY13=\"Paved (concrete or asphalt)\", \"1\", IF(CY13=\"Unvegetated Soil/gravel\", \"5\", IF(CY13=\"Vegetated - Treed/forested\", \"3\", IF(CY13=\"Vegetated - Meadow/grassland\", \"3\", \"\"))))","v":""},null,{"$f":"IF(DA13=\"Paved (concrete or asphalt)\", \"1\", IF(DA13=\"Unvegetated Soil/gravel\", \"5\", IF(DA13=\"Vegetated - Treed/forested\", \"3\", IF(DA13=\"Vegetated - Meadow/grassland\", \"3\", \"\"))))","v":""},null,{"$f":"IF(DC13=\"Paved (concrete or asphalt)\", \"1\", IF(DC13=\"Unvegetated Soil/gravel\", \"5\", IF(DC13=\"Vegetated - Treed/forested\", \"3\", IF(DC13=\"Vegetated - Meadow/grassland\", \"3\", \"\"))))","v":""},null,{"$f":"IF(DE13=\"Paved (concrete or asphalt)\", \"1\", IF(DE13=\"Unvegetated Soil/gravel\", \"5\", IF(DE13=\"Vegetated - Treed/forested\", \"3\", IF(DE13=\"Vegetated - Meadow/grassland\", \"3\", \"\"))))","v":""},null,{"$f":"IF(DG13=\"Paved (concrete or asphalt)\", \"1\", IF(DG13=\"Unvegetated Soil/gravel\", \"5\", IF(DG13=\"Vegetated - Treed/forested\", \"3\", IF(DG13=\"Vegetated - Meadow/grassland\", \"3\", \"\"))))","v":""},null,{"$f":"IF(DI13=\"Paved (concrete or asphalt)\", \"1\", IF(DI13=\"Unvegetated Soil/gravel\", \"5\", IF(DI13=\"Vegetated - Treed/forested\", \"3\", IF(DI13=\"Vegetated - Meadow/grassland\", \"3\", \"\"))))","v":""},null,{"$f":"IF(DK13=\"Paved (concrete or asphalt)\", \"1\", IF(DK13=\"Unvegetated Soil/gravel\", \"5\", IF(DK13=\"Vegetated - Treed/forested\", \"3\", IF(DK13=\"Vegetated - Meadow/grassland\", \"3\", \"\"))))","v":""},null,{"$f":"IF(DM13=\"Paved (concrete or asphalt)\", \"1\", IF(DM13=\"Unvegetated Soil/gravel\", \"5\", IF(DM13=\"Vegetated - Treed/forested\", \"3\", IF(DM13=\"Vegetated - Meadow/grassland\", \"3\", \"\"))))","v":""},null,{"$f":"IF(DO13=\"Paved (concrete or asphalt)\", \"1\", IF(DO13=\"Unvegetated Soil/gravel\", \"5\", IF(DO13=\"Vegetated - Treed/forested\", \"3\", IF(DO13=\"Vegetated - Meadow/grassland\", \"3\", \"\"))))","v":""},null,{"$f":"IF(DQ13=\"Paved (concrete or asphalt)\", \"1\", IF(DQ13=\"Unvegetated Soil/gravel\", \"5\", IF(DQ13=\"Vegetated - Treed/forested\", \"3\", IF(DQ13=\"Vegetated - Meadow/grassland\", \"3\", \"\"))))","v":""},null,{"$f":"IF(DS13=\"Paved (concrete or asphalt)\", \"1\", IF(DS13=\"Unvegetated Soil/gravel\", \"5\", IF(DS13=\"Vegetated - Treed/forested\", \"3\", IF(DS13=\"Vegetated - Meadow/grassland\", \"3\", \"\"))))","v":""},null,{"$f":"IF(DU13=\"Paved (concrete or asphalt)\", \"1\", IF(DU13=\"Unvegetated Soil/gravel\", \"5\", IF(DU13=\"Vegetated - Treed/forested\", \"3\", IF(DU13=\"Vegetated - Meadow/grassland\", \"3\", \"\"))))","v":""},null,{"$f":"IF(DW13=\"Paved (concrete or asphalt)\", \"1\", IF(DW13=\"Unvegetated Soil/gravel\", \"5\", IF(DW13=\"Vegetated - Treed/forested\", \"3\", IF(DW13=\"Vegetated - Meadow/grassland\", \"3\", \"\"))))","v":""},null,{"$f":"IF(DY13=\"Paved (concrete or asphalt)\", \"1\", IF(DY13=\"Unvegetated Soil/gravel\", \"5\", IF(DY13=\"Vegetated - Treed/forested\", \"3\", IF(DY13=\"Vegetated - Meadow/grassland\", \"3\", \"\"))))","v":""},null,{"$f":"IF(EA13=\"Paved (concrete or asphalt)\", \"1\", IF(EA13=\"Unvegetated Soil/gravel\", \"5\", IF(EA13=\"Vegetated - Treed/forested\", \"3\", IF(EA13=\"Vegetated - Meadow/grassland\", \"3\", \"\"))))","v":""},null,{"$f":"IF(EC13=\"Paved (concrete or asphalt)\", \"1\", IF(EC13=\"Unvegetated Soil/gravel\", \"5\", IF(EC13=\"Vegetated - Treed/forested\", \"3\", IF(EC13=\"Vegetated - Meadow/grassland\", \"3\", \"\"))))","v":""},null,{"$f":"IF(EE13=\"Paved (concrete or asphalt)\", \"1\", IF(EE13=\"Unvegetated Soil/gravel\", \"5\", IF(EE13=\"Vegetated - Treed/forested\", \"3\", IF(EE13=\"Vegetated - Meadow/grassland\", \"3\", \"\"))))","v":""},null,{"$f":"IF(EG13=\"Paved (concrete or asphalt)\", \"1\", IF(EG13=\"Unvegetated Soil/gravel\", \"5\", IF(EG13=\"Vegetated - Treed/forested\", \"3\", IF(EG13=\"Vegetated - Meadow/grassland\", \"3\", \"\"))))","v":""},null,{"$f":"IF(EI13=\"Paved (concrete or asphalt)\", \"1\", IF(EI13=\"Unvegetated Soil/gravel\", \"5\", IF(EI13=\"Vegetated - Treed/forested\", \"3\", IF(EI13=\"Vegetated - Meadow/grassland\", \"3\", \"\"))))","v":""},null,{"$f":"IF(EK13=\"Paved (concrete or asphalt)\", \"1\", IF(EK13=\"Unvegetated Soil/gravel\", \"5\", IF(EK13=\"Vegetated - Treed/forested\", \"3\", IF(EK13=\"Vegetated - Meadow/grassland\", \"3\", \"\"))))","v":""},null,{"$f":"IF(EM13=\"Paved (concrete or asphalt)\", \"1\", IF(EM13=\"Unvegetated Soil/gravel\", \"5\", IF(EM13=\"Vegetated - Treed/forested\", \"3\", IF(EM13=\"Vegetated - Meadow/grassland\", \"3\", \"\"))))","v":""},null,{"$f":"IF(EO13=\"Paved (concrete or asphalt)\", \"1\", IF(EO13=\"Unvegetated Soil/gravel\", \"5\", IF(EO13=\"Vegetated - Treed/forested\", \"3\", IF(EO13=\"Vegetated - Meadow/grassland\", \"3\", \"\"))))","v":""},null,{"$f":"IF(EQ13=\"Paved (concrete or asphalt)\", \"1\", IF(EQ13=\"Unvegetated Soil/gravel\", \"5\", IF(EQ13=\"Vegetated - Treed/forested\", \"3\", IF(EQ13=\"Vegetated - Meadow/grassland\", \"3\", \"\"))))","v":""},null,{"$f":"IF(ES13=\"Paved (concrete or asphalt)\", \"1\", IF(ES13=\"Unvegetated Soil/gravel\", \"5\", IF(ES13=\"Vegetated - Treed/forested\", \"3\", IF(ES13=\"Vegetated - Meadow/grassland\", \"3\", \"\"))))","v":""},null,{"$f":"IF(EU13=\"Paved (concrete or asphalt)\", \"1\", IF(EU13=\"Unvegetated Soil/gravel\", \"5\", IF(EU13=\"Vegetated - Treed/forested\", \"3\", IF(EU13=\"Vegetated - Meadow/grassland\", \"3\", \"\"))))","v":""},null,{"$f":"IF(EW13=\"Paved (concrete or asphalt)\", \"1\", IF(EW13=\"Unvegetated Soil/gravel\", \"5\", IF(EW13=\"Vegetated - Treed/forested\", \"3\", IF(EW13=\"Vegetated - Meadow/grassland\", \"3\", \"\"))))","v":""},null,{"$f":"IF(EY13=\"Paved (concrete or asphalt)\", \"1\", IF(EY13=\"Unvegetated Soil/gravel\", \"5\", IF(EY13=\"Vegetated - Treed/forested\", \"3\", IF(EY13=\"Vegetated - Meadow/grassland\", \"3\", \"\"))))","v":""},null,{"$f":"IF(FA13=\"Paved (concrete or asphalt)\", \"1\", IF(FA13=\"Unvegetated Soil/gravel\", \"5\", IF(FA13=\"Vegetated - Treed/forested\", \"3\", IF(FA13=\"Vegetated - Meadow/grassland\", \"3\", \"\"))))","v":""},null,{"$f":"IF(FC13=\"Paved (concrete or asphalt)\", \"1\", IF(FC13=\"Unvegetated Soil/gravel\", \"5\", IF(FC13=\"Vegetated - Treed/forested\", \"3\", IF(FC13=\"Vegetated - Meadow/grassland\", \"3\", \"\"))))","v":""},null,{"$f":"IF(FE13=\"Paved (concrete or asphalt)\", \"1\", IF(FE13=\"Unvegetated Soil/gravel\", \"5\", IF(FE13=\"Vegetated - Treed/forested\", \"3\", IF(FE13=\"Vegetated - Meadow/grassland\", \"3\", \"\"))))","v":""},null,{"$f":"IF(FG13=\"Paved (concrete or asphalt)\", \"1\", IF(FG13=\"Unvegetated Soil/gravel\", \"5\", IF(FG13=\"Vegetated - Treed/forested\", \"3\", IF(FG13=\"Vegetated - Meadow/grassland\", \"3\", \"\"))))","v":""},null,{"$f":"IF(FI13=\"Paved (concrete or asphalt)\", \"1\", IF(FI13=\"Unvegetated Soil/gravel\", \"5\", IF(FI13=\"Vegetated - Treed/forested\", \"3\", IF(FI13=\"Vegetated - Meadow/grassland\", \"3\", \"\"))))","v":""},null,{"$f":"IF(FK13=\"Paved (concrete or asphalt)\", \"1\", IF(FK13=\"Unvegetated Soil/gravel\", \"5\", IF(FK13=\"Vegetated - Treed/forested\", \"3\", IF(FK13=\"Vegetated - Meadow/grassland\", \"3\", \"\"))))","v":""},null,{"$f":"IF(FM13=\"Paved (concrete or asphalt)\", \"1\", IF(FM13=\"Unvegetated Soil/gravel\", \"5\", IF(FM13=\"Vegetated - Treed/forested\", \"3\", IF(FM13=\"Vegetated - Meadow/grassland\", \"3\", \"\"))))","v":""},null,{"$f":"IF(FO13=\"Paved (concrete or asphalt)\", \"1\", IF(FO13=\"Unvegetated Soil/gravel\", \"5\", IF(FO13=\"Vegetated - Treed/forested\", \"3\", IF(FO13=\"Vegetated - Meadow/grassland\", \"3\", \"\"))))","v":""},null,{"$f":"IF(FQ13=\"Paved (concrete or asphalt)\", \"1\", IF(FQ13=\"Unvegetated Soil/gravel\", \"5\", IF(FQ13=\"Vegetated - Treed/forested\", \"3\", IF(FQ13=\"Vegetated - Meadow/grassland\", \"3\", \"\"))))","v":""},null,{"$f":"IF(FS13=\"Paved (concrete or asphalt)\", \"1\", IF(FS13=\"Unvegetated Soil/gravel\", \"5\", IF(FS13=\"Vegetated - Treed/forested\", \"3\", IF(FS13=\"Vegetated - Meadow/grassland\", \"3\", \"\"))))","v":""},null,{"$f":"IF(FU13=\"Paved (concrete or asphalt)\", \"1\", IF(FU13=\"Unvegetated Soil/gravel\", \"5\", IF(FU13=\"Vegetated - Treed/forested\", \"3\", IF(FU13=\"Vegetated - Meadow/grassland\", \"3\", \"\"))))","v":""},null,{"$f":"IF(FW13=\"Paved (concrete or asphalt)\", \"1\", IF(FW13=\"Unvegetated Soil/gravel\", \"5\", IF(FW13=\"Vegetated - Treed/forested\", \"3\", IF(FW13=\"Vegetated - Meadow/grassland\", \"3\", \"\"))))","v":""},null,{"$f":"IF(FY13=\"Paved (concrete or asphalt)\", \"1\", IF(FY13=\"Unvegetated Soil/gravel\", \"5\", IF(FY13=\"Vegetated - Treed/forested\", \"3\", IF(FY13=\"Vegetated - Meadow/grassland\", \"3\", \"\"))))","v":""},null,{"$f":"IF(GA13=\"Paved (concrete or asphalt)\", \"1\", IF(GA13=\"Unvegetated Soil/gravel\", \"5\", IF(GA13=\"Vegetated - Treed/forested\", \"3\", IF(GA13=\"Vegetated - Meadow/grassland\", \"3\", \"\"))))","v":""},null,{"$f":"IF(GC13=\"Paved (concrete or asphalt)\", \"1\", IF(GC13=\"Unvegetated Soil/gravel\", \"5\", IF(GC13=\"Vegetated - Treed/forested\", \"3\", IF(GC13=\"Vegetated - Meadow/grassland\", \"3\", \"\"))))","v":""},null,{"$f":"IF(GE13=\"Paved (concrete or asphalt)\", \"1\", IF(GE13=\"Unvegetated Soil/gravel\", \"5\", IF(GE13=\"Vegetated - Treed/forested\", \"3\", IF(GE13=\"Vegetated - Meadow/grassland\", \"3\", \"\"))))","v":""},null,{"$f":"IF(GG13=\"Paved (concrete or asphalt)\", \"1\", IF(GG13=\"Unvegetated Soil/gravel\", \"5\", IF(GG13=\"Vegetated - Treed/forested\", \"3\", IF(GG13=\"Vegetated - Meadow/grassland\", \"3\", \"\"))))","v":""},null,{"$f":"IF(GI13=\"Paved (concrete or asphalt)\", \"1\", IF(GI13=\"Unvegetated Soil/gravel\", \"5\", IF(GI13=\"Vegetated - Treed/forested\", \"3\", IF(GI13=\"Vegetated - Meadow/grassland\", \"3\", \"\"))))","v":""},null,{"$f":"IF(GK13=\"Paved (concrete or asphalt)\", \"1\", IF(GK13=\"Unvegetated Soil/gravel\", \"5\", IF(GK13=\"Vegetated - Treed/forested\", \"3\", IF(GK13=\"Vegetated - Meadow/grassland\", \"3\", \"\"))))","v":""},null,{"$f":"IF(GM13=\"Paved (concrete or asphalt)\", \"1\", IF(GM13=\"Unvegetated Soil/gravel\", \"5\", IF(GM13=\"Vegetated - Treed/forested\", \"3\", IF(GM13=\"Vegetated - Meadow/grassland\", \"3\", \"\"))))","v":""},null,{"$f":"IF(GO13=\"Paved (concrete or asphalt)\", \"1\", IF(GO13=\"Unvegetated Soil/gravel\", \"5\", IF(GO13=\"Vegetated - Treed/forested\", \"3\", IF(GO13=\"Vegetated - Meadow/grassland\", \"3\", \"\"))))","v":""},null,{"$f":"IF(GQ13=\"Paved (concrete or asphalt)\", \"1\", IF(GQ13=\"Unvegetated Soil/gravel\", \"5\", IF(GQ13=\"Vegetated - Treed/forested\", \"3\", IF(GQ13=\"Vegetated - Meadow/grassland\", \"3\", \"\"))))","v":""},null,{"$f":"IF(GS13=\"Paved (concrete or asphalt)\", \"1\", IF(GS13=\"Unvegetated Soil/gravel\", \"5\", IF(GS13=\"Vegetated - Treed/forested\", \"3\", IF(GS13=\"Vegetated - Meadow/grassland\", \"3\", \"\"))))","v":""},null,{"$f":"IF(GU13=\"Paved (concrete or asphalt)\", \"1\", IF(GU13=\"Unvegetated Soil/gravel\", \"5\", IF(GU13=\"Vegetated - Treed/forested\", \"3\", IF(GU13=\"Vegetated - Meadow/grassland\", \"3\", \"\"))))","v":""}]
["Exposure Pathways","Where does runoff flow at this APEC?",null,{"$f":"IF(C14=\"No runoff/infiltration\", \"10\", IF(C14=\"Overland flow via grassed ditches/swales to surface water body\", \"10\", IF(C14=\"Overland flow via lined conveyance systems to surface water body\", \"10\", IF(C14=\"Collected and treated on-site\", \"1\", \"\"))))","v":""},null,{"$f":"IF(E14=\"No runoff/infiltration\", \"10\", IF(E14=\"Overland flow via grassed ditches/swales to surface water body\", \"10\", IF(E14=\"Overland flow via lined conveyance systems to surface water body\", \"10\", IF(E14=\"Collected and treated on-site\", \"1\", \"\"))))","v":""},null,{"$f":"IF(G14=\"No runoff/infiltration\", \"10\", IF(G14=\"Overland flow via grassed ditches/swales to surface water body\", \"10\", IF(G14=\"Overland flow via lined conveyance systems to surface water body\", \"10\", IF(G14=\"Collected and treated on-site\", \"1\", \"\"))))","v":""},null,{"$f":"IF(I14=\"No runoff/infiltration\", \"10\", IF(I14=\"Overland flow via grassed ditches/swales to surface water body\", \"10\", IF(I14=\"Overland flow via lined conveyance systems to surface water body\", \"10\", IF(I14=\"Collected and treated on-site\", \"1\", \"\"))))","v":""},null,{"$f":"IF(K14=\"No runoff/infiltration\", \"10\", IF(K14=\"Overland flow via grassed ditches/swales to surface water body\", \"10\", IF(K14=\"Overland flow via lined conveyance systems to surface water body\", \"10\", IF(K14=\"Collected and treated on-site\", \"1\", \"\"))))","v":""},null,{"$f":"IF(M14=\"No runoff/infiltration\", \"10\", IF(M14=\"Overland flow via grassed ditches/swales to surface water body\", \"10\", IF(M14=\"Overland flow via lined conveyance systems to surface water body\", \"10\", IF(M14=\"Collected and treated on-site\", \"1\", \"\"))))","v":""},null,{"$f":"IF(O14=\"No runoff/infiltration\", \"10\", IF(O14=\"Overland flow via grassed ditches/swales to surface water body\", \"10\", IF(O14=\"Overland flow via lined conveyance systems to surface water body\", \"10\", IF(O14=\"Collected and treated on-site\", \"1\", \"\"))))","v":""},null,{"$f":"IF(Q14=\"No runoff/infiltration\", \"10\", IF(Q14=\"Overland flow via grassed ditches/swales to surface water body\", \"10\", IF(Q14=\"Overland flow via lined conveyance systems to surface water body\", \"10\", IF(Q14=\"Collected and treated on-site\", \"1\", \"\"))))","v":""},null,{"$f":"IF(S14=\"No runoff/infiltration\", \"10\", IF(S14=\"Overland flow via grassed ditches/swales to surface water body\", \"10\", IF(S14=\"Overland flow via lined conveyance systems to surface water body\", \"10\", IF(S14=\"Collected and treated on-site\", \"1\", \"\"))))","v":""},null,{"$f":"IF(U14=\"No runoff/infiltration\", \"10\", IF(U14=\"Overland flow via grassed ditches/swales to surface water body\", \"10\", IF(U14=\"Overland flow via lined conveyance systems to surface water body\", \"10\", IF(U14=\"Collected and treated on-site\", \"1\", \"\"))))","v":""},null,{"$f":"IF(W14=\"No runoff/infiltration\", \"10\", IF(W14=\"Overland flow via grassed ditches/swales to surface water body\", \"10\", IF(W14=\"Overland flow via lined conveyance systems to surface water body\", \"10\", IF(W14=\"Collected and treated on-site\", \"1\", \"\"))))","v":""},null,{"$f":"IF(Y14=\"No runoff/infiltration\", \"10\", IF(Y14=\"Overland flow via grassed ditches/swales to surface water body\", \"10\", IF(Y14=\"Overland flow via lined conveyance systems to surface water body\", \"10\", IF(Y14=\"Collected and treated on-site\", \"1\", \"\"))))","v":""},null,{"$f":"IF(AA14=\"No runoff/infiltration\", \"10\", IF(AA14=\"Overland flow via grassed ditches/swales to surface water body\", \"10\", IF(AA14=\"Overland flow via lined conveyance systems to surface water body\", \"10\", IF(AA14=\"Collected and treated on-site\", \"1\", \"\"))))","v":""},null,{"$f":"IF(AC14=\"No runoff/infiltration\", \"10\", IF(AC14=\"Overland flow via grassed ditches/swales to surface water body\", \"10\", IF(AC14=\"Overland flow via lined conveyance systems to surface water body\", \"10\", IF(AC14=\"Collected and treated on-site\", \"1\", \"\"))))","v":""},null,{"$f":"IF(AE14=\"No runoff/infiltration\", \"10\", IF(AE14=\"Overland flow via grassed ditches/swales to surface water body\", \"10\", IF(AE14=\"Overland flow via lined conveyance systems to surface water body\", \"10\", IF(AE14=\"Collected and treated on-site\", \"1\", \"\"))))","v":""},null,{"$f":"IF(AG14=\"No runoff/infiltration\", \"10\", IF(AG14=\"Overland flow via grassed ditches/swales to surface water body\", \"10\", IF(AG14=\"Overland flow via lined conveyance systems to surface water body\", \"10\", IF(AG14=\"Collected and treated on-site\", \"1\", \"\"))))","v":""},null,{"$f":"IF(AI14=\"No runoff/infiltration\", \"10\", IF(AI14=\"Overland flow via grassed ditches/swales to surface water body\", \"10\", IF(AI14=\"Overland flow via lined conveyance systems to surface water body\", \"10\", IF(AI14=\"Collected and treated on-site\", \"1\", \"\"))))","v":""},null,{"$f":"IF(AK14=\"No runoff/infiltration\", \"10\", IF(AK14=\"Overland flow via grassed ditches/swales to surface water body\", \"10\", IF(AK14=\"Overland flow via lined conveyance systems to surface water body\", \"10\", IF(AK14=\"Collected and treated on-site\", \"1\", \"\"))))","v":""},null,{"$f":"IF(AM14=\"No runoff/infiltration\", \"10\", IF(AM14=\"Overland flow via grassed ditches/swales to surface water body\", \"10\", IF(AM14=\"Overland flow via lined conveyance systems to surface water body\", \"10\", IF(AM14=\"Collected and treated on-site\", \"1\", \"\"))))","v":""},null,{"$f":"IF(AO14=\"No runoff/infiltration\", \"10\", IF(AO14=\"Overland flow via grassed ditches/swales to surface water body\", \"10\", IF(AO14=\"Overland flow via lined conveyance systems to surface water body\", \"10\", IF(AO14=\"Collected and treated on-site\", \"1\", \"\"))))","v":""},null,{"$f":"IF(AQ14=\"No runoff/infiltration\", \"10\", IF(AQ14=\"Overland flow via grassed ditches/swales to surface water body\", \"10\", IF(AQ14=\"Overland flow via lined conveyance systems to surface water body\", \"10\", IF(AQ14=\"Collected and treated on-site\", \"1\", \"\"))))","v":""},null,{"$f":"IF(AS14=\"No runoff/infiltration\", \"10\", IF(AS14=\"Overland flow via grassed ditches/swales to surface water body\", \"10\", IF(AS14=\"Overland flow via lined conveyance systems to surface water body\", \"10\", IF(AS14=\"Collected and treated on-site\", \"1\", \"\"))))","v":""},null,{"$f":"IF(AU14=\"No runoff/infiltration\", \"10\", IF(AU14=\"Overland flow via grassed ditches/swales to surface water body\", \"10\", IF(AU14=\"Overland flow via lined conveyance systems to surface water body\", \"10\", IF(AU14=\"Collected and treated on-site\", \"1\", \"\"))))","v":""},null,{"$f":"IF(AW14=\"No runoff/infiltration\", \"10\", IF(AW14=\"Overland flow via grassed ditches/swales to surface water body\", \"10\", IF(AW14=\"Overland flow via lined conveyance systems to surface water body\", \"10\", IF(AW14=\"Collected and treated on-site\", \"1\", \"\"))))","v":""},null,{"$f":"IF(AY14=\"No runoff/infiltration\", \"10\", IF(AY14=\"Overland flow via grassed ditches/swales to surface water body\", \"10\", IF(AY14=\"Overland flow via lined conveyance systems to surface water body\", \"10\", IF(AY14=\"Collected and treated on-site\", \"1\", \"\"))))","v":""},null,{"$f":"IF(BA14=\"No runoff/infiltration\", \"10\", IF(BA14=\"Overland flow via grassed ditches/swales to surface water body\", \"10\", IF(BA14=\"Overland flow via lined conveyance systems to surface water body\", \"10\", IF(BA14=\"Collected and treated on-site\", \"1\", \"\"))))","v":""},null,{"$f":"IF(BC14=\"No runoff/infiltration\", \"10\", IF(BC14=\"Overland flow via grassed ditches/swales to surface water body\", \"10\", IF(BC14=\"Overland flow via lined conveyance systems to surface water body\", \"10\", IF(BC14=\"Collected and treated on-site\", \"1\", \"\"))))","v":""},null,{"$f":"IF(BE14=\"No runoff/infiltration\", \"10\", IF(BE14=\"Overland flow via grassed ditches/swales to surface water body\", \"10\", IF(BE14=\"Overland flow via lined conveyance systems to surface water body\", \"10\", IF(BE14=\"Collected and treated on-site\", \"1\", \"\"))))","v":""},null,{"$f":"IF(BG14=\"No runoff/infiltration\", \"10\", IF(BG14=\"Overland flow via grassed ditches/swales to surface water body\", \"10\", IF(BG14=\"Overland flow via lined conveyance systems to surface water body\", \"10\", IF(BG14=\"Collected and treated on-site\", \"1\", \"\"))))","v":""},null,{"$f":"IF(BI14=\"No runoff/infiltration\", \"10\", IF(BI14=\"Overland flow via grassed ditches/swales to surface water body\", \"10\", IF(BI14=\"Overland flow via lined conveyance systems to surface water body\", \"10\", IF(BI14=\"Collected and treated on-site\", \"1\", \"\"))))","v":""},null,{"$f":"IF(BK14=\"No runoff/infiltration\", \"10\", IF(BK14=\"Overland flow via grassed ditches/swales to surface water body\", \"10\", IF(BK14=\"Overland flow via lined conveyance systems to surface water body\", \"10\", IF(BK14=\"Collected and treated on-site\", \"1\", \"\"))))","v":""},null,{"$f":"IF(BM14=\"No runoff/infiltration\", \"10\", IF(BM14=\"Overland flow via grassed ditches/swales to surface water body\", \"10\", IF(BM14=\"Overland flow via lined conveyance systems to surface water body\", \"10\", IF(BM14=\"Collected and treated on-site\", \"1\", \"\"))))","v":""},null,{"$f":"IF(BO14=\"No runoff/infiltration\", \"10\", IF(BO14=\"Overland flow via grassed ditches/swales to surface water body\", \"10\", IF(BO14=\"Overland flow via lined conveyance systems to surface water body\", \"10\", IF(BO14=\"Collected and treated on-site\", \"1\", \"\"))))","v":""},null,{"$f":"IF(BQ14=\"No runoff/infiltration\", \"10\", IF(BQ14=\"Overland flow via grassed ditches/swales to surface water body\", \"10\", IF(BQ14=\"Overland flow via lined conveyance systems to surface water body\", \"10\", IF(BQ14=\"Collected and treated on-site\", \"1\", \"\"))))","v":""},null,{"$f":"IF(BS14=\"No runoff/infiltration\", \"10\", IF(BS14=\"Overland flow via grassed ditches/swales to surface water body\", \"10\", IF(BS14=\"Overland flow via lined conveyance systems to surface water body\", \"10\", IF(BS14=\"Collected and treated on-site\", \"1\", \"\"))))","v":""},null,{"$f":"IF(BU14=\"No runoff/infiltration\", \"10\", IF(BU14=\"Overland flow via grassed ditches/swales to surface water body\", \"10\", IF(BU14=\"Overland flow via lined conveyance systems to surface water body\", \"10\", IF(BU14=\"Collected and treated on-site\", \"1\", \"\"))))","v":""},null,{"$f":"IF(BW14=\"No runoff/infiltration\", \"10\", IF(BW14=\"Overland flow via grassed ditches/swales to surface water body\", \"10\", IF(BW14=\"Overland flow via lined conveyance systems to surface water body\", \"10\", IF(BW14=\"Collected and treated on-site\", \"1\", \"\"))))","v":""},null,{"$f":"IF(BY14=\"No runoff/infiltration\", \"10\", IF(BY14=\"Overland flow via grassed ditches/swales to surface water body\", \"10\", IF(BY14=\"Overland flow via lined conveyance systems to surface water body\", \"10\", IF(BY14=\"Collected and treated on-site\", \"1\", \"\"))))","v":""},null,{"$f":"IF(CA14=\"No runoff/infiltration\", \"10\", IF(CA14=\"Overland flow via grassed ditches/swales to surface water body\", \"10\", IF(CA14=\"Overland flow via lined conveyance systems to surface water body\", \"10\", IF(CA14=\"Collected and treated on-site\", \"1\", \"\"))))","v":""},null,{"$f":"IF(CC14=\"No runoff/infiltration\", \"10\", IF(CC14=\"Overland flow via grassed ditches/swales to surface water body\", \"10\", IF(CC14=\"Overland flow via lined conveyance systems to surface water body\", \"10\", IF(CC14=\"Collected and treated on-site\", \"1\", \"\"))))","v":""},null,{"$f":"IF(CE14=\"No runoff/infiltration\", \"10\", IF(CE14=\"Overland flow via grassed ditches/swales to surface water body\", \"10\", IF(CE14=\"Overland flow via lined conveyance systems to surface water body\", \"10\", IF(CE14=\"Collected and treated on-site\", \"1\", \"\"))))","v":""},null,{"$f":"IF(CG14=\"No runoff/infiltration\", \"10\", IF(CG14=\"Overland flow via grassed ditches/swales to surface water body\", \"10\", IF(CG14=\"Overland flow via lined conveyance systems to surface water body\", \"10\", IF(CG14=\"Collected and treated on-site\", \"1\", \"\"))))","v":""},null,{"$f":"IF(CI14=\"No runoff/infiltration\", \"10\", IF(CI14=\"Overland flow via grassed ditches/swales to surface water body\", \"10\", IF(CI14=\"Overland flow via lined conveyance systems to surface water body\", \"10\", IF(CI14=\"Collected and treated on-site\", \"1\", \"\"))))","v":""},null,{"$f":"IF(CK14=\"No runoff/infiltration\", \"10\", IF(CK14=\"Overland flow via grassed ditches/swales to surface water body\", \"10\", IF(CK14=\"Overland flow via lined conveyance systems to surface water body\", \"10\", IF(CK14=\"Collected and treated on-site\", \"1\", \"\"))))","v":""},null,{"$f":"IF(CM14=\"No runoff/infiltration\", \"10\", IF(CM14=\"Overland flow via grassed ditches/swales to surface water body\", \"10\", IF(CM14=\"Overland flow via lined conveyance systems to surface water body\", \"10\", IF(CM14=\"Collected and treated on-site\", \"1\", \"\"))))","v":""},null,{"$f":"IF(CO14=\"No runoff/infiltration\", \"10\", IF(CO14=\"Overland flow via grassed ditches/swales to surface water body\", \"10\", IF(CO14=\"Overland flow via lined conveyance systems to surface water body\", \"10\", IF(CO14=\"Collected and treated on-site\", \"1\", \"\"))))","v":""},null,{"$f":"IF(CQ14=\"No runoff/infiltration\", \"10\", IF(CQ14=\"Overland flow via grassed ditches/swales to surface water body\", \"10\", IF(CQ14=\"Overland flow via lined conveyance systems to surface water body\", \"10\", IF(CQ14=\"Collected and treated on-site\", \"1\", \"\"))))","v":""},null,{"$f":"IF(CS14=\"No runoff/infiltration\", \"10\", IF(CS14=\"Overland flow via grassed ditches/swales to surface water body\", \"10\", IF(CS14=\"Overland flow via lined conveyance systems to surface water body\", \"10\", IF(CS14=\"Collected and treated on-site\", \"1\", \"\"))))","v":""},null,{"$f":"IF(CU14=\"No runoff/infiltration\", \"10\", IF(CU14=\"Overland flow via grassed ditches/swales to surface water body\", \"10\", IF(CU14=\"Overland flow via lined conveyance systems to surface water body\", \"10\", IF(CU14=\"Collected and treated on-site\", \"1\", \"\"))))","v":""},null,{"$f":"IF(CW14=\"No runoff/infiltration\", \"10\", IF(CW14=\"Overland flow via grassed ditches/swales to surface water body\", \"10\", IF(CW14=\"Overland flow via lined conveyance systems to surface water body\", \"10\", IF(CW14=\"Collected and treated on-site\", \"1\", \"\"))))","v":""},null,{"$f":"IF(CY14=\"No runoff/infiltration\", \"10\", IF(CY14=\"Overland flow via grassed ditches/swales to surface water body\", \"10\", IF(CY14=\"Overland flow via lined conveyance systems to surface water body\", \"10\", IF(CY14=\"Collected and treated on-site\", \"1\", \"\"))))","v":""},null,{"$f":"IF(DA14=\"No runoff/infiltration\", \"10\", IF(DA14=\"Overland flow via grassed ditches/swales to surface water body\", \"10\", IF(DA14=\"Overland flow via lined conveyance systems to surface water body\", \"10\", IF(DA14=\"Collected and treated on-site\", \"1\", \"\"))))","v":""},null,{"$f":"IF(DC14=\"No runoff/infiltration\", \"10\", IF(DC14=\"Overland flow via grassed ditches/swales to surface water body\", \"10\", IF(DC14=\"Overland flow via lined conveyance systems to surface water body\", \"10\", IF(DC14=\"Collected and treated on-site\", \"1\", \"\"))))","v":""},null,{"$f":"IF(DE14=\"No runoff/infiltration\", \"10\", IF(DE14=\"Overland flow via grassed ditches/swales to surface water body\", \"10\", IF(DE14=\"Overland flow via lined conveyance systems to surface water body\", \"10\", IF(DE14=\"Collected and treated on-site\", \"1\", \"\"))))","v":""},null,{"$f":"IF(DG14=\"No runoff/infiltration\", \"10\", IF(DG14=\"Overland flow via grassed ditches/swales to surface water body\", \"10\", IF(DG14=\"Overland flow via lined conveyance systems to surface water body\", \"10\", IF(DG14=\"Collected and treated on-site\", \"1\", \"\"))))","v":""},null,{"$f":"IF(DI14=\"No runoff/infiltration\", \"10\", IF(DI14=\"Overland flow via grassed ditches/swales to surface water body\", \"10\", IF(DI14=\"Overland flow via lined conveyance systems to surface water body\", \"10\", IF(DI14=\"Collected and treated on-site\", \"1\", \"\"))))","v":""},null,{"$f":"IF(DK14=\"No runoff/infiltration\", \"10\", IF(DK14=\"Overland flow via grassed ditches/swales to surface water body\", \"10\", IF(DK14=\"Overland flow via lined conveyance systems to surface water body\", \"10\", IF(DK14=\"Collected and treated on-site\", \"1\", \"\"))))","v":""},null,{"$f":"IF(DM14=\"No runoff/infiltration\", \"10\", IF(DM14=\"Overland flow via grassed ditches/swales to surface water body\", \"10\", IF(DM14=\"Overland flow via lined conveyance systems to surface water body\", \"10\", IF(DM14=\"Collected and treated on-site\", \"1\", \"\"))))","v":""},null,{"$f":"IF(DO14=\"No runoff/infiltration\", \"10\", IF(DO14=\"Overland flow via grassed ditches/swales to surface water body\", \"10\", IF(DO14=\"Overland flow via lined conveyance systems to surface water body\", \"10\", IF(DO14=\"Collected and treated on-site\", \"1\", \"\"))))","v":""},null,{"$f":"IF(DQ14=\"No runoff/infiltration\", \"10\", IF(DQ14=\"Overland flow via grassed ditches/swales to surface water body\", \"10\", IF(DQ14=\"Overland flow via lined conveyance systems to surface water body\", \"10\", IF(DQ14=\"Collected and treated on-site\", \"1\", \"\"))))","v":""},null,{"$f":"IF(DS14=\"No runoff/infiltration\", \"10\", IF(DS14=\"Overland flow via grassed ditches/swales to surface water body\", \"10\", IF(DS14=\"Overland flow via lined conveyance systems to surface water body\", \"10\", IF(DS14=\"Collected and treated on-site\", \"1\", \"\"))))","v":""},null,{"$f":"IF(DU14=\"No runoff/infiltration\", \"10\", IF(DU14=\"Overland flow via grassed ditches/swales to surface water body\", \"10\", IF(DU14=\"Overland flow via lined conveyance systems to surface water body\", \"10\", IF(DU14=\"Collected and treated on-site\", \"1\", \"\"))))","v":""},null,{"$f":"IF(DW14=\"No runoff/infiltration\", \"10\", IF(DW14=\"Overland flow via grassed ditches/swales to surface water body\", \"10\", IF(DW14=\"Overland flow via lined conveyance systems to surface water body\", \"10\", IF(DW14=\"Collected and treated on-site\", \"1\", \"\"))))","v":""},null,{"$f":"IF(DY14=\"No runoff/infiltration\", \"10\", IF(DY14=\"Overland flow via grassed ditches/swales to surface water body\", \"10\", IF(DY14=\"Overland flow via lined conveyance systems to surface water body\", \"10\", IF(DY14=\"Collected and treated on-site\", \"1\", \"\"))))","v":""},null,{"$f":"IF(EA14=\"No runoff/infiltration\", \"10\", IF(EA14=\"Overland flow via grassed ditches/swales to surface water body\", \"10\", IF(EA14=\"Overland flow via lined conveyance systems to surface water body\", \"10\", IF(EA14=\"Collected and treated on-site\", \"1\", \"\"))))","v":""},null,{"$f":"IF(EC14=\"No runoff/infiltration\", \"10\", IF(EC14=\"Overland flow via grassed ditches/swales to surface water body\", \"10\", IF(EC14=\"Overland flow via lined conveyance systems to surface water body\", \"10\", IF(EC14=\"Collected and treated on-site\", \"1\", \"\"))))","v":""},null,{"$f":"IF(EE14=\"No runoff/infiltration\", \"10\", IF(EE14=\"Overland flow via grassed ditches/swales to surface water body\", \"10\", IF(EE14=\"Overland flow via lined conveyance systems to surface water body\", \"10\", IF(EE14=\"Collected and treated on-site\", \"1\", \"\"))))","v":""},null,{"$f":"IF(EG14=\"No runoff/infiltration\", \"10\", IF(EG14=\"Overland flow via grassed ditches/swales to surface water body\", \"10\", IF(EG14=\"Overland flow via lined conveyance systems to surface water body\", \"10\", IF(EG14=\"Collected and treated on-site\", \"1\", \"\"))))","v":""},null,{"$f":"IF(EI14=\"No runoff/infiltration\", \"10\", IF(EI14=\"Overland flow via grassed ditches/swales to surface water body\", \"10\", IF(EI14=\"Overland flow via lined conveyance systems to surface water body\", \"10\", IF(EI14=\"Collected and treated on-site\", \"1\", \"\"))))","v":""},null,{"$f":"IF(EK14=\"No runoff/infiltration\", \"10\", IF(EK14=\"Overland flow via grassed ditches/swales to surface water body\", \"10\", IF(EK14=\"Overland flow via lined conveyance systems to surface water body\", \"10\", IF(EK14=\"Collected and treated on-site\", \"1\", \"\"))))","v":""},null,{"$f":"IF(EM14=\"No runoff/infiltration\", \"10\", IF(EM14=\"Overland flow via grassed ditches/swales to surface water body\", \"10\", IF(EM14=\"Overland flow via lined conveyance systems to surface water body\", \"10\", IF(EM14=\"Collected and treated on-site\", \"1\", \"\"))))","v":""},null,{"$f":"IF(EO14=\"No runoff/infiltration\", \"10\", IF(EO14=\"Overland flow via grassed ditches/swales to surface water body\", \"10\", IF(EO14=\"Overland flow via lined conveyance systems to surface water body\", \"10\", IF(EO14=\"Collected and treated on-site\", \"1\", \"\"))))","v":""},null,{"$f":"IF(EQ14=\"No runoff/infiltration\", \"10\", IF(EQ14=\"Overland flow via grassed ditches/swales to surface water body\", \"10\", IF(EQ14=\"Overland flow via lined conveyance systems to surface water body\", \"10\", IF(EQ14=\"Collected and treated on-site\", \"1\", \"\"))))","v":""},null,{"$f":"IF(ES14=\"No runoff/infiltration\", \"10\", IF(ES14=\"Overland flow via grassed ditches/swales to surface water body\", \"10\", IF(ES14=\"Overland flow via lined conveyance systems to surface water body\", \"10\", IF(ES14=\"Collected and treated on-site\", \"1\", \"\"))))","v":""},null,{"$f":"IF(EU14=\"No runoff/infiltration\", \"10\", IF(EU14=\"Overland flow via grassed ditches/swales to surface water body\", \"10\", IF(EU14=\"Overland flow via lined conveyance systems to surface water body\", \"10\", IF(EU14=\"Collected and treated on-site\", \"1\", \"\"))))","v":""},null,{"$f":"IF(EW14=\"No runoff/infiltration\", \"10\", IF(EW14=\"Overland flow via grassed ditches/swales to surface water body\", \"10\", IF(EW14=\"Overland flow via lined conveyance systems to surface water body\", \"10\", IF(EW14=\"Collected and treated on-site\", \"1\", \"\"))))","v":""},null,{"$f":"IF(EY14=\"No runoff/infiltration\", \"10\", IF(EY14=\"Overland flow via grassed ditches/swales to surface water body\", \"10\", IF(EY14=\"Overland flow via lined conveyance systems to surface water body\", \"10\", IF(EY14=\"Collected and treated on-site\", \"1\", \"\"))))","v":""},null,{"$f":"IF(FA14=\"No runoff/infiltration\", \"10\", IF(FA14=\"Overland flow via grassed ditches/swales to surface water body\", \"10\", IF(FA14=\"Overland flow via lined conveyance systems to surface water body\", \"10\", IF(FA14=\"Collected and treated on-site\", \"1\", \"\"))))","v":""},null,{"$f":"IF(FC14=\"No runoff/infiltration\", \"10\", IF(FC14=\"Overland flow via grassed ditches/swales to surface water body\", \"10\", IF(FC14=\"Overland flow via lined conveyance systems to surface water body\", \"10\", IF(FC14=\"Collected and treated on-site\", \"1\", \"\"))))","v":""},null,{"$f":"IF(FE14=\"No runoff/infiltration\", \"10\", IF(FE14=\"Overland flow via grassed ditches/swales to surface water body\", \"10\", IF(FE14=\"Overland flow via lined conveyance systems to surface water body\", \"10\", IF(FE14=\"Collected and treated on-site\", \"1\", \"\"))))","v":""},null,{"$f":"IF(FG14=\"No runoff/infiltration\", \"10\", IF(FG14=\"Overland flow via grassed ditches/swales to surface water body\", \"10\", IF(FG14=\"Overland flow via lined conveyance systems to surface water body\", \"10\", IF(FG14=\"Collected and treated on-site\", \"1\", \"\"))))","v":""},null,{"$f":"IF(FI14=\"No runoff/infiltration\", \"10\", IF(FI14=\"Overland flow via grassed ditches/swales to surface water body\", \"10\", IF(FI14=\"Overland flow via lined conveyance systems to surface water body\", \"10\", IF(FI14=\"Collected and treated on-site\", \"1\", \"\"))))","v":""},null,{"$f":"IF(FK14=\"No runoff/infiltration\", \"10\", IF(FK14=\"Overland flow via grassed ditches/swales to surface water body\", \"10\", IF(FK14=\"Overland flow via lined conveyance systems to surface water body\", \"10\", IF(FK14=\"Collected and treated on-site\", \"1\", \"\"))))","v":""},null,{"$f":"IF(FM14=\"No runoff/infiltration\", \"10\", IF(FM14=\"Overland flow via grassed ditches/swales to surface water body\", \"10\", IF(FM14=\"Overland flow via lined conveyance systems to surface water body\", \"10\", IF(FM14=\"Collected and treated on-site\", \"1\", \"\"))))","v":""},null,{"$f":"IF(FO14=\"No runoff/infiltration\", \"10\", IF(FO14=\"Overland flow via grassed ditches/swales to surface water body\", \"10\", IF(FO14=\"Overland flow via lined conveyance systems to surface water body\", \"10\", IF(FO14=\"Collected and treated on-site\", \"1\", \"\"))))","v":""},null,{"$f":"IF(FQ14=\"No runoff/infiltration\", \"10\", IF(FQ14=\"Overland flow via grassed ditches/swales to surface water body\", \"10\", IF(FQ14=\"Overland flow via lined conveyance systems to surface water body\", \"10\", IF(FQ14=\"Collected and treated on-site\", \"1\", \"\"))))","v":""},null,{"$f":"IF(FS14=\"No runoff/infiltration\", \"10\", IF(FS14=\"Overland flow via grassed ditches/swales to surface water body\", \"10\", IF(FS14=\"Overland flow via lined conveyance systems to surface water body\", \"10\", IF(FS14=\"Collected and treated on-site\", \"1\", \"\"))))","v":""},null,{"$f":"IF(FU14=\"No runoff/infiltration\", \"10\", IF(FU14=\"Overland flow via grassed ditches/swales to surface water body\", \"10\", IF(FU14=\"Overland flow via lined conveyance systems to surface water body\", \"10\", IF(FU14=\"Collected and treated on-site\", \"1\", \"\"))))","v":""},null,{"$f":"IF(FW14=\"No runoff/infiltration\", \"10\", IF(FW14=\"Overland flow via grassed ditches/swales to surface water body\", \"10\", IF(FW14=\"Overland flow via lined conveyance systems to surface water body\", \"10\", IF(FW14=\"Collected and treated on-site\", \"1\", \"\"))))","v":""},null,{"$f":"IF(FY14=\"No runoff/infiltration\", \"10\", IF(FY14=\"Overland flow via grassed ditches/swales to surface water body\", \"10\", IF(FY14=\"Overland flow via lined conveyance systems to surface water body\", \"10\", IF(FY14=\"Collected and treated on-site\", \"1\", \"\"))))","v":""},null,{"$f":"IF(GA14=\"No runoff/infiltration\", \"10\", IF(GA14=\"Overland flow via grassed ditches/swales to surface water body\", \"10\", IF(GA14=\"Overland flow via lined conveyance systems to surface water body\", \"10\", IF(GA14=\"Collected and treated on-site\", \"1\", \"\"))))","v":""},null,{"$f":"IF(GC14=\"No runoff/infiltration\", \"10\", IF(GC14=\"Overland flow via grassed ditches/swales to surface water body\", \"10\", IF(GC14=\"Overland flow via lined conveyance systems to surface water body\", \"10\", IF(GC14=\"Collected and treated on-site\", \"1\", \"\"))))","v":""},null,{"$f":"IF(GE14=\"No runoff/infiltration\", \"10\", IF(GE14=\"Overland flow via grassed ditches/swales to surface water body\", \"10\", IF(GE14=\"Overland flow via lined conveyance systems to surface water body\", \"10\", IF(GE14=\"Collected and treated on-site\", \"1\", \"\"))))","v":""},null,{"$f":"IF(GG14=\"No runoff/infiltration\", \"10\", IF(GG14=\"Overland flow via grassed ditches/swales to surface water body\", \"10\", IF(GG14=\"Overland flow via lined conveyance systems to surface water body\", \"10\", IF(GG14=\"Collected and treated on-site\", \"1\", \"\"))))","v":""},null,{"$f":"IF(GI14=\"No runoff/infiltration\", \"10\", IF(GI14=\"Overland flow via grassed ditches/swales to surface water body\", \"10\", IF(GI14=\"Overland flow via lined conveyance systems to surface water body\", \"10\", IF(GI14=\"Collected and treated on-site\", \"1\", \"\"))))","v":""},null,{"$f":"IF(GK14=\"No runoff/infiltration\", \"10\", IF(GK14=\"Overland flow via grassed ditches/swales to surface water body\", \"10\", IF(GK14=\"Overland flow via lined conveyance systems to surface water body\", \"10\", IF(GK14=\"Collected and treated on-site\", \"1\", \"\"))))","v":""},null,{"$f":"IF(GM14=\"No runoff/infiltration\", \"10\", IF(GM14=\"Overland flow via grassed ditches/swales to surface water body\", \"10\", IF(GM14=\"Overland flow via lined conveyance systems to surface water body\", \"10\", IF(GM14=\"Collected and treated on-site\", \"1\", \"\"))))","v":""},null,{"$f":"IF(GO14=\"No runoff/infiltration\", \"10\", IF(GO14=\"Overland flow via grassed ditches/swales to surface water body\", \"10\", IF(GO14=\"Overland flow via lined conveyance systems to surface water body\", \"10\", IF(GO14=\"Collected and treated on-site\", \"1\", \"\"))))","v":""},null,{"$f":"IF(GQ14=\"No runoff/infiltration\", \"10\", IF(GQ14=\"Overland flow via grassed ditches/swales to surface water body\", \"10\", IF(GQ14=\"Overland flow via lined conveyance systems to surface water body\", \"10\", IF(GQ14=\"Collected and treated on-site\", \"1\", \"\"))))","v":""},null,{"$f":"IF(GS14=\"No runoff/infiltration\", \"10\", IF(GS14=\"Overland flow via grassed ditches/swales to surface water body\", \"10\", IF(GS14=\"Overland flow via lined conveyance systems to surface water body\", \"10\", IF(GS14=\"Collected and treated on-site\", \"1\", \"\"))))","v":""},null,{"$f":"IF(GU14=\"No runoff/infiltration\", \"10\", IF(GU14=\"Overland flow via grassed ditches/swales to surface water body\", \"10\", IF(GU14=\"Overland flow via lined conveyance systems to surface water body\", \"10\", IF(GU14=\"Collected and treated on-site\", \"1\", \"\"))))","v":""}]
[null,"What is the distance to the nearest potable water receptor identified in Phase 1?",null,{"$f":"IF(C15=\"0 to 1640 ft/ 0 to 500 m\",\"100\",IF(C15=\"1640 ft to 0.6 miles/ 500 m to 1 km\",\"75\",IF(C15=\"0.6 to 3 miles/ 1 to 5 km\",\"25\",IF(C15=\"Greater than 3 miles/ Greater than 5 km\",\"1\",\"\"))))","v":""},null,{"$f":"IF(E15=\"0 to 1640 ft/ 0 to 500 m\",\"100\",IF(E15=\"1640 ft to 0.6 miles/ 500 m to 1 km\",\"75\",IF(E15=\"0.6 to 3 miles/ 1 to 5 km\",\"25\",IF(E15=\"Greater than 3 miles/ Greater than 5 km\",\"1\",\"\"))))","v":""},null,{"$f":"IF(G15=\"0 to 1640 ft/ 0 to 500 m\",\"100\",IF(G15=\"1640 ft to 0.6 miles/ 500 m to 1 km\",\"75\",IF(G15=\"0.6 to 3 miles/ 1 to 5 km\",\"25\",IF(G15=\"Greater than 3 miles/ Greater than 5 km\",\"1\",\"\"))))","v":""},null,{"$f":"IF(I15=\"0 to 1640 ft/ 0 to 500 m\",\"100\",IF(I15=\"1640 ft to 0.6 miles/ 500 m to 1 km\",\"75\",IF(I15=\"0.6 to 3 miles/ 1 to 5 km\",\"25\",IF(I15=\"Greater than 3 miles/ Greater than 5 km\",\"1\",\"\"))))","v":""},null,{"$f":"IF(K15=\"0 to 1640 ft/ 0 to 500 m\",\"100\",IF(K15=\"1640 ft to 0.6 miles/ 500 m to 1 km\",\"75\",IF(K15=\"0.6 to 3 miles/ 1 to 5 km\",\"25\",IF(K15=\"Greater than 3 miles/ Greater than 5 km\",\"1\",\"\"))))","v":""},null,{"$f":"IF(M15=\"0 to 1640 ft/ 0 to 500 m\",\"100\",IF(M15=\"1640 ft to 0.6 miles/ 500 m to 1 km\",\"75\",IF(M15=\"0.6 to 3 miles/ 1 to 5 km\",\"25\",IF(M15=\"Greater than 3 miles/ Greater than 5 km\",\"1\",\"\"))))","v":""},null,{"$f":"IF(O15=\"0 to 1640 ft/ 0 to 500 m\",\"100\",IF(O15=\"1640 ft to 0.6 miles/ 500 m to 1 km\",\"75\",IF(O15=\"0.6 to 3 miles/ 1 to 5 km\",\"25\",IF(O15=\"Greater than 3 miles/ Greater than 5 km\",\"1\",\"\"))))","v":""},null,{"$f":"IF(Q15=\"0 to 1640 ft/ 0 to 500 m\",\"100\",IF(Q15=\"1640 ft to 0.6 miles/ 500 m to 1 km\",\"75\",IF(Q15=\"0.6 to 3 miles/ 1 to 5 km\",\"25\",IF(Q15=\"Greater than 3 miles/ Greater than 5 km\",\"1\",\"\"))))","v":""},null,{"$f":"IF(S15=\"0 to 1640 ft/ 0 to 500 m\",\"100\",IF(S15=\"1640 ft to 0.6 miles/ 500 m to 1 km\",\"75\",IF(S15=\"0.6 to 3 miles/ 1 to 5 km\",\"25\",IF(S15=\"Greater than 3 miles/ Greater than 5 km\",\"1\",\"\"))))","v":""},null,{"$f":"IF(U15=\"0 to 1640 ft/ 0 to 500 m\",\"100\",IF(U15=\"1640 ft to 0.6 miles/ 500 m to 1 km\",\"75\",IF(U15=\"0.6 to 3 miles/ 1 to 5 km\",\"25\",IF(U15=\"Greater than 3 miles/ Greater than 5 km\",\"1\",\"\"))))","v":""},null,{"$f":"IF(W15=\"0 to 1640 ft/ 0 to 500 m\",\"100\",IF(W15=\"1640 ft to 0.6 miles/ 500 m to 1 km\",\"75\",IF(W15=\"0.6 to 3 miles/ 1 to 5 km\",\"25\",IF(W15=\"Greater than 3 miles/ Greater than 5 km\",\"1\",\"\"))))","v":""},null,{"$f":"IF(Y15=\"0 to 1640 ft/ 0 to 500 m\",\"100\",IF(Y15=\"1640 ft to 0.6 miles/ 500 m to 1 km\",\"75\",IF(Y15=\"0.6 to 3 miles/ 1 to 5 km\",\"25\",IF(Y15=\"Greater than 3 miles/ Greater than 5 km\",\"1\",\"\"))))","v":""},null,{"$f":"IF(AA15=\"0 to 1640 ft/ 0 to 500 m\",\"100\",IF(AA15=\"1640 ft to 0.6 miles/ 500 m to 1 km\",\"75\",IF(AA15=\"0.6 to 3 miles/ 1 to 5 km\",\"25\",IF(AA15=\"Greater than 3 miles/ Greater than 5 km\",\"1\",\"\"))))","v":""},null,{"$f":"IF(AC15=\"0 to 1640 ft/ 0 to 500 m\",\"100\",IF(AC15=\"1640 ft to 0.6 miles/ 500 m to 1 km\",\"75\",IF(AC15=\"0.6 to 3 miles/ 1 to 5 km\",\"25\",IF(AC15=\"Greater than 3 miles/ Greater than 5 km\",\"1\",\"\"))))","v":""},null,{"$f":"IF(AE15=\"0 to 1640 ft/ 0 to 500 m\",\"100\",IF(AE15=\"1640 ft to 0.6 miles/ 500 m to 1 km\",\"75\",IF(AE15=\"0.6 to 3 miles/ 1 to 5 km\",\"25\",IF(AE15=\"Greater than 3 miles/ Greater than 5 km\",\"1\",\"\"))))","v":""},null,{"$f":"IF(AG15=\"0 to 1640 ft/ 0 to 500 m\",\"100\",IF(AG15=\"1640 ft to 0.6 miles/ 500 m to 1 km\",\"75\",IF(AG15=\"0.6 to 3 miles/ 1 to 5 km\",\"25\",IF(AG15=\"Greater than 3 miles/ Greater than 5 km\",\"1\",\"\"))))","v":""},null,{"$f":"IF(AI15=\"0 to 1640 ft/ 0 to 500 m\",\"100\",IF(AI15=\"1640 ft to 0.6 miles/ 500 m to 1 km\",\"75\",IF(AI15=\"0.6 to 3 miles/ 1 to 5 km\",\"25\",IF(AI15=\"Greater than 3 miles/ Greater than 5 km\",\"1\",\"\"))))","v":""},null,{"$f":"IF(AK15=\"0 to 1640 ft/ 0 to 500 m\",\"100\",IF(AK15=\"1640 ft to 0.6 miles/ 500 m to 1 km\",\"75\",IF(AK15=\"0.6 to 3 miles/ 1 to 5 km\",\"25\",IF(AK15=\"Greater than 3 miles/ Greater than 5 km\",\"1\",\"\"))))","v":""},null,{"$f":"IF(AM15=\"0 to 1640 ft/ 0 to 500 m\",\"100\",IF(AM15=\"1640 ft to 0.6 miles/ 500 m to 1 km\",\"75\",IF(AM15=\"0.6 to 3 miles/ 1 to 5 km\",\"25\",IF(AM15=\"Greater than 3 miles/ Greater than 5 km\",\"1\",\"\"))))","v":""},null,{"$f":"IF(AO15=\"0 to 1640 ft/ 0 to 500 m\",\"100\",IF(AO15=\"1640 ft to 0.6 miles/ 500 m to 1 km\",\"75\",IF(AO15=\"0.6 to 3 miles/ 1 to 5 km\",\"25\",IF(AO15=\"Greater than 3 miles/ Greater than 5 km\",\"1\",\"\"))))","v":""},null,{"$f":"IF(AQ15=\"0 to 1640 ft/ 0 to 500 m\",\"100\",IF(AQ15=\"1640 ft to 0.6 miles/ 500 m to 1 km\",\"75\",IF(AQ15=\"0.6 to 3 miles/ 1 to 5 km\",\"25\",IF(AQ15=\"Greater than 3 miles/ Greater than 5 km\",\"1\",\"\"))))","v":""},null,{"$f":"IF(AS15=\"0 to 1640 ft/ 0 to 500 m\",\"100\",IF(AS15=\"1640 ft to 0.6 miles/ 500 m to 1 km\",\"75\",IF(AS15=\"0.6 to 3 miles/ 1 to 5 km\",\"25\",IF(AS15=\"Greater than 3 miles/ Greater than 5 km\",\"1\",\"\"))))","v":""},null,{"$f":"IF(AU15=\"0 to 1640 ft/ 0 to 500 m\",\"100\",IF(AU15=\"1640 ft to 0.6 miles/ 500 m to 1 km\",\"75\",IF(AU15=\"0.6 to 3 miles/ 1 to 5 km\",\"25\",IF(AU15=\"Greater than 3 miles/ Greater than 5 km\",\"1\",\"\"))))","v":""},null,{"$f":"IF(AW15=\"0 to 1640 ft/ 0 to 500 m\",\"100\",IF(AW15=\"1640 ft to 0.6 miles/ 500 m to 1 km\",\"75\",IF(AW15=\"0.6 to 3 miles/ 1 to 5 km\",\"25\",IF(AW15=\"Greater than 3 miles/ Greater than 5 km\",\"1\",\"\"))))","v":""},null,{"$f":"IF(AY15=\"0 to 1640 ft/ 0 to 500 m\",\"100\",IF(AY15=\"1640 ft to 0.6 miles/ 500 m to 1 km\",\"75\",IF(AY15=\"0.6 to 3 miles/ 1 to 5 km\",\"25\",IF(AY15=\"Greater than 3 miles/ Greater than 5 km\",\"1\",\"\"))))","v":""},null,{"$f":"IF(BA15=\"0 to 1640 ft/ 0 to 500 m\",\"100\",IF(BA15=\"1640 ft to 0.6 miles/ 500 m to 1 km\",\"75\",IF(BA15=\"0.6 to 3 miles/ 1 to 5 km\",\"25\",IF(BA15=\"Greater than 3 miles/ Greater than 5 km\",\"1\",\"\"))))","v":""},null,{"$f":"IF(BC15=\"0 to 1640 ft/ 0 to 500 m\",\"100\",IF(BC15=\"1640 ft to 0.6 miles/ 500 m to 1 km\",\"75\",IF(BC15=\"0.6 to 3 miles/ 1 to 5 km\",\"25\",IF(BC15=\"Greater than 3 miles/ Greater than 5 km\",\"1\",\"\"))))","v":""},null,{"$f":"IF(BE15=\"0 to 1640 ft/ 0 to 500 m\",\"100\",IF(BE15=\"1640 ft to 0.6 miles/ 500 m to 1 km\",\"75\",IF(BE15=\"0.6 to 3 miles/ 1 to 5 km\",\"25\",IF(BE15=\"Greater than 3 miles/ Greater than 5 km\",\"1\",\"\"))))","v":""},null,{"$f":"IF(BG15=\"0 to 1640 ft/ 0 to 500 m\",\"100\",IF(BG15=\"1640 ft to 0.6 miles/ 500 m to 1 km\",\"75\",IF(BG15=\"0.6 to 3 miles/ 1 to 5 km\",\"25\",IF(BG15=\"Greater than 3 miles/ Greater than 5 km\",\"1\",\"\"))))","v":""},null,{"$f":"IF(BI15=\"0 to 1640 ft/ 0 to 500 m\",\"100\",IF(BI15=\"1640 ft to 0.6 miles/ 500 m to 1 km\",\"75\",IF(BI15=\"0.6 to 3 miles/ 1 to 5 km\",\"25\",IF(BI15=\"Greater than 3 miles/ Greater than 5 km\",\"1\",\"\"))))","v":""},null,{"$f":"IF(BK15=\"0 to 1640 ft/ 0 to 500 m\",\"100\",IF(BK15=\"1640 ft to 0.6 miles/ 500 m to 1 km\",\"75\",IF(BK15=\"0.6 to 3 miles/ 1 to 5 km\",\"25\",IF(BK15=\"Greater than 3 miles/ Greater than 5 km\",\"1\",\"\"))))","v":""},null,{"$f":"IF(BM15=\"0 to 1640 ft/ 0 to 500 m\",\"100\",IF(BM15=\"1640 ft to 0.6 miles/ 500 m to 1 km\",\"75\",IF(BM15=\"0.6 to 3 miles/ 1 to 5 km\",\"25\",IF(BM15=\"Greater than 3 miles/ Greater than 5 km\",\"1\",\"\"))))","v":""},null,{"$f":"IF(BO15=\"0 to 1640 ft/ 0 to 500 m\",\"100\",IF(BO15=\"1640 ft to 0.6 miles/ 500 m to 1 km\",\"75\",IF(BO15=\"0.6 to 3 miles/ 1 to 5 km\",\"25\",IF(BO15=\"Greater than 3 miles/ Greater than 5 km\",\"1\",\"\"))))","v":""},null,{"$f":"IF(BQ15=\"0 to 1640 ft/ 0 to 500 m\",\"100\",IF(BQ15=\"1640 ft to 0.6 miles/ 500 m to 1 km\",\"75\",IF(BQ15=\"0.6 to 3 miles/ 1 to 5 km\",\"25\",IF(BQ15=\"Greater than 3 miles/ Greater than 5 km\",\"1\",\"\"))))","v":""},null,{"$f":"IF(BS15=\"0 to 1640 ft/ 0 to 500 m\",\"100\",IF(BS15=\"1640 ft to 0.6 miles/ 500 m to 1 km\",\"75\",IF(BS15=\"0.6 to 3 miles/ 1 to 5 km\",\"25\",IF(BS15=\"Greater than 3 miles/ Greater than 5 km\",\"1\",\"\"))))","v":""},null,{"$f":"IF(BU15=\"0 to 1640 ft/ 0 to 500 m\",\"100\",IF(BU15=\"1640 ft to 0.6 miles/ 500 m to 1 km\",\"75\",IF(BU15=\"0.6 to 3 miles/ 1 to 5 km\",\"25\",IF(BU15=\"Greater than 3 miles/ Greater than 5 km\",\"1\",\"\"))))","v":""},null,{"$f":"IF(BW15=\"0 to 1640 ft/ 0 to 500 m\",\"100\",IF(BW15=\"1640 ft to 0.6 miles/ 500 m to 1 km\",\"75\",IF(BW15=\"0.6 to 3 miles/ 1 to 5 km\",\"25\",IF(BW15=\"Greater than 3 miles/ Greater than 5 km\",\"1\",\"\"))))","v":""},null,{"$f":"IF(BY15=\"0 to 1640 ft/ 0 to 500 m\",\"100\",IF(BY15=\"1640 ft to 0.6 miles/ 500 m to 1 km\",\"75\",IF(BY15=\"0.6 to 3 miles/ 1 to 5 km\",\"25\",IF(BY15=\"Greater than 3 miles/ Greater than 5 km\",\"1\",\"\"))))","v":""},null,{"$f":"IF(CA15=\"0 to 1640 ft/ 0 to 500 m\",\"100\",IF(CA15=\"1640 ft to 0.6 miles/ 500 m to 1 km\",\"75\",IF(CA15=\"0.6 to 3 miles/ 1 to 5 km\",\"25\",IF(CA15=\"Greater than 3 miles/ Greater than 5 km\",\"1\",\"\"))))","v":""},null,{"$f":"IF(CC15=\"0 to 1640 ft/ 0 to 500 m\",\"100\",IF(CC15=\"1640 ft to 0.6 miles/ 500 m to 1 km\",\"75\",IF(CC15=\"0.6 to 3 miles/ 1 to 5 km\",\"25\",IF(CC15=\"Greater than 3 miles/ Greater than 5 km\",\"1\",\"\"))))","v":""},null,{"$f":"IF(CE15=\"0 to 1640 ft/ 0 to 500 m\",\"100\",IF(CE15=\"1640 ft to 0.6 miles/ 500 m to 1 km\",\"75\",IF(CE15=\"0.6 to 3 miles/ 1 to 5 km\",\"25\",IF(CE15=\"Greater than 3 miles/ Greater than 5 km\",\"1\",\"\"))))","v":""},null,{"$f":"IF(CG15=\"0 to 1640 ft/ 0 to 500 m\",\"100\",IF(CG15=\"1640 ft to 0.6 miles/ 500 m to 1 km\",\"75\",IF(CG15=\"0.6 to 3 miles/ 1 to 5 km\",\"25\",IF(CG15=\"Greater than 3 miles/ Greater than 5 km\",\"1\",\"\"))))","v":""},null,{"$f":"IF(CI15=\"0 to 1640 ft/ 0 to 500 m\",\"100\",IF(CI15=\"1640 ft to 0.6 miles/ 500 m to 1 km\",\"75\",IF(CI15=\"0.6 to 3 miles/ 1 to 5 km\",\"25\",IF(CI15=\"Greater than 3 miles/ Greater than 5 km\",\"1\",\"\"))))","v":""},null,{"$f":"IF(CK15=\"0 to 1640 ft/ 0 to 500 m\",\"100\",IF(CK15=\"1640 ft to 0.6 miles/ 500 m to 1 km\",\"75\",IF(CK15=\"0.6 to 3 miles/ 1 to 5 km\",\"25\",IF(CK15=\"Greater than 3 miles/ Greater than 5 km\",\"1\",\"\"))))","v":""},null,{"$f":"IF(CM15=\"0 to 1640 ft/ 0 to 500 m\",\"100\",IF(CM15=\"1640 ft to 0.6 miles/ 500 m to 1 km\",\"75\",IF(CM15=\"0.6 to 3 miles/ 1 to 5 km\",\"25\",IF(CM15=\"Greater than 3 miles/ Greater than 5 km\",\"1\",\"\"))))","v":""},null,{"$f":"IF(CO15=\"0 to 1640 ft/ 0 to 500 m\",\"100\",IF(CO15=\"1640 ft to 0.6 miles/ 500 m to 1 km\",\"75\",IF(CO15=\"0.6 to 3 miles/ 1 to 5 km\",\"25\",IF(CO15=\"Greater than 3 miles/ Greater than 5 km\",\"1\",\"\"))))","v":""},null,{"$f":"IF(CQ15=\"0 to 1640 ft/ 0 to 500 m\",\"100\",IF(CQ15=\"1640 ft to 0.6 miles/ 500 m to 1 km\",\"75\",IF(CQ15=\"0.6 to 3 miles/ 1 to 5 km\",\"25\",IF(CQ15=\"Greater than 3 miles/ Greater than 5 km\",\"1\",\"\"))))","v":""},null,{"$f":"IF(CS15=\"0 to 1640 ft/ 0 to 500 m\",\"100\",IF(CS15=\"1640 ft to 0.6 miles/ 500 m to 1 km\",\"75\",IF(CS15=\"0.6 to 3 miles/ 1 to 5 km\",\"25\",IF(CS15=\"Greater than 3 miles/ Greater than 5 km\",\"1\",\"\"))))","v":""},null,{"$f":"IF(CU15=\"0 to 1640 ft/ 0 to 500 m\",\"100\",IF(CU15=\"1640 ft to 0.6 miles/ 500 m to 1 km\",\"75\",IF(CU15=\"0.6 to 3 miles/ 1 to 5 km\",\"25\",IF(CU15=\"Greater than 3 miles/ Greater than 5 km\",\"1\",\"\"))))","v":""},null,{"$f":"IF(CW15=\"0 to 1640 ft/ 0 to 500 m\",\"100\",IF(CW15=\"1640 ft to 0.6 miles/ 500 m to 1 km\",\"75\",IF(CW15=\"0.6 to 3 miles/ 1 to 5 km\",\"25\",IF(CW15=\"Greater than 3 miles/ Greater than 5 km\",\"1\",\"\"))))","v":""},null,{"$f":"IF(CY15=\"0 to 1640 ft/ 0 to 500 m\",\"100\",IF(CY15=\"1640 ft to 0.6 miles/ 500 m to 1 km\",\"75\",IF(CY15=\"0.6 to 3 miles/ 1 to 5 km\",\"25\",IF(CY15=\"Greater than 3 miles/ Greater than 5 km\",\"1\",\"\"))))","v":""},null,{"$f":"IF(DA15=\"0 to 1640 ft/ 0 to 500 m\",\"100\",IF(DA15=\"1640 ft to 0.6 miles/ 500 m to 1 km\",\"75\",IF(DA15=\"0.6 to 3 miles/ 1 to 5 km\",\"25\",IF(DA15=\"Greater than 3 miles/ Greater than 5 km\",\"1\",\"\"))))","v":""},null,{"$f":"IF(DC15=\"0 to 1640 ft/ 0 to 500 m\",\"100\",IF(DC15=\"1640 ft to 0.6 miles/ 500 m to 1 km\",\"75\",IF(DC15=\"0.6 to 3 miles/ 1 to 5 km\",\"25\",IF(DC15=\"Greater than 3 miles/ Greater than 5 km\",\"1\",\"\"))))","v":""},null,{"$f":"IF(DE15=\"0 to 1640 ft/ 0 to 500 m\",\"100\",IF(DE15=\"1640 ft to 0.6 miles/ 500 m to 1 km\",\"75\",IF(DE15=\"0.6 to 3 miles/ 1 to 5 km\",\"25\",IF(DE15=\"Greater than 3 miles/ Greater than 5 km\",\"1\",\"\"))))","v":""},null,{"$f":"IF(DG15=\"0 to 1640 ft/ 0 to 500 m\",\"100\",IF(DG15=\"1640 ft to 0.6 miles/ 500 m to 1 km\",\"75\",IF(DG15=\"0.6 to 3 miles/ 1 to 5 km\",\"25\",IF(DG15=\"Greater than 3 miles/ Greater than 5 km\",\"1\",\"\"))))","v":""},null,{"$f":"IF(DI15=\"0 to 1640 ft/ 0 to 500 m\",\"100\",IF(DI15=\"1640 ft to 0.6 miles/ 500 m to 1 km\",\"75\",IF(DI15=\"0.6 to 3 miles/ 1 to 5 km\",\"25\",IF(DI15=\"Greater than 3 miles/ Greater than 5 km\",\"1\",\"\"))))","v":""},null,{"$f":"IF(DK15=\"0 to 1640 ft/ 0 to 500 m\",\"100\",IF(DK15=\"1640 ft to 0.6 miles/ 500 m to 1 km\",\"75\",IF(DK15=\"0.6 to 3 miles/ 1 to 5 km\",\"25\",IF(DK15=\"Greater than 3 miles/ Greater than 5 km\",\"1\",\"\"))))","v":""},null,{"$f":"IF(DM15=\"0 to 1640 ft/ 0 to 500 m\",\"100\",IF(DM15=\"1640 ft to 0.6 miles/ 500 m to 1 km\",\"75\",IF(DM15=\"0.6 to 3 miles/ 1 to 5 km\",\"25\",IF(DM15=\"Greater than 3 miles/ Greater than 5 km\",\"1\",\"\"))))","v":""},null,{"$f":"IF(DO15=\"0 to 1640 ft/ 0 to 500 m\",\"100\",IF(DO15=\"1640 ft to 0.6 miles/ 500 m to 1 km\",\"75\",IF(DO15=\"0.6 to 3 miles/ 1 to 5 km\",\"25\",IF(DO15=\"Greater than 3 miles/ Greater than 5 km\",\"1\",\"\"))))","v":""},null,{"$f":"IF(DQ15=\"0 to 1640 ft/ 0 to 500 m\",\"100\",IF(DQ15=\"1640 ft to 0.6 miles/ 500 m to 1 km\",\"75\",IF(DQ15=\"0.6 to 3 miles/ 1 to 5 km\",\"25\",IF(DQ15=\"Greater than 3 miles/ Greater than 5 km\",\"1\",\"\"))))","v":""},null,{"$f":"IF(DS15=\"0 to 1640 ft/ 0 to 500 m\",\"100\",IF(DS15=\"1640 ft to 0.6 miles/ 500 m to 1 km\",\"75\",IF(DS15=\"0.6 to 3 miles/ 1 to 5 km\",\"25\",IF(DS15=\"Greater than 3 miles/ Greater than 5 km\",\"1\",\"\"))))","v":""},null,{"$f":"IF(DU15=\"0 to 1640 ft/ 0 to 500 m\",\"100\",IF(DU15=\"1640 ft to 0.6 miles/ 500 m to 1 km\",\"75\",IF(DU15=\"0.6 to 3 miles/ 1 to 5 km\",\"25\",IF(DU15=\"Greater than 3 miles/ Greater than 5 km\",\"1\",\"\"))))","v":""},null,{"$f":"IF(DW15=\"0 to 1640 ft/ 0 to 500 m\",\"100\",IF(DW15=\"1640 ft to 0.6 miles/ 500 m to 1 km\",\"75\",IF(DW15=\"0.6 to 3 miles/ 1 to 5 km\",\"25\",IF(DW15=\"Greater than 3 miles/ Greater than 5 km\",\"1\",\"\"))))","v":""},null,{"$f":"IF(DY15=\"0 to 1640 ft/ 0 to 500 m\",\"100\",IF(DY15=\"1640 ft to 0.6 miles/ 500 m to 1 km\",\"75\",IF(DY15=\"0.6 to 3 miles/ 1 to 5 km\",\"25\",IF(DY15=\"Greater than 3 miles/ Greater than 5 km\",\"1\",\"\"))))","v":""},null,{"$f":"IF(EA15=\"0 to 1640 ft/ 0 to 500 m\",\"100\",IF(EA15=\"1640 ft to 0.6 miles/ 500 m to 1 km\",\"75\",IF(EA15=\"0.6 to 3 miles/ 1 to 5 km\",\"25\",IF(EA15=\"Greater than 3 miles/ Greater than 5 km\",\"1\",\"\"))))","v":""},null,{"$f":"IF(EC15=\"0 to 1640 ft/ 0 to 500 m\",\"100\",IF(EC15=\"1640 ft to 0.6 miles/ 500 m to 1 km\",\"75\",IF(EC15=\"0.6 to 3 miles/ 1 to 5 km\",\"25\",IF(EC15=\"Greater than 3 miles/ Greater than 5 km\",\"1\",\"\"))))","v":""},null,{"$f":"IF(EE15=\"0 to 1640 ft/ 0 to 500 m\",\"100\",IF(EE15=\"1640 ft to 0.6 miles/ 500 m to 1 km\",\"75\",IF(EE15=\"0.6 to 3 miles/ 1 to 5 km\",\"25\",IF(EE15=\"Greater than 3 miles/ Greater than 5 km\",\"1\",\"\"))))","v":""},null,{"$f":"IF(EG15=\"0 to 1640 ft/ 0 to 500 m\",\"100\",IF(EG15=\"1640 ft to 0.6 miles/ 500 m to 1 km\",\"75\",IF(EG15=\"0.6 to 3 miles/ 1 to 5 km\",\"25\",IF(EG15=\"Greater than 3 miles/ Greater than 5 km\",\"1\",\"\"))))","v":""},null,{"$f":"IF(EI15=\"0 to 1640 ft/ 0 to 500 m\",\"100\",IF(EI15=\"1640 ft to 0.6 miles/ 500 m to 1 km\",\"75\",IF(EI15=\"0.6 to 3 miles/ 1 to 5 km\",\"25\",IF(EI15=\"Greater than 3 miles/ Greater than 5 km\",\"1\",\"\"))))","v":""},null,{"$f":"IF(EK15=\"0 to 1640 ft/ 0 to 500 m\",\"100\",IF(EK15=\"1640 ft to 0.6 miles/ 500 m to 1 km\",\"75\",IF(EK15=\"0.6 to 3 miles/ 1 to 5 km\",\"25\",IF(EK15=\"Greater than 3 miles/ Greater than 5 km\",\"1\",\"\"))))","v":""},null,{"$f":"IF(EM15=\"0 to 1640 ft/ 0 to 500 m\",\"100\",IF(EM15=\"1640 ft to 0.6 miles/ 500 m to 1 km\",\"75\",IF(EM15=\"0.6 to 3 miles/ 1 to 5 km\",\"25\",IF(EM15=\"Greater than 3 miles/ Greater than 5 km\",\"1\",\"\"))))","v":""},null,{"$f":"IF(EO15=\"0 to 1640 ft/ 0 to 500 m\",\"100\",IF(EO15=\"1640 ft to 0.6 miles/ 500 m to 1 km\",\"75\",IF(EO15=\"0.6 to 3 miles/ 1 to 5 km\",\"25\",IF(EO15=\"Greater than 3 miles/ Greater than 5 km\",\"1\",\"\"))))","v":""},null,{"$f":"IF(EQ15=\"0 to 1640 ft/ 0 to 500 m\",\"100\",IF(EQ15=\"1640 ft to 0.6 miles/ 500 m to 1 km\",\"75\",IF(EQ15=\"0.6 to 3 miles/ 1 to 5 km\",\"25\",IF(EQ15=\"Greater than 3 miles/ Greater than 5 km\",\"1\",\"\"))))","v":""},null,{"$f":"IF(ES15=\"0 to 1640 ft/ 0 to 500 m\",\"100\",IF(ES15=\"1640 ft to 0.6 miles/ 500 m to 1 km\",\"75\",IF(ES15=\"0.6 to 3 miles/ 1 to 5 km\",\"25\",IF(ES15=\"Greater than 3 miles/ Greater than 5 km\",\"1\",\"\"))))","v":""},null,{"$f":"IF(EU15=\"0 to 1640 ft/ 0 to 500 m\",\"100\",IF(EU15=\"1640 ft to 0.6 miles/ 500 m to 1 km\",\"75\",IF(EU15=\"0.6 to 3 miles/ 1 to 5 km\",\"25\",IF(EU15=\"Greater than 3 miles/ Greater than 5 km\",\"1\",\"\"))))","v":""},null,{"$f":"IF(EW15=\"0 to 1640 ft/ 0 to 500 m\",\"100\",IF(EW15=\"1640 ft to 0.6 miles/ 500 m to 1 km\",\"75\",IF(EW15=\"0.6 to 3 miles/ 1 to 5 km\",\"25\",IF(EW15=\"Greater than 3 miles/ Greater than 5 km\",\"1\",\"\"))))","v":""},null,{"$f":"IF(EY15=\"0 to 1640 ft/ 0 to 500 m\",\"100\",IF(EY15=\"1640 ft to 0.6 miles/ 500 m to 1 km\",\"75\",IF(EY15=\"0.6 to 3 miles/ 1 to 5 km\",\"25\",IF(EY15=\"Greater than 3 miles/ Greater than 5 km\",\"1\",\"\"))))","v":""},null,{"$f":"IF(FA15=\"0 to 1640 ft/ 0 to 500 m\",\"100\",IF(FA15=\"1640 ft to 0.6 miles/ 500 m to 1 km\",\"75\",IF(FA15=\"0.6 to 3 miles/ 1 to 5 km\",\"25\",IF(FA15=\"Greater than 3 miles/ Greater than 5 km\",\"1\",\"\"))))","v":""},null,{"$f":"IF(FC15=\"0 to 1640 ft/ 0 to 500 m\",\"100\",IF(FC15=\"1640 ft to 0.6 miles/ 500 m to 1 km\",\"75\",IF(FC15=\"0.6 to 3 miles/ 1 to 5 km\",\"25\",IF(FC15=\"Greater than 3 miles/ Greater than 5 km\",\"1\",\"\"))))","v":""},null,{"$f":"IF(FE15=\"0 to 1640 ft/ 0 to 500 m\",\"100\",IF(FE15=\"1640 ft to 0.6 miles/ 500 m to 1 km\",\"75\",IF(FE15=\"0.6 to 3 miles/ 1 to 5 km\",\"25\",IF(FE15=\"Greater than 3 miles/ Greater than 5 km\",\"1\",\"\"))))","v":""},null,{"$f":"IF(FG15=\"0 to 1640 ft/ 0 to 500 m\",\"100\",IF(FG15=\"1640 ft to 0.6 miles/ 500 m to 1 km\",\"75\",IF(FG15=\"0.6 to 3 miles/ 1 to 5 km\",\"25\",IF(FG15=\"Greater than 3 miles/ Greater than 5 km\",\"1\",\"\"))))","v":""},null,{"$f":"IF(FI15=\"0 to 1640 ft/ 0 to 500 m\",\"100\",IF(FI15=\"1640 ft to 0.6 miles/ 500 m to 1 km\",\"75\",IF(FI15=\"0.6 to 3 miles/ 1 to 5 km\",\"25\",IF(FI15=\"Greater than 3 miles/ Greater than 5 km\",\"1\",\"\"))))","v":""},null,{"$f":"IF(FK15=\"0 to 1640 ft/ 0 to 500 m\",\"100\",IF(FK15=\"1640 ft to 0.6 miles/ 500 m to 1 km\",\"75\",IF(FK15=\"0.6 to 3 miles/ 1 to 5 km\",\"25\",IF(FK15=\"Greater than 3 miles/ Greater than 5 km\",\"1\",\"\"))))","v":""},null,{"$f":"IF(FM15=\"0 to 1640 ft/ 0 to 500 m\",\"100\",IF(FM15=\"1640 ft to 0.6 miles/ 500 m to 1 km\",\"75\",IF(FM15=\"0.6 to 3 miles/ 1 to 5 km\",\"25\",IF(FM15=\"Greater than 3 miles/ Greater than 5 km\",\"1\",\"\"))))","v":""},null,{"$f":"IF(FO15=\"0 to 1640 ft/ 0 to 500 m\",\"100\",IF(FO15=\"1640 ft to 0.6 miles/ 500 m to 1 km\",\"75\",IF(FO15=\"0.6 to 3 miles/ 1 to 5 km\",\"25\",IF(FO15=\"Greater than 3 miles/ Greater than 5 km\",\"1\",\"\"))))","v":""},null,{"$f":"IF(FQ15=\"0 to 1640 ft/ 0 to 500 m\",\"100\",IF(FQ15=\"1640 ft to 0.6 miles/ 500 m to 1 km\",\"75\",IF(FQ15=\"0.6 to 3 miles/ 1 to 5 km\",\"25\",IF(FQ15=\"Greater than 3 miles/ Greater than 5 km\",\"1\",\"\"))))","v":""},null,{"$f":"IF(FS15=\"0 to 1640 ft/ 0 to 500 m\",\"100\",IF(FS15=\"1640 ft to 0.6 miles/ 500 m to 1 km\",\"75\",IF(FS15=\"0.6 to 3 miles/ 1 to 5 km\",\"25\",IF(FS15=\"Greater than 3 miles/ Greater than 5 km\",\"1\",\"\"))))","v":""},null,{"$f":"IF(FU15=\"0 to 1640 ft/ 0 to 500 m\",\"100\",IF(FU15=\"1640 ft to 0.6 miles/ 500 m to 1 km\",\"75\",IF(FU15=\"0.6 to 3 miles/ 1 to 5 km\",\"25\",IF(FU15=\"Greater than 3 miles/ Greater than 5 km\",\"1\",\"\"))))","v":""},null,{"$f":"IF(FW15=\"0 to 1640 ft/ 0 to 500 m\",\"100\",IF(FW15=\"1640 ft to 0.6 miles/ 500 m to 1 km\",\"75\",IF(FW15=\"0.6 to 3 miles/ 1 to 5 km\",\"25\",IF(FW15=\"Greater than 3 miles/ Greater than 5 km\",\"1\",\"\"))))","v":""},null,{"$f":"IF(FY15=\"0 to 1640 ft/ 0 to 500 m\",\"100\",IF(FY15=\"1640 ft to 0.6 miles/ 500 m to 1 km\",\"75\",IF(FY15=\"0.6 to 3 miles/ 1 to 5 km\",\"25\",IF(FY15=\"Greater than 3 miles/ Greater than 5 km\",\"1\",\"\"))))","v":""},null,{"$f":"IF(GA15=\"0 to 1640 ft/ 0 to 500 m\",\"100\",IF(GA15=\"1640 ft to 0.6 miles/ 500 m to 1 km\",\"75\",IF(GA15=\"0.6 to 3 miles/ 1 to 5 km\",\"25\",IF(GA15=\"Greater than 3 miles/ Greater than 5 km\",\"1\",\"\"))))","v":""},null,{"$f":"IF(GC15=\"0 to 1640 ft/ 0 to 500 m\",\"100\",IF(GC15=\"1640 ft to 0.6 miles/ 500 m to 1 km\",\"75\",IF(GC15=\"0.6 to 3 miles/ 1 to 5 km\",\"25\",IF(GC15=\"Greater than 3 miles/ Greater than 5 km\",\"1\",\"\"))))","v":""},null,{"$f":"IF(GE15=\"0 to 1640 ft/ 0 to 500 m\",\"100\",IF(GE15=\"1640 ft to 0.6 miles/ 500 m to 1 km\",\"75\",IF(GE15=\"0.6 to 3 miles/ 1 to 5 km\",\"25\",IF(GE15=\"Greater than 3 miles/ Greater than 5 km\",\"1\",\"\"))))","v":""},null,{"$f":"IF(GG15=\"0 to 1640 ft/ 0 to 500 m\",\"100\",IF(GG15=\"1640 ft to 0.6 miles/ 500 m to 1 km\",\"75\",IF(GG15=\"0.6 to 3 miles/ 1 to 5 km\",\"25\",IF(GG15=\"Greater than 3 miles/ Greater than 5 km\",\"1\",\"\"))))","v":""},null,{"$f":"IF(GI15=\"0 to 1640 ft/ 0 to 500 m\",\"100\",IF(GI15=\"1640 ft to 0.6 miles/ 500 m to 1 km\",\"75\",IF(GI15=\"0.6 to 3 miles/ 1 to 5 km\",\"25\",IF(GI15=\"Greater than 3 miles/ Greater than 5 km\",\"1\",\"\"))))","v":""},null,{"$f":"IF(GK15=\"0 to 1640 ft/ 0 to 500 m\",\"100\",IF(GK15=\"1640 ft to 0.6 miles/ 500 m to 1 km\",\"75\",IF(GK15=\"0.6 to 3 miles/ 1 to 5 km\",\"25\",IF(GK15=\"Greater than 3 miles/ Greater than 5 km\",\"1\",\"\"))))","v":""},null,{"$f":"IF(GM15=\"0 to 1640 ft/ 0 to 500 m\",\"100\",IF(GM15=\"1640 ft to 0.6 miles/ 500 m to 1 km\",\"75\",IF(GM15=\"0.6 to 3 miles/ 1 to 5 km\",\"25\",IF(GM15=\"Greater than 3 miles/ Greater than 5 km\",\"1\",\"\"))))","v":""},null,{"$f":"IF(GO15=\"0 to 1640 ft/ 0 to 500 m\",\"100\",IF(GO15=\"1640 ft to 0.6 miles/ 500 m to 1 km\",\"75\",IF(GO15=\"0.6 to 3 miles/ 1 to 5 km\",\"25\",IF(GO15=\"Greater than 3 miles/ Greater than 5 km\",\"1\",\"\"))))","v":""},null,{"$f":"IF(GQ15=\"0 to 1640 ft/ 0 to 500 m\",\"100\",IF(GQ15=\"1640 ft to 0.6 miles/ 500 m to 1 km\",\"75\",IF(GQ15=\"0.6 to 3 miles/ 1 to 5 km\",\"25\",IF(GQ15=\"Greater than 3 miles/ Greater than 5 km\",\"1\",\"\"))))","v":""},null,{"$f":"IF(GS15=\"0 to 1640 ft/ 0 to 500 m\",\"100\",IF(GS15=\"1640 ft to 0.6 miles/ 500 m to 1 km\",\"75\",IF(GS15=\"0.6 to 3 miles/ 1 to 5 km\",\"25\",IF(GS15=\"Greater than 3 miles/ Greater than 5 km\",\"1\",\"\"))))","v":""},null,{"$f":"IF(GU15=\"0 to 1640 ft/ 0 to 500 m\",\"100\",IF(GU15=\"1640 ft to 0.6 miles/ 500 m to 1 km\",\"75\",IF(GU15=\"0.6 to 3 miles/ 1 to 5 km\",\"25\",IF(GU15=\"Greater than 3 miles/ Greater than 5 km\",\"1\",\"\"))))","v":""}]
[null,"What is the distance to the nearest sensitive ecological receptor (wetland or surface water body) identified in Phase 1?",null,{"$f":"IF(C16=\"0 to 1640 ft/ 0 to 500 m\",\"100\",IF(C16=\"1640 ft to 0.6 miles/ 500 m to 1 km\",\"75\",IF(C16=\"0.6 to 3 miles/ 1 to 5 km\",\"25\",IF(C16=\"Greater than 3 miles/ Greater than 5 km\",\"1\",\"\"))))","v":""},null,{"$f":"IF(E16=\"0 to 1640 ft/ 0 to 500 m\",\"100\",IF(E16=\"1640 ft to 0.6 miles/ 500 m to 1 km\",\"75\",IF(E16=\"0.6 to 3 miles/ 1 to 5 km\",\"25\",IF(E16=\"Greater than 3 miles/ Greater than 5 km\",\"1\",\"\"))))","v":""},null,{"$f":"IF(G16=\"0 to 1640 ft/ 0 to 500 m\",\"100\",IF(G16=\"1640 ft to 0.6 miles/ 500 m to 1 km\",\"75\",IF(G16=\"0.6 to 3 miles/ 1 to 5 km\",\"25\",IF(G16=\"Greater than 3 miles/ Greater than 5 km\",\"1\",\"\"))))","v":""},null,{"$f":"IF(I16=\"0 to 1640 ft/ 0 to 500 m\",\"100\",IF(I16=\"1640 ft to 0.6 miles/ 500 m to 1 km\",\"75\",IF(I16=\"0.6 to 3 miles/ 1 to 5 km\",\"25\",IF(I16=\"Greater than 3 miles/ Greater than 5 km\",\"1\",\"\"))))","v":""},null,{"$f":"IF(K16=\"0 to 1640 ft/ 0 to 500 m\",\"100\",IF(K16=\"1640 ft to 0.6 miles/ 500 m to 1 km\",\"75\",IF(K16=\"0.6 to 3 miles/ 1 to 5 km\",\"25\",IF(K16=\"Greater than 3 miles/ Greater than 5 km\",\"1\",\"\"))))","v":""},null,{"$f":"IF(M16=\"0 to 1640 ft/ 0 to 500 m\",\"100\",IF(M16=\"1640 ft to 0.6 miles/ 500 m to 1 km\",\"75\",IF(M16=\"0.6 to 3 miles/ 1 to 5 km\",\"25\",IF(M16=\"Greater than 3 miles/ Greater than 5 km\",\"1\",\"\"))))","v":""},null,{"$f":"IF(O16=\"0 to 1640 ft/ 0 to 500 m\",\"100\",IF(O16=\"1640 ft to 0.6 miles/ 500 m to 1 km\",\"75\",IF(O16=\"0.6 to 3 miles/ 1 to 5 km\",\"25\",IF(O16=\"Greater than 3 miles/ Greater than 5 km\",\"1\",\"\"))))","v":""},null,{"$f":"IF(Q16=\"0 to 1640 ft/ 0 to 500 m\",\"100\",IF(Q16=\"1640 ft to 0.6 miles/ 500 m to 1 km\",\"75\",IF(Q16=\"0.6 to 3 miles/ 1 to 5 km\",\"25\",IF(Q16=\"Greater than 3 miles/ Greater than 5 km\",\"1\",\"\"))))","v":""},null,{"$f":"IF(S16=\"0 to 1640 ft/ 0 to 500 m\",\"100\",IF(S16=\"1640 ft to 0.6 miles/ 500 m to 1 km\",\"75\",IF(S16=\"0.6 to 3 miles/ 1 to 5 km\",\"25\",IF(S16=\"Greater than 3 miles/ Greater than 5 km\",\"1\",\"\"))))","v":""},null,{"$f":"IF(U16=\"0 to 1640 ft/ 0 to 500 m\",\"100\",IF(U16=\"1640 ft to 0.6 miles/ 500 m to 1 km\",\"75\",IF(U16=\"0.6 to 3 miles/ 1 to 5 km\",\"25\",IF(U16=\"Greater than 3 miles/ Greater than 5 km\",\"1\",\"\"))))","v":""},null,{"$f":"IF(W16=\"0 to 1640 ft/ 0 to 500 m\",\"100\",IF(W16=\"1640 ft to 0.6 miles/ 500 m to 1 km\",\"75\",IF(W16=\"0.6 to 3 miles/ 1 to 5 km\",\"25\",IF(W16=\"Greater than 3 miles/ Greater than 5 km\",\"1\",\"\"))))","v":""},null,{"$f":"IF(Y16=\"0 to 1640 ft/ 0 to 500 m\",\"100\",IF(Y16=\"1640 ft to 0.6 miles/ 500 m to 1 km\",\"75\",IF(Y16=\"0.6 to 3 miles/ 1 to 5 km\",\"25\",IF(Y16=\"Greater than 3 miles/ Greater than 5 km\",\"1\",\"\"))))","v":""},null,{"$f":"IF(AA16=\"0 to 1640 ft/ 0 to 500 m\",\"100\",IF(AA16=\"1640 ft to 0.6 miles/ 500 m to 1 km\",\"75\",IF(AA16=\"0.6 to 3 miles/ 1 to 5 km\",\"25\",IF(AA16=\"Greater than 3 miles/ Greater than 5 km\",\"1\",\"\"))))","v":""},null,{"$f":"IF(AC16=\"0 to 1640 ft/ 0 to 500 m\",\"100\",IF(AC16=\"1640 ft to 0.6 miles/ 500 m to 1 km\",\"75\",IF(AC16=\"0.6 to 3 miles/ 1 to 5 km\",\"25\",IF(AC16=\"Greater than 3 miles/ Greater than 5 km\",\"1\",\"\"))))","v":""},null,{"$f":"IF(AE16=\"0 to 1640 ft/ 0 to 500 m\",\"100\",IF(AE16=\"1640 ft to 0.6 miles/ 500 m to 1 km\",\"75\",IF(AE16=\"0.6 to 3 miles/ 1 to 5 km\",\"25\",IF(AE16=\"Greater than 3 miles/ Greater than 5 km\",\"1\",\"\"))))","v":""},null,{"$f":"IF(AG16=\"0 to 1640 ft/ 0 to 500 m\",\"100\",IF(AG16=\"1640 ft to 0.6 miles/ 500 m to 1 km\",\"75\",IF(AG16=\"0.6 to 3 miles/ 1 to 5 km\",\"25\",IF(AG16=\"Greater than 3 miles/ Greater than 5 km\",\"1\",\"\"))))","v":""},null,{"$f":"IF(AI16=\"0 to 1640 ft/ 0 to 500 m\",\"100\",IF(AI16=\"1640 ft to 0.6 miles/ 500 m to 1 km\",\"75\",IF(AI16=\"0.6 to 3 miles/ 1 to 5 km\",\"25\",IF(AI16=\"Greater than 3 miles/ Greater than 5 km\",\"1\",\"\"))))","v":""},null,{"$f":"IF(AK16=\"0 to 1640 ft/ 0 to 500 m\",\"100\",IF(AK16=\"1640 ft to 0.6 miles/ 500 m to 1 km\",\"75\",IF(AK16=\"0.6 to 3 miles/ 1 to 5 km\",\"25\",IF(AK16=\"Greater than 3 miles/ Greater than 5 km\",\"1\",\"\"))))","v":""},null,{"$f":"IF(AM16=\"0 to 1640 ft/ 0 to 500 m\",\"100\",IF(AM16=\"1640 ft to 0.6 miles/ 500 m to 1 km\",\"75\",IF(AM16=\"0.6 to 3 miles/ 1 to 5 km\",\"25\",IF(AM16=\"Greater than 3 miles/ Greater than 5 km\",\"1\",\"\"))))","v":""},null,{"$f":"IF(AO16=\"0 to 1640 ft/ 0 to 500 m\",\"100\",IF(AO16=\"1640 ft to 0.6 miles/ 500 m to 1 km\",\"75\",IF(AO16=\"0.6 to 3 miles/ 1 to 5 km\",\"25\",IF(AO16=\"Greater than 3 miles/ Greater than 5 km\",\"1\",\"\"))))","v":""},null,{"$f":"IF(AQ16=\"0 to 1640 ft/ 0 to 500 m\",\"100\",IF(AQ16=\"1640 ft to 0.6 miles/ 500 m to 1 km\",\"75\",IF(AQ16=\"0.6 to 3 miles/ 1 to 5 km\",\"25\",IF(AQ16=\"Greater than 3 miles/ Greater than 5 km\",\"1\",\"\"))))","v":""},null,{"$f":"IF(AS16=\"0 to 1640 ft/ 0 to 500 m\",\"100\",IF(AS16=\"1640 ft to 0.6 miles/ 500 m to 1 km\",\"75\",IF(AS16=\"0.6 to 3 miles/ 1 to 5 km\",\"25\",IF(AS16=\"Greater than 3 miles/ Greater than 5 km\",\"1\",\"\"))))","v":""},null,{"$f":"IF(AU16=\"0 to 1640 ft/ 0 to 500 m\",\"100\",IF(AU16=\"1640 ft to 0.6 miles/ 500 m to 1 km\",\"75\",IF(AU16=\"0.6 to 3 miles/ 1 to 5 km\",\"25\",IF(AU16=\"Greater than 3 miles/ Greater than 5 km\",\"1\",\"\"))))","v":""},null,{"$f":"IF(AW16=\"0 to 1640 ft/ 0 to 500 m\",\"100\",IF(AW16=\"1640 ft to 0.6 miles/ 500 m to 1 km\",\"75\",IF(AW16=\"0.6 to 3 miles/ 1 to 5 km\",\"25\",IF(AW16=\"Greater than 3 miles/ Greater than 5 km\",\"1\",\"\"))))","v":""},null,{"$f":"IF(AY16=\"0 to 1640 ft/ 0 to 500 m\",\"100\",IF(AY16=\"1640 ft to 0.6 miles/ 500 m to 1 km\",\"75\",IF(AY16=\"0.6 to 3 miles/ 1 to 5 km\",\"25\",IF(AY16=\"Greater than 3 miles/ Greater than 5 km\",\"1\",\"\"))))","v":""},null,{"$f":"IF(BA16=\"0 to 1640 ft/ 0 to 500 m\",\"100\",IF(BA16=\"1640 ft to 0.6 miles/ 500 m to 1 km\",\"75\",IF(BA16=\"0.6 to 3 miles/ 1 to 5 km\",\"25\",IF(BA16=\"Greater than 3 miles/ Greater than 5 km\",\"1\",\"\"))))","v":""},null,{"$f":"IF(BC16=\"0 to 1640 ft/ 0 to 500 m\",\"100\",IF(BC16=\"1640 ft to 0.6 miles/ 500 m to 1 km\",\"75\",IF(BC16=\"0.6 to 3 miles/ 1 to 5 km\",\"25\",IF(BC16=\"Greater than 3 miles/ Greater than 5 km\",\"1\",\"\"))))","v":""},null,{"$f":"IF(BE16=\"0 to 1640 ft/ 0 to 500 m\",\"100\",IF(BE16=\"1640 ft to 0.6 miles/ 500 m to 1 km\",\"75\",IF(BE16=\"0.6 to 3 miles/ 1 to 5 km\",\"25\",IF(BE16=\"Greater than 3 miles/ Greater than 5 km\",\"1\",\"\"))))","v":""},null,{"$f":"IF(BG16=\"0 to 1640 ft/ 0 to 500 m\",\"100\",IF(BG16=\"1640 ft to 0.6 miles/ 500 m to 1 km\",\"75\",IF(BG16=\"0.6 to 3 miles/ 1 to 5 km\",\"25\",IF(BG16=\"Greater than 3 miles/ Greater than 5 km\",\"1\",\"\"))))","v":""},null,{"$f":"IF(BI16=\"0 to 1640 ft/ 0 to 500 m\",\"100\",IF(BI16=\"1640 ft to 0.6 miles/ 500 m to 1 km\",\"75\",IF(BI16=\"0.6 to 3 miles/ 1 to 5 km\",\"25\",IF(BI16=\"Greater than 3 miles/ Greater than 5 km\",\"1\",\"\"))))","v":""},null,{"$f":"IF(BK16=\"0 to 1640 ft/ 0 to 500 m\",\"100\",IF(BK16=\"1640 ft to 0.6 miles/ 500 m to 1 km\",\"75\",IF(BK16=\"0.6 to 3 miles/ 1 to 5 km\",\"25\",IF(BK16=\"Greater than 3 miles/ Greater than 5 km\",\"1\",\"\"))))","v":""},null,{"$f":"IF(BM16=\"0 to 1640 ft/ 0 to 500 m\",\"100\",IF(BM16=\"1640 ft to 0.6 miles/ 500 m to 1 km\",\"75\",IF(BM16=\"0.6 to 3 miles/ 1 to 5 km\",\"25\",IF(BM16=\"Greater than 3 miles/ Greater than 5 km\",\"1\",\"\"))))","v":""},null,{"$f":"IF(BO16=\"0 to 1640 ft/ 0 to 500 m\",\"100\",IF(BO16=\"1640 ft to 0.6 miles/ 500 m to 1 km\",\"75\",IF(BO16=\"0.6 to 3 miles/ 1 to 5 km\",\"25\",IF(BO16=\"Greater than 3 miles/ Greater than 5 km\",\"1\",\"\"))))","v":""},null,{"$f":"IF(BQ16=\"0 to 1640 ft/ 0 to 500 m\",\"100\",IF(BQ16=\"1640 ft to 0.6 miles/ 500 m to 1 km\",\"75\",IF(BQ16=\"0.6 to 3 miles/ 1 to 5 km\",\"25\",IF(BQ16=\"Greater than 3 miles/ Greater than 5 km\",\"1\",\"\"))))","v":""},null,{"$f":"IF(BS16=\"0 to 1640 ft/ 0 to 500 m\",\"100\",IF(BS16=\"1640 ft to 0.6 miles/ 500 m to 1 km\",\"75\",IF(BS16=\"0.6 to 3 miles/ 1 to 5 km\",\"25\",IF(BS16=\"Greater than 3 miles/ Greater than 5 km\",\"1\",\"\"))))","v":""},null,{"$f":"IF(BU16=\"0 to 1640 ft/ 0 to 500 m\",\"100\",IF(BU16=\"1640 ft to 0.6 miles/ 500 m to 1 km\",\"75\",IF(BU16=\"0.6 to 3 miles/ 1 to 5 km\",\"25\",IF(BU16=\"Greater than 3 miles/ Greater than 5 km\",\"1\",\"\"))))","v":""},null,{"$f":"IF(BW16=\"0 to 1640 ft/ 0 to 500 m\",\"100\",IF(BW16=\"1640 ft to 0.6 miles/ 500 m to 1 km\",\"75\",IF(BW16=\"0.6 to 3 miles/ 1 to 5 km\",\"25\",IF(BW16=\"Greater than 3 miles/ Greater than 5 km\",\"1\",\"\"))))","v":""},null,{"$f":"IF(BY16=\"0 to 1640 ft/ 0 to 500 m\",\"100\",IF(BY16=\"1640 ft to 0.6 miles/ 500 m to 1 km\",\"75\",IF(BY16=\"0.6 to 3 miles/ 1 to 5 km\",\"25\",IF(BY16=\"Greater than 3 miles/ Greater than 5 km\",\"1\",\"\"))))","v":""},null,{"$f":"IF(CA16=\"0 to 1640 ft/ 0 to 500 m\",\"100\",IF(CA16=\"1640 ft to 0.6 miles/ 500 m to 1 km\",\"75\",IF(CA16=\"0.6 to 3 miles/ 1 to 5 km\",\"25\",IF(CA16=\"Greater than 3 miles/ Greater than 5 km\",\"1\",\"\"))))","v":""},null,{"$f":"IF(CC16=\"0 to 1640 ft/ 0 to 500 m\",\"100\",IF(CC16=\"1640 ft to 0.6 miles/ 500 m to 1 km\",\"75\",IF(CC16=\"0.6 to 3 miles/ 1 to 5 km\",\"25\",IF(CC16=\"Greater than 3 miles/ Greater than 5 km\",\"1\",\"\"))))","v":""},null,{"$f":"IF(CE16=\"0 to 1640 ft/ 0 to 500 m\",\"100\",IF(CE16=\"1640 ft to 0.6 miles/ 500 m to 1 km\",\"75\",IF(CE16=\"0.6 to 3 miles/ 1 to 5 km\",\"25\",IF(CE16=\"Greater than 3 miles/ Greater than 5 km\",\"1\",\"\"))))","v":""},null,{"$f":"IF(CG16=\"0 to 1640 ft/ 0 to 500 m\",\"100\",IF(CG16=\"1640 ft to 0.6 miles/ 500 m to 1 km\",\"75\",IF(CG16=\"0.6 to 3 miles/ 1 to 5 km\",\"25\",IF(CG16=\"Greater than 3 miles/ Greater than 5 km\",\"1\",\"\"))))","v":""},null,{"$f":"IF(CI16=\"0 to 1640 ft/ 0 to 500 m\",\"100\",IF(CI16=\"1640 ft to 0.6 miles/ 500 m to 1 km\",\"75\",IF(CI16=\"0.6 to 3 miles/ 1 to 5 km\",\"25\",IF(CI16=\"Greater than 3 miles/ Greater than 5 km\",\"1\",\"\"))))","v":""},null,{"$f":"IF(CK16=\"0 to 1640 ft/ 0 to 500 m\",\"100\",IF(CK16=\"1640 ft to 0.6 miles/ 500 m to 1 km\",\"75\",IF(CK16=\"0.6 to 3 miles/ 1 to 5 km\",\"25\",IF(CK16=\"Greater than 3 miles/ Greater than 5 km\",\"1\",\"\"))))","v":""},null,{"$f":"IF(CM16=\"0 to 1640 ft/ 0 to 500 m\",\"100\",IF(CM16=\"1640 ft to 0.6 miles/ 500 m to 1 km\",\"75\",IF(CM16=\"0.6 to 3 miles/ 1 to 5 km\",\"25\",IF(CM16=\"Greater than 3 miles/ Greater than 5 km\",\"1\",\"\"))))","v":""},null,{"$f":"IF(CO16=\"0 to 1640 ft/ 0 to 500 m\",\"100\",IF(CO16=\"1640 ft to 0.6 miles/ 500 m to 1 km\",\"75\",IF(CO16=\"0.6 to 3 miles/ 1 to 5 km\",\"25\",IF(CO16=\"Greater than 3 miles/ Greater than 5 km\",\"1\",\"\"))))","v":""},null,{"$f":"IF(CQ16=\"0 to 1640 ft/ 0 to 500 m\",\"100\",IF(CQ16=\"1640 ft to 0.6 miles/ 500 m to 1 km\",\"75\",IF(CQ16=\"0.6 to 3 miles/ 1 to 5 km\",\"25\",IF(CQ16=\"Greater than 3 miles/ Greater than 5 km\",\"1\",\"\"))))","v":""},null,{"$f":"IF(CS16=\"0 to 1640 ft/ 0 to 500 m\",\"100\",IF(CS16=\"1640 ft to 0.6 miles/ 500 m to 1 km\",\"75\",IF(CS16=\"0.6 to 3 miles/ 1 to 5 km\",\"25\",IF(CS16=\"Greater than 3 miles/ Greater than 5 km\",\"1\",\"\"))))","v":""},null,{"$f":"IF(CU16=\"0 to 1640 ft/ 0 to 500 m\",\"100\",IF(CU16=\"1640 ft to 0.6 miles/ 500 m to 1 km\",\"75\",IF(CU16=\"0.6 to 3 miles/ 1 to 5 km\",\"25\",IF(CU16=\"Greater than 3 miles/ Greater than 5 km\",\"1\",\"\"))))","v":""},null,{"$f":"IF(CW16=\"0 to 1640 ft/ 0 to 500 m\",\"100\",IF(CW16=\"1640 ft to 0.6 miles/ 500 m to 1 km\",\"75\",IF(CW16=\"0.6 to 3 miles/ 1 to 5 km\",\"25\",IF(CW16=\"Greater than 3 miles/ Greater than 5 km\",\"1\",\"\"))))","v":""},null,{"$f":"IF(CY16=\"0 to 1640 ft/ 0 to 500 m\",\"100\",IF(CY16=\"1640 ft to 0.6 miles/ 500 m to 1 km\",\"75\",IF(CY16=\"0.6 to 3 miles/ 1 to 5 km\",\"25\",IF(CY16=\"Greater than 3 miles/ Greater than 5 km\",\"1\",\"\"))))","v":""},null,{"$f":"IF(DA16=\"0 to 1640 ft/ 0 to 500 m\",\"100\",IF(DA16=\"1640 ft to 0.6 miles/ 500 m to 1 km\",\"75\",IF(DA16=\"0.6 to 3 miles/ 1 to 5 km\",\"25\",IF(DA16=\"Greater than 3 miles/ Greater than 5 km\",\"1\",\"\"))))","v":""},null,{"$f":"IF(DC16=\"0 to 1640 ft/ 0 to 500 m\",\"100\",IF(DC16=\"1640 ft to 0.6 miles/ 500 m to 1 km\",\"75\",IF(DC16=\"0.6 to 3 miles/ 1 to 5 km\",\"25\",IF(DC16=\"Greater than 3 miles/ Greater than 5 km\",\"1\",\"\"))))","v":""},null,{"$f":"IF(DE16=\"0 to 1640 ft/ 0 to 500 m\",\"100\",IF(DE16=\"1640 ft to 0.6 miles/ 500 m to 1 km\",\"75\",IF(DE16=\"0.6 to 3 miles/ 1 to 5 km\",\"25\",IF(DE16=\"Greater than 3 miles/ Greater than 5 km\",\"1\",\"\"))))","v":""},null,{"$f":"IF(DG16=\"0 to 1640 ft/ 0 to 500 m\",\"100\",IF(DG16=\"1640 ft to 0.6 miles/ 500 m to 1 km\",\"75\",IF(DG16=\"0.6 to 3 miles/ 1 to 5 km\",\"25\",IF(DG16=\"Greater than 3 miles/ Greater than 5 km\",\"1\",\"\"))))","v":""},null,{"$f":"IF(DI16=\"0 to 1640 ft/ 0 to 500 m\",\"100\",IF(DI16=\"1640 ft to 0.6 miles/ 500 m to 1 km\",\"75\",IF(DI16=\"0.6 to 3 miles/ 1 to 5 km\",\"25\",IF(DI16=\"Greater than 3 miles/ Greater than 5 km\",\"1\",\"\"))))","v":""},null,{"$f":"IF(DK16=\"0 to 1640 ft/ 0 to 500 m\",\"100\",IF(DK16=\"1640 ft to 0.6 miles/ 500 m to 1 km\",\"75\",IF(DK16=\"0.6 to 3 miles/ 1 to 5 km\",\"25\",IF(DK16=\"Greater than 3 miles/ Greater than 5 km\",\"1\",\"\"))))","v":""},null,{"$f":"IF(DM16=\"0 to 1640 ft/ 0 to 500 m\",\"100\",IF(DM16=\"1640 ft to 0.6 miles/ 500 m to 1 km\",\"75\",IF(DM16=\"0.6 to 3 miles/ 1 to 5 km\",\"25\",IF(DM16=\"Greater than 3 miles/ Greater than 5 km\",\"1\",\"\"))))","v":""},null,{"$f":"IF(DO16=\"0 to 1640 ft/ 0 to 500 m\",\"100\",IF(DO16=\"1640 ft to 0.6 miles/ 500 m to 1 km\",\"75\",IF(DO16=\"0.6 to 3 miles/ 1 to 5 km\",\"25\",IF(DO16=\"Greater than 3 miles/ Greater than 5 km\",\"1\",\"\"))))","v":""},null,{"$f":"IF(DQ16=\"0 to 1640 ft/ 0 to 500 m\",\"100\",IF(DQ16=\"1640 ft to 0.6 miles/ 500 m to 1 km\",\"75\",IF(DQ16=\"0.6 to 3 miles/ 1 to 5 km\",\"25\",IF(DQ16=\"Greater than 3 miles/ Greater than 5 km\",\"1\",\"\"))))","v":""},null,{"$f":"IF(DS16=\"0 to 1640 ft/ 0 to 500 m\",\"100\",IF(DS16=\"1640 ft to 0.6 miles/ 500 m to 1 km\",\"75\",IF(DS16=\"0.6 to 3 miles/ 1 to 5 km\",\"25\",IF(DS16=\"Greater than 3 miles/ Greater than 5 km\",\"1\",\"\"))))","v":""},null,{"$f":"IF(DU16=\"0 to 1640 ft/ 0 to 500 m\",\"100\",IF(DU16=\"1640 ft to 0.6 miles/ 500 m to 1 km\",\"75\",IF(DU16=\"0.6 to 3 miles/ 1 to 5 km\",\"25\",IF(DU16=\"Greater than 3 miles/ Greater than 5 km\",\"1\",\"\"))))","v":""},null,{"$f":"IF(DW16=\"0 to 1640 ft/ 0 to 500 m\",\"100\",IF(DW16=\"1640 ft to 0.6 miles/ 500 m to 1 km\",\"75\",IF(DW16=\"0.6 to 3 miles/ 1 to 5 km\",\"25\",IF(DW16=\"Greater than 3 miles/ Greater than 5 km\",\"1\",\"\"))))","v":""},null,{"$f":"IF(DY16=\"0 to 1640 ft/ 0 to 500 m\",\"100\",IF(DY16=\"1640 ft to 0.6 miles/ 500 m to 1 km\",\"75\",IF(DY16=\"0.6 to 3 miles/ 1 to 5 km\",\"25\",IF(DY16=\"Greater than 3 miles/ Greater than 5 km\",\"1\",\"\"))))","v":""},null,{"$f":"IF(EA16=\"0 to 1640 ft/ 0 to 500 m\",\"100\",IF(EA16=\"1640 ft to 0.6 miles/ 500 m to 1 km\",\"75\",IF(EA16=\"0.6 to 3 miles/ 1 to 5 km\",\"25\",IF(EA16=\"Greater than 3 miles/ Greater than 5 km\",\"1\",\"\"))))","v":""},null,{"$f":"IF(EC16=\"0 to 1640 ft/ 0 to 500 m\",\"100\",IF(EC16=\"1640 ft to 0.6 miles/ 500 m to 1 km\",\"75\",IF(EC16=\"0.6 to 3 miles/ 1 to 5 km\",\"25\",IF(EC16=\"Greater than 3 miles/ Greater than 5 km\",\"1\",\"\"))))","v":""},null,{"$f":"IF(EE16=\"0 to 1640 ft/ 0 to 500 m\",\"100\",IF(EE16=\"1640 ft to 0.6 miles/ 500 m to 1 km\",\"75\",IF(EE16=\"0.6 to 3 miles/ 1 to 5 km\",\"25\",IF(EE16=\"Greater than 3 miles/ Greater than 5 km\",\"1\",\"\"))))","v":""},null,{"$f":"IF(EG16=\"0 to 1640 ft/ 0 to 500 m\",\"100\",IF(EG16=\"1640 ft to 0.6 miles/ 500 m to 1 km\",\"75\",IF(EG16=\"0.6 to 3 miles/ 1 to 5 km\",\"25\",IF(EG16=\"Greater than 3 miles/ Greater than 5 km\",\"1\",\"\"))))","v":""},null,{"$f":"IF(EI16=\"0 to 1640 ft/ 0 to 500 m\",\"100\",IF(EI16=\"1640 ft to 0.6 miles/ 500 m to 1 km\",\"75\",IF(EI16=\"0.6 to 3 miles/ 1 to 5 km\",\"25\",IF(EI16=\"Greater than 3 miles/ Greater than 5 km\",\"1\",\"\"))))","v":""},null,{"$f":"IF(EK16=\"0 to 1640 ft/ 0 to 500 m\",\"100\",IF(EK16=\"1640 ft to 0.6 miles/ 500 m to 1 km\",\"75\",IF(EK16=\"0.6 to 3 miles/ 1 to 5 km\",\"25\",IF(EK16=\"Greater than 3 miles/ Greater than 5 km\",\"1\",\"\"))))","v":""},null,{"$f":"IF(EM16=\"0 to 1640 ft/ 0 to 500 m\",\"100\",IF(EM16=\"1640 ft to 0.6 miles/ 500 m to 1 km\",\"75\",IF(EM16=\"0.6 to 3 miles/ 1 to 5 km\",\"25\",IF(EM16=\"Greater than 3 miles/ Greater than 5 km\",\"1\",\"\"))))","v":""},null,{"$f":"IF(EO16=\"0 to 1640 ft/ 0 to 500 m\",\"100\",IF(EO16=\"1640 ft to 0.6 miles/ 500 m to 1 km\",\"75\",IF(EO16=\"0.6 to 3 miles/ 1 to 5 km\",\"25\",IF(EO16=\"Greater than 3 miles/ Greater than 5 km\",\"1\",\"\"))))","v":""},null,{"$f":"IF(EQ16=\"0 to 1640 ft/ 0 to 500 m\",\"100\",IF(EQ16=\"1640 ft to 0.6 miles/ 500 m to 1 km\",\"75\",IF(EQ16=\"0.6 to 3 miles/ 1 to 5 km\",\"25\",IF(EQ16=\"Greater than 3 miles/ Greater than 5 km\",\"1\",\"\"))))","v":""},null,{"$f":"IF(ES16=\"0 to 1640 ft/ 0 to 500 m\",\"100\",IF(ES16=\"1640 ft to 0.6 miles/ 500 m to 1 km\",\"75\",IF(ES16=\"0.6 to 3 miles/ 1 to 5 km\",\"25\",IF(ES16=\"Greater than 3 miles/ Greater than 5 km\",\"1\",\"\"))))","v":""},null,{"$f":"IF(EU16=\"0 to 1640 ft/ 0 to 500 m\",\"100\",IF(EU16=\"1640 ft to 0.6 miles/ 500 m to 1 km\",\"75\",IF(EU16=\"0.6 to 3 miles/ 1 to 5 km\",\"25\",IF(EU16=\"Greater than 3 miles/ Greater than 5 km\",\"1\",\"\"))))","v":""},null,{"$f":"IF(EW16=\"0 to 1640 ft/ 0 to 500 m\",\"100\",IF(EW16=\"1640 ft to 0.6 miles/ 500 m to 1 km\",\"75\",IF(EW16=\"0.6 to 3 miles/ 1 to 5 km\",\"25\",IF(EW16=\"Greater than 3 miles/ Greater than 5 km\",\"1\",\"\"))))","v":""},null,{"$f":"IF(EY16=\"0 to 1640 ft/ 0 to 500 m\",\"100\",IF(EY16=\"1640 ft to 0.6 miles/ 500 m to 1 km\",\"75\",IF(EY16=\"0.6 to 3 miles/ 1 to 5 km\",\"25\",IF(EY16=\"Greater than 3 miles/ Greater than 5 km\",\"1\",\"\"))))","v":""},null,{"$f":"IF(FA16=\"0 to 1640 ft/ 0 to 500 m\",\"100\",IF(FA16=\"1640 ft to 0.6 miles/ 500 m to 1 km\",\"75\",IF(FA16=\"0.6 to 3 miles/ 1 to 5 km\",\"25\",IF(FA16=\"Greater than 3 miles/ Greater than 5 km\",\"1\",\"\"))))","v":""},null,{"$f":"IF(FC16=\"0 to 1640 ft/ 0 to 500 m\",\"100\",IF(FC16=\"1640 ft to 0.6 miles/ 500 m to 1 km\",\"75\",IF(FC16=\"0.6 to 3 miles/ 1 to 5 km\",\"25\",IF(FC16=\"Greater than 3 miles/ Greater than 5 km\",\"1\",\"\"))))","v":""},null,{"$f":"IF(FE16=\"0 to 1640 ft/ 0 to 500 m\",\"100\",IF(FE16=\"1640 ft to 0.6 miles/ 500 m to 1 km\",\"75\",IF(FE16=\"0.6 to 3 miles/ 1 to 5 km\",\"25\",IF(FE16=\"Greater than 3 miles/ Greater than 5 km\",\"1\",\"\"))))","v":""},null,{"$f":"IF(FG16=\"0 to 1640 ft/ 0 to 500 m\",\"100\",IF(FG16=\"1640 ft to 0.6 miles/ 500 m to 1 km\",\"75\",IF(FG16=\"0.6 to 3 miles/ 1 to 5 km\",\"25\",IF(FG16=\"Greater than 3 miles/ Greater than 5 km\",\"1\",\"\"))))","v":""},null,{"$f":"IF(FI16=\"0 to 1640 ft/ 0 to 500 m\",\"100\",IF(FI16=\"1640 ft to 0.6 miles/ 500 m to 1 km\",\"75\",IF(FI16=\"0.6 to 3 miles/ 1 to 5 km\",\"25\",IF(FI16=\"Greater than 3 miles/ Greater than 5 km\",\"1\",\"\"))))","v":""},null,{"$f":"IF(FK16=\"0 to 1640 ft/ 0 to 500 m\",\"100\",IF(FK16=\"1640 ft to 0.6 miles/ 500 m to 1 km\",\"75\",IF(FK16=\"0.6 to 3 miles/ 1 to 5 km\",\"25\",IF(FK16=\"Greater than 3 miles/ Greater than 5 km\",\"1\",\"\"))))","v":""},null,{"$f":"IF(FM16=\"0 to 1640 ft/ 0 to 500 m\",\"100\",IF(FM16=\"1640 ft to 0.6 miles/ 500 m to 1 km\",\"75\",IF(FM16=\"0.6 to 3 miles/ 1 to 5 km\",\"25\",IF(FM16=\"Greater than 3 miles/ Greater than 5 km\",\"1\",\"\"))))","v":""},null,{"$f":"IF(FO16=\"0 to 1640 ft/ 0 to 500 m\",\"100\",IF(FO16=\"1640 ft to 0.6 miles/ 500 m to 1 km\",\"75\",IF(FO16=\"0.6 to 3 miles/ 1 to 5 km\",\"25\",IF(FO16=\"Greater than 3 miles/ Greater than 5 km\",\"1\",\"\"))))","v":""},null,{"$f":"IF(FQ16=\"0 to 1640 ft/ 0 to 500 m\",\"100\",IF(FQ16=\"1640 ft to 0.6 miles/ 500 m to 1 km\",\"75\",IF(FQ16=\"0.6 to 3 miles/ 1 to 5 km\",\"25\",IF(FQ16=\"Greater than 3 miles/ Greater than 5 km\",\"1\",\"\"))))","v":""},null,{"$f":"IF(FS16=\"0 to 1640 ft/ 0 to 500 m\",\"100\",IF(FS16=\"1640 ft to 0.6 miles/ 500 m to 1 km\",\"75\",IF(FS16=\"0.6 to 3 miles/ 1 to 5 km\",\"25\",IF(FS16=\"Greater than 3 miles/ Greater than 5 km\",\"1\",\"\"))))","v":""},null,{"$f":"IF(FU16=\"0 to 1640 ft/ 0 to 500 m\",\"100\",IF(FU16=\"1640 ft to 0.6 miles/ 500 m to 1 km\",\"75\",IF(FU16=\"0.6 to 3 miles/ 1 to 5 km\",\"25\",IF(FU16=\"Greater than 3 miles/ Greater than 5 km\",\"1\",\"\"))))","v":""},null,{"$f":"IF(FW16=\"0 to 1640 ft/ 0 to 500 m\",\"100\",IF(FW16=\"1640 ft to 0.6 miles/ 500 m to 1 km\",\"75\",IF(FW16=\"0.6 to 3 miles/ 1 to 5 km\",\"25\",IF(FW16=\"Greater than 3 miles/ Greater than 5 km\",\"1\",\"\"))))","v":""},null,{"$f":"IF(FY16=\"0 to 1640 ft/ 0 to 500 m\",\"100\",IF(FY16=\"1640 ft to 0.6 miles/ 500 m to 1 km\",\"75\",IF(FY16=\"0.6 to 3 miles/ 1 to 5 km\",\"25\",IF(FY16=\"Greater than 3 miles/ Greater than 5 km\",\"1\",\"\"))))","v":""},null,{"$f":"IF(GA16=\"0 to 1640 ft/ 0 to 500 m\",\"100\",IF(GA16=\"1640 ft to 0.6 miles/ 500 m to 1 km\",\"75\",IF(GA16=\"0.6 to 3 miles/ 1 to 5 km\",\"25\",IF(GA16=\"Greater than 3 miles/ Greater than 5 km\",\"1\",\"\"))))","v":""},null,{"$f":"IF(GC16=\"0 to 1640 ft/ 0 to 500 m\",\"100\",IF(GC16=\"1640 ft to 0.6 miles/ 500 m to 1 km\",\"75\",IF(GC16=\"0.6 to 3 miles/ 1 to 5 km\",\"25\",IF(GC16=\"Greater than 3 miles/ Greater than 5 km\",\"1\",\"\"))))","v":""},null,{"$f":"IF(GE16=\"0 to 1640 ft/ 0 to 500 m\",\"100\",IF(GE16=\"1640 ft to 0.6 miles/ 500 m to 1 km\",\"75\",IF(GE16=\"0.6 to 3 miles/ 1 to 5 km\",\"25\",IF(GE16=\"Greater than 3 miles/ Greater than 5 km\",\"1\",\"\"))))","v":""},null,{"$f":"IF(GG16=\"0 to 1640 ft/ 0 to 500 m\",\"100\",IF(GG16=\"1640 ft to 0.6 miles/ 500 m to 1 km\",\"75\",IF(GG16=\"0.6 to 3 miles/ 1 to 5 km\",\"25\",IF(GG16=\"Greater than 3 miles/ Greater than 5 km\",\"1\",\"\"))))","v":""},null,{"$f":"IF(GI16=\"0 to 1640 ft/ 0 to 500 m\",\"100\",IF(GI16=\"1640 ft to 0.6 miles/ 500 m to 1 km\",\"75\",IF(GI16=\"0.6 to 3 miles/ 1 to 5 km\",\"25\",IF(GI16=\"Greater than 3 miles/ Greater than 5 km\",\"1\",\"\"))))","v":""},null,{"$f":"IF(GK16=\"0 to 1640 ft/ 0 to 500 m\",\"100\",IF(GK16=\"1640 ft to 0.6 miles/ 500 m to 1 km\",\"75\",IF(GK16=\"0.6 to 3 miles/ 1 to 5 km\",\"25\",IF(GK16=\"Greater than 3 miles/ Greater than 5 km\",\"1\",\"\"))))","v":""},null,{"$f":"IF(GM16=\"0 to 1640 ft/ 0 to 500 m\",\"100\",IF(GM16=\"1640 ft to 0.6 miles/ 500 m to 1 km\",\"75\",IF(GM16=\"0.6 to 3 miles/ 1 to 5 km\",\"25\",IF(GM16=\"Greater than 3 miles/ Greater than 5 km\",\"1\",\"\"))))","v":""},null,{"$f":"IF(GO16=\"0 to 1640 ft/ 0 to 500 m\",\"100\",IF(GO16=\"1640 ft to 0.6 miles/ 500 m to 1 km\",\"75\",IF(GO16=\"0.6 to 3 miles/ 1 to 5 km\",\"25\",IF(GO16=\"Greater than 3 miles/ Greater than 5 km\",\"1\",\"\"))))","v":""},null,{"$f":"IF(GQ16=\"0 to 1640 ft/ 0 to 500 m\",\"100\",IF(GQ16=\"1640 ft to 0.6 miles/ 500 m to 1 km\",\"75\",IF(GQ16=\"0.6 to 3 miles/ 1 to 5 km\",\"25\",IF(GQ16=\"Greater than 3 miles/ Greater than 5 km\",\"1\",\"\"))))","v":""},null,{"$f":"IF(GS16=\"0 to 1640 ft/ 0 to 500 m\",\"100\",IF(GS16=\"1640 ft to 0.6 miles/ 500 m to 1 km\",\"75\",IF(GS16=\"0.6 to 3 miles/ 1 to 5 km\",\"25\",IF(GS16=\"Greater than 3 miles/ Greater than 5 km\",\"1\",\"\"))))","v":""},null,{"$f":"IF(GU16=\"0 to 1640 ft/ 0 to 500 m\",\"100\",IF(GU16=\"1640 ft to 0.6 miles/ 500 m to 1 km\",\"75\",IF(GU16=\"0.6 to 3 miles/ 1 to 5 km\",\"25\",IF(GU16=\"Greater than 3 miles/ Greater than 5 km\",\"1\",\"\"))))","v":""}]
[]
[]
[]
[]
["SCORE",null,{"$f":"IFERROR((D9*D10*D12)+D11+D13+D14+D15+D16, \"\")","v":""},null,{"$f":"IFERROR((F9*F10*F12)+F11+F13+F14+F15+F16, \"\")","v":""},null,{"$f":"IFERROR((H9*H10*H12)+H11+H13+H14+H15+H16, \"\")","v":""},null,{"$f":"IFERROR((J9*J10*J12)+J11+J13+J14+J15+J16, \"\")","v":""},null,{"$f":"IFERROR((L9*L10*L12)+L11+L13+L14+L15+L16, \"\")","v":""},null,{"$f":"IFERROR((N9*N10*N12)+N11+N13+N14+N15+N16, \"\")","v":""},null,{"$f":"IFERROR((P9*P10*P12)+P11+P13+P14+P15+P16, \"\")","v":""},null,{"$f":"IFERROR((R9*R10*R12)+R11+R13+R14+R15+R16, \"\")","v":""},null,{"$f":"IFERROR((T9*T10*T12)+T11+T13+T14+T15+T16, \"\")","v":""},null,{"$f":"IFERROR((V9*V10*V12)+V11+V13+V14+V15+V16, \"\")","v":""},null,{"$f":"IFERROR((X9*X10*X12)+X11+X13+X14+X15+X16, \"\")","v":""},null,{"$f":"IFERROR((Z9*Z10*Z12)+Z11+Z13+Z14+Z15+Z16, \"\")","v":""},null,{"$f":"IFERROR((AB9*AB10*AB12)+AB11+AB13+AB14+AB15+AB16, \"\")","v":""},null,{"$f":"IFERROR((AD9*AD10*AD12)+AD11+AD13+AD14+AD15+AD16, \"\")","v":""},null,{"$f":"IFERROR((AF9*AF10*AF12)+AF11+AF13+AF14+AF15+AF16, \"\")","v":""},null,{"$f":"IFERROR((AH9*AH10*AH12)+AH11+AH13+AH14+AH15+AH16, \"\")","v":""},null,{"$f":"IFERROR((AJ9*AJ10*AJ12)+AJ11+AJ13+AJ14+AJ15+AJ16, \"\")","v":""},null,{"$f":"IFERROR((AL9*AL10*AL12)+AL11+AL13+AL14+AL15+AL16, \"\")","v":""},null,{"$f":"IFERROR((AN9*AN10*AN12)+AN11+AN13+AN14+AN15+AN16, \"\")","v":""},null,{"$f":"IFERROR((AP9*AP10*AP12)+AP11+AP13+AP14+AP15+AP16, \"\")","v":""},null,{"$f":"IFERROR((AR9*AR10*AR12)+AR11+AR13+AR14+AR15+AR16, \"\")","v":""},null,{"$f":"IFERROR((AT9*AT10*AT12)+AT11+AT13+AT14+AT15+AT16, \"\")","v":""},null,{"$f":"IFERROR((AV9*AV10*AV12)+AV11+AV13+AV14+AV15+AV16, \"\")","v":""},null,{"$f":"IFERROR((AX9*AX10*AX12)+AX11+AX13+AX14+AX15+AX16, \"\")","v":""},null,{"$f":"IFERROR((AZ9*AZ10*AZ12)+AZ11+AZ13+AZ14+AZ15+AZ16, \"\")","v":""},null,{"$f":"IFERROR((BB9*BB10*BB12)+BB11+BB13+BB14+BB15+BB16, \"\")","v":""},null,{"$f":"IFERROR((BD9*BD10*BD12)+BD11+BD13+BD14+BD15+BD16, \"\")","v":""},null,{"$f":"IFERROR((BF9*BF10*BF12)+BF11+BF13+BF14+BF15+BF16, \"\")","v":""},null,{"$f":"IFERROR((BH9*BH10*BH12)+BH11+BH13+BH14+BH15+BH16, \"\")","v":""},null,{"$f":"IFERROR((BJ9*BJ10*BJ12)+BJ11+BJ13+BJ14+BJ15+BJ16, \"\")","v":""},null,{"$f":"IFERROR((BL9*BL10*BL12)+BL11+BL13+BL14+BL15+BL16, \"\")","v":""},null,{"$f":"IFERROR((BN9*BN10*BN12)+BN11+BN13+BN14+BN15+BN16, \"\")","v":""},null,{"$f":"IFERROR((BP9*BP10*BP12)+BP11+BP13+BP14+BP15+BP16, \"\")","v":""},null,{"$f":"IFERROR((BR9*BR10*BR12)+BR11+BR13+BR14+BR15+BR16, \"\")","v":""},null,{"$f":"IFERROR((BT9*BT10*BT12)+BT11+BT13+BT14+BT15+BT16, \"\")","v":""},null,{"$f":"IFERROR((BV9*BV10*BV12)+BV11+BV13+BV14+BV15+BV16, \"\")","v":""},null,{"$f":"IFERROR((BX9*BX10*BX12)+BX11+BX13+BX14+BX15+BX16, \"\")","v":""},null,{"$f":"IFERROR((BZ9*BZ10*BZ12)+BZ11+BZ13+BZ14+BZ15+BZ16, \"\")","v":""},null,{"$f":"IFERROR((CB9*CB10*CB12)+CB11+CB13+CB14+CB15+CB16, \"\")","v":""},null,{"$f":"IFERROR((CD9*CD10*CD12)+CD11+CD13+CD14+CD15+CD16, \"\")","v":""},null,{"$f":"IFERROR((CF9*CF10*CF12)+CF11+CF13+CF14+CF15+CF16, \"\")","v":""},null,{"$f":"IFERROR((CH9*CH10*CH12)+CH11+CH13+CH14+CH15+CH16, \"\")","v":""},null,{"$f":"IFERROR((CJ9*CJ10*CJ12)+CJ11+CJ13+CJ14+CJ15+CJ16, \"\")","v":""},null,{"$f":"IFERROR((CL9*CL10*CL12)+CL11+CL13+CL14+CL15+CL16, \"\")","v":""},null,{"$f":"IFERROR((CN9*CN10*CN12)+CN11+CN13+CN14+CN15+CN16, \"\")","v":""},null,{"$f":"IFERROR((CP9*CP10*CP12)+CP11+CP13+CP14+CP15+CP16, \"\")","v":""},null,{"$f":"IFERROR((CR9*CR10*CR12)+CR11+CR13+CR14+CR15+CR16, \"\")","v":""},null,{"$f":"IFERROR((CT9*CT10*CT12)+CT11+CT13+CT14+CT15+CT16, \"\")","v":""},null,{"$f":"IFERROR((CV9*CV10*CV12)+CV11+CV13+CV14+CV15+CV16, \"\")","v":""},null,{"$f":"IFERROR((CX9*CX10*CX12)+CX11+CX13+CX14+CX15+CX16, \"\")","v":""},null,{"$f":"IFERROR((CZ9*CZ10*CZ12)+CZ11+CZ13+CZ14+CZ15+CZ16, \"\")","v":""},null,{"$f":"IFERROR((DB9*DB10*DB12)+DB11+DB13+DB14+DB15+DB16, \"\")","v":""},null,{"$f":"IFERROR((DD9*DD10*DD12)+DD11+DD13+DD14+DD15+DD16, \"\")","v":""},null,{"$f":"IFERROR((DF9*DF10*DF12)+DF11+DF13+DF14+DF15+DF16, \"\")","v":""},null,{"$f":"IFERROR((DH9*DH10*DH12)+DH11+DH13+DH14+DH15+DH16, \"\")","v":""},null,{"$f":"IFERROR((DJ9*DJ10*DJ12)+DJ11+DJ13+DJ14+DJ15+DJ16, \"\")","v":""},null,{"$f":"IFERROR((DL9*DL10*DL12)+DL11+DL13+DL14+DL15+DL16, \"\")","v":""},null,{"$f":"IFERROR((DN9*DN10*DN12)+DN11+DN13+DN14+DN15+DN16, \"\")","v":""},null,{"$f":"IFERROR((DP9*DP10*DP12)+DP11+DP13+DP14+DP15+DP16, \"\")","v":""},null,{"$f":"IFERROR((DR9*DR10*DR12)+DR11+DR13+DR14+DR15+DR16, \"\")","v":""},null,{"$f":"IFERROR((DT9*DT10*DT12)+DT11+DT13+DT14+DT15+DT16, \"\")","v":""},null,{"$f":"IFERROR((DV9*DV10*DV12)+DV11+DV13+DV14+DV15+DV16, \"\")","v":""},null,{"$f":"IFERROR((DX9*DX10*DX12)+DX11+DX13+DX14+DX15+DX16, \"\")","v":""},null,{"$f":"IFERROR((DZ9*DZ10*DZ12)+DZ11+DZ13+DZ14+DZ15+DZ16, \"\")","v":""},null,{"$f":"IFERROR((EB9*EB10*EB12)+EB11+EB13+EB14+EB15+EB16, \"\")","v":""},null,{"$f":"IFERROR((ED9*ED10*ED12)+ED11+ED13+ED14+ED15+ED16, \"\")","v":""},null,{"$f":"IFERROR((EF9*EF10*EF12)+EF11+EF13+EF14+EF15+EF16, \"\")","v":""},null,{"$f":"IFERROR((EH9*EH10*EH12)+EH11+EH13+EH14+EH15+EH16, \"\")","v":""},null,{"$f":"IFERROR((EJ9*EJ10*EJ12)+EJ11+EJ13+EJ14+EJ15+EJ16, \"\")","v":""},null,{"$f":"IFERROR((EL9*EL10*EL12)+EL11+EL13+EL14+EL15+EL16, \"\")","v":""},null,{"$f":"IFERROR((EN9*EN10*EN12)+EN11+EN13+EN14+EN15+EN16, \"\")","v":""},null,{"$f":"IFERROR((EP9*EP10*EP12)+EP11+EP13+EP14+EP15+EP16, \"\")","v":""},null,{"$f":"IFERROR((ER9*ER10*ER12)+ER11+ER13+ER14+ER15+ER16, \"\")","v":""},null,{"$f":"IFERROR((ET9*ET10*ET12)+ET11+ET13+ET14+ET15+ET16, \"\")","v":""},null,{"$f":"IFERROR((EV9*EV10*EV12)+EV11+EV13+EV14+EV15+EV16, \"\")","v":""},null,{"$f":"IFERROR((EX9*EX10*EX12)+EX11+EX13+EX14+EX15+EX16, \"\")","v":""},null,{"$f":"IFERROR((EZ9*EZ10*EZ12)+EZ11+EZ13+EZ14+EZ15+EZ16, \"\")","v":""},null,{"$f":"IFERROR((FB9*FB10*FB12)+FB11+FB13+FB14+FB15+FB16, \"\")","v":""},null,{"$f":"IFERROR((FD9*FD10*FD12)+FD11+FD13+FD14+FD15+FD16, \"\")","v":""},null,{"$f":"IFERROR((FF9*FF10*FF12)+FF11+FF13+FF14+FF15+FF16, \"\")","v":""},null,{"$f":"IFERROR((FH9*FH10*FH12)+FH11+FH13+FH14+FH15+FH16, \"\")","v":""},null,{"$f":"IFERROR((FJ9*FJ10*FJ12)+FJ11+FJ13+FJ14+FJ15+FJ16, \"\")","v":""},null,{"$f":"IFERROR((FL9*FL10*FL12)+FL11+FL13+FL14+FL15+FL16, \"\")","v":""},null,{"$f":"IFERROR((FN9*FN10*FN12)+FN11+FN13+FN14+FN15+FN16, \"\")","v":""},null,{"$f":"IFERROR((FP9*FP10*FP12)+FP11+FP13+FP14+FP15+FP16, \"\")","v":""},null,{"$f":"IFERROR((FR9*FR10*FR12)+FR11+FR13+FR14+FR15+FR16, \"\")","v":""},null,{"$f":"IFERROR((FT9*FT10*FT12)+FT11+FT13+FT14+FT15+FT16, \"\")","v":""},null,{"$f":"IFERROR((FV9*FV10*FV12)+FV11+FV13+FV14+FV15+FV16, \"\")","v":""},null,{"$f":"IFERROR((FX9*FX10*FX12)+FX11+FX13+FX14+FX15+FX16, \"\")","v":""},null,{"$f":"IFERROR((FZ9*FZ10*FZ12)+FZ11+FZ13+FZ14+FZ15+FZ16, \"\")","v":""},null,{"$f":"IFERROR((GB9*GB10*GB12)+GB11+GB13+GB14+GB15+GB16, \"\")","v":""},null,{"$f":"IFERROR((GD9*GD10*GD12)+GD11+GD13+GD14+GD15+GD16, \"\")","v":""},null,{"$f":"IFERROR((GF9*GF10*GF12)+GF11+GF13+GF14+GF15+GF16, \"\")","v":""},null,{"$f":"IFERROR((GH9*GH10*GH12)+GH11+GH13+GH14+GH15+GH16, \"\")","v":""},null,{"$f":"IFERROR((GJ9*GJ10*GJ12)+GJ11+GJ13+GJ14+GJ15+GJ16, \"\")","v":""},null,{"$f":"IFERROR((GL9*GL10*GL12)+GL11+GL13+GL14+GL15+GL16, \"\")","v":""},null,{"$f":"IFERROR((GN9*GN10*GN12)+GN11+GN13+GN14+GN15+GN16, \"\")","v":""},null,{"$f":"IFERROR((GP9*GP10*GP12)+GP11+GP13+GP14+GP15+GP16, \"\")","v":""},null,{"$f":"IFERROR((GR9*GR10*GR12)+GR11+GR13+GR14+GR15+GR16, \"\")","v":""},null,{"$f":"IFERROR((GT9*GT10*GT12)+GT11+GT13+GT14+GT15+GT16, \"\")","v":""},null,{"$f":"IFERROR((GV9*GV10*GV12)+GV11+GV13+GV14+GV15+GV16, \"\")","v":""}]
[]
[]
[{"$f":"HYPERLINK(\"[MAPA Screening Tool.xlsm]'Mod 2 Ranking Summary'!A1\", \"Click here once table is complete\")","v":"Click here once table is complete"}]

{"sheet":"Mod 2 Ranking Summary","index":7,"n_rows":188,"n_cols":4,"rows_kept":188,"cut":false,"hidden":false,"merged":[[187,1,187,3],[0,1,0,3]]}
[null,"Summary of Operational and Legacy APEC Rankings\nInstructions: Click the \"Press to Start\" button to auto-populate the table with the APEC names and scores. Click the \"Press to Sort\" button to organize the APECs in descending order (higher score with more potential risk at the top of the table)."]
[]
[]
[]
[null,"LIFE CYCLE STAGE","APEC","SCORE"]
[null,"STORAGE",{"$f":"'Mod 2 Ops APECs '!F4","v":0},{"$f":"'Mod 2 Ops APECs '!F13","v":""}]
[null,"USE",{"$f":"'Mod 2 Ops APECs '!X4","v":0},{"$f":"'Mod 2 Ops APECs '!X20","v":""}]
[null,"USE",{"$f":"'Mod 2 Ops APECs '!Z4","v":0},{"$f":"'Mod 2 Ops APECs '!Z20","v":""}]
[null,"USE",{"$f":"'Mod 2 Ops APECs '!AB4","v":0},{"$f":"'Mod 2 Ops APECs '!AB20","v":""}]
[null,"STORAGE",{"$f":"'Mod 2 Ops APECs '!H4","v":0},{"$f":"'Mod 2 Ops APECs '!H13","v":""}]
[null,"STORAGE",{"$f":"'Mod 2 Ops APECs '!J4","v":0},{"$f":"'Mod 2 Ops APECs '!J13","v":""}]
[null,"STORAGE",{"$f":"'Mod 2 Ops APECs '!L4","v":0},{"$f":"'Mod 2 Ops APECs '!L13","v":""}]
[null,"STORAGE",{"$f":"'Mod 2 Ops APECs '!N4","v":0},{"$f":"'Mod 2 Ops APECs '!N13","v":""}]
[null,"STORAGE",{"$f":"'Mod 2 Ops APECs '!P4","v":0},{"$f":"'Mod 2 Ops APECs '!P13","v":""}]
[null,"STORAGE",{"$f":"'Mod 2 Ops APECs '!R4","v":0},{"$f":"'Mod 2 Ops APECs '!R13","v":""}]
[null,"STORAGE",{"$f":"'Mod 2 Ops APECs '!T4","v":0},{"$f":"'Mod 2 Ops APECs '!T13","v":""}]
[null,"STORAGE",{"$f":"'Mod 2 Ops APECs '!V4","v":0},{"$f":"'Mod 2 Ops APECs '!V13","v":""}]
[null,"STORAGE",{"$f":"'Mod 2 Ops APECs '!CF4","v":0},{"$f":"'Mod 2 Ops APECs '!CF13","v":""}]
[null,"STORAGE",{"$f":"'Mod 2 Ops APECs '!CH4","v":0},{"$f":"'Mod 2 Ops APECs '!CH13","v":""}]
[null,"STORAGE",{"$f":"'Mod 2 Ops APECs '!CJ4","v":0},{"$f":"'Mod 2 Ops APECs '!CJ13","v":""}]
[null,"STORAGE",{"$f":"'Mod 2 Ops APECs '!CL4","v":0},{"$f":"'Mod 2 Ops APECs '!CL13","v":""}]
[null,"STORAGE",{"$f":"'Mod 2 Ops APECs '!CN4","v":0},{"$f":"'Mod 2 Ops APECs '!CN13","v":""}]
[null,"STORAGE",{"$f":"'Mod 2 Ops APECs '!CO4","v":0},{"$f":"'Mod 2 Ops APECs '!CP13","v":""}]
[null,"USE",{"$f":"'Mod 2 Ops APECs '!AD4","v":0},{"$f":"'Mod 2 Ops APECs '!AD20","v":""}]
[null,"USE",{"$f":"'Mod 2 Ops APECs '!AF4","v":0},{"$f":"'Mod 2 Ops APECs '!AF20","v":""}]
[null,"USE",{"$f":"'Mod 2 Ops APECs '!AH4","v":0},{"$f":"'Mod 2 Ops APECs '!AH20","v":""}]
[null,"USE",{"$f":"'Mod 2 Ops APECs '!AJ4","v":0},{"$f":"'Mod 2 Ops APECs '!AJ20","v":""}]
[null,"USE",{"$f":"'Mod 2 Ops APECs '!AL4","v":0},{"$f":"'Mod 2 Ops APECs '!AL20","v":""}]
[null,"USE",{"$f":"'Mod 2 Ops APECs '!AN4","v":0},{"$f":"'Mod 2 Ops APECs '!AN20","v":""}]
[null,"USE",{"$f":"'Mod 2 Ops APECs '!AP4","v":0},{"$f":"'Mod 2 Ops APECs '!AP20","v":""}]
[null,"USE",{"$f":"'Mod 2 Ops APECs '!CX4","v":0},{"$f":"'Mod 2 Ops APECs '!CX20","v":""}]
[null,"USE",{"$f":"'Mod 2 Ops APECs '!DA4","v":0},{"$f":"'Mod 2 Ops APECs '!CZ20","v":""}]
[null,"USE",{"$f":"'Mod 2 Ops APECs '!DB4","v":0},{"$f":"'Mod 2 Ops APECs '!DB20","v":""}]
[null,"USE",{"$f":"'Mod 2 Ops APECs '!DD4","v":0},{"$f":"'Mod 2 Ops APECs '!DD20","v":""}]
[null,"USE",{"$f":"'Mod 2 Ops APECs '!DF4","v":0},{"$f":"'Mod 2 Ops APECs '!DF20","v":""}]
[null,"MAINTENANCE",{"$f":"'Mod 2 Ops APECs '!AR4","v":0},{"$f":"'Mod 2 Ops APECs '!AR31","v":""}]
[null,"DISPOSAL",{"$f":"'Mod 2 Ops APECs '!BL4","v":0},{"$f":"'Mod 2 Ops APECs '!BL36","v":""}]
[null,"DISPOSAL",{"$f":"'Mod 2 Ops APECs '!BN4","v":0},{"$f":"'Mod 2 Ops APECs '!BN36","v":""}]
[null,"USE",{"$f":"'Mod 2 Ops APECs '!DF4","v":0},{"$f":"'Mod 2 Ops APECs '!DF20","v":""}]
[null,"USE",{"$f":"'Mod 2 Ops APECs '!DP4","v":0},{"$f":"'Mod 2 Ops APECs '!DP20","v":""}]
[null,"USE",{"$f":"'Mod 2 Ops APECs '!DJ4","v":0},{"$f":"'Mod 2 Ops APECs '!DJ20","v":""}]
[null,"USE",{"$f":"'Mod 2 Ops APECs '!DL4","v":0},{"$f":"'Mod 2 Ops APECs '!DL20","v":""}]
[null,"USE",{"$f":"'Mod 2 Ops APECs '!DN4","v":0},{"$f":"'Mod 2 Ops APECs '!DN20","v":""}]
[null,"MAINTENANCE",{"$f":"'Mod 2 Ops APECs '!AT4","v":0},{"$f":"'Mod 2 Ops APECs '!AT31","v":43}]
[null,"MAINTENANCE",{"$f":"'Mod 2 Ops APECs '!AV4","v":0},{"$f":"'Mod 2 Ops APECs '!AV31","v":23}]
[null,"MAINTENANCE",{"$f":"'Mod 2 Ops APECs '!AX4","v":0},{"$f":"'Mod 2 Ops APECs '!AX31","v":""}]
[null,"MAINTENANCE",{"$f":"'Mod 2 Ops APECs '!AZ4","v":0},{"$f":"'Mod 2 Ops APECs '!AZ31","v":""}]
[null,"MAINTENANCE",{"$f":"'Mod 2 Ops APECs '!BB4","v":0},{"$f":"'Mod 2 Ops APECs '!BB31","v":""}]
[null,"MAINTENANCE",{"$f":"'Mod 2 Ops APECs '!BD4","v":0},{"$f":"'Mod 2 Ops APECs '!BD31","v":""}]
[null,"MAINTENANCE",{"$f":"'Mod 2 Ops APECs '!BF4","v":0},{"$f":"'Mod 2 Ops APECs '!BF31","v":""}]
[null,"MAINTENANCE",{"$f":"'Mod 2 Ops APECs '!BH4","v":0},{"$f":"'Mod 2 Ops APECs '!BH31","v":""}]
[null,"MAINTENANCE",{"$f":"'Mod 2 Ops APECs '!BJ4","v":0},{"$f":"'Mod 2 Ops APECs '!BJ31","v":""}]
[null,"MAINTENANCE",{"$f":"'Mod 2 Ops APECs '!DR4","v":0},{"$f":"'Mod 2 Ops APECs '!DR31","v":""}]
[null,"MAINTENANCE",{"$f":"'Mod 2 Ops APECs '!DT4","v":0},{"$f":"'Mod 2 Ops APECs '!DT31","v":""}]
[null,"MAINTENANCE",{"$f":"'Mod 2 Ops APECs '!DV4","v":0},{"$f":"'Mod 2 Ops APECs '!DV31","v":""}]
[null,"MAINTENANCE",{"$f":"'Mod 2 Ops APECs '!DX4","v":0},{"$f":"'Mod 2 Ops APECs '!DX31","v":""}]
[null,"MAINTENANCE",{"$f":"'Mod 2 Ops APECs '!DZ4","v":0},{"$f":"'Mod 2 Ops APECs '!DZ31","v":""}]
[null,"MAINTENANCE",{"$f":"'Mod 2 Ops APECs '!EB4","v":0},{"$f":"'Mod 2 Ops APECs '!EB31","v":""}]
[null,"DISPOSAL",{"$f":"'Mod 2 Ops APECs '!DP4","v":0},{"$f":"'Mod 2 Ops APECs '!BP36","v":""}]
[null,"DISPOSAL",{"$f":"'Mod 2 Ops APECs '!BR4","v":0},{"$f":"'Mod 2 Ops APECs '!BR36","v":""}]
[null,"DISPOSAL",{"$f":"'Mod 2 Ops APECs '!BT4","v":0},{"$f":"'Mod 2 Ops APECs '!BT36","v":""}]
[null,"DISPOSAL",{"$f":"'Mod 2 Ops APECs '!BV4","v":0},{"$f":"'Mod 2 Ops APECs '!BV36","v":""}]
[null,"DISPOSAL",{"$f":"'Mod 2 Ops APECs '!BX4","v":0},{"$f":"'Mod 2 Ops APECs '!BX36","v":""}]
[null,"DISPOSAL",{"$f":"'Mod 2 Ops APECs '!BZ4","v":0},{"$f":"'Mod 2 Ops APECs '!BZ36","v":""}]
[null,"DISPOSAL",{"$f":"'Mod 2 Ops APECs '!CB4","v":0},{"$f":"'Mod 2 Ops APECs '!CB36","v":""}]
[null,"DISPOSAL",{"$f":"'Mod 2 Ops APECs '!CD4","v":0},{"$f":"'Mod 2 Ops APECs '!CD36","v":""}]
[null,"DISPOSAL",{"$f":"'Mod 2 Ops APECs '!EL4","v":0},{"$f":"'Mod 2 Ops APECs '!EL36","v":""}]
[null,"DISPOSAL",{"$f":"'Mod 2 Ops APECs '!EN4","v":0},{"$f":"'Mod 2 Ops APECs '!EN36","v":""}]
[null,"DISPOSAL",{"$f":"'Mod 2 Ops APECs '!EP4","v":0},{"$f":"'Mod 2 Ops APECs '!EP36","v":""}]
[null,"DISPOSAL",{"$f":"'Mod 2 Ops APECs '!ER4","v":0},{"$f":"'Mod 2 Ops APECs '!ER36","v":""}]
[null,"DISPOSAL",{"$f":"'Mod 2 Ops APECs '!ET4","v":0},{"$f":"'Mod 2 Ops APECs '!ET36","v":""}]
[null,"DISPOSAL",{"$f":"'Mod 2 Ops APECs '!EV4","v":0},{"$f":"'Mod 2 Ops APECs '!EV36","v":""}]
[null,"DISPOSAL",{"$f":"'Mod 2 Ops APECs '!EX4","v":0},{"$f":"'Mod 2 Ops APECs '!EX36","v":""}]
[null,"DISPOSAL",{"$f":"'Mod 2 Ops APECs '!EZ4","v":0},{"$f":"'Mod 2 Ops APECs '!EZ36","v":""}]
[null,"DISPOSAL",{"$f":"'Mod 2 Ops APECs '!FB4","v":0},{"$f":"'Mod 2 Ops APECs '!FB36","v":""}]
[null,"MAINTENANCE",{"$f":"'Mod 2 Ops APECs '!ED4","v":0},{"$f":"'Mod 2 Ops APECs '!ED31","v":""}]
[null,"MAINTENANCE",{"$f":"'Mod 2 Ops APECs '!EF4","v":0},{"$f":"'Mod 2 Ops APECs '!EF31","v":""}]
[null,"STORAGE",{"$f":"'Mod 2 Ops APECs '!CR4","v":0},{"$f":"'Mod 2 Ops APECs '!CR13","v":""}]
[null,"MAINTENANCE",{"$f":"'Mod 2 Ops APECs '!EH4","v":0},{"$f":"'Mod 2 Ops APECs '!EH31","v":""}]
[null,"STORAGE",{"$f":"'Mod 2 Ops APECs '!CT4","v":0},{"$f":"'Mod 2 Ops APECs '!CT13","v":""}]
[null,"STORAGE",{"$f":"'Mod 2 Ops APECs '!CV4","v":0},{"$f":"'Mod 2 Ops APECs '!CV13","v":""}]
[null,"MAINTENANCE",{"$f":"'Mod 2 Ops APECs '!EJ4","v":0},{"$f":"'Mod 2 Ops APECs '!EJ31","v":""}]
[null,"DISPOSAL",{"$f":"'Mod 2 Ops APECs '!FD4","v":0},{"$f":"'Mod 2 Ops APECs '!FD36","v":""}]
[null,"LEGACY",{"$f":"'Mod 2 Legacy APECs '!AU8","v":""},{"$f":"'Mod 2 Legacy APECs '!AU21","v":""}]
[null,"LEGACY",{"$f":"'Mod 2 Legacy APECs '!BK8","v":0},{"$f":"'Mod 2 Legacy APECs '!BK21","v":""}]
[null,"LEGACY",{"$f":"'Mod 2 Legacy APECs '!BM8","v":0},{"$f":"'Mod 2 Legacy APECs '!BM21","v":""}]
[null,"LEGACY",{"$f":"'Mod 2 Legacy APECs '!BO8","v":0},{"$f":"'Mod 2 Legacy APECs '!BO21","v":""}]
[null,"LEGACY",{"$f":"'Mod 2 Legacy APECs '!BQ8","v":0},{"$f":"'Mod 2 Legacy APECs '!BQ21","v":""}]
[null,"LEGACY",{"$f":"'Mod 2 Legacy APECs '!BS8","v":0},{"$f":"'Mod 2 Legacy APECs '!BS21","v":""}]
[null,"LEGACY",{"$f":"'Mod 2 Legacy APECs '!E8","v":""},{"$f":"'Mod 2 Legacy APECs '!E21","v":""}]
[null,"LEGACY RELEASE",{"$f":"'Mod 2 Legacy APECs '!G8","v":""},{"$f":"'Mod 2 Legacy APECs '!G21","v":""}]
[null,"LEGACY",{"$f":"'Mod 2 Legacy APECs '!I8","v":""},{"$f":"'Mod 2 Legacy APECs '!I21","v":""}]
[null,"LEGACY",{"$f":"'Mod 2 Legacy APECs '!M8","v":""},{"$f":"'Mod 2 Legacy APECs '!M21","v":""}]
[null,"LEGACY",{"$f":"'Mod 2 Legacy APECs '!O8","v":""},{"$f":"'Mod 2 Legacy APECs '!O21","v":""}]
[null,"LEGACY",{"$f":"'Mod 2 Legacy APECs '!Q8","v":""},{"$f":"'Mod 2 Legacy APECs '!Q21","v":""}]
[null,"LEGACY",{"$f":"'Mod 2 Legacy APECs '!S8","v":""},{"$f":"'Mod 2 Legacy APECs '!S21","v":""}]
[null,"LEGACY",{"$f":"'Mod 2 Legacy APECs '!U8","v":""},{"$f":"'Mod 2 Legacy APECs '!U21","v":""}]
[null,"LEGACY",{"$f":"'Mod 2 Legacy APECs '!W8","v":""},{"$f":"'Mod 2 Legacy APECs '!W21","v":""}]
[null,"LEGACY",{"$f":"'Mod 2 Legacy APECs '!Y8","v":""},{"$f":"'Mod 2 Legacy APECs '!Y21","v":""}]
[null,"LEGACY",{"$f":"'Mod 2 Legacy APECs '!AA8","v":""},{"$f":"'Mod 2 Legacy APECs '!AA21","v":""}]
[null,"LEGACY",{"$f":"'Mod 2 Legacy APECs '!AC8","v":""},{"$f":"'Mod 2 Legacy APECs '!AC21","v":""}]
[null,"LEGACY",{"$f":"'Mod 2 Legacy APECs '!AE8","v":""},{"$f":"'Mod 2 Legacy APECs '!AE21","v":""}]
[null,"LEGACY",{"$f":"'Mod 2 Legacy APECs '!AG8","v":""},{"$f":"'Mod 2 Legacy APECs '!AG21","v":""}]
[null,"LEGACY",{"$f":"'Mod 2 Legacy APECs '!AI8","v":""},{"$f":"'Mod 2 Legacy APECs '!AI21","v":""}]
[null,"LEGACY",{"$f":"'Mod 2 Legacy APECs '!AK8","v":""},{"$f":"'Mod 2 Legacy APECs '!AK21","v":""}]
[null,"LEGACY",{"$f":"'Mod 2 Legacy APECs '!AM8","v":""},{"$f":"'Mod 2 Legacy APECs '!AM21","v":""}]
[null,"LEGACY",{"$f":"'Mod 2 Legacy APECs '!AO8","v":""},{"$f":"'Mod 2 Legacy APECs '!AO21","v":""}]
[null,"LEGACY",{"$f":"'Mod 2 Legacy APECs '!AQ8","v":""},{"$f":"'Mod 2 Legacy APECs '!AQ21","v":""}]
[null,"LEGACY",{"$f":"'Mod 2 Legacy APECs '!AS8","v":""},{"$f":"'Mod 2 Legacy APECs '!AS21","v":""}]
[null,"LEGACY",{"$f":"'Mod 2 Legacy APECs '!AW8","v":""},{"$f":"'Mod 2 Legacy APECs '!AW21","v":""}]
[null,"LEGACY",{"$f":"'Mod 2 Legacy APECs '!AY8","v":""},{"$f":"'Mod 2 Legacy APECs '!AY21","v":""}]
[null,"LEGACY",{"$f":"'Mod 2 Legacy APECs '!BA8","v":""},{"$f":"'Mod 2 Legacy APECs '!BA21","v":""}]
[null,"LEGACY",{"$f":"'Mod 2 Legacy APECs '!BC8","v":""},{"$f":"'Mod 2 Legacy APECs '!BC21","v":""}]
[null,"LEGACY",{"$f":"'Mod 2 Legacy APECs '!BE8","v":""},{"$f":"'Mod 2 Legacy APECs '!BE21","v":""}]
[null,"LEGACY",{"$f":"'Mod 2 Legacy APECs '!BG8","v":""},{"$f":"'Mod 2 Legacy APECs '!BG21","v":""}]
[null,"LEGACY",{"$f":"'Mod 2 Legacy APECs '!BI8","v":""},{"$f":"'Mod 2 Legacy APECs '!BI21","v":""}]
[null,"LEGACY",{"$f":"'Mod 2 Legacy APECs '!C8","v":""},{"$f":"'Mod 2 Legacy APECs '!C21","v":""}]
[null,"LEGACY",{"$f":"'Mod 2 Legacy APECs '!BU8","v":0},{"$f":"'Mod 2 Legacy APECs '!BU21","v":""}]
[null,"LEGACY",{"$f":"'Mod 2 Legacy APECs '!BW8","v":0},{"$f":"'Mod 2 Legacy APECs '!BW21","v":""}]
[null,"LEGACY",{"$f":"'Mod 2 Legacy APECs '!BY8","v":0},{"$f":"'Mod 2 Legacy APECs '!BY21","v":""}]
[null,"LEGACY",{"$f":"'Mod 2 Legacy APECs '!CA8","v":0},{"$f":"'Mod 2 Legacy APECs '!CA21","v":""}]
[null,"LEGACY",{"$f":"'Mod 2 Legacy APECs '!CC8","v":0},{"$f":"'Mod 2 Legacy APECs '!CC21","v":""}]
[null,"LEGACY",{"$f":"'Mod 2 Legacy APECs '!CE8","v":""},{"$f":"'Mod 2 Legacy APECs '!CE21","v":""}]
[null,"LEGACY",{"$f":"'Mod 2 Legacy APECs '!CG8","v":""},{"$f":"'Mod 2 Legacy APECs '!CG21","v":""}]
[null,"LEGACY",{"$f":"'Mod 2 Legacy APECs '!CI8","v":""},{"$f":"'Mod 2 Legacy APECs '!CI21","v":""}]
[null,"LEGACY",{"$f":"'Mod 2 Legacy APECs '!CK8","v":""},{"$f":"'Mod 2 Legacy APECs '!CK21","v":""}]
[null,"LEGACY",{"$f":"'Mod 2 Legacy APECs '!CM8","v":""},{"$f":"'Mod 2 Legacy APECs '!CM21","v":""}]
[null,"LEGACY",{"$f":"'Mod 2 Legacy APECs '!CO8","v":""},{"$f":"'Mod 2 Legacy APECs '!CO21","v":""}]
[null,"LEGACY",{"$f":"'Mod 2 Legacy APECs '!CQ8","v":""},{"$f":"'Mod 2 Legacy APECs '!CQ21","v":""}]
[null,"LEGACY",{"$f":"'Mod 2 Legacy APECs '!CS8","v":""},{"$f":"'Mod 2 Legacy APECs '!CS21","v":""}]
[null,"LEGACY",{"$f":"'Mod 2 Legacy APECs '!CU8","v":""},{"$f":"'Mod 2 Legacy APECs '!CU21","v":""}]
[null,"LEGACY",{"$f":"'Mod 2 Legacy APECs '!CW8","v":""},{"$f":"'Mod 2 Legacy APECs '!CW21","v":""}]
[null,"LEGACY",{"$f":"'Mod 2 Legacy APECs '!CY8","v":""},{"$f":"'Mod 2 Legacy APECs '!CY21","v":""}]
[null,"LEGACY",{"$f":"'Mod 2 Legacy APECs '!DA8","v":""},{"$f":"'Mod 2 Legacy APECs '!DA21","v":""}]
[null,"LEGACY",{"$f":"'Mod 2 Legacy APECs '!DC4","v":0},{"$f":"'Mod 2 Legacy APECs '!DC21","v":""}]
[null,"LEGACY",{"$f":"'Mod 2 Legacy APECs '!DE4","v":0},{"$f":"'Mod 2 Legacy APECs '!DE21","v":""}]
[null,"LEGACY",{"$f":"'Mod 2 Legacy APECs '!DG4","v":0},{"$f":"'Mod 2 Legacy APECs '!DG21","v":""}]
[null,"LEGACY",{"$f":"'Mod 2 Legacy APECs '!DI4","v":0},{"$f":"'Mod 2 Legacy APECs '!DI21","v":""}]
[null,"LEGACY",{"$f":"'Mod 2 Legacy APECs '!DM4","v":0},{"$f":"'Mod 2 Legacy APECs '!DM21","v":""}]
[null,"LEGACY",{"$f":"'Mod 2 Legacy APECs '!DO4","v":0},{"$f":"'Mod 2 Legacy APECs '!DO21","v":""}]
[null,"LEGACY",{"$f":"'Mod 2 Legacy APECs '!DQ4","v":0},{"$f":"'Mod 2 Legacy APECs '!DQ21","v":""}]
[null,"LEGACY",{"$f":"'Mod 2 Legacy APECs '!DS4","v":0},{"$f":"'Mod 2 Legacy APECs '!DS21","v":""}]
[null,"LEGACY",{"$f":"'Mod 2 Legacy APECs '!DU4","v":0},{"$f":"'Mod 2 Legacy APECs '!DU21","v":""}]
[null,"LEGACY",{"$f":"'Mod 2 Legacy APECs '!DW8","v":""},{"$f":"'Mod 2 Legacy APECs '!DW21","v":""}]
[null,"LEGACY",{"$f":"'Mod 2 Legacy APECs '!DY8","v":""},{"$f":"'Mod 2 Legacy APECs '!DY21","v":""}]
[null,"LEGACY",{"$f":"'Mod 2 Legacy APECs '!EA8","v":""},{"$f":"'Mod 2 Legacy APECs '!EA21","v":""}]
[null,"LEGACY",{"$f":"'Mod 2 Legacy APECs '!EC8","v":""},{"$f":"'Mod 2 Legacy APECs '!EC21","v":""}]
[null,"LEGACY",{"$f":"'Mod 2 Legacy APECs '!EE8","v":""},{"$f":"'Mod 2 Legacy APECs '!EE21","v":""}]
[null,"LEGACY",{"$f":"'Mod 2 Legacy APECs '!EG8","v":""},{"$f":"'Mod 2 Legacy APECs '!EG21","v":""}]
[null,"LEGACY",{"$f":"'Mod 2 Legacy APECs '!EI8","v":""},{"$f":"'Mod 2 Legacy APECs '!EI21","v":""}]
[null,"LEGACY",{"$f":"'Mod 2 Legacy APECs '!EK8","v":""},{"$f":"'Mod 2 Legacy APECs '!EK21","v":""}]
[null,"LEGACY",{"$f":"'Mod 2 Legacy APECs '!EM8","v":""},{"$f":"'Mod 2 Legacy APECs '!EM21","v":""}]
[null,"LEGACY",{"$f":"'Mod 2 Legacy APECs '!EO8","v":""},{"$f":"'Mod 2 Legacy APECs '!EO21","v":""}]
[null,"LEGACY",{"$f":"'Mod 2 Legacy APECs '!EQ8","v":""},{"$f":"'Mod 2 Legacy APECs '!EQ21","v":""}]
[null,"LEGACY",{"$f":"'Mod 2 Legacy APECs '!ES8","v":""},{"$f":"'Mod 2 Legacy APECs '!ES21","v":""}]
[null,"LEGACY",{"$f":"'Mod 2 Legacy APECs '!EU8","v":""},{"$f":"'Mod 2 Legacy APECs '!EU21","v":""}]
[null,"LEGACY",{"$f":"'Mod 2 Legacy APECs '!EW8","v":""},{"$f":"'Mod 2 Legacy APECs '!EW21","v":""}]
[null,"LEGACY",{"$f":"'Mod 2 Legacy APECs '!EY8","v":""},{"$f":"'Mod 2 Legacy APECs '!EY21","v":""}]
[null,"LEGACY",{"$f":"'Mod 2 Legacy APECs '!FA8","v":""},{"$f":"'Mod 2 Legacy APECs '!FA21","v":""}]
[null,"LEGACY",{"$f":"'Mod 2 Legacy APECs '!FC8","v":""},{"$f":"'Mod 2 Legacy APECs '!FC21","v":""}]
[null,"LEGACY",{"$f":"'Mod 2 Legacy APECs '!FE8","v":""},{"$f":"'Mod 2 Legacy APECs '!FE21","v":""}]
[null,"LEGACY",{"$f":"'Mod 2 Legacy APECs '!FG8","v":""},{"$f":"'Mod 2 Legacy APECs '!FG21","v":""}]
[null,"LEGACY",{"$f":"'Mod 2 Legacy APECs '!FI8","v":0},{"$f":"'Mod 2 Legacy APECs '!FI21","v":""}]
[null,"LEGACY",{"$f":"'Mod 2 Legacy APECs '!FK8","v":0},{"$f":"'Mod 2 Legacy APECs '!FK21","v":""}]
[null,"LEGACY",{"$f":"'Mod 2 Legacy APECs '!FM8","v":0},{"$f":"'Mod 2 Legacy APECs '!FM21","v":""}]
[null,"LEGACY",{"$f":"'Mod 2 Legacy APECs '!FO8","v":0},{"$f":"'Mod 2 Legacy APECs '!FO21","v":""}]
[null,"LEGACY",{"$f":"'Mod 2 Legacy APECs '!FQ8","v":0},{"$f":"'Mod 2 Legacy APECs '!FQ21","v":""}]
[null,"LEGACY",{"$f":"'Mod 2 Legacy APECs '!FS8","v":0},{"$f":"'Mod 2 Legacy APECs '!FS21","v":""}]
[null,"LEGACY",{"$f":"'Mod 2 Legacy APECs '!FU8","v":0},{"$f":"'Mod 2 Legacy APECs '!FU21","v":""}]
[null,"LEGACY",{"$f":"'Mod 2 Legacy APECs '!FW8","v":0},{"$f":"'Mod 2 Legacy APECs '!FW21","v":""}]
[null,"LEGACY",{"$f":"'Mod 2 Legacy APECs '!FY8","v":0},{"$f":"'Mod 2 Legacy APECs '!FY21","v":""}]
[null,"LEGACY",{"$f":"'Mod 2 Legacy APECs '!GA8","v":0},{"$f":"'Mod 2 Legacy APECs '!GA21","v":""}]
[null,"LEGACY",{"$f":"'Mod 2 Legacy APECs '!GC8","v":""},{"$f":"'Mod 2 Legacy APECs '!GC21","v":""}]
[null,"LEGACY",{"$f":"'Mod 2 Legacy APECs '!GE8","v":""},{"$f":"'Mod 2 Legacy APECs '!GE21","v":""}]
[null,"LEGACY",{"$f":"'Mod 2 Legacy APECs '!GG8","v":""},{"$f":"'Mod 2 Legacy APECs '!GG21","v":""}]
[null,"LEGACY",{"$f":"'Mod 2 Legacy APECs '!GI8","v":""},{"$f":"'Mod 2 Legacy APECs '!GI21","v":""}]
[null,"LEGACY",{"$f":"'Mod 2 Legacy APECs '!GK8","v":""},{"$f":"'Mod 2 Legacy APECs '!GK21","v":""}]
[null,"LEGACY",{"$f":"'Mod 2 Legacy APECs '!GM8","v":""},{"$f":"'Mod 2 Legacy APECs '!GM21","v":""}]
[null,"LEGACY",{"$f":"'Mod 2 Legacy APECs '!GO8","v":""},{"$f":"'Mod 2 Legacy APECs '!GO21","v":""}]
[null,"LEGACY",{"$f":"'Mod 2 Legacy APECs '!GQ8","v":""},{"$f":"'Mod 2 Legacy APECs '!GQ21","v":""}]
[null,"LEGACY",{"$f":"'Mod 2 Legacy APECs '!GS8","v":""},{"$f":"'Mod 2 Legacy APECs '!GS21","v":""}]
[null,"LEGACY",{"$f":"'Mod 2 Legacy APECs '!GU8","v":""},{"$f":"'Mod 2 Legacy APECs '!GU21","v":""}]
[null,"STORAGE",{"$f":"'Mod 2 Ops APECs '!D4","v":0},{"$f":"'Mod 2 Ops APECs '!D13","v":""}]
[null,"LEGACY",{"$f":"'Mod 2 Legacy APECs '!GW8","v":0},{"$f":"'Mod 2 Legacy APECs '!GW21","v":0}]
[null,"LEGACY",{"$f":"'Mod 2 Legacy APECs '!GY8","v":0},{"$f":"'Mod 2 Legacy APECs '!GY21","v":0}]
[]
[]
[null,{"$f":"HYPERLINK(\"[MAPA Screening Tool.xlsm]'Data Gaps'!A1\",\"Click  here once table is complete\")","v":"Click  here once table is complete"}]

{"sheet":"Data Gaps","index":8,"n_rows":38,"n_cols":104,"rows_kept":38,"cut":false,"hidden":false,"merged":[[7,0,7,1],[40,0,40,1],[12,0,14,0],[37,0,37,1],[18,0,19,0],[20,0,23,0],[25,0,27,0],[8,0,11,0],[15,0,17,0],[28,0,29,0],[31,0,36,0]]}
[]
[]
[]
[]
[]
[]
[]
["Site Features/Setting",null,{"$f":"'Module 1 Summary'!B8","v":0},{"$f":"'Module 1 Summary'!B9","v":0},{"$f":"'Module 1 Summary'!B10","v":0},{"$f":"'Module 1 Summary'!B11","v":0},{"$f":"'Module 1 Summary'!B12","v":0},{"$f":"'Module 1 Summary'!B13","v":0},{"$f":"'Module 1 Summary'!B14","v":0},{"$f":"'Module 1 Summary'!B15","v":0},{"$f":"'Module 1 Summary'!B16","v":0},{"$f":"'Module 1 Summary'!B17","v":0},{"$f":"'Module 1 Summary'!B18","v":0},{"$f":"'Module 1 Summary'!B19","v":0},{"$f":"'Module 1 Summary'!B20","v":0},{"$f":"'Module 1 Summary'!B21","v":0},{"$f":"'Module 1 Summary'!B22","v":0},{"$f":"'Module 1 Summary'!B23","v":0},{"$f":"'Module 1 Summary'!B24","v":0},{"$f":"'Module 1 Summary'!B25","v":0},{"$f":"'Module 1 Summary'!B26","v":0},{"$f":"'Module 1 Summary'!B27","v":0},{"$f":"'Module 1 Summary'!B28","v":0},{"$f":"'Module 1 Summary'!B29","v":0},{"$f":"'Module 1 Summary'!B30","v":0},{"$f":"'Module 1 Summary'!B31","v":0},{"$f":"'Module 1 Summary'!B32","v":0},{"$f":"'Module 1 Summary'!B33","v":0},{"$f":"'Module 1 Summary'!B33","v":0},{"$f":"'Module 1 Summary'!B34","v":0},{"$f":"'Module 1 Summary'!B35","v":0},{"$f":"'Module 1 Summary'!B36","v":0},{"$f":"'Module 1 Summary'!B37","v":0},{"$f":"'Module 1 Summary'!B39","v":0},{"$f":"'Module 1 Summary'!B40","v":0},{"$f":"'Module 1 Summary'!B41","v":0},{"$f":"'Module 1 Summary'!B42","v":0},{"$f":"'Module 1 Summary'!B43","v":0},{"$f":"'Module 1 Summary'!B44","v":0},{"$f":"'Module 1 Summary'!B45","v":0},{"$f":"'Module 1 Summary'!B46","v":0},{"$f":"'Module 1 Summary'!B47","v":0},{"$f":"'Module 1 Summary'!B48","v":0},{"$f":"'Module 1 Summary'!B49","v":0},{"$f":"'Module 1 Summary'!B50","v":0},{"$f":"'Module 1 Summary'!B51","v":0},{"$f":"'Module 1 Summary'!B52","v":0},{"$f":"'Module 1 Summary'!B53","v":0},{"$f":"'Module 1 Summary'!B54","v":0},{"$f":"'Module 1 Summary'!B55","v":0},{"$f":"'Module 1 Summary'!B56","v":0},{"$f":"'Module 1 Summary'!B57","v":0},{"$f":"'Module 1 Summary'!B58","v":0},{"$f":"'Module 1 Summary'!B59","v":0},{"$f":"'Module 1 Summary'!B60","v":0},{"$f":"'Module 1 Summary'!B61","v":0},{"$f":"'Module 1 Summary'!B62","v":0},{"$f":"'Module 1 Summary'!B64","v":0},{"$f":"'Module 1 Summary'!B65","v":0},{"$f":"'Module 1 Summary'!B66","v":0},{"$f":"'Module 1 Summary'!B67","v":0},{"$f":"'Module 1 Summary'!B68","v":0},{"$f":"'Module 1 Summary'!B69","v":0},{"$f":"'Module 1 Summary'!B70","v":0},{"$f":"'Module 1 Summary'!B71","v":0},{"$f":"'Module 1 Summary'!B72","v":0},{"$f":"'Module 1 Summary'!B72","v":0},{"$f":"'Module 1 Summary'!B73","v":0},{"$f":"'Module 1 Summary'!B74","v":0},{"$f":"'Module 1 Summary'!B75","v":0},{"$f":"'Module 1 Summary'!B76","v":0},{"$f":"'Module 1 Summary'!B77","v":0},{"$f":"'Module 1 Summary'!B78","v":0},{"$f":"'Module 1 Summary'!B79","v":0},{"$f":"'Module 1 Summary'!B80","v":0},{"$f":"'Module 1 Summary'!B81","v":0},{"$f":"'Module 1 Summary'!B82","v":0},{"$f":"'Module 1 Summary'!B83","v":0},{"$f":"'Module 1 Summary'!B84","v":0},{"$f":"'Module 1 Summary'!B85","v":0},{"$f":"'Module 1 Summary'!B86","v":0},{"$f":"'Module 1 Summary'!B87","v":0},{"$f":"'Module 1 Summary'!B88","v":0},{"$f":"'Module 1 Summary'!B89","v":0},{"$f":"'Module 1 Summary'!B90","v":0},{"$f":"'Module 1 Summary'!B91","v":0},{"$f":"'Module 1 Summary'!B92","v":0},{"$f":"'Module 1 Summary'!B93","v":0},{"$f":"'Module 1 Summary'!B94","v":0},{"$f":"'Module 1 Summary'!B95","v":0},{"$f":"'Module 1 Summary'!B96","v":0},{"$f":"'Module 1 Summary'!B97","v":0},{"$f":"'Module 1 Summary'!B98","v":0},{"$f":"'Module 1 Summary'!B99","v":0},{"$f":"'Module 1 Summary'!B100","v":0},{"$f":"'Module 1 Summary'!B101","v":0},{"$f":"'Module 1 Summary'!B102","v":0},{"$f":"'Module 1 Summary'!B103","v":0},{"$f":"'Module 1 Summary'!B104","v":0},{"$f":"'Module 1 Summary'!B105","v":0},{"$f":"'Module 1 Summary'!B106","v":0},{"$f":"'Module 1 Summary'!B107","v":0}]
["Surface Covering","Soil texture"]
[null,"Soil depth"]
[null,"Soil chemistry"]
[null,"USCS classification of soil"]
["Meteorological Information","Snow cover"]
[null,"Flood potential"]
[null,"Amount of precipitation"]
["Topography","Elevation"]
[null,"Gradient"]
[null,"Topography of APEC in relation to sensitive receptors"]
["Geology","Depth to bedrock"]
[null,"Type of bedrock"]
["Hydrogeology","Depth to groundwater"]
[null,"Groundwater flow direction"]
[null,"Groundwater chemistry"]
[null,"Groundwater flow rate"]
["Permafrost","Permafrost depth"]
["Groundwater","Precipitation infiltration rate"]
[null,"Hydraulic conductivity rate"]
[null,"Thickness and hydraulic conductivity of confining layer over aquifer/groundwater expsure pathway"]
["Land-use (agricultural, residential, commercial, industrial)","Land-use on-site"]
[null,"Land-use off-site properties"]
["Potential preferential PFAS pathways","Knowledge of former or current trenches, ditches, underground piping and wiring"]
["Surface water and sediment conditions","Flow rate and direction"]
[null,"Depth"]
[null,"Substrate type"]
[null,"Water and sediment chemistry"]
[null,"Drainage patterns and systems"]
[null,"Surface runoff patterns"]
[null,null,{"$f":" IF(C12=\"No\", \"DATA GAPS EXIST FOR THIS APEC\", IF(C13=\"No\",\"DATA GAPS EXIST FOR THIS APEC\", IF(C14=\"No\", \"DATA GAPS EXIST FOR THIS APEC\", IF(C15=\"No\", \"DATA GAPS EXIST FOR THIS APEC\", IF(C18=\"No\", \"DATA GAPS EXIST FOR THIS APEC\", IF(C19=\"No\", \"DATA GAPS EXIST FOR THIS APEC\", IF(C20=\"No\", \"DATA GAPS EXIST FOR THIS APEC\", IF(C21=\"No\", \"DATA GAPS EXIST FOR THIS APEC\", IF(C22=\"No\", \"DATA GAPS EXIST FOR THIS APEC\", IF(C24=\"No\", \"DATA GAPS EXIST FOR THIS APEC\", IF(C25=\"No\", \"DATA GAPS EXIST FOR THIS APEC\", IF(C26=\"No\", \"DATA GAPS EXIST FOR THIS APEC\", IF(C27=\"No\", \"DATA GAPS EXIST FOR THIS APEC\", IF(C28=\"No\", \"DATA GAPS EXIST FOR THIS APEC\", IF(C27=\"No\", \"DATA GAPS EXIST FOR THIS APEC\", IF(C28=\"No\", \"DATA GAPS EXIST FOR THIS APEC\", IF(C29=\"No\", \"DATA GAPS EXIST FOR THIS APEC\", IF(C30=\"No\", \"DATA GAPS EXIST FOR THIS APEC\", IF(C31=\"No\", \"DATA GAPS EXIST FOR THIS APEC\", IF(C32=\"No\", \"DATA GAPS EXIST FOR THIS APEC\",IF(C33=\"No\", \"DATA GAPS EXIST FOR THIS APEC\", IF(C34=\"No\", \"DATA GAPS EXIST FOR THIS APEC\", IF(C35=\"No\", \"DATA GAPS EXIST FOR THIS APEC\", IF(C36=\"No\", \"DATA GAPS EXIST FOR THIS APEC\", IF(C37=\"No\", \"DATA GAPS EXIST FOR THIS APEC\", \"DATA GAPS DO NOT EXIST FOR THIS APEC\")))))))))))))))))))))))))","v":"DATA GAPS DO NOT EXIST FOR THIS APEC"},"DATA GAPS DO NOT EXIST FOR THIS APEC","DATA GAPS DO NOT EXIST FOR THIS APEC","DATA GAPS DO NOT EXIST FOR THIS APEC","DATA GAPS DO NOT EXIST FOR THIS APEC","DATA GAPS DO NOT EXIST FOR THIS APEC","DATA GAPS DO NOT EXIST FOR THIS APEC","DATA GAPS DO NOT EXIST FOR THIS APEC","DATA GAPS DO NOT EXIST FOR THIS APEC","DATA GAPS DO NOT EXIST FOR THIS APEC","DATA GAPS DO NOT EXIST FOR THIS APEC","DATA GAPS DO NOT EXIST FOR THIS APEC","DATA GAPS DO NOT EXIST FOR THIS APEC","DATA GAPS DO NOT EXIST FOR THIS APEC","DATA GAPS DO NOT EXIST FOR THIS APEC","DATA GAPS DO NOT EXIST FOR THIS APEC","DATA GAPS DO NOT EXIST FOR THIS APEC","DATA GAPS DO NOT EXIST FOR THIS APEC","DATA GAPS DO NOT EXIST FOR THIS APEC","DATA GAPS DO NOT EXIST FOR THIS APEC","DATA GAPS DO NOT EXIST FOR THIS APEC","DATA GAPS DO NOT EXIST FOR THIS APEC","DATA GAPS DO NOT EXIST FOR THIS APEC","DATA GAPS DO NOT EXIST FOR THIS APEC","DATA GAPS DO NOT EXIST FOR THIS APEC","DATA GAPS DO NOT EXIST FOR THIS APEC","DATA GAPS DO NOT EXIST FOR THIS APEC","DATA GAPS DO NOT EXIST FOR THIS APEC","DATA GAPS DO NOT EXIST FOR THIS APEC","DATA GAPS DO NOT EXIST FOR THIS APEC","DATA GAPS DO NOT EXIST FOR THIS APEC","DATA GAPS DO NOT EXIST FOR THIS APEC",{"$f":" IF(AI12=\"No\", \"DATA GAPS EXIST FOR THIS APEC\", IF(AI13=\"No\",\"DATA GAPS EXIST FOR THIS APEC\", IF(AI14=\"No\", \"DATA GAPS EXIST FOR THIS APEC\", IF(AI15=\"No\", \"DATA GAPS EXIST FOR THIS APEC\", IF(AI18=\"No\", \"DATA GAPS EXIST FOR THIS APEC\", IF(AI19=\"No\", \"DATA GAPS EXIST FOR THIS APEC\", IF(AI20=\"No\", \"DATA GAPS EXIST FOR THIS APEC\", IF(AI21=\"No\", \"DATA GAPS EXIST FOR THIS APEC\", IF(AI22=\"No\", \"DATA GAPS EXIST FOR THIS APEC\", IF(AI24=\"No\", \"DATA GAPS EXIST FOR THIS APEC\", IF(AI25=\"No\", \"DATA GAPS EXIST FOR THIS APEC\", IF(AI26=\"No\", \"DATA GAPS EXIST FOR THIS APEC\", IF(AI27=\"No\", \"DATA GAPS EXIST FOR THIS APEC\", IF(AI28=\"No\", \"DATA GAPS EXIST FOR THIS APEC\", IF(AI27=\"No\", \"DATA GAPS EXIST FOR THIS APEC\", IF(AI28=\"No\", \"DATA GAPS EXIST FOR THIS APEC\", IF(AI29=\"No\", \"DATA GAPS EXIST FOR THIS APEC\", IF(AI30=\"No\", \"DATA GAPS EXIST FOR THIS APEC\", IF(AI31=\"No\", \"DATA GAPS EXIST FOR THIS APEC\", IF(AI32=\"No\", \"DATA GAPS EXIST FOR THIS APEC\",IF(AI33=\"No\", \"DATA GAPS EXIST FOR THIS APEC\", IF(AI34=\"No\", \"DATA GAPS EXIST FOR THIS APEC\", IF(AI35=\"No\", \"DATA GAPS EXIST FOR THIS APEC\", IF(AI36=\"No\", \"DATA GAPS EXIST FOR THIS APEC\", IF(AI37=\"No\", \"DATA GAPS EXIST FOR THIS APEC\", \"DATA GAPS DO NOT EXIST FOR THIS APEC\")))))))))))))))))))))))))","v":"DATA GAPS DO NOT EXIST FOR THIS APEC"},"DATA GAPS DO NOT EXIST FOR THIS APEC","DATA GAPS DO NOT EXIST FOR THIS APEC","DATA GAPS DO NOT EXIST FOR THIS APEC","DATA GAPS DO NOT EXIST FOR THIS APEC","DATA GAPS DO NOT EXIST FOR THIS APEC","DATA GAPS DO NOT EXIST FOR THIS APEC","DATA GAPS DO NOT EXIST FOR THIS APEC","DATA GAPS DO NOT EXIST FOR THIS APEC","DATA GAPS DO NOT EXIST FOR THIS APEC","DATA GAPS DO NOT EXIST FOR THIS APEC","DATA GAPS DO NOT EXIST FOR THIS APEC","DATA GAPS DO NOT EXIST FOR THIS APEC","DATA GAPS DO NOT EXIST FOR THIS APEC","DATA GAPS DO NOT EXIST FOR THIS APEC","DATA GAPS DO NOT EXIST FOR THIS APEC","DATA GAPS DO NOT EXIST FOR THIS APEC","DATA GAPS DO NOT EXIST FOR THIS APEC","DATA GAPS DO NOT EXIST FOR THIS APEC","DATA GAPS DO NOT EXIST FOR THIS APEC","DATA GAPS DO NOT EXIST FOR THIS APEC","DATA GAPS DO NOT EXIST FOR THIS APEC","DATA GAPS DO NOT EXIST FOR THIS APEC","DATA GAPS DO NOT EXIST FOR THIS APEC","DATA GAPS DO NOT EXIST FOR THIS APEC","DATA GAPS DO NOT EXIST FOR THIS APEC","DATA GAPS DO NOT EXIST FOR THIS APEC","DATA GAPS DO NOT EXIST FOR THIS APEC","DATA GAPS DO NOT EXIST FOR THIS APEC","DATA GAPS DO NOT EXIST FOR THIS APEC","DATA GAPS DO NOT EXIST FOR THIS APEC","DATA GAPS DO NOT EXIST FOR THIS APEC",{"$f":" IF(BO12=\"No\", \"DATA GAPS EXIST FOR THIS APEC\", IF(BO13=\"No\",\"DATA GAPS EXIST FOR THIS APEC\", IF(BO14=\"No\", \"DATA GAPS EXIST FOR THIS APEC\", IF(BO15=\"No\", \"DATA GAPS EXIST FOR THIS APEC\", IF(BO18=\"No\", \"DATA GAPS EXIST FOR THIS APEC\", IF(BO19=\"No\", \"DATA GAPS EXIST FOR THIS APEC\", IF(BO20=\"No\", \"DATA GAPS EXIST FOR THIS APEC\", IF(BO21=\"No\", \"DATA GAPS EXIST FOR THIS APEC\", IF(BO22=\"No\", \"DATA GAPS EXIST FOR THIS APEC\", IF(BO24=\"No\", \"DATA GAPS EXIST FOR THIS APEC\", IF(BO25=\"No\", \"DATA GAPS EXIST FOR THIS APEC\", IF(BO26=\"No\", \"DATA GAPS EXIST FOR THIS APEC\", IF(BO27=\"No\", \"DATA GAPS EXIST FOR THIS APEC\", IF(BO28=\"No\", \"DATA GAPS EXIST FOR THIS APEC\", IF(BO27=\"No\", \"DATA GAPS EXIST FOR THIS APEC\", IF(BO28=\"No\", \"DATA GAPS EXIST FOR THIS APEC\", IF(BO29=\"No\", \"DATA GAPS EXIST FOR THIS APEC\", IF(BO30=\"No\", \"DATA GAPS EXIST FOR THIS APEC\", IF(BO31=\"No\", \"DATA GAPS EXIST FOR THIS APEC\", IF(BO32=\"No\", \"DATA GAPS EXIST FOR THIS APEC\",IF(BO33=\"No\", \"DATA GAPS EXIST FOR THIS APEC\", IF(BO34=\"No\", \"DATA GAPS EXIST FOR THIS APEC\", IF(BO35=\"No\", \"DATA GAPS EXIST FOR THIS APEC\", IF(BO36=\"No\", \"DATA GAPS EXIST FOR THIS APEC\", IF(BO37=\"No\", \"DATA GAPS EXIST FOR THIS APEC\", \"DATA GAPS DO NOT EXIST FOR THIS APEC\")))))))))))))))))))))))))","v":"DATA GAPS DO NOT EXIST FOR THIS APEC"},"DATA GAPS DO NOT EXIST FOR THIS APEC","DATA GAPS DO NOT EXIST FOR THIS APEC","DATA GAPS DO NOT EXIST FOR THIS APEC","DATA GAPS DO NOT EXIST FOR THIS APEC","DATA GAPS DO NOT EXIST FOR THIS APEC","DATA GAPS DO NOT EXIST FOR THIS APEC","DATA GAPS DO NOT EXIST FOR THIS APEC","DATA GAPS DO NOT EXIST FOR THIS APEC","DATA GAPS DO NOT EXIST FOR THIS APEC","DATA GAPS DO NOT EXIST FOR THIS APEC","DATA GAPS DO NOT EXIST FOR THIS APEC","DATA GAPS DO NOT EXIST FOR THIS APEC","DATA GAPS DO NOT EXIST FOR THIS APEC","DATA GAPS DO NOT EXIST FOR THIS APEC","DATA GAPS DO NOT EXIST FOR THIS APEC","DATA GAPS DO NOT EXIST FOR THIS APEC","DATA GAPS DO NOT EXIST FOR THIS APEC","DATA GAPS DO NOT EXIST FOR THIS APEC","DATA GAPS DO NOT EXIST FOR THIS APEC","DATA GAPS DO NOT EXIST FOR THIS APEC","DATA GAPS DO NOT EXIST FOR THIS APEC","DATA GAPS DO NOT EXIST FOR THIS APEC","DATA GAPS DO NOT EXIST FOR THIS APEC","DATA GAPS DO NOT EXIST FOR THIS APEC","DATA GAPS DO NOT EXIST FOR THIS APEC","DATA GAPS DO NOT EXIST FOR THIS APEC","DATA GAPS DO NOT EXIST FOR THIS APEC","DATA GAPS DO NOT EXIST FOR THIS APEC","DATA GAPS DO NOT EXIST FOR THIS APEC","DATA GAPS DO NOT EXIST FOR THIS APEC","DATA GAPS DO NOT EXIST FOR THIS APEC",{"$f":" IF(CU12=\"No\", \"DATA GAPS EXIST FOR THIS APEC\", IF(CU13=\"No\",\"DATA GAPS EXIST FOR THIS APEC\", IF(CU14=\"No\", \"DATA GAPS EXIST FOR THIS APEC\", IF(CU15=\"No\", \"DATA GAPS EXIST FOR THIS APEC\", IF(CU18=\"No\", \"DATA GAPS EXIST FOR THIS APEC\", IF(CU19=\"No\", \"DATA GAPS EXIST FOR THIS APEC\", IF(CU20=\"No\", \"DATA GAPS EXIST FOR THIS APEC\", IF(CU21=\"No\", \"DATA GAPS EXIST FOR THIS APEC\", IF(CU22=\"No\", \"DATA GAPS EXIST FOR THIS APEC\", IF(CU24=\"No\", \"DATA GAPS EXIST FOR THIS APEC\", IF(CU25=\"No\", \"DATA GAPS EXIST FOR THIS APEC\", IF(CU26=\"No\", \"DATA GAPS EXIST FOR THIS APEC\", IF(CU27=\"No\", \"DATA GAPS EXIST FOR THIS APEC\", IF(CU28=\"No\", \"DATA GAPS EXIST FOR THIS APEC\", IF(CU27=\"No\", \"DATA GAPS EXIST FOR THIS APEC\", IF(CU28=\"No\", \"DATA GAPS EXIST FOR THIS APEC\", IF(CU29=\"No\", \"DATA GAPS EXIST FOR THIS APEC\", IF(CU30=\"No\", \"DATA GAPS EXIST FOR THIS APEC\", IF(CU31=\"No\", \"DATA GAPS EXIST FOR THIS APEC\", IF(CU32=\"No\", \"DATA GAPS EXIST FOR THIS APEC\",IF(CU33=\"No\", \"DATA GAPS EXIST FOR THIS APEC\", IF(CU34=\"No\", \"DATA GAPS EXIST FOR THIS APEC\", IF(CU35=\"No\", \"DATA GAPS EXIST FOR THIS APEC\", IF(CU36=\"No\", \"DATA GAPS EXIST FOR THIS APEC\", IF(CU37=\"No\", \"DATA GAPS EXIST FOR THIS APEC\", \"DATA GAPS DO NOT EXIST FOR THIS APEC\")))))))))))))))))))))))))","v":"DATA GAPS DO NOT EXIST FOR THIS APEC"},"DATA GAPS DO NOT EXIST FOR THIS APEC","DATA GAPS DO NOT EXIST FOR THIS APEC","DATA GAPS DO NOT EXIST FOR THIS APEC","DATA GAPS DO NOT EXIST FOR THIS APEC","DATA GAPS DO NOT EXIST FOR THIS APEC"]

{"sheet":"Lists","index":9,"n_rows":158,"n_cols":27,"rows_kept":158,"cut":false,"hidden":true,"merged":[]}
["Incident response",null,null,"Yes",null,"On-site",null,"One location",null,null,"Operational",null,"Potable well",null,null,"Lake",null,"Bog and fen",null,null,"Yes",null,null,"Incident response",null,null,"Maintenance using hydraulic lubricants"]
["Training",null,null,"No",null,"Off-site",null,"Multiple locations",null,null,"Legacy",null,"Municipal water supply well",null,null,"River",null,"Swamp",null,null,"No",null,null,"Training",null,null,"Herbicide/pesticide application"]
["Testing",null,null,null,null,null,null,null,null,null,null,null,"Surface water body",null,null,"Stream",null,"Saltwater marsh",null,null,"Don't Know",null,null,"Testing",null,null,"Aviation and/or industrial components"]
["Accidental release ",null,null,null,null,null,null,null,null,null,null,null,"Surface water intake",null,null,"Pond",null,"Freshwater marsh",null,null,null,null,null,"Accidental release ",null,null,"Metal machine operations"]
["Do not know",null,null,null,null,null,null,null,null,null,null,null,null,null,null,"Ocean",null,null,null,null,null,null,null,"Do not know",null,null,"Do not know"]
[null,null,null,null,null,null,null,null,null,null,null,null,"PeopleWater",null,null,"Ditch",null,null,null,null,null,null,null,"Hangar system"]
["AFFFUses",null,null,"YorN",null,"OnorOff",null,"OneorMulti",null,null,"OporLeg",null,"DrinkingWater",null,null,"SurfaceWater2",null,"Wetlands",null,null,"YorN2",null,null,"Fire trucks",null,null,"OtherPFASSource2"]
[]
[null,null,null,null,null,null,null,null,null,null,null,null,null,null,null,null,null,null,null,null,null,null,null,"AFFFUse"]
[]
[null,null,null,null,null,null,null,null,null,null,null,null,null,null,null,null,null,null,null,null,null,null,null,null,null,null,"Filling the firefighting trucks"]
["Aviation and/or aerospace industrial components",null,null,null,null,null,"Chrome plating",null,null,null,"Yes, all",null,null,"Once per month",null,null,null,"Dilution",null,null,"Eye protection",null,null,null,null,null,"Filling the hangar systems"]
["Hydraulic lubricants",null,null,null,null,null,"Biocides",null,null,null,"Yes, most",null,null,"Every 2 to 3 months",null,null,null,"Off-site",null,null,"Work gloves",null,null,null,null,null,"Cleaning the firefighting trucks"]
["Herbicide/pesticide application",null,null,null,null,null,null,null,null,null,"Yes, some",null,null,"Every 4 to 6 months",null,null,null,"Onsite treatment",null,null,"Nitrile gloves",null,null,null,null,null,"Cleaning the hangar systems"]
["Construction products",null,null,null,null,null,null,null,null,null,"No, none",null,null,"Every 6 months to a year",null,null,null,"Direct to ground surface",null,null,"Other single-use gloves",null,null,null,null,null,"Diluting the AFFF foam solution"]
[null,null,null,null,null,null,null,null,null,null,"Don't know",null,null,"Less often than once a year",null,null,null,"Surfacewater body",null,null,"Safety boots",null,null,null,null,null,"Don't know"]
[null,null,null,null,null,null,null,null,null,null,null,null,null,null,null,null,null,"None",null,null,"Fire-retardant clothing"]
["OtherPFAS",null,null,null,null,null,"OtherPFASUses",null,null,null,"StorageQuest",null,null,"FrequencyMonths",null,null,null,null,null,null,"Turnout gear",null,null,null,null,null,"Maintenance"]
[null,null,null,null,null,null,null,null,null,null,null,null,null,null,null,null,null,null,null,null,"None"]
[null,null,null,null,null,null,null,null,null,null,null,null,null,null,null,null,null,"DisposalMethods",null,null,"Other"]
["Less than 10m",null,null,"Worker - daily operations",null,null,null,null,"Soil",null,"Clay and/or silt",null,null,"Asphalt"]
["11 to 30m",null,null,"Worker - monthly to yearly operations",null,null,null,null,"Bedrock",null,"Sand and/or gravel",null,null,"Concrete",null,null,"Flat",null,null,null,"AFFFPPE"]
["31 to 50m",null,null,"Worker - emergency situation",null,null,null,null,null,null,null,null,null,"Soil",null,null,"Steep",null,null,null,null,null,null,null,null,null,"Yes, on-site"]
["51 to 70m",null,null,"Trespasser",null,null,null,null,null,null,null,null,null,"Trees/forested area",null,null,null,null,null,"0 to 5m",null,null,"kilometres",null,null,null,"Yes, off-site"]
["70 to 90m",null,null,"Other",null,null,null,null,"Geology1",null,"Geology2",null,null,"Meadow/grassland",null,null,"Topography",null,null,"6 to 10m",null,null,"miles",null,null,null,"No "]
["more than 90m",null,null,null,null,null,null,null,null,null,null,null,null,null,null,null,null,null,null,"11 to 15m",null,null,null,null,null,null,"Don't know"]
[null,null,null,null,null,null,null,null,null,null,null,null,null,"GroundSurface",null,null,null,null,null,"16 to 20m"]
["PermafrostDepth",null,null,"HHExposure",null,null,null,null,null,null,null,null,null,null,null,null,null,null,null,"21 to 25m",null,null,"DistanceUnits",null,null,null,"Disposal"]
[null,null,null,null,null,null,null,null,null,null,null,null,null,null,null,null,null,null,null,"26 to 30m"]
[null,null,null,null,null,null,null,null,null,null,null,null,null,null,null,null,null,null,null,"More than 30m"]
["Less than 1 year ago",null,null,"0 to 199 L",null,null,null,"Water",null,null,"Manufacturer",null,null,null,null,"0 to 199 L",null,null,null,"Don't know"]
["1 to 5 years ago",null,null,"200 to 399 L",null,null,null,null,null,null,"Incinerator",null,null,null,null,"200 to 399 L"]
["6 to 15 years ago",null,null,"400  to 599 L",null,null,null,null,null,null,"Down the drain/municipal sewer system",null,null,null,null,"400  to 599 L",null,null,null,"GWDepth"]
["16 to 25 years ago",null,null,"600 to 800 L",null,null,null,null,null,null,"Evaporated off of pavement",null,null,null,null,"600 to 800 L",null,null,null,null,null,"Training",null,null,"Incident response"]
["More than 25 years ago",null,null,"More than 800 L",null,null,null,"Don't know",null,null,"Soaked into the ground",null,null,null,null,"More than 800 L",null,null,null,null,null,"Testing",null,null,"Training"]
["Don't know",null,null,"Environmentally benign foam is used",null,null,null,null,null,null,"Washed/runoff into surface water body",null,null,null,null,"Don't know",null,null,null,null,null,"Hangar system",null,null,"Testing"]
[null,null,null,"Don't know",null,null,null,null,null,null,"Sent off-site for disposal (waste management contractor or landfill)",null,null,null,null,null,null,null,null,null,null,"Fire trucks",null,null,"Accidental release "]
["ReleaseTiming",null,null,null,null,null,null,"AFFFSolvents",null,null,"Sent off-site for treatment",null,null,null,null,"AFFFVolumes",null,null,null,null,null,"Do not know",null,null,"Fire trucks"]
[null,null,null,"AmountAFFF",null,null,null,null,null,null,null,null,null,null,null,null,null,null,null,null,null,null,null,null,"Hangar system"]
[null,null,null,null,null,null,null,null,null,null,"DisposalOptions2",null,null,null,null,null,null,null,null,null,null,"AFFFUseCurrent",null,null,"Do not know"]
[]
[null,null,null,null,null,null,null,null,null,null,null,null,null,null,null,null,null,null,null,null,null,null,null,null,"AFFFUsePast"]
["Ingestion (potable well)",null,null,null,null,0,null,null,null,"Yes",null,null,null,"Yes, on a couple of occasions"]
["Vapour Inhalation ( building on release site)",null,null,null,null,1,null,null,null,"No, it is other species",null,null,null,"Yes, substantial leaking has occurred",null,null,null,null,null,null,"More often than once per year"]
["Direct Contact",null,null,null,null,2,null,null,null,"Don't know",null,null,null,"Yes, currently leaks",null,null,null,null,null,null,"Every 1 to 5 years ago"]
["Other",null,null,null,null,3,null,null,null,null,null,null,null,"No, does not currently leak or have a history of leaking",null,null,null,null,null,null,"Every 6 to 15 years ago"]
["Don't know",null,null,null,null,4,null,null,null,null,null,null,null,null,null,null,null,null,null,null,"Every 16 to 25 years ago"]
[null,null,null,null,null,5,null,null,null,null,null,null,null,null,null,null,null,null,null,null,"Only disposed at this location once"]
["TypeHHExposure",null,null,null,null,"More than 5",null,null,null,"EcoExposure",null,null,null,"Leaking",null,null,null,null,null,null,"Don't know"]
[]
[null,null,null,null,null,"DistributionNumber",null,null,null,null,null,null,null,null,null,null,null,null,null,null,"DisposalFreq"]
[]
[]
[null,"Monthly",null,null,null,"Monthly",null,null,null,"Washed down drain/storm sewer",null,null,null,null,null,null,null,"metres"]
[null,"Annually",null,null,null,"Annually",null,null,null,"Allowed to soak into ground",null,null,null,null,null,null,null,"miles"]
[null,"Every 1 to 5 years",null,null,null,"Every 1 to 5 years",null,null,null,"Collected and sent off-site to treatment/disposal facility"]
[null,"Every 6 to 15 years",null,null,null,"Every 6 to 15 years",null,null,null,"Washed into surface water body or wetland",null,null,null,null,null,null,null,"Units"]
[null,"Every 16 to 25 years",null,null,null,"Every 16 to 25 years",null,null,null,"Don't know"]
[null,"Only used at this location once",null,null,null,"Only used at this location once"]
[null,"Don't know",null,null,null,"Don't know",null,null,null,"AFFFUlti"]
[null,null,null,null,null,null,null,null,null,null,null,null,null,null,null,null,null,null,null,null,null,"Incineration"]
[null,"UseFreq",null,null,null,"MaintFreq",null,null,null,null,null,null,null,null,null,null,null,null,null,null,null,"Return to manufacturer"]
[null,null,null,null,null,null,null,null,null,null,null,null,null,null,null,null,"metres",null,null,"Monthly",null,"Washed down drain/storm sewer"]
[null,null,null,null,null,null,null,null,null,null,null,null,null,null,null,null,"miles",null,null,"Annually",null,"Allowed to soak into ground"]
[null,null,null,null,null,null,null,null,null,null,null,null,null,null,null,null,null,null,null,"Semi-annually",null,"Collected and sent off-site to treatment/disposal facility"]
[null,null,null,null,null,null,null,null,null,null,null,null,null,null,null,null,"Units",null,null,"1 to 5 years",null,"Washed into surface water body or wetland"]
[null,null,null,null,null,null,null,null,null,null,null,null,null,null,null,null,null,null,null,"More than 5 years",null,"Don't know"]
[null,"Foam",null,null,null,null,null,null,null,null,null,null,null,null,null,null,null,null,null,null,null,"Evaporation from pavement"]
[null,"Concentrate",null,null,null,null,null,null,null,null,null,null,null,null,null,null,null,null,null,"Frequency",null,"AFFFUltimate2"]
[null,null,null,null,null,null,"Nothing ",null,null,null,null,"Eye protection"]
[null,"ReleaseType",null,null,null,null,"Water",null,null,null,null,"Work gloves",null,null,null,null,"North",null,null,"0 to 5 gallons/ 0 to 20 L"]
[null,null,null,null,null,null,"Soap",null,null,null,null,"Nitrile gloves/other single-use gloves",null,null,null,null,"South",null,null,"5 to 20 gallons/ 20 to 75 L"]
[null,null,null,null,null,null,"Other",null,null,null,null,"Safety boots",null,null,null,null,"East",null,null,"20 to 50 gallons/ 75 to 190 L"]
[null,null,null,null,null,null,null,null,null,null,null,"Fire-retardant clothing/turnout gear",null,null,null,null,"West ",null,null,"50 to 100 gallons/ 190 to 375 L"]
[null,null,null,null,null,null,"Cleaning",null,null,null,null,"None",null,null,null,null,"Don't know",null,null,"100 to 500 gallons/ 375 to 1900 L"]
[null,null,null,null,null,null,null,null,null,null,null,"Other",null,null,null,null,null,null,null,"500 to 1000 gallons/ 1900 to 3800 L"]
[null,null,null,null,null,null,null,null,null,null,null,null,null,null,null,null,"Gwflow",null,null,"Greater than 1000 gallons/Greater than 3800 L"]
[null,null,null,null,null,null,null,null,null,null,null,"PPE",null,null,null,null,null,null,null,"Unknown"]
[null,null,null,null,null,null,null,null,null,null,null,null,null,null,null,null,null,null,null,"Volumes"]
[]
[null,null,"Forest",null,null,"0 to 1.5 ft/ 0 to 0.5 m",null,null,null,null,null,"Maintenance using hydraulic lubricants",null,null,null,null,"Dilution",null,null,"1 to 2 years",null,null,null,"Manufacturer"]
[null,null,"Meadow/field",null,null,"1.5 to 6.5 ft/ 0.5 to 2 m",null,null,null,null,null,"Herbicide/pesticide application",null,null,null,null,"Off-site",null,null,"2 to 5 years",null,null,null,"Sent off-site for disposal"]
[null,null,"Desert",null,null,"6.5 to 16 ft/ 2 to 5 m",null,null,null,null,null,"Aviation and/or industrial components",null,null,null,null,"Onsite treatment",null,null,"More than 5 years",null,null,null,"Down the drain"]
[null,null,"Tundra",null,null,"More than 16 ft/ More than 5 m",null,null,null,null,null,"Chrome plating",null,null,null,null,"Direct to ground surface",null,null,"Never",null,null,null,"Evaporated off of pavement"]
[null,null,null,null,null,null,null,null,null,null,null,"Do not know",null,null,null,null,"Surface water body",null,null,"DisposalTimeline3",null,null,null,"Soaked into the ground"]
[null,null,null,null,null,"DepthtoRock",null,null,null,null,null,null,null,null,null,null,"None",null,null,null,null,null,null,"Washed/runoff into surface water body"]
[null,null,"Habitats",null,null,null,null,null,null,null,null,"Other",null,null,null,null,"Return to manufacturer"]
[null,null,null,null,null,null,null,null,null,null,null,null,null,null,null,null,null,null,null,null,null,null,null,"Ultis"]
[null,null,null,null,null,null,null,null,null,null,null,null,null,null,null,null,"DisposalMethods2"]
[null,null,"0 to 165 ft/ 0 to 50 m",null,null,null,null,null,"Fire/ Emergency Response",null,null,null,null,null,null,null,null,null,null,"Petroleum hydrocarbons"]
[null,null,"165 to 330 ft/ 50 to 100 m",null,null,null,null,null,"Environmental Health & Safety",null,null,null,null,"Agricultural",null,null,null,null,null,"Chlorinated VOCs"]
[null,null,"330 ft to 0.3 miles/ 100 to 500 m",null,null,null,null,null,"Adminstration/ Management",null,null,null,null,"Residential/Parkland",null,null,null,null,null,"PAHs"]
[null,null," 0.3 to 0.6 miles/ 500 m to 1 km",null,null,null,null,null,"Operations",null,null,null,null,"Commercial",null,null,null,null,null,"Metals/Metalloids"]
[null,null,"0.6 to 3 miles/ 1 to 5 km",null,null,null,null,null,"Public Health & Safety",null,null,null,null,"Industrial",null,null,null,null,null,"PCBs"]
[null,null,"3 to 5 miles/ 5 to 8 km",null,null,null,null,null,"Training and Compliance",null,null,null,null,"Wildland/Undeveloped"]
[null,null,"Greater than  5 miles/ Greater than 8km",null,null,null,null,null,null,null,null,null,null,null,null,null,null,null,null,"Cocontaminants"]
[null,null,null,null,null,null,null,null,"Departments"]
[null,null,"SensitiveDistances",null,null,null,null,null,null,null,null,null,null,"LandUse"]
[]
[]
[null,null,null,null,null,null,"Enclosed",null,null,null,null,null,"Double",null,null,"Paved",null,null,null,null,"Less than 25 gallons/ Less than 95 L"]
[null,null,"Category A",null,null,null,"Covered",null,null,null,null,null,"Single",null,null,"Slightly cracked pavement",null,null,null,null,"25 to 75 gallons/ 95 to 285 L"]
[null,null,"Category B",null,null,null,"Outside or exposed directly to the elements",null,null,null,null,null,null,null,null,"Moderately cracked pavement",null,null,null,null,"75 to 250 gallons/ 285 to 945 L"]
[null,null,"Category C",null,null,null,null,null,null,null,null,null,"Containment",null,null,"Heavily cracked/broken pavement",null,null,null,null,"250 to 750 gallons/ 945 to 2,840 L"]
[null,null,"Category D",null,null,null,"Covering",null,null,null,null,null,null,null,null,"Earthen",null,null,null,null," 750 to 1,000 gallons/ 2, 840 to 3,785 L"]
[null,null,"Category E",null,null,null,null,null,null,null,null,null,null,null,null,null,null,null,null,null,"More than 1,000 gallons/ More than 3,785 L"]
[null,null,null,null,null,null,null,null,null,null,null,null,null,null,null,"Flooring"]
[null,null,"AirportSizes",null,null,null,null,null,null,null,null,null,null,null,null,null,null,null,null,null,"StoredVolume"]
[null,null,null,null,null,null,"Less than once per every 5 years",null,null,null,null,"Monthly or more frequently",null,null,"Mechanical pump",null,null,"Discharged into temporary storage containers and returned to the equipment"]
[null,null,null,null,null,null,"Between 1 and 5 years",null,null,null,null,"Quarterly",null,null,"Manual pump",null,null,"Kept in storage containers"]
[null,"Nothing",null,null,null,null,"Semi-anually",null,null,null,null,"Semi-anually",null,null,"Gravity/drain valve",null,null,"Discharged onto ground"]
[null,"Rinsed/flushed with water",null,null,null,null,"Annually",null,null,null,null,"Annually",null,null,"AFFF not removed",null,null,"Disposed of off-site"]
[null,"Cleaned with water and saop/detergent",null,null,null,null,"Monthly",null,null,null,null,"None"]
[]
[null,"CleaningEquip",null,null,null,null,"FrequencyUse",null,null,null,null,"EquipmentFreq",null,null,"AFFFremoval",null,null,"AFFFequipment"]
[]
[]
[]
[null,null,null,null,null,null,"None",null,null,null,null,null,"None",null,null,null,null,null,"Two or more people involved in the handling of AFFF"]
[null,null,null,null,null,null,"Less than 1 gallon/ Less than 3 L",null,null,null,null,null,"Less than 10 gallons/ Less than 38 L",null,null,null,null,null,"Clear procedural standards"]
[null,null,null,null,null,null,"1 to 2 gallons/ 3 to 8 L",null,null,null,null,null,"10 to 20 gallons/ 38 to 75 L",null,null,null,null,null,"Procedural training for those handling AFFF"]
["Less than once per every 5 years",null,null,null,null,null,"3 to 5 gallons/ 9 to 19 L",null,null,null,null,null,"21 to 30 gallons/ 76 to 114 L",null,null,null,null,null,"Ensuring fittings and connections on equipment are tight"]
[null,null,null,null,null,null,"More than 5 gallons/ More than 19 L",null,null,null,null,null,"31 to 50 gallons/ 115 to 189 L"]
[null,null,null,null,null,null,null,null,null,null,null,null,"More than 50 gallons/ More than 189 L",null,null,null,null,null,"AFFFBMPs"]
[null,null,null,null,null,null,"MaintVolume"]
[null,null,null,null,null,null,null,null,null,null,null,null,"RinsateVolume"]
[]
[]
[]
[null,"All",null,null,"Nothing",null,null,null,null,"Less than 200 gallons/ Less than760 L",null,null,null,null,"All",null,null,"Before 2010",null,"No runoff/infiltration"]
[null,"Four",null,null,"Rinsed/flushed with water",null,null,null,null,"More than 200 gallons/ More than 760 L",null,null,null,null,"Three",null,null,"After 2010",null,"Overland flow via grassed ditches/swales to surface water body"]
[null,"Three ",null,null,"Cleaned with water and soap/detergent",null,null,null,null,"None",null,null,null,null,"Two",null,null,"Don't know",null,"Overland flow via lined conveyance systems to surface water body"]
[null,"Two ",null,null,"Rinsed/flushed with a solvent",null,null,null,null,null,null,null,null,null,"One",null,null,null,null,"Collected and treated on-site"]
[null,"One",null,null,null,null,null,null,null,null,null,null,null,null,"None",null,null,"LegRelease"]
[null,"None",null,null,"Rinsate",null,null,null,null,"RinseVol",null,null,null,null,null,null,null,null,null,"RunoffFlow"]
[null,"PPEAmounts",null,null,null,null,null,null,null,null,null,null,null,null,"MaintBMPs"]
[]
[]
[null,"Paved (concrete or asphalt)",null,null,null,null,"0 to 1640 ft/ 0 to 500 m"]
[null,"Unvegetated Soil/gravel",null,null,null,null,"1640 ft to 0.6 miles/ 500 m to 1 km",null,null,null,null,null,"Yes - workers during daily operations",null,null,null,null,null,"Sent off-site for disposal",null,null,null,null,"1 to 2 years"]
[null,"Vegetated - Treed/forested",null,null,null,null,"0.6 to 3 miles/ 1 to 5 km",null,null,null,null,null,"Yes - workers during weekly operations",null,null,null,null,null,"Down the drain",null,null,null,null,"2 to 5 years"]
[null,"Vegetated - Meadow/grassland",null,null,null,null,"Greater than 3 miles/ Greater than 5 km",null,null,null,null,null,"Yes - workers during monthly operations",null,null,null,null,null,"Evaporated off of pavement",null,null,null,null,"More than 5 years"]
[null,null,null,null,null,null,null,null,null,null,null,null,"Yes - workers during emergency operations",null,null,null,null,null,"Soaked into the ground"]
[null,"ImmedCover",null,null,null,null,"Distance",null,null,null,null,null,"Yes- trespassers",null,null,null,null,null,"Washed/runoff into surface water body",null,null,null,null,"DisposalTimeline4"]
[null,null,null,null,null,null,null,null,null,null,null,null,"No"]
[null,null,null,null,null,null,null,null,null,null,null,null,"Don't know"]
[null,null,null,null,null,null,null,null,null,null,null,null,null,null,null,null,null,null,"UseUltis"]
[null,"Potable well",null,null,null,null,null,null,null,null,null,null,"PeopleExpo"]
[null,"Municipal water supply well"]
[null,"Surface water body"]
[]
[null,"Potable"]
[]
[]
[null,"English"]
[null,"Metric"]
[]
[null,"UnitType"]