{"text_format":"1","workbook":"xlsx","n_sheets":11,"sheets":["Instructions","Descriptive Characteristics","PM#1 - Availability Tier A","PM#1 - Availability Tier B","PM #1 - Availability Tier C","PM #2 - Safety","PM #3 - O&M Expense","PM #4 - Capacity","PM #5 - Passenger Satisfaction","PM #6 - Missed Stations","PM #7 - Unintended Stops"],"not_rendered":{"charts":0,"images":0,"macros":0,"external_links":0,"defined_names":0,"comments":0,"pivot_tables":0},"unopened":[],"bounds":{"document_bytes":16777216,"sheet_cells":100000,"rows_first":2000,"rows_last":500,"rows_between":2000,"halvings":0,"cell_chars":16384,"cell_head_chars":4096},"cells_cut":0,"cells_raw":0,"read":"whole","date_system":"1900"}

{"sheet":"Instructions","index":0,"n_rows":6,"n_cols":2,"rows_kept":6,"cut":false,"hidden":false,"merged":[]}
[]
[null," - cells shaded with this color indicate input data cells"]
[]
[null," - cells shaded with this color should not be changed since they contain labels and/or formulas."]
[]
["For definition of acronyms, refer to guidebook."]

{"sheet":"Descriptive Characteristics","index":1,"n_rows":389,"n_cols":14,"rows_kept":389,"cut":false,"hidden":false,"merged":[]}
[]
["System Descriptive Characteristics","January","February","March","April","May","June","July","August","September","October","November","December","Comments"]
["  Single Lane Feet of Guideway, Mainline:"]
["  Single Lane Feet of Guideway, Other:"]
["  Routes Operated in Maximum Service:"]
["  Trip Time in Maximum Service, by Route:"]
["  Stations:"]
["  Vehicles in Total Fleet:"]
[]
[]
["Service\nDescriptive\nCharacteristics:","Passenger\nTrips\n(#)","Vehicle\nService\nMiles\n(#)","Vehicles Operated in Maximum Service\n(#)","Vehicles Available for Maximum Service\n(#)","Headway in Maximum Service\n(hh:mm:ss)"]
["January:",{"$f":"SUM(B13:B43)","v":0},{"$f":"SUM(C13:C43)","v":0},{"$f":"MAX(D13:D43)","v":0},{"$f":"MAX(E13:E43)","v":0},"00:00:00"]
["2011-01-01"]
["2011-01-02"]
["2011-01-03"]
["2011-01-04"]
["2011-01-05"]
["2011-01-06"]
["2011-01-07"]
["2011-01-08"]
["2011-01-09"]
["2011-01-10"]
["2011-01-11"]
["2011-01-12"]
["2011-01-13"]
["2011-01-14"]
["2011-01-15"]
["2011-01-16"]
["2011-01-17"]
["2011-01-18"]
["2011-01-19"]
["2011-01-20"]
["2011-01-21"]
["2011-01-22"]
["2011-01-23"]
["2011-01-24"]
["2011-01-25"]
["2011-01-26"]
["2011-01-27"]
["2011-01-28"]
["2011-01-29"]
["2011-01-30"]
["2011-01-31"]
["February:",{"$f":"SUM(B45:B72)","v":0},{"$f":"SUM(C45:C72)","v":0},{"$f":"MAX(D45:D72)","v":0},{"$f":"MAX(E45:E72)","v":0},{"$f":"MAX(F45:F72)","v":"00:00:00"}]
["2011-02-01"]
["2011-02-02"]
["2011-02-03"]
["2011-02-04"]
["2011-02-05"]
["2011-02-06"]
["2011-02-07"]
["2011-02-08"]
["2011-02-09"]
["2011-02-10"]
["2011-02-11"]
["2011-02-12"]
["2011-02-13"]
["2011-02-14"]
["2011-02-15"]
["2011-02-16"]
["2011-02-17"]
["2011-02-18"]
["2011-02-19"]
["2011-02-20"]
["2011-02-21"]
["2011-02-22"]
["2011-02-23"]
["2011-02-24"]
["2011-02-25"]
["2011-02-26"]
["2011-02-27"]
["2011-02-28"]
["March:",{"$f":"SUM(B74:B104)","v":0},{"$f":"SUM(C74:C104)","v":0},{"$f":"MAX(D74:D104)","v":0},{"$f":"MAX(E74:E104)","v":0},{"$f":"MAX(F74:F104)","v":"00:00:00"}]
["2011-03-01"]
["2011-03-02"]
["2011-03-03"]
["2011-03-04"]
["2011-03-05"]
["2011-03-06"]
["2011-03-07"]
["2011-03-08"]
["2011-03-09"]
["2011-03-10"]
["2011-03-11"]
["2011-03-12"]
["2011-03-13"]
["2011-03-14"]
["2011-03-15"]
["2011-03-16"]
["2011-03-17"]
["2011-03-18"]
["2011-03-19"]
["2011-03-20"]
["2011-03-21"]
["2011-03-22"]
["2011-03-23"]
["2011-03-24"]
["2011-03-25"]
["2011-03-26"]
["2011-03-27"]
["2011-03-28"]
["2011-03-29"]
["2011-03-30"]
["2011-03-31"]
["April:",{"$f":"SUM(B106:B135)","v":0},{"$f":"SUM(C106:C135)","v":0},{"$f":"MAX(D106:D135)","v":0},{"$f":"MAX(E106:E135)","v":0},{"$f":"MAX(F106:F135)","v":"00:00:00"}]
["2011-04-01"]
["2011-04-02"]
["2011-04-03"]
["2011-04-04"]
["2011-04-05"]
["2011-04-06"]
["2011-04-07"]
["2011-04-08"]
["2011-04-09"]
["2011-04-10"]
["2011-04-11"]
["2011-04-12"]
["2011-04-13"]
["2011-04-14"]
["2011-04-15"]
["2011-04-16"]
["2011-04-17"]
["2011-04-18"]
["2011-04-19"]
["2011-04-20"]
["2011-04-21"]
["2011-04-22"]
["2011-04-23"]
["2011-04-24"]
["2011-04-25"]
["2011-04-26"]
["2011-04-27"]
["2011-04-28"]
["2011-04-29"]
["2011-04-30"]
["May:",{"$f":"SUM(B137:B167)","v":0},{"$f":"SUM(C137:C167)","v":0},{"$f":"MAX(D137:D167)","v":0},{"$f":"MAX(E137:E167)","v":0},{"$f":"MAX(F137:F167)","v":"00:00:00"}]
["2011-05-01"]
["2011-05-02"]
["2011-05-03"]
["2011-05-04"]
["2011-05-05"]
["2011-05-06"]
["2011-05-07"]
["2011-05-08"]
["2011-05-09"]
["2011-05-10"]
["2011-05-11"]
["2011-05-12"]
["2011-05-13"]
["2011-05-14"]
["2011-05-15"]
["2011-05-16"]
["2011-05-17"]
["2011-05-18"]
["2011-05-19"]
["2011-05-20"]
["2011-05-21"]
["2011-05-22"]
["2011-05-23"]
["2011-05-24"]
["2011-05-25"]
["2011-05-26"]
["2011-05-27"]
["2011-05-28"]
["2011-05-29"]
["2011-05-30"]
["2011-05-31"]
["June:",{"$f":"SUM(B169:B198)","v":0},{"$f":"SUM(C169:C198)","v":0},{"$f":"MAX(D169:D198)","v":0},{"$f":"MAX(E169:E198)","v":0},{"$f":"MAX(F169:F198)","v":"00:00:00"}]
["2011-06-01"]
["2011-06-02"]
["2011-06-03"]
["2011-06-04"]
["2011-06-05"]
["2011-06-06"]
["2011-06-07"]
["2011-06-08"]
["2011-06-09"]
["2011-06-10"]
["2011-06-11"]
["2011-06-12"]
["2011-06-13"]
["2011-06-14"]
["2011-06-15"]
["2011-06-16"]
["2011-06-17"]
["2011-06-18"]
["2011-06-19"]
["2011-06-20"]
["2011-06-21"]
["2011-06-22"]
["2011-06-23"]
["2011-06-24"]
["2011-06-25"]
["2011-06-26"]
["2011-06-27"]
["2011-06-28"]
["2011-06-29"]
["2011-06-30"]
["July:",{"$f":"SUM(B200:B230)","v":0},{"$f":"SUM(C200:C230)","v":0},{"$f":"MAX(D200:D230)","v":0},{"$f":"MAX(E200:E230)","v":0},{"$f":"MAX(F200:F230)","v":"00:00:00"}]
["2011-07-01"]
["2011-07-02"]
["2011-07-03"]
["2011-07-04"]
["2011-07-05"]
["2011-07-06"]
["2011-07-07"]
["2011-07-08"]
["2011-07-09"]
["2011-07-10"]
["2011-07-11"]
["2011-07-12"]
["2011-07-13"]
["2011-07-14"]
["2011-07-15"]
["2011-07-16"]
["2011-07-17"]
["2011-07-18"]
["2011-07-19"]
["2011-07-20"]
["2011-07-21"]
["2011-07-22"]
["2011-07-23"]
["2011-07-24"]
["2011-07-25"]
["2011-07-26"]
["2011-07-27"]
["2011-07-28"]
["2011-07-29"]
["2011-07-30"]
["2011-07-31"]
["August:",{"$f":"SUM(B232:B262)","v":0},{"$f":"SUM(C232:C262)","v":0},{"$f":"MAX(D232:D262)","v":0},{"$f":"MAX(E232:E262)","v":0},{"$f":"MAX(F232:F262)","v":"00:00:00"}]
["2011-08-01"]
["2011-08-02"]
["2011-08-03"]
["2011-08-04"]
["2011-08-05"]
["2011-08-06"]
["2011-08-07"]
["2011-08-08"]
["2011-08-09"]
["2011-08-10"]
["2011-08-11"]
["2011-08-12"]
["2011-08-13"]
["2011-08-14"]
["2011-08-15"]
["2011-08-16"]
["2011-08-17"]
["2011-08-18"]
["2011-08-19"]
["2011-08-20"]
["2011-08-21"]
["2011-08-22"]
["2011-08-23"]
["2011-08-24"]
["2011-08-25"]
["2011-08-26"]
["2011-08-27"]
["2011-08-28"]
["2011-08-29"]
["2011-08-30"]
["2011-08-31"]
["September:",{"$f":"SUM(B264:B293)","v":0},{"$f":"SUM(C264:C293)","v":0},{"$f":"MAX(D264:D293)","v":0},{"$f":"MAX(E264:E293)","v":0},{"$f":"MAX(F264:F293)","v":"00:00:00"}]
["2011-09-01"]
["2011-09-02"]
["2011-09-03"]
["2011-09-04"]
["2011-09-05"]
["2011-09-06"]
["2011-09-07"]
["2011-09-08"]
["2011-09-09"]
["2011-09-10"]
["2011-09-11"]
["2011-09-12"]
["2011-09-13"]
["2011-09-14"]
["2011-09-15"]
["2011-09-16"]
["2011-09-17"]
["2011-09-18"]
["2011-09-19"]
["2011-09-20"]
["2011-09-21"]
["2011-09-22"]
["2011-09-23"]
["2011-09-24"]
["2011-09-25"]
["2011-09-26"]
["2011-09-27"]
["2011-09-28"]
["2011-09-29"]
["2011-09-30"]
["October:",{"$f":"SUM(B295:B325)","v":0},{"$f":"SUM(C295:C325)","v":0},{"$f":"MAX(D295:D325)","v":0},{"$f":"MAX(E295:E325)","v":0},{"$f":"MAX(F295:F325)","v":"00:00:00"}]
["2011-10-01"]
["2011-10-02"]
["2011-10-03"]
["2011-10-04"]
["2011-10-05"]
["2011-10-06"]
["2011-10-07"]
["2011-10-08"]
["2011-10-09"]
["2011-10-10"]
["2011-10-11"]
["2011-10-12"]
["2011-10-13"]
["2011-10-14"]
["2011-10-15"]
["2011-10-16"]
["2011-10-17"]
["2011-10-18"]
["2011-10-19"]
["2011-10-20"]
["2011-10-21"]
["2011-10-22"]
["2011-10-23"]
["2011-10-24"]
["2011-10-25"]
["2011-10-26"]
["2011-10-27"]
["2011-10-28"]
["2011-10-29"]
["2011-10-30"]
["2011-10-31"]
["November:",{"$f":"SUM(B327:B356)","v":0},{"$f":"SUM(C327:C356)","v":0},{"$f":"MAX(D327:D356)","v":0},{"$f":"MAX(E327:E356)","v":0},{"$f":"MAX(F327:F356)","v":"00:00:00"}]
["2011-11-01"]
["2011-11-02"]
["2011-11-03"]
["2011-11-04"]
["2011-11-05"]
["2011-11-06"]
["2011-11-07"]
["2011-11-08"]
["2011-11-09"]
["2011-11-10"]
["2011-11-11"]
["2011-11-12"]
["2011-11-13"]
["2011-11-14"]
["2011-11-15"]
["2011-11-16"]
["2011-11-17"]
["2011-11-18"]
["2011-11-19"]
["2011-11-20"]
["2011-11-21"]
["2011-11-22"]
["2011-11-23"]
["2011-11-24"]
["2011-11-25"]
["2011-11-26"]
["2011-11-27"]
["2011-11-28"]
["2011-11-29"]
["2011-11-30"]
["December:",{"$f":"SUM(B358:B388)","v":0},{"$f":"SUM(C358:C388)","v":0},{"$f":"MAX(D358:D388)","v":0},{"$f":"MAX(E358:E388)","v":0},{"$f":"MAX(F358:F388)","v":"00:00:00"}]
["2011-12-01"]
["2011-12-02"]
["2011-12-03"]
["2011-12-04"]
["2011-12-05"]
["2011-12-06"]
["2011-12-07"]
["2011-12-08"]
["2011-12-09"]
["2011-12-10"]
["2011-12-11"]
["2011-12-12"]
["2011-12-13"]
["2011-12-14"]
["2011-12-15"]
["2011-12-16"]
["2011-12-17"]
["2011-12-18"]
["2011-12-19"]
["2011-12-20"]
["2011-12-21"]
["2011-12-22"]
["2011-12-23"]
["2011-12-24"]
["2011-12-25"]
["2011-12-26"]
["2011-12-27"]
["2011-12-28"]
["2011-12-29"]
["2011-12-30"]
["2011-12-31"]
["Year-To-Date:",{"$f":"SUM(B12,B44,B73,B105,B136,B168,B199,B231,B263,B294,B326,B357)","v":0},{"$f":"SUM(C12,C44,C73,C105,C136,C168,C199,C231,C263,C294,C326,C357)","v":0},{"$f":"MAX(D12,D44,D73,D105,D136,D168,D199,D231,D263,D294,D326,D357)","v":0},{"$f":"MAX(E12,E44,E73,E105,E136,E168,E199,E231,E263,E294,E326,E357)","v":0},"00:00:00"]

{"sheet":"PM#1 - Availability Tier A","index":2,"n_rows":380,"n_cols":14,"rows_kept":380,"cut":false,"hidden":false,"merged":[[1,0,2,0],[1,11,1,13],[1,2,1,9],[1,1,2,1],[1,10,2,10]]}
[]
["Date","SOT\n(seconds)","Downtime\n(seconds)",null,null,null,null,null,null,null,"AOT\n(seconds)","Service Availability\n(%)"]
[null,null,"Weather","Passenger","System Equipment","Facilities","Utility","O&M","Other","Total",null,"Day","Month-To-Date","Year-To-Date"]
["January",{"$f":"SUM(B5:B35)","v":0},{"$f":"SUM(C5:C35)","v":0},{"$f":"SUM(D5:D35)","v":0},0,0,0,0,0,0,{"$f":"B4-J4","v":0},null,{"$f":"IF(B4=0,\"\",K4/B4)","v":""}]
["2011-01-01",null,null,null,null,null,null,null,null,{"$f":"SUM(C5:I5)","v":0},{"$f":"B5-J5","v":0},{"$f":"IF(B5=\"\",\"\",K5/B5)","v":""}]
["2011-01-02",null,null,null,null,null,null,null,null,{"$f":"SUM(C6:I6)","v":0},{"$f":"B6-J6","v":0},{"$f":"IF(B6=\"\",\"\",K6/B6)","v":""}]
["2011-01-03",null,null,null,null,null,null,null,null,0,0,""]
["2011-01-04",null,null,null,null,null,null,null,null,0,0,""]
["2011-01-05",null,null,null,null,null,null,null,null,0,0,""]
["2011-01-06",null,null,null,null,null,null,null,null,0,0,""]
["2011-01-07",null,null,null,null,null,null,null,null,0,0,""]
["2011-01-08",null,null,null,null,null,null,null,null,0,0,""]
["2011-01-09",null,null,null,null,null,null,null,null,0,0,""]
["2011-01-10",null,null,null,null,null,null,null,null,0,0,""]
["2011-01-11",null,null,null,null,null,null,null,null,0,0,""]
["2011-01-12",null,null,null,null,null,null,null,null,0,0,""]
["2011-01-13",null,null,null,null,null,null,null,null,0,0,""]
["2011-01-14",null,null,null,null,null,null,null,null,0,0,""]
["2011-01-15",null,null,null,null,null,null,null,null,0,0,""]
["2011-01-16",null,null,null,null,null,null,null,null,0,0,""]
["2011-01-17",null,null,null,null,null,null,null,null,0,0,""]
["2011-01-18",null,null,null,null,null,null,null,null,0,0,""]
["2011-01-19",null,null,null,null,null,null,null,null,0,0,""]
["2011-01-20",null,null,null,null,null,null,null,null,0,0,""]
["2011-01-21",null,null,null,null,null,null,null,null,0,0,""]
["2011-01-22",null,null,null,null,null,null,null,null,0,0,""]
["2011-01-23",null,null,null,null,null,null,null,null,0,0,""]
["2011-01-24",null,null,null,null,null,null,null,null,0,0,""]
["2011-01-25",null,null,null,null,null,null,null,null,0,0,""]
["2011-01-26",null,null,null,null,null,null,null,null,0,0,""]
["2011-01-27",null,null,null,null,null,null,null,null,0,0,""]
["2011-01-28",null,null,null,null,null,null,null,null,0,0,""]
["2011-01-29",null,null,null,null,null,null,null,null,0,0,""]
["2011-01-30",null,null,null,null,null,null,null,null,0,0,""]
["2011-01-31",null,null,null,null,null,null,null,null,0,0,""]
["February",{"$f":"SUM(B37:B64)","v":0},{"$f":"SUM(C37:C64)","v":0},0,0,0,0,0,0,0,{"$f":"B36-J36","v":0},null,{"$f":"IF(B36=0,\"\",K36/B36)","v":""}]
["2011-02-01",null,null,null,null,null,null,null,null,0,0,""]
["2011-02-02",null,null,null,null,null,null,null,null,0,0,""]
["2011-02-03",null,null,null,null,null,null,null,null,0,0,""]
["2011-02-04",null,null,null,null,null,null,null,null,0,0,""]
["2011-02-05",null,null,null,null,null,null,null,null,0,0,""]
["2011-02-06",null,null,null,null,null,null,null,null,0,0,""]
["2011-02-07",null,null,null,null,null,null,null,null,0,0,""]
["2011-02-08",null,null,null,null,null,null,null,null,0,0,""]
["2011-02-09",null,null,null,null,null,null,null,null,0,0,""]
["2011-02-10",null,null,null,null,null,null,null,null,0,0,""]
["2011-02-11",null,null,null,null,null,null,null,null,0,0,""]
["2011-02-12",null,null,null,null,null,null,null,null,0,0,""]
["2011-02-13",null,null,null,null,null,null,null,null,0,0,""]
["2011-02-14",null,null,null,null,null,null,null,null,0,0,""]
["2011-02-15",null,null,null,null,null,null,null,null,0,0,""]
["2011-02-16",null,null,null,null,null,null,null,null,0,0,""]
["2011-02-17",null,null,null,null,null,null,null,null,0,0,""]
["2011-02-18",null,null,null,null,null,null,null,null,0,0,""]
["2011-02-19",null,null,null,null,null,null,null,null,0,0,""]
["2011-02-20",null,null,null,null,null,null,null,null,0,0,""]
["2011-02-21",null,null,null,null,null,null,null,null,0,0,""]
["2011-02-22",null,null,null,null,null,null,null,null,0,0,""]
["2011-02-23",null,null,null,null,null,null,null,null,0,0,""]
["2011-02-24",null,null,null,null,null,null,null,null,0,0,""]
["2011-02-25",null,null,null,null,null,null,null,null,0,0,""]
["2011-02-26",null,null,null,null,null,null,null,null,0,0,""]
["2011-02-27",null,null,null,null,null,null,null,null,0,0,""]
["2011-02-28",null,null,null,null,null,null,null,null,0,0,""]
["March",{"$f":"SUM(B66:B96)","v":0},{"$f":"SUM(C66:C96)","v":0},0,0,0,0,0,0,0,{"$f":"B65-J65","v":0},null,{"$f":"IF(B65=0,\"\",K65/B65)","v":""}]
["2011-03-01",null,null,null,null,null,null,null,null,0,0,""]
["2011-03-02",null,null,null,null,null,null,null,null,0,0,""]
["2011-03-03",null,null,null,null,null,null,null,null,0,0,""]
["2011-03-04",null,null,null,null,null,null,null,null,0,0,""]
["2011-03-05",null,null,null,null,null,null,null,null,0,0,""]
["2011-03-06",null,null,null,null,null,null,null,null,0,0,""]
["2011-03-07",null,null,null,null,null,null,null,null,{"$f":"SUM(C72:I72)","v":0},{"$f":"B72-J72","v":0},{"$f":"IF(B72=\"\",\"\",K72/B72)","v":""}]
["2011-03-08",null,null,null,null,null,null,null,null,0,0,""]
["2011-03-09",null,null,null,null,null,null,null,null,0,0,""]
["2011-03-10",null,null,null,null,null,null,null,null,0,0,""]
["2011-03-11",null,null,null,null,null,null,null,null,0,0,""]
["2011-03-12",null,null,null,null,null,null,null,null,0,0,""]
["2011-03-13",null,null,null,null,null,null,null,null,0,0,""]
["2011-03-14",null,null,null,null,null,null,null,null,0,0,""]
["2011-03-15",null,null,null,null,null,null,null,null,0,0,""]
["2011-03-16",null,null,null,null,null,null,null,null,0,0,""]
["2011-03-17",null,null,null,null,null,null,null,null,0,0,""]
["2011-03-18",null,null,null,null,null,null,null,null,0,0,""]
["2011-03-19",null,null,null,null,null,null,null,null,0,0,""]
["2011-03-20",null,null,null,null,null,null,null,null,0,0,""]
["2011-03-21",null,null,null,null,null,null,null,null,0,0,""]
["2011-03-22",null,null,null,null,null,null,null,null,0,0,""]
["2011-03-23",null,null,null,null,null,null,null,null,0,0,""]
["2011-03-24",null,null,null,null,null,null,null,null,0,0,""]
["2011-03-25",null,null,null,null,null,null,null,null,0,0,""]
["2011-03-26",null,null,null,null,null,null,null,null,0,0,""]
["2011-03-27",null,null,null,null,null,null,null,null,0,0,""]
["2011-03-28",null,null,null,null,null,null,null,null,0,0,""]
["2011-03-29",null,null,null,null,null,null,null,null,0,0,""]
["2011-03-30",null,null,null,null,null,null,null,null,0,0,""]
["2011-03-31",null,null,null,null,null,null,null,null,0,0,""]
["April",{"$f":"SUM(B98:B127)","v":0},{"$f":"SUM(C98:C127)","v":0},0,0,0,0,0,0,0,{"$f":"B97-J97","v":0},null,{"$f":"IF(B97=0,\"\",K97/B97)","v":""}]
["2011-04-01",null,null,null,null,null,null,null,null,0,0,""]
["2011-04-02",null,null,null,null,null,null,null,null,0,0,""]
["2011-04-03",null,null,null,null,null,null,null,null,0,0,""]
["2011-04-04",null,null,null,null,null,null,null,null,0,0,""]
["2011-04-05",null,null,null,null,null,null,null,null,0,0,""]
["2011-04-06",null,null,null,null,null,null,null,null,0,0,""]
["2011-04-07",null,null,null,null,null,null,null,null,0,0,""]
["2011-04-08",null,null,null,null,null,null,null,null,0,0,""]
["2011-04-09",null,null,null,null,null,null,null,null,0,0,""]
["2011-04-10",null,null,null,null,null,null,null,null,0,0,""]
["2011-04-11",null,null,null,null,null,null,null,null,0,0,""]
["2011-04-12",null,null,null,null,null,null,null,null,0,0,""]
["2011-04-13",null,null,null,null,null,null,null,null,0,0,""]
["2011-04-14",null,null,null,null,null,null,null,null,0,0,""]
["2011-04-15",null,null,null,null,null,null,null,null,0,0,""]
["2011-04-16",null,null,null,null,null,null,null,null,0,0,""]
["2011-04-17",null,null,null,null,null,null,null,null,0,0,""]
["2011-04-18",null,null,null,null,null,null,null,null,0,0,""]
["2011-04-19",null,null,null,null,null,null,null,null,0,0,""]
["2011-04-20",null,null,null,null,null,null,null,null,0,0,""]
["2011-04-21",null,null,null,null,null,null,null,null,0,0,""]
["2011-04-22",null,null,null,null,null,null,null,null,0,0,""]
["2011-04-23",null,null,null,null,null,null,null,null,0,0,""]
["2011-04-24",null,null,null,null,null,null,null,null,0,0,""]
["2011-04-25",null,null,null,null,null,null,null,null,0,0,""]
["2011-04-26",null,null,null,null,null,null,null,null,0,0,""]
["2011-04-27",null,null,null,null,null,null,null,null,0,0,""]
["2011-04-28",null,null,null,null,null,null,null,null,0,0,""]
["2011-04-29",null,null,null,null,null,null,null,null,0,0,""]
["2011-04-30",null,null,null,null,null,null,null,null,0,0,""]
["May",{"$f":"SUM(B129:B159)","v":0},{"$f":"SUM(C129:C159)","v":0},0,0,0,0,0,0,0,{"$f":"B128-J128","v":0},null,{"$f":"IF(B128=0,\"\",K128/B128)","v":""}]
["2011-05-01",null,null,null,null,null,null,null,null,0,0,""]
["2011-05-02",null,null,null,null,null,null,null,null,0,0,""]
["2011-05-03",null,null,null,null,null,null,null,null,0,0,""]
["2011-05-04",null,null,null,null,null,null,null,null,0,0,""]
["2011-05-05",null,null,null,null,null,null,null,null,0,0,""]
["2011-05-06",null,null,null,null,null,null,null,null,0,0,""]
["2011-05-07",null,null,null,null,null,null,null,null,0,0,""]
["2011-05-08",null,null,null,null,null,null,null,null,0,0,""]
["2011-05-09",null,null,null,null,null,null,null,null,0,0,""]
["2011-05-10",null,null,null,null,null,null,null,null,{"$f":"SUM(C138:I138)","v":0},{"$f":"B138-J138","v":0},{"$f":"IF(B138=\"\",\"\",K138/B138)","v":""}]
["2011-05-11",null,null,null,null,null,null,null,null,0,0,""]
["2011-05-12",null,null,null,null,null,null,null,null,0,0,""]
["2011-05-13",null,null,null,null,null,null,null,null,0,0,""]
["2011-05-14",null,null,null,null,null,null,null,null,0,0,""]
["2011-05-15",null,null,null,null,null,null,null,null,0,0,""]
["2011-05-16",null,null,null,null,null,null,null,null,0,0,""]
["2011-05-17",null,null,null,null,null,null,null,null,0,0,""]
["2011-05-18",null,null,null,null,null,null,null,null,0,0,""]
["2011-05-19",null,null,null,null,null,null,null,null,0,0,""]
["2011-05-20",null,null,null,null,null,null,null,null,0,0,""]
["2011-05-21",null,null,null,null,null,null,null,null,0,0,""]
["2011-05-22",null,null,null,null,null,null,null,null,0,0,""]
["2011-05-23",null,null,null,null,null,null,null,null,0,0,""]
["2011-05-24",null,null,null,null,null,null,null,null,0,0,""]
["2011-05-25",null,null,null,null,null,null,null,null,0,0,""]
["2011-05-26",null,null,null,null,null,null,null,null,0,0,""]
["2011-05-27",null,null,null,null,null,null,null,null,0,0,""]
["2011-05-28",null,null,null,null,null,null,null,null,0,0,""]
["2011-05-29",null,null,null,null,null,null,null,null,0,0,""]
["2011-05-30",null,null,null,null,null,null,null,null,0,0,""]
["2011-05-31",null,null,null,null,null,null,null,null,0,0,""]
["June",{"$f":"SUM(B161:B190)","v":0},{"$f":"SUM(C161:C190)","v":0},0,0,0,0,0,0,0,{"$f":"B160-J160","v":0},null,{"$f":"IF(B160=0,\"\",K160/B160)","v":""}]
["2011-06-01",null,null,null,null,null,null,null,null,0,0,""]
["2011-06-02",null,null,null,null,null,null,null,null,0,0,""]
["2011-06-03",null,null,null,null,null,null,null,null,0,0,""]
["2011-06-04",null,null,null,null,null,null,null,null,0,0,""]
["2011-06-05",null,null,null,null,null,null,null,null,0,0,""]
["2011-06-06",null,null,null,null,null,null,null,null,0,0,""]
["2011-06-07",null,null,null,null,null,null,null,null,0,0,""]
["2011-06-08",null,null,null,null,null,null,null,null,0,0,""]
["2011-06-09",null,null,null,null,null,null,null,null,0,0,""]
["2011-06-10",null,null,null,null,null,null,null,null,0,0,""]
["2011-06-11",null,null,null,null,null,null,null,null,0,0,""]
["2011-06-12",null,null,null,null,null,null,null,null,0,0,""]
["2011-06-13",null,null,null,null,null,null,null,null,0,0,""]
["2011-06-14",null,null,null,null,null,null,null,null,0,0,""]
["2011-06-15",null,null,null,null,null,null,null,null,0,0,""]
["2011-06-16",null,null,null,null,null,null,null,null,0,0,""]
["2011-06-17",null,null,null,null,null,null,null,null,0,0,""]
["2011-06-18",null,null,null,null,null,null,null,null,0,0,""]
["2011-06-19",null,null,null,null,null,null,null,null,0,0,""]
["2011-06-20",null,null,null,null,null,null,null,null,0,0,""]
["2011-06-21",null,null,null,null,null,null,null,null,0,0,""]
["2011-06-22",null,null,null,null,null,null,null,null,0,0,""]
["2011-06-23",null,null,null,null,null,null,null,null,0,0,""]
["2011-06-24",null,null,null,null,null,null,null,null,0,0,""]
["2011-06-25",null,null,null,null,null,null,null,null,0,0,""]
["2011-06-26",null,null,null,null,null,null,null,null,0,0,""]
["2011-06-27",null,null,null,null,null,null,null,null,0,0,""]
["2011-06-28",null,null,null,null,null,null,null,null,0,0,""]
["2011-06-29",null,null,null,null,null,null,null,null,0,0,""]
["2011-06-30",null,null,null,null,null,null,null,null,0,0,""]
["July",{"$f":"SUM(B192:B222)","v":0},{"$f":"SUM(C192:C222)","v":0},0,0,0,0,0,0,0,{"$f":"B191-J191","v":0},null,{"$f":"IF(B191=0,\"\",K191/B191)","v":""}]
["2011-07-01",null,null,null,null,null,null,null,null,0,0,""]
["2011-07-02",null,null,null,null,null,null,null,null,0,0,""]
["2011-07-03",null,null,null,null,null,null,null,null,0,0,""]
["2011-07-04",null,null,null,null,null,null,null,null,0,0,""]
["2011-07-05",null,null,null,null,null,null,null,null,0,0,""]
["2011-07-06",null,null,null,null,null,null,null,null,0,0,""]
["2011-07-07",null,null,null,null,null,null,null,null,0,0,""]
["2011-07-08",null,null,null,null,null,null,null,null,0,0,""]
["2011-07-09",null,null,null,null,null,null,null,null,0,0,""]
["2011-07-10",null,null,null,null,null,null,null,null,0,0,""]
["2011-07-11",null,null,null,null,null,null,null,null,0,0,""]
["2011-07-12",null,null,null,null,null,null,null,null,0,0,""]
["2011-07-13",null,null,null,null,null,null,null,null,{"$f":"SUM(C204:I204)","v":0},{"$f":"B204-J204","v":0},{"$f":"IF(B204=\"\",\"\",K204/B204)","v":""}]
["2011-07-14",null,null,null,null,null,null,null,null,0,0,""]
["2011-07-15",null,null,null,null,null,null,null,null,0,0,""]
["2011-07-16",null,null,null,null,null,null,null,null,0,0,""]
["2011-07-17",null,null,null,null,null,null,null,null,0,0,""]
["2011-07-18",null,null,null,null,null,null,null,null,0,0,""]
["2011-07-19",null,null,null,null,null,null,null,null,0,0,""]
["2011-07-20",null,null,null,null,null,null,null,null,0,0,""]
["2011-07-21",null,null,null,null,null,null,null,null,0,0,""]
["2011-07-22",null,null,null,null,null,null,null,null,0,0,""]
["2011-07-23",null,null,null,null,null,null,null,null,0,0,""]
["2011-07-24",null,null,null,null,null,null,null,null,0,0,""]
["2011-07-25",null,null,null,null,null,null,null,null,0,0,""]
["2011-07-26",null,null,null,null,null,null,null,null,0,0,""]
["2011-07-27",null,null,null,null,null,null,null,null,0,0,""]
["2011-07-28",null,null,null,null,null,null,null,null,0,0,""]
["2011-07-29",null,null,null,null,null,null,null,null,0,0,""]
["2011-07-30",null,null,null,null,null,null,null,null,0,0,""]
["2011-07-31",null,null,null,null,null,null,null,null,0,0,""]
["August",{"$f":"SUM(B224:B254)","v":0},{"$f":"SUM(C224:C254)","v":0},0,0,0,0,0,0,0,{"$f":"B223-J223","v":0},null,{"$f":"IF(B223=0,\"\",K223/B223)","v":""}]
["2011-08-01",null,null,null,null,null,null,null,null,0,0,""]
["2011-08-02",null,null,null,null,null,null,null,null,0,0,""]
["2011-08-03",null,null,null,null,null,null,null,null,0,0,""]
["2011-08-04",null,null,null,null,null,null,null,null,0,0,""]
["2011-08-05",null,null,null,null,null,null,null,null,0,0,""]
["2011-08-06",null,null,null,null,null,null,null,null,0,0,""]
["2011-08-07",null,null,null,null,null,null,null,null,0,0,""]
["2011-08-08",null,null,null,null,null,null,null,null,0,0,""]
["2011-08-09",null,null,null,null,null,null,null,null,0,0,""]
["2011-08-10",null,null,null,null,null,null,null,null,0,0,""]
["2011-08-11",null,null,null,null,null,null,null,null,0,0,""]
["2011-08-12",null,null,null,null,null,null,null,null,0,0,""]
["2011-08-13",null,null,null,null,null,null,null,null,0,0,""]
["2011-08-14",null,null,null,null,null,null,null,null,0,0,""]
["2011-08-15",null,null,null,null,null,null,null,null,0,0,""]
["2011-08-16",null,null,null,null,null,null,null,null,0,0,""]
["2011-08-17",null,null,null,null,null,null,null,null,0,0,""]
["2011-08-18",null,null,null,null,null,null,null,null,0,0,""]
["2011-08-19",null,null,null,null,null,null,null,null,0,0,""]
["2011-08-20",null,null,null,null,null,null,null,null,0,0,""]
["2011-08-21",null,null,null,null,null,null,null,null,0,0,""]
["2011-08-22",null,null,null,null,null,null,null,null,0,0,""]
["2011-08-23",null,null,null,null,null,null,null,null,0,0,""]
["2011-08-24",null,null,null,null,null,null,null,null,0,0,""]
["2011-08-25",null,null,null,null,null,null,null,null,0,0,""]
["2011-08-26",null,null,null,null,null,null,null,null,0,0,""]
["2011-08-27",null,null,null,null,null,null,null,null,0,0,""]
["2011-08-28",null,null,null,null,null,null,null,null,0,0,""]
["2011-08-29",null,null,null,null,null,null,null,null,0,0,""]
["2011-08-30",null,null,null,null,null,null,null,null,0,0,""]
["2011-08-31",null,null,null,null,null,null,null,null,0,0,""]
["September",{"$f":"SUM(B256:B285)","v":0},{"$f":"SUM(C256:C285)","v":0},0,0,0,0,0,0,0,{"$f":"B255-J255","v":0},null,{"$f":"IF(B255=0,\"\",K255/B255)","v":""}]
["2011-09-01",null,null,null,null,null,null,null,null,0,0,""]
["2011-09-02",null,null,null,null,null,null,null,null,0,0,""]
["2011-09-03",null,null,null,null,null,null,null,null,0,0,""]
["2011-09-04",null,null,null,null,null,null,null,null,0,0,""]
["2011-09-05",null,null,null,null,null,null,null,null,0,0,""]
["2011-09-06",null,null,null,null,null,null,null,null,0,0,""]
["2011-09-07",null,null,null,null,null,null,null,null,0,0,""]
["2011-09-08",null,null,null,null,null,null,null,null,0,0,""]
["2011-09-09",null,null,null,null,null,null,null,null,0,0,""]
["2011-09-10",null,null,null,null,null,null,null,null,0,0,""]
["2011-09-11",null,null,null,null,null,null,null,null,0,0,""]
["2011-09-12",null,null,null,null,null,null,null,null,0,0,""]
["2011-09-13",null,null,null,null,null,null,null,null,0,0,""]
["2011-09-14",null,null,null,null,null,null,null,null,0,0,""]
["2011-09-15",null,null,null,null,null,null,null,null,{"$f":"SUM(C270:I270)","v":0},{"$f":"B270-J270","v":0},{"$f":"IF(B270=\"\",\"\",K270/B270)","v":""}]
["2011-09-16",null,null,null,null,null,null,null,null,0,0,""]
["2011-09-17",null,null,null,null,null,null,null,null,0,0,""]
["2011-09-18",null,null,null,null,null,null,null,null,0,0,""]
["2011-09-19",null,null,null,null,null,null,null,null,0,0,""]
["2011-09-20",null,null,null,null,null,null,null,null,0,0,""]
["2011-09-21",null,null,null,null,null,null,null,null,0,0,""]
["2011-09-22",null,null,null,null,null,null,null,null,0,0,""]
["2011-09-23",null,null,null,null,null,null,null,null,0,0,""]
["2011-09-24",null,null,null,null,null,null,null,null,0,0,""]
["2011-09-25",null,null,null,null,null,null,null,null,0,0,""]
["2011-09-26",null,null,null,null,null,null,null,null,0,0,""]
["2011-09-27",null,null,null,null,null,null,null,null,0,0,""]
["2011-09-28",null,null,null,null,null,null,null,null,0,0,""]
["2011-09-29",null,null,null,null,null,null,null,null,0,0,""]
["2011-09-30",null,null,null,null,null,null,null,null,0,0,""]
["October",{"$f":"SUM(B287:B317)","v":0},{"$f":"SUM(C287:C317)","v":0},0,0,0,0,0,0,0,{"$f":"B286-J286","v":0},null,{"$f":"IF(B286=0,\"\",K286/B286)","v":""}]
["2011-10-01",null,null,null,null,null,null,null,null,0,0,""]
["2011-10-02",null,null,null,null,null,null,null,null,0,0,""]
["2011-10-03",null,null,null,null,null,null,null,null,0,0,""]
["2011-10-04",null,null,null,null,null,null,null,null,0,0,""]
["2011-10-05",null,null,null,null,null,null,null,null,0,0,""]
["2011-10-06",null,null,null,null,null,null,null,null,0,0,""]
["2011-10-07",null,null,null,null,null,null,null,null,0,0,""]
["2011-10-08",null,null,null,null,null,null,null,null,0,0,""]
["2011-10-09",null,null,null,null,null,null,null,null,0,0,""]
["2011-10-10",null,null,null,null,null,null,null,null,0,0,""]
["2011-10-11",null,null,null,null,null,null,null,null,0,0,""]
["2011-10-12",null,null,null,null,null,null,null,null,0,0,""]
["2011-10-13",null,null,null,null,null,null,null,null,0,0,""]
["2011-10-14",null,null,null,null,null,null,null,null,0,0,""]
["2011-10-15",null,null,null,null,null,null,null,null,0,0,""]
["2011-10-16",null,null,null,null,null,null,null,null,0,0,""]
["2011-10-17",null,null,null,null,null,null,null,null,0,0,""]
["2011-10-18",null,null,null,null,null,null,null,null,0,0,""]
["2011-10-19",null,null,null,null,null,null,null,null,0,0,""]
["2011-10-20",null,null,null,null,null,null,null,null,0,0,""]
["2011-10-21",null,null,null,null,null,null,null,null,0,0,""]
["2011-10-22",null,null,null,null,null,null,null,null,0,0,""]
["2011-10-23",null,null,null,null,null,null,null,null,0,0,""]
["2011-10-24",null,null,null,null,null,null,null,null,0,0,""]
["2011-10-25",null,null,null,null,null,null,null,null,0,0,""]
["2011-10-26",null,null,null,null,null,null,null,null,0,0,""]
["2011-10-27",null,null,null,null,null,null,null,null,0,0,""]
["2011-10-28",null,null,null,null,null,null,null,null,0,0,""]
["2011-10-29",null,null,null,null,null,null,null,null,0,0,""]
["2011-10-30",null,null,null,null,null,null,null,null,0,0,""]
["2011-10-31",null,null,null,null,null,null,null,null,0,0,""]
["November",{"$f":"SUM(B319:B348)","v":0},{"$f":"SUM(C319:C348)","v":0},0,0,0,0,0,0,0,{"$f":"B318-J318","v":0},null,{"$f":"IF(B318=0,\"\",K318/B318)","v":""}]
["2011-11-01",null,null,null,null,null,null,null,null,0,0,""]
["2011-11-02",null,null,null,null,null,null,null,null,0,0,""]
["2011-11-03",null,null,null,null,null,null,null,null,0,0,""]
["2011-11-04",null,null,null,null,null,null,null,null,0,0,""]
["2011-11-05",null,null,null,null,null,null,null,null,0,0,""]
["2011-11-06",null,null,null,null,null,null,null,null,0,0,""]
["2011-11-07",null,null,null,null,null,null,null,null,0,0,""]
["2011-11-08",null,null,null,null,null,null,null,null,0,0,""]
["2011-11-09",null,null,null,null,null,null,null,null,0,0,""]
["2011-11-10",null,null,null,null,null,null,null,null,0,0,""]
["2011-11-11",null,null,null,null,null,null,null,null,0,0,""]
["2011-11-12",null,null,null,null,null,null,null,null,0,0,""]
["2011-11-13",null,null,null,null,null,null,null,null,0,0,""]
["2011-11-14",null,null,null,null,null,null,null,null,0,0,""]
["2011-11-15",null,null,null,null,null,null,null,null,0,0,""]
["2011-11-16",null,null,null,null,null,null,null,null,0,0,""]
["2011-11-17",null,null,null,null,null,null,null,null,0,0,""]
["2011-11-18",null,null,null,null,null,null,null,null,{"$f":"SUM(C336:I336)","v":0},{"$f":"B336-J336","v":0},{"$f":"IF(B336=\"\",\"\",K336/B336)","v":""}]
["2011-11-19",null,null,null,null,null,null,null,null,0,0,""]
["2011-11-20",null,null,null,null,null,null,null,null,0,0,""]
["2011-11-21",null,null,null,null,null,null,null,null,0,0,""]
["2011-11-22",null,null,null,null,null,null,null,null,0,0,""]
["2011-11-23",null,null,null,null,null,null,null,null,0,0,""]
["2011-11-24",null,null,null,null,null,null,null,null,0,0,""]
["2011-11-25",null,null,null,null,null,null,null,null,0,0,""]
["2011-11-26",null,null,null,null,null,null,null,null,0,0,""]
["2011-11-27",null,null,null,null,null,null,null,null,0,0,""]
["2011-11-28",null,null,null,null,null,null,null,null,0,0,""]
["2011-11-29",null,null,null,null,null,null,null,null,0,0,""]
["2011-11-30",null,null,null,null,null,null,null,null,0,0,""]
["December",{"$f":"SUM(B350:B380)","v":0},{"$f":"SUM(C350:C380)","v":0},0,0,0,0,0,0,0,{"$f":"B349-J349","v":0},null,{"$f":"IF(B349=0,\"\",K349/B349)","v":""},{"$f":"IF(SUM(B4,B36,B65,B97,B128,B160,B191,B223,B255,B286,B318,B349)=0,\"\",SUM(K4,K36,K65,K97,K128,K160,K191,K223,K255,K286,K318,K349)/SUM(B4,B36,B65,B97,B128,B160,B191,B223,B255,B286,B318,B349))","v":""}]
["2011-12-01",null,null,null,null,null,null,null,null,0,0,""]
["2011-12-02",null,null,null,null,null,null,null,null,0,0,""]
["2011-12-03",null,null,null,null,null,null,null,null,0,0,""]
["2011-12-04",null,null,null,null,null,null,null,null,0,0,""]
["2011-12-05",null,null,null,null,null,null,null,null,0,0,""]
["2011-12-06",null,null,null,null,null,null,null,null,0,0,""]
["2011-12-07",null,null,null,null,null,null,null,null,0,0,""]
["2011-12-08",null,null,null,null,null,null,null,null,0,0,""]
["2011-12-09",null,null,null,null,null,null,null,null,0,0,""]
["2011-12-10",null,null,null,null,null,null,null,null,0,0,""]
["2011-12-11",null,null,null,null,null,null,null,null,0,0,""]
["2011-12-12",null,null,null,null,null,null,null,null,0,0,""]
["2011-12-13",null,null,null,null,null,null,null,null,0,0,""]
["2011-12-14",null,null,null,null,null,null,null,null,0,0,""]
["2011-12-15",null,null,null,null,null,null,null,null,0,0,""]
["2011-12-16",null,null,null,null,null,null,null,null,0,0,""]
["2011-12-17",null,null,null,null,null,null,null,null,0,0,""]
["2011-12-18",null,null,null,null,null,null,null,null,0,0,""]
["2011-12-19",null,null,null,null,null,null,null,null,0,0,""]
["2011-12-20",null,null,null,null,null,null,null,null,0,0,""]
["2011-12-21",null,null,null,null,null,null,null,null,0,0,""]
["2011-12-22",null,null,null,null,null,null,null,null,0,0,""]
["2011-12-23",null,null,null,null,null,null,null,null,0,0,""]
["2011-12-24",null,null,null,null,null,null,null,null,0,0,""]
["2011-12-25",null,null,null,null,null,null,null,null,0,0,""]
["2011-12-26",null,null,null,null,null,null,null,null,0,0,""]
["2011-12-27",null,null,null,null,null,null,null,null,0,0,""]
["2011-12-28",null,null,null,null,null,null,null,null,0,0,""]
["2011-12-29",null,null,null,null,null,null,null,null,0,0,""]
["2011-12-30",null,null,null,null,null,null,null,null,0,0,""]
["2011-12-31",null,null,null,null,null,null,null,null,0,0,""]

{"sheet":"PM#1 - Availability Tier B","index":3,"n_rows":380,"n_cols":27,"rows_kept":380,"cut":false,"hidden":false,"merged":[[1,0,2,0],[1,1,2,1],[1,2,1,9],[1,24,1,26],[1,18,1,20],[1,21,1,23],[1,10,1,17]]}
[]
["Date","SOT\n(seconds)","Failures\n(#)",null,null,null,null,null,null,null,"TTR\n(seconds)",null,null,null,null,null,null,null,"Service Reliability\nMTBF\n(hh:mm:ss)",null,null,"Service Maintainability\nMTTR\n(hh:mm:ss)",null,null,"Service Availability\n(%)"]
[null,null,"Weather","Passenger","System Equipment","Facilities","Utility","O&M","Other","Total","Weather","Passenger","System Equipment","Facilities","Utility","O&M","Other","Total","Day","Month-To-Date","Year-To-Date","Day","Month-To-Date","Year-To-Date","Day","Month-To-Date","Year-To-Date"]
["January",{"$f":"SUM(B5:B35)","v":0},{"$f":"SUM(C5:C35)","v":0},{"$f":"SUM(D5:D35)","v":0},0,0,0,0,0,0,{"$f":"SUM(K5:K35)","v":0},{"$f":"SUM(L5:L35)","v":0},0,0,0,0,0,0,null,{"$f":"IF(J4=0,B4,B4/J4)/86400","v":"00:00:00"},null,null,{"$f":"IF(J4=0,0,R4/J4)/86400","v":"00:00:00"},null,null,{"$f":"IF((T4+W4)=0,\"\",T4/(T4+W4))","v":""}]
["2011-01-01",null,null,null,null,null,null,null,null,{"$f":"SUM(C5:I5)","v":0},null,null,null,null,null,null,null,{"$f":"SUM(K5:Q5)","v":0},{"$f":"IF(J5=0,B5,B5/J5)/86400","v":"00:00:00"},null,null,{"$f":"IF(J5=0,0,R5/J5)/86400","v":"00:00:00"},null,null,{"$f":"IF((S5+V5)=0,\"\",S5/(S5+V5))","v":""}]
["2011-01-02",null,null,null,null,null,null,null,null,{"$f":"SUM(C6:I6)","v":0},null,null,null,null,null,null,null,{"$f":"SUM(K6:Q6)","v":0},{"$f":"IF(J6=0,B6,B6/J6)/86400","v":"00:00:00"},null,null,{"$f":"IF(J6=0,0,R6/J6)/86400","v":"00:00:00"},null,null,{"$f":"IF((S6+V6)=0,\"\",S6/(S6+V6))","v":""}]
["2011-01-03",null,null,null,null,null,null,null,null,0,null,null,null,null,null,null,null,0,"00:00:00",null,null,"00:00:00",null,null,""]
["2011-01-04",null,null,null,null,null,null,null,null,0,null,null,null,null,null,null,null,0,"00:00:00",null,null,"00:00:00",null,null,""]
["2011-01-05",null,null,null,null,null,null,null,null,0,null,null,null,null,null,null,null,0,"00:00:00",null,null,"00:00:00",null,null,""]
["2011-01-06",null,null,null,null,null,null,null,null,0,null,null,null,null,null,null,null,0,"00:00:00",null,null,"00:00:00",null,null,""]
["2011-01-07",null,null,null,null,null,null,null,null,0,null,null,null,null,null,null,null,0,"00:00:00",null,null,"00:00:00",null,null,""]
["2011-01-08",null,null,null,null,null,null,null,null,0,null,null,null,null,null,null,null,0,"00:00:00",null,null,"00:00:00",null,null,""]
["2011-01-09",null,null,null,null,null,null,null,null,0,null,null,null,null,null,null,null,0,"00:00:00",null,null,"00:00:00",null,null,""]
["2011-01-10",null,null,null,null,null,null,null,null,0,null,null,null,null,null,null,null,0,"00:00:00",null,null,"00:00:00",null,null,""]
["2011-01-11",null,null,null,null,null,null,null,null,0,null,null,null,null,null,null,null,0,"00:00:00",null,null,"00:00:00",null,null,""]
["2011-01-12",null,null,null,null,null,null,null,null,0,null,null,null,null,null,null,null,0,"00:00:00",null,null,"00:00:00",null,null,""]
["2011-01-13",null,null,null,null,null,null,null,null,0,null,null,null,null,null,null,null,0,"00:00:00",null,null,"00:00:00",null,null,""]
["2011-01-14",null,null,null,null,null,null,null,null,0,null,null,null,null,null,null,null,0,"00:00:00",null,null,"00:00:00",null,null,""]
["2011-01-15",null,null,null,null,null,null,null,null,0,null,null,null,null,null,null,null,0,"00:00:00",null,null,"00:00:00",null,null,""]
["2011-01-16",null,null,null,null,null,null,null,null,0,null,null,null,null,null,null,null,0,"00:00:00",null,null,"00:00:00",null,null,""]
["2011-01-17",null,null,null,null,null,null,null,null,0,null,null,null,null,null,null,null,0,"00:00:00",null,null,"00:00:00",null,null,""]
["2011-01-18",null,null,null,null,null,null,null,null,0,null,null,null,null,null,null,null,0,"00:00:00",null,null,"00:00:00",null,null,""]
["2011-01-19",null,null,null,null,null,null,null,null,0,null,null,null,null,null,null,null,0,"00:00:00",null,null,"00:00:00",null,null,""]
["2011-01-20",null,null,null,null,null,null,null,null,0,null,null,null,null,null,null,null,0,"00:00:00",null,null,"00:00:00",null,null,""]
["2011-01-21",null,null,null,null,null,null,null,null,0,null,null,null,null,null,null,null,0,"00:00:00",null,null,"00:00:00",null,null,""]
["2011-01-22",null,null,null,null,null,null,null,null,0,null,null,null,null,null,null,null,0,"00:00:00",null,null,"00:00:00",null,null,""]
["2011-01-23",null,null,null,null,null,null,null,null,0,null,null,null,null,null,null,null,0,"00:00:00",null,null,"00:00:00",null,null,""]
["2011-01-24",null,null,null,null,null,null,null,null,0,null,null,null,null,null,null,null,0,"00:00:00",null,null,"00:00:00",null,null,""]
["2011-01-25",null,null,null,null,null,null,null,null,0,null,null,null,null,null,null,null,0,"00:00:00",null,null,"00:00:00",null,null,""]
["2011-01-26",null,null,null,null,null,null,null,null,0,null,null,null,null,null,null,null,0,"00:00:00",null,null,"00:00:00",null,null,""]
["2011-01-27",null,null,null,null,null,null,null,null,0,null,null,null,null,null,null,null,0,"00:00:00",null,null,"00:00:00",null,null,""]
["2011-01-28",null,null,null,null,null,null,null,null,0,null,null,null,null,null,null,null,0,"00:00:00",null,null,"00:00:00",null,null,""]
["2011-01-29",null,null,null,null,null,null,null,null,0,null,null,null,null,null,null,null,0,"00:00:00",null,null,"00:00:00",null,null,""]
["2011-01-30",null,null,null,null,null,null,null,null,0,null,null,null,null,null,null,null,0,"00:00:00",null,null,"00:00:00",null,null,""]
["2011-01-31",null,null,null,null,null,null,null,null,0,null,null,null,null,null,null,null,0,"00:00:00",null,null,"00:00:00",null,null,""]
["February",{"$f":"SUM(B37:B64)","v":0},{"$f":"SUM(C37:C64)","v":0},0,0,0,0,0,0,0,{"$f":"SUM(K37:K64)","v":0},{"$f":"SUM(L37:L64)","v":0},0,0,0,0,0,0,null,{"$f":"IF(J36=0,B36,B36/J36)/86400","v":"00:00:00"},null,null,{"$f":"IF(J36=0,0,R36/J36)/86400","v":"00:00:00"},null,null,{"$f":"IF((T36+W36)=0,\"\",T36/(T36+W36))","v":""}]
["2011-02-01",null,null,null,null,null,null,null,null,0,null,null,null,null,null,null,null,0,"00:00:00",null,null,"00:00:00",null,null,""]
["2011-02-02",null,null,null,null,null,null,null,null,0,null,null,null,null,null,null,null,0,"00:00:00",null,null,"00:00:00",null,null,""]
["2011-02-03",null,null,null,null,null,null,null,null,0,null,null,null,null,null,null,null,0,"00:00:00",null,null,"00:00:00",null,null,""]
["2011-02-04",null,null,null,null,null,null,null,null,0,null,null,null,null,null,null,null,0,"00:00:00",null,null,"00:00:00",null,null,""]
["2011-02-05",null,null,null,null,null,null,null,null,0,null,null,null,null,null,null,null,0,"00:00:00",null,null,"00:00:00",null,null,""]
["2011-02-06",null,null,null,null,null,null,null,null,0,null,null,null,null,null,null,null,0,"00:00:00",null,null,"00:00:00",null,null,""]
["2011-02-07",null,null,null,null,null,null,null,null,0,null,null,null,null,null,null,null,0,"00:00:00",null,null,"00:00:00",null,null,""]
["2011-02-08",null,null,null,null,null,null,null,null,0,null,null,null,null,null,null,null,0,"00:00:00",null,null,"00:00:00",null,null,""]
["2011-02-09",null,null,null,null,null,null,null,null,0,null,null,null,null,null,null,null,0,"00:00:00",null,null,"00:00:00",null,null,""]
["2011-02-10",null,null,null,null,null,null,null,null,0,null,null,null,null,null,null,null,0,"00:00:00",null,null,"00:00:00",null,null,""]
["2011-02-11",null,null,null,null,null,null,null,null,0,null,null,null,null,null,null,null,0,"00:00:00",null,null,"00:00:00",null,null,""]
["2011-02-12",null,null,null,null,null,null,null,null,0,null,null,null,null,null,null,null,0,"00:00:00",null,null,"00:00:00",null,null,""]
["2011-02-13",null,null,null,null,null,null,null,null,0,null,null,null,null,null,null,null,0,"00:00:00",null,null,"00:00:00",null,null,""]
["2011-02-14",null,null,null,null,null,null,null,null,0,null,null,null,null,null,null,null,0,"00:00:00",null,null,"00:00:00",null,null,""]
["2011-02-15",null,null,null,null,null,null,null,null,0,null,null,null,null,null,null,null,0,"00:00:00",null,null,"00:00:00",null,null,""]
["2011-02-16",null,null,null,null,null,null,null,null,0,null,null,null,null,null,null,null,0,"00:00:00",null,null,"00:00:00",null,null,""]
["2011-02-17",null,null,null,null,null,null,null,null,0,null,null,null,null,null,null,null,0,"00:00:00",null,null,"00:00:00",null,null,""]
["2011-02-18",null,null,null,null,null,null,null,null,0,null,null,null,null,null,null,null,0,"00:00:00",null,null,"00:00:00",null,null,""]
["2011-02-19",null,null,null,null,null,null,null,null,0,null,null,null,null,null,null,null,0,"00:00:00",null,null,"00:00:00",null,null,""]
["2011-02-20",null,null,null,null,null,null,null,null,0,null,null,null,null,null,null,null,0,"00:00:00",null,null,"00:00:00",null,null,""]
["2011-02-21",null,null,null,null,null,null,null,null,0,null,null,null,null,null,null,null,0,"00:00:00",null,null,"00:00:00",null,null,""]
["2011-02-22",null,null,null,null,null,null,null,null,0,null,null,null,null,null,null,null,0,"00:00:00",null,null,"00:00:00",null,null,""]
["2011-02-23",null,null,null,null,null,null,null,null,0,null,null,null,null,null,null,null,0,"00:00:00",null,null,"00:00:00",null,null,""]
["2011-02-24",null,null,null,null,null,null,null,null,0,null,null,null,null,null,null,null,0,"00:00:00",null,null,"00:00:00",null,null,""]
["2011-02-25",null,null,null,null,null,null,null,null,0,null,null,null,null,null,null,null,0,"00:00:00",null,null,"00:00:00",null,null,""]
["2011-02-26",null,null,null,null,null,null,null,null,0,null,null,null,null,null,null,null,0,"00:00:00",null,null,"00:00:00",null,null,""]
["2011-02-27",null,null,null,null,null,null,null,null,0,null,null,null,null,null,null,null,0,"00:00:00",null,null,"00:00:00",null,null,""]
["2011-02-28",null,null,null,null,null,null,null,null,0,null,null,null,null,null,null,null,0,"00:00:00",null,null,"00:00:00",null,null,""]
["March",{"$f":"SUM(B66:B96)","v":0},{"$f":"SUM(C66:C96)","v":0},0,0,0,0,0,0,0,{"$f":"SUM(K66:K96)","v":0},{"$f":"SUM(L66:L96)","v":0},0,0,0,0,0,0,null,{"$f":"IF(J65=0,B65,B65/J65)/86400","v":"00:00:00"},null,null,{"$f":"IF(J65=0,0,R65/J65)/86400","v":"00:00:00"},null,null,{"$f":"IF((T65+W65)=0,\"\",T65/(T65+W65))","v":""}]
["2011-03-01",null,null,null,null,null,null,null,null,0,null,null,null,null,null,null,null,0,"00:00:00",null,null,"00:00:00",null,null,""]
["2011-03-02",null,null,null,null,null,null,null,null,0,null,null,null,null,null,null,null,0,"00:00:00",null,null,"00:00:00",null,null,""]
["2011-03-03",null,null,null,null,null,null,null,null,0,null,null,null,null,null,null,null,0,"00:00:00",null,null,"00:00:00",null,null,""]
["2011-03-04",null,null,null,null,null,null,null,null,0,null,null,null,null,null,null,null,0,"00:00:00",null,null,"00:00:00",null,null,""]
["2011-03-05",null,null,null,null,null,null,null,null,0,null,null,null,null,null,null,null,{"$f":"SUM(K70:Q70)","v":0},{"$f":"IF(J70=0,B70,B70/J70)/86400","v":"00:00:00"},null,null,{"$f":"IF(J70=0,0,R70/J70)/86400","v":"00:00:00"},null,null,{"$f":"IF((S70+V70)=0,\"\",S70/(S70+V70))","v":""}]
["2011-03-06",null,null,null,null,null,null,null,null,0,null,null,null,null,null,null,null,0,"00:00:00",null,null,"00:00:00",null,null,""]
["2011-03-07",null,null,null,null,null,null,null,null,{"$f":"SUM(C72:I72)","v":0},null,null,null,null,null,null,null,0,"00:00:00",null,null,"00:00:00",null,null,""]
["2011-03-08",null,null,null,null,null,null,null,null,0,null,null,null,null,null,null,null,0,"00:00:00",null,null,"00:00:00",null,null,""]
["2011-03-09",null,null,null,null,null,null,null,null,0,null,null,null,null,null,null,null,0,"00:00:00",null,null,"00:00:00",null,null,""]
["2011-03-10",null,null,null,null,null,null,null,null,0,null,null,null,null,null,null,null,0,"00:00:00",null,null,"00:00:00",null,null,""]
["2011-03-11",null,null,null,null,null,null,null,null,0,null,null,null,null,null,null,null,0,"00:00:00",null,null,"00:00:00",null,null,""]
["2011-03-12",null,null,null,null,null,null,null,null,0,null,null,null,null,null,null,null,0,"00:00:00",null,null,"00:00:00",null,null,""]
["2011-03-13",null,null,null,null,null,null,null,null,0,null,null,null,null,null,null,null,0,"00:00:00",null,null,"00:00:00",null,null,""]
["2011-03-14",null,null,null,null,null,null,null,null,0,null,null,null,null,null,null,null,0,"00:00:00",null,null,"00:00:00",null,null,""]
["2011-03-15",null,null,null,null,null,null,null,null,0,null,null,null,null,null,null,null,0,"00:00:00",null,null,"00:00:00",null,null,""]
["2011-03-16",null,null,null,null,null,null,null,null,0,null,null,null,null,null,null,null,0,"00:00:00",null,null,"00:00:00",null,null,""]
["2011-03-17",null,null,null,null,null,null,null,null,0,null,null,null,null,null,null,null,0,"00:00:00",null,null,"00:00:00",null,null,""]
["2011-03-18",null,null,null,null,null,null,null,null,0,null,null,null,null,null,null,null,0,"00:00:00",null,null,"00:00:00",null,null,""]
["2011-03-19",null,null,null,null,null,null,null,null,0,null,null,null,null,null,null,null,0,"00:00:00",null,null,"00:00:00",null,null,""]
["2011-03-20",null,null,null,null,null,null,null,null,0,null,null,null,null,null,null,null,0,"00:00:00",null,null,"00:00:00",null,null,""]
["2011-03-21",null,null,null,null,null,null,null,null,0,null,null,null,null,null,null,null,0,"00:00:00",null,null,"00:00:00",null,null,""]
["2011-03-22",null,null,null,null,null,null,null,null,0,null,null,null,null,null,null,null,0,"00:00:00",null,null,"00:00:00",null,null,""]
["2011-03-23",null,null,null,null,null,null,null,null,0,null,null,null,null,null,null,null,0,"00:00:00",null,null,"00:00:00",null,null,""]
["2011-03-24",null,null,null,null,null,null,null,null,0,null,null,null,null,null,null,null,0,"00:00:00",null,null,"00:00:00",null,null,""]
["2011-03-25",null,null,null,null,null,null,null,null,0,null,null,null,null,null,null,null,0,"00:00:00",null,null,"00:00:00",null,null,""]
["2011-03-26",null,null,null,null,null,null,null,null,0,null,null,null,null,null,null,null,0,"00:00:00",null,null,"00:00:00",null,null,""]
["2011-03-27",null,null,null,null,null,null,null,null,0,null,null,null,null,null,null,null,0,"00:00:00",null,null,"00:00:00",null,null,""]
["2011-03-28",null,null,null,null,null,null,null,null,0,null,null,null,null,null,null,null,0,"00:00:00",null,null,"00:00:00",null,null,""]
["2011-03-29",null,null,null,null,null,null,null,null,0,null,null,null,null,null,null,null,0,"00:00:00",null,null,"00:00:00",null,null,""]
["2011-03-30",null,null,null,null,null,null,null,null,0,null,null,null,null,null,null,null,0,"00:00:00",null,null,"00:00:00",null,null,""]
["2011-03-31",null,null,null,null,null,null,null,null,0,null,null,null,null,null,null,null,0,"00:00:00",null,null,"00:00:00",null,null,""]
["April",{"$f":"SUM(B98:B127)","v":0},{"$f":"SUM(C98:C127)","v":0},0,0,0,0,0,0,0,{"$f":"SUM(K98:K127)","v":0},{"$f":"SUM(L98:L127)","v":0},0,0,0,0,0,0,null,{"$f":"IF(J97=0,B97,B97/J97)/86400","v":"00:00:00"},null,null,{"$f":"IF(J97=0,0,R97/J97)/86400","v":"00:00:00"},null,null,{"$f":"IF((T97+W97)=0,\"\",T97/(T97+W97))","v":""}]
["2011-04-01",null,null,null,null,null,null,null,null,0,null,null,null,null,null,null,null,0,"00:00:00",null,null,"00:00:00",null,null,""]
["2011-04-02",null,null,null,null,null,null,null,null,0,null,null,null,null,null,null,null,0,"00:00:00",null,null,"00:00:00",null,null,""]
["2011-04-03",null,null,null,null,null,null,null,null,0,null,null,null,null,null,null,null,0,"00:00:00",null,null,"00:00:00",null,null,""]
["2011-04-04",null,null,null,null,null,null,null,null,0,null,null,null,null,null,null,null,0,"00:00:00",null,null,"00:00:00",null,null,""]
["2011-04-05",null,null,null,null,null,null,null,null,0,null,null,null,null,null,null,null,0,"00:00:00",null,null,"00:00:00",null,null,""]
["2011-04-06",null,null,null,null,null,null,null,null,0,null,null,null,null,null,null,null,0,"00:00:00",null,null,"00:00:00",null,null,""]
["2011-04-07",null,null,null,null,null,null,null,null,0,null,null,null,null,null,null,null,0,"00:00:00",null,null,"00:00:00",null,null,""]
["2011-04-08",null,null,null,null,null,null,null,null,0,null,null,null,null,null,null,null,0,"00:00:00",null,null,"00:00:00",null,null,""]
["2011-04-09",null,null,null,null,null,null,null,null,0,null,null,null,null,null,null,null,0,"00:00:00",null,null,"00:00:00",null,null,""]
["2011-04-10",null,null,null,null,null,null,null,null,0,null,null,null,null,null,null,null,0,"00:00:00",null,null,"00:00:00",null,null,""]
["2011-04-11",null,null,null,null,null,null,null,null,0,null,null,null,null,null,null,null,0,"00:00:00",null,null,"00:00:00",null,null,""]
["2011-04-12",null,null,null,null,null,null,null,null,0,null,null,null,null,null,null,null,0,"00:00:00",null,null,"00:00:00",null,null,""]
["2011-04-13",null,null,null,null,null,null,null,null,0,null,null,null,null,null,null,null,0,"00:00:00",null,null,"00:00:00",null,null,""]
["2011-04-14",null,null,null,null,null,null,null,null,0,null,null,null,null,null,null,null,0,"00:00:00",null,null,"00:00:00",null,null,""]
["2011-04-15",null,null,null,null,null,null,null,null,0,null,null,null,null,null,null,null,0,"00:00:00",null,null,"00:00:00",null,null,""]
["2011-04-16",null,null,null,null,null,null,null,null,0,null,null,null,null,null,null,null,0,"00:00:00",null,null,"00:00:00",null,null,""]
["2011-04-17",null,null,null,null,null,null,null,null,0,null,null,null,null,null,null,null,0,"00:00:00",null,null,"00:00:00",null,null,""]
["2011-04-18",null,null,null,null,null,null,null,null,0,null,null,null,null,null,null,null,0,"00:00:00",null,null,"00:00:00",null,null,""]
["2011-04-19",null,null,null,null,null,null,null,null,0,null,null,null,null,null,null,null,0,"00:00:00",null,null,"00:00:00",null,null,""]
["2011-04-20",null,null,null,null,null,null,null,null,0,null,null,null,null,null,null,null,0,"00:00:00",null,null,"00:00:00",null,null,""]
["2011-04-21",null,null,null,null,null,null,null,null,0,null,null,null,null,null,null,null,0,"00:00:00",null,null,"00:00:00",null,null,""]
["2011-04-22",null,null,null,null,null,null,null,null,0,null,null,null,null,null,null,null,0,"00:00:00",null,null,"00:00:00",null,null,""]
["2011-04-23",null,null,null,null,null,null,null,null,0,null,null,null,null,null,null,null,0,"00:00:00",null,null,"00:00:00",null,null,""]
["2011-04-24",null,null,null,null,null,null,null,null,0,null,null,null,null,null,null,null,0,"00:00:00",null,null,"00:00:00",null,null,""]
["2011-04-25",null,null,null,null,null,null,null,null,0,null,null,null,null,null,null,null,0,"00:00:00",null,null,"00:00:00",null,null,""]
["2011-04-26",null,null,null,null,null,null,null,null,0,null,null,null,null,null,null,null,0,"00:00:00",null,null,"00:00:00",null,null,""]
["2011-04-27",null,null,null,null,null,null,null,null,0,null,null,null,null,null,null,null,0,"00:00:00",null,null,"00:00:00",null,null,""]
["2011-04-28",null,null,null,null,null,null,null,null,0,null,null,null,null,null,null,null,0,"00:00:00",null,null,"00:00:00",null,null,""]
["2011-04-29",null,null,null,null,null,null,null,null,0,null,null,null,null,null,null,null,0,"00:00:00",null,null,"00:00:00",null,null,""]
["2011-04-30",null,null,null,null,null,null,null,null,0,null,null,null,null,null,null,null,0,"00:00:00",null,null,"00:00:00",null,null,""]
["May",{"$f":"SUM(B129:B159)","v":0},{"$f":"SUM(C129:C159)","v":0},0,0,0,0,0,0,0,{"$f":"SUM(K129:K159)","v":0},{"$f":"SUM(L129:L159)","v":0},0,0,0,0,0,0,null,{"$f":"IF(J128=0,B128,B128/J128)/86400","v":"00:00:00"},null,null,{"$f":"IF(J128=0,0,R128/J128)/86400","v":"00:00:00"},null,null,{"$f":"IF((T128+W128)=0,\"\",T128/(T128+W128))","v":""}]
["2011-05-01",null,null,null,null,null,null,null,null,0,null,null,null,null,null,null,null,0,"00:00:00",null,null,"00:00:00",null,null,""]
["2011-05-02",null,null,null,null,null,null,null,null,0,null,null,null,null,null,null,null,0,"00:00:00",null,null,"00:00:00",null,null,""]
["2011-05-03",null,null,null,null,null,null,null,null,0,null,null,null,null,null,null,null,0,"00:00:00",null,null,"00:00:00",null,null,""]
["2011-05-04",null,null,null,null,null,null,null,null,0,null,null,null,null,null,null,null,0,"00:00:00",null,null,"00:00:00",null,null,""]
["2011-05-05",null,null,null,null,null,null,null,null,0,null,null,null,null,null,null,null,0,"00:00:00",null,null,"00:00:00",null,null,""]
["2011-05-06",null,null,null,null,null,null,null,null,0,null,null,null,null,null,null,null,{"$f":"SUM(K134:Q134)","v":0},{"$f":"IF(J134=0,B134,B134/J134)/86400","v":"00:00:00"},null,null,{"$f":"IF(J134=0,0,R134/J134)/86400","v":"00:00:00"},null,null,{"$f":"IF((S134+V134)=0,\"\",S134/(S134+V134))","v":""}]
["2011-05-07",null,null,null,null,null,null,null,null,0,null,null,null,null,null,null,null,0,"00:00:00",null,null,"00:00:00",null,null,""]
["2011-05-08",null,null,null,null,null,null,null,null,0,null,null,null,null,null,null,null,0,"00:00:00",null,null,"00:00:00",null,null,""]
["2011-05-09",null,null,null,null,null,null,null,null,0,null,null,null,null,null,null,null,0,"00:00:00",null,null,"00:00:00",null,null,""]
["2011-05-10",null,null,null,null,null,null,null,null,{"$f":"SUM(C138:I138)","v":0},null,null,null,null,null,null,null,0,"00:00:00",null,null,"00:00:00",null,null,""]
["2011-05-11",null,null,null,null,null,null,null,null,0,null,null,null,null,null,null,null,0,"00:00:00",null,null,"00:00:00",null,null,""]
["2011-05-12",null,null,null,null,null,null,null,null,0,null,null,null,null,null,null,null,0,"00:00:00",null,null,"00:00:00",null,null,""]
["2011-05-13",null,null,null,null,null,null,null,null,0,null,null,null,null,null,null,null,0,"00:00:00",null,null,"00:00:00",null,null,""]
["2011-05-14",null,null,null,null,null,null,null,null,0,null,null,null,null,null,null,null,0,"00:00:00",null,null,"00:00:00",null,null,""]
["2011-05-15",null,null,null,null,null,null,null,null,0,null,null,null,null,null,null,null,0,"00:00:00",null,null,"00:00:00",null,null,""]
["2011-05-16",null,null,null,null,null,null,null,null,0,null,null,null,null,null,null,null,0,"00:00:00",null,null,"00:00:00",null,null,""]
["2011-05-17",null,null,null,null,null,null,null,null,0,null,null,null,null,null,null,null,0,"00:00:00",null,null,"00:00:00",null,null,""]
["2011-05-18",null,null,null,null,null,null,null,null,0,null,null,null,null,null,null,null,0,"00:00:00",null,null,"00:00:00",null,null,""]
["2011-05-19",null,null,null,null,null,null,null,null,0,null,null,null,null,null,null,null,0,"00:00:00",null,null,"00:00:00",null,null,""]
["2011-05-20",null,null,null,null,null,null,null,null,0,null,null,null,null,null,null,null,0,"00:00:00",null,null,"00:00:00",null,null,""]
["2011-05-21",null,null,null,null,null,null,null,null,0,null,null,null,null,null,null,null,0,"00:00:00",null,null,"00:00:00",null,null,""]
["2011-05-22",null,null,null,null,null,null,null,null,0,null,null,null,null,null,null,null,0,"00:00:00",null,null,"00:00:00",null,null,""]
["2011-05-23",null,null,null,null,null,null,null,null,0,null,null,null,null,null,null,null,0,"00:00:00",null,null,"00:00:00",null,null,""]
["2011-05-24",null,null,null,null,null,null,null,null,0,null,null,null,null,null,null,null,0,"00:00:00",null,null,"00:00:00",null,null,""]
["2011-05-25",null,null,null,null,null,null,null,null,0,null,null,null,null,null,null,null,0,"00:00:00",null,null,"00:00:00",null,null,""]
["2011-05-26",null,null,null,null,null,null,null,null,0,null,null,null,null,null,null,null,0,"00:00:00",null,null,"00:00:00",null,null,""]
["2011-05-27",null,null,null,null,null,null,null,null,0,null,null,null,null,null,null,null,0,"00:00:00",null,null,"00:00:00",null,null,""]
["2011-05-28",null,null,null,null,null,null,null,null,0,null,null,null,null,null,null,null,0,"00:00:00",null,null,"00:00:00",null,null,""]
["2011-05-29",null,null,null,null,null,null,null,null,0,null,null,null,null,null,null,null,0,"00:00:00",null,null,"00:00:00",null,null,""]
["2011-05-30",null,null,null,null,null,null,null,null,0,null,null,null,null,null,null,null,0,"00:00:00",null,null,"00:00:00",null,null,""]
["2011-05-31",null,null,null,null,null,null,null,null,0,null,null,null,null,null,null,null,0,"00:00:00",null,null,"00:00:00",null,null,""]
["June",{"$f":"SUM(B161:B190)","v":0},{"$f":"SUM(C161:C190)","v":0},0,0,0,0,0,0,0,{"$f":"SUM(K161:K190)","v":0},{"$f":"SUM(L161:L190)","v":0},0,0,0,0,0,0,null,{"$f":"IF(J160=0,B160,B160/J160)/86400","v":"00:00:00"},null,null,{"$f":"IF(J160=0,0,R160/J160)/86400","v":"00:00:00"},null,null,{"$f":"IF((T160+W160)=0,\"\",T160/(T160+W160))","v":""}]
["2011-06-01",null,null,null,null,null,null,null,null,0,null,null,null,null,null,null,null,0,"00:00:00",null,null,"00:00:00",null,null,""]
["2011-06-02",null,null,null,null,null,null,null,null,0,null,null,null,null,null,null,null,0,"00:00:00",null,null,"00:00:00",null,null,""]
["2011-06-03",null,null,null,null,null,null,null,null,0,null,null,null,null,null,null,null,0,"00:00:00",null,null,"00:00:00",null,null,""]
["2011-06-04",null,null,null,null,null,null,null,null,0,null,null,null,null,null,null,null,0,"00:00:00",null,null,"00:00:00",null,null,""]
["2011-06-05",null,null,null,null,null,null,null,null,0,null,null,null,null,null,null,null,0,"00:00:00",null,null,"00:00:00",null,null,""]
["2011-06-06",null,null,null,null,null,null,null,null,0,null,null,null,null,null,null,null,0,"00:00:00",null,null,"00:00:00",null,null,""]
["2011-06-07",null,null,null,null,null,null,null,null,0,null,null,null,null,null,null,null,0,"00:00:00",null,null,"00:00:00",null,null,""]
["2011-06-08",null,null,null,null,null,null,null,null,0,null,null,null,null,null,null,null,0,"00:00:00",null,null,"00:00:00",null,null,""]
["2011-06-09",null,null,null,null,null,null,null,null,0,null,null,null,null,null,null,null,0,"00:00:00",null,null,"00:00:00",null,null,""]
["2011-06-10",null,null,null,null,null,null,null,null,0,null,null,null,null,null,null,null,0,"00:00:00",null,null,"00:00:00",null,null,""]
["2011-06-11",null,null,null,null,null,null,null,null,0,null,null,null,null,null,null,null,0,"00:00:00",null,null,"00:00:00",null,null,""]
["2011-06-12",null,null,null,null,null,null,null,null,0,null,null,null,null,null,null,null,0,"00:00:00",null,null,"00:00:00",null,null,""]
["2011-06-13",null,null,null,null,null,null,null,null,0,null,null,null,null,null,null,null,0,"00:00:00",null,null,"00:00:00",null,null,""]
["2011-06-14",null,null,null,null,null,null,null,null,0,null,null,null,null,null,null,null,0,"00:00:00",null,null,"00:00:00",null,null,""]
["2011-06-15",null,null,null,null,null,null,null,null,0,null,null,null,null,null,null,null,0,"00:00:00",null,null,"00:00:00",null,null,""]
["2011-06-16",null,null,null,null,null,null,null,null,0,null,null,null,null,null,null,null,0,"00:00:00",null,null,"00:00:00",null,null,""]
["2011-06-17",null,null,null,null,null,null,null,null,0,null,null,null,null,null,null,null,0,"00:00:00",null,null,"00:00:00",null,null,""]
["2011-06-18",null,null,null,null,null,null,null,null,0,null,null,null,null,null,null,null,0,"00:00:00",null,null,"00:00:00",null,null,""]
["2011-06-19",null,null,null,null,null,null,null,null,0,null,null,null,null,null,null,null,0,"00:00:00",null,null,"00:00:00",null,null,""]
["2011-06-20",null,null,null,null,null,null,null,null,0,null,null,null,null,null,null,null,0,"00:00:00",null,null,"00:00:00",null,null,""]
["2011-06-21",null,null,null,null,null,null,null,null,0,null,null,null,null,null,null,null,0,"00:00:00",null,null,"00:00:00",null,null,""]
["2011-06-22",null,null,null,null,null,null,null,null,0,null,null,null,null,null,null,null,0,"00:00:00",null,null,"00:00:00",null,null,""]
["2011-06-23",null,null,null,null,null,null,null,null,0,null,null,null,null,null,null,null,0,"00:00:00",null,null,"00:00:00",null,null,""]
["2011-06-24",null,null,null,null,null,null,null,null,0,null,null,null,null,null,null,null,0,"00:00:00",null,null,"00:00:00",null,null,""]
["2011-06-25",null,null,null,null,null,null,null,null,0,null,null,null,null,null,null,null,0,"00:00:00",null,null,"00:00:00",null,null,""]
["2011-06-26",null,null,null,null,null,null,null,null,0,null,null,null,null,null,null,null,0,"00:00:00",null,null,"00:00:00",null,null,""]
["2011-06-27",null,null,null,null,null,null,null,null,0,null,null,null,null,null,null,null,0,"00:00:00",null,null,"00:00:00",null,null,""]
["2011-06-28",null,null,null,null,null,null,null,null,0,null,null,null,null,null,null,null,0,"00:00:00",null,null,"00:00:00",null,null,""]
["2011-06-29",null,null,null,null,null,null,null,null,0,null,null,null,null,null,null,null,0,"00:00:00",null,null,"00:00:00",null,null,""]
["2011-06-30",null,null,null,null,null,null,null,null,0,null,null,null,null,null,null,null,0,"00:00:00",null,null,"00:00:00",null,null,""]
["July",{"$f":"SUM(B192:B222)","v":0},{"$f":"SUM(C192:C222)","v":0},0,0,0,0,0,0,0,{"$f":"SUM(K192:K222)","v":0},{"$f":"SUM(L192:L222)","v":0},0,0,0,0,0,0,null,{"$f":"IF(J191=0,B191,B191/J191)/86400","v":"00:00:00"},null,null,{"$f":"IF(J191=0,0,R191/J191)/86400","v":"00:00:00"},null,null,{"$f":"IF((T191+W191)=0,\"\",T191/(T191+W191))","v":""}]
["2011-07-01",null,null,null,null,null,null,null,null,0,null,null,null,null,null,null,null,0,"00:00:00",null,null,"00:00:00",null,null,""]
["2011-07-02",null,null,null,null,null,null,null,null,0,null,null,null,null,null,null,null,0,"00:00:00",null,null,"00:00:00",null,null,""]
["2011-07-03",null,null,null,null,null,null,null,null,0,null,null,null,null,null,null,null,0,"00:00:00",null,null,"00:00:00",null,null,""]
["2011-07-04",null,null,null,null,null,null,null,null,0,null,null,null,null,null,null,null,0,"00:00:00",null,null,"00:00:00",null,null,""]
["2011-07-05",null,null,null,null,null,null,null,null,0,null,null,null,null,null,null,null,0,"00:00:00",null,null,"00:00:00",null,null,""]
["2011-07-06",null,null,null,null,null,null,null,null,0,null,null,null,null,null,null,null,0,"00:00:00",null,null,"00:00:00",null,null,""]
["2011-07-07",null,null,null,null,null,null,null,null,0,null,null,null,null,null,null,null,{"$f":"SUM(K198:Q198)","v":0},{"$f":"IF(J198=0,B198,B198/J198)/86400","v":"00:00:00"},null,null,{"$f":"IF(J198=0,0,R198/J198)/86400","v":"00:00:00"},null,null,{"$f":"IF((S198+V198)=0,\"\",S198/(S198+V198))","v":""}]
["2011-07-08",null,null,null,null,null,null,null,null,0,null,null,null,null,null,null,null,0,"00:00:00",null,null,"00:00:00",null,null,""]
["2011-07-09",null,null,null,null,null,null,null,null,0,null,null,null,null,null,null,null,0,"00:00:00",null,null,"00:00:00",null,null,""]
["2011-07-10",null,null,null,null,null,null,null,null,0,null,null,null,null,null,null,null,0,"00:00:00",null,null,"00:00:00",null,null,""]
["2011-07-11",null,null,null,null,null,null,null,null,0,null,null,null,null,null,null,null,0,"00:00:00",null,null,"00:00:00",null,null,""]
["2011-07-12",null,null,null,null,null,null,null,null,0,null,null,null,null,null,null,null,0,"00:00:00",null,null,"00:00:00",null,null,""]
["2011-07-13",null,null,null,null,null,null,null,null,{"$f":"SUM(C204:I204)","v":0},null,null,null,null,null,null,null,0,"00:00:00",null,null,"00:00:00",null,null,""]
["2011-07-14",null,null,null,null,null,null,null,null,0,null,null,null,null,null,null,null,0,"00:00:00",null,null,"00:00:00",null,null,""]
["2011-07-15",null,null,null,null,null,null,null,null,0,null,null,null,null,null,null,null,0,"00:00:00",null,null,"00:00:00",null,null,""]
["2011-07-16",null,null,null,null,null,null,null,null,0,null,null,null,null,null,null,null,0,"00:00:00",null,null,"00:00:00",null,null,""]
["2011-07-17",null,null,null,null,null,null,null,null,0,null,null,null,null,null,null,null,0,"00:00:00",null,null,"00:00:00",null,null,""]
["2011-07-18",null,null,null,null,null,null,null,null,0,null,null,null,null,null,null,null,0,"00:00:00",null,null,"00:00:00",null,null,""]
["2011-07-19",null,null,null,null,null,null,null,null,0,null,null,null,null,null,null,null,0,"00:00:00",null,null,"00:00:00",null,null,""]
["2011-07-20",null,null,null,null,null,null,null,null,0,null,null,null,null,null,null,null,0,"00:00:00",null,null,"00:00:00",null,null,""]
["2011-07-21",null,null,null,null,null,null,null,null,0,null,null,null,null,null,null,null,0,"00:00:00",null,null,"00:00:00",null,null,""]
["2011-07-22",null,null,null,null,null,null,null,null,0,null,null,null,null,null,null,null,0,"00:00:00",null,null,"00:00:00",null,null,""]
["2011-07-23",null,null,null,null,null,null,null,null,0,null,null,null,null,null,null,null,0,"00:00:00",null,null,"00:00:00",null,null,""]
["2011-07-24",null,null,null,null,null,null,null,null,0,null,null,null,null,null,null,null,0,"00:00:00",null,null,"00:00:00",null,null,""]
["2011-07-25",null,null,null,null,null,null,null,null,0,null,null,null,null,null,null,null,0,"00:00:00",null,null,"00:00:00",null,null,""]
["2011-07-26",null,null,null,null,null,null,null,null,0,null,null,null,null,null,null,null,0,"00:00:00",null,null,"00:00:00",null,null,""]
["2011-07-27",null,null,null,null,null,null,null,null,0,null,null,null,null,null,null,null,0,"00:00:00",null,null,"00:00:00",null,null,""]
["2011-07-28",null,null,null,null,null,null,null,null,0,null,null,null,null,null,null,null,0,"00:00:00",null,null,"00:00:00",null,null,""]
["2011-07-29",null,null,null,null,null,null,null,null,0,null,null,null,null,null,null,null,0,"00:00:00",null,null,"00:00:00",null,null,""]
["2011-07-30",null,null,null,null,null,null,null,null,0,null,null,null,null,null,null,null,0,"00:00:00",null,null,"00:00:00",null,null,""]
["2011-07-31",null,null,null,null,null,null,null,null,0,null,null,null,null,null,null,null,0,"00:00:00",null,null,"00:00:00",null,null,""]
["August",{"$f":"SUM(B224:B254)","v":0},{"$f":"SUM(C224:C254)","v":0},0,0,0,0,0,0,0,{"$f":"SUM(K224:K254)","v":0},{"$f":"SUM(L224:L254)","v":0},0,0,0,0,0,0,null,{"$f":"IF(J223=0,B223,B223/J223)/86400","v":"00:00:00"},null,null,{"$f":"IF(J223=0,0,R223/J223)/86400","v":"00:00:00"},null,null,{"$f":"IF((T223+W223)=0,\"\",T223/(T223+W223))","v":""}]
["2011-08-01",null,null,null,null,null,null,null,null,0,null,null,null,null,null,null,null,0,"00:00:00",null,null,"00:00:00",null,null,""]
["2011-08-02",null,null,null,null,null,null,null,null,0,null,null,null,null,null,null,null,0,"00:00:00",null,null,"00:00:00",null,null,""]
["2011-08-03",null,null,null,null,null,null,null,null,0,null,null,null,null,null,null,null,0,"00:00:00",null,null,"00:00:00",null,null,""]
["2011-08-04",null,null,null,null,null,null,null,null,0,null,null,null,null,null,null,null,0,"00:00:00",null,null,"00:00:00",null,null,""]
["2011-08-05",null,null,null,null,null,null,null,null,0,null,null,null,null,null,null,null,0,"00:00:00",null,null,"00:00:00",null,null,""]
["2011-08-06",null,null,null,null,null,null,null,null,0,null,null,null,null,null,null,null,0,"00:00:00",null,null,"00:00:00",null,null,""]
["2011-08-07",null,null,null,null,null,null,null,null,0,null,null,null,null,null,null,null,0,"00:00:00",null,null,"00:00:00",null,null,""]
["2011-08-08",null,null,null,null,null,null,null,null,0,null,null,null,null,null,null,null,0,"00:00:00",null,null,"00:00:00",null,null,""]
["2011-08-09",null,null,null,null,null,null,null,null,0,null,null,null,null,null,null,null,0,"00:00:00",null,null,"00:00:00",null,null,""]
["2011-08-10",null,null,null,null,null,null,null,null,0,null,null,null,null,null,null,null,0,"00:00:00",null,null,"00:00:00",null,null,""]
["2011-08-11",null,null,null,null,null,null,null,null,0,null,null,null,null,null,null,null,0,"00:00:00",null,null,"00:00:00",null,null,""]
["2011-08-12",null,null,null,null,null,null,null,null,0,null,null,null,null,null,null,null,0,"00:00:00",null,null,"00:00:00",null,null,""]
["2011-08-13",null,null,null,null,null,null,null,null,0,null,null,null,null,null,null,null,0,"00:00:00",null,null,"00:00:00",null,null,""]
["2011-08-14",null,null,null,null,null,null,null,null,0,null,null,null,null,null,null,null,0,"00:00:00",null,null,"00:00:00",null,null,""]
["2011-08-15",null,null,null,null,null,null,null,null,0,null,null,null,null,null,null,null,0,"00:00:00",null,null,"00:00:00",null,null,""]
["2011-08-16",null,null,null,null,null,null,null,null,0,null,null,null,null,null,null,null,0,"00:00:00",null,null,"00:00:00",null,null,""]
["2011-08-17",null,null,null,null,null,null,null,null,0,null,null,null,null,null,null,null,0,"00:00:00",null,null,"00:00:00",null,null,""]
["2011-08-18",null,null,null,null,null,null,null,null,0,null,null,null,null,null,null,null,0,"00:00:00",null,null,"00:00:00",null,null,""]
["2011-08-19",null,null,null,null,null,null,null,null,0,null,null,null,null,null,null,null,0,"00:00:00",null,null,"00:00:00",null,null,""]
["2011-08-20",null,null,null,null,null,null,null,null,0,null,null,null,null,null,null,null,0,"00:00:00",null,null,"00:00:00",null,null,""]
["2011-08-21",null,null,null,null,null,null,null,null,0,null,null,null,null,null,null,null,0,"00:00:00",null,null,"00:00:00",null,null,""]
["2011-08-22",null,null,null,null,null,null,null,null,0,null,null,null,null,null,null,null,0,"00:00:00",null,null,"00:00:00",null,null,""]
["2011-08-23",null,null,null,null,null,null,null,null,0,null,null,null,null,null,null,null,0,"00:00:00",null,null,"00:00:00",null,null,""]
["2011-08-24",null,null,null,null,null,null,null,null,0,null,null,null,null,null,null,null,0,"00:00:00",null,null,"00:00:00",null,null,""]
["2011-08-25",null,null,null,null,null,null,null,null,0,null,null,null,null,null,null,null,0,"00:00:00",null,null,"00:00:00",null,null,""]
["2011-08-26",null,null,null,null,null,null,null,null,0,null,null,null,null,null,null,null,0,"00:00:00",null,null,"00:00:00",null,null,""]
["2011-08-27",null,null,null,null,null,null,null,null,0,null,null,null,null,null,null,null,0,"00:00:00",null,null,"00:00:00",null,null,""]
["2011-08-28",null,null,null,null,null,null,null,null,0,null,null,null,null,null,null,null,0,"00:00:00",null,null,"00:00:00",null,null,""]
["2011-08-29",null,null,null,null,null,null,null,null,0,null,null,null,null,null,null,null,0,"00:00:00",null,null,"00:00:00",null,null,""]
["2011-08-30",null,null,null,null,null,null,null,null,0,null,null,null,null,null,null,null,0,"00:00:00",null,null,"00:00:00",null,null,""]
["2011-08-31",null,null,null,null,null,null,null,null,0,null,null,null,null,null,null,null,0,"00:00:00",null,null,"00:00:00",null,null,""]
["September",{"$f":"SUM(B256:B285)","v":0},{"$f":"SUM(C256:C285)","v":0},0,0,0,0,0,0,0,{"$f":"SUM(K256:K285)","v":0},{"$f":"SUM(L256:L285)","v":0},0,0,0,0,0,0,null,{"$f":"IF(J255=0,B255,B255/J255)/86400","v":"00:00:00"},null,null,{"$f":"IF(J255=0,0,R255/J255)/86400","v":"00:00:00"},null,null,{"$f":"IF((T255+W255)=0,\"\",T255/(T255+W255))","v":""}]
["2011-09-01",null,null,null,null,null,null,null,null,0,null,null,null,null,null,null,null,0,"00:00:00",null,null,"00:00:00",null,null,""]
["2011-09-02",null,null,null,null,null,null,null,null,0,null,null,null,null,null,null,null,0,"00:00:00",null,null,"00:00:00",null,null,""]
["2011-09-03",null,null,null,null,null,null,null,null,0,null,null,null,null,null,null,null,0,"00:00:00",null,null,"00:00:00",null,null,""]
["2011-09-04",null,null,null,null,null,null,null,null,0,null,null,null,null,null,null,null,0,"00:00:00",null,null,"00:00:00",null,null,""]
["2011-09-05",null,null,null,null,null,null,null,null,0,null,null,null,null,null,null,null,0,"00:00:00",null,null,"00:00:00",null,null,""]
["2011-09-06",null,null,null,null,null,null,null,null,0,null,null,null,null,null,null,null,0,"00:00:00",null,null,"00:00:00",null,null,""]
["2011-09-07",null,null,null,null,null,null,null,null,0,null,null,null,null,null,null,null,{"$f":"SUM(K262:Q262)","v":0},{"$f":"IF(J262=0,B262,B262/J262)/86400","v":"00:00:00"},null,null,{"$f":"IF(J262=0,0,R262/J262)/86400","v":"00:00:00"},null,null,{"$f":"IF((S262+V262)=0,\"\",S262/(S262+V262))","v":""}]
["2011-09-08",null,null,null,null,null,null,null,null,0,null,null,null,null,null,null,null,0,"00:00:00",null,null,"00:00:00",null,null,""]
["2011-09-09",null,null,null,null,null,null,null,null,0,null,null,null,null,null,null,null,0,"00:00:00",null,null,"00:00:00",null,null,""]
["2011-09-10",null,null,null,null,null,null,null,null,0,null,null,null,null,null,null,null,0,"00:00:00",null,null,"00:00:00",null,null,""]
["2011-09-11",null,null,null,null,null,null,null,null,0,null,null,null,null,null,null,null,0,"00:00:00",null,null,"00:00:00",null,null,""]
["2011-09-12",null,null,null,null,null,null,null,null,0,null,null,null,null,null,null,null,0,"00:00:00",null,null,"00:00:00",null,null,""]
["2011-09-13",null,null,null,null,null,null,null,null,0,null,null,null,null,null,null,null,0,"00:00:00",null,null,"00:00:00",null,null,""]
["2011-09-14",null,null,null,null,null,null,null,null,0,null,null,null,null,null,null,null,0,"00:00:00",null,null,"00:00:00",null,null,""]
["2011-09-15",null,null,null,null,null,null,null,null,{"$f":"SUM(C270:I270)","v":0},null,null,null,null,null,null,null,0,"00:00:00",null,null,"00:00:00",null,null,""]
["2011-09-16",null,null,null,null,null,null,null,null,0,null,null,null,null,null,null,null,0,"00:00:00",null,null,"00:00:00",null,null,""]
["2011-09-17",null,null,null,null,null,null,null,null,0,null,null,null,null,null,null,null,0,"00:00:00",null,null,"00:00:00",null,null,""]
["2011-09-18",null,null,null,null,null,null,null,null,0,null,null,null,null,null,null,null,0,"00:00:00",null,null,"00:00:00",null,null,""]
["2011-09-19",null,null,null,null,null,null,null,null,0,null,null,null,null,null,null,null,0,"00:00:00",null,null,"00:00:00",null,null,""]
["2011-09-20",null,null,null,null,null,null,null,null,0,null,null,null,null,null,null,null,0,"00:00:00",null,null,"00:00:00",null,null,""]
["2011-09-21",null,null,null,null,null,null,null,null,0,null,null,null,null,null,null,null,0,"00:00:00",null,null,"00:00:00",null,null,""]
["2011-09-22",null,null,null,null,null,null,null,null,0,null,null,null,null,null,null,null,0,"00:00:00",null,null,"00:00:00",null,null,""]
["2011-09-23",null,null,null,null,null,null,null,null,0,null,null,null,null,null,null,null,0,"00:00:00",null,null,"00:00:00",null,null,""]
["2011-09-24",null,null,null,null,null,null,null,null,0,null,null,null,null,null,null,null,0,"00:00:00",null,null,"00:00:00",null,null,""]
["2011-09-25",null,null,null,null,null,null,null,null,0,null,null,null,null,null,null,null,0,"00:00:00",null,null,"00:00:00",null,null,""]
["2011-09-26",null,null,null,null,null,null,null,null,0,null,null,null,null,null,null,null,0,"00:00:00",null,null,"00:00:00",null,null,""]
["2011-09-27",null,null,null,null,null,null,null,null,0,null,null,null,null,null,null,null,0,"00:00:00",null,null,"00:00:00",null,null,""]
["2011-09-28",null,null,null,null,null,null,null,null,0,null,null,null,null,null,null,null,0,"00:00:00",null,null,"00:00:00",null,null,""]
["2011-09-29",null,null,null,null,null,null,null,null,0,null,null,null,null,null,null,null,0,"00:00:00",null,null,"00:00:00",null,null,""]
["2011-09-30",null,null,null,null,null,null,null,null,0,null,null,null,null,null,null,null,0,"00:00:00",null,null,"00:00:00",null,null,""]
["October",{"$f":"SUM(B287:B317)","v":0},{"$f":"SUM(C287:C317)","v":0},0,0,0,0,0,0,0,{"$f":"SUM(K287:K317)","v":0},{"$f":"SUM(L287:L317)","v":0},0,0,0,0,0,0,null,{"$f":"IF(J286=0,B286,B286/J286)/86400","v":"00:00:00"},null,null,{"$f":"IF(J286=0,0,R286/J286)/86400","v":"00:00:00"},null,null,{"$f":"IF((T286+W286)=0,\"\",T286/(T286+W286))","v":""}]
["2011-10-01",null,null,null,null,null,null,null,null,0,null,null,null,null,null,null,null,0,"00:00:00",null,null,"00:00:00",null,null,""]
["2011-10-02",null,null,null,null,null,null,null,null,0,null,null,null,null,null,null,null,0,"00:00:00",null,null,"00:00:00",null,null,""]
["2011-10-03",null,null,null,null,null,null,null,null,0,null,null,null,null,null,null,null,0,"00:00:00",null,null,"00:00:00",null,null,""]
["2011-10-04",null,null,null,null,null,null,null,null,0,null,null,null,null,null,null,null,0,"00:00:00",null,null,"00:00:00",null,null,""]
["2011-10-05",null,null,null,null,null,null,null,null,0,null,null,null,null,null,null,null,0,"00:00:00",null,null,"00:00:00",null,null,""]
["2011-10-06",null,null,null,null,null,null,null,null,0,null,null,null,null,null,null,null,0,"00:00:00",null,null,"00:00:00",null,null,""]
["2011-10-07",null,null,null,null,null,null,null,null,0,null,null,null,null,null,null,null,0,"00:00:00",null,null,"00:00:00",null,null,""]
["2011-10-08",null,null,null,null,null,null,null,null,0,null,null,null,null,null,null,null,0,"00:00:00",null,null,"00:00:00",null,null,""]
["2011-10-09",null,null,null,null,null,null,null,null,0,null,null,null,null,null,null,null,0,"00:00:00",null,null,"00:00:00",null,null,""]
["2011-10-10",null,null,null,null,null,null,null,null,0,null,null,null,null,null,null,null,0,"00:00:00",null,null,"00:00:00",null,null,""]
["2011-10-11",null,null,null,null,null,null,null,null,0,null,null,null,null,null,null,null,0,"00:00:00",null,null,"00:00:00",null,null,""]
["2011-10-12",null,null,null,null,null,null,null,null,0,null,null,null,null,null,null,null,0,"00:00:00",null,null,"00:00:00",null,null,""]
["2011-10-13",null,null,null,null,null,null,null,null,0,null,null,null,null,null,null,null,0,"00:00:00",null,null,"00:00:00",null,null,""]
["2011-10-14",null,null,null,null,null,null,null,null,0,null,null,null,null,null,null,null,0,"00:00:00",null,null,"00:00:00",null,null,""]
["2011-10-15",null,null,null,null,null,null,null,null,0,null,null,null,null,null,null,null,0,"00:00:00",null,null,"00:00:00",null,null,""]
["2011-10-16",null,null,null,null,null,null,null,null,0,null,null,null,null,null,null,null,0,"00:00:00",null,null,"00:00:00",null,null,""]
["2011-10-17",null,null,null,null,null,null,null,null,0,null,null,null,null,null,null,null,0,"00:00:00",null,null,"00:00:00",null,null,""]
["2011-10-18",null,null,null,null,null,null,null,null,0,null,null,null,null,null,null,null,0,"00:00:00",null,null,"00:00:00",null,null,""]
["2011-10-19",null,null,null,null,null,null,null,null,0,null,null,null,null,null,null,null,0,"00:00:00",null,null,"00:00:00",null,null,""]
["2011-10-20",null,null,null,null,null,null,null,null,0,null,null,null,null,null,null,null,0,"00:00:00",null,null,"00:00:00",null,null,""]
["2011-10-21",null,null,null,null,null,null,null,null,0,null,null,null,null,null,null,null,0,"00:00:00",null,null,"00:00:00",null,null,""]
["2011-10-22",null,null,null,null,null,null,null,null,0,null,null,null,null,null,null,null,0,"00:00:00",null,null,"00:00:00",null,null,""]
["2011-10-23",null,null,null,null,null,null,null,null,0,null,null,null,null,null,null,null,0,"00:00:00",null,null,"00:00:00",null,null,""]
["2011-10-24",null,null,null,null,null,null,null,null,0,null,null,null,null,null,null,null,0,"00:00:00",null,null,"00:00:00",null,null,""]
["2011-10-25",null,null,null,null,null,null,null,null,0,null,null,null,null,null,null,null,0,"00:00:00",null,null,"00:00:00",null,null,""]
["2011-10-26",null,null,null,null,null,null,null,null,0,null,null,null,null,null,null,null,0,"00:00:00",null,null,"00:00:00",null,null,""]
["2011-10-27",null,null,null,null,null,null,null,null,0,null,null,null,null,null,null,null,0,"00:00:00",null,null,"00:00:00",null,null,""]
["2011-10-28",null,null,null,null,null,null,null,null,0,null,null,null,null,null,null,null,0,"00:00:00",null,null,"00:00:00",null,null,""]
["2011-10-29",null,null,null,null,null,null,null,null,0,null,null,null,null,null,null,null,0,"00:00:00",null,null,"00:00:00",null,null,""]
["2011-10-30",null,null,null,null,null,null,null,null,0,null,null,null,null,null,null,null,0,"00:00:00",null,null,"00:00:00",null,null,""]
["2011-10-31",null,null,null,null,null,null,null,null,0,null,null,null,null,null,null,null,0,"00:00:00",null,null,"00:00:00",null,null,""]
["November",{"$f":"SUM(B319:B348)","v":0},{"$f":"SUM(C319:C348)","v":0},0,0,0,0,0,0,0,{"$f":"SUM(K319:K348)","v":0},{"$f":"SUM(L319:L348)","v":0},0,0,0,0,0,0,null,{"$f":"IF(J318=0,B318,B318/J318)/86400","v":"00:00:00"},null,null,{"$f":"IF(J318=0,0,R318/J318)/86400","v":"00:00:00"},null,null,{"$f":"IF((T318+W318)=0,\"\",T318/(T318+W318))","v":""}]
["2011-11-01",null,null,null,null,null,null,null,null,0,null,null,null,null,null,null,null,0,"00:00:00",null,null,"00:00:00",null,null,""]
["2011-11-02",null,null,null,null,null,null,null,null,0,null,null,null,null,null,null,null,0,"00:00:00",null,null,"00:00:00",null,null,""]
["2011-11-03",null,null,null,null,null,null,null,null,0,null,null,null,null,null,null,null,0,"00:00:00",null,null,"00:00:00",null,null,""]
["2011-11-04",null,null,null,null,null,null,null,null,0,null,null,null,null,null,null,null,0,"00:00:00",null,null,"00:00:00",null,null,""]
["2011-11-05",null,null,null,null,null,null,null,null,0,null,null,null,null,null,null,null,0,"00:00:00",null,null,"00:00:00",null,null,""]
["2011-11-06",null,null,null,null,null,null,null,null,0,null,null,null,null,null,null,null,0,"00:00:00",null,null,"00:00:00",null,null,""]
["2011-11-07",null,null,null,null,null,null,null,null,0,null,null,null,null,null,null,null,0,"00:00:00",null,null,"00:00:00",null,null,""]
["2011-11-08",null,null,null,null,null,null,null,null,0,null,null,null,null,null,null,null,{"$f":"SUM(K326:Q326)","v":0},{"$f":"IF(J326=0,B326,B326/J326)/86400","v":"00:00:00"},null,null,{"$f":"IF(J326=0,0,R326/J326)/86400","v":"00:00:00"},null,null,{"$f":"IF((S326+V326)=0,\"\",S326/(S326+V326))","v":""}]
["2011-11-09",null,null,null,null,null,null,null,null,0,null,null,null,null,null,null,null,0,"00:00:00",null,null,"00:00:00",null,null,""]
["2011-11-10",null,null,null,null,null,null,null,null,0,null,null,null,null,null,null,null,0,"00:00:00",null,null,"00:00:00",null,null,""]
["2011-11-11",null,null,null,null,null,null,null,null,0,null,null,null,null,null,null,null,0,"00:00:00",null,null,"00:00:00",null,null,""]
["2011-11-12",null,null,null,null,null,null,null,null,0,null,null,null,null,null,null,null,0,"00:00:00",null,null,"00:00:00",null,null,""]
["2011-11-13",null,null,null,null,null,null,null,null,0,null,null,null,null,null,null,null,0,"00:00:00",null,null,"00:00:00",null,null,""]
["2011-11-14",null,null,null,null,null,null,null,null,0,null,null,null,null,null,null,null,0,"00:00:00",null,null,"00:00:00",null,null,""]
["2011-11-15",null,null,null,null,null,null,null,null,0,null,null,null,null,null,null,null,0,"00:00:00",null,null,"00:00:00",null,null,""]
["2011-11-16",null,null,null,null,null,null,null,null,0,null,null,null,null,null,null,null,0,"00:00:00",null,null,"00:00:00",null,null,""]
["2011-11-17",null,null,null,null,null,null,null,null,0,null,null,null,null,null,null,null,0,"00:00:00",null,null,"00:00:00",null,null,""]
["2011-11-18",null,null,null,null,null,null,null,null,{"$f":"SUM(C336:I336)","v":0},null,null,null,null,null,null,null,0,"00:00:00",null,null,"00:00:00",null,null,""]
["2011-11-19",null,null,null,null,null,null,null,null,0,null,null,null,null,null,null,null,0,"00:00:00",null,null,"00:00:00",null,null,""]
["2011-11-20",null,null,null,null,null,null,null,null,0,null,null,null,null,null,null,null,0,"00:00:00",null,null,"00:00:00",null,null,""]
["2011-11-21",null,null,null,null,null,null,null,null,0,null,null,null,null,null,null,null,0,"00:00:00",null,null,"00:00:00",null,null,""]
["2011-11-22",null,null,null,null,null,null,null,null,0,null,null,null,null,null,null,null,0,"00:00:00",null,null,"00:00:00",null,null,""]
["2011-11-23",null,null,null,null,null,null,null,null,0,null,null,null,null,null,null,null,0,"00:00:00",null,null,"00:00:00",null,null,""]
["2011-11-24",null,null,null,null,null,null,null,null,0,null,null,null,null,null,null,null,0,"00:00:00",null,null,"00:00:00",null,null,""]
["2011-11-25",null,null,null,null,null,null,null,null,0,null,null,null,null,null,null,null,0,"00:00:00",null,null,"00:00:00",null,null,""]
["2011-11-26",null,null,null,null,null,null,null,null,0,null,null,null,null,null,null,null,0,"00:00:00",null,null,"00:00:00",null,null,""]
["2011-11-27",null,null,null,null,null,null,null,null,0,null,null,null,null,null,null,null,0,"00:00:00",null,null,"00:00:00",null,null,""]
["2011-11-28",null,null,null,null,null,null,null,null,0,null,null,null,null,null,null,null,0,"00:00:00",null,null,"00:00:00",null,null,""]
["2011-11-29",null,null,null,null,null,null,null,null,0,null,null,null,null,null,null,null,0,"00:00:00",null,null,"00:00:00",null,null,""]
["2011-11-30",null,null,null,null,null,null,null,null,0,null,null,null,null,null,null,null,0,"00:00:00",null,null,"00:00:00",null,null,""]
["December",{"$f":"SUM(B350:B380)","v":0},{"$f":"SUM(C350:C380)","v":0},0,0,0,0,0,0,0,{"$f":"SUM(K350:K380)","v":0},{"$f":"SUM(L350:L380)","v":0},0,0,0,0,0,0,null,{"$f":"IF(J349=0,B349,B349/J349)/86400","v":"00:00:00"},{"$f":"(IF(SUM(J4,J36,J65,J97,J128,J160,J191,J223,J255,J286,J318,J349)=0,SUM(B4,B36,B65,B97,B128,B160,B191,B223,B255,B286,B318,B349),SUM(B4,B36,B65,B97,B128,B160,B191,B223,B255,B286,B318,B349)/SUM(J4,J36,J65,J97,J128,J160,J191,J223,J255,J286,J318,J349)))/86400","v":"00:00:00"},null,{"$f":"IF(J349=0,0,R349/J349)/86400","v":"00:00:00"},{"$f":"(IF(SUM(J4,J36,J65,J97,J128,J160,J191,J223,J255,J286,J318,J349)=0,0,SUM(R4,R36,R65,R97,R128,R160,R191,R223,R255,R286,R318,R349)/SUM(J4,J36,J65,J97,J128,J160,J191,J223,J255,J286,J318,J349)))/86400","v":"00:00:00"},null,{"$f":"IF((T349+W349)=0,\"\",T349/(T349+W349))","v":""},{"$f":"IF(SUM(T4,T36,T65,T97,T128,T160,T191,T223,T255,T286,T318,T349,W4,W36,W65,W97,W128,W160,W191,W223,W255,W286,W318,W349)=0,\"\",SUM(T4,T36,T65,T97,T128,T160,T191,T223,T255,T286,T318,T349)/SUM(T4,T36,T65,T97,T128,T160,T191,T223,T255,T286,T318,T349,W4,W36,W65,W97,W128,W160,W191,W223,W255,W286,W318,W349))","v":""}]
["2011-12-01",null,null,null,null,null,null,null,null,0,null,null,null,null,null,null,null,0,"00:00:00",null,null,"00:00:00",null,null,""]
["2011-12-02",null,null,null,null,null,null,null,null,0,null,null,null,null,null,null,null,0,"00:00:00",null,null,"00:00:00",null,null,""]
["2011-12-03",null,null,null,null,null,null,null,null,0,null,null,null,null,null,null,null,0,"00:00:00",null,null,"00:00:00",null,null,""]
["2011-12-04",null,null,null,null,null,null,null,null,0,null,null,null,null,null,null,null,0,"00:00:00",null,null,"00:00:00",null,null,""]
["2011-12-05",null,null,null,null,null,null,null,null,0,null,null,null,null,null,null,null,0,"00:00:00",null,null,"00:00:00",null,null,""]
["2011-12-06",null,null,null,null,null,null,null,null,0,null,null,null,null,null,null,null,0,"00:00:00",null,null,"00:00:00",null,null,""]
["2011-12-07",null,null,null,null,null,null,null,null,0,null,null,null,null,null,null,null,0,"00:00:00",null,null,"00:00:00",null,null,""]
["2011-12-08",null,null,null,null,null,null,null,null,0,null,null,null,null,null,null,null,0,"00:00:00",null,null,"00:00:00",null,null,""]
["2011-12-09",null,null,null,null,null,null,null,null,0,null,null,null,null,null,null,null,0,"00:00:00",null,null,"00:00:00",null,null,""]
["2011-12-10",null,null,null,null,null,null,null,null,0,null,null,null,null,null,null,null,0,"00:00:00",null,null,"00:00:00",null,null,""]
["2011-12-11",null,null,null,null,null,null,null,null,0,null,null,null,null,null,null,null,0,"00:00:00",null,null,"00:00:00",null,null,""]
["2011-12-12",null,null,null,null,null,null,null,null,0,null,null,null,null,null,null,null,0,"00:00:00",null,null,"00:00:00",null,null,""]
["2011-12-13",null,null,null,null,null,null,null,null,0,null,null,null,null,null,null,null,0,"00:00:00",null,null,"00:00:00",null,null,""]
["2011-12-14",null,null,null,null,null,null,null,null,0,null,null,null,null,null,null,null,0,"00:00:00",null,null,"00:00:00",null,null,""]
["2011-12-15",null,null,null,null,null,null,null,null,0,null,null,null,null,null,null,null,0,"00:00:00",null,null,"00:00:00",null,null,""]
["2011-12-16",null,null,null,null,null,null,null,null,0,null,null,null,null,null,null,null,0,"00:00:00",null,null,"00:00:00",null,null,""]
["2011-12-17",null,null,null,null,null,null,null,null,0,null,null,null,null,null,null,null,0,"00:00:00",null,null,"00:00:00",null,null,""]
["2011-12-18",null,null,null,null,null,null,null,null,0,null,null,null,null,null,null,null,0,"00:00:00",null,null,"00:00:00",null,null,""]
["2011-12-19",null,null,null,null,null,null,null,null,0,null,null,null,null,null,null,null,0,"00:00:00",null,null,"00:00:00",null,null,""]
["2011-12-20",null,null,null,null,null,null,null,null,0,null,null,null,null,null,null,null,0,"00:00:00",null,null,"00:00:00",null,null,""]
["2011-12-21",null,null,null,null,null,null,null,null,0,null,null,null,null,null,null,null,0,"00:00:00",null,null,"00:00:00",null,null,""]
["2011-12-22",null,null,null,null,null,null,null,null,0,null,null,null,null,null,null,null,0,"00:00:00",null,null,"00:00:00",null,null,""]
["2011-12-23",null,null,null,null,null,null,null,null,0,null,null,null,null,null,null,null,0,"00:00:00",null,null,"00:00:00",null,null,""]
["2011-12-24",null,null,null,null,null,null,null,null,0,null,null,null,null,null,null,null,0,"00:00:00",null,null,"00:00:00",null,null,""]
["2011-12-25",null,null,null,null,null,null,null,null,0,null,null,null,null,null,null,null,0,"00:00:00",null,null,"00:00:00",null,null,""]
["2011-12-26",null,null,null,null,null,null,null,null,0,null,null,null,null,null,null,null,0,"00:00:00",null,null,"00:00:00",null,null,""]
["2011-12-27",null,null,null,null,null,null,null,null,0,null,null,null,null,null,null,null,0,"00:00:00",null,null,"00:00:00",null,null,""]
["2011-12-28",null,null,null,null,null,null,null,null,0,null,null,null,null,null,null,null,0,"00:00:00",null,null,"00:00:00",null,null,""]
["2011-12-29",null,null,null,null,null,null,null,null,0,null,null,null,null,null,null,null,0,"00:00:00",null,null,"00:00:00",null,null,""]
["2011-12-30",null,null,null,null,null,null,null,null,0,null,null,null,null,null,null,null,0,"00:00:00",null,null,"00:00:00",null,null,""]
["2011-12-31",null,null,null,null,null,null,null,null,0,null,null,null,null,null,null,null,0,"00:00:00",null,null,"00:00:00",null,null,""]

{"sheet":"PM #1 - Availability Tier C","index":4,"n_rows":39,"n_cols":393,"rows_kept":39,"cut":false,"hidden":false,"merged":[[1,2,1,33],[1,358,1,389],[1,35,1,63],[1,65,1,96],[1,98,1,128],[1,130,1,161],[1,163,1,193],[1,195,1,226],[1,228,1,259],[1,261,1,291],[1,293,1,324],[1,326,1,356],[38,0,38,1],[2,0,2,1],[4,0,4,1],[15,0,15,1],[6,0,13,0],[17,0,24,0],[28,0,35,0],[25,0,25,1],[26,0,26,1],[27,0,27,1],[36,0,36,1],[37,0,37,1],[3,0,3,1],[5,0,5,1],[14,0,14,1],[16,0,16,1]]}
[]
[null,null,"January",null,null,null,null,null,null,null,null,null,null,null,null,null,null,null,null,null,null,null,null,null,null,null,null,null,null,null,null,null,null,null,"MTD","February",null,null,null,null,null,null,null,null,null,null,null,null,null,null,null,null,null,null,null,null,null,null,null,null,null,null,null,null,"MTD","March",null,null,null,null,null,null,null,null,null,null,null,null,null,null,null,null,null,null,null,null,null,null,null,null,null,null,null,null,null,null,null,"MTD","April",null,null,null,null,null,null,null,null,null,null,null,null,null,null,null,null,null,null,null,null,null,null,null,null,null,null,null,null,null,null,"MTD","May",null,null,null,null,null,null,null,null,null,null,null,null,null,null,null,null,null,null,null,null,null,null,null,null,null,null,null,null,null,null,null,"MTD","June",null,null,null,null,null,null,null,null,null,null,null,null,null,null,null,null,null,null,null,null,null,null,null,null,null,null,null,null,null,null,"MTD","July",null,null,null,null,null,null,null,null,null,null,null,null,null,null,null,null,null,null,null,null,null,null,null,null,null,null,null,null,null,null,null,"MTD","August",null,null,null,null,null,null,null,null,null,null,null,null,null,null,null,null,null,null,null,null,null,null,null,null,null,null,null,null,null,null,null,"MTD","September",null,null,null,null,null,null,null,null,null,null,null,null,null,null,null,null,null,null,null,null,null,null,null,null,null,null,null,null,null,null,"MTD","October",null,null,null,null,null,null,null,null,null,null,null,null,null,null,null,null,null,null,null,null,null,null,null,null,null,null,null,null,null,null,null,"MTD","November",null,null,null,null,null,null,null,null,null,null,null,null,null,null,null,null,null,null,null,null,null,null,null,null,null,null,null,null,null,null,"MTD","December",null,null,null,null,null,null,null,null,null,null,null,null,null,null,null,null,null,null,null,null,null,null,null,null,null,null,null,null,null,null,null,"MTD","YTD","YTD"]
["Date:",null,"2011-01-01","2011-01-02","2011-01-03","2011-01-04","2011-01-05","2011-01-06","2011-01-07","2011-01-08","2011-01-09","2011-01-10","2011-01-11","2011-01-12","2011-01-13","2011-01-14","2011-01-15","2011-01-16","2011-01-17","2011-01-18","2011-01-19","2011-01-20","2011-01-21","2011-01-22","2011-01-23","2011-01-24","2011-01-25","2011-01-26","2011-01-27","2011-01-28","2011-01-29","2011-01-30","2011-01-31","Total","Jan","2011-02-01","2011-02-02","2011-02-03","2011-02-04","2011-02-05","2011-02-06","2011-02-07","2011-02-08","2011-02-09","2011-02-10","2011-02-11","2011-02-12","2011-02-13","2011-02-14","2011-02-15","2011-02-16","2011-02-17","2011-02-18","2011-02-19","2011-02-20","2011-02-21","2011-02-22","2011-02-23","2011-02-24","2011-02-25","2011-02-26","2011-02-27","2011-02-28","Total","Feb","2011-03-01","2011-03-02","2011-03-03","2011-03-04","2011-03-05","2011-03-06","2011-03-07","2011-03-08","2011-03-09","2011-03-10","2011-03-11","2011-03-12","2011-03-13","2011-03-14","2011-03-15","2011-03-16","2011-03-17","2011-03-18","2011-03-19","2011-03-20","2011-03-21","2011-03-22","2011-03-23","2011-03-24","2011-03-25","2011-03-26","2011-03-27","2011-03-28","2011-03-29","2011-03-30","2011-03-31","Total","Mar","2011-04-01","2011-04-02","2011-04-03","2011-04-04","2011-04-05","2011-04-06","2011-04-07","2011-04-08","2011-04-09","2011-04-10","2011-04-11","2011-04-12","2011-04-13","2011-04-14","2011-04-15","2011-04-16","2011-04-17","2011-04-18","2011-04-19","2011-04-20","2011-04-21","2011-04-22","2011-04-23","2011-04-24","2011-04-25","2011-04-26","2011-04-27","2011-04-28","2011-04-29","2011-04-30","Total","Apr","2011-05-01","2011-05-02","2011-05-03","2011-05-04","2011-05-05","2011-05-06","2011-05-07","2011-05-08","2011-05-09","2011-05-10","2011-05-11","2011-05-12","2011-05-13","2011-05-14","2011-05-15","2011-05-16","2011-05-17","2011-05-18","2011-05-19","2011-05-20","2011-05-21","2011-05-22","2011-05-23","2011-05-24","2011-05-25","2011-05-26","2011-05-27","2011-05-28","2011-05-29","2011-05-30","2011-05-31","Total","May","2011-06-01","2011-06-02","2011-06-03","2011-06-04","2011-06-05","2011-06-06","2011-06-07","2011-06-08","2011-06-09","2011-06-10","2011-06-11","2011-06-12","2011-06-13","2011-06-14","2011-06-15","2011-06-16","2011-06-17","2011-06-18","2011-06-19","2011-06-20","2011-06-21","2011-06-22","2011-06-23","2011-06-24","2011-06-25","2011-06-26","2011-06-27","2011-06-28","2011-06-29","2011-06-30","Total","Jun","2011-07-01","2011-07-02","2011-07-03","2011-07-04","2011-07-05","2011-07-06","2011-07-07","2011-07-08","2011-07-09","2011-07-10","2011-07-11","2011-07-12","2011-07-13","2011-07-14","2011-07-15","2011-07-16","2011-07-17","2011-07-18","2011-07-19","2011-07-20","2011-07-21","2011-07-22","2011-07-23","2011-07-24","2011-07-25","2011-07-26","2011-07-27","2011-07-28","2011-07-29","2011-07-30","2011-07-31","Total","Jul","2011-08-01","2011-08-02","2011-08-03","2011-08-04","2011-08-05","2011-08-06","2011-08-07","2011-08-08","2011-08-09","2011-08-10","2011-08-11","2011-08-12","2011-08-13","2011-08-14","2011-08-15","2011-08-16","2011-08-17","2011-08-18","2011-08-19","2011-08-20","2011-08-21","2011-08-22","2011-08-23","2011-08-24","2011-08-25","2011-08-26","2011-08-27","2011-08-28","2011-08-29","2011-08-30","2011-08-31","Total","Aug","2011-09-01","2011-09-02","2011-09-03","2011-09-04","2011-09-05","2011-09-06","2011-09-07","2011-09-08","2011-09-09","2011-09-10","2011-09-11","2011-09-12","2011-09-13","2011-09-14","2011-09-15","2011-09-16","2011-09-17","2011-09-18","2011-09-19","2011-09-20","2011-09-21","2011-09-22","2011-09-23","2011-09-24","2011-09-25","2011-09-26","2011-09-27","2011-09-28","2011-09-29","2011-09-30","Total","Sep","2011-10-01","2011-10-02","2011-10-03","2011-10-04","2011-10-05","2011-10-06","2011-10-07","2011-10-08","2011-10-09","2011-10-10","2011-10-11","2011-10-12","2011-10-13","2011-10-14","2011-10-15","2011-10-16","2011-10-17","2011-10-18","2011-10-19","2011-10-20","2011-10-21","2011-10-22","2011-10-23","2011-10-24","2011-10-25","2011-10-26","2011-10-27","2011-10-28","2011-10-29","2011-10-30","2011-10-31","Total","Oct","2011-11-01","2011-11-02","2011-11-03","2011-11-04","2011-11-05","2011-11-06","2011-11-07","2011-11-08","2011-11-09","2011-11-10","2011-11-11","2011-11-12","2011-11-13","2011-11-14","2011-11-15","2011-11-16","2011-11-17","2011-11-18","2011-11-19","2011-11-20","2011-11-21","2011-11-22","2011-11-23","2011-11-24","2011-11-25","2011-11-26","2011-11-27","2011-11-28","2011-11-29","2011-11-30","Total","Nov","2011-12-01","2011-12-02","2011-12-03","2011-12-04","2011-12-05","2011-12-06","2011-12-07","2011-12-08","2011-12-09","2011-12-10","2011-12-11","2011-12-12","2011-12-13","2011-12-14","2011-12-15","2011-12-16","2011-12-17","2011-12-18","2011-12-19","2011-12-20","2011-12-21","2011-12-22","2011-12-23","2011-12-24","2011-12-25","2011-12-26","2011-12-27","2011-12-28","2011-12-29","2011-12-30","2011-12-31","Total","Dec","Total","YTD"]
["ST (hours):",null,null,null,null,null,null,null,null,null,null,null,null,null,null,null,null,null,null,null,null,null,null,null,null,null,null,null,null,null,null,null,null,{"$f":"SUM(C4:AG4)","v":0},null,null,null,null,null,null,null,null,null,null,null,null,null,null,null,null,null,null,null,null,null,null,null,null,null,null,null,null,null,{"$f":"SUM(AJ4:BK4)","v":0},null,null,null,null,null,null,null,null,null,null,null,null,null,null,null,null,null,null,null,null,null,null,null,null,null,null,null,null,null,null,null,null,{"$f":"SUM(BN4:CR4)","v":0},null,null,null,null,null,null,null,null,null,null,null,null,null,null,null,null,null,null,null,null,null,null,null,null,null,null,null,null,null,null,null,{"$f":"SUM(CU4:DX4)","v":0},null,null,null,null,null,null,null,null,null,null,null,null,null,null,null,null,null,null,null,null,null,null,null,null,null,null,null,null,null,null,null,null,{"$f":"SUM(EA4:FE4)","v":0},null,null,null,null,null,null,null,null,null,null,null,null,null,null,null,null,null,null,null,null,null,null,null,null,null,null,null,null,null,null,null,{"$f":"SUM(FH4:GK4)","v":0},null,null,null,null,null,null,null,null,null,null,null,null,null,null,null,null,null,null,null,null,null,null,null,null,null,null,null,null,null,null,null,null,{"$f":"SUM(GN4:HR4)","v":0},null,null,null,null,null,null,null,null,null,null,null,null,null,null,null,null,null,null,null,null,null,null,null,null,null,null,null,null,null,null,null,null,{"$f":"SUM(HU4:IY4)","v":0},null,null,null,null,null,null,null,null,null,null,null,null,null,null,null,null,null,null,null,null,null,null,null,null,null,null,null,null,null,null,null,{"$f":"SUM(JB4:KE4)","v":0},null,null,null,null,null,null,null,null,null,null,null,null,null,null,null,null,null,null,null,null,null,null,null,null,null,null,null,null,null,null,null,null,{"$f":"SUM(KH4:LL4)","v":0},null,null,null,null,null,null,null,null,null,null,null,null,null,null,null,null,null,null,null,null,null,null,null,null,null,null,null,null,null,null,null,{"$f":"SUM(LO4:MR4)","v":0},null,null,null,null,null,null,null,null,null,null,null,null,null,null,null,null,null,null,null,null,null,null,null,null,null,null,null,null,null,null,null,null,{"$f":"SUM(MU4:NY4)","v":0},null,{"$f":"SUM(AH4,BL4,CS4,DY4,FF4,GL4,HS4,IZ4,KF4,LM4,MS4,NZ4)","v":0}]
["Service Mode Availability:",null,{"$f":"IF(C6=0,\"\",C15/C6)","v":""},{"$f":"IF(D6=0,\"\",D15/D6)","v":""},"",{"$f":"IF(F6=0,\"\",F15/F6)","v":""},{"$f":"IF(G6=0,\"\",G15/G6)","v":""},{"$f":"IF(H6=0,\"\",H15/H6)","v":""},{"$f":"IF(I6=0,\"\",I15/I6)","v":""},{"$f":"IF(J6=0,\"\",J15/J6)","v":""},{"$f":"IF(K6=0,\"\",K15/K6)","v":""},{"$f":"IF(L6=0,\"\",L15/L6)","v":""},{"$f":"IF(M6=0,\"\",M15/M6)","v":""},{"$f":"IF(N6=0,\"\",N15/N6)","v":""},{"$f":"IF(O6=0,\"\",O15/O6)","v":""},{"$f":"IF(P6=0,\"\",P15/P6)","v":""},{"$f":"IF(Q6=0,\"\",Q15/Q6)","v":""},{"$f":"IF(R6=0,\"\",R15/R6)","v":""},{"$f":"IF(S6=0,\"\",S15/S6)","v":""},{"$f":"IF(T6=0,\"\",T15/T6)","v":""},{"$f":"IF(U6=0,\"\",U15/U6)","v":""},{"$f":"IF(V6=0,\"\",V15/V6)","v":""},{"$f":"IF(W6=0,\"\",W15/W6)","v":""},{"$f":"IF(X6=0,\"\",X15/X6)","v":""},{"$f":"IF(Y6=0,\"\",Y15/Y6)","v":""},{"$f":"IF(Z6=0,\"\",Z15/Z6)","v":""},{"$f":"IF(AA6=0,\"\",AA15/AA6)","v":""},{"$f":"IF(AB6=0,\"\",AB15/AB6)","v":""},{"$f":"IF(AC6=0,\"\",AC15/AC6)","v":""},{"$f":"IF(AD6=0,\"\",AD15/AD6)","v":""},{"$f":"IF(AE6=0,\"\",AE15/AE6)","v":""},{"$f":"IF(AF6=0,\"\",AF15/AF6)","v":""},{"$f":"IF(AG6=0,\"\",AG15/AG6)","v":""},null,{"$f":"IF(AH6=0,\"\",AH15/AH6)","v":""},{"$f":"IF(AJ6=0,\"\",AJ15/AJ6)","v":""},{"$f":"IF(AK6=0,\"\",AK15/AK6)","v":""},{"$f":"IF(AL6=0,\"\",AL15/AL6)","v":""},{"$f":"IF(AM6=0,\"\",AM15/AM6)","v":""},{"$f":"IF(AN6=0,\"\",AN15/AN6)","v":""},{"$f":"IF(AO6=0,\"\",AO15/AO6)","v":""},{"$f":"IF(AP6=0,\"\",AP15/AP6)","v":""},{"$f":"IF(AQ6=0,\"\",AQ15/AQ6)","v":""},{"$f":"IF(AR6=0,\"\",AR15/AR6)","v":""},{"$f":"IF(AS6=0,\"\",AS15/AS6)","v":""},{"$f":"IF(AT6=0,\"\",AT15/AT6)","v":""},{"$f":"IF(AU6=0,\"\",AU15/AU6)","v":""},{"$f":"IF(AV6=0,\"\",AV15/AV6)","v":""},{"$f":"IF(AW6=0,\"\",AW15/AW6)","v":""},{"$f":"IF(AX6=0,\"\",AX15/AX6)","v":""},{"$f":"IF(AY6=0,\"\",AY15/AY6)","v":""},{"$f":"IF(AZ6=0,\"\",AZ15/AZ6)","v":""},{"$f":"IF(BA6=0,\"\",BA15/BA6)","v":""},{"$f":"IF(BB6=0,\"\",BB15/BB6)","v":""},{"$f":"IF(BC6=0,\"\",BC15/BC6)","v":""},{"$f":"IF(BD6=0,\"\",BD15/BD6)","v":""},{"$f":"IF(BE6=0,\"\",BE15/BE6)","v":""},{"$f":"IF(BF6=0,\"\",BF15/BF6)","v":""},{"$f":"IF(BG6=0,\"\",BG15/BG6)","v":""},{"$f":"IF(BH6=0,\"\",BH15/BH6)","v":""},{"$f":"IF(BI6=0,\"\",BI15/BI6)","v":""},{"$f":"IF(BJ6=0,\"\",BJ15/BJ6)","v":""},{"$f":"IF(BK6=0,\"\",BK15/BK6)","v":""},null,{"$f":"IF(BL6=0,\"\",BL15/BL6)","v":""},{"$f":"IF(BN6=0,\"\",BN15/BN6)","v":""},{"$f":"IF(BO6=0,\"\",BO15/BO6)","v":""},{"$f":"IF(BP6=0,\"\",BP15/BP6)","v":""},{"$f":"IF(BQ6=0,\"\",BQ15/BQ6)","v":""},{"$f":"IF(BR6=0,\"\",BR15/BR6)","v":""},{"$f":"IF(BS6=0,\"\",BS15/BS6)","v":""},{"$f":"IF(BT6=0,\"\",BT15/BT6)","v":""},{"$f":"IF(BU6=0,\"\",BU15/BU6)","v":""},{"$f":"IF(BV6=0,\"\",BV15/BV6)","v":""},{"$f":"IF(BW6=0,\"\",BW15/BW6)","v":""},{"$f":"IF(BX6=0,\"\",BX15/BX6)","v":""},{"$f":"IF(BY6=0,\"\",BY15/BY6)","v":""},{"$f":"IF(BZ6=0,\"\",BZ15/BZ6)","v":""},{"$f":"IF(CA6=0,\"\",CA15/CA6)","v":""},{"$f":"IF(CB6=0,\"\",CB15/CB6)","v":""},{"$f":"IF(CC6=0,\"\",CC15/CC6)","v":""},{"$f":"IF(CD6=0,\"\",CD15/CD6)","v":""},{"$f":"IF(CE6=0,\"\",CE15/CE6)","v":""},{"$f":"IF(CF6=0,\"\",CF15/CF6)","v":""},{"$f":"IF(CG6=0,\"\",CG15/CG6)","v":""},{"$f":"IF(CH6=0,\"\",CH15/CH6)","v":""},{"$f":"IF(CI6=0,\"\",CI15/CI6)","v":""},{"$f":"IF(CJ6=0,\"\",CJ15/CJ6)","v":""},{"$f":"IF(CK6=0,\"\",CK15/CK6)","v":""},{"$f":"IF(CL6=0,\"\",CL15/CL6)","v":""},{"$f":"IF(CM6=0,\"\",CM15/CM6)","v":""},{"$f":"IF(CN6=0,\"\",CN15/CN6)","v":""},{"$f":"IF(CO6=0,\"\",CO15/CO6)","v":""},{"$f":"IF(CP6=0,\"\",CP15/CP6)","v":""},{"$f":"IF(CQ6=0,\"\",CQ15/CQ6)","v":""},{"$f":"IF(CR6=0,\"\",CR15/CR6)","v":""},null,{"$f":"IF(CS6=0,\"\",CS15/CS6)","v":""},{"$f":"IF(CU6=0,\"\",CU15/CU6)","v":""},{"$f":"IF(CV6=0,\"\",CV15/CV6)","v":""},{"$f":"IF(CW6=0,\"\",CW15/CW6)","v":""},{"$f":"IF(CX6=0,\"\",CX15/CX6)","v":""},{"$f":"IF(CY6=0,\"\",CY15/CY6)","v":""},{"$f":"IF(CZ6=0,\"\",CZ15/CZ6)","v":""},{"$f":"IF(DA6=0,\"\",DA15/DA6)","v":""},{"$f":"IF(DB6=0,\"\",DB15/DB6)","v":""},{"$f":"IF(DC6=0,\"\",DC15/DC6)","v":""},{"$f":"IF(DD6=0,\"\",DD15/DD6)","v":""},{"$f":"IF(DE6=0,\"\",DE15/DE6)","v":""},{"$f":"IF(DF6=0,\"\",DF15/DF6)","v":""},{"$f":"IF(DG6=0,\"\",DG15/DG6)","v":""},{"$f":"IF(DH6=0,\"\",DH15/DH6)","v":""},{"$f":"IF(DI6=0,\"\",DI15/DI6)","v":""},{"$f":"IF(DJ6=0,\"\",DJ15/DJ6)","v":""},{"$f":"IF(DK6=0,\"\",DK15/DK6)","v":""},{"$f":"IF(DL6=0,\"\",DL15/DL6)","v":""},{"$f":"IF(DM6=0,\"\",DM15/DM6)","v":""},{"$f":"IF(DN6=0,\"\",DN15/DN6)","v":""},{"$f":"IF(DO6=0,\"\",DO15/DO6)","v":""},{"$f":"IF(DP6=0,\"\",DP15/DP6)","v":""},{"$f":"IF(DQ6=0,\"\",DQ15/DQ6)","v":""},{"$f":"IF(DR6=0,\"\",DR15/DR6)","v":""},{"$f":"IF(DS6=0,\"\",DS15/DS6)","v":""},{"$f":"IF(DT6=0,\"\",DT15/DT6)","v":""},{"$f":"IF(DU6=0,\"\",DU15/DU6)","v":""},{"$f":"IF(DV6=0,\"\",DV15/DV6)","v":""},{"$f":"IF(DW6=0,\"\",DW15/DW6)","v":""},{"$f":"IF(DX6=0,\"\",DX15/DX6)","v":""},null,{"$f":"IF(DY6=0,\"\",DY15/DY6)","v":""},{"$f":"IF(EA6=0,\"\",EA15/EA6)","v":""},{"$f":"IF(EB6=0,\"\",EB15/EB6)","v":""},{"$f":"IF(EC6=0,\"\",EC15/EC6)","v":""},{"$f":"IF(ED6=0,\"\",ED15/ED6)","v":""},{"$f":"IF(EE6=0,\"\",EE15/EE6)","v":""},{"$f":"IF(EF6=0,\"\",EF15/EF6)","v":""},{"$f":"IF(EG6=0,\"\",EG15/EG6)","v":""},{"$f":"IF(EH6=0,\"\",EH15/EH6)","v":""},{"$f":"IF(EI6=0,\"\",EI15/EI6)","v":""},{"$f":"IF(EJ6=0,\"\",EJ15/EJ6)","v":""},{"$f":"IF(EK6=0,\"\",EK15/EK6)","v":""},{"$f":"IF(EL6=0,\"\",EL15/EL6)","v":""},{"$f":"IF(EM6=0,\"\",EM15/EM6)","v":""},{"$f":"IF(EN6=0,\"\",EN15/EN6)","v":""},{"$f":"IF(EO6=0,\"\",EO15/EO6)","v":""},{"$f":"IF(EP6=0,\"\",EP15/EP6)","v":""},{"$f":"IF(EQ6=0,\"\",EQ15/EQ6)","v":""},{"$f":"IF(ER6=0,\"\",ER15/ER6)","v":""},{"$f":"IF(ES6=0,\"\",ES15/ES6)","v":""},{"$f":"IF(ET6=0,\"\",ET15/ET6)","v":""},{"$f":"IF(EU6=0,\"\",EU15/EU6)","v":""},{"$f":"IF(EV6=0,\"\",EV15/EV6)","v":""},{"$f":"IF(EW6=0,\"\",EW15/EW6)","v":""},{"$f":"IF(EX6=0,\"\",EX15/EX6)","v":""},{"$f":"IF(EY6=0,\"\",EY15/EY6)","v":""},{"$f":"IF(EZ6=0,\"\",EZ15/EZ6)","v":""},{"$f":"IF(FA6=0,\"\",FA15/FA6)","v":""},{"$f":"IF(FB6=0,\"\",FB15/FB6)","v":""},{"$f":"IF(FC6=0,\"\",FC15/FC6)","v":""},{"$f":"IF(FD6=0,\"\",FD15/FD6)","v":""},{"$f":"IF(FE6=0,\"\",FE15/FE6)","v":""},null,{"$f":"IF(FF6=0,\"\",FF15/FF6)","v":""},{"$f":"IF(FH6=0,\"\",FH15/FH6)","v":""},{"$f":"IF(FI6=0,\"\",FI15/FI6)","v":""},{"$f":"IF(FJ6=0,\"\",FJ15/FJ6)","v":""},{"$f":"IF(FK6=0,\"\",FK15/FK6)","v":""},{"$f":"IF(FL6=0,\"\",FL15/FL6)","v":""},{"$f":"IF(FM6=0,\"\",FM15/FM6)","v":""},{"$f":"IF(FN6=0,\"\",FN15/FN6)","v":""},{"$f":"IF(FO6=0,\"\",FO15/FO6)","v":""},{"$f":"IF(FP6=0,\"\",FP15/FP6)","v":""},{"$f":"IF(FQ6=0,\"\",FQ15/FQ6)","v":""},{"$f":"IF(FR6=0,\"\",FR15/FR6)","v":""},{"$f":"IF(FS6=0,\"\",FS15/FS6)","v":""},{"$f":"IF(FT6=0,\"\",FT15/FT6)","v":""},{"$f":"IF(FU6=0,\"\",FU15/FU6)","v":""},{"$f":"IF(FV6=0,\"\",FV15/FV6)","v":""},{"$f":"IF(FW6=0,\"\",FW15/FW6)","v":""},{"$f":"IF(FX6=0,\"\",FX15/FX6)","v":""},{"$f":"IF(FY6=0,\"\",FY15/FY6)","v":""},{"$f":"IF(FZ6=0,\"\",FZ15/FZ6)","v":""},{"$f":"IF(GA6=0,\"\",GA15/GA6)","v":""},{"$f":"IF(GB6=0,\"\",GB15/GB6)","v":""},{"$f":"IF(GC6=0,\"\",GC15/GC6)","v":""},{"$f":"IF(GD6=0,\"\",GD15/GD6)","v":""},{"$f":"IF(GE6=0,\"\",GE15/GE6)","v":""},{"$f":"IF(GF6=0,\"\",GF15/GF6)","v":""},{"$f":"IF(GG6=0,\"\",GG15/GG6)","v":""},{"$f":"IF(GH6=0,\"\",GH15/GH6)","v":""},{"$f":"IF(GI6=0,\"\",GI15/GI6)","v":""},{"$f":"IF(GJ6=0,\"\",GJ15/GJ6)","v":""},{"$f":"IF(GK6=0,\"\",GK15/GK6)","v":""},null,{"$f":"IF(GL6=0,\"\",GL15/GL6)","v":""},{"$f":"IF(GN6=0,\"\",GN15/GN6)","v":""},{"$f":"IF(GO6=0,\"\",GO15/GO6)","v":""},{"$f":"IF(GP6=0,\"\",GP15/GP6)","v":""},{"$f":"IF(GQ6=0,\"\",GQ15/GQ6)","v":""},{"$f":"IF(GR6=0,\"\",GR15/GR6)","v":""},{"$f":"IF(GS6=0,\"\",GS15/GS6)","v":""},{"$f":"IF(GT6=0,\"\",GT15/GT6)","v":""},{"$f":"IF(GU6=0,\"\",GU15/GU6)","v":""},{"$f":"IF(GV6=0,\"\",GV15/GV6)","v":""},{"$f":"IF(GW6=0,\"\",GW15/GW6)","v":""},{"$f":"IF(GX6=0,\"\",GX15/GX6)","v":""},{"$f":"IF(GY6=0,\"\",GY15/GY6)","v":""},{"$f":"IF(GZ6=0,\"\",GZ15/GZ6)","v":""},{"$f":"IF(HA6=0,\"\",HA15/HA6)","v":""},{"$f":"IF(HB6=0,\"\",HB15/HB6)","v":""},{"$f":"IF(HC6=0,\"\",HC15/HC6)","v":""},{"$f":"IF(HD6=0,\"\",HD15/HD6)","v":""},{"$f":"IF(HE6=0,\"\",HE15/HE6)","v":""},{"$f":"IF(HF6=0,\"\",HF15/HF6)","v":""},{"$f":"IF(HG6=0,\"\",HG15/HG6)","v":""},{"$f":"IF(HH6=0,\"\",HH15/HH6)","v":""},{"$f":"IF(HI6=0,\"\",HI15/HI6)","v":""},{"$f":"IF(HJ6=0,\"\",HJ15/HJ6)","v":""},{"$f":"IF(HK6=0,\"\",HK15/HK6)","v":""},{"$f":"IF(HL6=0,\"\",HL15/HL6)","v":""},{"$f":"IF(HM6=0,\"\",HM15/HM6)","v":""},{"$f":"IF(HN6=0,\"\",HN15/HN6)","v":""},{"$f":"IF(HO6=0,\"\",HO15/HO6)","v":""},{"$f":"IF(HP6=0,\"\",HP15/HP6)","v":""},{"$f":"IF(HQ6=0,\"\",HQ15/HQ6)","v":""},{"$f":"IF(HR6=0,\"\",HR15/HR6)","v":""},null,{"$f":"IF(HS6=0,\"\",HS15/HS6)","v":""},{"$f":"IF(HU6=0,\"\",HU15/HU6)","v":""},{"$f":"IF(HV6=0,\"\",HV15/HV6)","v":""},{"$f":"IF(HW6=0,\"\",HW15/HW6)","v":""},{"$f":"IF(HX6=0,\"\",HX15/HX6)","v":""},{"$f":"IF(HY6=0,\"\",HY15/HY6)","v":""},{"$f":"IF(HZ6=0,\"\",HZ15/HZ6)","v":""},{"$f":"IF(IA6=0,\"\",IA15/IA6)","v":""},{"$f":"IF(IB6=0,\"\",IB15/IB6)","v":""},{"$f":"IF(IC6=0,\"\",IC15/IC6)","v":""},{"$f":"IF(ID6=0,\"\",ID15/ID6)","v":""},{"$f":"IF(IE6=0,\"\",IE15/IE6)","v":""},{"$f":"IF(IF6=0,\"\",IF15/IF6)","v":""},{"$f":"IF(IG6=0,\"\",IG15/IG6)","v":""},{"$f":"IF(IH6=0,\"\",IH15/IH6)","v":""},{"$f":"IF(II6=0,\"\",II15/II6)","v":""},{"$f":"IF(IJ6=0,\"\",IJ15/IJ6)","v":""},{"$f":"IF(IK6=0,\"\",IK15/IK6)","v":""},{"$f":"IF(IL6=0,\"\",IL15/IL6)","v":""},{"$f":"IF(IM6=0,\"\",IM15/IM6)","v":""},{"$f":"IF(IN6=0,\"\",IN15/IN6)","v":""},{"$f":"IF(IO6=0,\"\",IO15/IO6)","v":""},{"$f":"IF(IP6=0,\"\",IP15/IP6)","v":""},{"$f":"IF(IQ6=0,\"\",IQ15/IQ6)","v":""},{"$f":"IF(IR6=0,\"\",IR15/IR6)","v":""},{"$f":"IF(IS6=0,\"\",IS15/IS6)","v":""},{"$f":"IF(IT6=0,\"\",IT15/IT6)","v":""},{"$f":"IF(IU6=0,\"\",IU15/IU6)","v":""},{"$f":"IF(IV6=0,\"\",IV15/IV6)","v":""},{"$f":"IF(IW6=0,\"\",IW15/IW6)","v":""},{"$f":"IF(IX6=0,\"\",IX15/IX6)","v":""},{"$f":"IF(IY6=0,\"\",IY15/IY6)","v":""},null,{"$f":"IF(IZ6=0,\"\",IZ15/IZ6)","v":""},{"$f":"IF(JB6=0,\"\",JB15/JB6)","v":""},{"$f":"IF(JC6=0,\"\",JC15/JC6)","v":""},{"$f":"IF(JD6=0,\"\",JD15/JD6)","v":""},{"$f":"IF(JE6=0,\"\",JE15/JE6)","v":""},{"$f":"IF(JF6=0,\"\",JF15/JF6)","v":""},{"$f":"IF(JG6=0,\"\",JG15/JG6)","v":""},{"$f":"IF(JH6=0,\"\",JH15/JH6)","v":""},{"$f":"IF(JI6=0,\"\",JI15/JI6)","v":""},{"$f":"IF(JJ6=0,\"\",JJ15/JJ6)","v":""},{"$f":"IF(JK6=0,\"\",JK15/JK6)","v":""},{"$f":"IF(JL6=0,\"\",JL15/JL6)","v":""},{"$f":"IF(JM6=0,\"\",JM15/JM6)","v":""},{"$f":"IF(JN6=0,\"\",JN15/JN6)","v":""},{"$f":"IF(JO6=0,\"\",JO15/JO6)","v":""},{"$f":"IF(JP6=0,\"\",JP15/JP6)","v":""},{"$f":"IF(JQ6=0,\"\",JQ15/JQ6)","v":""},{"$f":"IF(JR6=0,\"\",JR15/JR6)","v":""},{"$f":"IF(JS6=0,\"\",JS15/JS6)","v":""},{"$f":"IF(JT6=0,\"\",JT15/JT6)","v":""},{"$f":"IF(JU6=0,\"\",JU15/JU6)","v":""},{"$f":"IF(JV6=0,\"\",JV15/JV6)","v":""},{"$f":"IF(JW6=0,\"\",JW15/JW6)","v":""},{"$f":"IF(JX6=0,\"\",JX15/JX6)","v":""},{"$f":"IF(JY6=0,\"\",JY15/JY6)","v":""},{"$f":"IF(JZ6=0,\"\",JZ15/JZ6)","v":""},{"$f":"IF(KA6=0,\"\",KA15/KA6)","v":""},{"$f":"IF(KB6=0,\"\",KB15/KB6)","v":""},{"$f":"IF(KC6=0,\"\",KC15/KC6)","v":""},{"$f":"IF(KD6=0,\"\",KD15/KD6)","v":""},{"$f":"IF(KE6=0,\"\",KE15/KE6)","v":""},null,{"$f":"IF(KF6=0,\"\",KF15/KF6)","v":""},{"$f":"IF(KH6=0,\"\",KH15/KH6)","v":""},{"$f":"IF(KI6=0,\"\",KI15/KI6)","v":""},{"$f":"IF(KJ6=0,\"\",KJ15/KJ6)","v":""},{"$f":"IF(KK6=0,\"\",KK15/KK6)","v":""},{"$f":"IF(KL6=0,\"\",KL15/KL6)","v":""},{"$f":"IF(KM6=0,\"\",KM15/KM6)","v":""},{"$f":"IF(KN6=0,\"\",KN15/KN6)","v":""},{"$f":"IF(KO6=0,\"\",KO15/KO6)","v":""},{"$f":"IF(KP6=0,\"\",KP15/KP6)","v":""},{"$f":"IF(KQ6=0,\"\",KQ15/KQ6)","v":""},{"$f":"IF(KR6=0,\"\",KR15/KR6)","v":""},{"$f":"IF(KS6=0,\"\",KS15/KS6)","v":""},{"$f":"IF(KT6=0,\"\",KT15/KT6)","v":""},{"$f":"IF(KU6=0,\"\",KU15/KU6)","v":""},{"$f":"IF(KV6=0,\"\",KV15/KV6)","v":""},{"$f":"IF(KW6=0,\"\",KW15/KW6)","v":""},{"$f":"IF(KX6=0,\"\",KX15/KX6)","v":""},{"$f":"IF(KY6=0,\"\",KY15/KY6)","v":""},{"$f":"IF(KZ6=0,\"\",KZ15/KZ6)","v":""},{"$f":"IF(LA6=0,\"\",LA15/LA6)","v":""},{"$f":"IF(LB6=0,\"\",LB15/LB6)","v":""},{"$f":"IF(LC6=0,\"\",LC15/LC6)","v":""},{"$f":"IF(LD6=0,\"\",LD15/LD6)","v":""},{"$f":"IF(LE6=0,\"\",LE15/LE6)","v":""},{"$f":"IF(LF6=0,\"\",LF15/LF6)","v":""},{"$f":"IF(LG6=0,\"\",LG15/LG6)","v":""},{"$f":"IF(LH6=0,\"\",LH15/LH6)","v":""},{"$f":"IF(LI6=0,\"\",LI15/LI6)","v":""},{"$f":"IF(LJ6=0,\"\",LJ15/LJ6)","v":""},{"$f":"IF(LK6=0,\"\",LK15/LK6)","v":""},{"$f":"IF(LL6=0,\"\",LL15/LL6)","v":""},null,{"$f":"IF(LM6=0,\"\",LM15/LM6)","v":""},{"$f":"IF(LO6=0,\"\",LO15/LO6)","v":""},{"$f":"IF(LP6=0,\"\",LP15/LP6)","v":""},{"$f":"IF(LQ6=0,\"\",LQ15/LQ6)","v":""},{"$f":"IF(LR6=0,\"\",LR15/LR6)","v":""},{"$f":"IF(LS6=0,\"\",LS15/LS6)","v":""},{"$f":"IF(LT6=0,\"\",LT15/LT6)","v":""},{"$f":"IF(LU6=0,\"\",LU15/LU6)","v":""},{"$f":"IF(LV6=0,\"\",LV15/LV6)","v":""},{"$f":"IF(LW6=0,\"\",LW15/LW6)","v":""},{"$f":"IF(LX6=0,\"\",LX15/LX6)","v":""},{"$f":"IF(LY6=0,\"\",LY15/LY6)","v":""},{"$f":"IF(LZ6=0,\"\",LZ15/LZ6)","v":""},{"$f":"IF(MA6=0,\"\",MA15/MA6)","v":""},{"$f":"IF(MB6=0,\"\",MB15/MB6)","v":""},{"$f":"IF(MC6=0,\"\",MC15/MC6)","v":""},{"$f":"IF(MD6=0,\"\",MD15/MD6)","v":""},{"$f":"IF(ME6=0,\"\",ME15/ME6)","v":""},{"$f":"IF(MF6=0,\"\",MF15/MF6)","v":""},{"$f":"IF(MG6=0,\"\",MG15/MG6)","v":""},{"$f":"IF(MH6=0,\"\",MH15/MH6)","v":""},{"$f":"IF(MI6=0,\"\",MI15/MI6)","v":""},{"$f":"IF(MJ6=0,\"\",MJ15/MJ6)","v":""},{"$f":"IF(MK6=0,\"\",MK15/MK6)","v":""},{"$f":"IF(ML6=0,\"\",ML15/ML6)","v":""},{"$f":"IF(MM6=0,\"\",MM15/MM6)","v":""},{"$f":"IF(MN6=0,\"\",MN15/MN6)","v":""},{"$f":"IF(MO6=0,\"\",MO15/MO6)","v":""},{"$f":"IF(MP6=0,\"\",MP15/MP6)","v":""},{"$f":"IF(MQ6=0,\"\",MQ15/MQ6)","v":""},{"$f":"IF(MR6=0,\"\",MR15/MR6)","v":""},null,{"$f":"IF(MS6=0,\"\",MS15/MS6)","v":""},{"$f":"IF(MU6=0,\"\",MU15/MU6)","v":""},{"$f":"IF(MV6=0,\"\",MV15/MV6)","v":""},{"$f":"IF(MW6=0,\"\",MW15/MW6)","v":""},{"$f":"IF(MX6=0,\"\",MX15/MX6)","v":""},{"$f":"IF(MY6=0,\"\",MY15/MY6)","v":""},{"$f":"IF(MZ6=0,\"\",MZ15/MZ6)","v":""},{"$f":"IF(NA6=0,\"\",NA15/NA6)","v":""},{"$f":"IF(NB6=0,\"\",NB15/NB6)","v":""},{"$f":"IF(NC6=0,\"\",NC15/NC6)","v":""},{"$f":"IF(ND6=0,\"\",ND15/ND6)","v":""},{"$f":"IF(NE6=0,\"\",NE15/NE6)","v":""},{"$f":"IF(NF6=0,\"\",NF15/NF6)","v":""},{"$f":"IF(NG6=0,\"\",NG15/NG6)","v":""},{"$f":"IF(NH6=0,\"\",NH15/NH6)","v":""},{"$f":"IF(NI6=0,\"\",NI15/NI6)","v":""},{"$f":"IF(NJ6=0,\"\",NJ15/NJ6)","v":""},{"$f":"IF(NK6=0,\"\",NK15/NK6)","v":""},{"$f":"IF(NL6=0,\"\",NL15/NL6)","v":""},{"$f":"IF(NM6=0,\"\",NM15/NM6)","v":""},{"$f":"IF(NN6=0,\"\",NN15/NN6)","v":""},{"$f":"IF(NO6=0,\"\",NO15/NO6)","v":""},{"$f":"IF(NP6=0,\"\",NP15/NP6)","v":""},{"$f":"IF(NQ6=0,\"\",NQ15/NQ6)","v":""},{"$f":"IF(NR6=0,\"\",NR15/NR6)","v":""},{"$f":"IF(NS6=0,\"\",NS15/NS6)","v":""},{"$f":"IF(NT6=0,\"\",NT15/NT6)","v":""},{"$f":"IF(NU6=0,\"\",NU15/NU6)","v":""},{"$f":"IF(NV6=0,\"\",NV15/NV6)","v":""},{"$f":"IF(NW6=0,\"\",NW15/NW6)","v":""},{"$f":"IF(NX6=0,\"\",NX15/NX6)","v":""},{"$f":"IF(NY6=0,\"\",NY15/NY6)","v":""},null,{"$f":"IF(NZ6=0,\"\",NZ15/NZ6)","v":""},null,{"$f":"IF(OB6=0,\"\",OB15/OB6)","v":""}]
["SMOT (seconds):",null,{"$f":"C4*3600","v":0},{"$f":"D4*3600","v":0},0,{"$f":"F4*3600","v":0},0,0,0,0,0,0,0,0,0,0,0,0,0,0,0,0,0,0,0,0,{"$f":"AA4*3600","v":0},0,0,0,0,{"$f":"AF4*3600","v":0},0,{"$f":"SUM(C6:AG6)","v":0},null,0,{"$f":"AK4*3600","v":0},0,0,0,0,0,0,0,0,0,0,0,0,0,0,0,0,0,0,0,0,0,0,0,0,0,0,{"$f":"SUM(AJ6:BK6)","v":0},null,0,0,0,0,0,0,0,0,0,0,0,0,0,0,0,0,0,0,0,0,0,0,0,0,0,0,0,0,0,0,0,{"$f":"SUM(BN6:CR6)","v":0},null,0,0,0,0,0,0,{"$f":"DA4*3600","v":0},0,0,0,0,0,0,0,0,0,0,0,0,0,0,0,0,0,0,0,0,0,0,0,{"$f":"SUM(CU6:DX6)","v":0},null,0,0,0,0,0,0,0,0,0,0,0,0,0,0,0,0,0,0,0,0,0,0,0,0,0,0,0,0,0,0,0,{"$f":"SUM(EA6:FE6)","v":0},null,0,0,0,0,0,0,0,0,0,{"$f":"FQ4*3600","v":0},0,0,0,0,{"$f":"FV4*3600","v":0},0,0,0,0,0,0,0,0,0,0,0,0,0,0,0,{"$f":"SUM(FH6:GK6)","v":0},null,0,0,0,0,0,0,0,0,0,0,0,0,0,0,0,0,0,0,0,0,0,0,0,0,0,0,0,0,0,0,0,{"$f":"SUM(GN6:HR6)","v":0},null,0,0,0,0,0,0,0,0,0,0,0,0,0,0,0,0,0,{"$f":"IL4*3600","v":0},0,0,0,0,0,0,0,0,0,0,0,0,0,{"$f":"SUM(HU6:IY6)","v":0},null,0,0,0,0,0,0,0,0,0,0,0,0,0,0,0,0,0,0,0,0,0,0,0,0,0,0,0,0,0,0,{"$f":"SUM(JB6:KE6)","v":0},null,0,0,0,0,0,0,0,0,0,0,0,0,0,0,0,0,0,0,0,0,{"$f":"LB4*3600","v":0},0,0,0,0,0,{"$f":"LH4*3600","v":0},0,0,0,0,{"$f":"SUM(KH6:LL6)","v":0},null,0,0,0,0,0,0,0,0,0,0,0,0,0,0,0,0,0,0,0,0,0,0,0,0,0,0,0,0,0,0,{"$f":"SUM(LO6:MR6)","v":0},null,0,0,0,0,0,0,0,0,0,0,0,0,0,0,0,0,{"$f":"NK4*3600","v":0},0,0,0,0,0,0,0,0,0,0,0,0,0,0,{"$f":"SUM(MU6:NY6)","v":0},null,{"$f":"SUM(AH6,BL6,CS6,DY6,FF6,GL6,HS6,IZ6,KF6,LM6,MS6,NZ6)","v":0}]
["MD\n(seconds)","Weather:",null,null,null,null,null,null,null,null,null,null,null,null,null,null,null,null,null,null,null,null,null,null,null,null,null,null,null,null,null,null,null,0,null,null,null,null,null,null,null,null,null,null,null,null,null,null,null,null,null,null,null,null,null,null,null,null,null,null,null,null,null,0,null,null,null,null,null,null,null,null,null,null,null,null,null,null,null,null,null,null,null,null,null,null,null,null,null,null,null,null,null,null,null,null,0,null,null,null,null,null,null,null,null,null,null,null,null,null,null,null,null,null,null,null,null,null,null,null,null,null,null,null,null,null,null,null,0,null,null,null,null,null,null,null,null,null,null,null,null,null,null,null,null,null,null,null,null,null,null,null,null,null,null,null,null,null,null,null,null,0,null,null,null,null,null,null,null,null,null,null,null,null,null,null,null,null,null,null,null,null,null,null,null,null,null,null,null,null,null,null,null,0,null,null,null,null,null,null,null,null,null,null,null,null,null,null,null,null,null,null,null,null,null,null,null,null,null,null,null,null,null,null,null,null,0,null,null,null,null,null,null,null,null,null,null,null,null,null,null,null,null,null,null,null,null,null,null,null,null,null,null,null,null,null,null,null,null,0,null,null,null,null,null,null,null,null,null,null,null,null,null,null,null,null,null,null,null,null,null,null,null,null,null,null,null,null,null,null,null,0,null,null,null,null,null,null,null,null,null,null,null,null,null,null,null,null,null,null,null,null,null,null,null,null,null,null,null,null,null,null,null,null,0,null,null,null,null,null,null,null,null,null,null,null,null,null,null,null,null,null,null,null,null,null,null,null,null,null,null,null,null,null,null,null,0,null,null,null,null,null,null,null,null,null,null,null,null,null,null,null,null,null,null,null,null,null,null,null,null,null,null,null,null,null,null,null,null,0,null,0]
[null,"Passenger:",null,null,null,null,null,null,null,null,null,null,null,null,null,null,null,null,null,null,null,null,null,null,null,null,null,null,null,null,null,null,null,0,null,null,null,null,null,null,null,null,null,null,null,null,null,null,null,null,null,null,null,null,null,null,null,null,null,null,null,null,null,0,null,null,null,null,null,null,null,null,null,null,null,null,null,null,null,null,null,null,null,null,null,null,null,null,null,null,null,null,null,null,null,null,0,null,null,null,null,null,null,null,null,null,null,null,null,null,null,null,null,null,null,null,null,null,null,null,null,null,null,null,null,null,null,null,0,null,null,null,null,null,null,null,null,null,null,null,null,null,null,null,null,null,null,null,null,null,null,null,null,null,null,null,null,null,null,null,null,0,null,null,null,null,null,null,null,null,null,null,null,null,null,null,null,null,null,null,null,null,null,null,null,null,null,null,null,null,null,null,null,0,null,null,null,null,null,null,null,null,null,null,null,null,null,null,null,null,null,null,null,null,null,null,null,null,null,null,null,null,null,null,null,null,0,null,null,null,null,null,null,null,null,null,null,null,null,null,null,null,null,null,null,null,null,null,null,null,null,null,null,null,null,null,null,null,null,0,null,null,null,null,null,null,null,null,null,null,null,null,null,null,null,null,null,null,null,null,null,null,null,null,null,null,null,null,null,null,null,0,null,null,null,null,null,null,null,null,null,null,null,null,null,null,null,null,null,null,null,null,null,null,null,null,null,null,null,null,null,null,null,null,0,null,null,null,null,null,null,null,null,null,null,null,null,null,null,null,null,null,null,null,null,null,null,null,null,null,null,null,null,null,null,null,0,null,null,null,null,null,null,null,null,null,null,null,null,null,null,null,null,null,null,null,null,null,null,null,null,null,null,null,null,null,null,null,null,0,null,0]
[null,"System Equipment:",null,null,null,null,null,null,null,null,null,null,null,null,null,null,null,null,null,null,null,null,null,null,null,null,null,null,null,null,null,null,null,0,null,null,null,null,null,null,null,null,null,null,null,null,null,null,null,null,null,null,null,null,null,null,null,null,null,null,null,null,null,0,null,null,null,null,null,null,null,null,null,null,null,null,null,null,null,null,null,null,null,null,null,null,null,null,null,null,null,null,null,null,null,null,0,null,null,null,null,null,null,null,null,null,null,null,null,null,null,null,null,null,null,null,null,null,null,null,null,null,null,null,null,null,null,null,0,null,null,null,null,null,null,null,null,null,null,null,null,null,null,null,null,null,null,null,null,null,null,null,null,null,null,null,null,null,null,null,null,0,null,null,null,null,null,null,null,null,null,null,null,null,null,null,null,null,null,null,null,null,null,null,null,null,null,null,null,null,null,null,null,0,null,null,null,null,null,null,null,null,null,null,null,null,null,null,null,null,null,null,null,null,null,null,null,null,null,null,null,null,null,null,null,null,0,null,null,null,null,null,null,null,null,null,null,null,null,null,null,null,null,null,null,null,null,null,null,null,null,null,null,null,null,null,null,null,null,0,null,null,null,null,null,null,null,null,null,null,null,null,null,null,null,null,null,null,null,null,null,null,null,null,null,null,null,null,null,null,null,0,null,null,null,null,null,null,null,null,null,null,null,null,null,null,null,null,null,null,null,null,null,null,null,null,null,null,null,null,null,null,null,null,0,null,null,null,null,null,null,null,null,null,null,null,null,null,null,null,null,null,null,null,null,null,null,null,null,null,null,null,null,null,null,null,0,null,null,null,null,null,null,null,null,null,null,null,null,null,null,null,null,null,null,null,null,null,null,null,null,null,null,null,null,null,null,null,null,0,null,0]
[null,"Facilities:",null,null,null,null,null,null,null,null,null,null,null,null,null,null,null,null,null,null,null,null,null,null,null,null,null,null,null,null,null,null,null,0,null,null,null,null,null,null,null,null,null,null,null,null,null,null,null,null,null,null,null,null,null,null,null,null,null,null,null,null,null,0,null,null,null,null,null,null,null,null,null,null,null,null,null,null,null,null,null,null,null,null,null,null,null,null,null,null,null,null,null,null,null,null,0,null,null,null,null,null,null,null,null,null,null,null,null,null,null,null,null,null,null,null,null,null,null,null,null,null,null,null,null,null,null,null,0,null,null,null,null,null,null,null,null,null,null,null,null,null,null,null,null,null,null,null,null,null,null,null,null,null,null,null,null,null,null,null,null,0,null,null,null,null,null,null,null,null,null,null,null,null,null,null,null,null,null,null,null,null,null,null,null,null,null,null,null,null,null,null,null,0,null,null,null,null,null,null,null,null,null,null,null,null,null,null,null,null,null,null,null,null,null,null,null,null,null,null,null,null,null,null,null,null,0,null,null,null,null,null,null,null,null,null,null,null,null,null,null,null,null,null,null,null,null,null,null,null,null,null,null,null,null,null,null,null,null,0,null,null,null,null,null,null,null,null,null,null,null,null,null,null,null,null,null,null,null,null,null,null,null,null,null,null,null,null,null,null,null,0,null,null,null,null,null,null,null,null,null,null,null,null,null,null,null,null,null,null,null,null,null,null,null,null,null,null,null,null,null,null,null,null,0,null,null,null,null,null,null,null,null,null,null,null,null,null,null,null,null,null,null,null,null,null,null,null,null,null,null,null,null,null,null,null,0,null,null,null,null,null,null,null,null,null,null,null,null,null,null,null,null,null,null,null,null,null,null,null,null,null,null,null,null,null,null,null,null,0,null,0]
[null,"Utility:",null,null,null,null,null,null,null,null,null,null,null,null,null,null,null,null,null,null,null,null,null,null,null,null,null,null,null,null,null,null,null,0,null,null,null,null,null,null,null,null,null,null,null,null,null,null,null,null,null,null,null,null,null,null,null,null,null,null,null,null,null,0,null,null,null,null,null,null,null,null,null,null,null,null,null,null,null,null,null,null,null,null,null,null,null,null,null,null,null,null,null,null,null,null,0,null,null,null,null,null,null,null,null,null,null,null,null,null,null,null,null,null,null,null,null,null,null,null,null,null,null,null,null,null,null,null,0,null,null,null,null,null,null,null,null,null,null,null,null,null,null,null,null,null,null,null,null,null,null,null,null,null,null,null,null,null,null,null,null,0,null,null,null,null,null,null,null,null,null,null,null,null,null,null,null,null,null,null,null,null,null,null,null,null,null,null,null,null,null,null,null,0,null,null,null,null,null,null,null,null,null,null,null,null,null,null,null,null,null,null,null,null,null,null,null,null,null,null,null,null,null,null,null,null,0,null,null,null,null,null,null,null,null,null,null,null,null,null,null,null,null,null,null,null,null,null,null,null,null,null,null,null,null,null,null,null,null,0,null,null,null,null,null,null,null,null,null,null,null,null,null,null,null,null,null,null,null,null,null,null,null,null,null,null,null,null,null,null,null,0,null,null,null,null,null,null,null,null,null,null,null,null,null,null,null,null,null,null,null,null,null,null,null,null,null,null,null,null,null,null,null,null,0,null,null,null,null,null,null,null,null,null,null,null,null,null,null,null,null,null,null,null,null,null,null,null,null,null,null,null,null,null,null,null,0,null,null,null,null,null,null,null,null,null,null,null,null,null,null,null,null,null,null,null,null,null,null,null,null,null,null,null,null,null,null,null,null,0,null,0]
[null,"O&M:",null,null,null,null,null,null,null,null,null,null,null,null,null,null,null,null,null,null,null,null,null,null,null,null,null,null,null,null,null,null,null,0,null,null,null,null,null,null,null,null,null,null,null,null,null,null,null,null,null,null,null,null,null,null,null,null,null,null,null,null,null,0,null,null,null,null,null,null,null,null,null,null,null,null,null,null,null,null,null,null,null,null,null,null,null,null,null,null,null,null,null,null,null,null,0,null,null,null,null,null,null,null,null,null,null,null,null,null,null,null,null,null,null,null,null,null,null,null,null,null,null,null,null,null,null,null,0,null,null,null,null,null,null,null,null,null,null,null,null,null,null,null,null,null,null,null,null,null,null,null,null,null,null,null,null,null,null,null,null,0,null,null,null,null,null,null,null,null,null,null,null,null,null,null,null,null,null,null,null,null,null,null,null,null,null,null,null,null,null,null,null,0,null,null,null,null,null,null,null,null,null,null,null,null,null,null,null,null,null,null,null,null,null,null,null,null,null,null,null,null,null,null,null,null,0,null,null,null,null,null,null,null,null,null,null,null,null,null,null,null,null,null,null,null,null,null,null,null,null,null,null,null,null,null,null,null,null,0,null,null,null,null,null,null,null,null,null,null,null,null,null,null,null,null,null,null,null,null,null,null,null,null,null,null,null,null,null,null,null,0,null,null,null,null,null,null,null,null,null,null,null,null,null,null,null,null,null,null,null,null,null,null,null,null,null,null,null,null,null,null,null,null,0,null,null,null,null,null,null,null,null,null,null,null,null,null,null,null,null,null,null,null,null,null,null,null,null,null,null,null,null,null,null,null,0,null,null,null,null,null,null,null,null,null,null,null,null,null,null,null,null,null,null,null,null,null,null,null,null,null,null,null,null,null,null,null,null,0,null,0]
[null,"Other:",null,null,null,null,null,null,null,null,null,null,null,null,null,null,null,null,null,null,null,null,null,null,null,null,null,null,null,null,null,null,null,0,null,null,null,null,null,null,null,null,null,null,null,null,null,null,null,null,null,null,null,null,null,null,null,null,null,null,null,null,null,0,null,null,null,null,null,null,null,null,null,null,null,null,null,null,null,null,null,null,null,null,null,null,null,null,null,null,null,null,null,null,null,null,0,null,null,null,null,null,null,null,null,null,null,null,null,null,null,null,null,null,null,null,null,null,null,null,null,null,null,null,null,null,null,null,0,null,null,null,null,null,null,null,null,null,null,null,null,null,null,null,null,null,null,null,null,null,null,null,null,null,null,null,null,null,null,null,null,0,null,null,null,null,null,null,null,null,null,null,null,null,null,null,null,null,null,null,null,null,null,null,null,null,null,null,null,null,null,null,null,0,null,null,null,null,null,null,null,null,null,null,null,null,null,null,null,null,null,null,null,null,null,null,null,null,null,null,null,null,null,null,null,null,0,null,null,null,null,null,null,null,null,null,null,null,null,null,null,null,null,null,null,null,null,null,null,null,null,null,null,null,null,null,null,null,null,0,null,null,null,null,null,null,null,null,null,null,null,null,null,null,null,null,null,null,null,null,null,null,null,null,null,null,null,null,null,null,null,0,null,null,null,null,null,null,null,null,null,null,null,null,null,null,null,null,null,null,null,null,null,null,null,null,null,null,null,null,null,null,null,null,0,null,null,null,null,null,null,null,null,null,null,null,null,null,null,null,null,null,null,null,null,null,null,null,null,null,null,null,null,null,null,null,0,null,null,null,null,null,null,null,null,null,null,null,null,null,null,null,null,null,null,null,null,null,null,null,null,null,null,null,null,null,null,null,null,0,null,0]
[null,"Total:",{"$f":"SUM(C7:C13)","v":0},{"$f":"SUM(D7:D13)","v":0},0,{"$f":"SUM(F7:F13)","v":0},{"$f":"SUM(G7:G13)","v":0},{"$f":"SUM(H7:H13)","v":0},{"$f":"SUM(I7:I13)","v":0},{"$f":"SUM(J7:J13)","v":0},{"$f":"SUM(K7:K13)","v":0},{"$f":"SUM(L7:L13)","v":0},{"$f":"SUM(M7:M13)","v":0},{"$f":"SUM(N7:N13)","v":0},{"$f":"SUM(O7:O13)","v":0},{"$f":"SUM(P7:P13)","v":0},{"$f":"SUM(Q7:Q13)","v":0},{"$f":"SUM(R7:R13)","v":0},{"$f":"SUM(S7:S13)","v":0},{"$f":"SUM(T7:T13)","v":0},{"$f":"SUM(U7:U13)","v":0},{"$f":"SUM(V7:V13)","v":0},{"$f":"SUM(W7:W13)","v":0},{"$f":"SUM(X7:X13)","v":0},{"$f":"SUM(Y7:Y13)","v":0},{"$f":"SUM(Z7:Z13)","v":0},{"$f":"SUM(AA7:AA13)","v":0},{"$f":"SUM(AB7:AB13)","v":0},{"$f":"SUM(AC7:AC13)","v":0},{"$f":"SUM(AD7:AD13)","v":0},{"$f":"SUM(AE7:AE13)","v":0},{"$f":"SUM(AF7:AF13)","v":0},{"$f":"SUM(AG7:AG13)","v":0},0,null,{"$f":"SUM(AJ7:AJ13)","v":0},{"$f":"SUM(AK7:AK13)","v":0},{"$f":"SUM(AL7:AL13)","v":0},{"$f":"SUM(AM7:AM13)","v":0},{"$f":"SUM(AN7:AN13)","v":0},{"$f":"SUM(AO7:AO13)","v":0},{"$f":"SUM(AP7:AP13)","v":0},{"$f":"SUM(AQ7:AQ13)","v":0},{"$f":"SUM(AR7:AR13)","v":0},{"$f":"SUM(AS7:AS13)","v":0},{"$f":"SUM(AT7:AT13)","v":0},{"$f":"SUM(AU7:AU13)","v":0},{"$f":"SUM(AV7:AV13)","v":0},{"$f":"SUM(AW7:AW13)","v":0},{"$f":"SUM(AX7:AX13)","v":0},{"$f":"SUM(AY7:AY13)","v":0},{"$f":"SUM(AZ7:AZ13)","v":0},{"$f":"SUM(BA7:BA13)","v":0},{"$f":"SUM(BB7:BB13)","v":0},{"$f":"SUM(BC7:BC13)","v":0},{"$f":"SUM(BD7:BD13)","v":0},{"$f":"SUM(BE7:BE13)","v":0},{"$f":"SUM(BF7:BF13)","v":0},{"$f":"SUM(BG7:BG13)","v":0},{"$f":"SUM(BH7:BH13)","v":0},{"$f":"SUM(BI7:BI13)","v":0},{"$f":"SUM(BJ7:BJ13)","v":0},{"$f":"SUM(BK7:BK13)","v":0},0,null,{"$f":"SUM(BN7:BN13)","v":0},{"$f":"SUM(BO7:BO13)","v":0},{"$f":"SUM(BP7:BP13)","v":0},{"$f":"SUM(BQ7:BQ13)","v":0},{"$f":"SUM(BR7:BR13)","v":0},{"$f":"SUM(BS7:BS13)","v":0},{"$f":"SUM(BT7:BT13)","v":0},{"$f":"SUM(BU7:BU13)","v":0},{"$f":"SUM(BV7:BV13)","v":0},{"$f":"SUM(BW7:BW13)","v":0},{"$f":"SUM(BX7:BX13)","v":0},{"$f":"SUM(BY7:BY13)","v":0},{"$f":"SUM(BZ7:BZ13)","v":0},{"$f":"SUM(CA7:CA13)","v":0},{"$f":"SUM(CB7:CB13)","v":0},{"$f":"SUM(CC7:CC13)","v":0},{"$f":"SUM(CD7:CD13)","v":0},{"$f":"SUM(CE7:CE13)","v":0},{"$f":"SUM(CF7:CF13)","v":0},{"$f":"SUM(CG7:CG13)","v":0},{"$f":"SUM(CH7:CH13)","v":0},{"$f":"SUM(CI7:CI13)","v":0},{"$f":"SUM(CJ7:CJ13)","v":0},{"$f":"SUM(CK7:CK13)","v":0},{"$f":"SUM(CL7:CL13)","v":0},{"$f":"SUM(CM7:CM13)","v":0},{"$f":"SUM(CN7:CN13)","v":0},{"$f":"SUM(CO7:CO13)","v":0},{"$f":"SUM(CP7:CP13)","v":0},{"$f":"SUM(CQ7:CQ13)","v":0},{"$f":"SUM(CR7:CR13)","v":0},0,null,{"$f":"SUM(CU7:CU13)","v":0},{"$f":"SUM(CV7:CV13)","v":0},{"$f":"SUM(CW7:CW13)","v":0},{"$f":"SUM(CX7:CX13)","v":0},{"$f":"SUM(CY7:CY13)","v":0},{"$f":"SUM(CZ7:CZ13)","v":0},{"$f":"SUM(DA7:DA13)","v":0},{"$f":"SUM(DB7:DB13)","v":0},{"$f":"SUM(DC7:DC13)","v":0},{"$f":"SUM(DD7:DD13)","v":0},{"$f":"SUM(DE7:DE13)","v":0},{"$f":"SUM(DF7:DF13)","v":0},{"$f":"SUM(DG7:DG13)","v":0},{"$f":"SUM(DH7:DH13)","v":0},{"$f":"SUM(DI7:DI13)","v":0},{"$f":"SUM(DJ7:DJ13)","v":0},{"$f":"SUM(DK7:DK13)","v":0},{"$f":"SUM(DL7:DL13)","v":0},{"$f":"SUM(DM7:DM13)","v":0},{"$f":"SUM(DN7:DN13)","v":0},{"$f":"SUM(DO7:DO13)","v":0},{"$f":"SUM(DP7:DP13)","v":0},{"$f":"SUM(DQ7:DQ13)","v":0},{"$f":"SUM(DR7:DR13)","v":0},{"$f":"SUM(DS7:DS13)","v":0},{"$f":"SUM(DT7:DT13)","v":0},{"$f":"SUM(DU7:DU13)","v":0},{"$f":"SUM(DV7:DV13)","v":0},{"$f":"SUM(DW7:DW13)","v":0},{"$f":"SUM(DX7:DX13)","v":0},0,null,{"$f":"SUM(EA7:EA13)","v":0},{"$f":"SUM(EB7:EB13)","v":0},{"$f":"SUM(EC7:EC13)","v":0},{"$f":"SUM(ED7:ED13)","v":0},{"$f":"SUM(EE7:EE13)","v":0},{"$f":"SUM(EF7:EF13)","v":0},{"$f":"SUM(EG7:EG13)","v":0},{"$f":"SUM(EH7:EH13)","v":0},{"$f":"SUM(EI7:EI13)","v":0},{"$f":"SUM(EJ7:EJ13)","v":0},{"$f":"SUM(EK7:EK13)","v":0},{"$f":"SUM(EL7:EL13)","v":0},{"$f":"SUM(EM7:EM13)","v":0},{"$f":"SUM(EN7:EN13)","v":0},{"$f":"SUM(EO7:EO13)","v":0},{"$f":"SUM(EP7:EP13)","v":0},{"$f":"SUM(EQ7:EQ13)","v":0},{"$f":"SUM(ER7:ER13)","v":0},{"$f":"SUM(ES7:ES13)","v":0},{"$f":"SUM(ET7:ET13)","v":0},{"$f":"SUM(EU7:EU13)","v":0},{"$f":"SUM(EV7:EV13)","v":0},{"$f":"SUM(EW7:EW13)","v":0},{"$f":"SUM(EX7:EX13)","v":0},{"$f":"SUM(EY7:EY13)","v":0},{"$f":"SUM(EZ7:EZ13)","v":0},{"$f":"SUM(FA7:FA13)","v":0},{"$f":"SUM(FB7:FB13)","v":0},{"$f":"SUM(FC7:FC13)","v":0},{"$f":"SUM(FD7:FD13)","v":0},{"$f":"SUM(FE7:FE13)","v":0},0,null,{"$f":"SUM(FH7:FH13)","v":0},{"$f":"SUM(FI7:FI13)","v":0},{"$f":"SUM(FJ7:FJ13)","v":0},{"$f":"SUM(FK7:FK13)","v":0},{"$f":"SUM(FL7:FL13)","v":0},{"$f":"SUM(FM7:FM13)","v":0},{"$f":"SUM(FN7:FN13)","v":0},{"$f":"SUM(FO7:FO13)","v":0},{"$f":"SUM(FP7:FP13)","v":0},{"$f":"SUM(FQ7:FQ13)","v":0},{"$f":"SUM(FR7:FR13)","v":0},{"$f":"SUM(FS7:FS13)","v":0},{"$f":"SUM(FT7:FT13)","v":0},{"$f":"SUM(FU7:FU13)","v":0},{"$f":"SUM(FV7:FV13)","v":0},{"$f":"SUM(FW7:FW13)","v":0},{"$f":"SUM(FX7:FX13)","v":0},{"$f":"SUM(FY7:FY13)","v":0},{"$f":"SUM(FZ7:FZ13)","v":0},{"$f":"SUM(GA7:GA13)","v":0},{"$f":"SUM(GB7:GB13)","v":0},{"$f":"SUM(GC7:GC13)","v":0},{"$f":"SUM(GD7:GD13)","v":0},{"$f":"SUM(GE7:GE13)","v":0},{"$f":"SUM(GF7:GF13)","v":0},{"$f":"SUM(GG7:GG13)","v":0},{"$f":"SUM(GH7:GH13)","v":0},{"$f":"SUM(GI7:GI13)","v":0},{"$f":"SUM(GJ7:GJ13)","v":0},{"$f":"SUM(GK7:GK13)","v":0},0,null,{"$f":"SUM(GN7:GN13)","v":0},{"$f":"SUM(GO7:GO13)","v":0},{"$f":"SUM(GP7:GP13)","v":0},{"$f":"SUM(GQ7:GQ13)","v":0},{"$f":"SUM(GR7:GR13)","v":0},{"$f":"SUM(GS7:GS13)","v":0},{"$f":"SUM(GT7:GT13)","v":0},{"$f":"SUM(GU7:GU13)","v":0},{"$f":"SUM(GV7:GV13)","v":0},{"$f":"SUM(GW7:GW13)","v":0},{"$f":"SUM(GX7:GX13)","v":0},{"$f":"SUM(GY7:GY13)","v":0},{"$f":"SUM(GZ7:GZ13)","v":0},{"$f":"SUM(HA7:HA13)","v":0},{"$f":"SUM(HB7:HB13)","v":0},{"$f":"SUM(HC7:HC13)","v":0},{"$f":"SUM(HD7:HD13)","v":0},{"$f":"SUM(HE7:HE13)","v":0},{"$f":"SUM(HF7:HF13)","v":0},{"$f":"SUM(HG7:HG13)","v":0},{"$f":"SUM(HH7:HH13)","v":0},{"$f":"SUM(HI7:HI13)","v":0},{"$f":"SUM(HJ7:HJ13)","v":0},{"$f":"SUM(HK7:HK13)","v":0},{"$f":"SUM(HL7:HL13)","v":0},{"$f":"SUM(HM7:HM13)","v":0},{"$f":"SUM(HN7:HN13)","v":0},{"$f":"SUM(HO7:HO13)","v":0},{"$f":"SUM(HP7:HP13)","v":0},{"$f":"SUM(HQ7:HQ13)","v":0},{"$f":"SUM(HR7:HR13)","v":0},0,null,{"$f":"SUM(HU7:HU13)","v":0},{"$f":"SUM(HV7:HV13)","v":0},{"$f":"SUM(HW7:HW13)","v":0},{"$f":"SUM(HX7:HX13)","v":0},{"$f":"SUM(HY7:HY13)","v":0},{"$f":"SUM(HZ7:HZ13)","v":0},{"$f":"SUM(IA7:IA13)","v":0},{"$f":"SUM(IB7:IB13)","v":0},{"$f":"SUM(IC7:IC13)","v":0},{"$f":"SUM(ID7:ID13)","v":0},{"$f":"SUM(IE7:IE13)","v":0},{"$f":"SUM(IF7:IF13)","v":0},{"$f":"SUM(IG7:IG13)","v":0},{"$f":"SUM(IH7:IH13)","v":0},{"$f":"SUM(II7:II13)","v":0},{"$f":"SUM(IJ7:IJ13)","v":0},{"$f":"SUM(IK7:IK13)","v":0},{"$f":"SUM(IL7:IL13)","v":0},{"$f":"SUM(IM7:IM13)","v":0},{"$f":"SUM(IN7:IN13)","v":0},{"$f":"SUM(IO7:IO13)","v":0},{"$f":"SUM(IP7:IP13)","v":0},{"$f":"SUM(IQ7:IQ13)","v":0},{"$f":"SUM(IR7:IR13)","v":0},{"$f":"SUM(IS7:IS13)","v":0},{"$f":"SUM(IT7:IT13)","v":0},{"$f":"SUM(IU7:IU13)","v":0},{"$f":"SUM(IV7:IV13)","v":0},{"$f":"SUM(IW7:IW13)","v":0},{"$f":"SUM(IX7:IX13)","v":0},{"$f":"SUM(IY7:IY13)","v":0},0,null,{"$f":"SUM(JB7:JB13)","v":0},{"$f":"SUM(JC7:JC13)","v":0},{"$f":"SUM(JD7:JD13)","v":0},{"$f":"SUM(JE7:JE13)","v":0},{"$f":"SUM(JF7:JF13)","v":0},{"$f":"SUM(JG7:JG13)","v":0},{"$f":"SUM(JH7:JH13)","v":0},{"$f":"SUM(JI7:JI13)","v":0},{"$f":"SUM(JJ7:JJ13)","v":0},{"$f":"SUM(JK7:JK13)","v":0},{"$f":"SUM(JL7:JL13)","v":0},{"$f":"SUM(JM7:JM13)","v":0},{"$f":"SUM(JN7:JN13)","v":0},{"$f":"SUM(JO7:JO13)","v":0},{"$f":"SUM(JP7:JP13)","v":0},{"$f":"SUM(JQ7:JQ13)","v":0},{"$f":"SUM(JR7:JR13)","v":0},{"$f":"SUM(JS7:JS13)","v":0},{"$f":"SUM(JT7:JT13)","v":0},{"$f":"SUM(JU7:JU13)","v":0},{"$f":"SUM(JV7:JV13)","v":0},{"$f":"SUM(JW7:JW13)","v":0},{"$f":"SUM(JX7:JX13)","v":0},{"$f":"SUM(JY7:JY13)","v":0},{"$f":"SUM(JZ7:JZ13)","v":0},{"$f":"SUM(KA7:KA13)","v":0},{"$f":"SUM(KB7:KB13)","v":0},{"$f":"SUM(KC7:KC13)","v":0},{"$f":"SUM(KD7:KD13)","v":0},{"$f":"SUM(KE7:KE13)","v":0},0,null,{"$f":"SUM(KH7:KH13)","v":0},{"$f":"SUM(KI7:KI13)","v":0},{"$f":"SUM(KJ7:KJ13)","v":0},{"$f":"SUM(KK7:KK13)","v":0},{"$f":"SUM(KL7:KL13)","v":0},{"$f":"SUM(KM7:KM13)","v":0},{"$f":"SUM(KN7:KN13)","v":0},{"$f":"SUM(KO7:KO13)","v":0},{"$f":"SUM(KP7:KP13)","v":0},{"$f":"SUM(KQ7:KQ13)","v":0},{"$f":"SUM(KR7:KR13)","v":0},{"$f":"SUM(KS7:KS13)","v":0},{"$f":"SUM(KT7:KT13)","v":0},{"$f":"SUM(KU7:KU13)","v":0},{"$f":"SUM(KV7:KV13)","v":0},{"$f":"SUM(KW7:KW13)","v":0},{"$f":"SUM(KX7:KX13)","v":0},{"$f":"SUM(KY7:KY13)","v":0},{"$f":"SUM(KZ7:KZ13)","v":0},{"$f":"SUM(LA7:LA13)","v":0},{"$f":"SUM(LB7:LB13)","v":0},{"$f":"SUM(LC7:LC13)","v":0},{"$f":"SUM(LD7:LD13)","v":0},{"$f":"SUM(LE7:LE13)","v":0},{"$f":"SUM(LF7:LF13)","v":0},{"$f":"SUM(LG7:LG13)","v":0},{"$f":"SUM(LH7:LH13)","v":0},{"$f":"SUM(LI7:LI13)","v":0},{"$f":"SUM(LJ7:LJ13)","v":0},{"$f":"SUM(LK7:LK13)","v":0},{"$f":"SUM(LL7:LL13)","v":0},0,null,{"$f":"SUM(LO7:LO13)","v":0},{"$f":"SUM(LP7:LP13)","v":0},{"$f":"SUM(LQ7:LQ13)","v":0},{"$f":"SUM(LR7:LR13)","v":0},{"$f":"SUM(LS7:LS13)","v":0},{"$f":"SUM(LT7:LT13)","v":0},{"$f":"SUM(LU7:LU13)","v":0},{"$f":"SUM(LV7:LV13)","v":0},{"$f":"SUM(LW7:LW13)","v":0},{"$f":"SUM(LX7:LX13)","v":0},{"$f":"SUM(LY7:LY13)","v":0},{"$f":"SUM(LZ7:LZ13)","v":0},{"$f":"SUM(MA7:MA13)","v":0},{"$f":"SUM(MB7:MB13)","v":0},{"$f":"SUM(MC7:MC13)","v":0},{"$f":"SUM(MD7:MD13)","v":0},{"$f":"SUM(ME7:ME13)","v":0},{"$f":"SUM(MF7:MF13)","v":0},{"$f":"SUM(MG7:MG13)","v":0},{"$f":"SUM(MH7:MH13)","v":0},{"$f":"SUM(MI7:MI13)","v":0},{"$f":"SUM(MJ7:MJ13)","v":0},{"$f":"SUM(MK7:MK13)","v":0},{"$f":"SUM(ML7:ML13)","v":0},{"$f":"SUM(MM7:MM13)","v":0},{"$f":"SUM(MN7:MN13)","v":0},{"$f":"SUM(MO7:MO13)","v":0},{"$f":"SUM(MP7:MP13)","v":0},{"$f":"SUM(MQ7:MQ13)","v":0},{"$f":"SUM(MR7:MR13)","v":0},0,null,{"$f":"SUM(MU7:MU13)","v":0},{"$f":"SUM(MV7:MV13)","v":0},{"$f":"SUM(MW7:MW13)","v":0},{"$f":"SUM(MX7:MX13)","v":0},{"$f":"SUM(MY7:MY13)","v":0},{"$f":"SUM(MZ7:MZ13)","v":0},{"$f":"SUM(NA7:NA13)","v":0},{"$f":"SUM(NB7:NB13)","v":0},{"$f":"SUM(NC7:NC13)","v":0},{"$f":"SUM(ND7:ND13)","v":0},{"$f":"SUM(NE7:NE13)","v":0},{"$f":"SUM(NF7:NF13)","v":0},{"$f":"SUM(NG7:NG13)","v":0},{"$f":"SUM(NH7:NH13)","v":0},{"$f":"SUM(NI7:NI13)","v":0},{"$f":"SUM(NJ7:NJ13)","v":0},{"$f":"SUM(NK7:NK13)","v":0},{"$f":"SUM(NL7:NL13)","v":0},{"$f":"SUM(NM7:NM13)","v":0},{"$f":"SUM(NN7:NN13)","v":0},{"$f":"SUM(NO7:NO13)","v":0},{"$f":"SUM(NP7:NP13)","v":0},{"$f":"SUM(NQ7:NQ13)","v":0},{"$f":"SUM(NR7:NR13)","v":0},{"$f":"SUM(NS7:NS13)","v":0},{"$f":"SUM(NT7:NT13)","v":0},{"$f":"SUM(NU7:NU13)","v":0},{"$f":"SUM(NV7:NV13)","v":0},{"$f":"SUM(NW7:NW13)","v":0},{"$f":"SUM(NX7:NX13)","v":0},{"$f":"SUM(NY7:NY13)","v":0},0,null,0]
["AMOT (seconds):",null,{"$f":"C6-C14","v":0},{"$f":"D6-D14","v":0},0,{"$f":"F6-F14","v":0},{"$f":"G6-G14","v":0},{"$f":"H6-H14","v":0},{"$f":"I6-I14","v":0},{"$f":"J6-J14","v":0},{"$f":"K6-K14","v":0},{"$f":"L6-L14","v":0},{"$f":"M6-M14","v":0},{"$f":"N6-N14","v":0},{"$f":"O6-O14","v":0},{"$f":"P6-P14","v":0},{"$f":"Q6-Q14","v":0},{"$f":"R6-R14","v":0},{"$f":"S6-S14","v":0},{"$f":"T6-T14","v":0},{"$f":"U6-U14","v":0},{"$f":"V6-V14","v":0},{"$f":"W6-W14","v":0},{"$f":"X6-X14","v":0},{"$f":"Y6-Y14","v":0},{"$f":"Z6-Z14","v":0},{"$f":"AA6-AA14","v":0},{"$f":"AB6-AB14","v":0},{"$f":"AC6-AC14","v":0},{"$f":"AD6-AD14","v":0},{"$f":"AE6-AE14","v":0},{"$f":"AF6-AF14","v":0},{"$f":"AG6-AG14","v":0},0,null,{"$f":"AJ6-AJ14","v":0},{"$f":"AK6-AK14","v":0},{"$f":"AL6-AL14","v":0},{"$f":"AM6-AM14","v":0},{"$f":"AN6-AN14","v":0},{"$f":"AO6-AO14","v":0},{"$f":"AP6-AP14","v":0},{"$f":"AQ6-AQ14","v":0},{"$f":"AR6-AR14","v":0},{"$f":"AS6-AS14","v":0},{"$f":"AT6-AT14","v":0},{"$f":"AU6-AU14","v":0},{"$f":"AV6-AV14","v":0},{"$f":"AW6-AW14","v":0},{"$f":"AX6-AX14","v":0},{"$f":"AY6-AY14","v":0},{"$f":"AZ6-AZ14","v":0},{"$f":"BA6-BA14","v":0},{"$f":"BB6-BB14","v":0},{"$f":"BC6-BC14","v":0},{"$f":"BD6-BD14","v":0},{"$f":"BE6-BE14","v":0},{"$f":"BF6-BF14","v":0},{"$f":"BG6-BG14","v":0},{"$f":"BH6-BH14","v":0},{"$f":"BI6-BI14","v":0},{"$f":"BJ6-BJ14","v":0},{"$f":"BK6-BK14","v":0},0,null,{"$f":"BN6-BN14","v":0},{"$f":"BO6-BO14","v":0},{"$f":"BP6-BP14","v":0},{"$f":"BQ6-BQ14","v":0},{"$f":"BR6-BR14","v":0},{"$f":"BS6-BS14","v":0},{"$f":"BT6-BT14","v":0},{"$f":"BU6-BU14","v":0},{"$f":"BV6-BV14","v":0},{"$f":"BW6-BW14","v":0},{"$f":"BX6-BX14","v":0},{"$f":"BY6-BY14","v":0},{"$f":"BZ6-BZ14","v":0},{"$f":"CA6-CA14","v":0},{"$f":"CB6-CB14","v":0},{"$f":"CC6-CC14","v":0},{"$f":"CD6-CD14","v":0},{"$f":"CE6-CE14","v":0},{"$f":"CF6-CF14","v":0},{"$f":"CG6-CG14","v":0},{"$f":"CH6-CH14","v":0},{"$f":"CI6-CI14","v":0},{"$f":"CJ6-CJ14","v":0},{"$f":"CK6-CK14","v":0},{"$f":"CL6-CL14","v":0},{"$f":"CM6-CM14","v":0},{"$f":"CN6-CN14","v":0},{"$f":"CO6-CO14","v":0},{"$f":"CP6-CP14","v":0},{"$f":"CQ6-CQ14","v":0},{"$f":"CR6-CR14","v":0},0,null,{"$f":"CU6-CU14","v":0},{"$f":"CV6-CV14","v":0},{"$f":"CW6-CW14","v":0},{"$f":"CX6-CX14","v":0},{"$f":"CY6-CY14","v":0},{"$f":"CZ6-CZ14","v":0},{"$f":"DA6-DA14","v":0},{"$f":"DB6-DB14","v":0},{"$f":"DC6-DC14","v":0},{"$f":"DD6-DD14","v":0},{"$f":"DE6-DE14","v":0},{"$f":"DF6-DF14","v":0},{"$f":"DG6-DG14","v":0},{"$f":"DH6-DH14","v":0},{"$f":"DI6-DI14","v":0},{"$f":"DJ6-DJ14","v":0},{"$f":"DK6-DK14","v":0},{"$f":"DL6-DL14","v":0},{"$f":"DM6-DM14","v":0},{"$f":"DN6-DN14","v":0},{"$f":"DO6-DO14","v":0},{"$f":"DP6-DP14","v":0},{"$f":"DQ6-DQ14","v":0},{"$f":"DR6-DR14","v":0},{"$f":"DS6-DS14","v":0},{"$f":"DT6-DT14","v":0},{"$f":"DU6-DU14","v":0},{"$f":"DV6-DV14","v":0},{"$f":"DW6-DW14","v":0},{"$f":"DX6-DX14","v":0},0,null,{"$f":"EA6-EA14","v":0},{"$f":"EB6-EB14","v":0},{"$f":"EC6-EC14","v":0},{"$f":"ED6-ED14","v":0},{"$f":"EE6-EE14","v":0},{"$f":"EF6-EF14","v":0},{"$f":"EG6-EG14","v":0},{"$f":"EH6-EH14","v":0},{"$f":"EI6-EI14","v":0},{"$f":"EJ6-EJ14","v":0},{"$f":"EK6-EK14","v":0},{"$f":"EL6-EL14","v":0},{"$f":"EM6-EM14","v":0},{"$f":"EN6-EN14","v":0},{"$f":"EO6-EO14","v":0},{"$f":"EP6-EP14","v":0},{"$f":"EQ6-EQ14","v":0},{"$f":"ER6-ER14","v":0},{"$f":"ES6-ES14","v":0},{"$f":"ET6-ET14","v":0},{"$f":"EU6-EU14","v":0},{"$f":"EV6-EV14","v":0},{"$f":"EW6-EW14","v":0},{"$f":"EX6-EX14","v":0},{"$f":"EY6-EY14","v":0},{"$f":"EZ6-EZ14","v":0},{"$f":"FA6-FA14","v":0},{"$f":"FB6-FB14","v":0},{"$f":"FC6-FC14","v":0},{"$f":"FD6-FD14","v":0},{"$f":"FE6-FE14","v":0},0,null,{"$f":"FH6-FH14","v":0},{"$f":"FI6-FI14","v":0},{"$f":"FJ6-FJ14","v":0},{"$f":"FK6-FK14","v":0},{"$f":"FL6-FL14","v":0},{"$f":"FM6-FM14","v":0},{"$f":"FN6-FN14","v":0},{"$f":"FO6-FO14","v":0},{"$f":"FP6-FP14","v":0},{"$f":"FQ6-FQ14","v":0},{"$f":"FR6-FR14","v":0},{"$f":"FS6-FS14","v":0},{"$f":"FT6-FT14","v":0},{"$f":"FU6-FU14","v":0},{"$f":"FV6-FV14","v":0},{"$f":"FW6-FW14","v":0},{"$f":"FX6-FX14","v":0},{"$f":"FY6-FY14","v":0},{"$f":"FZ6-FZ14","v":0},{"$f":"GA6-GA14","v":0},{"$f":"GB6-GB14","v":0},{"$f":"GC6-GC14","v":0},{"$f":"GD6-GD14","v":0},{"$f":"GE6-GE14","v":0},{"$f":"GF6-GF14","v":0},{"$f":"GG6-GG14","v":0},{"$f":"GH6-GH14","v":0},{"$f":"GI6-GI14","v":0},{"$f":"GJ6-GJ14","v":0},{"$f":"GK6-GK14","v":0},0,null,{"$f":"GN6-GN14","v":0},{"$f":"GO6-GO14","v":0},{"$f":"GP6-GP14","v":0},{"$f":"GQ6-GQ14","v":0},{"$f":"GR6-GR14","v":0},{"$f":"GS6-GS14","v":0},{"$f":"GT6-GT14","v":0},{"$f":"GU6-GU14","v":0},{"$f":"GV6-GV14","v":0},{"$f":"GW6-GW14","v":0},{"$f":"GX6-GX14","v":0},{"$f":"GY6-GY14","v":0},{"$f":"GZ6-GZ14","v":0},{"$f":"HA6-HA14","v":0},{"$f":"HB6-HB14","v":0},{"$f":"HC6-HC14","v":0},{"$f":"HD6-HD14","v":0},{"$f":"HE6-HE14","v":0},{"$f":"HF6-HF14","v":0},{"$f":"HG6-HG14","v":0},{"$f":"HH6-HH14","v":0},{"$f":"HI6-HI14","v":0},{"$f":"HJ6-HJ14","v":0},{"$f":"HK6-HK14","v":0},{"$f":"HL6-HL14","v":0},{"$f":"HM6-HM14","v":0},{"$f":"HN6-HN14","v":0},{"$f":"HO6-HO14","v":0},{"$f":"HP6-HP14","v":0},{"$f":"HQ6-HQ14","v":0},{"$f":"HR6-HR14","v":0},0,null,{"$f":"HU6-HU14","v":0},{"$f":"HV6-HV14","v":0},{"$f":"HW6-HW14","v":0},{"$f":"HX6-HX14","v":0},{"$f":"HY6-HY14","v":0},{"$f":"HZ6-HZ14","v":0},{"$f":"IA6-IA14","v":0},{"$f":"IB6-IB14","v":0},{"$f":"IC6-IC14","v":0},{"$f":"ID6-ID14","v":0},{"$f":"IE6-IE14","v":0},{"$f":"IF6-IF14","v":0},{"$f":"IG6-IG14","v":0},{"$f":"IH6-IH14","v":0},{"$f":"II6-II14","v":0},{"$f":"IJ6-IJ14","v":0},{"$f":"IK6-IK14","v":0},{"$f":"IL6-IL14","v":0},{"$f":"IM6-IM14","v":0},{"$f":"IN6-IN14","v":0},{"$f":"IO6-IO14","v":0},{"$f":"IP6-IP14","v":0},{"$f":"IQ6-IQ14","v":0},{"$f":"IR6-IR14","v":0},{"$f":"IS6-IS14","v":0},{"$f":"IT6-IT14","v":0},{"$f":"IU6-IU14","v":0},{"$f":"IV6-IV14","v":0},{"$f":"IW6-IW14","v":0},{"$f":"IX6-IX14","v":0},{"$f":"IY6-IY14","v":0},0,null,{"$f":"JB6-JB14","v":0},{"$f":"JC6-JC14","v":0},{"$f":"JD6-JD14","v":0},{"$f":"JE6-JE14","v":0},{"$f":"JF6-JF14","v":0},{"$f":"JG6-JG14","v":0},{"$f":"JH6-JH14","v":0},{"$f":"JI6-JI14","v":0},{"$f":"JJ6-JJ14","v":0},{"$f":"JK6-JK14","v":0},{"$f":"JL6-JL14","v":0},{"$f":"JM6-JM14","v":0},{"$f":"JN6-JN14","v":0},{"$f":"JO6-JO14","v":0},{"$f":"JP6-JP14","v":0},{"$f":"JQ6-JQ14","v":0},{"$f":"JR6-JR14","v":0},{"$f":"JS6-JS14","v":0},{"$f":"JT6-JT14","v":0},{"$f":"JU6-JU14","v":0},{"$f":"JV6-JV14","v":0},{"$f":"JW6-JW14","v":0},{"$f":"JX6-JX14","v":0},{"$f":"JY6-JY14","v":0},{"$f":"JZ6-JZ14","v":0},{"$f":"KA6-KA14","v":0},{"$f":"KB6-KB14","v":0},{"$f":"KC6-KC14","v":0},{"$f":"KD6-KD14","v":0},{"$f":"KE6-KE14","v":0},0,null,{"$f":"KH6-KH14","v":0},{"$f":"KI6-KI14","v":0},{"$f":"KJ6-KJ14","v":0},{"$f":"KK6-KK14","v":0},{"$f":"KL6-KL14","v":0},{"$f":"KM6-KM14","v":0},{"$f":"KN6-KN14","v":0},{"$f":"KO6-KO14","v":0},{"$f":"KP6-KP14","v":0},{"$f":"KQ6-KQ14","v":0},{"$f":"KR6-KR14","v":0},{"$f":"KS6-KS14","v":0},{"$f":"KT6-KT14","v":0},{"$f":"KU6-KU14","v":0},{"$f":"KV6-KV14","v":0},{"$f":"KW6-KW14","v":0},{"$f":"KX6-KX14","v":0},{"$f":"KY6-KY14","v":0},{"$f":"KZ6-KZ14","v":0},{"$f":"LA6-LA14","v":0},{"$f":"LB6-LB14","v":0},{"$f":"LC6-LC14","v":0},{"$f":"LD6-LD14","v":0},{"$f":"LE6-LE14","v":0},{"$f":"LF6-LF14","v":0},{"$f":"LG6-LG14","v":0},{"$f":"LH6-LH14","v":0},{"$f":"LI6-LI14","v":0},{"$f":"LJ6-LJ14","v":0},{"$f":"LK6-LK14","v":0},{"$f":"LL6-LL14","v":0},0,null,{"$f":"LO6-LO14","v":0},{"$f":"LP6-LP14","v":0},{"$f":"LQ6-LQ14","v":0},{"$f":"LR6-LR14","v":0},{"$f":"LS6-LS14","v":0},{"$f":"LT6-LT14","v":0},{"$f":"LU6-LU14","v":0},{"$f":"LV6-LV14","v":0},{"$f":"LW6-LW14","v":0},{"$f":"LX6-LX14","v":0},{"$f":"LY6-LY14","v":0},{"$f":"LZ6-LZ14","v":0},{"$f":"MA6-MA14","v":0},{"$f":"MB6-MB14","v":0},{"$f":"MC6-MC14","v":0},{"$f":"MD6-MD14","v":0},{"$f":"ME6-ME14","v":0},{"$f":"MF6-MF14","v":0},{"$f":"MG6-MG14","v":0},{"$f":"MH6-MH14","v":0},{"$f":"MI6-MI14","v":0},{"$f":"MJ6-MJ14","v":0},{"$f":"MK6-MK14","v":0},{"$f":"ML6-ML14","v":0},{"$f":"MM6-MM14","v":0},{"$f":"MN6-MN14","v":0},{"$f":"MO6-MO14","v":0},{"$f":"MP6-MP14","v":0},{"$f":"MQ6-MQ14","v":0},{"$f":"MR6-MR14","v":0},0,null,{"$f":"MU6-MU14","v":0},{"$f":"MV6-MV14","v":0},{"$f":"MW6-MW14","v":0},{"$f":"MX6-MX14","v":0},{"$f":"MY6-MY14","v":0},{"$f":"MZ6-MZ14","v":0},{"$f":"NA6-NA14","v":0},{"$f":"NB6-NB14","v":0},{"$f":"NC6-NC14","v":0},{"$f":"ND6-ND14","v":0},{"$f":"NE6-NE14","v":0},{"$f":"NF6-NF14","v":0},{"$f":"NG6-NG14","v":0},{"$f":"NH6-NH14","v":0},{"$f":"NI6-NI14","v":0},{"$f":"NJ6-NJ14","v":0},{"$f":"NK6-NK14","v":0},{"$f":"NL6-NL14","v":0},{"$f":"NM6-NM14","v":0},{"$f":"NN6-NN14","v":0},{"$f":"NO6-NO14","v":0},{"$f":"NP6-NP14","v":0},{"$f":"NQ6-NQ14","v":0},{"$f":"NR6-NR14","v":0},{"$f":"NS6-NS14","v":0},{"$f":"NT6-NT14","v":0},{"$f":"NU6-NU14","v":0},{"$f":"NV6-NV14","v":0},{"$f":"NW6-NW14","v":0},{"$f":"NX6-NX14","v":0},{"$f":"NY6-NY14","v":0},0,null,0]
["Fleet Availability:",null,{"$f":"IF(C17=0,\"\",C26/C17)","v":""},{"$f":"IF(D17=0,\"\",D26/D17)","v":""},"",{"$f":"IF(F17=0,\"\",F26/F17)","v":""},{"$f":"IF(G17=0,\"\",G26/G17)","v":""},{"$f":"IF(H17=0,\"\",H26/H17)","v":""},{"$f":"IF(I17=0,\"\",I26/I17)","v":""},{"$f":"IF(J17=0,\"\",J26/J17)","v":""},{"$f":"IF(K17=0,\"\",K26/K17)","v":""},{"$f":"IF(L17=0,\"\",L26/L17)","v":""},{"$f":"IF(M17=0,\"\",M26/M17)","v":""},{"$f":"IF(N17=0,\"\",N26/N17)","v":""},{"$f":"IF(O17=0,\"\",O26/O17)","v":""},{"$f":"IF(P17=0,\"\",P26/P17)","v":""},{"$f":"IF(Q17=0,\"\",Q26/Q17)","v":""},{"$f":"IF(R17=0,\"\",R26/R17)","v":""},{"$f":"IF(S17=0,\"\",S26/S17)","v":""},{"$f":"IF(T17=0,\"\",T26/T17)","v":""},{"$f":"IF(U17=0,\"\",U26/U17)","v":""},{"$f":"IF(V17=0,\"\",V26/V17)","v":""},{"$f":"IF(W17=0,\"\",W26/W17)","v":""},{"$f":"IF(X17=0,\"\",X26/X17)","v":""},{"$f":"IF(Y17=0,\"\",Y26/Y17)","v":""},{"$f":"IF(Z17=0,\"\",Z26/Z17)","v":""},{"$f":"IF(AA17=0,\"\",AA26/AA17)","v":""},{"$f":"IF(AB17=0,\"\",AB26/AB17)","v":""},{"$f":"IF(AC17=0,\"\",AC26/AC17)","v":""},{"$f":"IF(AD17=0,\"\",AD26/AD17)","v":""},{"$f":"IF(AE17=0,\"\",AE26/AE17)","v":""},{"$f":"IF(AF17=0,\"\",AF26/AF17)","v":""},{"$f":"IF(AG17=0,\"\",AG26/AG17)","v":""},null,{"$f":"IF(AH17=0,\"\",AH26/AH17)","v":""},{"$f":"IF(AJ17=0,\"\",AJ26/AJ17)","v":""},{"$f":"IF(AK17=0,\"\",AK26/AK17)","v":""},{"$f":"IF(AL17=0,\"\",AL26/AL17)","v":""},{"$f":"IF(AM17=0,\"\",AM26/AM17)","v":""},{"$f":"IF(AN17=0,\"\",AN26/AN17)","v":""},{"$f":"IF(AO17=0,\"\",AO26/AO17)","v":""},{"$f":"IF(AP17=0,\"\",AP26/AP17)","v":""},{"$f":"IF(AQ17=0,\"\",AQ26/AQ17)","v":""},{"$f":"IF(AR17=0,\"\",AR26/AR17)","v":""},{"$f":"IF(AS17=0,\"\",AS26/AS17)","v":""},{"$f":"IF(AT17=0,\"\",AT26/AT17)","v":""},{"$f":"IF(AU17=0,\"\",AU26/AU17)","v":""},{"$f":"IF(AV17=0,\"\",AV26/AV17)","v":""},{"$f":"IF(AW17=0,\"\",AW26/AW17)","v":""},{"$f":"IF(AX17=0,\"\",AX26/AX17)","v":""},{"$f":"IF(AY17=0,\"\",AY26/AY17)","v":""},{"$f":"IF(AZ17=0,\"\",AZ26/AZ17)","v":""},{"$f":"IF(BA17=0,\"\",BA26/BA17)","v":""},{"$f":"IF(BB17=0,\"\",BB26/BB17)","v":""},{"$f":"IF(BC17=0,\"\",BC26/BC17)","v":""},{"$f":"IF(BD17=0,\"\",BD26/BD17)","v":""},{"$f":"IF(BE17=0,\"\",BE26/BE17)","v":""},{"$f":"IF(BF17=0,\"\",BF26/BF17)","v":""},{"$f":"IF(BG17=0,\"\",BG26/BG17)","v":""},{"$f":"IF(BH17=0,\"\",BH26/BH17)","v":""},{"$f":"IF(BI17=0,\"\",BI26/BI17)","v":""},{"$f":"IF(BJ17=0,\"\",BJ26/BJ17)","v":""},{"$f":"IF(BK17=0,\"\",BK26/BK17)","v":""},null,{"$f":"IF(BL17=0,\"\",BL26/BL17)","v":""},{"$f":"IF(BN17=0,\"\",BN26/BN17)","v":""},{"$f":"IF(BO17=0,\"\",BO26/BO17)","v":""},{"$f":"IF(BP17=0,\"\",BP26/BP17)","v":""},{"$f":"IF(BQ17=0,\"\",BQ26/BQ17)","v":""},{"$f":"IF(BR17=0,\"\",BR26/BR17)","v":""},{"$f":"IF(BS17=0,\"\",BS26/BS17)","v":""},{"$f":"IF(BT17=0,\"\",BT26/BT17)","v":""},{"$f":"IF(BU17=0,\"\",BU26/BU17)","v":""},{"$f":"IF(BV17=0,\"\",BV26/BV17)","v":""},{"$f":"IF(BW17=0,\"\",BW26/BW17)","v":""},{"$f":"IF(BX17=0,\"\",BX26/BX17)","v":""},{"$f":"IF(BY17=0,\"\",BY26/BY17)","v":""},{"$f":"IF(BZ17=0,\"\",BZ26/BZ17)","v":""},{"$f":"IF(CA17=0,\"\",CA26/CA17)","v":""},{"$f":"IF(CB17=0,\"\",CB26/CB17)","v":""},{"$f":"IF(CC17=0,\"\",CC26/CC17)","v":""},{"$f":"IF(CD17=0,\"\",CD26/CD17)","v":""},{"$f":"IF(CE17=0,\"\",CE26/CE17)","v":""},{"$f":"IF(CF17=0,\"\",CF26/CF17)","v":""},{"$f":"IF(CG17=0,\"\",CG26/CG17)","v":""},{"$f":"IF(CH17=0,\"\",CH26/CH17)","v":""},{"$f":"IF(CI17=0,\"\",CI26/CI17)","v":""},{"$f":"IF(CJ17=0,\"\",CJ26/CJ17)","v":""},{"$f":"IF(CK17=0,\"\",CK26/CK17)","v":""},{"$f":"IF(CL17=0,\"\",CL26/CL17)","v":""},{"$f":"IF(CM17=0,\"\",CM26/CM17)","v":""},{"$f":"IF(CN17=0,\"\",CN26/CN17)","v":""},{"$f":"IF(CO17=0,\"\",CO26/CO17)","v":""},{"$f":"IF(CP17=0,\"\",CP26/CP17)","v":""},{"$f":"IF(CQ17=0,\"\",CQ26/CQ17)","v":""},{"$f":"IF(CR17=0,\"\",CR26/CR17)","v":""},null,{"$f":"IF(CS17=0,\"\",CS26/CS17)","v":""},{"$f":"IF(CU17=0,\"\",CU26/CU17)","v":""},{"$f":"IF(CV17=0,\"\",CV26/CV17)","v":""},{"$f":"IF(CW17=0,\"\",CW26/CW17)","v":""},{"$f":"IF(CX17=0,\"\",CX26/CX17)","v":""},{"$f":"IF(CY17=0,\"\",CY26/CY17)","v":""},{"$f":"IF(CZ17=0,\"\",CZ26/CZ17)","v":""},{"$f":"IF(DA17=0,\"\",DA26/DA17)","v":""},{"$f":"IF(DB17=0,\"\",DB26/DB17)","v":""},{"$f":"IF(DC17=0,\"\",DC26/DC17)","v":""},{"$f":"IF(DD17=0,\"\",DD26/DD17)","v":""},{"$f":"IF(DE17=0,\"\",DE26/DE17)","v":""},{"$f":"IF(DF17=0,\"\",DF26/DF17)","v":""},{"$f":"IF(DG17=0,\"\",DG26/DG17)","v":""},{"$f":"IF(DH17=0,\"\",DH26/DH17)","v":""},{"$f":"IF(DI17=0,\"\",DI26/DI17)","v":""},{"$f":"IF(DJ17=0,\"\",DJ26/DJ17)","v":""},{"$f":"IF(DK17=0,\"\",DK26/DK17)","v":""},{"$f":"IF(DL17=0,\"\",DL26/DL17)","v":""},{"$f":"IF(DM17=0,\"\",DM26/DM17)","v":""},{"$f":"IF(DN17=0,\"\",DN26/DN17)","v":""},{"$f":"IF(DO17=0,\"\",DO26/DO17)","v":""},{"$f":"IF(DP17=0,\"\",DP26/DP17)","v":""},{"$f":"IF(DQ17=0,\"\",DQ26/DQ17)","v":""},{"$f":"IF(DR17=0,\"\",DR26/DR17)","v":""},{"$f":"IF(DS17=0,\"\",DS26/DS17)","v":""},{"$f":"IF(DT17=0,\"\",DT26/DT17)","v":""},{"$f":"IF(DU17=0,\"\",DU26/DU17)","v":""},{"$f":"IF(DV17=0,\"\",DV26/DV17)","v":""},{"$f":"IF(DW17=0,\"\",DW26/DW17)","v":""},{"$f":"IF(DX17=0,\"\",DX26/DX17)","v":""},null,{"$f":"IF(DY17=0,\"\",DY26/DY17)","v":""},{"$f":"IF(EA17=0,\"\",EA26/EA17)","v":""},{"$f":"IF(EB17=0,\"\",EB26/EB17)","v":""},{"$f":"IF(EC17=0,\"\",EC26/EC17)","v":""},{"$f":"IF(ED17=0,\"\",ED26/ED17)","v":""},{"$f":"IF(EE17=0,\"\",EE26/EE17)","v":""},{"$f":"IF(EF17=0,\"\",EF26/EF17)","v":""},{"$f":"IF(EG17=0,\"\",EG26/EG17)","v":""},{"$f":"IF(EH17=0,\"\",EH26/EH17)","v":""},{"$f":"IF(EI17=0,\"\",EI26/EI17)","v":""},{"$f":"IF(EJ17=0,\"\",EJ26/EJ17)","v":""},{"$f":"IF(EK17=0,\"\",EK26/EK17)","v":""},{"$f":"IF(EL17=0,\"\",EL26/EL17)","v":""},{"$f":"IF(EM17=0,\"\",EM26/EM17)","v":""},{"$f":"IF(EN17=0,\"\",EN26/EN17)","v":""},{"$f":"IF(EO17=0,\"\",EO26/EO17)","v":""},{"$f":"IF(EP17=0,\"\",EP26/EP17)","v":""},{"$f":"IF(EQ17=0,\"\",EQ26/EQ17)","v":""},{"$f":"IF(ER17=0,\"\",ER26/ER17)","v":""},{"$f":"IF(ES17=0,\"\",ES26/ES17)","v":""},{"$f":"IF(ET17=0,\"\",ET26/ET17)","v":""},{"$f":"IF(EU17=0,\"\",EU26/EU17)","v":""},{"$f":"IF(EV17=0,\"\",EV26/EV17)","v":""},{"$f":"IF(EW17=0,\"\",EW26/EW17)","v":""},{"$f":"IF(EX17=0,\"\",EX26/EX17)","v":""},{"$f":"IF(EY17=0,\"\",EY26/EY17)","v":""},{"$f":"IF(EZ17=0,\"\",EZ26/EZ17)","v":""},{"$f":"IF(FA17=0,\"\",FA26/FA17)","v":""},{"$f":"IF(FB17=0,\"\",FB26/FB17)","v":""},{"$f":"IF(FC17=0,\"\",FC26/FC17)","v":""},{"$f":"IF(FD17=0,\"\",FD26/FD17)","v":""},{"$f":"IF(FE17=0,\"\",FE26/FE17)","v":""},null,{"$f":"IF(FF17=0,\"\",FF26/FF17)","v":""},{"$f":"IF(FH17=0,\"\",FH26/FH17)","v":""},{"$f":"IF(FI17=0,\"\",FI26/FI17)","v":""},{"$f":"IF(FJ17=0,\"\",FJ26/FJ17)","v":""},{"$f":"IF(FK17=0,\"\",FK26/FK17)","v":""},{"$f":"IF(FL17=0,\"\",FL26/FL17)","v":""},{"$f":"IF(FM17=0,\"\",FM26/FM17)","v":""},{"$f":"IF(FN17=0,\"\",FN26/FN17)","v":""},{"$f":"IF(FO17=0,\"\",FO26/FO17)","v":""},{"$f":"IF(FP17=0,\"\",FP26/FP17)","v":""},{"$f":"IF(FQ17=0,\"\",FQ26/FQ17)","v":""},{"$f":"IF(FR17=0,\"\",FR26/FR17)","v":""},{"$f":"IF(FS17=0,\"\",FS26/FS17)","v":""},{"$f":"IF(FT17=0,\"\",FT26/FT17)","v":""},{"$f":"IF(FU17=0,\"\",FU26/FU17)","v":""},{"$f":"IF(FV17=0,\"\",FV26/FV17)","v":""},{"$f":"IF(FW17=0,\"\",FW26/FW17)","v":""},{"$f":"IF(FX17=0,\"\",FX26/FX17)","v":""},{"$f":"IF(FY17=0,\"\",FY26/FY17)","v":""},{"$f":"IF(FZ17=0,\"\",FZ26/FZ17)","v":""},{"$f":"IF(GA17=0,\"\",GA26/GA17)","v":""},{"$f":"IF(GB17=0,\"\",GB26/GB17)","v":""},{"$f":"IF(GC17=0,\"\",GC26/GC17)","v":""},{"$f":"IF(GD17=0,\"\",GD26/GD17)","v":""},{"$f":"IF(GE17=0,\"\",GE26/GE17)","v":""},{"$f":"IF(GF17=0,\"\",GF26/GF17)","v":""},{"$f":"IF(GG17=0,\"\",GG26/GG17)","v":""},{"$f":"IF(GH17=0,\"\",GH26/GH17)","v":""},{"$f":"IF(GI17=0,\"\",GI26/GI17)","v":""},{"$f":"IF(GJ17=0,\"\",GJ26/GJ17)","v":""},{"$f":"IF(GK17=0,\"\",GK26/GK17)","v":""},null,{"$f":"IF(GL17=0,\"\",GL26/GL17)","v":""},{"$f":"IF(GN17=0,\"\",GN26/GN17)","v":""},{"$f":"IF(GO17=0,\"\",GO26/GO17)","v":""},{"$f":"IF(GP17=0,\"\",GP26/GP17)","v":""},{"$f":"IF(GQ17=0,\"\",GQ26/GQ17)","v":""},{"$f":"IF(GR17=0,\"\",GR26/GR17)","v":""},{"$f":"IF(GS17=0,\"\",GS26/GS17)","v":""},{"$f":"IF(GT17=0,\"\",GT26/GT17)","v":""},{"$f":"IF(GU17=0,\"\",GU26/GU17)","v":""},{"$f":"IF(GV17=0,\"\",GV26/GV17)","v":""},{"$f":"IF(GW17=0,\"\",GW26/GW17)","v":""},{"$f":"IF(GX17=0,\"\",GX26/GX17)","v":""},{"$f":"IF(GY17=0,\"\",GY26/GY17)","v":""},{"$f":"IF(GZ17=0,\"\",GZ26/GZ17)","v":""},{"$f":"IF(HA17=0,\"\",HA26/HA17)","v":""},{"$f":"IF(HB17=0,\"\",HB26/HB17)","v":""},{"$f":"IF(HC17=0,\"\",HC26/HC17)","v":""},{"$f":"IF(HD17=0,\"\",HD26/HD17)","v":""},{"$f":"IF(HE17=0,\"\",HE26/HE17)","v":""},{"$f":"IF(HF17=0,\"\",HF26/HF17)","v":""},{"$f":"IF(HG17=0,\"\",HG26/HG17)","v":""},{"$f":"IF(HH17=0,\"\",HH26/HH17)","v":""},{"$f":"IF(HI17=0,\"\",HI26/HI17)","v":""},{"$f":"IF(HJ17=0,\"\",HJ26/HJ17)","v":""},{"$f":"IF(HK17=0,\"\",HK26/HK17)","v":""},{"$f":"IF(HL17=0,\"\",HL26/HL17)","v":""},{"$f":"IF(HM17=0,\"\",HM26/HM17)","v":""},{"$f":"IF(HN17=0,\"\",HN26/HN17)","v":""},{"$f":"IF(HO17=0,\"\",HO26/HO17)","v":""},{"$f":"IF(HP17=0,\"\",HP26/HP17)","v":""},{"$f":"IF(HQ17=0,\"\",HQ26/HQ17)","v":""},{"$f":"IF(HR17=0,\"\",HR26/HR17)","v":""},null,{"$f":"IF(HS17=0,\"\",HS26/HS17)","v":""},{"$f":"IF(HU17=0,\"\",HU26/HU17)","v":""},{"$f":"IF(HV17=0,\"\",HV26/HV17)","v":""},{"$f":"IF(HW17=0,\"\",HW26/HW17)","v":""},{"$f":"IF(HX17=0,\"\",HX26/HX17)","v":""},{"$f":"IF(HY17=0,\"\",HY26/HY17)","v":""},{"$f":"IF(HZ17=0,\"\",HZ26/HZ17)","v":""},{"$f":"IF(IA17=0,\"\",IA26/IA17)","v":""},{"$f":"IF(IB17=0,\"\",IB26/IB17)","v":""},{"$f":"IF(IC17=0,\"\",IC26/IC17)","v":""},{"$f":"IF(ID17=0,\"\",ID26/ID17)","v":""},{"$f":"IF(IE17=0,\"\",IE26/IE17)","v":""},{"$f":"IF(IF17=0,\"\",IF26/IF17)","v":""},{"$f":"IF(IG17=0,\"\",IG26/IG17)","v":""},{"$f":"IF(IH17=0,\"\",IH26/IH17)","v":""},{"$f":"IF(II17=0,\"\",II26/II17)","v":""},{"$f":"IF(IJ17=0,\"\",IJ26/IJ17)","v":""},{"$f":"IF(IK17=0,\"\",IK26/IK17)","v":""},{"$f":"IF(IL17=0,\"\",IL26/IL17)","v":""},{"$f":"IF(IM17=0,\"\",IM26/IM17)","v":""},{"$f":"IF(IN17=0,\"\",IN26/IN17)","v":""},{"$f":"IF(IO17=0,\"\",IO26/IO17)","v":""},{"$f":"IF(IP17=0,\"\",IP26/IP17)","v":""},{"$f":"IF(IQ17=0,\"\",IQ26/IQ17)","v":""},{"$f":"IF(IR17=0,\"\",IR26/IR17)","v":""},{"$f":"IF(IS17=0,\"\",IS26/IS17)","v":""},{"$f":"IF(IT17=0,\"\",IT26/IT17)","v":""},{"$f":"IF(IU17=0,\"\",IU26/IU17)","v":""},{"$f":"IF(IV17=0,\"\",IV26/IV17)","v":""},{"$f":"IF(IW17=0,\"\",IW26/IW17)","v":""},{"$f":"IF(IX17=0,\"\",IX26/IX17)","v":""},{"$f":"IF(IY17=0,\"\",IY26/IY17)","v":""},null,{"$f":"IF(IZ17=0,\"\",IZ26/IZ17)","v":""},{"$f":"IF(JB17=0,\"\",JB26/JB17)","v":""},{"$f":"IF(JC17=0,\"\",JC26/JC17)","v":""},{"$f":"IF(JD17=0,\"\",JD26/JD17)","v":""},{"$f":"IF(JE17=0,\"\",JE26/JE17)","v":""},{"$f":"IF(JF17=0,\"\",JF26/JF17)","v":""},{"$f":"IF(JG17=0,\"\",JG26/JG17)","v":""},{"$f":"IF(JH17=0,\"\",JH26/JH17)","v":""},{"$f":"IF(JI17=0,\"\",JI26/JI17)","v":""},{"$f":"IF(JJ17=0,\"\",JJ26/JJ17)","v":""},{"$f":"IF(JK17=0,\"\",JK26/JK17)","v":""},{"$f":"IF(JL17=0,\"\",JL26/JL17)","v":""},{"$f":"IF(JM17=0,\"\",JM26/JM17)","v":""},{"$f":"IF(JN17=0,\"\",JN26/JN17)","v":""},{"$f":"IF(JO17=0,\"\",JO26/JO17)","v":""},{"$f":"IF(JP17=0,\"\",JP26/JP17)","v":""},{"$f":"IF(JQ17=0,\"\",JQ26/JQ17)","v":""},{"$f":"IF(JR17=0,\"\",JR26/JR17)","v":""},{"$f":"IF(JS17=0,\"\",JS26/JS17)","v":""},{"$f":"IF(JT17=0,\"\",JT26/JT17)","v":""},{"$f":"IF(JU17=0,\"\",JU26/JU17)","v":""},{"$f":"IF(JV17=0,\"\",JV26/JV17)","v":""},{"$f":"IF(JW17=0,\"\",JW26/JW17)","v":""},{"$f":"IF(JX17=0,\"\",JX26/JX17)","v":""},{"$f":"IF(JY17=0,\"\",JY26/JY17)","v":""},{"$f":"IF(JZ17=0,\"\",JZ26/JZ17)","v":""},{"$f":"IF(KA17=0,\"\",KA26/KA17)","v":""},{"$f":"IF(KB17=0,\"\",KB26/KB17)","v":""},{"$f":"IF(KC17=0,\"\",KC26/KC17)","v":""},{"$f":"IF(KD17=0,\"\",KD26/KD17)","v":""},{"$f":"IF(KE17=0,\"\",KE26/KE17)","v":""},null,{"$f":"IF(KF17=0,\"\",KF26/KF17)","v":""},{"$f":"IF(KH17=0,\"\",KH26/KH17)","v":""},{"$f":"IF(KI17=0,\"\",KI26/KI17)","v":""},{"$f":"IF(KJ17=0,\"\",KJ26/KJ17)","v":""},{"$f":"IF(KK17=0,\"\",KK26/KK17)","v":""},{"$f":"IF(KL17=0,\"\",KL26/KL17)","v":""},{"$f":"IF(KM17=0,\"\",KM26/KM17)","v":""},{"$f":"IF(KN17=0,\"\",KN26/KN17)","v":""},{"$f":"IF(KO17=0,\"\",KO26/KO17)","v":""},{"$f":"IF(KP17=0,\"\",KP26/KP17)","v":""},{"$f":"IF(KQ17=0,\"\",KQ26/KQ17)","v":""},{"$f":"IF(KR17=0,\"\",KR26/KR17)","v":""},{"$f":"IF(KS17=0,\"\",KS26/KS17)","v":""},{"$f":"IF(KT17=0,\"\",KT26/KT17)","v":""},{"$f":"IF(KU17=0,\"\",KU26/KU17)","v":""},{"$f":"IF(KV17=0,\"\",KV26/KV17)","v":""},{"$f":"IF(KW17=0,\"\",KW26/KW17)","v":""},{"$f":"IF(KX17=0,\"\",KX26/KX17)","v":""},{"$f":"IF(KY17=0,\"\",KY26/KY17)","v":""},{"$f":"IF(KZ17=0,\"\",KZ26/KZ17)","v":""},{"$f":"IF(LA17=0,\"\",LA26/LA17)","v":""},{"$f":"IF(LB17=0,\"\",LB26/LB17)","v":""},{"$f":"IF(LC17=0,\"\",LC26/LC17)","v":""},{"$f":"IF(LD17=0,\"\",LD26/LD17)","v":""},{"$f":"IF(LE17=0,\"\",LE26/LE17)","v":""},{"$f":"IF(LF17=0,\"\",LF26/LF17)","v":""},{"$f":"IF(LG17=0,\"\",LG26/LG17)","v":""},{"$f":"IF(LH17=0,\"\",LH26/LH17)","v":""},{"$f":"IF(LI17=0,\"\",LI26/LI17)","v":""},{"$f":"IF(LJ17=0,\"\",LJ26/LJ17)","v":""},{"$f":"IF(LK17=0,\"\",LK26/LK17)","v":""},{"$f":"IF(LL17=0,\"\",LL26/LL17)","v":""},null,{"$f":"IF(LM17=0,\"\",LM26/LM17)","v":""},{"$f":"IF(LO17=0,\"\",LO26/LO17)","v":""},{"$f":"IF(LP17=0,\"\",LP26/LP17)","v":""},{"$f":"IF(LQ17=0,\"\",LQ26/LQ17)","v":""},{"$f":"IF(LR17=0,\"\",LR26/LR17)","v":""},{"$f":"IF(LS17=0,\"\",LS26/LS17)","v":""},{"$f":"IF(LT17=0,\"\",LT26/LT17)","v":""},{"$f":"IF(LU17=0,\"\",LU26/LU17)","v":""},{"$f":"IF(LV17=0,\"\",LV26/LV17)","v":""},{"$f":"IF(LW17=0,\"\",LW26/LW17)","v":""},{"$f":"IF(LX17=0,\"\",LX26/LX17)","v":""},{"$f":"IF(LY17=0,\"\",LY26/LY17)","v":""},{"$f":"IF(LZ17=0,\"\",LZ26/LZ17)","v":""},{"$f":"IF(MA17=0,\"\",MA26/MA17)","v":""},{"$f":"IF(MB17=0,\"\",MB26/MB17)","v":""},{"$f":"IF(MC17=0,\"\",MC26/MC17)","v":""},{"$f":"IF(MD17=0,\"\",MD26/MD17)","v":""},{"$f":"IF(ME17=0,\"\",ME26/ME17)","v":""},{"$f":"IF(MF17=0,\"\",MF26/MF17)","v":""},{"$f":"IF(MG17=0,\"\",MG26/MG17)","v":""},{"$f":"IF(MH17=0,\"\",MH26/MH17)","v":""},{"$f":"IF(MI17=0,\"\",MI26/MI17)","v":""},{"$f":"IF(MJ17=0,\"\",MJ26/MJ17)","v":""},{"$f":"IF(MK17=0,\"\",MK26/MK17)","v":""},{"$f":"IF(ML17=0,\"\",ML26/ML17)","v":""},{"$f":"IF(MM17=0,\"\",MM26/MM17)","v":""},{"$f":"IF(MN17=0,\"\",MN26/MN17)","v":""},{"$f":"IF(MO17=0,\"\",MO26/MO17)","v":""},{"$f":"IF(MP17=0,\"\",MP26/MP17)","v":""},{"$f":"IF(MQ17=0,\"\",MQ26/MQ17)","v":""},{"$f":"IF(MR17=0,\"\",MR26/MR17)","v":""},null,{"$f":"IF(MS17=0,\"\",MS26/MS17)","v":""},{"$f":"IF(MU17=0,\"\",MU26/MU17)","v":""},{"$f":"IF(MV17=0,\"\",MV26/MV17)","v":""},{"$f":"IF(MW17=0,\"\",MW26/MW17)","v":""},{"$f":"IF(MX17=0,\"\",MX26/MX17)","v":""},{"$f":"IF(MY17=0,\"\",MY26/MY17)","v":""},{"$f":"IF(MZ17=0,\"\",MZ26/MZ17)","v":""},{"$f":"IF(NA17=0,\"\",NA26/NA17)","v":""},{"$f":"IF(NB17=0,\"\",NB26/NB17)","v":""},{"$f":"IF(NC17=0,\"\",NC26/NC17)","v":""},{"$f":"IF(ND17=0,\"\",ND26/ND17)","v":""},{"$f":"IF(NE17=0,\"\",NE26/NE17)","v":""},{"$f":"IF(NF17=0,\"\",NF26/NF17)","v":""},{"$f":"IF(NG17=0,\"\",NG26/NG17)","v":""},{"$f":"IF(NH17=0,\"\",NH26/NH17)","v":""},{"$f":"IF(NI17=0,\"\",NI26/NI17)","v":""},{"$f":"IF(NJ17=0,\"\",NJ26/NJ17)","v":""},{"$f":"IF(NK17=0,\"\",NK26/NK17)","v":""},{"$f":"IF(NL17=0,\"\",NL26/NL17)","v":""},{"$f":"IF(NM17=0,\"\",NM26/NM17)","v":""},{"$f":"IF(NN17=0,\"\",NN26/NN17)","v":""},{"$f":"IF(NO17=0,\"\",NO26/NO17)","v":""},{"$f":"IF(NP17=0,\"\",NP26/NP17)","v":""},{"$f":"IF(NQ17=0,\"\",NQ26/NQ17)","v":""},{"$f":"IF(NR17=0,\"\",NR26/NR17)","v":""},{"$f":"IF(NS17=0,\"\",NS26/NS17)","v":""},{"$f":"IF(NT17=0,\"\",NT26/NT17)","v":""},{"$f":"IF(NU17=0,\"\",NU26/NU17)","v":""},{"$f":"IF(NV17=0,\"\",NV26/NV17)","v":""},{"$f":"IF(NW17=0,\"\",NW26/NW17)","v":""},{"$f":"IF(NX17=0,\"\",NX26/NX17)","v":""},{"$f":"IF(NY17=0,\"\",NY26/NY17)","v":""},null,{"$f":"IF(NZ17=0,\"\",NZ26/NZ17)","v":""},null,{"$f":"IF(OB17=0,\"\",OB26/OB17)","v":""}]
["SCOT (seconds):",null,{"$f":"C4*3600","v":0},{"$f":"D4*3600","v":0},0,{"$f":"F4*3600","v":0},0,0,0,0,0,0,0,0,0,0,0,0,0,0,0,0,0,0,0,0,{"$f":"AA4*3600","v":0},0,0,0,0,{"$f":"AF4*3600","v":0},0,0,null,0,{"$f":"AK4*3600","v":0},0,0,0,0,0,0,0,0,0,0,0,0,0,0,0,0,0,0,0,0,0,0,0,0,0,0,0,null,0,0,0,0,0,0,0,0,0,0,0,0,0,0,0,0,0,0,0,0,0,0,0,0,0,0,0,0,0,0,0,0,null,0,0,0,0,0,0,{"$f":"DA4*3600","v":0},0,0,0,0,0,0,0,0,0,0,0,0,0,0,0,0,0,0,0,0,0,0,0,0,null,0,0,0,0,0,0,0,0,0,0,0,0,0,0,0,0,0,0,0,0,0,0,0,0,0,0,0,0,0,0,0,0,null,0,0,0,0,0,0,0,0,0,{"$f":"FQ4*3600","v":0},0,0,0,0,{"$f":"FV4*3600","v":0},0,0,0,0,0,0,0,0,0,0,0,0,0,0,0,0,null,0,0,0,0,0,0,0,0,0,0,0,0,0,0,0,0,0,0,0,0,0,0,0,0,0,0,0,0,0,0,0,0,null,0,0,0,0,0,0,0,0,0,0,0,0,0,0,0,0,0,{"$f":"IL4*3600","v":0},0,0,0,0,0,0,0,0,0,0,0,0,0,0,null,0,0,0,0,0,0,0,0,0,0,0,0,0,0,0,0,0,0,0,0,0,0,0,0,0,0,0,0,0,0,0,null,0,0,0,0,0,0,0,0,0,0,0,0,0,0,0,0,0,0,0,0,{"$f":"LB4*3600","v":0},0,0,0,0,0,{"$f":"LH4*3600","v":0},0,0,0,0,0,null,0,0,0,0,0,0,0,0,0,0,0,0,0,0,0,0,0,0,0,0,0,0,0,0,0,0,0,0,0,0,0,null,0,0,0,0,0,0,0,0,0,0,0,0,0,0,0,0,{"$f":"NK4*3600","v":0},0,0,0,0,0,0,0,0,0,0,0,0,0,0,0,null,0]
["CD\n(seconds)","Weather:",null,null,null,null,null,null,null,null,null,null,null,null,null,null,null,null,null,null,null,null,null,null,null,null,null,null,null,null,null,null,null,0,null,null,null,null,null,null,null,null,null,null,null,null,null,null,null,null,null,null,null,null,null,null,null,null,null,null,null,null,null,0,null,null,null,null,null,null,null,null,null,null,null,null,null,null,null,null,null,null,null,null,null,null,null,null,null,null,null,null,null,null,null,null,0,null,null,null,null,null,null,null,null,null,null,null,null,null,null,null,null,null,null,null,null,null,null,null,null,null,null,null,null,null,null,null,0,null,null,null,null,null,null,null,null,null,null,null,null,null,null,null,null,null,null,null,null,null,null,null,null,null,null,null,null,null,null,null,null,0,null,null,null,null,null,null,null,null,null,null,null,null,null,null,null,null,null,null,null,null,null,null,null,null,null,null,null,null,null,null,null,0,null,null,null,null,null,null,null,null,null,null,null,null,null,null,null,null,null,null,null,null,null,null,null,null,null,null,null,null,null,null,null,null,0,null,null,null,null,null,null,null,null,null,null,null,null,null,null,null,null,null,null,null,null,null,null,null,null,null,null,null,null,null,null,null,null,0,null,null,null,null,null,null,null,null,null,null,null,null,null,null,null,null,null,null,null,null,null,null,null,null,null,null,null,null,null,null,null,0,null,null,null,null,null,null,null,null,null,null,null,null,null,null,null,null,null,null,null,null,null,null,null,null,null,null,null,null,null,null,null,null,0,null,null,null,null,null,null,null,null,null,null,null,null,null,null,null,null,null,null,null,null,null,null,null,null,null,null,null,null,null,null,null,0,null,null,null,null,null,null,null,null,null,null,null,null,null,null,null,null,null,null,null,null,null,null,null,null,null,null,null,null,null,null,null,null,0,null,0]
[null,"Passenger:",null,null,null,null,null,null,null,null,null,null,null,null,null,null,null,null,null,null,null,null,null,null,null,null,null,null,null,null,null,null,null,0,null,null,null,null,null,null,null,null,null,null,null,null,null,null,null,null,null,null,null,null,null,null,null,null,null,null,null,null,null,0,null,null,null,null,null,null,null,null,null,null,null,null,null,null,null,null,null,null,null,null,null,null,null,null,null,null,null,null,null,null,null,null,0,null,null,null,null,null,null,null,null,null,null,null,null,null,null,null,null,null,null,null,null,null,null,null,null,null,null,null,null,null,null,null,0,null,null,null,null,null,null,null,null,null,null,null,null,null,null,null,null,null,null,null,null,null,null,null,null,null,null,null,null,null,null,null,null,0,null,null,null,null,null,null,null,null,null,null,null,null,null,null,null,null,null,null,null,null,null,null,null,null,null,null,null,null,null,null,null,0,null,null,null,null,null,null,null,null,null,null,null,null,null,null,null,null,null,null,null,null,null,null,null,null,null,null,null,null,null,null,null,null,0,null,null,null,null,null,null,null,null,null,null,null,null,null,null,null,null,null,null,null,null,null,null,null,null,null,null,null,null,null,null,null,null,0,null,null,null,null,null,null,null,null,null,null,null,null,null,null,null,null,null,null,null,null,null,null,null,null,null,null,null,null,null,null,null,0,null,null,null,null,null,null,null,null,null,null,null,null,null,null,null,null,null,null,null,null,null,null,null,null,null,null,null,null,null,null,null,null,0,null,null,null,null,null,null,null,null,null,null,null,null,null,null,null,null,null,null,null,null,null,null,null,null,null,null,null,null,null,null,null,0,null,null,null,null,null,null,null,null,null,null,null,null,null,null,null,null,null,null,null,null,null,null,null,null,null,null,null,null,null,null,null,null,0,null,0]
[null,"System Equipment:",null,null,null,null,null,null,null,null,null,null,null,null,null,null,null,null,null,null,null,null,null,null,null,null,null,null,null,null,null,null,null,0,null,null,null,null,null,null,null,null,null,null,null,null,null,null,null,null,null,null,null,null,null,null,null,null,null,null,null,null,null,0,null,null,null,null,null,null,null,null,null,null,null,null,null,null,null,null,null,null,null,null,null,null,null,null,null,null,null,null,null,null,null,null,0,null,null,null,null,null,null,null,null,null,null,null,null,null,null,null,null,null,null,null,null,null,null,null,null,null,null,null,null,null,null,null,0,null,null,null,null,null,null,null,null,null,null,null,null,null,null,null,null,null,null,null,null,null,null,null,null,null,null,null,null,null,null,null,null,0,null,null,null,null,null,null,null,null,null,null,null,null,null,null,null,null,null,null,null,null,null,null,null,null,null,null,null,null,null,null,null,0,null,null,null,null,null,null,null,null,null,null,null,null,null,null,null,null,null,null,null,null,null,null,null,null,null,null,null,null,null,null,null,null,0,null,null,null,null,null,null,null,null,null,null,null,null,null,null,null,null,null,null,null,null,null,null,null,null,null,null,null,null,null,null,null,null,0,null,null,null,null,null,null,null,null,null,null,null,null,null,null,null,null,null,null,null,null,null,null,null,null,null,null,null,null,null,null,null,0,null,null,null,null,null,null,null,null,null,null,null,null,null,null,null,null,null,null,null,null,null,null,null,null,null,null,null,null,null,null,null,null,0,null,null,null,null,null,null,null,null,null,null,null,null,null,null,null,null,null,null,null,null,null,null,null,null,null,null,null,null,null,null,null,0,null,null,null,null,null,null,null,null,null,null,null,null,null,null,null,null,null,null,null,null,null,null,null,null,null,null,null,null,null,null,null,null,0,null,0]
[null,"Facilities:",null,null,null,null,null,null,null,null,null,null,null,null,null,null,null,null,null,null,null,null,null,null,null,null,null,null,null,null,null,null,null,0,null,null,null,null,null,null,null,null,null,null,null,null,null,null,null,null,null,null,null,null,null,null,null,null,null,null,null,null,null,0,null,null,null,null,null,null,null,null,null,null,null,null,null,null,null,null,null,null,null,null,null,null,null,null,null,null,null,null,null,null,null,null,0,null,null,null,null,null,null,null,null,null,null,null,null,null,null,null,null,null,null,null,null,null,null,null,null,null,null,null,null,null,null,null,0,null,null,null,null,null,null,null,null,null,null,null,null,null,null,null,null,null,null,null,null,null,null,null,null,null,null,null,null,null,null,null,null,0,null,null,null,null,null,null,null,null,null,null,null,null,null,null,null,null,null,null,null,null,null,null,null,null,null,null,null,null,null,null,null,0,null,null,null,null,null,null,null,null,null,null,null,null,null,null,null,null,null,null,null,null,null,null,null,null,null,null,null,null,null,null,null,null,0,null,null,null,null,null,null,null,null,null,null,null,null,null,null,null,null,null,null,null,null,null,null,null,null,null,null,null,null,null,null,null,null,0,null,null,null,null,null,null,null,null,null,null,null,null,null,null,null,null,null,null,null,null,null,null,null,null,null,null,null,null,null,null,null,0,null,null,null,null,null,null,null,null,null,null,null,null,null,null,null,null,null,null,null,null,null,null,null,null,null,null,null,null,null,null,null,null,0,null,null,null,null,null,null,null,null,null,null,null,null,null,null,null,null,null,null,null,null,null,null,null,null,null,null,null,null,null,null,null,0,null,null,null,null,null,null,null,null,null,null,null,null,null,null,null,null,null,null,null,null,null,null,null,null,null,null,null,null,null,null,null,null,0,null,0]
[null,"Utility:",null,null,null,null,null,null,null,null,null,null,null,null,null,null,null,null,null,null,null,null,null,null,null,null,null,null,null,null,null,null,null,0,null,null,null,null,null,null,null,null,null,null,null,null,null,null,null,null,null,null,null,null,null,null,null,null,null,null,null,null,null,0,null,null,null,null,null,null,null,null,null,null,null,null,null,null,null,null,null,null,null,null,null,null,null,null,null,null,null,null,null,null,null,null,0,null,null,null,null,null,null,null,null,null,null,null,null,null,null,null,null,null,null,null,null,null,null,null,null,null,null,null,null,null,null,null,0,null,null,null,null,null,null,null,null,null,null,null,null,null,null,null,null,null,null,null,null,null,null,null,null,null,null,null,null,null,null,null,null,0,null,null,null,null,null,null,null,null,null,null,null,null,null,null,null,null,null,null,null,null,null,null,null,null,null,null,null,null,null,null,null,0,null,null,null,null,null,null,null,null,null,null,null,null,null,null,null,null,null,null,null,null,null,null,null,null,null,null,null,null,null,null,null,null,0,null,null,null,null,null,null,null,null,null,null,null,null,null,null,null,null,null,null,null,null,null,null,null,null,null,null,null,null,null,null,null,null,0,null,null,null,null,null,null,null,null,null,null,null,null,null,null,null,null,null,null,null,null,null,null,null,null,null,null,null,null,null,null,null,0,null,null,null,null,null,null,null,null,null,null,null,null,null,null,null,null,null,null,null,null,null,null,null,null,null,null,null,null,null,null,null,null,0,null,null,null,null,null,null,null,null,null,null,null,null,null,null,null,null,null,null,null,null,null,null,null,null,null,null,null,null,null,null,null,0,null,null,null,null,null,null,null,null,null,null,null,null,null,null,null,null,null,null,null,null,null,null,null,null,null,null,null,null,null,null,null,null,0,null,0]
[null,"O&M:",null,null,null,null,null,null,null,null,null,null,null,null,null,null,null,null,null,null,null,null,null,null,null,null,null,null,null,null,null,null,null,0,null,null,null,null,null,null,null,null,null,null,null,null,null,null,null,null,null,null,null,null,null,null,null,null,null,null,null,null,null,0,null,null,null,null,null,null,null,null,null,null,null,null,null,null,null,null,null,null,null,null,null,null,null,null,null,null,null,null,null,null,null,null,0,null,null,null,null,null,null,null,null,null,null,null,null,null,null,null,null,null,null,null,null,null,null,null,null,null,null,null,null,null,null,null,0,null,null,null,null,null,null,null,null,null,null,null,null,null,null,null,null,null,null,null,null,null,null,null,null,null,null,null,null,null,null,null,null,0,null,null,null,null,null,null,null,null,null,null,null,null,null,null,null,null,null,null,null,null,null,null,null,null,null,null,null,null,null,null,null,0,null,null,null,null,null,null,null,null,null,null,null,null,null,null,null,null,null,null,null,null,null,null,null,null,null,null,null,null,null,null,null,null,0,null,null,null,null,null,null,null,null,null,null,null,null,null,null,null,null,null,null,null,null,null,null,null,null,null,null,null,null,null,null,null,null,0,null,null,null,null,null,null,null,null,null,null,null,null,null,null,null,null,null,null,null,null,null,null,null,null,null,null,null,null,null,null,null,0,null,null,null,null,null,null,null,null,null,null,null,null,null,null,null,null,null,null,null,null,null,null,null,null,null,null,null,null,null,null,null,null,0,null,null,null,null,null,null,null,null,null,null,null,null,null,null,null,null,null,null,null,null,null,null,null,null,null,null,null,null,null,null,null,0,null,null,null,null,null,null,null,null,null,null,null,null,null,null,null,null,null,null,null,null,null,null,null,null,null,null,null,null,null,null,null,null,0,null,0]
[null,"Other:",null,null,null,null,null,null,null,null,null,null,null,null,null,null,null,null,null,null,null,null,null,null,null,null,null,null,null,null,null,null,null,0,null,null,null,null,null,null,null,null,null,null,null,null,null,null,null,null,null,null,null,null,null,null,null,null,null,null,null,null,null,0,null,null,null,null,null,null,null,null,null,null,null,null,null,null,null,null,null,null,null,null,null,null,null,null,null,null,null,null,null,null,null,null,0,null,null,null,null,null,null,null,null,null,null,null,null,null,null,null,null,null,null,null,null,null,null,null,null,null,null,null,null,null,null,null,0,null,null,null,null,null,null,null,null,null,null,null,null,null,null,null,null,null,null,null,null,null,null,null,null,null,null,null,null,null,null,null,null,0,null,null,null,null,null,null,null,null,null,null,null,null,null,null,null,null,null,null,null,null,null,null,null,null,null,null,null,null,null,null,null,0,null,null,null,null,null,null,null,null,null,null,null,null,null,null,null,null,null,null,null,null,null,null,null,null,null,null,null,null,null,null,null,null,0,null,null,null,null,null,null,null,null,null,null,null,null,null,null,null,null,null,null,null,null,null,null,null,null,null,null,null,null,null,null,null,null,0,null,null,null,null,null,null,null,null,null,null,null,null,null,null,null,null,null,null,null,null,null,null,null,null,null,null,null,null,null,null,null,0,null,null,null,null,null,null,null,null,null,null,null,null,null,null,null,null,null,null,null,null,null,null,null,null,null,null,null,null,null,null,null,null,0,null,null,null,null,null,null,null,null,null,null,null,null,null,null,null,null,null,null,null,null,null,null,null,null,null,null,null,null,null,null,null,0,null,null,null,null,null,null,null,null,null,null,null,null,null,null,null,null,null,null,null,null,null,null,null,null,null,null,null,null,null,null,null,null,0,null,0]
[null,"Total:",{"$f":"SUM(C18:C24)","v":0},{"$f":"SUM(D18:D24)","v":0},0,{"$f":"SUM(F18:F24)","v":0},{"$f":"SUM(G18:G24)","v":0},{"$f":"SUM(H18:H24)","v":0},{"$f":"SUM(I18:I24)","v":0},{"$f":"SUM(J18:J24)","v":0},{"$f":"SUM(K18:K24)","v":0},{"$f":"SUM(L18:L24)","v":0},{"$f":"SUM(M18:M24)","v":0},{"$f":"SUM(N18:N24)","v":0},{"$f":"SUM(O18:O24)","v":0},{"$f":"SUM(P18:P24)","v":0},{"$f":"SUM(Q18:Q24)","v":0},{"$f":"SUM(R18:R24)","v":0},{"$f":"SUM(S18:S24)","v":0},{"$f":"SUM(T18:T24)","v":0},{"$f":"SUM(U18:U24)","v":0},{"$f":"SUM(V18:V24)","v":0},{"$f":"SUM(W18:W24)","v":0},{"$f":"SUM(X18:X24)","v":0},{"$f":"SUM(Y18:Y24)","v":0},{"$f":"SUM(Z18:Z24)","v":0},{"$f":"SUM(AA18:AA24)","v":0},{"$f":"SUM(AB18:AB24)","v":0},{"$f":"SUM(AC18:AC24)","v":0},{"$f":"SUM(AD18:AD24)","v":0},{"$f":"SUM(AE18:AE24)","v":0},{"$f":"SUM(AF18:AF24)","v":0},{"$f":"SUM(AG18:AG24)","v":0},0,null,{"$f":"SUM(AJ18:AJ24)","v":0},{"$f":"SUM(AK18:AK24)","v":0},{"$f":"SUM(AL18:AL24)","v":0},{"$f":"SUM(AM18:AM24)","v":0},{"$f":"SUM(AN18:AN24)","v":0},{"$f":"SUM(AO18:AO24)","v":0},{"$f":"SUM(AP18:AP24)","v":0},{"$f":"SUM(AQ18:AQ24)","v":0},{"$f":"SUM(AR18:AR24)","v":0},{"$f":"SUM(AS18:AS24)","v":0},{"$f":"SUM(AT18:AT24)","v":0},{"$f":"SUM(AU18:AU24)","v":0},{"$f":"SUM(AV18:AV24)","v":0},{"$f":"SUM(AW18:AW24)","v":0},{"$f":"SUM(AX18:AX24)","v":0},{"$f":"SUM(AY18:AY24)","v":0},{"$f":"SUM(AZ18:AZ24)","v":0},{"$f":"SUM(BA18:BA24)","v":0},{"$f":"SUM(BB18:BB24)","v":0},{"$f":"SUM(BC18:BC24)","v":0},{"$f":"SUM(BD18:BD24)","v":0},{"$f":"SUM(BE18:BE24)","v":0},{"$f":"SUM(BF18:BF24)","v":0},{"$f":"SUM(BG18:BG24)","v":0},{"$f":"SUM(BH18:BH24)","v":0},{"$f":"SUM(BI18:BI24)","v":0},{"$f":"SUM(BJ18:BJ24)","v":0},{"$f":"SUM(BK18:BK24)","v":0},0,null,{"$f":"SUM(BN18:BN24)","v":0},{"$f":"SUM(BO18:BO24)","v":0},{"$f":"SUM(BP18:BP24)","v":0},{"$f":"SUM(BQ18:BQ24)","v":0},{"$f":"SUM(BR18:BR24)","v":0},{"$f":"SUM(BS18:BS24)","v":0},{"$f":"SUM(BT18:BT24)","v":0},{"$f":"SUM(BU18:BU24)","v":0},{"$f":"SUM(BV18:BV24)","v":0},{"$f":"SUM(BW18:BW24)","v":0},{"$f":"SUM(BX18:BX24)","v":0},{"$f":"SUM(BY18:BY24)","v":0},{"$f":"SUM(BZ18:BZ24)","v":0},{"$f":"SUM(CA18:CA24)","v":0},{"$f":"SUM(CB18:CB24)","v":0},{"$f":"SUM(CC18:CC24)","v":0},{"$f":"SUM(CD18:CD24)","v":0},{"$f":"SUM(CE18:CE24)","v":0},{"$f":"SUM(CF18:CF24)","v":0},{"$f":"SUM(CG18:CG24)","v":0},{"$f":"SUM(CH18:CH24)","v":0},{"$f":"SUM(CI18:CI24)","v":0},{"$f":"SUM(CJ18:CJ24)","v":0},{"$f":"SUM(CK18:CK24)","v":0},{"$f":"SUM(CL18:CL24)","v":0},{"$f":"SUM(CM18:CM24)","v":0},{"$f":"SUM(CN18:CN24)","v":0},{"$f":"SUM(CO18:CO24)","v":0},{"$f":"SUM(CP18:CP24)","v":0},{"$f":"SUM(CQ18:CQ24)","v":0},{"$f":"SUM(CR18:CR24)","v":0},0,null,{"$f":"SUM(CU18:CU24)","v":0},{"$f":"SUM(CV18:CV24)","v":0},{"$f":"SUM(CW18:CW24)","v":0},{"$f":"SUM(CX18:CX24)","v":0},{"$f":"SUM(CY18:CY24)","v":0},{"$f":"SUM(CZ18:CZ24)","v":0},{"$f":"SUM(DA18:DA24)","v":0},{"$f":"SUM(DB18:DB24)","v":0},{"$f":"SUM(DC18:DC24)","v":0},{"$f":"SUM(DD18:DD24)","v":0},{"$f":"SUM(DE18:DE24)","v":0},{"$f":"SUM(DF18:DF24)","v":0},{"$f":"SUM(DG18:DG24)","v":0},{"$f":"SUM(DH18:DH24)","v":0},{"$f":"SUM(DI18:DI24)","v":0},{"$f":"SUM(DJ18:DJ24)","v":0},{"$f":"SUM(DK18:DK24)","v":0},{"$f":"SUM(DL18:DL24)","v":0},{"$f":"SUM(DM18:DM24)","v":0},{"$f":"SUM(DN18:DN24)","v":0},{"$f":"SUM(DO18:DO24)","v":0},{"$f":"SUM(DP18:DP24)","v":0},{"$f":"SUM(DQ18:DQ24)","v":0},{"$f":"SUM(DR18:DR24)","v":0},{"$f":"SUM(DS18:DS24)","v":0},{"$f":"SUM(DT18:DT24)","v":0},{"$f":"SUM(DU18:DU24)","v":0},{"$f":"SUM(DV18:DV24)","v":0},{"$f":"SUM(DW18:DW24)","v":0},{"$f":"SUM(DX18:DX24)","v":0},0,null,{"$f":"SUM(EA18:EA24)","v":0},{"$f":"SUM(EB18:EB24)","v":0},{"$f":"SUM(EC18:EC24)","v":0},{"$f":"SUM(ED18:ED24)","v":0},{"$f":"SUM(EE18:EE24)","v":0},{"$f":"SUM(EF18:EF24)","v":0},{"$f":"SUM(EG18:EG24)","v":0},{"$f":"SUM(EH18:EH24)","v":0},{"$f":"SUM(EI18:EI24)","v":0},{"$f":"SUM(EJ18:EJ24)","v":0},{"$f":"SUM(EK18:EK24)","v":0},{"$f":"SUM(EL18:EL24)","v":0},{"$f":"SUM(EM18:EM24)","v":0},{"$f":"SUM(EN18:EN24)","v":0},{"$f":"SUM(EO18:EO24)","v":0},{"$f":"SUM(EP18:EP24)","v":0},{"$f":"SUM(EQ18:EQ24)","v":0},{"$f":"SUM(ER18:ER24)","v":0},{"$f":"SUM(ES18:ES24)","v":0},{"$f":"SUM(ET18:ET24)","v":0},{"$f":"SUM(EU18:EU24)","v":0},{"$f":"SUM(EV18:EV24)","v":0},{"$f":"SUM(EW18:EW24)","v":0},{"$f":"SUM(EX18:EX24)","v":0},{"$f":"SUM(EY18:EY24)","v":0},{"$f":"SUM(EZ18:EZ24)","v":0},{"$f":"SUM(FA18:FA24)","v":0},{"$f":"SUM(FB18:FB24)","v":0},{"$f":"SUM(FC18:FC24)","v":0},{"$f":"SUM(FD18:FD24)","v":0},{"$f":"SUM(FE18:FE24)","v":0},0,null,{"$f":"SUM(FH18:FH24)","v":0},{"$f":"SUM(FI18:FI24)","v":0},{"$f":"SUM(FJ18:FJ24)","v":0},{"$f":"SUM(FK18:FK24)","v":0},{"$f":"SUM(FL18:FL24)","v":0},{"$f":"SUM(FM18:FM24)","v":0},{"$f":"SUM(FN18:FN24)","v":0},{"$f":"SUM(FO18:FO24)","v":0},{"$f":"SUM(FP18:FP24)","v":0},{"$f":"SUM(FQ18:FQ24)","v":0},{"$f":"SUM(FR18:FR24)","v":0},{"$f":"SUM(FS18:FS24)","v":0},{"$f":"SUM(FT18:FT24)","v":0},{"$f":"SUM(FU18:FU24)","v":0},{"$f":"SUM(FV18:FV24)","v":0},{"$f":"SUM(FW18:FW24)","v":0},{"$f":"SUM(FX18:FX24)","v":0},{"$f":"SUM(FY18:FY24)","v":0},{"$f":"SUM(FZ18:FZ24)","v":0},{"$f":"SUM(GA18:GA24)","v":0},{"$f":"SUM(GB18:GB24)","v":0},{"$f":"SUM(GC18:GC24)","v":0},{"$f":"SUM(GD18:GD24)","v":0},{"$f":"SUM(GE18:GE24)","v":0},{"$f":"SUM(GF18:GF24)","v":0},{"$f":"SUM(GG18:GG24)","v":0},{"$f":"SUM(GH18:GH24)","v":0},{"$f":"SUM(GI18:GI24)","v":0},{"$f":"SUM(GJ18:GJ24)","v":0},{"$f":"SUM(GK18:GK24)","v":0},0,null,{"$f":"SUM(GN18:GN24)","v":0},{"$f":"SUM(GO18:GO24)","v":0},{"$f":"SUM(GP18:GP24)","v":0},{"$f":"SUM(GQ18:GQ24)","v":0},{"$f":"SUM(GR18:GR24)","v":0},{"$f":"SUM(GS18:GS24)","v":0},{"$f":"SUM(GT18:GT24)","v":0},{"$f":"SUM(GU18:GU24)","v":0},{"$f":"SUM(GV18:GV24)","v":0},{"$f":"SUM(GW18:GW24)","v":0},{"$f":"SUM(GX18:GX24)","v":0},{"$f":"SUM(GY18:GY24)","v":0},{"$f":"SUM(GZ18:GZ24)","v":0},{"$f":"SUM(HA18:HA24)","v":0},{"$f":"SUM(HB18:HB24)","v":0},{"$f":"SUM(HC18:HC24)","v":0},{"$f":"SUM(HD18:HD24)","v":0},{"$f":"SUM(HE18:HE24)","v":0},{"$f":"SUM(HF18:HF24)","v":0},{"$f":"SUM(HG18:HG24)","v":0},{"$f":"SUM(HH18:HH24)","v":0},{"$f":"SUM(HI18:HI24)","v":0},{"$f":"SUM(HJ18:HJ24)","v":0},{"$f":"SUM(HK18:HK24)","v":0},{"$f":"SUM(HL18:HL24)","v":0},{"$f":"SUM(HM18:HM24)","v":0},{"$f":"SUM(HN18:HN24)","v":0},{"$f":"SUM(HO18:HO24)","v":0},{"$f":"SUM(HP18:HP24)","v":0},{"$f":"SUM(HQ18:HQ24)","v":0},{"$f":"SUM(HR18:HR24)","v":0},0,null,{"$f":"SUM(HU18:HU24)","v":0},{"$f":"SUM(HV18:HV24)","v":0},{"$f":"SUM(HW18:HW24)","v":0},{"$f":"SUM(HX18:HX24)","v":0},{"$f":"SUM(HY18:HY24)","v":0},{"$f":"SUM(HZ18:HZ24)","v":0},{"$f":"SUM(IA18:IA24)","v":0},{"$f":"SUM(IB18:IB24)","v":0},{"$f":"SUM(IC18:IC24)","v":0},{"$f":"SUM(ID18:ID24)","v":0},{"$f":"SUM(IE18:IE24)","v":0},{"$f":"SUM(IF18:IF24)","v":0},{"$f":"SUM(IG18:IG24)","v":0},{"$f":"SUM(IH18:IH24)","v":0},{"$f":"SUM(II18:II24)","v":0},{"$f":"SUM(IJ18:IJ24)","v":0},{"$f":"SUM(IK18:IK24)","v":0},{"$f":"SUM(IL18:IL24)","v":0},{"$f":"SUM(IM18:IM24)","v":0},{"$f":"SUM(IN18:IN24)","v":0},{"$f":"SUM(IO18:IO24)","v":0},{"$f":"SUM(IP18:IP24)","v":0},{"$f":"SUM(IQ18:IQ24)","v":0},{"$f":"SUM(IR18:IR24)","v":0},{"$f":"SUM(IS18:IS24)","v":0},{"$f":"SUM(IT18:IT24)","v":0},{"$f":"SUM(IU18:IU24)","v":0},{"$f":"SUM(IV18:IV24)","v":0},{"$f":"SUM(IW18:IW24)","v":0},{"$f":"SUM(IX18:IX24)","v":0},{"$f":"SUM(IY18:IY24)","v":0},0,null,{"$f":"SUM(JB18:JB24)","v":0},{"$f":"SUM(JC18:JC24)","v":0},{"$f":"SUM(JD18:JD24)","v":0},{"$f":"SUM(JE18:JE24)","v":0},{"$f":"SUM(JF18:JF24)","v":0},{"$f":"SUM(JG18:JG24)","v":0},{"$f":"SUM(JH18:JH24)","v":0},{"$f":"SUM(JI18:JI24)","v":0},{"$f":"SUM(JJ18:JJ24)","v":0},{"$f":"SUM(JK18:JK24)","v":0},{"$f":"SUM(JL18:JL24)","v":0},{"$f":"SUM(JM18:JM24)","v":0},{"$f":"SUM(JN18:JN24)","v":0},{"$f":"SUM(JO18:JO24)","v":0},{"$f":"SUM(JP18:JP24)","v":0},{"$f":"SUM(JQ18:JQ24)","v":0},{"$f":"SUM(JR18:JR24)","v":0},{"$f":"SUM(JS18:JS24)","v":0},{"$f":"SUM(JT18:JT24)","v":0},{"$f":"SUM(JU18:JU24)","v":0},{"$f":"SUM(JV18:JV24)","v":0},{"$f":"SUM(JW18:JW24)","v":0},{"$f":"SUM(JX18:JX24)","v":0},{"$f":"SUM(JY18:JY24)","v":0},{"$f":"SUM(JZ18:JZ24)","v":0},{"$f":"SUM(KA18:KA24)","v":0},{"$f":"SUM(KB18:KB24)","v":0},{"$f":"SUM(KC18:KC24)","v":0},{"$f":"SUM(KD18:KD24)","v":0},{"$f":"SUM(KE18:KE24)","v":0},0,null,{"$f":"SUM(KH18:KH24)","v":0},{"$f":"SUM(KI18:KI24)","v":0},{"$f":"SUM(KJ18:KJ24)","v":0},{"$f":"SUM(KK18:KK24)","v":0},{"$f":"SUM(KL18:KL24)","v":0},{"$f":"SUM(KM18:KM24)","v":0},{"$f":"SUM(KN18:KN24)","v":0},{"$f":"SUM(KO18:KO24)","v":0},{"$f":"SUM(KP18:KP24)","v":0},{"$f":"SUM(KQ18:KQ24)","v":0},{"$f":"SUM(KR18:KR24)","v":0},{"$f":"SUM(KS18:KS24)","v":0},{"$f":"SUM(KT18:KT24)","v":0},{"$f":"SUM(KU18:KU24)","v":0},{"$f":"SUM(KV18:KV24)","v":0},{"$f":"SUM(KW18:KW24)","v":0},{"$f":"SUM(KX18:KX24)","v":0},{"$f":"SUM(KY18:KY24)","v":0},{"$f":"SUM(KZ18:KZ24)","v":0},{"$f":"SUM(LA18:LA24)","v":0},{"$f":"SUM(LB18:LB24)","v":0},{"$f":"SUM(LC18:LC24)","v":0},{"$f":"SUM(LD18:LD24)","v":0},{"$f":"SUM(LE18:LE24)","v":0},{"$f":"SUM(LF18:LF24)","v":0},{"$f":"SUM(LG18:LG24)","v":0},{"$f":"SUM(LH18:LH24)","v":0},{"$f":"SUM(LI18:LI24)","v":0},{"$f":"SUM(LJ18:LJ24)","v":0},{"$f":"SUM(LK18:LK24)","v":0},{"$f":"SUM(LL18:LL24)","v":0},0,null,{"$f":"SUM(LO18:LO24)","v":0},{"$f":"SUM(LP18:LP24)","v":0},{"$f":"SUM(LQ18:LQ24)","v":0},{"$f":"SUM(LR18:LR24)","v":0},{"$f":"SUM(LS18:LS24)","v":0},{"$f":"SUM(LT18:LT24)","v":0},{"$f":"SUM(LU18:LU24)","v":0},{"$f":"SUM(LV18:LV24)","v":0},{"$f":"SUM(LW18:LW24)","v":0},{"$f":"SUM(LX18:LX24)","v":0},{"$f":"SUM(LY18:LY24)","v":0},{"$f":"SUM(LZ18:LZ24)","v":0},{"$f":"SUM(MA18:MA24)","v":0},{"$f":"SUM(MB18:MB24)","v":0},{"$f":"SUM(MC18:MC24)","v":0},{"$f":"SUM(MD18:MD24)","v":0},{"$f":"SUM(ME18:ME24)","v":0},{"$f":"SUM(MF18:MF24)","v":0},{"$f":"SUM(MG18:MG24)","v":0},{"$f":"SUM(MH18:MH24)","v":0},{"$f":"SUM(MI18:MI24)","v":0},{"$f":"SUM(MJ18:MJ24)","v":0},{"$f":"SUM(MK18:MK24)","v":0},{"$f":"SUM(ML18:ML24)","v":0},{"$f":"SUM(MM18:MM24)","v":0},{"$f":"SUM(MN18:MN24)","v":0},{"$f":"SUM(MO18:MO24)","v":0},{"$f":"SUM(MP18:MP24)","v":0},{"$f":"SUM(MQ18:MQ24)","v":0},{"$f":"SUM(MR18:MR24)","v":0},0,null,{"$f":"SUM(MU18:MU24)","v":0},{"$f":"SUM(MV18:MV24)","v":0},{"$f":"SUM(MW18:MW24)","v":0},{"$f":"SUM(MX18:MX24)","v":0},{"$f":"SUM(MY18:MY24)","v":0},{"$f":"SUM(MZ18:MZ24)","v":0},{"$f":"SUM(NA18:NA24)","v":0},{"$f":"SUM(NB18:NB24)","v":0},{"$f":"SUM(NC18:NC24)","v":0},{"$f":"SUM(ND18:ND24)","v":0},{"$f":"SUM(NE18:NE24)","v":0},{"$f":"SUM(NF18:NF24)","v":0},{"$f":"SUM(NG18:NG24)","v":0},{"$f":"SUM(NH18:NH24)","v":0},{"$f":"SUM(NI18:NI24)","v":0},{"$f":"SUM(NJ18:NJ24)","v":0},{"$f":"SUM(NK18:NK24)","v":0},{"$f":"SUM(NL18:NL24)","v":0},{"$f":"SUM(NM18:NM24)","v":0},{"$f":"SUM(NN18:NN24)","v":0},{"$f":"SUM(NO18:NO24)","v":0},{"$f":"SUM(NP18:NP24)","v":0},{"$f":"SUM(NQ18:NQ24)","v":0},{"$f":"SUM(NR18:NR24)","v":0},{"$f":"SUM(NS18:NS24)","v":0},{"$f":"SUM(NT18:NT24)","v":0},{"$f":"SUM(NU18:NU24)","v":0},{"$f":"SUM(NV18:NV24)","v":0},{"$f":"SUM(NW18:NW24)","v":0},{"$f":"SUM(NX18:NX24)","v":0},{"$f":"SUM(NY18:NY24)","v":0},0,null,0]
["ACOT (seconds):",null,{"$f":"C17-C25","v":0},{"$f":"D17-D25","v":0},0,{"$f":"F17-F25","v":0},{"$f":"G17-G25","v":0},{"$f":"H17-H25","v":0},{"$f":"I17-I25","v":0},{"$f":"J17-J25","v":0},{"$f":"K17-K25","v":0},{"$f":"L17-L25","v":0},{"$f":"M17-M25","v":0},{"$f":"N17-N25","v":0},{"$f":"O17-O25","v":0},{"$f":"P17-P25","v":0},{"$f":"Q17-Q25","v":0},{"$f":"R17-R25","v":0},{"$f":"S17-S25","v":0},{"$f":"T17-T25","v":0},{"$f":"U17-U25","v":0},{"$f":"V17-V25","v":0},{"$f":"W17-W25","v":0},{"$f":"X17-X25","v":0},{"$f":"Y17-Y25","v":0},{"$f":"Z17-Z25","v":0},{"$f":"AA17-AA25","v":0},{"$f":"AB17-AB25","v":0},{"$f":"AC17-AC25","v":0},{"$f":"AD17-AD25","v":0},{"$f":"AE17-AE25","v":0},{"$f":"AF17-AF25","v":0},{"$f":"AG17-AG25","v":0},0,null,{"$f":"AJ17-AJ25","v":0},{"$f":"AK17-AK25","v":0},{"$f":"AL17-AL25","v":0},{"$f":"AM17-AM25","v":0},{"$f":"AN17-AN25","v":0},{"$f":"AO17-AO25","v":0},{"$f":"AP17-AP25","v":0},{"$f":"AQ17-AQ25","v":0},{"$f":"AR17-AR25","v":0},{"$f":"AS17-AS25","v":0},{"$f":"AT17-AT25","v":0},{"$f":"AU17-AU25","v":0},{"$f":"AV17-AV25","v":0},{"$f":"AW17-AW25","v":0},{"$f":"AX17-AX25","v":0},{"$f":"AY17-AY25","v":0},{"$f":"AZ17-AZ25","v":0},{"$f":"BA17-BA25","v":0},{"$f":"BB17-BB25","v":0},{"$f":"BC17-BC25","v":0},{"$f":"BD17-BD25","v":0},{"$f":"BE17-BE25","v":0},{"$f":"BF17-BF25","v":0},{"$f":"BG17-BG25","v":0},{"$f":"BH17-BH25","v":0},{"$f":"BI17-BI25","v":0},{"$f":"BJ17-BJ25","v":0},{"$f":"BK17-BK25","v":0},0,null,{"$f":"BN17-BN25","v":0},{"$f":"BO17-BO25","v":0},{"$f":"BP17-BP25","v":0},{"$f":"BQ17-BQ25","v":0},{"$f":"BR17-BR25","v":0},{"$f":"BS17-BS25","v":0},{"$f":"BT17-BT25","v":0},{"$f":"BU17-BU25","v":0},{"$f":"BV17-BV25","v":0},{"$f":"BW17-BW25","v":0},{"$f":"BX17-BX25","v":0},{"$f":"BY17-BY25","v":0},{"$f":"BZ17-BZ25","v":0},{"$f":"CA17-CA25","v":0},{"$f":"CB17-CB25","v":0},{"$f":"CC17-CC25","v":0},{"$f":"CD17-CD25","v":0},{"$f":"CE17-CE25","v":0},{"$f":"CF17-CF25","v":0},{"$f":"CG17-CG25","v":0},{"$f":"CH17-CH25","v":0},{"$f":"CI17-CI25","v":0},{"$f":"CJ17-CJ25","v":0},{"$f":"CK17-CK25","v":0},{"$f":"CL17-CL25","v":0},{"$f":"CM17-CM25","v":0},{"$f":"CN17-CN25","v":0},{"$f":"CO17-CO25","v":0},{"$f":"CP17-CP25","v":0},{"$f":"CQ17-CQ25","v":0},{"$f":"CR17-CR25","v":0},0,null,{"$f":"CU17-CU25","v":0},{"$f":"CV17-CV25","v":0},{"$f":"CW17-CW25","v":0},{"$f":"CX17-CX25","v":0},{"$f":"CY17-CY25","v":0},{"$f":"CZ17-CZ25","v":0},{"$f":"DA17-DA25","v":0},{"$f":"DB17-DB25","v":0},{"$f":"DC17-DC25","v":0},{"$f":"DD17-DD25","v":0},{"$f":"DE17-DE25","v":0},{"$f":"DF17-DF25","v":0},{"$f":"DG17-DG25","v":0},{"$f":"DH17-DH25","v":0},{"$f":"DI17-DI25","v":0},{"$f":"DJ17-DJ25","v":0},{"$f":"DK17-DK25","v":0},{"$f":"DL17-DL25","v":0},{"$f":"DM17-DM25","v":0},{"$f":"DN17-DN25","v":0},{"$f":"DO17-DO25","v":0},{"$f":"DP17-DP25","v":0},{"$f":"DQ17-DQ25","v":0},{"$f":"DR17-DR25","v":0},{"$f":"DS17-DS25","v":0},{"$f":"DT17-DT25","v":0},{"$f":"DU17-DU25","v":0},{"$f":"DV17-DV25","v":0},{"$f":"DW17-DW25","v":0},{"$f":"DX17-DX25","v":0},0,null,{"$f":"EA17-EA25","v":0},{"$f":"EB17-EB25","v":0},{"$f":"EC17-EC25","v":0},{"$f":"ED17-ED25","v":0},{"$f":"EE17-EE25","v":0},{"$f":"EF17-EF25","v":0},{"$f":"EG17-EG25","v":0},{"$f":"EH17-EH25","v":0},{"$f":"EI17-EI25","v":0},{"$f":"EJ17-EJ25","v":0},{"$f":"EK17-EK25","v":0},{"$f":"EL17-EL25","v":0},{"$f":"EM17-EM25","v":0},{"$f":"EN17-EN25","v":0},{"$f":"EO17-EO25","v":0},{"$f":"EP17-EP25","v":0},{"$f":"EQ17-EQ25","v":0},{"$f":"ER17-ER25","v":0},{"$f":"ES17-ES25","v":0},{"$f":"ET17-ET25","v":0},{"$f":"EU17-EU25","v":0},{"$f":"EV17-EV25","v":0},{"$f":"EW17-EW25","v":0},{"$f":"EX17-EX25","v":0},{"$f":"EY17-EY25","v":0},{"$f":"EZ17-EZ25","v":0},{"$f":"FA17-FA25","v":0},{"$f":"FB17-FB25","v":0},{"$f":"FC17-FC25","v":0},{"$f":"FD17-FD25","v":0},{"$f":"FE17-FE25","v":0},0,null,{"$f":"FH17-FH25","v":0},{"$f":"FI17-FI25","v":0},{"$f":"FJ17-FJ25","v":0},{"$f":"FK17-FK25","v":0},{"$f":"FL17-FL25","v":0},{"$f":"FM17-FM25","v":0},{"$f":"FN17-FN25","v":0},{"$f":"FO17-FO25","v":0},{"$f":"FP17-FP25","v":0},{"$f":"FQ17-FQ25","v":0},{"$f":"FR17-FR25","v":0},{"$f":"FS17-FS25","v":0},{"$f":"FT17-FT25","v":0},{"$f":"FU17-FU25","v":0},{"$f":"FV17-FV25","v":0},{"$f":"FW17-FW25","v":0},{"$f":"FX17-FX25","v":0},{"$f":"FY17-FY25","v":0},{"$f":"FZ17-FZ25","v":0},{"$f":"GA17-GA25","v":0},{"$f":"GB17-GB25","v":0},{"$f":"GC17-GC25","v":0},{"$f":"GD17-GD25","v":0},{"$f":"GE17-GE25","v":0},{"$f":"GF17-GF25","v":0},{"$f":"GG17-GG25","v":0},{"$f":"GH17-GH25","v":0},{"$f":"GI17-GI25","v":0},{"$f":"GJ17-GJ25","v":0},{"$f":"GK17-GK25","v":0},0,null,{"$f":"GN17-GN25","v":0},{"$f":"GO17-GO25","v":0},{"$f":"GP17-GP25","v":0},{"$f":"GQ17-GQ25","v":0},{"$f":"GR17-GR25","v":0},{"$f":"GS17-GS25","v":0},{"$f":"GT17-GT25","v":0},{"$f":"GU17-GU25","v":0},{"$f":"GV17-GV25","v":0},{"$f":"GW17-GW25","v":0},{"$f":"GX17-GX25","v":0},{"$f":"GY17-GY25","v":0},{"$f":"GZ17-GZ25","v":0},{"$f":"HA17-HA25","v":0},{"$f":"HB17-HB25","v":0},{"$f":"HC17-HC25","v":0},{"$f":"HD17-HD25","v":0},{"$f":"HE17-HE25","v":0},{"$f":"HF17-HF25","v":0},{"$f":"HG17-HG25","v":0},{"$f":"HH17-HH25","v":0},{"$f":"HI17-HI25","v":0},{"$f":"HJ17-HJ25","v":0},{"$f":"HK17-HK25","v":0},{"$f":"HL17-HL25","v":0},{"$f":"HM17-HM25","v":0},{"$f":"HN17-HN25","v":0},{"$f":"HO17-HO25","v":0},{"$f":"HP17-HP25","v":0},{"$f":"HQ17-HQ25","v":0},{"$f":"HR17-HR25","v":0},0,null,{"$f":"HU17-HU25","v":0},{"$f":"HV17-HV25","v":0},{"$f":"HW17-HW25","v":0},{"$f":"HX17-HX25","v":0},{"$f":"HY17-HY25","v":0},{"$f":"HZ17-HZ25","v":0},{"$f":"IA17-IA25","v":0},{"$f":"IB17-IB25","v":0},{"$f":"IC17-IC25","v":0},{"$f":"ID17-ID25","v":0},{"$f":"IE17-IE25","v":0},{"$f":"IF17-IF25","v":0},{"$f":"IG17-IG25","v":0},{"$f":"IH17-IH25","v":0},{"$f":"II17-II25","v":0},{"$f":"IJ17-IJ25","v":0},{"$f":"IK17-IK25","v":0},{"$f":"IL17-IL25","v":0},{"$f":"IM17-IM25","v":0},{"$f":"IN17-IN25","v":0},{"$f":"IO17-IO25","v":0},{"$f":"IP17-IP25","v":0},{"$f":"IQ17-IQ25","v":0},{"$f":"IR17-IR25","v":0},{"$f":"IS17-IS25","v":0},{"$f":"IT17-IT25","v":0},{"$f":"IU17-IU25","v":0},{"$f":"IV17-IV25","v":0},{"$f":"IW17-IW25","v":0},{"$f":"IX17-IX25","v":0},{"$f":"IY17-IY25","v":0},0,null,{"$f":"JB17-JB25","v":0},{"$f":"JC17-JC25","v":0},{"$f":"JD17-JD25","v":0},{"$f":"JE17-JE25","v":0},{"$f":"JF17-JF25","v":0},{"$f":"JG17-JG25","v":0},{"$f":"JH17-JH25","v":0},{"$f":"JI17-JI25","v":0},{"$f":"JJ17-JJ25","v":0},{"$f":"JK17-JK25","v":0},{"$f":"JL17-JL25","v":0},{"$f":"JM17-JM25","v":0},{"$f":"JN17-JN25","v":0},{"$f":"JO17-JO25","v":0},{"$f":"JP17-JP25","v":0},{"$f":"JQ17-JQ25","v":0},{"$f":"JR17-JR25","v":0},{"$f":"JS17-JS25","v":0},{"$f":"JT17-JT25","v":0},{"$f":"JU17-JU25","v":0},{"$f":"JV17-JV25","v":0},{"$f":"JW17-JW25","v":0},{"$f":"JX17-JX25","v":0},{"$f":"JY17-JY25","v":0},{"$f":"JZ17-JZ25","v":0},{"$f":"KA17-KA25","v":0},{"$f":"KB17-KB25","v":0},{"$f":"KC17-KC25","v":0},{"$f":"KD17-KD25","v":0},{"$f":"KE17-KE25","v":0},0,null,{"$f":"KH17-KH25","v":0},{"$f":"KI17-KI25","v":0},{"$f":"KJ17-KJ25","v":0},{"$f":"KK17-KK25","v":0},{"$f":"KL17-KL25","v":0},{"$f":"KM17-KM25","v":0},{"$f":"KN17-KN25","v":0},{"$f":"KO17-KO25","v":0},{"$f":"KP17-KP25","v":0},{"$f":"KQ17-KQ25","v":0},{"$f":"KR17-KR25","v":0},{"$f":"KS17-KS25","v":0},{"$f":"KT17-KT25","v":0},{"$f":"KU17-KU25","v":0},{"$f":"KV17-KV25","v":0},{"$f":"KW17-KW25","v":0},{"$f":"KX17-KX25","v":0},{"$f":"KY17-KY25","v":0},{"$f":"KZ17-KZ25","v":0},{"$f":"LA17-LA25","v":0},{"$f":"LB17-LB25","v":0},{"$f":"LC17-LC25","v":0},{"$f":"LD17-LD25","v":0},{"$f":"LE17-LE25","v":0},{"$f":"LF17-LF25","v":0},{"$f":"LG17-LG25","v":0},{"$f":"LH17-LH25","v":0},{"$f":"LI17-LI25","v":0},{"$f":"LJ17-LJ25","v":0},{"$f":"LK17-LK25","v":0},{"$f":"LL17-LL25","v":0},0,null,{"$f":"LO17-LO25","v":0},{"$f":"LP17-LP25","v":0},{"$f":"LQ17-LQ25","v":0},{"$f":"LR17-LR25","v":0},{"$f":"LS17-LS25","v":0},{"$f":"LT17-LT25","v":0},{"$f":"LU17-LU25","v":0},{"$f":"LV17-LV25","v":0},{"$f":"LW17-LW25","v":0},{"$f":"LX17-LX25","v":0},{"$f":"LY17-LY25","v":0},{"$f":"LZ17-LZ25","v":0},{"$f":"MA17-MA25","v":0},{"$f":"MB17-MB25","v":0},{"$f":"MC17-MC25","v":0},{"$f":"MD17-MD25","v":0},{"$f":"ME17-ME25","v":0},{"$f":"MF17-MF25","v":0},{"$f":"MG17-MG25","v":0},{"$f":"MH17-MH25","v":0},{"$f":"MI17-MI25","v":0},{"$f":"MJ17-MJ25","v":0},{"$f":"MK17-MK25","v":0},{"$f":"ML17-ML25","v":0},{"$f":"MM17-MM25","v":0},{"$f":"MN17-MN25","v":0},{"$f":"MO17-MO25","v":0},{"$f":"MP17-MP25","v":0},{"$f":"MQ17-MQ25","v":0},{"$f":"MR17-MR25","v":0},0,null,{"$f":"MU17-MU25","v":0},{"$f":"MV17-MV25","v":0},{"$f":"MW17-MW25","v":0},{"$f":"MX17-MX25","v":0},{"$f":"MY17-MY25","v":0},{"$f":"MZ17-MZ25","v":0},{"$f":"NA17-NA25","v":0},{"$f":"NB17-NB25","v":0},{"$f":"NC17-NC25","v":0},{"$f":"ND17-ND25","v":0},{"$f":"NE17-NE25","v":0},{"$f":"NF17-NF25","v":0},{"$f":"NG17-NG25","v":0},{"$f":"NH17-NH25","v":0},{"$f":"NI17-NI25","v":0},{"$f":"NJ17-NJ25","v":0},{"$f":"NK17-NK25","v":0},{"$f":"NL17-NL25","v":0},{"$f":"NM17-NM25","v":0},{"$f":"NN17-NN25","v":0},{"$f":"NO17-NO25","v":0},{"$f":"NP17-NP25","v":0},{"$f":"NQ17-NQ25","v":0},{"$f":"NR17-NR25","v":0},{"$f":"NS17-NS25","v":0},{"$f":"NT17-NT25","v":0},{"$f":"NU17-NU25","v":0},{"$f":"NV17-NV25","v":0},{"$f":"NW17-NW25","v":0},{"$f":"NX17-NX25","v":0},{"$f":"NY17-NY25","v":0},0,null,0]
["Station Platform Door Availability:",null,{"$f":"IF(C28=0,\"\",C37/C28)","v":""},{"$f":"IF(D28=0,\"\",D37/D28)","v":""},"",{"$f":"IF(F28=0,\"\",F37/F28)","v":""},{"$f":"IF(G28=0,\"\",G37/G28)","v":""},{"$f":"IF(H28=0,\"\",H37/H28)","v":""},{"$f":"IF(I28=0,\"\",I37/I28)","v":""},{"$f":"IF(J28=0,\"\",J37/J28)","v":""},{"$f":"IF(K28=0,\"\",K37/K28)","v":""},{"$f":"IF(L28=0,\"\",L37/L28)","v":""},{"$f":"IF(M28=0,\"\",M37/M28)","v":""},{"$f":"IF(N28=0,\"\",N37/N28)","v":""},{"$f":"IF(O28=0,\"\",O37/O28)","v":""},{"$f":"IF(P28=0,\"\",P37/P28)","v":""},{"$f":"IF(Q28=0,\"\",Q37/Q28)","v":""},{"$f":"IF(R28=0,\"\",R37/R28)","v":""},{"$f":"IF(S28=0,\"\",S37/S28)","v":""},{"$f":"IF(T28=0,\"\",T37/T28)","v":""},{"$f":"IF(U28=0,\"\",U37/U28)","v":""},{"$f":"IF(V28=0,\"\",V37/V28)","v":""},{"$f":"IF(W28=0,\"\",W37/W28)","v":""},{"$f":"IF(X28=0,\"\",X37/X28)","v":""},{"$f":"IF(Y28=0,\"\",Y37/Y28)","v":""},{"$f":"IF(Z28=0,\"\",Z37/Z28)","v":""},{"$f":"IF(AA28=0,\"\",AA37/AA28)","v":""},{"$f":"IF(AB28=0,\"\",AB37/AB28)","v":""},{"$f":"IF(AC28=0,\"\",AC37/AC28)","v":""},{"$f":"IF(AD28=0,\"\",AD37/AD28)","v":""},{"$f":"IF(AE28=0,\"\",AE37/AE28)","v":""},{"$f":"IF(AF28=0,\"\",AF37/AF28)","v":""},{"$f":"IF(AG28=0,\"\",AG37/AG28)","v":""},null,{"$f":"IF(AH28=0,\"\",AH37/AH28)","v":""},{"$f":"IF(AJ28=0,\"\",AJ37/AJ28)","v":""},{"$f":"IF(AK28=0,\"\",AK37/AK28)","v":""},{"$f":"IF(AL28=0,\"\",AL37/AL28)","v":""},{"$f":"IF(AM28=0,\"\",AM37/AM28)","v":""},{"$f":"IF(AN28=0,\"\",AN37/AN28)","v":""},{"$f":"IF(AO28=0,\"\",AO37/AO28)","v":""},{"$f":"IF(AP28=0,\"\",AP37/AP28)","v":""},{"$f":"IF(AQ28=0,\"\",AQ37/AQ28)","v":""},{"$f":"IF(AR28=0,\"\",AR37/AR28)","v":""},{"$f":"IF(AS28=0,\"\",AS37/AS28)","v":""},{"$f":"IF(AT28=0,\"\",AT37/AT28)","v":""},{"$f":"IF(AU28=0,\"\",AU37/AU28)","v":""},{"$f":"IF(AV28=0,\"\",AV37/AV28)","v":""},{"$f":"IF(AW28=0,\"\",AW37/AW28)","v":""},{"$f":"IF(AX28=0,\"\",AX37/AX28)","v":""},{"$f":"IF(AY28=0,\"\",AY37/AY28)","v":""},{"$f":"IF(AZ28=0,\"\",AZ37/AZ28)","v":""},{"$f":"IF(BA28=0,\"\",BA37/BA28)","v":""},{"$f":"IF(BB28=0,\"\",BB37/BB28)","v":""},{"$f":"IF(BC28=0,\"\",BC37/BC28)","v":""},{"$f":"IF(BD28=0,\"\",BD37/BD28)","v":""},{"$f":"IF(BE28=0,\"\",BE37/BE28)","v":""},{"$f":"IF(BF28=0,\"\",BF37/BF28)","v":""},{"$f":"IF(BG28=0,\"\",BG37/BG28)","v":""},{"$f":"IF(BH28=0,\"\",BH37/BH28)","v":""},{"$f":"IF(BI28=0,\"\",BI37/BI28)","v":""},{"$f":"IF(BJ28=0,\"\",BJ37/BJ28)","v":""},{"$f":"IF(BK28=0,\"\",BK37/BK28)","v":""},null,{"$f":"IF(BL28=0,\"\",BL37/BL28)","v":""},{"$f":"IF(BN28=0,\"\",BN37/BN28)","v":""},{"$f":"IF(BO28=0,\"\",BO37/BO28)","v":""},{"$f":"IF(BP28=0,\"\",BP37/BP28)","v":""},{"$f":"IF(BQ28=0,\"\",BQ37/BQ28)","v":""},{"$f":"IF(BR28=0,\"\",BR37/BR28)","v":""},{"$f":"IF(BS28=0,\"\",BS37/BS28)","v":""},{"$f":"IF(BT28=0,\"\",BT37/BT28)","v":""},{"$f":"IF(BU28=0,\"\",BU37/BU28)","v":""},{"$f":"IF(BV28=0,\"\",BV37/BV28)","v":""},{"$f":"IF(BW28=0,\"\",BW37/BW28)","v":""},{"$f":"IF(BX28=0,\"\",BX37/BX28)","v":""},{"$f":"IF(BY28=0,\"\",BY37/BY28)","v":""},{"$f":"IF(BZ28=0,\"\",BZ37/BZ28)","v":""},{"$f":"IF(CA28=0,\"\",CA37/CA28)","v":""},{"$f":"IF(CB28=0,\"\",CB37/CB28)","v":""},{"$f":"IF(CC28=0,\"\",CC37/CC28)","v":""},{"$f":"IF(CD28=0,\"\",CD37/CD28)","v":""},{"$f":"IF(CE28=0,\"\",CE37/CE28)","v":""},{"$f":"IF(CF28=0,\"\",CF37/CF28)","v":""},{"$f":"IF(CG28=0,\"\",CG37/CG28)","v":""},{"$f":"IF(CH28=0,\"\",CH37/CH28)","v":""},{"$f":"IF(CI28=0,\"\",CI37/CI28)","v":""},{"$f":"IF(CJ28=0,\"\",CJ37/CJ28)","v":""},{"$f":"IF(CK28=0,\"\",CK37/CK28)","v":""},{"$f":"IF(CL28=0,\"\",CL37/CL28)","v":""},{"$f":"IF(CM28=0,\"\",CM37/CM28)","v":""},{"$f":"IF(CN28=0,\"\",CN37/CN28)","v":""},{"$f":"IF(CO28=0,\"\",CO37/CO28)","v":""},{"$f":"IF(CP28=0,\"\",CP37/CP28)","v":""},{"$f":"IF(CQ28=0,\"\",CQ37/CQ28)","v":""},{"$f":"IF(CR28=0,\"\",CR37/CR28)","v":""},null,{"$f":"IF(CS28=0,\"\",CS37/CS28)","v":""},{"$f":"IF(CU28=0,\"\",CU37/CU28)","v":""},{"$f":"IF(CV28=0,\"\",CV37/CV28)","v":""},{"$f":"IF(CW28=0,\"\",CW37/CW28)","v":""},{"$f":"IF(CX28=0,\"\",CX37/CX28)","v":""},{"$f":"IF(CY28=0,\"\",CY37/CY28)","v":""},{"$f":"IF(CZ28=0,\"\",CZ37/CZ28)","v":""},{"$f":"IF(DA28=0,\"\",DA37/DA28)","v":""},{"$f":"IF(DB28=0,\"\",DB37/DB28)","v":""},{"$f":"IF(DC28=0,\"\",DC37/DC28)","v":""},{"$f":"IF(DD28=0,\"\",DD37/DD28)","v":""},{"$f":"IF(DE28=0,\"\",DE37/DE28)","v":""},{"$f":"IF(DF28=0,\"\",DF37/DF28)","v":""},{"$f":"IF(DG28=0,\"\",DG37/DG28)","v":""},{"$f":"IF(DH28=0,\"\",DH37/DH28)","v":""},{"$f":"IF(DI28=0,\"\",DI37/DI28)","v":""},{"$f":"IF(DJ28=0,\"\",DJ37/DJ28)","v":""},{"$f":"IF(DK28=0,\"\",DK37/DK28)","v":""},{"$f":"IF(DL28=0,\"\",DL37/DL28)","v":""},{"$f":"IF(DM28=0,\"\",DM37/DM28)","v":""},{"$f":"IF(DN28=0,\"\",DN37/DN28)","v":""},{"$f":"IF(DO28=0,\"\",DO37/DO28)","v":""},{"$f":"IF(DP28=0,\"\",DP37/DP28)","v":""},{"$f":"IF(DQ28=0,\"\",DQ37/DQ28)","v":""},{"$f":"IF(DR28=0,\"\",DR37/DR28)","v":""},{"$f":"IF(DS28=0,\"\",DS37/DS28)","v":""},{"$f":"IF(DT28=0,\"\",DT37/DT28)","v":""},{"$f":"IF(DU28=0,\"\",DU37/DU28)","v":""},{"$f":"IF(DV28=0,\"\",DV37/DV28)","v":""},{"$f":"IF(DW28=0,\"\",DW37/DW28)","v":""},{"$f":"IF(DX28=0,\"\",DX37/DX28)","v":""},null,{"$f":"IF(DY28=0,\"\",DY37/DY28)","v":""},{"$f":"IF(EA28=0,\"\",EA37/EA28)","v":""},{"$f":"IF(EB28=0,\"\",EB37/EB28)","v":""},{"$f":"IF(EC28=0,\"\",EC37/EC28)","v":""},{"$f":"IF(ED28=0,\"\",ED37/ED28)","v":""},{"$f":"IF(EE28=0,\"\",EE37/EE28)","v":""},{"$f":"IF(EF28=0,\"\",EF37/EF28)","v":""},{"$f":"IF(EG28=0,\"\",EG37/EG28)","v":""},{"$f":"IF(EH28=0,\"\",EH37/EH28)","v":""},{"$f":"IF(EI28=0,\"\",EI37/EI28)","v":""},{"$f":"IF(EJ28=0,\"\",EJ37/EJ28)","v":""},{"$f":"IF(EK28=0,\"\",EK37/EK28)","v":""},{"$f":"IF(EL28=0,\"\",EL37/EL28)","v":""},{"$f":"IF(EM28=0,\"\",EM37/EM28)","v":""},{"$f":"IF(EN28=0,\"\",EN37/EN28)","v":""},{"$f":"IF(EO28=0,\"\",EO37/EO28)","v":""},{"$f":"IF(EP28=0,\"\",EP37/EP28)","v":""},{"$f":"IF(EQ28=0,\"\",EQ37/EQ28)","v":""},{"$f":"IF(ER28=0,\"\",ER37/ER28)","v":""},{"$f":"IF(ES28=0,\"\",ES37/ES28)","v":""},{"$f":"IF(ET28=0,\"\",ET37/ET28)","v":""},{"$f":"IF(EU28=0,\"\",EU37/EU28)","v":""},{"$f":"IF(EV28=0,\"\",EV37/EV28)","v":""},{"$f":"IF(EW28=0,\"\",EW37/EW28)","v":""},{"$f":"IF(EX28=0,\"\",EX37/EX28)","v":""},{"$f":"IF(EY28=0,\"\",EY37/EY28)","v":""},{"$f":"IF(EZ28=0,\"\",EZ37/EZ28)","v":""},{"$f":"IF(FA28=0,\"\",FA37/FA28)","v":""},{"$f":"IF(FB28=0,\"\",FB37/FB28)","v":""},{"$f":"IF(FC28=0,\"\",FC37/FC28)","v":""},{"$f":"IF(FD28=0,\"\",FD37/FD28)","v":""},{"$f":"IF(FE28=0,\"\",FE37/FE28)","v":""},null,{"$f":"IF(FF28=0,\"\",FF37/FF28)","v":""},{"$f":"IF(FH28=0,\"\",FH37/FH28)","v":""},{"$f":"IF(FI28=0,\"\",FI37/FI28)","v":""},{"$f":"IF(FJ28=0,\"\",FJ37/FJ28)","v":""},{"$f":"IF(FK28=0,\"\",FK37/FK28)","v":""},{"$f":"IF(FL28=0,\"\",FL37/FL28)","v":""},{"$f":"IF(FM28=0,\"\",FM37/FM28)","v":""},{"$f":"IF(FN28=0,\"\",FN37/FN28)","v":""},{"$f":"IF(FO28=0,\"\",FO37/FO28)","v":""},{"$f":"IF(FP28=0,\"\",FP37/FP28)","v":""},{"$f":"IF(FQ28=0,\"\",FQ37/FQ28)","v":""},{"$f":"IF(FR28=0,\"\",FR37/FR28)","v":""},{"$f":"IF(FS28=0,\"\",FS37/FS28)","v":""},{"$f":"IF(FT28=0,\"\",FT37/FT28)","v":""},{"$f":"IF(FU28=0,\"\",FU37/FU28)","v":""},{"$f":"IF(FV28=0,\"\",FV37/FV28)","v":""},{"$f":"IF(FW28=0,\"\",FW37/FW28)","v":""},{"$f":"IF(FX28=0,\"\",FX37/FX28)","v":""},{"$f":"IF(FY28=0,\"\",FY37/FY28)","v":""},{"$f":"IF(FZ28=0,\"\",FZ37/FZ28)","v":""},{"$f":"IF(GA28=0,\"\",GA37/GA28)","v":""},{"$f":"IF(GB28=0,\"\",GB37/GB28)","v":""},{"$f":"IF(GC28=0,\"\",GC37/GC28)","v":""},{"$f":"IF(GD28=0,\"\",GD37/GD28)","v":""},{"$f":"IF(GE28=0,\"\",GE37/GE28)","v":""},{"$f":"IF(GF28=0,\"\",GF37/GF28)","v":""},{"$f":"IF(GG28=0,\"\",GG37/GG28)","v":""},{"$f":"IF(GH28=0,\"\",GH37/GH28)","v":""},{"$f":"IF(GI28=0,\"\",GI37/GI28)","v":""},{"$f":"IF(GJ28=0,\"\",GJ37/GJ28)","v":""},{"$f":"IF(GK28=0,\"\",GK37/GK28)","v":""},null,{"$f":"IF(GL28=0,\"\",GL37/GL28)","v":""},{"$f":"IF(GN28=0,\"\",GN37/GN28)","v":""},{"$f":"IF(GO28=0,\"\",GO37/GO28)","v":""},{"$f":"IF(GP28=0,\"\",GP37/GP28)","v":""},{"$f":"IF(GQ28=0,\"\",GQ37/GQ28)","v":""},{"$f":"IF(GR28=0,\"\",GR37/GR28)","v":""},{"$f":"IF(GS28=0,\"\",GS37/GS28)","v":""},{"$f":"IF(GT28=0,\"\",GT37/GT28)","v":""},{"$f":"IF(GU28=0,\"\",GU37/GU28)","v":""},{"$f":"IF(GV28=0,\"\",GV37/GV28)","v":""},{"$f":"IF(GW28=0,\"\",GW37/GW28)","v":""},{"$f":"IF(GX28=0,\"\",GX37/GX28)","v":""},{"$f":"IF(GY28=0,\"\",GY37/GY28)","v":""},{"$f":"IF(GZ28=0,\"\",GZ37/GZ28)","v":""},{"$f":"IF(HA28=0,\"\",HA37/HA28)","v":""},{"$f":"IF(HB28=0,\"\",HB37/HB28)","v":""},{"$f":"IF(HC28=0,\"\",HC37/HC28)","v":""},{"$f":"IF(HD28=0,\"\",HD37/HD28)","v":""},{"$f":"IF(HE28=0,\"\",HE37/HE28)","v":""},{"$f":"IF(HF28=0,\"\",HF37/HF28)","v":""},{"$f":"IF(HG28=0,\"\",HG37/HG28)","v":""},{"$f":"IF(HH28=0,\"\",HH37/HH28)","v":""},{"$f":"IF(HI28=0,\"\",HI37/HI28)","v":""},{"$f":"IF(HJ28=0,\"\",HJ37/HJ28)","v":""},{"$f":"IF(HK28=0,\"\",HK37/HK28)","v":""},{"$f":"IF(HL28=0,\"\",HL37/HL28)","v":""},{"$f":"IF(HM28=0,\"\",HM37/HM28)","v":""},{"$f":"IF(HN28=0,\"\",HN37/HN28)","v":""},{"$f":"IF(HO28=0,\"\",HO37/HO28)","v":""},{"$f":"IF(HP28=0,\"\",HP37/HP28)","v":""},{"$f":"IF(HQ28=0,\"\",HQ37/HQ28)","v":""},{"$f":"IF(HR28=0,\"\",HR37/HR28)","v":""},null,{"$f":"IF(HS28=0,\"\",HS37/HS28)","v":""},{"$f":"IF(HU28=0,\"\",HU37/HU28)","v":""},{"$f":"IF(HV28=0,\"\",HV37/HV28)","v":""},{"$f":"IF(HW28=0,\"\",HW37/HW28)","v":""},{"$f":"IF(HX28=0,\"\",HX37/HX28)","v":""},{"$f":"IF(HY28=0,\"\",HY37/HY28)","v":""},{"$f":"IF(HZ28=0,\"\",HZ37/HZ28)","v":""},{"$f":"IF(IA28=0,\"\",IA37/IA28)","v":""},{"$f":"IF(IB28=0,\"\",IB37/IB28)","v":""},{"$f":"IF(IC28=0,\"\",IC37/IC28)","v":""},{"$f":"IF(ID28=0,\"\",ID37/ID28)","v":""},{"$f":"IF(IE28=0,\"\",IE37/IE28)","v":""},{"$f":"IF(IF28=0,\"\",IF37/IF28)","v":""},{"$f":"IF(IG28=0,\"\",IG37/IG28)","v":""},{"$f":"IF(IH28=0,\"\",IH37/IH28)","v":""},{"$f":"IF(II28=0,\"\",II37/II28)","v":""},{"$f":"IF(IJ28=0,\"\",IJ37/IJ28)","v":""},{"$f":"IF(IK28=0,\"\",IK37/IK28)","v":""},{"$f":"IF(IL28=0,\"\",IL37/IL28)","v":""},{"$f":"IF(IM28=0,\"\",IM37/IM28)","v":""},{"$f":"IF(IN28=0,\"\",IN37/IN28)","v":""},{"$f":"IF(IO28=0,\"\",IO37/IO28)","v":""},{"$f":"IF(IP28=0,\"\",IP37/IP28)","v":""},{"$f":"IF(IQ28=0,\"\",IQ37/IQ28)","v":""},{"$f":"IF(IR28=0,\"\",IR37/IR28)","v":""},{"$f":"IF(IS28=0,\"\",IS37/IS28)","v":""},{"$f":"IF(IT28=0,\"\",IT37/IT28)","v":""},{"$f":"IF(IU28=0,\"\",IU37/IU28)","v":""},{"$f":"IF(IV28=0,\"\",IV37/IV28)","v":""},{"$f":"IF(IW28=0,\"\",IW37/IW28)","v":""},{"$f":"IF(IX28=0,\"\",IX37/IX28)","v":""},{"$f":"IF(IY28=0,\"\",IY37/IY28)","v":""},null,{"$f":"IF(IZ28=0,\"\",IZ37/IZ28)","v":""},{"$f":"IF(JB28=0,\"\",JB37/JB28)","v":""},{"$f":"IF(JC28=0,\"\",JC37/JC28)","v":""},{"$f":"IF(JD28=0,\"\",JD37/JD28)","v":""},{"$f":"IF(JE28=0,\"\",JE37/JE28)","v":""},{"$f":"IF(JF28=0,\"\",JF37/JF28)","v":""},{"$f":"IF(JG28=0,\"\",JG37/JG28)","v":""},{"$f":"IF(JH28=0,\"\",JH37/JH28)","v":""},{"$f":"IF(JI28=0,\"\",JI37/JI28)","v":""},{"$f":"IF(JJ28=0,\"\",JJ37/JJ28)","v":""},{"$f":"IF(JK28=0,\"\",JK37/JK28)","v":""},{"$f":"IF(JL28=0,\"\",JL37/JL28)","v":""},{"$f":"IF(JM28=0,\"\",JM37/JM28)","v":""},{"$f":"IF(JN28=0,\"\",JN37/JN28)","v":""},{"$f":"IF(JO28=0,\"\",JO37/JO28)","v":""},{"$f":"IF(JP28=0,\"\",JP37/JP28)","v":""},{"$f":"IF(JQ28=0,\"\",JQ37/JQ28)","v":""},{"$f":"IF(JR28=0,\"\",JR37/JR28)","v":""},{"$f":"IF(JS28=0,\"\",JS37/JS28)","v":""},{"$f":"IF(JT28=0,\"\",JT37/JT28)","v":""},{"$f":"IF(JU28=0,\"\",JU37/JU28)","v":""},{"$f":"IF(JV28=0,\"\",JV37/JV28)","v":""},{"$f":"IF(JW28=0,\"\",JW37/JW28)","v":""},{"$f":"IF(JX28=0,\"\",JX37/JX28)","v":""},{"$f":"IF(JY28=0,\"\",JY37/JY28)","v":""},{"$f":"IF(JZ28=0,\"\",JZ37/JZ28)","v":""},{"$f":"IF(KA28=0,\"\",KA37/KA28)","v":""},{"$f":"IF(KB28=0,\"\",KB37/KB28)","v":""},{"$f":"IF(KC28=0,\"\",KC37/KC28)","v":""},{"$f":"IF(KD28=0,\"\",KD37/KD28)","v":""},{"$f":"IF(KE28=0,\"\",KE37/KE28)","v":""},null,{"$f":"IF(KF28=0,\"\",KF37/KF28)","v":""},{"$f":"IF(KH28=0,\"\",KH37/KH28)","v":""},{"$f":"IF(KI28=0,\"\",KI37/KI28)","v":""},{"$f":"IF(KJ28=0,\"\",KJ37/KJ28)","v":""},{"$f":"IF(KK28=0,\"\",KK37/KK28)","v":""},{"$f":"IF(KL28=0,\"\",KL37/KL28)","v":""},{"$f":"IF(KM28=0,\"\",KM37/KM28)","v":""},{"$f":"IF(KN28=0,\"\",KN37/KN28)","v":""},{"$f":"IF(KO28=0,\"\",KO37/KO28)","v":""},{"$f":"IF(KP28=0,\"\",KP37/KP28)","v":""},{"$f":"IF(KQ28=0,\"\",KQ37/KQ28)","v":""},{"$f":"IF(KR28=0,\"\",KR37/KR28)","v":""},{"$f":"IF(KS28=0,\"\",KS37/KS28)","v":""},{"$f":"IF(KT28=0,\"\",KT37/KT28)","v":""},{"$f":"IF(KU28=0,\"\",KU37/KU28)","v":""},{"$f":"IF(KV28=0,\"\",KV37/KV28)","v":""},{"$f":"IF(KW28=0,\"\",KW37/KW28)","v":""},{"$f":"IF(KX28=0,\"\",KX37/KX28)","v":""},{"$f":"IF(KY28=0,\"\",KY37/KY28)","v":""},{"$f":"IF(KZ28=0,\"\",KZ37/KZ28)","v":""},{"$f":"IF(LA28=0,\"\",LA37/LA28)","v":""},{"$f":"IF(LB28=0,\"\",LB37/LB28)","v":""},{"$f":"IF(LC28=0,\"\",LC37/LC28)","v":""},{"$f":"IF(LD28=0,\"\",LD37/LD28)","v":""},{"$f":"IF(LE28=0,\"\",LE37/LE28)","v":""},{"$f":"IF(LF28=0,\"\",LF37/LF28)","v":""},{"$f":"IF(LG28=0,\"\",LG37/LG28)","v":""},{"$f":"IF(LH28=0,\"\",LH37/LH28)","v":""},{"$f":"IF(LI28=0,\"\",LI37/LI28)","v":""},{"$f":"IF(LJ28=0,\"\",LJ37/LJ28)","v":""},{"$f":"IF(LK28=0,\"\",LK37/LK28)","v":""},{"$f":"IF(LL28=0,\"\",LL37/LL28)","v":""},null,{"$f":"IF(LM28=0,\"\",LM37/LM28)","v":""},{"$f":"IF(LO28=0,\"\",LO37/LO28)","v":""},{"$f":"IF(LP28=0,\"\",LP37/LP28)","v":""},{"$f":"IF(LQ28=0,\"\",LQ37/LQ28)","v":""},{"$f":"IF(LR28=0,\"\",LR37/LR28)","v":""},{"$f":"IF(LS28=0,\"\",LS37/LS28)","v":""},{"$f":"IF(LT28=0,\"\",LT37/LT28)","v":""},{"$f":"IF(LU28=0,\"\",LU37/LU28)","v":""},{"$f":"IF(LV28=0,\"\",LV37/LV28)","v":""},{"$f":"IF(LW28=0,\"\",LW37/LW28)","v":""},{"$f":"IF(LX28=0,\"\",LX37/LX28)","v":""},{"$f":"IF(LY28=0,\"\",LY37/LY28)","v":""},{"$f":"IF(LZ28=0,\"\",LZ37/LZ28)","v":""},{"$f":"IF(MA28=0,\"\",MA37/MA28)","v":""},{"$f":"IF(MB28=0,\"\",MB37/MB28)","v":""},{"$f":"IF(MC28=0,\"\",MC37/MC28)","v":""},{"$f":"IF(MD28=0,\"\",MD37/MD28)","v":""},{"$f":"IF(ME28=0,\"\",ME37/ME28)","v":""},{"$f":"IF(MF28=0,\"\",MF37/MF28)","v":""},{"$f":"IF(MG28=0,\"\",MG37/MG28)","v":""},{"$f":"IF(MH28=0,\"\",MH37/MH28)","v":""},{"$f":"IF(MI28=0,\"\",MI37/MI28)","v":""},{"$f":"IF(MJ28=0,\"\",MJ37/MJ28)","v":""},{"$f":"IF(MK28=0,\"\",MK37/MK28)","v":""},{"$f":"IF(ML28=0,\"\",ML37/ML28)","v":""},{"$f":"IF(MM28=0,\"\",MM37/MM28)","v":""},{"$f":"IF(MN28=0,\"\",MN37/MN28)","v":""},{"$f":"IF(MO28=0,\"\",MO37/MO28)","v":""},{"$f":"IF(MP28=0,\"\",MP37/MP28)","v":""},{"$f":"IF(MQ28=0,\"\",MQ37/MQ28)","v":""},{"$f":"IF(MR28=0,\"\",MR37/MR28)","v":""},null,{"$f":"IF(MS28=0,\"\",MS37/MS28)","v":""},{"$f":"IF(MU28=0,\"\",MU37/MU28)","v":""},{"$f":"IF(MV28=0,\"\",MV37/MV28)","v":""},{"$f":"IF(MW28=0,\"\",MW37/MW28)","v":""},{"$f":"IF(MX28=0,\"\",MX37/MX28)","v":""},{"$f":"IF(MY28=0,\"\",MY37/MY28)","v":""},{"$f":"IF(MZ28=0,\"\",MZ37/MZ28)","v":""},{"$f":"IF(NA28=0,\"\",NA37/NA28)","v":""},{"$f":"IF(NB28=0,\"\",NB37/NB28)","v":""},{"$f":"IF(NC28=0,\"\",NC37/NC28)","v":""},{"$f":"IF(ND28=0,\"\",ND37/ND28)","v":""},{"$f":"IF(NE28=0,\"\",NE37/NE28)","v":""},{"$f":"IF(NF28=0,\"\",NF37/NF28)","v":""},{"$f":"IF(NG28=0,\"\",NG37/NG28)","v":""},{"$f":"IF(NH28=0,\"\",NH37/NH28)","v":""},{"$f":"IF(NI28=0,\"\",NI37/NI28)","v":""},{"$f":"IF(NJ28=0,\"\",NJ37/NJ28)","v":""},{"$f":"IF(NK28=0,\"\",NK37/NK28)","v":""},{"$f":"IF(NL28=0,\"\",NL37/NL28)","v":""},{"$f":"IF(NM28=0,\"\",NM37/NM28)","v":""},{"$f":"IF(NN28=0,\"\",NN37/NN28)","v":""},{"$f":"IF(NO28=0,\"\",NO37/NO28)","v":""},{"$f":"IF(NP28=0,\"\",NP37/NP28)","v":""},{"$f":"IF(NQ28=0,\"\",NQ37/NQ28)","v":""},{"$f":"IF(NR28=0,\"\",NR37/NR28)","v":""},{"$f":"IF(NS28=0,\"\",NS37/NS28)","v":""},{"$f":"IF(NT28=0,\"\",NT37/NT28)","v":""},{"$f":"IF(NU28=0,\"\",NU37/NU28)","v":""},{"$f":"IF(NV28=0,\"\",NV37/NV28)","v":""},{"$f":"IF(NW28=0,\"\",NW37/NW28)","v":""},{"$f":"IF(NX28=0,\"\",NX37/NX28)","v":""},{"$f":"IF(NY28=0,\"\",NY37/NY28)","v":""},null,{"$f":"IF(NZ28=0,\"\",NZ37/NZ28)","v":""},null,{"$f":"IF(OB28=0,\"\",OB37/OB28)","v":""}]
["SPDOT (seconds):",null,{"$f":"C4*3600","v":0},{"$f":"D4*3600","v":0},0,{"$f":"F4*3600","v":0},0,0,0,0,0,0,0,0,0,0,0,0,0,0,0,0,0,0,0,0,{"$f":"AA4*3600","v":0},0,0,0,0,{"$f":"AF4*3600","v":0},0,0,null,0,{"$f":"AK4*3600","v":0},0,0,0,0,0,0,0,0,0,0,0,0,0,0,0,0,0,0,0,0,0,0,0,0,0,0,0,null,0,0,0,0,0,0,0,0,0,0,0,0,0,0,0,0,0,0,0,0,0,0,0,0,0,0,0,0,0,0,0,0,null,0,0,0,0,0,0,{"$f":"DA4*3600","v":0},0,0,0,0,0,0,0,0,0,0,0,0,0,0,0,0,0,0,0,0,0,0,0,0,null,0,0,0,0,0,0,0,0,0,0,0,0,0,0,0,0,0,0,0,0,0,0,0,0,0,0,0,0,0,0,0,0,null,0,0,0,0,0,0,0,0,0,{"$f":"FQ4*3600","v":0},0,0,0,0,{"$f":"FV4*3600","v":0},0,0,0,0,0,0,0,0,0,0,0,0,0,0,0,0,null,0,0,0,0,0,0,0,0,0,0,0,0,0,0,0,0,0,0,0,0,0,0,0,0,0,0,0,0,0,0,0,0,null,0,0,0,0,0,0,0,0,0,0,0,0,0,0,0,0,0,{"$f":"IL4*3600","v":0},0,0,0,0,0,0,0,0,0,0,0,0,0,0,null,0,0,0,0,0,0,0,0,0,0,0,0,0,0,0,0,0,0,0,0,0,0,0,0,0,0,0,0,0,0,0,null,0,0,0,0,0,0,0,0,0,0,0,0,0,0,0,0,0,0,0,0,{"$f":"LB4*3600","v":0},0,0,0,0,0,{"$f":"LH4*3600","v":0},0,0,0,0,0,null,0,0,0,0,0,0,0,0,0,0,0,0,0,0,0,0,0,0,0,0,0,0,0,0,0,0,0,0,0,0,0,null,0,0,0,0,0,0,0,0,0,0,0,0,0,0,0,0,{"$f":"NK4*3600","v":0},0,0,0,0,0,0,0,0,0,0,0,0,0,0,0,null,0]
["DD\n(seconds)","Weather:",null,null,null,null,null,null,null,null,null,null,null,null,null,null,null,null,null,null,null,null,null,null,null,null,null,null,null,null,null,null,null,0,null,null,null,null,null,null,null,null,null,null,null,null,null,null,null,null,null,null,null,null,null,null,null,null,null,null,null,null,null,0,null,null,null,null,null,null,null,null,null,null,null,null,null,null,null,null,null,null,null,null,null,null,null,null,null,null,null,null,null,null,null,null,0,null,null,null,null,null,null,null,null,null,null,null,null,null,null,null,null,null,null,null,null,null,null,null,null,null,null,null,null,null,null,null,0,null,null,null,null,null,null,null,null,null,null,null,null,null,null,null,null,null,null,null,null,null,null,null,null,null,null,null,null,null,null,null,null,0,null,null,null,null,null,null,null,null,null,null,null,null,null,null,null,null,null,null,null,null,null,null,null,null,null,null,null,null,null,null,null,0,null,null,null,null,null,null,null,null,null,null,null,null,null,null,null,null,null,null,null,null,null,null,null,null,null,null,null,null,null,null,null,null,0,null,null,null,null,null,null,null,null,null,null,null,null,null,null,null,null,null,null,null,null,null,null,null,null,null,null,null,null,null,null,null,null,0,null,null,null,null,null,null,null,null,null,null,null,null,null,null,null,null,null,null,null,null,null,null,null,null,null,null,null,null,null,null,null,0,null,null,null,null,null,null,null,null,null,null,null,null,null,null,null,null,null,null,null,null,null,null,null,null,null,null,null,null,null,null,null,null,0,null,null,null,null,null,null,null,null,null,null,null,null,null,null,null,null,null,null,null,null,null,null,null,null,null,null,null,null,null,null,null,0,null,null,null,null,null,null,null,null,null,null,null,null,null,null,null,null,null,null,null,null,null,null,null,null,null,null,null,null,null,null,null,null,0,null,0]
[null,"Passenger:",null,null,null,null,null,null,null,null,null,null,null,null,null,null,null,null,null,null,null,null,null,null,null,null,null,null,null,null,null,null,null,0,null,null,null,null,null,null,null,null,null,null,null,null,null,null,null,null,null,null,null,null,null,null,null,null,null,null,null,null,null,0,null,null,null,null,null,null,null,null,null,null,null,null,null,null,null,null,null,null,null,null,null,null,null,null,null,null,null,null,null,null,null,null,0,null,null,null,null,null,null,null,null,null,null,null,null,null,null,null,null,null,null,null,null,null,null,null,null,null,null,null,null,null,null,null,0,null,null,null,null,null,null,null,null,null,null,null,null,null,null,null,null,null,null,null,null,null,null,null,null,null,null,null,null,null,null,null,null,0,null,null,null,null,null,null,null,null,null,null,null,null,null,null,null,null,null,null,null,null,null,null,null,null,null,null,null,null,null,null,null,0,null,null,null,null,null,null,null,null,null,null,null,null,null,null,null,null,null,null,null,null,null,null,null,null,null,null,null,null,null,null,null,null,0,null,null,null,null,null,null,null,null,null,null,null,null,null,null,null,null,null,null,null,null,null,null,null,null,null,null,null,null,null,null,null,null,0,null,null,null,null,null,null,null,null,null,null,null,null,null,null,null,null,null,null,null,null,null,null,null,null,null,null,null,null,null,null,null,0,null,null,null,null,null,null,null,null,null,null,null,null,null,null,null,null,null,null,null,null,null,null,null,null,null,null,null,null,null,null,null,null,0,null,null,null,null,null,null,null,null,null,null,null,null,null,null,null,null,null,null,null,null,null,null,null,null,null,null,null,null,null,null,null,0,null,null,null,null,null,null,null,null,null,null,null,null,null,null,null,null,null,null,null,null,null,null,null,null,null,null,null,null,null,null,null,null,0,null,0]
[null,"System Equipment:",null,null,null,null,null,null,null,null,null,null,null,null,null,null,null,null,null,null,null,null,null,null,null,null,null,null,null,null,null,null,null,0,null,null,null,null,null,null,null,null,null,null,null,null,null,null,null,null,null,null,null,null,null,null,null,null,null,null,null,null,null,0,null,null,null,null,null,null,null,null,null,null,null,null,null,null,null,null,null,null,null,null,null,null,null,null,null,null,null,null,null,null,null,null,0,null,null,null,null,null,null,null,null,null,null,null,null,null,null,null,null,null,null,null,null,null,null,null,null,null,null,null,null,null,null,null,0,null,null,null,null,null,null,null,null,null,null,null,null,null,null,null,null,null,null,null,null,null,null,null,null,null,null,null,null,null,null,null,null,0,null,null,null,null,null,null,null,null,null,null,null,null,null,null,null,null,null,null,null,null,null,null,null,null,null,null,null,null,null,null,null,0,null,null,null,null,null,null,null,null,null,null,null,null,null,null,null,null,null,null,null,null,null,null,null,null,null,null,null,null,null,null,null,null,0,null,null,null,null,null,null,null,null,null,null,null,null,null,null,null,null,null,null,null,null,null,null,null,null,null,null,null,null,null,null,null,null,0,null,null,null,null,null,null,null,null,null,null,null,null,null,null,null,null,null,null,null,null,null,null,null,null,null,null,null,null,null,null,null,0,null,null,null,null,null,null,null,null,null,null,null,null,null,null,null,null,null,null,null,null,null,null,null,null,null,null,null,null,null,null,null,null,0,null,null,null,null,null,null,null,null,null,null,null,null,null,null,null,null,null,null,null,null,null,null,null,null,null,null,null,null,null,null,null,0,null,null,null,null,null,null,null,null,null,null,null,null,null,null,null,null,null,null,null,null,null,null,null,null,null,null,null,null,null,null,null,null,0,null,0]
[null,"Facilities:",null,null,null,null,null,null,null,null,null,null,null,null,null,null,null,null,null,null,null,null,null,null,null,null,null,null,null,null,null,null,null,0,null,null,null,null,null,null,null,null,null,null,null,null,null,null,null,null,null,null,null,null,null,null,null,null,null,null,null,null,null,0,null,null,null,null,null,null,null,null,null,null,null,null,null,null,null,null,null,null,null,null,null,null,null,null,null,null,null,null,null,null,null,null,0,null,null,null,null,null,null,null,null,null,null,null,null,null,null,null,null,null,null,null,null,null,null,null,null,null,null,null,null,null,null,null,0,null,null,null,null,null,null,null,null,null,null,null,null,null,null,null,null,null,null,null,null,null,null,null,null,null,null,null,null,null,null,null,null,0,null,null,null,null,null,null,null,null,null,null,null,null,null,null,null,null,null,null,null,null,null,null,null,null,null,null,null,null,null,null,null,0,null,null,null,null,null,null,null,null,null,null,null,null,null,null,null,null,null,null,null,null,null,null,null,null,null,null,null,null,null,null,null,null,0,null,null,null,null,null,null,null,null,null,null,null,null,null,null,null,null,null,null,null,null,null,null,null,null,null,null,null,null,null,null,null,null,0,null,null,null,null,null,null,null,null,null,null,null,null,null,null,null,null,null,null,null,null,null,null,null,null,null,null,null,null,null,null,null,0,null,null,null,null,null,null,null,null,null,null,null,null,null,null,null,null,null,null,null,null,null,null,null,null,null,null,null,null,null,null,null,null,0,null,null,null,null,null,null,null,null,null,null,null,null,null,null,null,null,null,null,null,null,null,null,null,null,null,null,null,null,null,null,null,0,null,null,null,null,null,null,null,null,null,null,null,null,null,null,null,null,null,null,null,null,null,null,null,null,null,null,null,null,null,null,null,null,0,null,0]
[null,"Utility:",null,null,null,null,null,null,null,null,null,null,null,null,null,null,null,null,null,null,null,null,null,null,null,null,null,null,null,null,null,null,null,0,null,null,null,null,null,null,null,null,null,null,null,null,null,null,null,null,null,null,null,null,null,null,null,null,null,null,null,null,null,0,null,null,null,null,null,null,null,null,null,null,null,null,null,null,null,null,null,null,null,null,null,null,null,null,null,null,null,null,null,null,null,null,0,null,null,null,null,null,null,null,null,null,null,null,null,null,null,null,null,null,null,null,null,null,null,null,null,null,null,null,null,null,null,null,0,null,null,null,null,null,null,null,null,null,null,null,null,null,null,null,null,null,null,null,null,null,null,null,null,null,null,null,null,null,null,null,null,0,null,null,null,null,null,null,null,null,null,null,null,null,null,null,null,null,null,null,null,null,null,null,null,null,null,null,null,null,null,null,null,0,null,null,null,null,null,null,null,null,null,null,null,null,null,null,null,null,null,null,null,null,null,null,null,null,null,null,null,null,null,null,null,null,0,null,null,null,null,null,null,null,null,null,null,null,null,null,null,null,null,null,null,null,null,null,null,null,null,null,null,null,null,null,null,null,null,0,null,null,null,null,null,null,null,null,null,null,null,null,null,null,null,null,null,null,null,null,null,null,null,null,null,null,null,null,null,null,null,0,null,null,null,null,null,null,null,null,null,null,null,null,null,null,null,null,null,null,null,null,null,null,null,null,null,null,null,null,null,null,null,null,0,null,null,null,null,null,null,null,null,null,null,null,null,null,null,null,null,null,null,null,null,null,null,null,null,null,null,null,null,null,null,null,0,null,null,null,null,null,null,null,null,null,null,null,null,null,null,null,null,null,null,null,null,null,null,null,null,null,null,null,null,null,null,null,null,0,null,0]
[null,"O&M:",null,null,null,null,null,null,null,null,null,null,null,null,null,null,null,null,null,null,null,null,null,null,null,null,null,null,null,null,null,null,null,0,null,null,null,null,null,null,null,null,null,null,null,null,null,null,null,null,null,null,null,null,null,null,null,null,null,null,null,null,null,0,null,null,null,null,null,null,null,null,null,null,null,null,null,null,null,null,null,null,null,null,null,null,null,null,null,null,null,null,null,null,null,null,0,null,null,null,null,null,null,null,null,null,null,null,null,null,null,null,null,null,null,null,null,null,null,null,null,null,null,null,null,null,null,null,0,null,null,null,null,null,null,null,null,null,null,null,null,null,null,null,null,null,null,null,null,null,null,null,null,null,null,null,null,null,null,null,null,0,null,null,null,null,null,null,null,null,null,null,null,null,null,null,null,null,null,null,null,null,null,null,null,null,null,null,null,null,null,null,null,0,null,null,null,null,null,null,null,null,null,null,null,null,null,null,null,null,null,null,null,null,null,null,null,null,null,null,null,null,null,null,null,null,0,null,null,null,null,null,null,null,null,null,null,null,null,null,null,null,null,null,null,null,null,null,null,null,null,null,null,null,null,null,null,null,null,0,null,null,null,null,null,null,null,null,null,null,null,null,null,null,null,null,null,null,null,null,null,null,null,null,null,null,null,null,null,null,null,0,null,null,null,null,null,null,null,null,null,null,null,null,null,null,null,null,null,null,null,null,null,null,null,null,null,null,null,null,null,null,null,null,0,null,null,null,null,null,null,null,null,null,null,null,null,null,null,null,null,null,null,null,null,null,null,null,null,null,null,null,null,null,null,null,0,null,null,null,null,null,null,null,null,null,null,null,null,null,null,null,null,null,null,null,null,null,null,null,null,null,null,null,null,null,null,null,null,0,null,0]
[null,"Other:",null,null,null,null,null,null,null,null,null,null,null,null,null,null,null,null,null,null,null,null,null,null,null,null,null,null,null,null,null,null,null,0,null,null,null,null,null,null,null,null,null,null,null,null,null,null,null,null,null,null,null,null,null,null,null,null,null,null,null,null,null,0,null,null,null,null,null,null,null,null,null,null,null,null,null,null,null,null,null,null,null,null,null,null,null,null,null,null,null,null,null,null,null,null,0,null,null,null,null,null,null,null,null,null,null,null,null,null,null,null,null,null,null,null,null,null,null,null,null,null,null,null,null,null,null,null,0,null,null,null,null,null,null,null,null,null,null,null,null,null,null,null,null,null,null,null,null,null,null,null,null,null,null,null,null,null,null,null,null,0,null,null,null,null,null,null,null,null,null,null,null,null,null,null,null,null,null,null,null,null,null,null,null,null,null,null,null,null,null,null,null,0,null,null,null,null,null,null,null,null,null,null,null,null,null,null,null,null,null,null,null,null,null,null,null,null,null,null,null,null,null,null,null,null,0,null,null,null,null,null,null,null,null,null,null,null,null,null,null,null,null,null,null,null,null,null,null,null,null,null,null,null,null,null,null,null,null,0,null,null,null,null,null,null,null,null,null,null,null,null,null,null,null,null,null,null,null,null,null,null,null,null,null,null,null,null,null,null,null,0,null,null,null,null,null,null,null,null,null,null,null,null,null,null,null,null,null,null,null,null,null,null,null,null,null,null,null,null,null,null,null,null,0,null,null,null,null,null,null,null,null,null,null,null,null,null,null,null,null,null,null,null,null,null,null,null,null,null,null,null,null,null,null,null,0,null,null,null,null,null,null,null,null,null,null,null,null,null,null,null,null,null,null,null,null,null,null,null,null,null,null,null,null,null,null,null,null,0,null,0]
[null,"Total:",{"$f":"SUM(C29:C35)","v":0},{"$f":"SUM(D29:D35)","v":0},0,{"$f":"SUM(F29:F35)","v":0},{"$f":"SUM(G29:G35)","v":0},{"$f":"SUM(H29:H35)","v":0},{"$f":"SUM(I29:I35)","v":0},{"$f":"SUM(J29:J35)","v":0},{"$f":"SUM(K29:K35)","v":0},{"$f":"SUM(L29:L35)","v":0},{"$f":"SUM(M29:M35)","v":0},{"$f":"SUM(N29:N35)","v":0},{"$f":"SUM(O29:O35)","v":0},{"$f":"SUM(P29:P35)","v":0},{"$f":"SUM(Q29:Q35)","v":0},{"$f":"SUM(R29:R35)","v":0},{"$f":"SUM(S29:S35)","v":0},{"$f":"SUM(T29:T35)","v":0},{"$f":"SUM(U29:U35)","v":0},{"$f":"SUM(V29:V35)","v":0},{"$f":"SUM(W29:W35)","v":0},{"$f":"SUM(X29:X35)","v":0},{"$f":"SUM(Y29:Y35)","v":0},{"$f":"SUM(Z29:Z35)","v":0},{"$f":"SUM(AA29:AA35)","v":0},{"$f":"SUM(AB29:AB35)","v":0},{"$f":"SUM(AC29:AC35)","v":0},{"$f":"SUM(AD29:AD35)","v":0},{"$f":"SUM(AE29:AE35)","v":0},{"$f":"SUM(AF29:AF35)","v":0},{"$f":"SUM(AG29:AG35)","v":0},0,null,{"$f":"SUM(AJ29:AJ35)","v":0},{"$f":"SUM(AK29:AK35)","v":0},{"$f":"SUM(AL29:AL35)","v":0},{"$f":"SUM(AM29:AM35)","v":0},{"$f":"SUM(AN29:AN35)","v":0},{"$f":"SUM(AO29:AO35)","v":0},{"$f":"SUM(AP29:AP35)","v":0},{"$f":"SUM(AQ29:AQ35)","v":0},{"$f":"SUM(AR29:AR35)","v":0},{"$f":"SUM(AS29:AS35)","v":0},{"$f":"SUM(AT29:AT35)","v":0},{"$f":"SUM(AU29:AU35)","v":0},{"$f":"SUM(AV29:AV35)","v":0},{"$f":"SUM(AW29:AW35)","v":0},{"$f":"SUM(AX29:AX35)","v":0},{"$f":"SUM(AY29:AY35)","v":0},{"$f":"SUM(AZ29:AZ35)","v":0},{"$f":"SUM(BA29:BA35)","v":0},{"$f":"SUM(BB29:BB35)","v":0},{"$f":"SUM(BC29:BC35)","v":0},{"$f":"SUM(BD29:BD35)","v":0},{"$f":"SUM(BE29:BE35)","v":0},{"$f":"SUM(BF29:BF35)","v":0},{"$f":"SUM(BG29:BG35)","v":0},{"$f":"SUM(BH29:BH35)","v":0},{"$f":"SUM(BI29:BI35)","v":0},{"$f":"SUM(BJ29:BJ35)","v":0},{"$f":"SUM(BK29:BK35)","v":0},0,null,{"$f":"SUM(BN29:BN35)","v":0},{"$f":"SUM(BO29:BO35)","v":0},{"$f":"SUM(BP29:BP35)","v":0},{"$f":"SUM(BQ29:BQ35)","v":0},{"$f":"SUM(BR29:BR35)","v":0},{"$f":"SUM(BS29:BS35)","v":0},{"$f":"SUM(BT29:BT35)","v":0},{"$f":"SUM(BU29:BU35)","v":0},{"$f":"SUM(BV29:BV35)","v":0},{"$f":"SUM(BW29:BW35)","v":0},{"$f":"SUM(BX29:BX35)","v":0},{"$f":"SUM(BY29:BY35)","v":0},{"$f":"SUM(BZ29:BZ35)","v":0},{"$f":"SUM(CA29:CA35)","v":0},{"$f":"SUM(CB29:CB35)","v":0},{"$f":"SUM(CC29:CC35)","v":0},{"$f":"SUM(CD29:CD35)","v":0},{"$f":"SUM(CE29:CE35)","v":0},{"$f":"SUM(CF29:CF35)","v":0},{"$f":"SUM(CG29:CG35)","v":0},{"$f":"SUM(CH29:CH35)","v":0},{"$f":"SUM(CI29:CI35)","v":0},{"$f":"SUM(CJ29:CJ35)","v":0},{"$f":"SUM(CK29:CK35)","v":0},{"$f":"SUM(CL29:CL35)","v":0},{"$f":"SUM(CM29:CM35)","v":0},{"$f":"SUM(CN29:CN35)","v":0},{"$f":"SUM(CO29:CO35)","v":0},{"$f":"SUM(CP29:CP35)","v":0},{"$f":"SUM(CQ29:CQ35)","v":0},{"$f":"SUM(CR29:CR35)","v":0},0,null,{"$f":"SUM(CU29:CU35)","v":0},{"$f":"SUM(CV29:CV35)","v":0},{"$f":"SUM(CW29:CW35)","v":0},{"$f":"SUM(CX29:CX35)","v":0},{"$f":"SUM(CY29:CY35)","v":0},{"$f":"SUM(CZ29:CZ35)","v":0},{"$f":"SUM(DA29:DA35)","v":0},{"$f":"SUM(DB29:DB35)","v":0},{"$f":"SUM(DC29:DC35)","v":0},{"$f":"SUM(DD29:DD35)","v":0},{"$f":"SUM(DE29:DE35)","v":0},{"$f":"SUM(DF29:DF35)","v":0},{"$f":"SUM(DG29:DG35)","v":0},{"$f":"SUM(DH29:DH35)","v":0},{"$f":"SUM(DI29:DI35)","v":0},{"$f":"SUM(DJ29:DJ35)","v":0},{"$f":"SUM(DK29:DK35)","v":0},{"$f":"SUM(DL29:DL35)","v":0},{"$f":"SUM(DM29:DM35)","v":0},{"$f":"SUM(DN29:DN35)","v":0},{"$f":"SUM(DO29:DO35)","v":0},{"$f":"SUM(DP29:DP35)","v":0},{"$f":"SUM(DQ29:DQ35)","v":0},{"$f":"SUM(DR29:DR35)","v":0},{"$f":"SUM(DS29:DS35)","v":0},{"$f":"SUM(DT29:DT35)","v":0},{"$f":"SUM(DU29:DU35)","v":0},{"$f":"SUM(DV29:DV35)","v":0},{"$f":"SUM(DW29:DW35)","v":0},{"$f":"SUM(DX29:DX35)","v":0},0,null,{"$f":"SUM(EA29:EA35)","v":0},{"$f":"SUM(EB29:EB35)","v":0},{"$f":"SUM(EC29:EC35)","v":0},{"$f":"SUM(ED29:ED35)","v":0},{"$f":"SUM(EE29:EE35)","v":0},{"$f":"SUM(EF29:EF35)","v":0},{"$f":"SUM(EG29:EG35)","v":0},{"$f":"SUM(EH29:EH35)","v":0},{"$f":"SUM(EI29:EI35)","v":0},{"$f":"SUM(EJ29:EJ35)","v":0},{"$f":"SUM(EK29:EK35)","v":0},{"$f":"SUM(EL29:EL35)","v":0},{"$f":"SUM(EM29:EM35)","v":0},{"$f":"SUM(EN29:EN35)","v":0},{"$f":"SUM(EO29:EO35)","v":0},{"$f":"SUM(EP29:EP35)","v":0},{"$f":"SUM(EQ29:EQ35)","v":0},{"$f":"SUM(ER29:ER35)","v":0},{"$f":"SUM(ES29:ES35)","v":0},{"$f":"SUM(ET29:ET35)","v":0},{"$f":"SUM(EU29:EU35)","v":0},{"$f":"SUM(EV29:EV35)","v":0},{"$f":"SUM(EW29:EW35)","v":0},{"$f":"SUM(EX29:EX35)","v":0},{"$f":"SUM(EY29:EY35)","v":0},{"$f":"SUM(EZ29:EZ35)","v":0},{"$f":"SUM(FA29:FA35)","v":0},{"$f":"SUM(FB29:FB35)","v":0},{"$f":"SUM(FC29:FC35)","v":0},{"$f":"SUM(FD29:FD35)","v":0},{"$f":"SUM(FE29:FE35)","v":0},0,null,{"$f":"SUM(FH29:FH35)","v":0},{"$f":"SUM(FI29:FI35)","v":0},{"$f":"SUM(FJ29:FJ35)","v":0},{"$f":"SUM(FK29:FK35)","v":0},{"$f":"SUM(FL29:FL35)","v":0},{"$f":"SUM(FM29:FM35)","v":0},{"$f":"SUM(FN29:FN35)","v":0},{"$f":"SUM(FO29:FO35)","v":0},{"$f":"SUM(FP29:FP35)","v":0},{"$f":"SUM(FQ29:FQ35)","v":0},{"$f":"SUM(FR29:FR35)","v":0},{"$f":"SUM(FS29:FS35)","v":0},{"$f":"SUM(FT29:FT35)","v":0},{"$f":"SUM(FU29:FU35)","v":0},{"$f":"SUM(FV29:FV35)","v":0},{"$f":"SUM(FW29:FW35)","v":0},{"$f":"SUM(FX29:FX35)","v":0},{"$f":"SUM(FY29:FY35)","v":0},{"$f":"SUM(FZ29:FZ35)","v":0},{"$f":"SUM(GA29:GA35)","v":0},{"$f":"SUM(GB29:GB35)","v":0},{"$f":"SUM(GC29:GC35)","v":0},{"$f":"SUM(GD29:GD35)","v":0},{"$f":"SUM(GE29:GE35)","v":0},{"$f":"SUM(GF29:GF35)","v":0},{"$f":"SUM(GG29:GG35)","v":0},{"$f":"SUM(GH29:GH35)","v":0},{"$f":"SUM(GI29:GI35)","v":0},{"$f":"SUM(GJ29:GJ35)","v":0},{"$f":"SUM(GK29:GK35)","v":0},0,null,{"$f":"SUM(GN29:GN35)","v":0},{"$f":"SUM(GO29:GO35)","v":0},{"$f":"SUM(GP29:GP35)","v":0},{"$f":"SUM(GQ29:GQ35)","v":0},{"$f":"SUM(GR29:GR35)","v":0},{"$f":"SUM(GS29:GS35)","v":0},{"$f":"SUM(GT29:GT35)","v":0},{"$f":"SUM(GU29:GU35)","v":0},{"$f":"SUM(GV29:GV35)","v":0},{"$f":"SUM(GW29:GW35)","v":0},{"$f":"SUM(GX29:GX35)","v":0},{"$f":"SUM(GY29:GY35)","v":0},{"$f":"SUM(GZ29:GZ35)","v":0},{"$f":"SUM(HA29:HA35)","v":0},{"$f":"SUM(HB29:HB35)","v":0},{"$f":"SUM(HC29:HC35)","v":0},{"$f":"SUM(HD29:HD35)","v":0},{"$f":"SUM(HE29:HE35)","v":0},{"$f":"SUM(HF29:HF35)","v":0},{"$f":"SUM(HG29:HG35)","v":0},{"$f":"SUM(HH29:HH35)","v":0},{"$f":"SUM(HI29:HI35)","v":0},{"$f":"SUM(HJ29:HJ35)","v":0},{"$f":"SUM(HK29:HK35)","v":0},{"$f":"SUM(HL29:HL35)","v":0},{"$f":"SUM(HM29:HM35)","v":0},{"$f":"SUM(HN29:HN35)","v":0},{"$f":"SUM(HO29:HO35)","v":0},{"$f":"SUM(HP29:HP35)","v":0},{"$f":"SUM(HQ29:HQ35)","v":0},{"$f":"SUM(HR29:HR35)","v":0},0,null,{"$f":"SUM(HU29:HU35)","v":0},{"$f":"SUM(HV29:HV35)","v":0},{"$f":"SUM(HW29:HW35)","v":0},{"$f":"SUM(HX29:HX35)","v":0},{"$f":"SUM(HY29:HY35)","v":0},{"$f":"SUM(HZ29:HZ35)","v":0},{"$f":"SUM(IA29:IA35)","v":0},{"$f":"SUM(IB29:IB35)","v":0},{"$f":"SUM(IC29:IC35)","v":0},{"$f":"SUM(ID29:ID35)","v":0},{"$f":"SUM(IE29:IE35)","v":0},{"$f":"SUM(IF29:IF35)","v":0},{"$f":"SUM(IG29:IG35)","v":0},{"$f":"SUM(IH29:IH35)","v":0},{"$f":"SUM(II29:II35)","v":0},{"$f":"SUM(IJ29:IJ35)","v":0},{"$f":"SUM(IK29:IK35)","v":0},{"$f":"SUM(IL29:IL35)","v":0},{"$f":"SUM(IM29:IM35)","v":0},{"$f":"SUM(IN29:IN35)","v":0},{"$f":"SUM(IO29:IO35)","v":0},{"$f":"SUM(IP29:IP35)","v":0},{"$f":"SUM(IQ29:IQ35)","v":0},{"$f":"SUM(IR29:IR35)","v":0},{"$f":"SUM(IS29:IS35)","v":0},{"$f":"SUM(IT29:IT35)","v":0},{"$f":"SUM(IU29:IU35)","v":0},{"$f":"SUM(IV29:IV35)","v":0},{"$f":"SUM(IW29:IW35)","v":0},{"$f":"SUM(IX29:IX35)","v":0},{"$f":"SUM(IY29:IY35)","v":0},0,null,{"$f":"SUM(JB29:JB35)","v":0},{"$f":"SUM(JC29:JC35)","v":0},{"$f":"SUM(JD29:JD35)","v":0},{"$f":"SUM(JE29:JE35)","v":0},{"$f":"SUM(JF29:JF35)","v":0},{"$f":"SUM(JG29:JG35)","v":0},{"$f":"SUM(JH29:JH35)","v":0},{"$f":"SUM(JI29:JI35)","v":0},{"$f":"SUM(JJ29:JJ35)","v":0},{"$f":"SUM(JK29:JK35)","v":0},{"$f":"SUM(JL29:JL35)","v":0},{"$f":"SUM(JM29:JM35)","v":0},{"$f":"SUM(JN29:JN35)","v":0},{"$f":"SUM(JO29:JO35)","v":0},{"$f":"SUM(JP29:JP35)","v":0},{"$f":"SUM(JQ29:JQ35)","v":0},{"$f":"SUM(JR29:JR35)","v":0},{"$f":"SUM(JS29:JS35)","v":0},{"$f":"SUM(JT29:JT35)","v":0},{"$f":"SUM(JU29:JU35)","v":0},{"$f":"SUM(JV29:JV35)","v":0},{"$f":"SUM(JW29:JW35)","v":0},{"$f":"SUM(JX29:JX35)","v":0},{"$f":"SUM(JY29:JY35)","v":0},{"$f":"SUM(JZ29:JZ35)","v":0},{"$f":"SUM(KA29:KA35)","v":0},{"$f":"SUM(KB29:KB35)","v":0},{"$f":"SUM(KC29:KC35)","v":0},{"$f":"SUM(KD29:KD35)","v":0},{"$f":"SUM(KE29:KE35)","v":0},0,null,{"$f":"SUM(KH29:KH35)","v":0},{"$f":"SUM(KI29:KI35)","v":0},{"$f":"SUM(KJ29:KJ35)","v":0},{"$f":"SUM(KK29:KK35)","v":0},{"$f":"SUM(KL29:KL35)","v":0},{"$f":"SUM(KM29:KM35)","v":0},{"$f":"SUM(KN29:KN35)","v":0},{"$f":"SUM(KO29:KO35)","v":0},{"$f":"SUM(KP29:KP35)","v":0},{"$f":"SUM(KQ29:KQ35)","v":0},{"$f":"SUM(KR29:KR35)","v":0},{"$f":"SUM(KS29:KS35)","v":0},{"$f":"SUM(KT29:KT35)","v":0},{"$f":"SUM(KU29:KU35)","v":0},{"$f":"SUM(KV29:KV35)","v":0},{"$f":"SUM(KW29:KW35)","v":0},{"$f":"SUM(KX29:KX35)","v":0},{"$f":"SUM(KY29:KY35)","v":0},{"$f":"SUM(KZ29:KZ35)","v":0},{"$f":"SUM(LA29:LA35)","v":0},{"$f":"SUM(LB29:LB35)","v":0},{"$f":"SUM(LC29:LC35)","v":0},{"$f":"SUM(LD29:LD35)","v":0},{"$f":"SUM(LE29:LE35)","v":0},{"$f":"SUM(LF29:LF35)","v":0},{"$f":"SUM(LG29:LG35)","v":0},{"$f":"SUM(LH29:LH35)","v":0},{"$f":"SUM(LI29:LI35)","v":0},{"$f":"SUM(LJ29:LJ35)","v":0},{"$f":"SUM(LK29:LK35)","v":0},{"$f":"SUM(LL29:LL35)","v":0},0,null,{"$f":"SUM(LO29:LO35)","v":0},{"$f":"SUM(LP29:LP35)","v":0},{"$f":"SUM(LQ29:LQ35)","v":0},{"$f":"SUM(LR29:LR35)","v":0},{"$f":"SUM(LS29:LS35)","v":0},{"$f":"SUM(LT29:LT35)","v":0},{"$f":"SUM(LU29:LU35)","v":0},{"$f":"SUM(LV29:LV35)","v":0},{"$f":"SUM(LW29:LW35)","v":0},{"$f":"SUM(LX29:LX35)","v":0},{"$f":"SUM(LY29:LY35)","v":0},{"$f":"SUM(LZ29:LZ35)","v":0},{"$f":"SUM(MA29:MA35)","v":0},{"$f":"SUM(MB29:MB35)","v":0},{"$f":"SUM(MC29:MC35)","v":0},{"$f":"SUM(MD29:MD35)","v":0},{"$f":"SUM(ME29:ME35)","v":0},{"$f":"SUM(MF29:MF35)","v":0},{"$f":"SUM(MG29:MG35)","v":0},{"$f":"SUM(MH29:MH35)","v":0},{"$f":"SUM(MI29:MI35)","v":0},{"$f":"SUM(MJ29:MJ35)","v":0},{"$f":"SUM(MK29:MK35)","v":0},{"$f":"SUM(ML29:ML35)","v":0},{"$f":"SUM(MM29:MM35)","v":0},{"$f":"SUM(MN29:MN35)","v":0},{"$f":"SUM(MO29:MO35)","v":0},{"$f":"SUM(MP29:MP35)","v":0},{"$f":"SUM(MQ29:MQ35)","v":0},{"$f":"SUM(MR29:MR35)","v":0},0,null,{"$f":"SUM(MU29:MU35)","v":0},{"$f":"SUM(MV29:MV35)","v":0},{"$f":"SUM(MW29:MW35)","v":0},{"$f":"SUM(MX29:MX35)","v":0},{"$f":"SUM(MY29:MY35)","v":0},{"$f":"SUM(MZ29:MZ35)","v":0},{"$f":"SUM(NA29:NA35)","v":0},{"$f":"SUM(NB29:NB35)","v":0},{"$f":"SUM(NC29:NC35)","v":0},{"$f":"SUM(ND29:ND35)","v":0},{"$f":"SUM(NE29:NE35)","v":0},{"$f":"SUM(NF29:NF35)","v":0},{"$f":"SUM(NG29:NG35)","v":0},{"$f":"SUM(NH29:NH35)","v":0},{"$f":"SUM(NI29:NI35)","v":0},{"$f":"SUM(NJ29:NJ35)","v":0},{"$f":"SUM(NK29:NK35)","v":0},{"$f":"SUM(NL29:NL35)","v":0},{"$f":"SUM(NM29:NM35)","v":0},{"$f":"SUM(NN29:NN35)","v":0},{"$f":"SUM(NO29:NO35)","v":0},{"$f":"SUM(NP29:NP35)","v":0},{"$f":"SUM(NQ29:NQ35)","v":0},{"$f":"SUM(NR29:NR35)","v":0},{"$f":"SUM(NS29:NS35)","v":0},{"$f":"SUM(NT29:NT35)","v":0},{"$f":"SUM(NU29:NU35)","v":0},{"$f":"SUM(NV29:NV35)","v":0},{"$f":"SUM(NW29:NW35)","v":0},{"$f":"SUM(NX29:NX35)","v":0},{"$f":"SUM(NY29:NY35)","v":0},0,null,0]
["APDOT (seconds):",null,{"$f":"C28-C36","v":0},{"$f":"D28-D36","v":0},0,{"$f":"F28-F36","v":0},{"$f":"G28-G36","v":0},{"$f":"H28-H36","v":0},{"$f":"I28-I36","v":0},{"$f":"J28-J36","v":0},{"$f":"K28-K36","v":0},{"$f":"L28-L36","v":0},{"$f":"M28-M36","v":0},{"$f":"N28-N36","v":0},{"$f":"O28-O36","v":0},{"$f":"P28-P36","v":0},{"$f":"Q28-Q36","v":0},{"$f":"R28-R36","v":0},{"$f":"S28-S36","v":0},{"$f":"T28-T36","v":0},{"$f":"U28-U36","v":0},{"$f":"V28-V36","v":0},{"$f":"W28-W36","v":0},{"$f":"X28-X36","v":0},{"$f":"Y28-Y36","v":0},{"$f":"Z28-Z36","v":0},{"$f":"AA28-AA36","v":0},{"$f":"AB28-AB36","v":0},{"$f":"AC28-AC36","v":0},{"$f":"AD28-AD36","v":0},{"$f":"AE28-AE36","v":0},{"$f":"AF28-AF36","v":0},{"$f":"AG28-AG36","v":0},0,null,{"$f":"AJ28-AJ36","v":0},{"$f":"AK28-AK36","v":0},{"$f":"AL28-AL36","v":0},{"$f":"AM28-AM36","v":0},{"$f":"AN28-AN36","v":0},{"$f":"AO28-AO36","v":0},{"$f":"AP28-AP36","v":0},{"$f":"AQ28-AQ36","v":0},{"$f":"AR28-AR36","v":0},{"$f":"AS28-AS36","v":0},{"$f":"AT28-AT36","v":0},{"$f":"AU28-AU36","v":0},{"$f":"AV28-AV36","v":0},{"$f":"AW28-AW36","v":0},{"$f":"AX28-AX36","v":0},{"$f":"AY28-AY36","v":0},{"$f":"AZ28-AZ36","v":0},{"$f":"BA28-BA36","v":0},{"$f":"BB28-BB36","v":0},{"$f":"BC28-BC36","v":0},{"$f":"BD28-BD36","v":0},{"$f":"BE28-BE36","v":0},{"$f":"BF28-BF36","v":0},{"$f":"BG28-BG36","v":0},{"$f":"BH28-BH36","v":0},{"$f":"BI28-BI36","v":0},{"$f":"BJ28-BJ36","v":0},{"$f":"BK28-BK36","v":0},0,null,{"$f":"BN28-BN36","v":0},{"$f":"BO28-BO36","v":0},{"$f":"BP28-BP36","v":0},{"$f":"BQ28-BQ36","v":0},{"$f":"BR28-BR36","v":0},{"$f":"BS28-BS36","v":0},{"$f":"BT28-BT36","v":0},{"$f":"BU28-BU36","v":0},{"$f":"BV28-BV36","v":0},{"$f":"BW28-BW36","v":0},{"$f":"BX28-BX36","v":0},{"$f":"BY28-BY36","v":0},{"$f":"BZ28-BZ36","v":0},{"$f":"CA28-CA36","v":0},{"$f":"CB28-CB36","v":0},{"$f":"CC28-CC36","v":0},{"$f":"CD28-CD36","v":0},{"$f":"CE28-CE36","v":0},{"$f":"CF28-CF36","v":0},{"$f":"CG28-CG36","v":0},{"$f":"CH28-CH36","v":0},{"$f":"CI28-CI36","v":0},{"$f":"CJ28-CJ36","v":0},{"$f":"CK28-CK36","v":0},{"$f":"CL28-CL36","v":0},{"$f":"CM28-CM36","v":0},{"$f":"CN28-CN36","v":0},{"$f":"CO28-CO36","v":0},{"$f":"CP28-CP36","v":0},{"$f":"CQ28-CQ36","v":0},{"$f":"CR28-CR36","v":0},0,null,{"$f":"CU28-CU36","v":0},{"$f":"CV28-CV36","v":0},{"$f":"CW28-CW36","v":0},{"$f":"CX28-CX36","v":0},{"$f":"CY28-CY36","v":0},{"$f":"CZ28-CZ36","v":0},{"$f":"DA28-DA36","v":0},{"$f":"DB28-DB36","v":0},{"$f":"DC28-DC36","v":0},{"$f":"DD28-DD36","v":0},{"$f":"DE28-DE36","v":0},{"$f":"DF28-DF36","v":0},{"$f":"DG28-DG36","v":0},{"$f":"DH28-DH36","v":0},{"$f":"DI28-DI36","v":0},{"$f":"DJ28-DJ36","v":0},{"$f":"DK28-DK36","v":0},{"$f":"DL28-DL36","v":0},{"$f":"DM28-DM36","v":0},{"$f":"DN28-DN36","v":0},{"$f":"DO28-DO36","v":0},{"$f":"DP28-DP36","v":0},{"$f":"DQ28-DQ36","v":0},{"$f":"DR28-DR36","v":0},{"$f":"DS28-DS36","v":0},{"$f":"DT28-DT36","v":0},{"$f":"DU28-DU36","v":0},{"$f":"DV28-DV36","v":0},{"$f":"DW28-DW36","v":0},{"$f":"DX28-DX36","v":0},0,null,{"$f":"EA28-EA36","v":0},{"$f":"EB28-EB36","v":0},{"$f":"EC28-EC36","v":0},{"$f":"ED28-ED36","v":0},{"$f":"EE28-EE36","v":0},{"$f":"EF28-EF36","v":0},{"$f":"EG28-EG36","v":0},{"$f":"EH28-EH36","v":0},{"$f":"EI28-EI36","v":0},{"$f":"EJ28-EJ36","v":0},{"$f":"EK28-EK36","v":0},{"$f":"EL28-EL36","v":0},{"$f":"EM28-EM36","v":0},{"$f":"EN28-EN36","v":0},{"$f":"EO28-EO36","v":0},{"$f":"EP28-EP36","v":0},{"$f":"EQ28-EQ36","v":0},{"$f":"ER28-ER36","v":0},{"$f":"ES28-ES36","v":0},{"$f":"ET28-ET36","v":0},{"$f":"EU28-EU36","v":0},{"$f":"EV28-EV36","v":0},{"$f":"EW28-EW36","v":0},{"$f":"EX28-EX36","v":0},{"$f":"EY28-EY36","v":0},{"$f":"EZ28-EZ36","v":0},{"$f":"FA28-FA36","v":0},{"$f":"FB28-FB36","v":0},{"$f":"FC28-FC36","v":0},{"$f":"FD28-FD36","v":0},{"$f":"FE28-FE36","v":0},0,null,{"$f":"FH28-FH36","v":0},{"$f":"FI28-FI36","v":0},{"$f":"FJ28-FJ36","v":0},{"$f":"FK28-FK36","v":0},{"$f":"FL28-FL36","v":0},{"$f":"FM28-FM36","v":0},{"$f":"FN28-FN36","v":0},{"$f":"FO28-FO36","v":0},{"$f":"FP28-FP36","v":0},{"$f":"FQ28-FQ36","v":0},{"$f":"FR28-FR36","v":0},{"$f":"FS28-FS36","v":0},{"$f":"FT28-FT36","v":0},{"$f":"FU28-FU36","v":0},{"$f":"FV28-FV36","v":0},{"$f":"FW28-FW36","v":0},{"$f":"FX28-FX36","v":0},{"$f":"FY28-FY36","v":0},{"$f":"FZ28-FZ36","v":0},{"$f":"GA28-GA36","v":0},{"$f":"GB28-GB36","v":0},{"$f":"GC28-GC36","v":0},{"$f":"GD28-GD36","v":0},{"$f":"GE28-GE36","v":0},{"$f":"GF28-GF36","v":0},{"$f":"GG28-GG36","v":0},{"$f":"GH28-GH36","v":0},{"$f":"GI28-GI36","v":0},{"$f":"GJ28-GJ36","v":0},{"$f":"GK28-GK36","v":0},0,null,{"$f":"GN28-GN36","v":0},{"$f":"GO28-GO36","v":0},{"$f":"GP28-GP36","v":0},{"$f":"GQ28-GQ36","v":0},{"$f":"GR28-GR36","v":0},{"$f":"GS28-GS36","v":0},{"$f":"GT28-GT36","v":0},{"$f":"GU28-GU36","v":0},{"$f":"GV28-GV36","v":0},{"$f":"GW28-GW36","v":0},{"$f":"GX28-GX36","v":0},{"$f":"GY28-GY36","v":0},{"$f":"GZ28-GZ36","v":0},{"$f":"HA28-HA36","v":0},{"$f":"HB28-HB36","v":0},{"$f":"HC28-HC36","v":0},{"$f":"HD28-HD36","v":0},{"$f":"HE28-HE36","v":0},{"$f":"HF28-HF36","v":0},{"$f":"HG28-HG36","v":0},{"$f":"HH28-HH36","v":0},{"$f":"HI28-HI36","v":0},{"$f":"HJ28-HJ36","v":0},{"$f":"HK28-HK36","v":0},{"$f":"HL28-HL36","v":0},{"$f":"HM28-HM36","v":0},{"$f":"HN28-HN36","v":0},{"$f":"HO28-HO36","v":0},{"$f":"HP28-HP36","v":0},{"$f":"HQ28-HQ36","v":0},{"$f":"HR28-HR36","v":0},0,null,{"$f":"HU28-HU36","v":0},{"$f":"HV28-HV36","v":0},{"$f":"HW28-HW36","v":0},{"$f":"HX28-HX36","v":0},{"$f":"HY28-HY36","v":0},{"$f":"HZ28-HZ36","v":0},{"$f":"IA28-IA36","v":0},{"$f":"IB28-IB36","v":0},{"$f":"IC28-IC36","v":0},{"$f":"ID28-ID36","v":0},{"$f":"IE28-IE36","v":0},{"$f":"IF28-IF36","v":0},{"$f":"IG28-IG36","v":0},{"$f":"IH28-IH36","v":0},{"$f":"II28-II36","v":0},{"$f":"IJ28-IJ36","v":0},{"$f":"IK28-IK36","v":0},{"$f":"IL28-IL36","v":0},{"$f":"IM28-IM36","v":0},{"$f":"IN28-IN36","v":0},{"$f":"IO28-IO36","v":0},{"$f":"IP28-IP36","v":0},{"$f":"IQ28-IQ36","v":0},{"$f":"IR28-IR36","v":0},{"$f":"IS28-IS36","v":0},{"$f":"IT28-IT36","v":0},{"$f":"IU28-IU36","v":0},{"$f":"IV28-IV36","v":0},{"$f":"IW28-IW36","v":0},{"$f":"IX28-IX36","v":0},{"$f":"IY28-IY36","v":0},0,null,{"$f":"JB28-JB36","v":0},{"$f":"JC28-JC36","v":0},{"$f":"JD28-JD36","v":0},{"$f":"JE28-JE36","v":0},{"$f":"JF28-JF36","v":0},{"$f":"JG28-JG36","v":0},{"$f":"JH28-JH36","v":0},{"$f":"JI28-JI36","v":0},{"$f":"JJ28-JJ36","v":0},{"$f":"JK28-JK36","v":0},{"$f":"JL28-JL36","v":0},{"$f":"JM28-JM36","v":0},{"$f":"JN28-JN36","v":0},{"$f":"JO28-JO36","v":0},{"$f":"JP28-JP36","v":0},{"$f":"JQ28-JQ36","v":0},{"$f":"JR28-JR36","v":0},{"$f":"JS28-JS36","v":0},{"$f":"JT28-JT36","v":0},{"$f":"JU28-JU36","v":0},{"$f":"JV28-JV36","v":0},{"$f":"JW28-JW36","v":0},{"$f":"JX28-JX36","v":0},{"$f":"JY28-JY36","v":0},{"$f":"JZ28-JZ36","v":0},{"$f":"KA28-KA36","v":0},{"$f":"KB28-KB36","v":0},{"$f":"KC28-KC36","v":0},{"$f":"KD28-KD36","v":0},{"$f":"KE28-KE36","v":0},0,null,{"$f":"KH28-KH36","v":0},{"$f":"KI28-KI36","v":0},{"$f":"KJ28-KJ36","v":0},{"$f":"KK28-KK36","v":0},{"$f":"KL28-KL36","v":0},{"$f":"KM28-KM36","v":0},{"$f":"KN28-KN36","v":0},{"$f":"KO28-KO36","v":0},{"$f":"KP28-KP36","v":0},{"$f":"KQ28-KQ36","v":0},{"$f":"KR28-KR36","v":0},{"$f":"KS28-KS36","v":0},{"$f":"KT28-KT36","v":0},{"$f":"KU28-KU36","v":0},{"$f":"KV28-KV36","v":0},{"$f":"KW28-KW36","v":0},{"$f":"KX28-KX36","v":0},{"$f":"KY28-KY36","v":0},{"$f":"KZ28-KZ36","v":0},{"$f":"LA28-LA36","v":0},{"$f":"LB28-LB36","v":0},{"$f":"LC28-LC36","v":0},{"$f":"LD28-LD36","v":0},{"$f":"LE28-LE36","v":0},{"$f":"LF28-LF36","v":0},{"$f":"LG28-LG36","v":0},{"$f":"LH28-LH36","v":0},{"$f":"LI28-LI36","v":0},{"$f":"LJ28-LJ36","v":0},{"$f":"LK28-LK36","v":0},{"$f":"LL28-LL36","v":0},0,null,{"$f":"LO28-LO36","v":0},{"$f":"LP28-LP36","v":0},{"$f":"LQ28-LQ36","v":0},{"$f":"LR28-LR36","v":0},{"$f":"LS28-LS36","v":0},{"$f":"LT28-LT36","v":0},{"$f":"LU28-LU36","v":0},{"$f":"LV28-LV36","v":0},{"$f":"LW28-LW36","v":0},{"$f":"LX28-LX36","v":0},{"$f":"LY28-LY36","v":0},{"$f":"LZ28-LZ36","v":0},{"$f":"MA28-MA36","v":0},{"$f":"MB28-MB36","v":0},{"$f":"MC28-MC36","v":0},{"$f":"MD28-MD36","v":0},{"$f":"ME28-ME36","v":0},{"$f":"MF28-MF36","v":0},{"$f":"MG28-MG36","v":0},{"$f":"MH28-MH36","v":0},{"$f":"MI28-MI36","v":0},{"$f":"MJ28-MJ36","v":0},{"$f":"MK28-MK36","v":0},{"$f":"ML28-ML36","v":0},{"$f":"MM28-MM36","v":0},{"$f":"MN28-MN36","v":0},{"$f":"MO28-MO36","v":0},{"$f":"MP28-MP36","v":0},{"$f":"MQ28-MQ36","v":0},{"$f":"MR28-MR36","v":0},0,null,{"$f":"MU28-MU36","v":0},{"$f":"MV28-MV36","v":0},{"$f":"MW28-MW36","v":0},{"$f":"MX28-MX36","v":0},{"$f":"MY28-MY36","v":0},{"$f":"MZ28-MZ36","v":0},{"$f":"NA28-NA36","v":0},{"$f":"NB28-NB36","v":0},{"$f":"NC28-NC36","v":0},{"$f":"ND28-ND36","v":0},{"$f":"NE28-NE36","v":0},{"$f":"NF28-NF36","v":0},{"$f":"NG28-NG36","v":0},{"$f":"NH28-NH36","v":0},{"$f":"NI28-NI36","v":0},{"$f":"NJ28-NJ36","v":0},{"$f":"NK28-NK36","v":0},{"$f":"NL28-NL36","v":0},{"$f":"NM28-NM36","v":0},{"$f":"NN28-NN36","v":0},{"$f":"NO28-NO36","v":0},{"$f":"NP28-NP36","v":0},{"$f":"NQ28-NQ36","v":0},{"$f":"NR28-NR36","v":0},{"$f":"NS28-NS36","v":0},{"$f":"NT28-NT36","v":0},{"$f":"NU28-NU36","v":0},{"$f":"NV28-NV36","v":0},{"$f":"NW28-NW36","v":0},{"$f":"NX28-NX36","v":0},{"$f":"NY28-NY36","v":0},0,null,0]
["Time-Factored Service Availability:",null,{"$f":"IF(C4=0,\"\",C4*C5*C16*C27)","v":""},{"$f":"IF(D4=0,\"\",D4*D5*D16*D27)","v":""},"",{"$f":"IF(F4=0,\"\",F4*F5*F16*F27)","v":""},"","","","","","","","","","","","","","","","","","","","",{"$f":"IF(AA4=0,\"\",AA4*AA5*AA16*AA27)","v":""},"","","","",{"$f":"IF(AF4=0,\"\",AF4*AF5*AF16*AF27)","v":""},"",0,null,"",{"$f":"IF(AK4=0,\"\",AK4*AK5*AK16*AK27)","v":""},"","","","","","","","","","","","","","","","","","","","","","","","","","",0,null,"","","","","","","","","","","","","","","","","","","","","","","","","","","","","","","",0,null,"","","","","","",{"$f":"IF(DA4=0,\"\",DA4*DA5*DA16*DA27)","v":""},"","","","","","","","","","","","","","","","","","","","","","","",0,null,"","","","","","","","","","","","","","","","","","","","","","","","","","","","","","","",0,null,"","","","","","","","","",{"$f":"IF(FQ4=0,\"\",FQ4*FQ5*FQ16*FQ27)","v":""},"","","","",{"$f":"IF(FV4=0,\"\",FV4*FV5*FV16*FV27)","v":""},"","","","","","","","","","","","","","","",0,null,"","","","","","","","","","","","","","","","","","","","","","","","","","","","","","","",0,null,"","","","","","","","","","","","","","","","","",{"$f":"IF(IL4=0,\"\",IL4*IL5*IL16*IL27)","v":""},"","","","","","","","","","","","","",0,null,"","","","","","","","","","","","","","","","","","","","","","","","","","","","","","",0,null,"","","","","","","","","","","","","","","","","","","","",{"$f":"IF(LB4=0,\"\",LB4*LB5*LB16*LB27)","v":""},"","","","","",{"$f":"IF(LH4=0,\"\",LH4*LH5*LH16*LH27)","v":""},"","","","",0,null,"","","","","","","","","","","","","","","","","","","","","","","","","","","","","","",0,null,"","","","","","","","","","","","","","","","",{"$f":"IF(NK4=0,\"\",NK4*NK5*NK16*NK27)","v":""},"","","","","","","","","","","","","","",0,null,0]
["Service Availability (%):",null,{"$f":"IF(C4=0,\"\",C38/C4)","v":""},{"$f":"IF(D4=0,\"\",D38/D4)","v":""},"",{"$f":"IF(F4=0,\"\",F38/F4)","v":""},{"$f":"IF(G4=0,\"\",G38/G4)","v":""},{"$f":"IF(H4=0,\"\",H38/H4)","v":""},{"$f":"IF(I4=0,\"\",I38/I4)","v":""},{"$f":"IF(J4=0,\"\",J38/J4)","v":""},{"$f":"IF(K4=0,\"\",K38/K4)","v":""},{"$f":"IF(L4=0,\"\",L38/L4)","v":""},{"$f":"IF(M4=0,\"\",M38/M4)","v":""},{"$f":"IF(N4=0,\"\",N38/N4)","v":""},{"$f":"IF(O4=0,\"\",O38/O4)","v":""},{"$f":"IF(P4=0,\"\",P38/P4)","v":""},{"$f":"IF(Q4=0,\"\",Q38/Q4)","v":""},{"$f":"IF(R4=0,\"\",R38/R4)","v":""},{"$f":"IF(S4=0,\"\",S38/S4)","v":""},{"$f":"IF(T4=0,\"\",T38/T4)","v":""},{"$f":"IF(U4=0,\"\",U38/U4)","v":""},{"$f":"IF(V4=0,\"\",V38/V4)","v":""},{"$f":"IF(W4=0,\"\",W38/W4)","v":""},{"$f":"IF(X4=0,\"\",X38/X4)","v":""},{"$f":"IF(Y4=0,\"\",Y38/Y4)","v":""},{"$f":"IF(Z4=0,\"\",Z38/Z4)","v":""},{"$f":"IF(AA4=0,\"\",AA38/AA4)","v":""},{"$f":"IF(AB4=0,\"\",AB38/AB4)","v":""},{"$f":"IF(AC4=0,\"\",AC38/AC4)","v":""},{"$f":"IF(AD4=0,\"\",AD38/AD4)","v":""},{"$f":"IF(AE4=0,\"\",AE38/AE4)","v":""},{"$f":"IF(AF4=0,\"\",AF38/AF4)","v":""},{"$f":"IF(AG4=0,\"\",AG38/AG4)","v":""},null,{"$f":"IF(AH4=0,\"\",AH38/AH4)","v":""},{"$f":"IF(AJ4=0,\"\",AJ38/AJ4)","v":""},{"$f":"IF(AK4=0,\"\",AK38/AK4)","v":""},{"$f":"IF(AL4=0,\"\",AL38/AL4)","v":""},{"$f":"IF(AM4=0,\"\",AM38/AM4)","v":""},{"$f":"IF(AN4=0,\"\",AN38/AN4)","v":""},{"$f":"IF(AO4=0,\"\",AO38/AO4)","v":""},{"$f":"IF(AP4=0,\"\",AP38/AP4)","v":""},{"$f":"IF(AQ4=0,\"\",AQ38/AQ4)","v":""},{"$f":"IF(AR4=0,\"\",AR38/AR4)","v":""},{"$f":"IF(AS4=0,\"\",AS38/AS4)","v":""},{"$f":"IF(AT4=0,\"\",AT38/AT4)","v":""},{"$f":"IF(AU4=0,\"\",AU38/AU4)","v":""},{"$f":"IF(AV4=0,\"\",AV38/AV4)","v":""},{"$f":"IF(AW4=0,\"\",AW38/AW4)","v":""},{"$f":"IF(AX4=0,\"\",AX38/AX4)","v":""},{"$f":"IF(AY4=0,\"\",AY38/AY4)","v":""},{"$f":"IF(AZ4=0,\"\",AZ38/AZ4)","v":""},{"$f":"IF(BA4=0,\"\",BA38/BA4)","v":""},{"$f":"IF(BB4=0,\"\",BB38/BB4)","v":""},{"$f":"IF(BC4=0,\"\",BC38/BC4)","v":""},{"$f":"IF(BD4=0,\"\",BD38/BD4)","v":""},{"$f":"IF(BE4=0,\"\",BE38/BE4)","v":""},{"$f":"IF(BF4=0,\"\",BF38/BF4)","v":""},{"$f":"IF(BG4=0,\"\",BG38/BG4)","v":""},{"$f":"IF(BH4=0,\"\",BH38/BH4)","v":""},{"$f":"IF(BI4=0,\"\",BI38/BI4)","v":""},{"$f":"IF(BJ4=0,\"\",BJ38/BJ4)","v":""},{"$f":"IF(BK4=0,\"\",BK38/BK4)","v":""},null,{"$f":"IF(BL4=0,\"\",BL38/BL4)","v":""},{"$f":"IF(BN4=0,\"\",BN38/BN4)","v":""},{"$f":"IF(BO4=0,\"\",BO38/BO4)","v":""},{"$f":"IF(BP4=0,\"\",BP38/BP4)","v":""},{"$f":"IF(BQ4=0,\"\",BQ38/BQ4)","v":""},{"$f":"IF(BR4=0,\"\",BR38/BR4)","v":""},{"$f":"IF(BS4=0,\"\",BS38/BS4)","v":""},{"$f":"IF(BT4=0,\"\",BT38/BT4)","v":""},{"$f":"IF(BU4=0,\"\",BU38/BU4)","v":""},{"$f":"IF(BV4=0,\"\",BV38/BV4)","v":""},{"$f":"IF(BW4=0,\"\",BW38/BW4)","v":""},{"$f":"IF(BX4=0,\"\",BX38/BX4)","v":""},{"$f":"IF(BY4=0,\"\",BY38/BY4)","v":""},{"$f":"IF(BZ4=0,\"\",BZ38/BZ4)","v":""},{"$f":"IF(CA4=0,\"\",CA38/CA4)","v":""},{"$f":"IF(CB4=0,\"\",CB38/CB4)","v":""},{"$f":"IF(CC4=0,\"\",CC38/CC4)","v":""},{"$f":"IF(CD4=0,\"\",CD38/CD4)","v":""},{"$f":"IF(CE4=0,\"\",CE38/CE4)","v":""},{"$f":"IF(CF4=0,\"\",CF38/CF4)","v":""},{"$f":"IF(CG4=0,\"\",CG38/CG4)","v":""},{"$f":"IF(CH4=0,\"\",CH38/CH4)","v":""},{"$f":"IF(CI4=0,\"\",CI38/CI4)","v":""},{"$f":"IF(CJ4=0,\"\",CJ38/CJ4)","v":""},{"$f":"IF(CK4=0,\"\",CK38/CK4)","v":""},{"$f":"IF(CL4=0,\"\",CL38/CL4)","v":""},{"$f":"IF(CM4=0,\"\",CM38/CM4)","v":""},{"$f":"IF(CN4=0,\"\",CN38/CN4)","v":""},{"$f":"IF(CO4=0,\"\",CO38/CO4)","v":""},{"$f":"IF(CP4=0,\"\",CP38/CP4)","v":""},{"$f":"IF(CQ4=0,\"\",CQ38/CQ4)","v":""},{"$f":"IF(CR4=0,\"\",CR38/CR4)","v":""},null,{"$f":"IF(CS4=0,\"\",CS38/CS4)","v":""},{"$f":"IF(CU4=0,\"\",CU38/CU4)","v":""},{"$f":"IF(CV4=0,\"\",CV38/CV4)","v":""},{"$f":"IF(CW4=0,\"\",CW38/CW4)","v":""},{"$f":"IF(CX4=0,\"\",CX38/CX4)","v":""},{"$f":"IF(CY4=0,\"\",CY38/CY4)","v":""},{"$f":"IF(CZ4=0,\"\",CZ38/CZ4)","v":""},{"$f":"IF(DA4=0,\"\",DA38/DA4)","v":""},{"$f":"IF(DB4=0,\"\",DB38/DB4)","v":""},{"$f":"IF(DC4=0,\"\",DC38/DC4)","v":""},{"$f":"IF(DD4=0,\"\",DD38/DD4)","v":""},{"$f":"IF(DE4=0,\"\",DE38/DE4)","v":""},{"$f":"IF(DF4=0,\"\",DF38/DF4)","v":""},{"$f":"IF(DG4=0,\"\",DG38/DG4)","v":""},{"$f":"IF(DH4=0,\"\",DH38/DH4)","v":""},{"$f":"IF(DI4=0,\"\",DI38/DI4)","v":""},{"$f":"IF(DJ4=0,\"\",DJ38/DJ4)","v":""},{"$f":"IF(DK4=0,\"\",DK38/DK4)","v":""},{"$f":"IF(DL4=0,\"\",DL38/DL4)","v":""},{"$f":"IF(DM4=0,\"\",DM38/DM4)","v":""},{"$f":"IF(DN4=0,\"\",DN38/DN4)","v":""},{"$f":"IF(DO4=0,\"\",DO38/DO4)","v":""},{"$f":"IF(DP4=0,\"\",DP38/DP4)","v":""},{"$f":"IF(DQ4=0,\"\",DQ38/DQ4)","v":""},{"$f":"IF(DR4=0,\"\",DR38/DR4)","v":""},{"$f":"IF(DS4=0,\"\",DS38/DS4)","v":""},{"$f":"IF(DT4=0,\"\",DT38/DT4)","v":""},{"$f":"IF(DU4=0,\"\",DU38/DU4)","v":""},{"$f":"IF(DV4=0,\"\",DV38/DV4)","v":""},{"$f":"IF(DW4=0,\"\",DW38/DW4)","v":""},{"$f":"IF(DX4=0,\"\",DX38/DX4)","v":""},null,{"$f":"IF(DY4=0,\"\",DY38/DY4)","v":""},{"$f":"IF(EA4=0,\"\",EA38/EA4)","v":""},{"$f":"IF(EB4=0,\"\",EB38/EB4)","v":""},{"$f":"IF(EC4=0,\"\",EC38/EC4)","v":""},{"$f":"IF(ED4=0,\"\",ED38/ED4)","v":""},{"$f":"IF(EE4=0,\"\",EE38/EE4)","v":""},{"$f":"IF(EF4=0,\"\",EF38/EF4)","v":""},{"$f":"IF(EG4=0,\"\",EG38/EG4)","v":""},{"$f":"IF(EH4=0,\"\",EH38/EH4)","v":""},{"$f":"IF(EI4=0,\"\",EI38/EI4)","v":""},{"$f":"IF(EJ4=0,\"\",EJ38/EJ4)","v":""},{"$f":"IF(EK4=0,\"\",EK38/EK4)","v":""},{"$f":"IF(EL4=0,\"\",EL38/EL4)","v":""},{"$f":"IF(EM4=0,\"\",EM38/EM4)","v":""},{"$f":"IF(EN4=0,\"\",EN38/EN4)","v":""},{"$f":"IF(EO4=0,\"\",EO38/EO4)","v":""},{"$f":"IF(EP4=0,\"\",EP38/EP4)","v":""},{"$f":"IF(EQ4=0,\"\",EQ38/EQ4)","v":""},{"$f":"IF(ER4=0,\"\",ER38/ER4)","v":""},{"$f":"IF(ES4=0,\"\",ES38/ES4)","v":""},{"$f":"IF(ET4=0,\"\",ET38/ET4)","v":""},{"$f":"IF(EU4=0,\"\",EU38/EU4)","v":""},{"$f":"IF(EV4=0,\"\",EV38/EV4)","v":""},{"$f":"IF(EW4=0,\"\",EW38/EW4)","v":""},{"$f":"IF(EX4=0,\"\",EX38/EX4)","v":""},{"$f":"IF(EY4=0,\"\",EY38/EY4)","v":""},{"$f":"IF(EZ4=0,\"\",EZ38/EZ4)","v":""},{"$f":"IF(FA4=0,\"\",FA38/FA4)","v":""},{"$f":"IF(FB4=0,\"\",FB38/FB4)","v":""},{"$f":"IF(FC4=0,\"\",FC38/FC4)","v":""},{"$f":"IF(FD4=0,\"\",FD38/FD4)","v":""},{"$f":"IF(FE4=0,\"\",FE38/FE4)","v":""},null,{"$f":"IF(FF4=0,\"\",FF38/FF4)","v":""},{"$f":"IF(FH4=0,\"\",FH38/FH4)","v":""},{"$f":"IF(FI4=0,\"\",FI38/FI4)","v":""},{"$f":"IF(FJ4=0,\"\",FJ38/FJ4)","v":""},{"$f":"IF(FK4=0,\"\",FK38/FK4)","v":""},{"$f":"IF(FL4=0,\"\",FL38/FL4)","v":""},{"$f":"IF(FM4=0,\"\",FM38/FM4)","v":""},{"$f":"IF(FN4=0,\"\",FN38/FN4)","v":""},{"$f":"IF(FO4=0,\"\",FO38/FO4)","v":""},{"$f":"IF(FP4=0,\"\",FP38/FP4)","v":""},{"$f":"IF(FQ4=0,\"\",FQ38/FQ4)","v":""},{"$f":"IF(FR4=0,\"\",FR38/FR4)","v":""},{"$f":"IF(FS4=0,\"\",FS38/FS4)","v":""},{"$f":"IF(FT4=0,\"\",FT38/FT4)","v":""},{"$f":"IF(FU4=0,\"\",FU38/FU4)","v":""},{"$f":"IF(FV4=0,\"\",FV38/FV4)","v":""},{"$f":"IF(FW4=0,\"\",FW38/FW4)","v":""},{"$f":"IF(FX4=0,\"\",FX38/FX4)","v":""},{"$f":"IF(FY4=0,\"\",FY38/FY4)","v":""},{"$f":"IF(FZ4=0,\"\",FZ38/FZ4)","v":""},{"$f":"IF(GA4=0,\"\",GA38/GA4)","v":""},{"$f":"IF(GB4=0,\"\",GB38/GB4)","v":""},{"$f":"IF(GC4=0,\"\",GC38/GC4)","v":""},{"$f":"IF(GD4=0,\"\",GD38/GD4)","v":""},{"$f":"IF(GE4=0,\"\",GE38/GE4)","v":""},{"$f":"IF(GF4=0,\"\",GF38/GF4)","v":""},{"$f":"IF(GG4=0,\"\",GG38/GG4)","v":""},{"$f":"IF(GH4=0,\"\",GH38/GH4)","v":""},{"$f":"IF(GI4=0,\"\",GI38/GI4)","v":""},{"$f":"IF(GJ4=0,\"\",GJ38/GJ4)","v":""},{"$f":"IF(GK4=0,\"\",GK38/GK4)","v":""},null,{"$f":"IF(GL4=0,\"\",GL38/GL4)","v":""},{"$f":"IF(GN4=0,\"\",GN38/GN4)","v":""},{"$f":"IF(GO4=0,\"\",GO38/GO4)","v":""},{"$f":"IF(GP4=0,\"\",GP38/GP4)","v":""},{"$f":"IF(GQ4=0,\"\",GQ38/GQ4)","v":""},{"$f":"IF(GR4=0,\"\",GR38/GR4)","v":""},{"$f":"IF(GS4=0,\"\",GS38/GS4)","v":""},{"$f":"IF(GT4=0,\"\",GT38/GT4)","v":""},{"$f":"IF(GU4=0,\"\",GU38/GU4)","v":""},{"$f":"IF(GV4=0,\"\",GV38/GV4)","v":""},{"$f":"IF(GW4=0,\"\",GW38/GW4)","v":""},{"$f":"IF(GX4=0,\"\",GX38/GX4)","v":""},{"$f":"IF(GY4=0,\"\",GY38/GY4)","v":""},{"$f":"IF(GZ4=0,\"\",GZ38/GZ4)","v":""},{"$f":"IF(HA4=0,\"\",HA38/HA4)","v":""},{"$f":"IF(HB4=0,\"\",HB38/HB4)","v":""},{"$f":"IF(HC4=0,\"\",HC38/HC4)","v":""},{"$f":"IF(HD4=0,\"\",HD38/HD4)","v":""},{"$f":"IF(HE4=0,\"\",HE38/HE4)","v":""},{"$f":"IF(HF4=0,\"\",HF38/HF4)","v":""},{"$f":"IF(HG4=0,\"\",HG38/HG4)","v":""},{"$f":"IF(HH4=0,\"\",HH38/HH4)","v":""},{"$f":"IF(HI4=0,\"\",HI38/HI4)","v":""},{"$f":"IF(HJ4=0,\"\",HJ38/HJ4)","v":""},{"$f":"IF(HK4=0,\"\",HK38/HK4)","v":""},{"$f":"IF(HL4=0,\"\",HL38/HL4)","v":""},{"$f":"IF(HM4=0,\"\",HM38/HM4)","v":""},{"$f":"IF(HN4=0,\"\",HN38/HN4)","v":""},{"$f":"IF(HO4=0,\"\",HO38/HO4)","v":""},{"$f":"IF(HP4=0,\"\",HP38/HP4)","v":""},{"$f":"IF(HQ4=0,\"\",HQ38/HQ4)","v":""},{"$f":"IF(HR4=0,\"\",HR38/HR4)","v":""},null,{"$f":"IF(HS4=0,\"\",HS38/HS4)","v":""},{"$f":"IF(HU4=0,\"\",HU38/HU4)","v":""},{"$f":"IF(HV4=0,\"\",HV38/HV4)","v":""},{"$f":"IF(HW4=0,\"\",HW38/HW4)","v":""},{"$f":"IF(HX4=0,\"\",HX38/HX4)","v":""},{"$f":"IF(HY4=0,\"\",HY38/HY4)","v":""},{"$f":"IF(HZ4=0,\"\",HZ38/HZ4)","v":""},{"$f":"IF(IA4=0,\"\",IA38/IA4)","v":""},{"$f":"IF(IB4=0,\"\",IB38/IB4)","v":""},{"$f":"IF(IC4=0,\"\",IC38/IC4)","v":""},{"$f":"IF(ID4=0,\"\",ID38/ID4)","v":""},{"$f":"IF(IE4=0,\"\",IE38/IE4)","v":""},{"$f":"IF(IF4=0,\"\",IF38/IF4)","v":""},{"$f":"IF(IG4=0,\"\",IG38/IG4)","v":""},{"$f":"IF(IH4=0,\"\",IH38/IH4)","v":""},{"$f":"IF(II4=0,\"\",II38/II4)","v":""},{"$f":"IF(IJ4=0,\"\",IJ38/IJ4)","v":""},{"$f":"IF(IK4=0,\"\",IK38/IK4)","v":""},{"$f":"IF(IL4=0,\"\",IL38/IL4)","v":""},{"$f":"IF(IM4=0,\"\",IM38/IM4)","v":""},{"$f":"IF(IN4=0,\"\",IN38/IN4)","v":""},{"$f":"IF(IO4=0,\"\",IO38/IO4)","v":""},{"$f":"IF(IP4=0,\"\",IP38/IP4)","v":""},{"$f":"IF(IQ4=0,\"\",IQ38/IQ4)","v":""},{"$f":"IF(IR4=0,\"\",IR38/IR4)","v":""},{"$f":"IF(IS4=0,\"\",IS38/IS4)","v":""},{"$f":"IF(IT4=0,\"\",IT38/IT4)","v":""},{"$f":"IF(IU4=0,\"\",IU38/IU4)","v":""},{"$f":"IF(IV4=0,\"\",IV38/IV4)","v":""},{"$f":"IF(IW4=0,\"\",IW38/IW4)","v":""},{"$f":"IF(IX4=0,\"\",IX38/IX4)","v":""},{"$f":"IF(IY4=0,\"\",IY38/IY4)","v":""},null,{"$f":"IF(IZ4=0,\"\",IZ38/IZ4)","v":""},{"$f":"IF(JB4=0,\"\",JB38/JB4)","v":""},{"$f":"IF(JC4=0,\"\",JC38/JC4)","v":""},{"$f":"IF(JD4=0,\"\",JD38/JD4)","v":""},{"$f":"IF(JE4=0,\"\",JE38/JE4)","v":""},{"$f":"IF(JF4=0,\"\",JF38/JF4)","v":""},{"$f":"IF(JG4=0,\"\",JG38/JG4)","v":""},{"$f":"IF(JH4=0,\"\",JH38/JH4)","v":""},{"$f":"IF(JI4=0,\"\",JI38/JI4)","v":""},{"$f":"IF(JJ4=0,\"\",JJ38/JJ4)","v":""},{"$f":"IF(JK4=0,\"\",JK38/JK4)","v":""},{"$f":"IF(JL4=0,\"\",JL38/JL4)","v":""},{"$f":"IF(JM4=0,\"\",JM38/JM4)","v":""},{"$f":"IF(JN4=0,\"\",JN38/JN4)","v":""},{"$f":"IF(JO4=0,\"\",JO38/JO4)","v":""},{"$f":"IF(JP4=0,\"\",JP38/JP4)","v":""},{"$f":"IF(JQ4=0,\"\",JQ38/JQ4)","v":""},{"$f":"IF(JR4=0,\"\",JR38/JR4)","v":""},{"$f":"IF(JS4=0,\"\",JS38/JS4)","v":""},{"$f":"IF(JT4=0,\"\",JT38/JT4)","v":""},{"$f":"IF(JU4=0,\"\",JU38/JU4)","v":""},{"$f":"IF(JV4=0,\"\",JV38/JV4)","v":""},{"$f":"IF(JW4=0,\"\",JW38/JW4)","v":""},{"$f":"IF(JX4=0,\"\",JX38/JX4)","v":""},{"$f":"IF(JY4=0,\"\",JY38/JY4)","v":""},{"$f":"IF(JZ4=0,\"\",JZ38/JZ4)","v":""},{"$f":"IF(KA4=0,\"\",KA38/KA4)","v":""},{"$f":"IF(KB4=0,\"\",KB38/KB4)","v":""},{"$f":"IF(KC4=0,\"\",KC38/KC4)","v":""},{"$f":"IF(KD4=0,\"\",KD38/KD4)","v":""},{"$f":"IF(KE4=0,\"\",KE38/KE4)","v":""},null,{"$f":"IF(KF4=0,\"\",KF38/KF4)","v":""},{"$f":"IF(KH4=0,\"\",KH38/KH4)","v":""},{"$f":"IF(KI4=0,\"\",KI38/KI4)","v":""},{"$f":"IF(KJ4=0,\"\",KJ38/KJ4)","v":""},{"$f":"IF(KK4=0,\"\",KK38/KK4)","v":""},{"$f":"IF(KL4=0,\"\",KL38/KL4)","v":""},{"$f":"IF(KM4=0,\"\",KM38/KM4)","v":""},{"$f":"IF(KN4=0,\"\",KN38/KN4)","v":""},{"$f":"IF(KO4=0,\"\",KO38/KO4)","v":""},{"$f":"IF(KP4=0,\"\",KP38/KP4)","v":""},{"$f":"IF(KQ4=0,\"\",KQ38/KQ4)","v":""},{"$f":"IF(KR4=0,\"\",KR38/KR4)","v":""},{"$f":"IF(KS4=0,\"\",KS38/KS4)","v":""},{"$f":"IF(KT4=0,\"\",KT38/KT4)","v":""},{"$f":"IF(KU4=0,\"\",KU38/KU4)","v":""},{"$f":"IF(KV4=0,\"\",KV38/KV4)","v":""},{"$f":"IF(KW4=0,\"\",KW38/KW4)","v":""},{"$f":"IF(KX4=0,\"\",KX38/KX4)","v":""},{"$f":"IF(KY4=0,\"\",KY38/KY4)","v":""},{"$f":"IF(KZ4=0,\"\",KZ38/KZ4)","v":""},{"$f":"IF(LA4=0,\"\",LA38/LA4)","v":""},{"$f":"IF(LB4=0,\"\",LB38/LB4)","v":""},{"$f":"IF(LC4=0,\"\",LC38/LC4)","v":""},{"$f":"IF(LD4=0,\"\",LD38/LD4)","v":""},{"$f":"IF(LE4=0,\"\",LE38/LE4)","v":""},{"$f":"IF(LF4=0,\"\",LF38/LF4)","v":""},{"$f":"IF(LG4=0,\"\",LG38/LG4)","v":""},{"$f":"IF(LH4=0,\"\",LH38/LH4)","v":""},{"$f":"IF(LI4=0,\"\",LI38/LI4)","v":""},{"$f":"IF(LJ4=0,\"\",LJ38/LJ4)","v":""},{"$f":"IF(LK4=0,\"\",LK38/LK4)","v":""},{"$f":"IF(LL4=0,\"\",LL38/LL4)","v":""},null,{"$f":"IF(LM4=0,\"\",LM38/LM4)","v":""},{"$f":"IF(LO4=0,\"\",LO38/LO4)","v":""},{"$f":"IF(LP4=0,\"\",LP38/LP4)","v":""},{"$f":"IF(LQ4=0,\"\",LQ38/LQ4)","v":""},{"$f":"IF(LR4=0,\"\",LR38/LR4)","v":""},{"$f":"IF(LS4=0,\"\",LS38/LS4)","v":""},{"$f":"IF(LT4=0,\"\",LT38/LT4)","v":""},{"$f":"IF(LU4=0,\"\",LU38/LU4)","v":""},{"$f":"IF(LV4=0,\"\",LV38/LV4)","v":""},{"$f":"IF(LW4=0,\"\",LW38/LW4)","v":""},{"$f":"IF(LX4=0,\"\",LX38/LX4)","v":""},{"$f":"IF(LY4=0,\"\",LY38/LY4)","v":""},{"$f":"IF(LZ4=0,\"\",LZ38/LZ4)","v":""},{"$f":"IF(MA4=0,\"\",MA38/MA4)","v":""},{"$f":"IF(MB4=0,\"\",MB38/MB4)","v":""},{"$f":"IF(MC4=0,\"\",MC38/MC4)","v":""},{"$f":"IF(MD4=0,\"\",MD38/MD4)","v":""},{"$f":"IF(ME4=0,\"\",ME38/ME4)","v":""},{"$f":"IF(MF4=0,\"\",MF38/MF4)","v":""},{"$f":"IF(MG4=0,\"\",MG38/MG4)","v":""},{"$f":"IF(MH4=0,\"\",MH38/MH4)","v":""},{"$f":"IF(MI4=0,\"\",MI38/MI4)","v":""},{"$f":"IF(MJ4=0,\"\",MJ38/MJ4)","v":""},{"$f":"IF(MK4=0,\"\",MK38/MK4)","v":""},{"$f":"IF(ML4=0,\"\",ML38/ML4)","v":""},{"$f":"IF(MM4=0,\"\",MM38/MM4)","v":""},{"$f":"IF(MN4=0,\"\",MN38/MN4)","v":""},{"$f":"IF(MO4=0,\"\",MO38/MO4)","v":""},{"$f":"IF(MP4=0,\"\",MP38/MP4)","v":""},{"$f":"IF(MQ4=0,\"\",MQ38/MQ4)","v":""},{"$f":"IF(MR4=0,\"\",MR38/MR4)","v":""},null,{"$f":"IF(MS4=0,\"\",MS38/MS4)","v":""},{"$f":"IF(MU4=0,\"\",MU38/MU4)","v":""},{"$f":"IF(MV4=0,\"\",MV38/MV4)","v":""},{"$f":"IF(MW4=0,\"\",MW38/MW4)","v":""},{"$f":"IF(MX4=0,\"\",MX38/MX4)","v":""},{"$f":"IF(MY4=0,\"\",MY38/MY4)","v":""},{"$f":"IF(MZ4=0,\"\",MZ38/MZ4)","v":""},{"$f":"IF(NA4=0,\"\",NA38/NA4)","v":""},{"$f":"IF(NB4=0,\"\",NB38/NB4)","v":""},{"$f":"IF(NC4=0,\"\",NC38/NC4)","v":""},{"$f":"IF(ND4=0,\"\",ND38/ND4)","v":""},{"$f":"IF(NE4=0,\"\",NE38/NE4)","v":""},{"$f":"IF(NF4=0,\"\",NF38/NF4)","v":""},{"$f":"IF(NG4=0,\"\",NG38/NG4)","v":""},{"$f":"IF(NH4=0,\"\",NH38/NH4)","v":""},{"$f":"IF(NI4=0,\"\",NI38/NI4)","v":""},{"$f":"IF(NJ4=0,\"\",NJ38/NJ4)","v":""},{"$f":"IF(NK4=0,\"\",NK38/NK4)","v":""},{"$f":"IF(NL4=0,\"\",NL38/NL4)","v":""},{"$f":"IF(NM4=0,\"\",NM38/NM4)","v":""},{"$f":"IF(NN4=0,\"\",NN38/NN4)","v":""},{"$f":"IF(NO4=0,\"\",NO38/NO4)","v":""},{"$f":"IF(NP4=0,\"\",NP38/NP4)","v":""},{"$f":"IF(NQ4=0,\"\",NQ38/NQ4)","v":""},{"$f":"IF(NR4=0,\"\",NR38/NR4)","v":""},{"$f":"IF(NS4=0,\"\",NS38/NS4)","v":""},{"$f":"IF(NT4=0,\"\",NT38/NT4)","v":""},{"$f":"IF(NU4=0,\"\",NU38/NU4)","v":""},{"$f":"IF(NV4=0,\"\",NV38/NV4)","v":""},{"$f":"IF(NW4=0,\"\",NW38/NW4)","v":""},{"$f":"IF(NX4=0,\"\",NX38/NX4)","v":""},{"$f":"IF(NY4=0,\"\",NY38/NY4)","v":""},null,{"$f":"IF(NZ4=0,\"\",NZ38/NZ4)","v":""},null,{"$f":"IF(OB4=0,\"\",OB38/OB4)","v":""}]

{"sheet":"PM #2 - Safety","index":5,"n_rows":381,"n_cols":10,"rows_kept":381,"cut":false,"hidden":false,"merged":[]}
[]
[]
[null,"Fatalities\n(#)","Injuries\n(#)","Evacuations\n(#)","Mainline\nDerailments\n(#)","Property\nDamage\n(#)","Emergency\nBrake\nApplications\n(#)","Total\n(#)","VSM","Safety\nIncidents per\n1K VSM"]
["January:",{"$f":"SUM(B5:B35)","v":0},{"$f":"SUM(C5:C35)","v":0},0,0,0,0,{"$f":"SUM(B4:G4)","v":0},{"$f":"'Descriptive Characteristics'!C12","v":0},{"$f":"IF(I4=0,\"\",(H4*1000)/I4)","v":""}]
["2011-01-01",null,null,null,null,null,null,{"$f":"SUM(B5:G5)","v":0}]
["2011-01-02",null,null,null,null,null,null,{"$f":"SUM(B6:G6)","v":0}]
["2011-01-03",null,null,null,null,null,null,0]
["2011-01-04",null,null,null,null,null,null,0]
["2011-01-05",null,null,null,null,null,null,0]
["2011-01-06",null,null,null,null,null,null,0]
["2011-01-07",null,null,null,null,null,null,0]
["2011-01-08",null,null,null,null,null,null,0]
["2011-01-09",null,null,null,null,null,null,0]
["2011-01-10",null,null,null,null,null,null,0]
["2011-01-11",null,null,null,null,null,null,0]
["2011-01-12",null,null,null,null,null,null,0]
["2011-01-13",null,null,null,null,null,null,0]
["2011-01-14",null,null,null,null,null,null,0]
["2011-01-15",null,null,null,null,null,null,0]
["2011-01-16",null,null,null,null,null,null,0]
["2011-01-17",null,null,null,null,null,null,0]
["2011-01-18",null,null,null,null,null,null,0]
["2011-01-19",null,null,null,null,null,null,0]
["2011-01-20",null,null,null,null,null,null,0]
["2011-01-21",null,null,null,null,null,null,0]
["2011-01-22",null,null,null,null,null,null,0]
["2011-01-23",null,null,null,null,null,null,0]
["2011-01-24",null,null,null,null,null,null,0]
["2011-01-25",null,null,null,null,null,null,0]
["2011-01-26",null,null,null,null,null,null,0]
["2011-01-27",null,null,null,null,null,null,0]
["2011-01-28",null,null,null,null,null,null,0]
["2011-01-29",null,null,null,null,null,null,0]
["2011-01-30",null,null,null,null,null,null,0]
["2011-01-31",null,null,null,null,null,null,0]
["February:",{"$f":"SUM(B37:B64)","v":0},{"$f":"SUM(C37:C64)","v":0},0,0,0,0,{"$f":"SUM(B36:G36)","v":0},{"$f":"'Descriptive Characteristics'!C44","v":0},{"$f":"IF(I36=0,\"\",(H36*1000)/I36)","v":""}]
["2011-02-01",null,null,null,null,null,null,{"$f":"SUM(B37:G37)","v":0}]
["2011-02-02",null,null,null,null,null,null,0]
["2011-02-03",null,null,null,null,null,null,0]
["2011-02-04",null,null,null,null,null,null,0]
["2011-02-05",null,null,null,null,null,null,0]
["2011-02-06",null,null,null,null,null,null,0]
["2011-02-07",null,null,null,null,null,null,0]
["2011-02-08",null,null,null,null,null,null,0]
["2011-02-09",null,null,null,null,null,null,0]
["2011-02-10",null,null,null,null,null,null,0]
["2011-02-11",null,null,null,null,null,null,0]
["2011-02-12",null,null,null,null,null,null,0]
["2011-02-13",null,null,null,null,null,null,0]
["2011-02-14",null,null,null,null,null,null,0]
["2011-02-15",null,null,null,null,null,null,0]
["2011-02-16",null,null,null,null,null,null,0]
["2011-02-17",null,null,null,null,null,null,0]
["2011-02-18",null,null,null,null,null,null,0]
["2011-02-19",null,null,null,null,null,null,0]
["2011-02-20",null,null,null,null,null,null,0]
["2011-02-21",null,null,null,null,null,null,0]
["2011-02-22",null,null,null,null,null,null,0]
["2011-02-23",null,null,null,null,null,null,0]
["2011-02-24",null,null,null,null,null,null,0]
["2011-02-25",null,null,null,null,null,null,0]
["2011-02-26",null,null,null,null,null,null,0]
["2011-02-27",null,null,null,null,null,null,0]
["2011-02-28",null,null,null,null,null,null,0]
["March:",{"$f":"SUM(B66:B96)","v":0},{"$f":"SUM(C66:C96)","v":0},0,0,0,0,{"$f":"SUM(B65:G65)","v":0},{"$f":"'Descriptive Characteristics'!C73","v":0},{"$f":"IF(I65=0,\"\",(H65*1000)/I65)","v":""}]
["2011-03-01",null,null,null,null,null,null,{"$f":"SUM(B66:G66)","v":0}]
["2011-03-02",null,null,null,null,null,null,0]
["2011-03-03",null,null,null,null,null,null,0]
["2011-03-04",null,null,null,null,null,null,0]
["2011-03-05",null,null,null,null,null,null,0]
["2011-03-06",null,null,null,null,null,null,0]
["2011-03-07",null,null,null,null,null,null,0]
["2011-03-08",null,null,null,null,null,null,0]
["2011-03-09",null,null,null,null,null,null,0]
["2011-03-10",null,null,null,null,null,null,0]
["2011-03-11",null,null,null,null,null,null,0]
["2011-03-12",null,null,null,null,null,null,0]
["2011-03-13",null,null,null,null,null,null,0]
["2011-03-14",null,null,null,null,null,null,0]
["2011-03-15",null,null,null,null,null,null,0]
["2011-03-16",null,null,null,null,null,null,0]
["2011-03-17",null,null,null,null,null,null,0]
["2011-03-18",null,null,null,null,null,null,0]
["2011-03-19",null,null,null,null,null,null,0]
["2011-03-20",null,null,null,null,null,null,0]
["2011-03-21",null,null,null,null,null,null,0]
["2011-03-22",null,null,null,null,null,null,0]
["2011-03-23",null,null,null,null,null,null,0]
["2011-03-24",null,null,null,null,null,null,0]
["2011-03-25",null,null,null,null,null,null,0]
["2011-03-26",null,null,null,null,null,null,0]
["2011-03-27",null,null,null,null,null,null,0]
["2011-03-28",null,null,null,null,null,null,0]
["2011-03-29",null,null,null,null,null,null,0]
["2011-03-30",null,null,null,null,null,null,0]
["2011-03-31",null,null,null,null,null,null,0]
["April:",{"$f":"SUM(B98:B127)","v":0},{"$f":"SUM(C98:C127)","v":0},0,0,0,0,{"$f":"SUM(B97:G97)","v":0},{"$f":"'Descriptive Characteristics'!C105","v":0},{"$f":"IF(I97=0,\"\",(H97*1000)/I97)","v":""}]
["2011-04-01",null,null,null,null,null,null,{"$f":"SUM(B98:G98)","v":0}]
["2011-04-02",null,null,null,null,null,null,0]
["2011-04-03",null,null,null,null,null,null,0]
["2011-04-04",null,null,null,null,null,null,0]
["2011-04-05",null,null,null,null,null,null,0]
["2011-04-06",null,null,null,null,null,null,0]
["2011-04-07",null,null,null,null,null,null,0]
["2011-04-08",null,null,null,null,null,null,0]
["2011-04-09",null,null,null,null,null,null,0]
["2011-04-10",null,null,null,null,null,null,0]
["2011-04-11",null,null,null,null,null,null,0]
["2011-04-12",null,null,null,null,null,null,0]
["2011-04-13",null,null,null,null,null,null,0]
["2011-04-14",null,null,null,null,null,null,0]
["2011-04-15",null,null,null,null,null,null,0]
["2011-04-16",null,null,null,null,null,null,0]
["2011-04-17",null,null,null,null,null,null,0]
["2011-04-18",null,null,null,null,null,null,0]
["2011-04-19",null,null,null,null,null,null,0]
["2011-04-20",null,null,null,null,null,null,0]
["2011-04-21",null,null,null,null,null,null,0]
["2011-04-22",null,null,null,null,null,null,0]
["2011-04-23",null,null,null,null,null,null,0]
["2011-04-24",null,null,null,null,null,null,0]
["2011-04-25",null,null,null,null,null,null,0]
["2011-04-26",null,null,null,null,null,null,0]
["2011-04-27",null,null,null,null,null,null,0]
["2011-04-28",null,null,null,null,null,null,0]
["2011-04-29",null,null,null,null,null,null,0]
["2011-04-30",null,null,null,null,null,null,0]
["May:",{"$f":"SUM(B129:B159)","v":0},{"$f":"SUM(C129:C159)","v":0},0,0,0,0,{"$f":"SUM(B128:G128)","v":0},{"$f":"'Descriptive Characteristics'!C136","v":0},{"$f":"IF(I128=0,\"\",(H128*1000)/I128)","v":""}]
["2011-05-01",null,null,null,null,null,null,{"$f":"SUM(B129:G129)","v":0}]
["2011-05-02",null,null,null,null,null,null,0]
["2011-05-03",null,null,null,null,null,null,0]
["2011-05-04",null,null,null,null,null,null,0]
["2011-05-05",null,null,null,null,null,null,0]
["2011-05-06",null,null,null,null,null,null,0]
["2011-05-07",null,null,null,null,null,null,0]
["2011-05-08",null,null,null,null,null,null,0]
["2011-05-09",null,null,null,null,null,null,0]
["2011-05-10",null,null,null,null,null,null,0]
["2011-05-11",null,null,null,null,null,null,0]
["2011-05-12",null,null,null,null,null,null,0]
["2011-05-13",null,null,null,null,null,null,0]
["2011-05-14",null,null,null,null,null,null,0]
["2011-05-15",null,null,null,null,null,null,0]
["2011-05-16",null,null,null,null,null,null,0]
["2011-05-17",null,null,null,null,null,null,0]
["2011-05-18",null,null,null,null,null,null,0]
["2011-05-19",null,null,null,null,null,null,0]
["2011-05-20",null,null,null,null,null,null,0]
["2011-05-21",null,null,null,null,null,null,0]
["2011-05-22",null,null,null,null,null,null,0]
["2011-05-23",null,null,null,null,null,null,0]
["2011-05-24",null,null,null,null,null,null,0]
["2011-05-25",null,null,null,null,null,null,0]
["2011-05-26",null,null,null,null,null,null,0]
["2011-05-27",null,null,null,null,null,null,0]
["2011-05-28",null,null,null,null,null,null,0]
["2011-05-29",null,null,null,null,null,null,0]
["2011-05-30",null,null,null,null,null,null,0]
["2011-05-31",null,null,null,null,null,null,0]
["June:",{"$f":"SUM(B161:B190)","v":0},{"$f":"SUM(C161:C190)","v":0},0,0,0,0,{"$f":"SUM(B160:G160)","v":0},{"$f":"'Descriptive Characteristics'!C168","v":0},{"$f":"IF(I160=0,\"\",(H160*1000)/I160)","v":""}]
["2011-06-01",null,null,null,null,null,null,{"$f":"SUM(B161:G161)","v":0}]
["2011-06-02",null,null,null,null,null,null,0]
["2011-06-03",null,null,null,null,null,null,0]
["2011-06-04",null,null,null,null,null,null,0]
["2011-06-05",null,null,null,null,null,null,0]
["2011-06-06",null,null,null,null,null,null,0]
["2011-06-07",null,null,null,null,null,null,0]
["2011-06-08",null,null,null,null,null,null,0]
["2011-06-09",null,null,null,null,null,null,0]
["2011-06-10",null,null,null,null,null,null,0]
["2011-06-11",null,null,null,null,null,null,0]
["2011-06-12",null,null,null,null,null,null,0]
["2011-06-13",null,null,null,null,null,null,0]
["2011-06-14",null,null,null,null,null,null,0]
["2011-06-15",null,null,null,null,null,null,0]
["2011-06-16",null,null,null,null,null,null,0]
["2011-06-17",null,null,null,null,null,null,0]
["2011-06-18",null,null,null,null,null,null,0]
["2011-06-19",null,null,null,null,null,null,0]
["2011-06-20",null,null,null,null,null,null,0]
["2011-06-21",null,null,null,null,null,null,0]
["2011-06-22",null,null,null,null,null,null,0]
["2011-06-23",null,null,null,null,null,null,0]
["2011-06-24",null,null,null,null,null,null,0]
["2011-06-25",null,null,null,null,null,null,0]
["2011-06-26",null,null,null,null,null,null,0]
["2011-06-27",null,null,null,null,null,null,0]
["2011-06-28",null,null,null,null,null,null,0]
["2011-06-29",null,null,null,null,null,null,0]
["2011-06-30",null,null,null,null,null,null,0]
["July:",{"$f":"SUM(B192:B222)","v":0},{"$f":"SUM(C192:C222)","v":0},0,0,0,0,{"$f":"SUM(B191:G191)","v":0},{"$f":"'Descriptive Characteristics'!C199","v":0},{"$f":"IF(I191=0,\"\",(H191*1000)/I191)","v":""}]
["2011-07-01",null,null,null,null,null,null,{"$f":"SUM(B192:G192)","v":0}]
["2011-07-02",null,null,null,null,null,null,0]
["2011-07-03",null,null,null,null,null,null,0]
["2011-07-04",null,null,null,null,null,null,0]
["2011-07-05",null,null,null,null,null,null,0]
["2011-07-06",null,null,null,null,null,null,0]
["2011-07-07",null,null,null,null,null,null,0]
["2011-07-08",null,null,null,null,null,null,0]
["2011-07-09",null,null,null,null,null,null,0]
["2011-07-10",null,null,null,null,null,null,0]
["2011-07-11",null,null,null,null,null,null,0]
["2011-07-12",null,null,null,null,null,null,0]
["2011-07-13",null,null,null,null,null,null,0]
["2011-07-14",null,null,null,null,null,null,0]
["2011-07-15",null,null,null,null,null,null,0]
["2011-07-16",null,null,null,null,null,null,0]
["2011-07-17",null,null,null,null,null,null,0]
["2011-07-18",null,null,null,null,null,null,0]
["2011-07-19",null,null,null,null,null,null,0]
["2011-07-20",null,null,null,null,null,null,0]
["2011-07-21",null,null,null,null,null,null,0]
["2011-07-22",null,null,null,null,null,null,0]
["2011-07-23",null,null,null,null,null,null,0]
["2011-07-24",null,null,null,null,null,null,0]
["2011-07-25",null,null,null,null,null,null,0]
["2011-07-26",null,null,null,null,null,null,0]
["2011-07-27",null,null,null,null,null,null,0]
["2011-07-28",null,null,null,null,null,null,0]
["2011-07-29",null,null,null,null,null,null,0]
["2011-07-30",null,null,null,null,null,null,0]
["2011-07-31",null,null,null,null,null,null,0]
["August:",{"$f":"SUM(B224:B254)","v":0},{"$f":"SUM(C224:C254)","v":0},0,0,0,0,{"$f":"SUM(B223:G223)","v":0},{"$f":"'Descriptive Characteristics'!C231","v":0},{"$f":"IF(I223=0,\"\",(H223*1000)/I223)","v":""}]
["2011-08-01",null,null,null,null,null,null,{"$f":"SUM(B224:G224)","v":0}]
["2011-08-02",null,null,null,null,null,null,0]
["2011-08-03",null,null,null,null,null,null,0]
["2011-08-04",null,null,null,null,null,null,0]
["2011-08-05",null,null,null,null,null,null,0]
["2011-08-06",null,null,null,null,null,null,0]
["2011-08-07",null,null,null,null,null,null,0]
["2011-08-08",null,null,null,null,null,null,0]
["2011-08-09",null,null,null,null,null,null,0]
["2011-08-10",null,null,null,null,null,null,0]
["2011-08-11",null,null,null,null,null,null,0]
["2011-08-12",null,null,null,null,null,null,0]
["2011-08-13",null,null,null,null,null,null,0]
["2011-08-14",null,null,null,null,null,null,0]
["2011-08-15",null,null,null,null,null,null,0]
["2011-08-16",null,null,null,null,null,null,0]
["2011-08-17",null,null,null,null,null,null,0]
["2011-08-18",null,null,null,null,null,null,0]
["2011-08-19",null,null,null,null,null,null,0]
["2011-08-20",null,null,null,null,null,null,0]
["2011-08-21",null,null,null,null,null,null,0]
["2011-08-22",null,null,null,null,null,null,0]
["2011-08-23",null,null,null,null,null,null,0]
["2011-08-24",null,null,null,null,null,null,0]
["2011-08-25",null,null,null,null,null,null,0]
["2011-08-26",null,null,null,null,null,null,0]
["2011-08-27",null,null,null,null,null,null,0]
["2011-08-28",null,null,null,null,null,null,0]
["2011-08-29",null,null,null,null,null,null,0]
["2011-08-30",null,null,null,null,null,null,0]
["2011-08-31",null,null,null,null,null,null,0]
["September:",{"$f":"SUM(B256:B285)","v":0},{"$f":"SUM(C256:C285)","v":0},0,0,0,0,{"$f":"SUM(B255:G255)","v":0},{"$f":"'Descriptive Characteristics'!C263","v":0},{"$f":"IF(I255=0,\"\",(H255*1000)/I255)","v":""}]
["2011-09-01",null,null,null,null,null,null,{"$f":"SUM(B256:G256)","v":0}]
["2011-09-02",null,null,null,null,null,null,0]
["2011-09-03",null,null,null,null,null,null,0]
["2011-09-04",null,null,null,null,null,null,0]
["2011-09-05",null,null,null,null,null,null,0]
["2011-09-06",null,null,null,null,null,null,0]
["2011-09-07",null,null,null,null,null,null,0]
["2011-09-08",null,null,null,null,null,null,0]
["2011-09-09",null,null,null,null,null,null,0]
["2011-09-10",null,null,null,null,null,null,0]
["2011-09-11",null,null,null,null,null,null,0]
["2011-09-12",null,null,null,null,null,null,0]
["2011-09-13",null,null,null,null,null,null,0]
["2011-09-14",null,null,null,null,null,null,0]
["2011-09-15",null,null,null,null,null,null,0]
["2011-09-16",null,null,null,null,null,null,0]
["2011-09-17",null,null,null,null,null,null,0]
["2011-09-18",null,null,null,null,null,null,0]
["2011-09-19",null,null,null,null,null,null,0]
["2011-09-20",null,null,null,null,null,null,0]
["2011-09-21",null,null,null,null,null,null,0]
["2011-09-22",null,null,null,null,null,null,0]
["2011-09-23",null,null,null,null,null,null,0]
["2011-09-24",null,null,null,null,null,null,0]
["2011-09-25",null,null,null,null,null,null,0]
["2011-09-26",null,null,null,null,null,null,0]
["2011-09-27",null,null,null,null,null,null,0]
["2011-09-28",null,null,null,null,null,null,0]
["2011-09-29",null,null,null,null,null,null,0]
["2011-09-30",null,null,null,null,null,null,0]
["October:",{"$f":"SUM(B287:B317)","v":0},{"$f":"SUM(C287:C317)","v":0},0,0,0,0,{"$f":"SUM(B286:G286)","v":0},{"$f":"'Descriptive Characteristics'!C294","v":0},{"$f":"IF(I286=0,\"\",(H286*1000)/I286)","v":""}]
["2011-10-01",null,null,null,null,null,null,{"$f":"SUM(B287:G287)","v":0}]
["2011-10-02",null,null,null,null,null,null,0]
["2011-10-03",null,null,null,null,null,null,0]
["2011-10-04",null,null,null,null,null,null,0]
["2011-10-05",null,null,null,null,null,null,0]
["2011-10-06",null,null,null,null,null,null,0]
["2011-10-07",null,null,null,null,null,null,0]
["2011-10-08",null,null,null,null,null,null,0]
["2011-10-09",null,null,null,null,null,null,0]
["2011-10-10",null,null,null,null,null,null,0]
["2011-10-11",null,null,null,null,null,null,0]
["2011-10-12",null,null,null,null,null,null,0]
["2011-10-13",null,null,null,null,null,null,0]
["2011-10-14",null,null,null,null,null,null,0]
["2011-10-15",null,null,null,null,null,null,0]
["2011-10-16",null,null,null,null,null,null,0]
["2011-10-17",null,null,null,null,null,null,0]
["2011-10-18",null,null,null,null,null,null,0]
["2011-10-19",null,null,null,null,null,null,0]
["2011-10-20",null,null,null,null,null,null,0]
["2011-10-21",null,null,null,null,null,null,0]
["2011-10-22",null,null,null,null,null,null,0]
["2011-10-23",null,null,null,null,null,null,0]
["2011-10-24",null,null,null,null,null,null,0]
["2011-10-25",null,null,null,null,null,null,0]
["2011-10-26",null,null,null,null,null,null,0]
["2011-10-27",null,null,null,null,null,null,0]
["2011-10-28",null,null,null,null,null,null,0]
["2011-10-29",null,null,null,null,null,null,0]
["2011-10-30",null,null,null,null,null,null,0]
["2011-10-31",null,null,null,null,null,null,0]
["November:",{"$f":"SUM(B319:B348)","v":0},{"$f":"SUM(C319:C348)","v":0},0,0,0,0,{"$f":"SUM(B318:G318)","v":0},{"$f":"'Descriptive Characteristics'!C326","v":0},{"$f":"IF(I318=0,\"\",(H318*1000)/I318)","v":""}]
["2011-11-01",null,null,null,null,null,null,{"$f":"SUM(B319:G319)","v":0}]
["2011-11-02",null,null,null,null,null,null,0]
["2011-11-03",null,null,null,null,null,null,0]
["2011-11-04",null,null,null,null,null,null,0]
["2011-11-05",null,null,null,null,null,null,0]
["2011-11-06",null,null,null,null,null,null,0]
["2011-11-07",null,null,null,null,null,null,0]
["2011-11-08",null,null,null,null,null,null,0]
["2011-11-09",null,null,null,null,null,null,0]
["2011-11-10",null,null,null,null,null,null,0]
["2011-11-11",null,null,null,null,null,null,0]
["2011-11-12",null,null,null,null,null,null,0]
["2011-11-13",null,null,null,null,null,null,0]
["2011-11-14",null,null,null,null,null,null,0]
["2011-11-15",null,null,null,null,null,null,0]
["2011-11-16",null,null,null,null,null,null,0]
["2011-11-17",null,null,null,null,null,null,0]
["2011-11-18",null,null,null,null,null,null,0]
["2011-11-19",null,null,null,null,null,null,0]
["2011-11-20",null,null,null,null,null,null,0]
["2011-11-21",null,null,null,null,null,null,0]
["2011-11-22",null,null,null,null,null,null,0]
["2011-11-23",null,null,null,null,null,null,0]
["2011-11-24",null,null,null,null,null,null,0]
["2011-11-25",null,null,null,null,null,null,0]
["2011-11-26",null,null,null,null,null,null,0]
["2011-11-27",null,null,null,null,null,null,0]
["2011-11-28",null,null,null,null,null,null,0]
["2011-11-29",null,null,null,null,null,null,0]
["2011-11-30",null,null,null,null,null,null,0]
["December:",{"$f":"SUM(B350:B380)","v":0},{"$f":"SUM(C350:C380)","v":0},0,0,0,0,{"$f":"SUM(B349:G349)","v":0},{"$f":"'Descriptive Characteristics'!C357","v":0},{"$f":"IF(I349=0,\"\",(H349*1000)/I349)","v":""}]
["2011-12-01",null,null,null,null,null,null,{"$f":"SUM(B350:G350)","v":0}]
["2011-12-02",null,null,null,null,null,null,0]
["2011-12-03",null,null,null,null,null,null,0]
["2011-12-04",null,null,null,null,null,null,0]
["2011-12-05",null,null,null,null,null,null,0]
["2011-12-06",null,null,null,null,null,null,0]
["2011-12-07",null,null,null,null,null,null,0]
["2011-12-08",null,null,null,null,null,null,0]
["2011-12-09",null,null,null,null,null,null,0]
["2011-12-10",null,null,null,null,null,null,0]
["2011-12-11",null,null,null,null,null,null,0]
["2011-12-12",null,null,null,null,null,null,0]
["2011-12-13",null,null,null,null,null,null,0]
["2011-12-14",null,null,null,null,null,null,0]
["2011-12-15",null,null,null,null,null,null,0]
["2011-12-16",null,null,null,null,null,null,0]
["2011-12-17",null,null,null,null,null,null,0]
["2011-12-18",null,null,null,null,null,null,0]
["2011-12-19",null,null,null,null,null,null,0]
["2011-12-20",null,null,null,null,null,null,0]
["2011-12-21",null,null,null,null,null,null,0]
["2011-12-22",null,null,null,null,null,null,0]
["2011-12-23",null,null,null,null,null,null,0]
["2011-12-24",null,null,null,null,null,null,0]
["2011-12-25",null,null,null,null,null,null,0]
["2011-12-26",null,null,null,null,null,null,0]
["2011-12-27",null,null,null,null,null,null,0]
["2011-12-28",null,null,null,null,null,null,0]
["2011-12-29",null,null,null,null,null,null,0]
["2011-12-30",null,null,null,null,null,null,0]
["2011-12-31",null,null,null,null,null,null,0]
["Year-To-Date:",{"$f":"SUM(B4,B36,B65,B97,B128,B160,B191,B223,B255,B286,B318,B349)","v":0},{"$f":"SUM(C4,C36,C65,C97,C128,C160,C191,C223,C255,C286,C318,C349)","v":0},0,0,0,0,0,{"$f":"'Descriptive Characteristics'!C389","v":0},{"$f":"IF(I381=0,\"\",(H381*1000)/I381)","v":""}]

{"sheet":"PM #3 - O&M Expense","index":6,"n_rows":17,"n_cols":6,"rows_kept":17,"cut":false,"hidden":false,"merged":[[2,2,2,3],[2,4,2,5],[2,1,3,1],[2,0,3,0]]}
[]
[]
[null,"VSM","OME",null,"OME per VSM"]
[null,null,"w/Utilities Expense","w/o Utilities Expense","w/Utilities Expense","w/o Utilities Expense"]
["January",{"$f":"'Descriptive Characteristics'!C12","v":0},null,null,{"$f":"IF(C5=0,\"\",C5/B5)","v":""},{"$f":"IF(D5=0,\"\",D5/B5)","v":""}]
["February",{"$f":"'Descriptive Characteristics'!C44","v":0},null,null,{"$f":"IF(C6=0,\"\",C6/B6)","v":""},{"$f":"IF(D6=0,\"\",D6/B6)","v":""}]
["March",{"$f":"'Descriptive Characteristics'!C73","v":0},null,null,"",""]
["April",{"$f":"'Descriptive Characteristics'!C105","v":0},null,null,"",""]
["May",{"$f":"'Descriptive Characteristics'!C136","v":0},null,null,"",""]
["June",{"$f":"'Descriptive Characteristics'!C168","v":0},null,null,"",""]
["July",{"$f":"'Descriptive Characteristics'!C199","v":0},null,null,"",""]
["August",{"$f":"'Descriptive Characteristics'!C231","v":0},null,null,"",""]
["September",{"$f":"'Descriptive Characteristics'!C263","v":0},null,null,"",""]
["October",{"$f":"'Descriptive Characteristics'!C294","v":0},null,null,"",""]
["November",{"$f":"'Descriptive Characteristics'!C326","v":0},null,null,"",""]
["December",{"$f":"'Descriptive Characteristics'!C357","v":0},null,null,"",""]
["Year-To-Date",{"$f":"'Descriptive Characteristics'!C389","v":0},{"$f":"SUM(C5:C16)","v":0},0,"",""]

{"sheet":"PM #4 - Capacity","index":7,"n_rows":382,"n_cols":37,"rows_kept":382,"cut":false,"hidden":false,"merged":[[2,36,3,36],[2,1,2,4],[2,5,2,8],[2,9,3,9],[1,10,1,18],[2,10,2,13],[2,14,2,17],[2,18,3,18],[1,1,1,9],[1,19,1,27],[1,28,1,36],[2,19,2,22],[2,23,2,26],[2,27,3,27],[2,28,2,31],[2,32,2,35]]}
[]
[null,"Scheduled Capacity - Peak",null,null,null,null,null,null,null,null,"Scheduled Capacity - All Other",null,null,null,null,null,null,null,null,"Actual Capacity - Peak",null,null,null,null,null,null,null,null,"Actual Capacity - All Other"]
[null,"Train Consist Type 1",null,null,null,"Train Consist Type 2",null,null,null,"Total\nSC","Train Consist Type 1",null,null,null,"Train Consist Type 2",null,null,null,"Total\nSC","Train Consist Type 1",null,null,null,"Train Consist Type 2",null,null,null,"Total\nSC","Train Consist Type 1",null,null,null,"Train Consist Type 2",null,null,null,"Total\nSC"]
[null,"SNT","CDC","SNCT","SC","SNT","CDC","SNCT","SC",null,"SNT","CDC","SNCT","SC","SNT","CDC","SNCT","SC",null,"SNT","CDC","SNCT","SC","SNT","CDC","SNCT","SC",null,"SNT","CDC","SNCT","SC","SNT","CDC","SNCT","SC"]
["January MTD:",null,null,null,{"$f":"SUM(E6:E36)","v":0},null,null,null,{"$f":"SUM(I6:I36)","v":0},{"$f":"SUM(E5,I5)","v":0},null,null,null,{"$f":"SUM(N6:N36)","v":0},null,null,null,{"$f":"SUM(R6:R36)","v":0},{"$f":"SUM(N5,R5)","v":0},null,null,null,{"$f":"SUM(W6:W36)","v":0},null,null,null,{"$f":"SUM(AA6:AA36)","v":0},{"$f":"SUM(W5,AA5)","v":0},null,null,null,{"$f":"SUM(AF6:AF36)","v":0},null,null,null,{"$f":"SUM(AJ6:AJ36)","v":0},{"$f":"SUM(AF5,AJ5)","v":0}]
["2011-01-01",null,null,null,{"$f":"B6*C6*D6","v":0},null,null,null,{"$f":"F6*G6*H6","v":0},{"$f":"SUM(E6,I6)","v":0},null,null,null,{"$f":"K6*L6*M6","v":0},null,null,null,{"$f":"O6*P6*Q6","v":0},{"$f":"SUM(N6,R6)","v":0},null,null,null,{"$f":"T6*U6*V6","v":0},null,null,null,{"$f":"X6*Y6*Z6","v":0},{"$f":"SUM(W6,AA6)","v":0},null,null,null,{"$f":"AC6*AD6*AE6","v":0},null,null,null,{"$f":"AG6*AH6*AI6","v":0},{"$f":"SUM(AF6,AJ6)","v":0}]
["2011-01-02",null,null,null,{"$f":"B7*C7*D7","v":0},null,null,null,{"$f":"F7*G7*H7","v":0},{"$f":"SUM(E7,I7)","v":0},null,null,null,{"$f":"K7*L7*M7","v":0},null,null,null,{"$f":"O7*P7*Q7","v":0},{"$f":"SUM(N7,R7)","v":0},null,null,null,{"$f":"T7*U7*V7","v":0},null,null,null,{"$f":"X7*Y7*Z7","v":0},{"$f":"SUM(W7,AA7)","v":0},null,null,null,{"$f":"AC7*AD7*AE7","v":0},null,null,null,{"$f":"AG7*AH7*AI7","v":0},{"$f":"SUM(AF7,AJ7)","v":0}]
["2011-01-03",null,null,null,0,null,null,null,0,0,null,null,null,0,null,null,null,0,0,null,null,null,0,null,null,null,0,0,null,null,null,0,null,null,null,0,0]
["2011-01-04",null,null,null,0,null,null,null,0,0,null,null,null,0,null,null,null,0,0,null,null,null,0,null,null,null,0,0,null,null,null,0,null,null,null,0,0]
["2011-01-05",null,null,null,0,null,null,null,0,0,null,null,null,0,null,null,null,0,0,null,null,null,0,null,null,null,0,0,null,null,null,0,null,null,null,0,0]
["2011-01-06",null,null,null,0,null,null,null,0,0,null,null,null,0,null,null,null,0,0,null,null,null,0,null,null,null,0,0,null,null,null,0,null,null,null,0,0]
["2011-01-07",null,null,null,0,null,null,null,0,0,null,null,null,0,null,null,null,0,0,null,null,null,0,null,null,null,0,0,null,null,null,0,null,null,null,0,0]
["2011-01-08",null,null,null,0,null,null,null,0,0,null,null,null,0,null,null,null,0,0,null,null,null,0,null,null,null,0,0,null,null,null,0,null,null,null,0,0]
["2011-01-09",null,null,null,0,null,null,null,0,0,null,null,null,0,null,null,null,0,0,null,null,null,0,null,null,null,0,0,null,null,null,0,null,null,null,0,0]
["2011-01-10",null,null,null,0,null,null,null,0,0,null,null,null,0,null,null,null,0,0,null,null,null,0,null,null,null,0,0,null,null,null,0,null,null,null,0,0]
["2011-01-11",null,null,null,0,null,null,null,0,0,null,null,null,0,null,null,null,0,0,null,null,null,0,null,null,null,0,0,null,null,null,0,null,null,null,0,0]
["2011-01-12",null,null,null,0,null,null,null,0,0,null,null,null,0,null,null,null,0,0,null,null,null,0,null,null,null,0,0,null,null,null,0,null,null,null,0,0]
["2011-01-13",null,null,null,0,null,null,null,0,0,null,null,null,0,null,null,null,0,0,null,null,null,0,null,null,null,0,0,null,null,null,0,null,null,null,0,0]
["2011-01-14",null,null,null,0,null,null,null,0,0,null,null,null,0,null,null,null,0,0,null,null,null,0,null,null,null,0,0,null,null,null,0,null,null,null,0,0]
["2011-01-15",null,null,null,0,null,null,null,0,0,null,null,null,0,null,null,null,0,0,null,null,null,0,null,null,null,0,0,null,null,null,0,null,null,null,0,0]
["2011-01-16",null,null,null,0,null,null,null,0,0,null,null,null,0,null,null,null,0,0,null,null,null,0,null,null,null,0,0,null,null,null,0,null,null,null,0,0]
["2011-01-17",null,null,null,0,null,null,null,0,0,null,null,null,0,null,null,null,0,0,null,null,null,0,null,null,null,0,0,null,null,null,0,null,null,null,0,0]
["2011-01-18",null,null,null,0,null,null,null,0,0,null,null,null,0,null,null,null,0,0,null,null,null,0,null,null,null,0,0,null,null,null,0,null,null,null,0,0]
["2011-01-19",null,null,null,0,null,null,null,0,0,null,null,null,0,null,null,null,0,0,null,null,null,0,null,null,null,0,0,null,null,null,0,null,null,null,0,0]
["2011-01-20",null,null,null,0,null,null,null,0,0,null,null,null,0,null,null,null,0,0,null,null,null,0,null,null,null,0,0,null,null,null,0,null,null,null,0,0]
["2011-01-21",null,null,null,0,null,null,null,0,0,null,null,null,0,null,null,null,0,0,null,null,null,0,null,null,null,0,0,null,null,null,0,null,null,null,0,0]
["2011-01-22",null,null,null,0,null,null,null,0,0,null,null,null,0,null,null,null,0,0,null,null,null,0,null,null,null,0,0,null,null,null,0,null,null,null,0,0]
["2011-01-23",null,null,null,0,null,null,null,0,0,null,null,null,0,null,null,null,0,0,null,null,null,0,null,null,null,0,0,null,null,null,0,null,null,null,0,0]
["2011-01-24",null,null,null,0,null,null,null,0,0,null,null,null,0,null,null,null,0,0,null,null,null,0,null,null,null,0,0,null,null,null,0,null,null,null,0,0]
["2011-01-25",null,null,null,0,null,null,null,0,0,null,null,null,0,null,null,null,0,0,null,null,null,0,null,null,null,0,0,null,null,null,0,null,null,null,0,0]
["2011-01-26",null,null,null,0,null,null,null,0,0,null,null,null,0,null,null,null,0,0,null,null,null,0,null,null,null,0,0,null,null,null,0,null,null,null,0,0]
["2011-01-27",null,null,null,0,null,null,null,0,0,null,null,null,0,null,null,null,0,0,null,null,null,0,null,null,null,0,0,null,null,null,0,null,null,null,0,0]
["2011-01-28",null,null,null,0,null,null,null,0,0,null,null,null,0,null,null,null,0,0,null,null,null,0,null,null,null,0,0,null,null,null,0,null,null,null,0,0]
["2011-01-29",null,null,null,0,null,null,null,0,0,null,null,null,0,null,null,null,0,0,null,null,null,0,null,null,null,0,0,null,null,null,0,null,null,null,0,0]
["2011-01-30",null,null,null,0,null,null,null,0,0,null,null,null,0,null,null,null,0,0,null,null,null,0,null,null,null,0,0,null,null,null,0,null,null,null,0,0]
["2011-01-31",null,null,null,0,null,null,null,0,0,null,null,null,0,null,null,null,0,0,null,null,null,0,null,null,null,0,0,null,null,null,0,null,null,null,0,0]
["February MTD:",null,null,null,{"$f":"SUM(E38:E65)","v":0},null,null,null,{"$f":"SUM(I38:I65)","v":0},{"$f":"SUM(E37,I37)","v":0},null,null,null,{"$f":"SUM(N38:N65)","v":0},null,null,null,{"$f":"SUM(R38:R65)","v":0},{"$f":"SUM(N37,R37)","v":0},null,null,null,{"$f":"SUM(W38:W65)","v":0},null,null,null,{"$f":"SUM(AA38:AA65)","v":0},{"$f":"SUM(W37,AA37)","v":0},null,null,null,{"$f":"SUM(AF38:AF65)","v":0},null,null,null,{"$f":"SUM(AJ38:AJ65)","v":0},{"$f":"SUM(AF37,AJ37)","v":0}]
["2011-02-01",null,null,null,{"$f":"B38*C38*D38","v":0},null,null,null,{"$f":"F38*G38*H38","v":0},{"$f":"SUM(E38,I38)","v":0},null,null,null,{"$f":"K38*L38*M38","v":0},null,null,null,{"$f":"O38*P38*Q38","v":0},{"$f":"SUM(N38,R38)","v":0},null,null,null,{"$f":"T38*U38*V38","v":0},null,null,null,{"$f":"X38*Y38*Z38","v":0},{"$f":"SUM(W38,AA38)","v":0},null,null,null,{"$f":"AC38*AD38*AE38","v":0},null,null,null,{"$f":"AG38*AH38*AI38","v":0},{"$f":"SUM(AF38,AJ38)","v":0}]
["2011-02-02",null,null,null,{"$f":"B39*C39*D39","v":0},null,null,null,{"$f":"F39*G39*H39","v":0},{"$f":"SUM(E39,I39)","v":0},null,null,null,{"$f":"K39*L39*M39","v":0},null,null,null,{"$f":"O39*P39*Q39","v":0},{"$f":"SUM(N39,R39)","v":0},null,null,null,{"$f":"T39*U39*V39","v":0},null,null,null,{"$f":"X39*Y39*Z39","v":0},{"$f":"SUM(W39,AA39)","v":0},null,null,null,{"$f":"AC39*AD39*AE39","v":0},null,null,null,{"$f":"AG39*AH39*AI39","v":0},{"$f":"SUM(AF39,AJ39)","v":0}]
["2011-02-03",null,null,null,0,null,null,null,0,0,null,null,null,0,null,null,null,0,0,null,null,null,0,null,null,null,0,0,null,null,null,0,null,null,null,0,0]
["2011-02-04",null,null,null,0,null,null,null,0,0,null,null,null,0,null,null,null,0,0,null,null,null,0,null,null,null,0,0,null,null,null,0,null,null,null,0,0]
["2011-02-05",null,null,null,0,null,null,null,0,0,null,null,null,0,null,null,null,0,0,null,null,null,0,null,null,null,0,0,null,null,null,0,null,null,null,0,0]
["2011-02-06",null,null,null,0,null,null,null,0,0,null,null,null,0,null,null,null,0,0,null,null,null,0,null,null,null,0,0,null,null,null,0,null,null,null,0,0]
["2011-02-07",null,null,null,0,null,null,null,0,0,null,null,null,0,null,null,null,0,0,null,null,null,0,null,null,null,0,0,null,null,null,0,null,null,null,0,0]
["2011-02-08",null,null,null,0,null,null,null,0,0,null,null,null,0,null,null,null,0,0,null,null,null,0,null,null,null,0,0,null,null,null,0,null,null,null,0,0]
["2011-02-09",null,null,null,0,null,null,null,0,0,null,null,null,0,null,null,null,0,0,null,null,null,0,null,null,null,0,0,null,null,null,0,null,null,null,0,0]
["2011-02-10",null,null,null,0,null,null,null,0,0,null,null,null,0,null,null,null,0,0,null,null,null,0,null,null,null,0,0,null,null,null,0,null,null,null,0,0]
["2011-02-11",null,null,null,0,null,null,null,0,0,null,null,null,0,null,null,null,0,0,null,null,null,0,null,null,null,0,0,null,null,null,0,null,null,null,0,0]
["2011-02-12",null,null,null,0,null,null,null,0,0,null,null,null,0,null,null,null,0,0,null,null,null,0,null,null,null,0,0,null,null,null,0,null,null,null,0,0]
["2011-02-13",null,null,null,0,null,null,null,0,0,null,null,null,0,null,null,null,0,0,null,null,null,0,null,null,null,0,0,null,null,null,0,null,null,null,0,0]
["2011-02-14",null,null,null,0,null,null,null,0,0,null,null,null,0,null,null,null,0,0,null,null,null,0,null,null,null,0,0,null,null,null,0,null,null,null,0,0]
["2011-02-15",null,null,null,0,null,null,null,0,0,null,null,null,0,null,null,null,0,0,null,null,null,0,null,null,null,0,0,null,null,null,0,null,null,null,0,0]
["2011-02-16",null,null,null,0,null,null,null,0,0,null,null,null,0,null,null,null,0,0,null,null,null,0,null,null,null,0,0,null,null,null,0,null,null,null,0,0]
["2011-02-17",null,null,null,0,null,null,null,0,0,null,null,null,0,null,null,null,0,0,null,null,null,0,null,null,null,0,0,null,null,null,0,null,null,null,0,0]
["2011-02-18",null,null,null,0,null,null,null,0,0,null,null,null,0,null,null,null,0,0,null,null,null,0,null,null,null,0,0,null,null,null,0,null,null,null,0,0]
["2011-02-19",null,null,null,0,null,null,null,0,0,null,null,null,0,null,null,null,0,0,null,null,null,0,null,null,null,0,0,null,null,null,0,null,null,null,0,0]
["2011-02-20",null,null,null,0,null,null,null,0,0,null,null,null,0,null,null,null,0,0,null,null,null,0,null,null,null,0,0,null,null,null,0,null,null,null,0,0]
["2011-02-21",null,null,null,0,null,null,null,0,0,null,null,null,0,null,null,null,0,0,null,null,null,0,null,null,null,0,0,null,null,null,0,null,null,null,0,0]
["2011-02-22",null,null,null,0,null,null,null,0,0,null,null,null,0,null,null,null,0,0,null,null,null,0,null,null,null,0,0,null,null,null,0,null,null,null,0,0]
["2011-02-23",null,null,null,0,null,null,null,0,0,null,null,null,0,null,null,null,0,0,null,null,null,0,null,null,null,0,0,null,null,null,0,null,null,null,0,0]
["2011-02-24",null,null,null,0,null,null,null,0,0,null,null,null,0,null,null,null,0,0,null,null,null,0,null,null,null,0,0,null,null,null,0,null,null,null,0,0]
["2011-02-25",null,null,null,0,null,null,null,0,0,null,null,null,0,null,null,null,0,0,null,null,null,0,null,null,null,0,0,null,null,null,0,null,null,null,0,0]
["2011-02-26",null,null,null,0,null,null,null,0,0,null,null,null,0,null,null,null,0,0,null,null,null,0,null,null,null,0,0,null,null,null,0,null,null,null,0,0]
["2011-02-27",null,null,null,0,null,null,null,0,0,null,null,null,0,null,null,null,0,0,null,null,null,0,null,null,null,0,0,null,null,null,0,null,null,null,0,0]
["2011-02-28",null,null,null,0,null,null,null,0,0,null,null,null,0,null,null,null,0,0,null,null,null,0,null,null,null,0,0,null,null,null,0,null,null,null,0,0]
["March MTD:",null,null,null,{"$f":"SUM(E67:E97)","v":0},null,null,null,{"$f":"SUM(I67:I97)","v":0},{"$f":"SUM(E66,I66)","v":0},null,null,null,{"$f":"SUM(N67:N97)","v":0},null,null,null,{"$f":"SUM(R67:R97)","v":0},{"$f":"SUM(N66,R66)","v":0},null,null,null,{"$f":"SUM(W67:W97)","v":0},null,null,null,{"$f":"SUM(AA67:AA97)","v":0},{"$f":"SUM(W66,AA66)","v":0},null,null,null,{"$f":"SUM(AF67:AF97)","v":0},null,null,null,{"$f":"SUM(AJ67:AJ97)","v":0},{"$f":"SUM(AF66,AJ66)","v":0}]
["2011-03-01",null,null,null,{"$f":"B67*C67*D67","v":0},null,null,null,{"$f":"F67*G67*H67","v":0},{"$f":"SUM(E67,I67)","v":0},null,null,null,{"$f":"K67*L67*M67","v":0},null,null,null,{"$f":"O67*P67*Q67","v":0},{"$f":"SUM(N67,R67)","v":0},null,null,null,{"$f":"T67*U67*V67","v":0},null,null,null,{"$f":"X67*Y67*Z67","v":0},{"$f":"SUM(W67,AA67)","v":0},null,null,null,{"$f":"AC67*AD67*AE67","v":0},null,null,null,{"$f":"AG67*AH67*AI67","v":0},{"$f":"SUM(AF67,AJ67)","v":0}]
["2011-03-02",null,null,null,{"$f":"B68*C68*D68","v":0},null,null,null,{"$f":"F68*G68*H68","v":0},{"$f":"SUM(E68,I68)","v":0},null,null,null,{"$f":"K68*L68*M68","v":0},null,null,null,{"$f":"O68*P68*Q68","v":0},{"$f":"SUM(N68,R68)","v":0},null,null,null,{"$f":"T68*U68*V68","v":0},null,null,null,{"$f":"X68*Y68*Z68","v":0},{"$f":"SUM(W68,AA68)","v":0},null,null,null,{"$f":"AC68*AD68*AE68","v":0},null,null,null,{"$f":"AG68*AH68*AI68","v":0},{"$f":"SUM(AF68,AJ68)","v":0}]
["2011-03-03",null,null,null,0,null,null,null,0,0,null,null,null,0,null,null,null,0,0,null,null,null,0,null,null,null,0,0,null,null,null,0,null,null,null,0,0]
["2011-03-04",null,null,null,0,null,null,null,0,0,null,null,null,0,null,null,null,0,0,null,null,null,0,null,null,null,0,0,null,null,null,0,null,null,null,0,0]
["2011-03-05",null,null,null,0,null,null,null,0,0,null,null,null,0,null,null,null,0,0,null,null,null,0,null,null,null,0,0,null,null,null,0,null,null,null,0,0]
["2011-03-06",null,null,null,0,null,null,null,0,0,null,null,null,0,null,null,null,0,0,null,null,null,0,null,null,null,0,0,null,null,null,0,null,null,null,0,0]
["2011-03-07",null,null,null,0,null,null,null,0,0,null,null,null,0,null,null,null,0,0,null,null,null,0,null,null,null,0,0,null,null,null,0,null,null,null,0,0]
["2011-03-08",null,null,null,0,null,null,null,0,0,null,null,null,0,null,null,null,0,0,null,null,null,0,null,null,null,0,0,null,null,null,0,null,null,null,0,0]
["2011-03-09",null,null,null,0,null,null,null,0,0,null,null,null,0,null,null,null,0,0,null,null,null,0,null,null,null,0,0,null,null,null,0,null,null,null,0,0]
["2011-03-10",null,null,null,0,null,null,null,0,0,null,null,null,0,null,null,null,0,0,null,null,null,0,null,null,null,0,0,null,null,null,0,null,null,null,0,0]
["2011-03-11",null,null,null,0,null,null,null,0,0,null,null,null,0,null,null,null,0,0,null,null,null,0,null,null,null,0,0,null,null,null,0,null,null,null,0,0]
["2011-03-12",null,null,null,0,null,null,null,0,0,null,null,null,0,null,null,null,0,0,null,null,null,0,null,null,null,0,0,null,null,null,0,null,null,null,0,0]
["2011-03-13",null,null,null,0,null,null,null,0,0,null,null,null,0,null,null,null,0,0,null,null,null,0,null,null,null,0,0,null,null,null,0,null,null,null,0,0]
["2011-03-14",null,null,null,0,null,null,null,0,0,null,null,null,0,null,null,null,0,0,null,null,null,0,null,null,null,0,0,null,null,null,0,null,null,null,0,0]
["2011-03-15",null,null,null,0,null,null,null,0,0,null,null,null,0,null,null,null,0,0,null,null,null,0,null,null,null,0,0,null,null,null,0,null,null,null,0,0]
["2011-03-16",null,null,null,0,null,null,null,0,0,null,null,null,0,null,null,null,0,0,null,null,null,0,null,null,null,0,0,null,null,null,0,null,null,null,0,0]
["2011-03-17",null,null,null,0,null,null,null,0,0,null,null,null,0,null,null,null,0,0,null,null,null,0,null,null,null,0,0,null,null,null,0,null,null,null,0,0]
["2011-03-18",null,null,null,0,null,null,null,0,0,null,null,null,0,null,null,null,0,0,null,null,null,0,null,null,null,0,0,null,null,null,0,null,null,null,0,0]
["2011-03-19",null,null,null,0,null,null,null,0,0,null,null,null,0,null,null,null,0,0,null,null,null,0,null,null,null,0,0,null,null,null,0,null,null,null,0,0]
["2011-03-20",null,null,null,0,null,null,null,0,0,null,null,null,0,null,null,null,0,0,null,null,null,0,null,null,null,0,0,null,null,null,0,null,null,null,0,0]
["2011-03-21",null,null,null,0,null,null,null,0,0,null,null,null,0,null,null,null,0,0,null,null,null,0,null,null,null,0,0,null,null,null,0,null,null,null,0,0]
["2011-03-22",null,null,null,0,null,null,null,0,0,null,null,null,0,null,null,null,0,0,null,null,null,0,null,null,null,0,0,null,null,null,0,null,null,null,0,0]
["2011-03-23",null,null,null,0,null,null,null,0,0,null,null,null,0,null,null,null,0,0,null,null,null,0,null,null,null,0,0,null,null,null,0,null,null,null,0,0]
["2011-03-24",null,null,null,0,null,null,null,0,0,null,null,null,0,null,null,null,0,0,null,null,null,0,null,null,null,0,0,null,null,null,0,null,null,null,0,0]
["2011-03-25",null,null,null,0,null,null,null,0,0,null,null,null,0,null,null,null,0,0,null,null,null,0,null,null,null,0,0,null,null,null,0,null,null,null,0,0]
["2011-03-26",null,null,null,0,null,null,null,0,0,null,null,null,0,null,null,null,0,0,null,null,null,0,null,null,null,0,0,null,null,null,0,null,null,null,0,0]
["2011-03-27",null,null,null,0,null,null,null,0,0,null,null,null,0,null,null,null,0,0,null,null,null,0,null,null,null,0,0,null,null,null,0,null,null,null,0,0]
["2011-03-28",null,null,null,0,null,null,null,0,0,null,null,null,0,null,null,null,0,0,null,null,null,0,null,null,null,0,0,null,null,null,0,null,null,null,0,0]
["2011-03-29",null,null,null,0,null,null,null,0,0,null,null,null,0,null,null,null,0,0,null,null,null,0,null,null,null,0,0,null,null,null,0,null,null,null,0,0]
["2011-03-30",null,null,null,0,null,null,null,0,0,null,null,null,0,null,null,null,0,0,null,null,null,0,null,null,null,0,0,null,null,null,0,null,null,null,0,0]
["2011-03-31",null,null,null,0,null,null,null,0,0,null,null,null,0,null,null,null,0,0,null,null,null,0,null,null,null,0,0,null,null,null,0,null,null,null,0,0]
["April MTD:",null,null,null,{"$f":"SUM(E99:E128)","v":0},null,null,null,{"$f":"SUM(I99:I128)","v":0},{"$f":"SUM(E98,I98)","v":0},null,null,null,{"$f":"SUM(N99:N128)","v":0},null,null,null,{"$f":"SUM(R99:R128)","v":0},{"$f":"SUM(N98,R98)","v":0},null,null,null,{"$f":"SUM(W99:W128)","v":0},null,null,null,{"$f":"SUM(AA99:AA128)","v":0},{"$f":"SUM(W98,AA98)","v":0},null,null,null,{"$f":"SUM(AF99:AF128)","v":0},null,null,null,{"$f":"SUM(AJ99:AJ128)","v":0},{"$f":"SUM(AF98,AJ98)","v":0}]
["2011-04-01",null,null,null,{"$f":"B99*C99*D99","v":0},null,null,null,{"$f":"F99*G99*H99","v":0},{"$f":"SUM(E99,I99)","v":0},null,null,null,{"$f":"K99*L99*M99","v":0},null,null,null,{"$f":"O99*P99*Q99","v":0},{"$f":"SUM(N99,R99)","v":0},null,null,null,{"$f":"T99*U99*V99","v":0},null,null,null,{"$f":"X99*Y99*Z99","v":0},{"$f":"SUM(W99,AA99)","v":0},null,null,null,{"$f":"AC99*AD99*AE99","v":0},null,null,null,{"$f":"AG99*AH99*AI99","v":0},{"$f":"SUM(AF99,AJ99)","v":0}]
["2011-04-02",null,null,null,0,null,null,null,0,{"$f":"SUM(E100,I100)","v":0},null,null,null,0,null,null,null,0,{"$f":"SUM(N100,R100)","v":0},null,null,null,0,null,null,null,0,{"$f":"SUM(W100,AA100)","v":0},null,null,null,0,null,null,null,0,{"$f":"SUM(AF100,AJ100)","v":0}]
["2011-04-03",null,null,null,0,null,null,null,0,0,null,null,null,0,null,null,null,0,0,null,null,null,0,null,null,null,0,0,null,null,null,0,null,null,null,0,0]
["2011-04-04",null,null,null,0,null,null,null,0,0,null,null,null,0,null,null,null,0,0,null,null,null,0,null,null,null,0,0,null,null,null,0,null,null,null,0,0]
["2011-04-05",null,null,null,0,null,null,null,0,0,null,null,null,0,null,null,null,0,0,null,null,null,0,null,null,null,0,0,null,null,null,0,null,null,null,0,0]
["2011-04-06",null,null,null,0,null,null,null,0,0,null,null,null,0,null,null,null,0,0,null,null,null,0,null,null,null,0,0,null,null,null,0,null,null,null,0,0]
["2011-04-07",null,null,null,0,null,null,null,0,0,null,null,null,0,null,null,null,0,0,null,null,null,0,null,null,null,0,0,null,null,null,0,null,null,null,0,0]
["2011-04-08",null,null,null,0,null,null,null,0,0,null,null,null,0,null,null,null,0,0,null,null,null,0,null,null,null,0,0,null,null,null,0,null,null,null,0,0]
["2011-04-09",null,null,null,0,null,null,null,0,0,null,null,null,0,null,null,null,0,0,null,null,null,0,null,null,null,0,0,null,null,null,0,null,null,null,0,0]
["2011-04-10",null,null,null,0,null,null,null,0,0,null,null,null,0,null,null,null,0,0,null,null,null,0,null,null,null,0,0,null,null,null,0,null,null,null,0,0]
["2011-04-11",null,null,null,0,null,null,null,0,0,null,null,null,0,null,null,null,0,0,null,null,null,0,null,null,null,0,0,null,null,null,0,null,null,null,0,0]
["2011-04-12",null,null,null,0,null,null,null,0,0,null,null,null,0,null,null,null,0,0,null,null,null,0,null,null,null,0,0,null,null,null,0,null,null,null,0,0]
["2011-04-13",null,null,null,0,null,null,null,0,0,null,null,null,0,null,null,null,0,0,null,null,null,0,null,null,null,0,0,null,null,null,0,null,null,null,0,0]
["2011-04-14",null,null,null,0,null,null,null,0,0,null,null,null,0,null,null,null,0,0,null,null,null,0,null,null,null,0,0,null,null,null,0,null,null,null,0,0]
["2011-04-15",null,null,null,0,null,null,null,0,0,null,null,null,0,null,null,null,0,0,null,null,null,0,null,null,null,0,0,null,null,null,0,null,null,null,0,0]
["2011-04-16",null,null,null,0,null,null,null,0,0,null,null,null,0,null,null,null,0,0,null,null,null,0,null,null,null,0,0,null,null,null,0,null,null,null,0,0]
["2011-04-17",null,null,null,0,null,null,null,0,0,null,null,null,0,null,null,null,0,0,null,null,null,0,null,null,null,0,0,null,null,null,0,null,null,null,0,0]
["2011-04-18",null,null,null,0,null,null,null,0,0,null,null,null,0,null,null,null,0,0,null,null,null,0,null,null,null,0,0,null,null,null,0,null,null,null,0,0]
["2011-04-19",null,null,null,0,null,null,null,0,0,null,null,null,0,null,null,null,0,0,null,null,null,0,null,null,null,0,0,null,null,null,0,null,null,null,0,0]
["2011-04-20",null,null,null,0,null,null,null,0,0,null,null,null,0,null,null,null,0,0,null,null,null,0,null,null,null,0,0,null,null,null,0,null,null,null,0,0]
["2011-04-21",null,null,null,0,null,null,null,0,0,null,null,null,0,null,null,null,0,0,null,null,null,0,null,null,null,0,0,null,null,null,0,null,null,null,0,0]
["2011-04-22",null,null,null,0,null,null,null,0,0,null,null,null,0,null,null,null,0,0,null,null,null,0,null,null,null,0,0,null,null,null,0,null,null,null,0,0]
["2011-04-23",null,null,null,0,null,null,null,0,0,null,null,null,0,null,null,null,0,0,null,null,null,0,null,null,null,0,0,null,null,null,0,null,null,null,0,0]
["2011-04-24",null,null,null,0,null,null,null,0,0,null,null,null,0,null,null,null,0,0,null,null,null,0,null,null,null,0,0,null,null,null,0,null,null,null,0,0]
["2011-04-25",null,null,null,0,null,null,null,0,0,null,null,null,0,null,null,null,0,0,null,null,null,0,null,null,null,0,0,null,null,null,0,null,null,null,0,0]
["2011-04-26",null,null,null,0,null,null,null,0,0,null,null,null,0,null,null,null,0,0,null,null,null,0,null,null,null,0,0,null,null,null,0,null,null,null,0,0]
["2011-04-27",null,null,null,0,null,null,null,0,0,null,null,null,0,null,null,null,0,0,null,null,null,0,null,null,null,0,0,null,null,null,0,null,null,null,0,0]
["2011-04-28",null,null,null,0,null,null,null,0,0,null,null,null,0,null,null,null,0,0,null,null,null,0,null,null,null,0,0,null,null,null,0,null,null,null,0,0]
["2011-04-29",null,null,null,0,null,null,null,0,0,null,null,null,0,null,null,null,0,0,null,null,null,0,null,null,null,0,0,null,null,null,0,null,null,null,0,0]
["2011-04-30",null,null,null,0,null,null,null,0,0,null,null,null,0,null,null,null,0,0,null,null,null,0,null,null,null,0,0,null,null,null,0,null,null,null,0,0]
["May MTD:",null,null,null,{"$f":"SUM(E130:E160)","v":0},null,null,null,{"$f":"SUM(I130:I160)","v":0},{"$f":"SUM(E129,I129)","v":0},null,null,null,{"$f":"SUM(N130:N160)","v":0},null,null,null,{"$f":"SUM(R130:R160)","v":0},{"$f":"SUM(N129,R129)","v":0},null,null,null,{"$f":"SUM(W130:W160)","v":0},null,null,null,{"$f":"SUM(AA130:AA160)","v":0},{"$f":"SUM(W129,AA129)","v":0},null,null,null,{"$f":"SUM(AF130:AF160)","v":0},null,null,null,{"$f":"SUM(AJ130:AJ160)","v":0},{"$f":"SUM(AF129,AJ129)","v":0}]
["2011-05-01",null,null,null,{"$f":"B130*C130*D130","v":0},null,null,null,{"$f":"F130*G130*H130","v":0},{"$f":"SUM(E130,I130)","v":0},null,null,null,{"$f":"K130*L130*M130","v":0},null,null,null,{"$f":"O130*P130*Q130","v":0},{"$f":"SUM(N130,R130)","v":0},null,null,null,{"$f":"T130*U130*V130","v":0},null,null,null,{"$f":"X130*Y130*Z130","v":0},{"$f":"SUM(W130,AA130)","v":0},null,null,null,{"$f":"AC130*AD130*AE130","v":0},null,null,null,{"$f":"AG130*AH130*AI130","v":0},{"$f":"SUM(AF130,AJ130)","v":0}]
["2011-05-02",null,null,null,{"$f":"B131*C131*D131","v":0},null,null,null,{"$f":"F131*G131*H131","v":0},{"$f":"SUM(E131,I131)","v":0},null,null,null,{"$f":"K131*L131*M131","v":0},null,null,null,{"$f":"O131*P131*Q131","v":0},{"$f":"SUM(N131,R131)","v":0},null,null,null,{"$f":"T131*U131*V131","v":0},null,null,null,{"$f":"X131*Y131*Z131","v":0},{"$f":"SUM(W131,AA131)","v":0},null,null,null,{"$f":"AC131*AD131*AE131","v":0},null,null,null,{"$f":"AG131*AH131*AI131","v":0},{"$f":"SUM(AF131,AJ131)","v":0}]
["2011-05-03",null,null,null,0,null,null,null,0,0,null,null,null,0,null,null,null,0,0,null,null,null,0,null,null,null,0,0,null,null,null,0,null,null,null,0,0]
["2011-05-04",null,null,null,0,null,null,null,0,0,null,null,null,0,null,null,null,0,0,null,null,null,0,null,null,null,0,0,null,null,null,0,null,null,null,0,0]
["2011-05-05",null,null,null,0,null,null,null,0,0,null,null,null,0,null,null,null,0,0,null,null,null,0,null,null,null,0,0,null,null,null,0,null,null,null,0,0]
["2011-05-06",null,null,null,0,null,null,null,0,0,null,null,null,0,null,null,null,0,0,null,null,null,0,null,null,null,0,0,null,null,null,0,null,null,null,0,0]
["2011-05-07",null,null,null,0,null,null,null,0,0,null,null,null,0,null,null,null,0,0,null,null,null,0,null,null,null,0,0,null,null,null,0,null,null,null,0,0]
["2011-05-08",null,null,null,0,null,null,null,0,0,null,null,null,0,null,null,null,0,0,null,null,null,0,null,null,null,0,0,null,null,null,0,null,null,null,0,0]
["2011-05-09",null,null,null,0,null,null,null,0,0,null,null,null,0,null,null,null,0,0,null,null,null,0,null,null,null,0,0,null,null,null,0,null,null,null,0,0]
["2011-05-10",null,null,null,0,null,null,null,0,0,null,null,null,0,null,null,null,0,0,null,null,null,0,null,null,null,0,0,null,null,null,0,null,null,null,0,0]
["2011-05-11",null,null,null,0,null,null,null,0,0,null,null,null,0,null,null,null,0,0,null,null,null,0,null,null,null,0,0,null,null,null,0,null,null,null,0,0]
["2011-05-12",null,null,null,0,null,null,null,0,0,null,null,null,0,null,null,null,0,0,null,null,null,0,null,null,null,0,0,null,null,null,0,null,null,null,0,0]
["2011-05-13",null,null,null,0,null,null,null,0,0,null,null,null,0,null,null,null,0,0,null,null,null,0,null,null,null,0,0,null,null,null,0,null,null,null,0,0]
["2011-05-14",null,null,null,0,null,null,null,0,0,null,null,null,0,null,null,null,0,0,null,null,null,0,null,null,null,0,0,null,null,null,0,null,null,null,0,0]
["2011-05-15",null,null,null,0,null,null,null,0,0,null,null,null,0,null,null,null,0,0,null,null,null,0,null,null,null,0,0,null,null,null,0,null,null,null,0,0]
["2011-05-16",null,null,null,0,null,null,null,0,0,null,null,null,0,null,null,null,0,0,null,null,null,0,null,null,null,0,0,null,null,null,0,null,null,null,0,0]
["2011-05-17",null,null,null,0,null,null,null,0,0,null,null,null,0,null,null,null,0,0,null,null,null,0,null,null,null,0,0,null,null,null,0,null,null,null,0,0]
["2011-05-18",null,null,null,0,null,null,null,0,0,null,null,null,0,null,null,null,0,0,null,null,null,0,null,null,null,0,0,null,null,null,0,null,null,null,0,0]
["2011-05-19",null,null,null,0,null,null,null,0,0,null,null,null,0,null,null,null,0,0,null,null,null,0,null,null,null,0,0,null,null,null,0,null,null,null,0,0]
["2011-05-20",null,null,null,0,null,null,null,0,0,null,null,null,0,null,null,null,0,0,null,null,null,0,null,null,null,0,0,null,null,null,0,null,null,null,0,0]
["2011-05-21",null,null,null,0,null,null,null,0,0,null,null,null,0,null,null,null,0,0,null,null,null,0,null,null,null,0,0,null,null,null,0,null,null,null,0,0]
["2011-05-22",null,null,null,0,null,null,null,0,0,null,null,null,0,null,null,null,0,0,null,null,null,0,null,null,null,0,0,null,null,null,0,null,null,null,0,0]
["2011-05-23",null,null,null,0,null,null,null,0,0,null,null,null,0,null,null,null,0,0,null,null,null,0,null,null,null,0,0,null,null,null,0,null,null,null,0,0]
["2011-05-24",null,null,null,0,null,null,null,0,0,null,null,null,0,null,null,null,0,0,null,null,null,0,null,null,null,0,0,null,null,null,0,null,null,null,0,0]
["2011-05-25",null,null,null,0,null,null,null,0,0,null,null,null,0,null,null,null,0,0,null,null,null,0,null,null,null,0,0,null,null,null,0,null,null,null,0,0]
["2011-05-26",null,null,null,0,null,null,null,0,0,null,null,null,0,null,null,null,0,0,null,null,null,0,null,null,null,0,0,null,null,null,0,null,null,null,0,0]
["2011-05-27",null,null,null,0,null,null,null,0,0,null,null,null,0,null,null,null,0,0,null,null,null,0,null,null,null,0,0,null,null,null,0,null,null,null,0,0]
["2011-05-28",null,null,null,0,null,null,null,0,0,null,null,null,0,null,null,null,0,0,null,null,null,0,null,null,null,0,0,null,null,null,0,null,null,null,0,0]
["2011-05-29",null,null,null,0,null,null,null,0,0,null,null,null,0,null,null,null,0,0,null,null,null,0,null,null,null,0,0,null,null,null,0,null,null,null,0,0]
["2011-05-30",null,null,null,0,null,null,null,0,0,null,null,null,0,null,null,null,0,0,null,null,null,0,null,null,null,0,0,null,null,null,0,null,null,null,0,0]
["2011-05-31",null,null,null,0,null,null,null,0,0,null,null,null,0,null,null,null,0,0,null,null,null,0,null,null,null,0,0,null,null,null,0,null,null,null,0,0]
["June MTD:",null,null,null,{"$f":"SUM(E162:E191)","v":0},null,null,null,{"$f":"SUM(I162:I191)","v":0},{"$f":"SUM(E161,I161)","v":0},null,null,null,{"$f":"SUM(N162:N191)","v":0},null,null,null,{"$f":"SUM(R162:R191)","v":0},{"$f":"SUM(N161,R161)","v":0},null,null,null,{"$f":"SUM(W162:W191)","v":0},null,null,null,{"$f":"SUM(AA162:AA191)","v":0},{"$f":"SUM(W161,AA161)","v":0},null,null,null,{"$f":"SUM(AF162:AF191)","v":0},null,null,null,{"$f":"SUM(AJ162:AJ191)","v":0},{"$f":"SUM(AF161,AJ161)","v":0}]
["2011-06-01",null,null,null,{"$f":"B162*C162*D162","v":0},null,null,null,{"$f":"F162*G162*H162","v":0},{"$f":"SUM(E162,I162)","v":0},null,null,null,{"$f":"K162*L162*M162","v":0},null,null,null,{"$f":"O162*P162*Q162","v":0},{"$f":"SUM(N162,R162)","v":0},null,null,null,{"$f":"T162*U162*V162","v":0},null,null,null,{"$f":"X162*Y162*Z162","v":0},{"$f":"SUM(W162,AA162)","v":0},null,null,null,{"$f":"AC162*AD162*AE162","v":0},null,null,null,{"$f":"AG162*AH162*AI162","v":0},{"$f":"SUM(AF162,AJ162)","v":0}]
["2011-06-02",null,null,null,0,null,null,null,0,{"$f":"SUM(E163,I163)","v":0},null,null,null,0,null,null,null,0,{"$f":"SUM(N163,R163)","v":0},null,null,null,0,null,null,null,0,{"$f":"SUM(W163,AA163)","v":0},null,null,null,0,null,null,null,0,{"$f":"SUM(AF163,AJ163)","v":0}]
["2011-06-03",null,null,null,0,null,null,null,0,0,null,null,null,0,null,null,null,0,0,null,null,null,0,null,null,null,0,0,null,null,null,0,null,null,null,0,0]
["2011-06-04",null,null,null,0,null,null,null,0,0,null,null,null,0,null,null,null,0,0,null,null,null,0,null,null,null,0,0,null,null,null,0,null,null,null,0,0]
["2011-06-05",null,null,null,0,null,null,null,0,0,null,null,null,0,null,null,null,0,0,null,null,null,0,null,null,null,0,0,null,null,null,0,null,null,null,0,0]
["2011-06-06",null,null,null,0,null,null,null,0,0,null,null,null,0,null,null,null,0,0,null,null,null,0,null,null,null,0,0,null,null,null,0,null,null,null,0,0]
["2011-06-07",null,null,null,0,null,null,null,0,0,null,null,null,0,null,null,null,0,0,null,null,null,0,null,null,null,0,0,null,null,null,0,null,null,null,0,0]
["2011-06-08",null,null,null,0,null,null,null,0,0,null,null,null,0,null,null,null,0,0,null,null,null,0,null,null,null,0,0,null,null,null,0,null,null,null,0,0]
["2011-06-09",null,null,null,0,null,null,null,0,0,null,null,null,0,null,null,null,0,0,null,null,null,0,null,null,null,0,0,null,null,null,0,null,null,null,0,0]
["2011-06-10",null,null,null,0,null,null,null,0,0,null,null,null,0,null,null,null,0,0,null,null,null,0,null,null,null,0,0,null,null,null,0,null,null,null,0,0]
["2011-06-11",null,null,null,0,null,null,null,0,0,null,null,null,0,null,null,null,0,0,null,null,null,0,null,null,null,0,0,null,null,null,0,null,null,null,0,0]
["2011-06-12",null,null,null,0,null,null,null,0,0,null,null,null,0,null,null,null,0,0,null,null,null,0,null,null,null,0,0,null,null,null,0,null,null,null,0,0]
["2011-06-13",null,null,null,0,null,null,null,0,0,null,null,null,0,null,null,null,0,0,null,null,null,0,null,null,null,0,0,null,null,null,0,null,null,null,0,0]
["2011-06-14",null,null,null,0,null,null,null,0,0,null,null,null,0,null,null,null,0,0,null,null,null,0,null,null,null,0,0,null,null,null,0,null,null,null,0,0]
["2011-06-15",null,null,null,0,null,null,null,0,0,null,null,null,0,null,null,null,0,0,null,null,null,0,null,null,null,0,0,null,null,null,0,null,null,null,0,0]
["2011-06-16",null,null,null,0,null,null,null,0,0,null,null,null,0,null,null,null,0,0,null,null,null,0,null,null,null,0,0,null,null,null,0,null,null,null,0,0]
["2011-06-17",null,null,null,0,null,null,null,0,0,null,null,null,0,null,null,null,0,0,null,null,null,0,null,null,null,0,0,null,null,null,0,null,null,null,0,0]
["2011-06-18",null,null,null,0,null,null,null,0,0,null,null,null,0,null,null,null,0,0,null,null,null,0,null,null,null,0,0,null,null,null,0,null,null,null,0,0]
["2011-06-19",null,null,null,0,null,null,null,0,0,null,null,null,0,null,null,null,0,0,null,null,null,0,null,null,null,0,0,null,null,null,0,null,null,null,0,0]
["2011-06-20",null,null,null,0,null,null,null,0,0,null,null,null,0,null,null,null,0,0,null,null,null,0,null,null,null,0,0,null,null,null,0,null,null,null,0,0]
["2011-06-21",null,null,null,0,null,null,null,0,0,null,null,null,0,null,null,null,0,0,null,null,null,0,null,null,null,0,0,null,null,null,0,null,null,null,0,0]
["2011-06-22",null,null,null,0,null,null,null,0,0,null,null,null,0,null,null,null,0,0,null,null,null,0,null,null,null,0,0,null,null,null,0,null,null,null,0,0]
["2011-06-23",null,null,null,0,null,null,null,0,0,null,null,null,0,null,null,null,0,0,null,null,null,0,null,null,null,0,0,null,null,null,0,null,null,null,0,0]
["2011-06-24",null,null,null,0,null,null,null,0,0,null,null,null,0,null,null,null,0,0,null,null,null,0,null,null,null,0,0,null,null,null,0,null,null,null,0,0]
["2011-06-25",null,null,null,0,null,null,null,0,0,null,null,null,0,null,null,null,0,0,null,null,null,0,null,null,null,0,0,null,null,null,0,null,null,null,0,0]
["2011-06-26",null,null,null,0,null,null,null,0,0,null,null,null,0,null,null,null,0,0,null,null,null,0,null,null,null,0,0,null,null,null,0,null,null,null,0,0]
["2011-06-27",null,null,null,0,null,null,null,0,0,null,null,null,0,null,null,null,0,0,null,null,null,0,null,null,null,0,0,null,null,null,0,null,null,null,0,0]
["2011-06-28",null,null,null,0,null,null,null,0,0,null,null,null,0,null,null,null,0,0,null,null,null,0,null,null,null,0,0,null,null,null,0,null,null,null,0,0]
["2011-06-29",null,null,null,0,null,null,null,0,0,null,null,null,0,null,null,null,0,0,null,null,null,0,null,null,null,0,0,null,null,null,0,null,null,null,0,0]
["2011-06-30",null,null,null,0,null,null,null,0,0,null,null,null,0,null,null,null,0,0,null,null,null,0,null,null,null,0,0,null,null,null,0,null,null,null,0,0]
["July MTD:",null,null,null,{"$f":"SUM(E193:E223)","v":0},null,null,null,{"$f":"SUM(I193:I223)","v":0},{"$f":"SUM(E192,I192)","v":0},null,null,null,{"$f":"SUM(N193:N223)","v":0},null,null,null,{"$f":"SUM(R193:R223)","v":0},{"$f":"SUM(N192,R192)","v":0},null,null,null,{"$f":"SUM(W193:W223)","v":0},null,null,null,{"$f":"SUM(AA193:AA223)","v":0},{"$f":"SUM(W192,AA192)","v":0},null,null,null,{"$f":"SUM(AF193:AF223)","v":0},null,null,null,{"$f":"SUM(AJ193:AJ223)","v":0},{"$f":"SUM(AF192,AJ192)","v":0}]
["2011-07-01",null,null,null,{"$f":"B193*C193*D193","v":0},null,null,null,{"$f":"F193*G193*H193","v":0},{"$f":"SUM(E193,I193)","v":0},null,null,null,{"$f":"K193*L193*M193","v":0},null,null,null,{"$f":"O193*P193*Q193","v":0},{"$f":"SUM(N193,R193)","v":0},null,null,null,{"$f":"T193*U193*V193","v":0},null,null,null,{"$f":"X193*Y193*Z193","v":0},{"$f":"SUM(W193,AA193)","v":0},null,null,null,{"$f":"AC193*AD193*AE193","v":0},null,null,null,{"$f":"AG193*AH193*AI193","v":0},{"$f":"SUM(AF193,AJ193)","v":0}]
["2011-07-02",null,null,null,{"$f":"B194*C194*D194","v":0},null,null,null,{"$f":"F194*G194*H194","v":0},{"$f":"SUM(E194,I194)","v":0},null,null,null,{"$f":"K194*L194*M194","v":0},null,null,null,{"$f":"O194*P194*Q194","v":0},{"$f":"SUM(N194,R194)","v":0},null,null,null,{"$f":"T194*U194*V194","v":0},null,null,null,{"$f":"X194*Y194*Z194","v":0},{"$f":"SUM(W194,AA194)","v":0},null,null,null,{"$f":"AC194*AD194*AE194","v":0},null,null,null,{"$f":"AG194*AH194*AI194","v":0},{"$f":"SUM(AF194,AJ194)","v":0}]
["2011-07-03",null,null,null,0,null,null,null,0,0,null,null,null,0,null,null,null,0,0,null,null,null,0,null,null,null,0,0,null,null,null,0,null,null,null,0,0]
["2011-07-04",null,null,null,0,null,null,null,0,0,null,null,null,0,null,null,null,0,0,null,null,null,0,null,null,null,0,0,null,null,null,0,null,null,null,0,0]
["2011-07-05",null,null,null,0,null,null,null,0,0,null,null,null,0,null,null,null,0,0,null,null,null,0,null,null,null,0,0,null,null,null,0,null,null,null,0,0]
["2011-07-06",null,null,null,0,null,null,null,0,0,null,null,null,0,null,null,null,0,0,null,null,null,0,null,null,null,0,0,null,null,null,0,null,null,null,0,0]
["2011-07-07",null,null,null,0,null,null,null,0,0,null,null,null,0,null,null,null,0,0,null,null,null,0,null,null,null,0,0,null,null,null,0,null,null,null,0,0]
["2011-07-08",null,null,null,0,null,null,null,0,0,null,null,null,0,null,null,null,0,0,null,null,null,0,null,null,null,0,0,null,null,null,0,null,null,null,0,0]
["2011-07-09",null,null,null,0,null,null,null,0,0,null,null,null,0,null,null,null,0,0,null,null,null,0,null,null,null,0,0,null,null,null,0,null,null,null,0,0]
["2011-07-10",null,null,null,0,null,null,null,0,0,null,null,null,0,null,null,null,0,0,null,null,null,0,null,null,null,0,0,null,null,null,0,null,null,null,0,0]
["2011-07-11",null,null,null,0,null,null,null,0,0,null,null,null,0,null,null,null,0,0,null,null,null,0,null,null,null,0,0,null,null,null,0,null,null,null,0,0]
["2011-07-12",null,null,null,0,null,null,null,0,0,null,null,null,0,null,null,null,0,0,null,null,null,0,null,null,null,0,0,null,null,null,0,null,null,null,0,0]
["2011-07-13",null,null,null,0,null,null,null,0,0,null,null,null,0,null,null,null,0,0,null,null,null,0,null,null,null,0,0,null,null,null,0,null,null,null,0,0]
["2011-07-14",null,null,null,0,null,null,null,0,0,null,null,null,0,null,null,null,0,0,null,null,null,0,null,null,null,0,0,null,null,null,0,null,null,null,0,0]
["2011-07-15",null,null,null,0,null,null,null,0,0,null,null,null,0,null,null,null,0,0,null,null,null,0,null,null,null,0,0,null,null,null,0,null,null,null,0,0]
["2011-07-16",null,null,null,0,null,null,null,0,0,null,null,null,0,null,null,null,0,0,null,null,null,0,null,null,null,0,0,null,null,null,0,null,null,null,0,0]
["2011-07-17",null,null,null,0,null,null,null,0,0,null,null,null,0,null,null,null,0,0,null,null,null,0,null,null,null,0,0,null,null,null,0,null,null,null,0,0]
["2011-07-18",null,null,null,0,null,null,null,0,0,null,null,null,0,null,null,null,0,0,null,null,null,0,null,null,null,0,0,null,null,null,0,null,null,null,0,0]
["2011-07-19",null,null,null,0,null,null,null,0,0,null,null,null,0,null,null,null,0,0,null,null,null,0,null,null,null,0,0,null,null,null,0,null,null,null,0,0]
["2011-07-20",null,null,null,0,null,null,null,0,0,null,null,null,0,null,null,null,0,0,null,null,null,0,null,null,null,0,0,null,null,null,0,null,null,null,0,0]
["2011-07-21",null,null,null,0,null,null,null,0,0,null,null,null,0,null,null,null,0,0,null,null,null,0,null,null,null,0,0,null,null,null,0,null,null,null,0,0]
["2011-07-22",null,null,null,0,null,null,null,0,0,null,null,null,0,null,null,null,0,0,null,null,null,0,null,null,null,0,0,null,null,null,0,null,null,null,0,0]
["2011-07-23",null,null,null,0,null,null,null,0,0,null,null,null,0,null,null,null,0,0,null,null,null,0,null,null,null,0,0,null,null,null,0,null,null,null,0,0]
["2011-07-24",null,null,null,0,null,null,null,0,0,null,null,null,0,null,null,null,0,0,null,null,null,0,null,null,null,0,0,null,null,null,0,null,null,null,0,0]
["2011-07-25",null,null,null,0,null,null,null,0,0,null,null,null,0,null,null,null,0,0,null,null,null,0,null,null,null,0,0,null,null,null,0,null,null,null,0,0]
["2011-07-26",null,null,null,0,null,null,null,0,0,null,null,null,0,null,null,null,0,0,null,null,null,0,null,null,null,0,0,null,null,null,0,null,null,null,0,0]
["2011-07-27",null,null,null,0,null,null,null,0,0,null,null,null,0,null,null,null,0,0,null,null,null,0,null,null,null,0,0,null,null,null,0,null,null,null,0,0]
["2011-07-28",null,null,null,0,null,null,null,0,0,null,null,null,0,null,null,null,0,0,null,null,null,0,null,null,null,0,0,null,null,null,0,null,null,null,0,0]
["2011-07-29",null,null,null,0,null,null,null,0,0,null,null,null,0,null,null,null,0,0,null,null,null,0,null,null,null,0,0,null,null,null,0,null,null,null,0,0]
["2011-07-30",null,null,null,0,null,null,null,0,0,null,null,null,0,null,null,null,0,0,null,null,null,0,null,null,null,0,0,null,null,null,0,null,null,null,0,0]
["2011-07-31",null,null,null,0,null,null,null,0,0,null,null,null,0,null,null,null,0,0,null,null,null,0,null,null,null,0,0,null,null,null,0,null,null,null,0,0]
["August MTD:",null,null,null,{"$f":"SUM(E225:E255)","v":0},null,null,null,{"$f":"SUM(I225:I255)","v":0},{"$f":"SUM(E224,I224)","v":0},null,null,null,{"$f":"SUM(N225:N255)","v":0},null,null,null,{"$f":"SUM(R225:R255)","v":0},{"$f":"SUM(N224,R224)","v":0},null,null,null,{"$f":"SUM(W225:W255)","v":0},null,null,null,{"$f":"SUM(AA225:AA255)","v":0},{"$f":"SUM(W224,AA224)","v":0},null,null,null,{"$f":"SUM(AF225:AF255)","v":0},null,null,null,{"$f":"SUM(AJ225:AJ255)","v":0},{"$f":"SUM(AF224,AJ224)","v":0}]
["2011-08-01",null,null,null,{"$f":"B225*C225*D225","v":0},null,null,null,{"$f":"F225*G225*H225","v":0},{"$f":"SUM(E225,I225)","v":0},null,null,null,{"$f":"K225*L225*M225","v":0},null,null,null,{"$f":"O225*P225*Q225","v":0},{"$f":"SUM(N225,R225)","v":0},null,null,null,{"$f":"T225*U225*V225","v":0},null,null,null,{"$f":"X225*Y225*Z225","v":0},{"$f":"SUM(W225,AA225)","v":0},null,null,null,{"$f":"AC225*AD225*AE225","v":0},null,null,null,{"$f":"AG225*AH225*AI225","v":0},{"$f":"SUM(AF225,AJ225)","v":0}]
["2011-08-02",null,null,null,{"$f":"B226*C226*D226","v":0},null,null,null,{"$f":"F226*G226*H226","v":0},{"$f":"SUM(E226,I226)","v":0},null,null,null,{"$f":"K226*L226*M226","v":0},null,null,null,{"$f":"O226*P226*Q226","v":0},{"$f":"SUM(N226,R226)","v":0},null,null,null,{"$f":"T226*U226*V226","v":0},null,null,null,{"$f":"X226*Y226*Z226","v":0},{"$f":"SUM(W226,AA226)","v":0},null,null,null,{"$f":"AC226*AD226*AE226","v":0},null,null,null,{"$f":"AG226*AH226*AI226","v":0},{"$f":"SUM(AF226,AJ226)","v":0}]
["2011-08-03",null,null,null,0,null,null,null,0,0,null,null,null,0,null,null,null,0,0,null,null,null,0,null,null,null,0,0,null,null,null,0,null,null,null,0,0]
["2011-08-04",null,null,null,0,null,null,null,0,0,null,null,null,0,null,null,null,0,0,null,null,null,0,null,null,null,0,0,null,null,null,0,null,null,null,0,0]
["2011-08-05",null,null,null,0,null,null,null,0,0,null,null,null,0,null,null,null,0,0,null,null,null,0,null,null,null,0,0,null,null,null,0,null,null,null,0,0]
["2011-08-06",null,null,null,0,null,null,null,0,0,null,null,null,0,null,null,null,0,0,null,null,null,0,null,null,null,0,0,null,null,null,0,null,null,null,0,0]
["2011-08-07",null,null,null,0,null,null,null,0,0,null,null,null,0,null,null,null,0,0,null,null,null,0,null,null,null,0,0,null,null,null,0,null,null,null,0,0]
["2011-08-08",null,null,null,0,null,null,null,0,0,null,null,null,0,null,null,null,0,0,null,null,null,0,null,null,null,0,0,null,null,null,0,null,null,null,0,0]
["2011-08-09",null,null,null,0,null,null,null,0,0,null,null,null,0,null,null,null,0,0,null,null,null,0,null,null,null,0,0,null,null,null,0,null,null,null,0,0]
["2011-08-10",null,null,null,0,null,null,null,0,0,null,null,null,0,null,null,null,0,0,null,null,null,0,null,null,null,0,0,null,null,null,0,null,null,null,0,0]
["2011-08-11",null,null,null,0,null,null,null,0,0,null,null,null,0,null,null,null,0,0,null,null,null,0,null,null,null,0,0,null,null,null,0,null,null,null,0,0]
["2011-08-12",null,null,null,0,null,null,null,0,0,null,null,null,0,null,null,null,0,0,null,null,null,0,null,null,null,0,0,null,null,null,0,null,null,null,0,0]
["2011-08-13",null,null,null,0,null,null,null,0,0,null,null,null,0,null,null,null,0,0,null,null,null,0,null,null,null,0,0,null,null,null,0,null,null,null,0,0]
["2011-08-14",null,null,null,0,null,null,null,0,0,null,null,null,0,null,null,null,0,0,null,null,null,0,null,null,null,0,0,null,null,null,0,null,null,null,0,0]
["2011-08-15",null,null,null,0,null,null,null,0,0,null,null,null,0,null,null,null,0,0,null,null,null,0,null,null,null,0,0,null,null,null,0,null,null,null,0,0]
["2011-08-16",null,null,null,0,null,null,null,0,0,null,null,null,0,null,null,null,0,0,null,null,null,0,null,null,null,0,0,null,null,null,0,null,null,null,0,0]
["2011-08-17",null,null,null,0,null,null,null,0,0,null,null,null,0,null,null,null,0,0,null,null,null,0,null,null,null,0,0,null,null,null,0,null,null,null,0,0]
["2011-08-18",null,null,null,0,null,null,null,0,0,null,null,null,0,null,null,null,0,0,null,null,null,0,null,null,null,0,0,null,null,null,0,null,null,null,0,0]
["2011-08-19",null,null,null,0,null,null,null,0,0,null,null,null,0,null,null,null,0,0,null,null,null,0,null,null,null,0,0,null,null,null,0,null,null,null,0,0]
["2011-08-20",null,null,null,0,null,null,null,0,0,null,null,null,0,null,null,null,0,0,null,null,null,0,null,null,null,0,0,null,null,null,0,null,null,null,0,0]
["2011-08-21",null,null,null,0,null,null,null,0,0,null,null,null,0,null,null,null,0,0,null,null,null,0,null,null,null,0,0,null,null,null,0,null,null,null,0,0]
["2011-08-22",null,null,null,0,null,null,null,0,0,null,null,null,0,null,null,null,0,0,null,null,null,0,null,null,null,0,0,null,null,null,0,null,null,null,0,0]
["2011-08-23",null,null,null,0,null,null,null,0,0,null,null,null,0,null,null,null,0,0,null,null,null,0,null,null,null,0,0,null,null,null,0,null,null,null,0,0]
["2011-08-24",null,null,null,0,null,null,null,0,0,null,null,null,0,null,null,null,0,0,null,null,null,0,null,null,null,0,0,null,null,null,0,null,null,null,0,0]
["2011-08-25",null,null,null,0,null,null,null,0,0,null,null,null,0,null,null,null,0,0,null,null,null,0,null,null,null,0,0,null,null,null,0,null,null,null,0,0]
["2011-08-26",null,null,null,0,null,null,null,0,0,null,null,null,0,null,null,null,0,0,null,null,null,0,null,null,null,0,0,null,null,null,0,null,null,null,0,0]
["2011-08-27",null,null,null,0,null,null,null,0,0,null,null,null,0,null,null,null,0,0,null,null,null,0,null,null,null,0,0,null,null,null,0,null,null,null,0,0]
["2011-08-28",null,null,null,0,null,null,null,0,0,null,null,null,0,null,null,null,0,0,null,null,null,0,null,null,null,0,0,null,null,null,0,null,null,null,0,0]
["2011-08-29",null,null,null,0,null,null,null,0,0,null,null,null,0,null,null,null,0,0,null,null,null,0,null,null,null,0,0,null,null,null,0,null,null,null,0,0]
["2011-08-30",null,null,null,0,null,null,null,0,0,null,null,null,0,null,null,null,0,0,null,null,null,0,null,null,null,0,0,null,null,null,0,null,null,null,0,0]
["2011-08-31",null,null,null,0,null,null,null,0,0,null,null,null,0,null,null,null,0,0,null,null,null,0,null,null,null,0,0,null,null,null,0,null,null,null,0,0]
["September MTD:",null,null,null,{"$f":"SUM(E257:E286)","v":0},null,null,null,{"$f":"SUM(I257:I286)","v":0},{"$f":"SUM(E256,I256)","v":0},null,null,null,{"$f":"SUM(N257:N286)","v":0},null,null,null,{"$f":"SUM(R257:R286)","v":0},{"$f":"SUM(N256,R256)","v":0},null,null,null,{"$f":"SUM(W257:W286)","v":0},null,null,null,{"$f":"SUM(AA257:AA286)","v":0},{"$f":"SUM(W256,AA256)","v":0},null,null,null,{"$f":"SUM(AF257:AF286)","v":0},null,null,null,{"$f":"SUM(AJ257:AJ286)","v":0},{"$f":"SUM(AF256,AJ256)","v":0}]
["2011-09-01",null,null,null,{"$f":"B257*C257*D257","v":0},null,null,null,{"$f":"F257*G257*H257","v":0},{"$f":"SUM(E257,I257)","v":0},null,null,null,{"$f":"K257*L257*M257","v":0},null,null,null,{"$f":"O257*P257*Q257","v":0},{"$f":"SUM(N257,R257)","v":0},null,null,null,{"$f":"T257*U257*V257","v":0},null,null,null,{"$f":"X257*Y257*Z257","v":0},{"$f":"SUM(W257,AA257)","v":0},null,null,null,{"$f":"AC257*AD257*AE257","v":0},null,null,null,{"$f":"AG257*AH257*AI257","v":0},{"$f":"SUM(AF257,AJ257)","v":0}]
["2011-09-02",null,null,null,0,null,null,null,0,{"$f":"SUM(E258,I258)","v":0},null,null,null,0,null,null,null,0,{"$f":"SUM(N258,R258)","v":0},null,null,null,0,null,null,null,0,{"$f":"SUM(W258,AA258)","v":0},null,null,null,0,null,null,null,0,{"$f":"SUM(AF258,AJ258)","v":0}]
["2011-09-03",null,null,null,0,null,null,null,0,0,null,null,null,0,null,null,null,0,0,null,null,null,0,null,null,null,0,0,null,null,null,0,null,null,null,0,0]
["2011-09-04",null,null,null,0,null,null,null,0,0,null,null,null,0,null,null,null,0,0,null,null,null,0,null,null,null,0,0,null,null,null,0,null,null,null,0,0]
["2011-09-05",null,null,null,0,null,null,null,0,0,null,null,null,0,null,null,null,0,0,null,null,null,0,null,null,null,0,0,null,null,null,0,null,null,null,0,0]
["2011-09-06",null,null,null,0,null,null,null,0,0,null,null,null,0,null,null,null,0,0,null,null,null,0,null,null,null,0,0,null,null,null,0,null,null,null,0,0]
["2011-09-07",null,null,null,0,null,null,null,0,0,null,null,null,0,null,null,null,0,0,null,null,null,0,null,null,null,0,0,null,null,null,0,null,null,null,0,0]
["2011-09-08",null,null,null,0,null,null,null,0,0,null,null,null,0,null,null,null,0,0,null,null,null,0,null,null,null,0,0,null,null,null,0,null,null,null,0,0]
["2011-09-09",null,null,null,0,null,null,null,0,0,null,null,null,0,null,null,null,0,0,null,null,null,0,null,null,null,0,0,null,null,null,0,null,null,null,0,0]
["2011-09-10",null,null,null,0,null,null,null,0,0,null,null,null,0,null,null,null,0,0,null,null,null,0,null,null,null,0,0,null,null,null,0,null,null,null,0,0]
["2011-09-11",null,null,null,0,null,null,null,0,0,null,null,null,0,null,null,null,0,0,null,null,null,0,null,null,null,0,0,null,null,null,0,null,null,null,0,0]
["2011-09-12",null,null,null,0,null,null,null,0,0,null,null,null,0,null,null,null,0,0,null,null,null,0,null,null,null,0,0,null,null,null,0,null,null,null,0,0]
["2011-09-13",null,null,null,0,null,null,null,0,0,null,null,null,0,null,null,null,0,0,null,null,null,0,null,null,null,0,0,null,null,null,0,null,null,null,0,0]
["2011-09-14",null,null,null,0,null,null,null,0,0,null,null,null,0,null,null,null,0,0,null,null,null,0,null,null,null,0,0,null,null,null,0,null,null,null,0,0]
["2011-09-15",null,null,null,0,null,null,null,0,0,null,null,null,0,null,null,null,0,0,null,null,null,0,null,null,null,0,0,null,null,null,0,null,null,null,0,0]
["2011-09-16",null,null,null,0,null,null,null,0,0,null,null,null,0,null,null,null,0,0,null,null,null,0,null,null,null,0,0,null,null,null,0,null,null,null,0,0]
["2011-09-17",null,null,null,0,null,null,null,0,0,null,null,null,0,null,null,null,0,0,null,null,null,0,null,null,null,0,0,null,null,null,0,null,null,null,0,0]
["2011-09-18",null,null,null,0,null,null,null,0,0,null,null,null,0,null,null,null,0,0,null,null,null,0,null,null,null,0,0,null,null,null,0,null,null,null,0,0]
["2011-09-19",null,null,null,0,null,null,null,0,0,null,null,null,0,null,null,null,0,0,null,null,null,0,null,null,null,0,0,null,null,null,0,null,null,null,0,0]
["2011-09-20",null,null,null,0,null,null,null,0,0,null,null,null,0,null,null,null,0,0,null,null,null,0,null,null,null,0,0,null,null,null,0,null,null,null,0,0]
["2011-09-21",null,null,null,0,null,null,null,0,0,null,null,null,0,null,null,null,0,0,null,null,null,0,null,null,null,0,0,null,null,null,0,null,null,null,0,0]
["2011-09-22",null,null,null,0,null,null,null,0,0,null,null,null,0,null,null,null,0,0,null,null,null,0,null,null,null,0,0,null,null,null,0,null,null,null,0,0]
["2011-09-23",null,null,null,0,null,null,null,0,0,null,null,null,0,null,null,null,0,0,null,null,null,0,null,null,null,0,0,null,null,null,0,null,null,null,0,0]
["2011-09-24",null,null,null,0,null,null,null,0,0,null,null,null,0,null,null,null,0,0,null,null,null,0,null,null,null,0,0,null,null,null,0,null,null,null,0,0]
["2011-09-25",null,null,null,0,null,null,null,0,0,null,null,null,0,null,null,null,0,0,null,null,null,0,null,null,null,0,0,null,null,null,0,null,null,null,0,0]
["2011-09-26",null,null,null,0,null,null,null,0,0,null,null,null,0,null,null,null,0,0,null,null,null,0,null,null,null,0,0,null,null,null,0,null,null,null,0,0]
["2011-09-27",null,null,null,0,null,null,null,0,0,null,null,null,0,null,null,null,0,0,null,null,null,0,null,null,null,0,0,null,null,null,0,null,null,null,0,0]
["2011-09-28",null,null,null,0,null,null,null,0,0,null,null,null,0,null,null,null,0,0,null,null,null,0,null,null,null,0,0,null,null,null,0,null,null,null,0,0]
["2011-09-29",null,null,null,0,null,null,null,0,0,null,null,null,0,null,null,null,0,0,null,null,null,0,null,null,null,0,0,null,null,null,0,null,null,null,0,0]
["2011-09-30",null,null,null,0,null,null,null,0,0,null,null,null,0,null,null,null,0,0,null,null,null,0,null,null,null,0,0,null,null,null,0,null,null,null,0,0]
["October MTD:",null,null,null,{"$f":"SUM(E288:E318)","v":0},null,null,null,{"$f":"SUM(I288:I318)","v":0},{"$f":"SUM(E287,I287)","v":0},null,null,null,{"$f":"SUM(N288:N318)","v":0},null,null,null,{"$f":"SUM(R288:R318)","v":0},{"$f":"SUM(N287,R287)","v":0},null,null,null,{"$f":"SUM(W288:W318)","v":0},null,null,null,{"$f":"SUM(AA288:AA318)","v":0},{"$f":"SUM(W287,AA287)","v":0},null,null,null,{"$f":"SUM(AF288:AF318)","v":0},null,null,null,{"$f":"SUM(AJ288:AJ318)","v":0},{"$f":"SUM(AF287,AJ287)","v":0}]
["2011-10-01",null,null,null,{"$f":"B288*C288*D288","v":0},null,null,null,{"$f":"F288*G288*H288","v":0},{"$f":"SUM(E288,I288)","v":0},null,null,null,{"$f":"K288*L288*M288","v":0},null,null,null,{"$f":"O288*P288*Q288","v":0},{"$f":"SUM(N288,R288)","v":0},null,null,null,{"$f":"T288*U288*V288","v":0},null,null,null,{"$f":"X288*Y288*Z288","v":0},{"$f":"SUM(W288,AA288)","v":0},null,null,null,{"$f":"AC288*AD288*AE288","v":0},null,null,null,{"$f":"AG288*AH288*AI288","v":0},{"$f":"SUM(AF288,AJ288)","v":0}]
["2011-10-02",null,null,null,{"$f":"B289*C289*D289","v":0},null,null,null,{"$f":"F289*G289*H289","v":0},{"$f":"SUM(E289,I289)","v":0},null,null,null,{"$f":"K289*L289*M289","v":0},null,null,null,{"$f":"O289*P289*Q289","v":0},{"$f":"SUM(N289,R289)","v":0},null,null,null,{"$f":"T289*U289*V289","v":0},null,null,null,{"$f":"X289*Y289*Z289","v":0},{"$f":"SUM(W289,AA289)","v":0},null,null,null,{"$f":"AC289*AD289*AE289","v":0},null,null,null,{"$f":"AG289*AH289*AI289","v":0},{"$f":"SUM(AF289,AJ289)","v":0}]
["2011-10-03",null,null,null,0,null,null,null,0,0,null,null,null,0,null,null,null,0,0,null,null,null,0,null,null,null,0,0,null,null,null,0,null,null,null,0,0]
["2011-10-04",null,null,null,0,null,null,null,0,0,null,null,null,0,null,null,null,0,0,null,null,null,0,null,null,null,0,0,null,null,null,0,null,null,null,0,0]
["2011-10-05",null,null,null,0,null,null,null,0,0,null,null,null,0,null,null,null,0,0,null,null,null,0,null,null,null,0,0,null,null,null,0,null,null,null,0,0]
["2011-10-06",null,null,null,0,null,null,null,0,0,null,null,null,0,null,null,null,0,0,null,null,null,0,null,null,null,0,0,null,null,null,0,null,null,null,0,0]
["2011-10-07",null,null,null,0,null,null,null,0,0,null,null,null,0,null,null,null,0,0,null,null,null,0,null,null,null,0,0,null,null,null,0,null,null,null,0,0]
["2011-10-08",null,null,null,0,null,null,null,0,0,null,null,null,0,null,null,null,0,0,null,null,null,0,null,null,null,0,0,null,null,null,0,null,null,null,0,0]
["2011-10-09",null,null,null,0,null,null,null,0,0,null,null,null,0,null,null,null,0,0,null,null,null,0,null,null,null,0,0,null,null,null,0,null,null,null,0,0]
["2011-10-10",null,null,null,0,null,null,null,0,0,null,null,null,0,null,null,null,0,0,null,null,null,0,null,null,null,0,0,null,null,null,0,null,null,null,0,0]
["2011-10-11",null,null,null,0,null,null,null,0,0,null,null,null,0,null,null,null,0,0,null,null,null,0,null,null,null,0,0,null,null,null,0,null,null,null,0,0]
["2011-10-12",null,null,null,0,null,null,null,0,0,null,null,null,0,null,null,null,0,0,null,null,null,0,null,null,null,0,0,null,null,null,0,null,null,null,0,0]
["2011-10-13",null,null,null,0,null,null,null,0,0,null,null,null,0,null,null,null,0,0,null,null,null,0,null,null,null,0,0,null,null,null,0,null,null,null,0,0]
["2011-10-14",null,null,null,0,null,null,null,0,0,null,null,null,0,null,null,null,0,0,null,null,null,0,null,null,null,0,0,null,null,null,0,null,null,null,0,0]
["2011-10-15",null,null,null,0,null,null,null,0,0,null,null,null,0,null,null,null,0,0,null,null,null,0,null,null,null,0,0,null,null,null,0,null,null,null,0,0]
["2011-10-16",null,null,null,0,null,null,null,0,0,null,null,null,0,null,null,null,0,0,null,null,null,0,null,null,null,0,0,null,null,null,0,null,null,null,0,0]
["2011-10-17",null,null,null,0,null,null,null,0,0,null,null,null,0,null,null,null,0,0,null,null,null,0,null,null,null,0,0,null,null,null,0,null,null,null,0,0]
["2011-10-18",null,null,null,0,null,null,null,0,0,null,null,null,0,null,null,null,0,0,null,null,null,0,null,null,null,0,0,null,null,null,0,null,null,null,0,0]
["2011-10-19",null,null,null,0,null,null,null,0,0,null,null,null,0,null,null,null,0,0,null,null,null,0,null,null,null,0,0,null,null,null,0,null,null,null,0,0]
["2011-10-20",null,null,null,0,null,null,null,0,0,null,null,null,0,null,null,null,0,0,null,null,null,0,null,null,null,0,0,null,null,null,0,null,null,null,0,0]
["2011-10-21",null,null,null,0,null,null,null,0,0,null,null,null,0,null,null,null,0,0,null,null,null,0,null,null,null,0,0,null,null,null,0,null,null,null,0,0]
["2011-10-22",null,null,null,0,null,null,null,0,0,null,null,null,0,null,null,null,0,0,null,null,null,0,null,null,null,0,0,null,null,null,0,null,null,null,0,0]
["2011-10-23",null,null,null,0,null,null,null,0,0,null,null,null,0,null,null,null,0,0,null,null,null,0,null,null,null,0,0,null,null,null,0,null,null,null,0,0]
["2011-10-24",null,null,null,0,null,null,null,0,0,null,null,null,0,null,null,null,0,0,null,null,null,0,null,null,null,0,0,null,null,null,0,null,null,null,0,0]
["2011-10-25",null,null,null,0,null,null,null,0,0,null,null,null,0,null,null,null,0,0,null,null,null,0,null,null,null,0,0,null,null,null,0,null,null,null,0,0]
["2011-10-26",null,null,null,0,null,null,null,0,0,null,null,null,0,null,null,null,0,0,null,null,null,0,null,null,null,0,0,null,null,null,0,null,null,null,0,0]
["2011-10-27",null,null,null,0,null,null,null,0,0,null,null,null,0,null,null,null,0,0,null,null,null,0,null,null,null,0,0,null,null,null,0,null,null,null,0,0]
["2011-10-28",null,null,null,0,null,null,null,0,0,null,null,null,0,null,null,null,0,0,null,null,null,0,null,null,null,0,0,null,null,null,0,null,null,null,0,0]
["2011-10-29",null,null,null,0,null,null,null,0,0,null,null,null,0,null,null,null,0,0,null,null,null,0,null,null,null,0,0,null,null,null,0,null,null,null,0,0]
["2011-10-30",null,null,null,0,null,null,null,0,0,null,null,null,0,null,null,null,0,0,null,null,null,0,null,null,null,0,0,null,null,null,0,null,null,null,0,0]
["2011-10-31",null,null,null,0,null,null,null,0,0,null,null,null,0,null,null,null,0,0,null,null,null,0,null,null,null,0,0,null,null,null,0,null,null,null,0,0]
["November MTD:",null,null,null,{"$f":"SUM(E320:E349)","v":0},null,null,null,{"$f":"SUM(I320:I349)","v":0},{"$f":"SUM(E319,I319)","v":0},null,null,null,{"$f":"SUM(N320:N349)","v":0},null,null,null,{"$f":"SUM(R320:R349)","v":0},{"$f":"SUM(N319,R319)","v":0},null,null,null,{"$f":"SUM(W320:W349)","v":0},null,null,null,{"$f":"SUM(AA320:AA349)","v":0},{"$f":"SUM(W319,AA319)","v":0},null,null,null,{"$f":"SUM(AF320:AF349)","v":0},null,null,null,{"$f":"SUM(AJ320:AJ349)","v":0},{"$f":"SUM(AF319,AJ319)","v":0}]
["2011-11-01",null,null,null,{"$f":"B320*C320*D320","v":0},null,null,null,{"$f":"F320*G320*H320","v":0},{"$f":"SUM(E320,I320)","v":0},null,null,null,{"$f":"K320*L320*M320","v":0},null,null,null,{"$f":"O320*P320*Q320","v":0},{"$f":"SUM(N320,R320)","v":0},null,null,null,{"$f":"T320*U320*V320","v":0},null,null,null,{"$f":"X320*Y320*Z320","v":0},{"$f":"SUM(W320,AA320)","v":0},null,null,null,{"$f":"AC320*AD320*AE320","v":0},null,null,null,{"$f":"AG320*AH320*AI320","v":0},{"$f":"SUM(AF320,AJ320)","v":0}]
["2011-11-02",null,null,null,0,null,null,null,0,{"$f":"SUM(E321,I321)","v":0},null,null,null,0,null,null,null,0,{"$f":"SUM(N321,R321)","v":0},null,null,null,0,null,null,null,0,{"$f":"SUM(W321,AA321)","v":0},null,null,null,0,null,null,null,0,{"$f":"SUM(AF321,AJ321)","v":0}]
["2011-11-03",null,null,null,0,null,null,null,0,0,null,null,null,0,null,null,null,0,0,null,null,null,0,null,null,null,0,0,null,null,null,0,null,null,null,0,0]
["2011-11-04",null,null,null,0,null,null,null,0,0,null,null,null,0,null,null,null,0,0,null,null,null,0,null,null,null,0,0,null,null,null,0,null,null,null,0,0]
["2011-11-05",null,null,null,0,null,null,null,0,0,null,null,null,0,null,null,null,0,0,null,null,null,0,null,null,null,0,0,null,null,null,0,null,null,null,0,0]
["2011-11-06",null,null,null,0,null,null,null,0,0,null,null,null,0,null,null,null,0,0,null,null,null,0,null,null,null,0,0,null,null,null,0,null,null,null,0,0]
["2011-11-07",null,null,null,0,null,null,null,0,0,null,null,null,0,null,null,null,0,0,null,null,null,0,null,null,null,0,0,null,null,null,0,null,null,null,0,0]
["2011-11-08",null,null,null,0,null,null,null,0,0,null,null,null,0,null,null,null,0,0,null,null,null,0,null,null,null,0,0,null,null,null,0,null,null,null,0,0]
["2011-11-09",null,null,null,0,null,null,null,0,0,null,null,null,0,null,null,null,0,0,null,null,null,0,null,null,null,0,0,null,null,null,0,null,null,null,0,0]
["2011-11-10",null,null,null,0,null,null,null,0,0,null,null,null,0,null,null,null,0,0,null,null,null,0,null,null,null,0,0,null,null,null,0,null,null,null,0,0]
["2011-11-11",null,null,null,0,null,null,null,0,0,null,null,null,0,null,null,null,0,0,null,null,null,0,null,null,null,0,0,null,null,null,0,null,null,null,0,0]
["2011-11-12",null,null,null,0,null,null,null,0,0,null,null,null,0,null,null,null,0,0,null,null,null,0,null,null,null,0,0,null,null,null,0,null,null,null,0,0]
["2011-11-13",null,null,null,0,null,null,null,0,0,null,null,null,0,null,null,null,0,0,null,null,null,0,null,null,null,0,0,null,null,null,0,null,null,null,0,0]
["2011-11-14",null,null,null,0,null,null,null,0,0,null,null,null,0,null,null,null,0,0,null,null,null,0,null,null,null,0,0,null,null,null,0,null,null,null,0,0]
["2011-11-15",null,null,null,0,null,null,null,0,0,null,null,null,0,null,null,null,0,0,null,null,null,0,null,null,null,0,0,null,null,null,0,null,null,null,0,0]
["2011-11-16",null,null,null,0,null,null,null,0,0,null,null,null,0,null,null,null,0,0,null,null,null,0,null,null,null,0,0,null,null,null,0,null,null,null,0,0]
["2011-11-17",null,null,null,0,null,null,null,0,0,null,null,null,0,null,null,null,0,0,null,null,null,0,null,null,null,0,0,null,null,null,0,null,null,null,0,0]
["2011-11-18",null,null,null,0,null,null,null,0,0,null,null,null,0,null,null,null,0,0,null,null,null,0,null,null,null,0,0,null,null,null,0,null,null,null,0,0]
["2011-11-19",null,null,null,0,null,null,null,0,0,null,null,null,0,null,null,null,0,0,null,null,null,0,null,null,null,0,0,null,null,null,0,null,null,null,0,0]
["2011-11-20",null,null,null,0,null,null,null,0,0,null,null,null,0,null,null,null,0,0,null,null,null,0,null,null,null,0,0,null,null,null,0,null,null,null,0,0]
["2011-11-21",null,null,null,0,null,null,null,0,0,null,null,null,0,null,null,null,0,0,null,null,null,0,null,null,null,0,0,null,null,null,0,null,null,null,0,0]
["2011-11-22",null,null,null,0,null,null,null,0,0,null,null,null,0,null,null,null,0,0,null,null,null,0,null,null,null,0,0,null,null,null,0,null,null,null,0,0]
["2011-11-23",null,null,null,0,null,null,null,0,0,null,null,null,0,null,null,null,0,0,null,null,null,0,null,null,null,0,0,null,null,null,0,null,null,null,0,0]
["2011-11-24",null,null,null,0,null,null,null,0,0,null,null,null,0,null,null,null,0,0,null,null,null,0,null,null,null,0,0,null,null,null,0,null,null,null,0,0]
["2011-11-25",null,null,null,0,null,null,null,0,0,null,null,null,0,null,null,null,0,0,null,null,null,0,null,null,null,0,0,null,null,null,0,null,null,null,0,0]
["2011-11-26",null,null,null,0,null,null,null,0,0,null,null,null,0,null,null,null,0,0,null,null,null,0,null,null,null,0,0,null,null,null,0,null,null,null,0,0]
["2011-11-27",null,null,null,0,null,null,null,0,0,null,null,null,0,null,null,null,0,0,null,null,null,0,null,null,null,0,0,null,null,null,0,null,null,null,0,0]
["2011-11-28",null,null,null,0,null,null,null,0,0,null,null,null,0,null,null,null,0,0,null,null,null,0,null,null,null,0,0,null,null,null,0,null,null,null,0,0]
["2011-11-29",null,null,null,0,null,null,null,0,0,null,null,null,0,null,null,null,0,0,null,null,null,0,null,null,null,0,0,null,null,null,0,null,null,null,0,0]
["2011-11-30",null,null,null,0,null,null,null,0,0,null,null,null,0,null,null,null,0,0,null,null,null,0,null,null,null,0,0,null,null,null,0,null,null,null,0,0]
["December MTD:",null,null,null,{"$f":"SUM(E351:E381)","v":0},null,null,null,{"$f":"SUM(I351:I381)","v":0},{"$f":"SUM(E350,I350)","v":0},null,null,null,{"$f":"SUM(N351:N381)","v":0},null,null,null,{"$f":"SUM(R351:R381)","v":0},{"$f":"SUM(N350,R350)","v":0},null,null,null,{"$f":"SUM(W351:W381)","v":0},null,null,null,{"$f":"SUM(AA351:AA381)","v":0},{"$f":"SUM(W350,AA350)","v":0},null,null,null,{"$f":"SUM(AF351:AF381)","v":0},null,null,null,{"$f":"SUM(AJ351:AJ381)","v":0},{"$f":"SUM(AF350,AJ350)","v":0}]
["2011-12-01",null,null,null,{"$f":"B351*C351*D351","v":0},null,null,null,{"$f":"F351*G351*H351","v":0},{"$f":"SUM(E351,I351)","v":0},null,null,null,{"$f":"K351*L351*M351","v":0},null,null,null,{"$f":"O351*P351*Q351","v":0},{"$f":"SUM(N351,R351)","v":0},null,null,null,{"$f":"T351*U351*V351","v":0},null,null,null,{"$f":"X351*Y351*Z351","v":0},{"$f":"SUM(W351,AA351)","v":0},null,null,null,{"$f":"AC351*AD351*AE351","v":0},null,null,null,{"$f":"AG351*AH351*AI351","v":0},{"$f":"SUM(AF351,AJ351)","v":0}]
["2011-12-02",null,null,null,{"$f":"B352*C352*D352","v":0},null,null,null,{"$f":"F352*G352*H352","v":0},{"$f":"SUM(E352,I352)","v":0},null,null,null,{"$f":"K352*L352*M352","v":0},null,null,null,{"$f":"O352*P352*Q352","v":0},{"$f":"SUM(N352,R352)","v":0},null,null,null,{"$f":"T352*U352*V352","v":0},null,null,null,{"$f":"X352*Y352*Z352","v":0},{"$f":"SUM(W352,AA352)","v":0},null,null,null,{"$f":"AC352*AD352*AE352","v":0},null,null,null,{"$f":"AG352*AH352*AI352","v":0},{"$f":"SUM(AF352,AJ352)","v":0}]
["2011-12-03",null,null,null,0,null,null,null,0,0,null,null,null,0,null,null,null,0,0,null,null,null,0,null,null,null,0,0,null,null,null,0,null,null,null,0,0]
["2011-12-04",null,null,null,0,null,null,null,0,0,null,null,null,0,null,null,null,0,0,null,null,null,0,null,null,null,0,0,null,null,null,0,null,null,null,0,0]
["2011-12-05",null,null,null,0,null,null,null,0,0,null,null,null,0,null,null,null,0,0,null,null,null,0,null,null,null,0,0,null,null,null,0,null,null,null,0,0]
["2011-12-06",null,null,null,0,null,null,null,0,0,null,null,null,0,null,null,null,0,0,null,null,null,0,null,null,null,0,0,null,null,null,0,null,null,null,0,0]
["2011-12-07",null,null,null,0,null,null,null,0,0,null,null,null,0,null,null,null,0,0,null,null,null,0,null,null,null,0,0,null,null,null,0,null,null,null,0,0]
["2011-12-08",null,null,null,0,null,null,null,0,0,null,null,null,0,null,null,null,0,0,null,null,null,0,null,null,null,0,0,null,null,null,0,null,null,null,0,0]
["2011-12-09",null,null,null,0,null,null,null,0,0,null,null,null,0,null,null,null,0,0,null,null,null,0,null,null,null,0,0,null,null,null,0,null,null,null,0,0]
["2011-12-10",null,null,null,0,null,null,null,0,0,null,null,null,0,null,null,null,0,0,null,null,null,0,null,null,null,0,0,null,null,null,0,null,null,null,0,0]
["2011-12-11",null,null,null,0,null,null,null,0,0,null,null,null,0,null,null,null,0,0,null,null,null,0,null,null,null,0,0,null,null,null,0,null,null,null,0,0]
["2011-12-12",null,null,null,0,null,null,null,0,0,null,null,null,0,null,null,null,0,0,null,null,null,0,null,null,null,0,0,null,null,null,0,null,null,null,0,0]
["2011-12-13",null,null,null,0,null,null,null,0,0,null,null,null,0,null,null,null,0,0,null,null,null,0,null,null,null,0,0,null,null,null,0,null,null,null,0,0]
["2011-12-14",null,null,null,0,null,null,null,0,0,null,null,null,0,null,null,null,0,0,null,null,null,0,null,null,null,0,0,null,null,null,0,null,null,null,0,0]
["2011-12-15",null,null,null,0,null,null,null,0,0,null,null,null,0,null,null,null,0,0,null,null,null,0,null,null,null,0,0,null,null,null,0,null,null,null,0,0]
["2011-12-16",null,null,null,0,null,null,null,0,0,null,null,null,0,null,null,null,0,0,null,null,null,0,null,null,null,0,0,null,null,null,0,null,null,null,0,0]
["2011-12-17",null,null,null,0,null,null,null,0,0,null,null,null,0,null,null,null,0,0,null,null,null,0,null,null,null,0,0,null,null,null,0,null,null,null,0,0]
["2011-12-18",null,null,null,0,null,null,null,0,0,null,null,null,0,null,null,null,0,0,null,null,null,0,null,null,null,0,0,null,null,null,0,null,null,null,0,0]
["2011-12-19",null,null,null,0,null,null,null,0,0,null,null,null,0,null,null,null,0,0,null,null,null,0,null,null,null,0,0,null,null,null,0,null,null,null,0,0]
["2011-12-20",null,null,null,0,null,null,null,0,0,null,null,null,0,null,null,null,0,0,null,null,null,0,null,null,null,0,0,null,null,null,0,null,null,null,0,0]
["2011-12-21",null,null,null,0,null,null,null,0,0,null,null,null,0,null,null,null,0,0,null,null,null,0,null,null,null,0,0,null,null,null,0,null,null,null,0,0]
["2011-12-22",null,null,null,0,null,null,null,0,0,null,null,null,0,null,null,null,0,0,null,null,null,0,null,null,null,0,0,null,null,null,0,null,null,null,0,0]
["2011-12-23",null,null,null,0,null,null,null,0,0,null,null,null,0,null,null,null,0,0,null,null,null,0,null,null,null,0,0,null,null,null,0,null,null,null,0,0]
["2011-12-24",null,null,null,0,null,null,null,0,0,null,null,null,0,null,null,null,0,0,null,null,null,0,null,null,null,0,0,null,null,null,0,null,null,null,0,0]
["2011-12-25",null,null,null,0,null,null,null,0,0,null,null,null,0,null,null,null,0,0,null,null,null,0,null,null,null,0,0,null,null,null,0,null,null,null,0,0]
["2011-12-26",null,null,null,0,null,null,null,0,0,null,null,null,0,null,null,null,0,0,null,null,null,0,null,null,null,0,0,null,null,null,0,null,null,null,0,0]
["2011-12-27",null,null,null,0,null,null,null,0,0,null,null,null,0,null,null,null,0,0,null,null,null,0,null,null,null,0,0,null,null,null,0,null,null,null,0,0]
["2011-12-28",null,null,null,0,null,null,null,0,0,null,null,null,0,null,null,null,0,0,null,null,null,0,null,null,null,0,0,null,null,null,0,null,null,null,0,0]
["2011-12-29",null,null,null,0,null,null,null,0,0,null,null,null,0,null,null,null,0,0,null,null,null,0,null,null,null,0,0,null,null,null,0,null,null,null,0,0]
["2011-12-30",null,null,null,0,null,null,null,0,0,null,null,null,0,null,null,null,0,0,null,null,null,0,null,null,null,0,0,null,null,null,0,null,null,null,0,0]
["2011-12-31",null,null,null,0,null,null,null,0,0,null,null,null,0,null,null,null,0,0,null,null,null,0,null,null,null,0,0,null,null,null,0,null,null,null,0,0]
["Year-To-Date:",null,null,null,{"$f":"SUM(E5,E37,E66,E98,E129,E161,E192,E224,E256,E287,E319,E350)","v":0},null,null,null,{"$f":"SUM(I5,I37,I66,I98,I129,I161,I192,I224,I256,I287,I319,I350)","v":0},{"$f":"SUM(J5,J37,J66,J98,J129,J161,J192,J224,J256,J287,J319,J350)","v":0},null,null,null,{"$f":"SUM(N5,N37,N66,N98,N129,N161,N192,N224,N256,N287,N319,N350)","v":0},null,null,null,{"$f":"SUM(R5,R37,R66,R98,R129,R161,R192,R224,R256,R287,R319,R350)","v":0},{"$f":"SUM(S5,S37,S66,S98,S129,S161,S192,S224,S256,S287,S319,S350)","v":0},null,null,null,{"$f":"SUM(W5,W37,W66,W98,W129,W161,W192,W224,W256,W287,W319,W350)","v":0},null,null,null,{"$f":"SUM(AA5,AA37,AA66,AA98,AA129,AA161,AA192,AA224,AA256,AA287,AA319,AA350)","v":0},{"$f":"SUM(AB5,AB37,AB66,AB98,AB129,AB161,AB192,AB224,AB256,AB287,AB319,AB350)","v":0},null,null,null,{"$f":"SUM(AF5,AF37,AF66,AF98,AF129,AF161,AF192,AF224,AF256,AF287,AF319,AF350)","v":0},null,null,null,{"$f":"SUM(AJ5,AJ37,AJ66,AJ98,AJ129,AJ161,AJ192,AJ224,AJ256,AJ287,AJ319,AJ350)","v":0},{"$f":"SUM(AK5,AK37,AK66,AK98,AK129,AK161,AK192,AK224,AK256,AK287,AK319,AK350)","v":0}]

{"sheet":"PM #5 - Passenger Satisfaction","index":8,"n_rows":12,"n_cols":388,"rows_kept":12,"cut":false,"hidden":false,"merged":[[3,258,3,289],[5,289,11,289],[3,386,3,387],[5,387,11,387],[3,290,3,321],[5,321,11,321],[3,322,3,353],[5,353,11,353],[3,354,3,385],[5,385,11,385],[3,162,3,193],[5,193,11,193],[3,194,3,225],[5,225,11,225],[3,226,3,257],[5,257,11,257],[3,66,3,97],[5,97,11,97],[3,98,3,129],[5,129,11,129],[3,130,3,161],[5,161,11,161],[5,0,11,0],[3,2,3,33],[5,33,11,33],[3,34,3,65],[5,65,11,65]]}
[]
[]
[]
[null,null,"January",null,null,null,null,null,null,null,null,null,null,null,null,null,null,null,null,null,null,null,null,null,null,null,null,null,null,null,null,null,null,null,"February",null,null,null,null,null,null,null,null,null,null,null,null,null,null,null,null,null,null,null,null,null,null,null,null,null,null,null,null,null,null,null,"March",null,null,null,null,null,null,null,null,null,null,null,null,null,null,null,null,null,null,null,null,null,null,null,null,null,null,null,null,null,null,null,"April",null,null,null,null,null,null,null,null,null,null,null,null,null,null,null,null,null,null,null,null,null,null,null,null,null,null,null,null,null,null,null,"May",null,null,null,null,null,null,null,null,null,null,null,null,null,null,null,null,null,null,null,null,null,null,null,null,null,null,null,null,null,null,null,"June",null,null,null,null,null,null,null,null,null,null,null,null,null,null,null,null,null,null,null,null,null,null,null,null,null,null,null,null,null,null,null,"July",null,null,null,null,null,null,null,null,null,null,null,null,null,null,null,null,null,null,null,null,null,null,null,null,null,null,null,null,null,null,null,"August",null,null,null,null,null,null,null,null,null,null,null,null,null,null,null,null,null,null,null,null,null,null,null,null,null,null,null,null,null,null,null,"September",null,null,null,null,null,null,null,null,null,null,null,null,null,null,null,null,null,null,null,null,null,null,null,null,null,null,null,null,null,null,null,"October",null,null,null,null,null,null,null,null,null,null,null,null,null,null,null,null,null,null,null,null,null,null,null,null,null,null,null,null,null,null,null,"November",null,null,null,null,null,null,null,null,null,null,null,null,null,null,null,null,null,null,null,null,null,null,null,null,null,null,null,null,null,null,null,"December",null,null,null,null,null,null,null,null,null,null,null,null,null,null,null,null,null,null,null,null,null,null,null,null,null,null,null,null,null,null,null,"Year-To-Date"]
[null,"Survey No.:",1,{"$f":"C5+1","v":2},{"$f":"D5+1","v":3},4,5,6,7,8,9,10,11,12,13,14,15,16,17,18,19,20,21,22,23,24,25,26,27,28,29,30,"MPS","PS",1,{"$f":"AI5+1","v":2},{"$f":"AJ5+1","v":3},4,5,6,7,8,9,10,11,12,13,14,15,16,17,18,19,20,21,22,23,24,25,26,27,28,29,30,"MPS","PS",1,{"$f":"BO5+1","v":2},{"$f":"BP5+1","v":3},4,5,6,7,8,9,10,11,12,13,14,15,16,17,18,19,20,21,22,23,24,25,26,27,28,29,30,"MPS","PS",1,{"$f":"CU5+1","v":2},{"$f":"CV5+1","v":3},4,5,6,7,8,9,10,11,12,13,14,15,16,17,18,19,20,21,22,23,24,25,26,27,28,29,30,"MPS","PS",1,{"$f":"EA5+1","v":2},{"$f":"EB5+1","v":3},4,5,6,7,8,9,10,11,12,13,14,15,16,17,18,19,20,21,22,23,24,25,26,27,28,29,30,"MPS","PS",1,{"$f":"FG5+1","v":2},{"$f":"FH5+1","v":3},4,5,6,7,8,9,10,11,12,13,14,15,16,17,18,19,20,21,22,23,24,25,26,27,28,29,30,"MPS","PS",1,{"$f":"GM5+1","v":2},{"$f":"GN5+1","v":3},4,5,6,7,8,9,10,11,12,13,14,15,16,17,18,19,20,21,22,23,24,25,26,27,28,29,30,"MPS","PS",1,{"$f":"HS5+1","v":2},{"$f":"HT5+1","v":3},4,5,6,7,8,9,10,11,12,13,14,15,16,17,18,19,20,21,22,23,24,25,26,27,28,29,30,"MPS","PS",1,{"$f":"IY5+1","v":2},{"$f":"IZ5+1","v":3},4,5,6,7,8,9,10,11,12,13,14,15,16,17,18,19,20,21,22,23,24,25,26,27,28,29,30,"MPS","PS",1,{"$f":"KE5+1","v":2},{"$f":"KF5+1","v":3},4,5,6,7,8,9,10,11,12,13,14,15,16,17,18,19,20,21,22,23,24,25,26,27,28,29,30,"MPS","PS",1,{"$f":"LK5+1","v":2},{"$f":"LL5+1","v":3},4,5,6,7,8,9,10,11,12,13,14,15,16,17,18,19,20,21,22,23,24,25,26,27,28,29,30,"MPS","PS",1,{"$f":"MQ5+1","v":2},{"$f":"MR5+1","v":3},4,5,6,7,8,9,10,11,12,13,14,15,16,17,18,19,20,21,22,23,24,25,26,27,28,29,30,"MPS","PS","MPS","PS"]
["Survey Element Rating","System Availability / Wait Time:",null,null,null,null,null,null,null,null,null,null,null,null,null,null,null,null,null,null,null,null,null,null,null,null,null,null,null,null,null,null,{"$f":"IF(SUM(C6:AF6)=0,\"\",SUM(C6:AF6)/COUNTIF(C6:AF6,\">0\"))","v":""},{"$f":"IF(SUM(AG6:AG12)=0,\"\",SUM(AG6:AG12)/COUNTIF(AG6:AG12,\">0\"))","v":""},null,null,null,null,null,null,null,null,null,null,null,null,null,null,null,null,null,null,null,null,null,null,null,null,null,null,null,null,null,null,{"$f":"IF(SUM(AI6:BL6)=0,\"\",SUM(AI6:BL6)/COUNTIF(AI6:BL6,\">0\"))","v":""},{"$f":"IF(SUM(BM6:BM12)=0,\"\",SUM(BM6:BM12)/COUNTIF(BM6:BM12,\">0\"))","v":""},null,null,null,null,null,null,null,null,null,null,null,null,null,null,null,null,null,null,null,null,null,null,null,null,null,null,null,null,null,null,{"$f":"IF(SUM(BO6:CR6)=0,\"\",SUM(BO6:CR6)/COUNTIF(BO6:CR6,\">0\"))","v":""},{"$f":"IF(SUM(CS6:CS12)=0,\"\",SUM(CS6:CS12)/COUNTIF(CS6:CS12,\">0\"))","v":""},null,null,null,null,null,null,null,null,null,null,null,null,null,null,null,null,null,null,null,null,null,null,null,null,null,null,null,null,null,null,{"$f":"IF(SUM(CU6:DX6)=0,\"\",SUM(CU6:DX6)/COUNTIF(CU6:DX6,\">0\"))","v":""},{"$f":"IF(SUM(DY6:DY12)=0,\"\",SUM(DY6:DY12)/COUNTIF(DY6:DY12,\">0\"))","v":""},null,null,null,null,null,null,null,null,null,null,null,null,null,null,null,null,null,null,null,null,null,null,null,null,null,null,null,null,null,null,{"$f":"IF(SUM(EA6:FD6)=0,\"\",SUM(EA6:FD6)/COUNTIF(EA6:FD6,\">0\"))","v":""},{"$f":"IF(SUM(FE6:FE12)=0,\"\",SUM(FE6:FE12)/COUNTIF(FE6:FE12,\">0\"))","v":""},null,null,null,null,null,null,null,null,null,null,null,null,null,null,null,null,null,null,null,null,null,null,null,null,null,null,null,null,null,null,{"$f":"IF(SUM(FG6:GJ6)=0,\"\",SUM(FG6:GJ6)/COUNTIF(FG6:GJ6,\">0\"))","v":""},{"$f":"IF(SUM(GK6:GK12)=0,\"\",SUM(GK6:GK12)/COUNTIF(GK6:GK12,\">0\"))","v":""},null,null,null,null,null,null,null,null,null,null,null,null,null,null,null,null,null,null,null,null,null,null,null,null,null,null,null,null,null,null,{"$f":"IF(SUM(GM6:HP6)=0,\"\",SUM(GM6:HP6)/COUNTIF(GM6:HP6,\">0\"))","v":""},{"$f":"IF(SUM(HQ6:HQ12)=0,\"\",SUM(HQ6:HQ12)/COUNTIF(HQ6:HQ12,\">0\"))","v":""},null,null,null,null,null,null,null,null,null,null,null,null,null,null,null,null,null,null,null,null,null,null,null,null,null,null,null,null,null,null,{"$f":"IF(SUM(HS6:IV6)=0,\"\",SUM(HS6:IV6)/COUNTIF(HS6:IV6,\">0\"))","v":""},{"$f":"IF(SUM(IW6:IW12)=0,\"\",SUM(IW6:IW12)/COUNTIF(IW6:IW12,\">0\"))","v":""},null,null,null,null,null,null,null,null,null,null,null,null,null,null,null,null,null,null,null,null,null,null,null,null,null,null,null,null,null,null,{"$f":"IF(SUM(IY6:KB6)=0,\"\",SUM(IY6:KB6)/COUNTIF(IY6:KB6,\">0\"))","v":""},{"$f":"IF(SUM(KC6:KC12)=0,\"\",SUM(KC6:KC12)/COUNTIF(KC6:KC12,\">0\"))","v":""},null,null,null,null,null,null,null,null,null,null,null,null,null,null,null,null,null,null,null,null,null,null,null,null,null,null,null,null,null,null,{"$f":"IF(SUM(KE6:LH6)=0,\"\",SUM(KE6:LH6)/COUNTIF(KE6:LH6,\">0\"))","v":""},{"$f":"IF(SUM(LI6:LI12)=0,\"\",SUM(LI6:LI12)/COUNTIF(LI6:LI12,\">0\"))","v":""},null,null,null,null,null,null,null,null,null,null,null,null,null,null,null,null,null,null,null,null,null,null,null,null,null,null,null,null,null,null,{"$f":"IF(SUM(LK6:MN6)=0,\"\",SUM(LK6:MN6)/COUNTIF(LK6:MN6,\">0\"))","v":""},{"$f":"IF(SUM(MO6:MO12)=0,\"\",SUM(MO6:MO12)/COUNTIF(MO6:MO12,\">0\"))","v":""},null,null,null,null,null,null,null,null,null,null,null,null,null,null,null,null,null,null,null,null,null,null,null,null,null,null,null,null,null,null,{"$f":"IF(SUM(MQ6:NT6)=0,\"\",SUM(MQ6:NT6)/COUNTIF(MQ6:NT6,\">0\"))","v":""},{"$f":"IF(SUM(NU6:NU12)=0,\"\",SUM(NU6:NU12)/COUNTIF(NU6:NU12,\">0\"))","v":""},{"$f":"IF(SUM(AG6,BM6,CS6,DY6,FE6,GK6,HQ6,IW6,KC6,LI6,MO6,NU6)=0,\"\",SUM(AG6,BM6,CS6,DY6,FE6,GK6,HQ6,IW6,KC6,LI6,MO6,NU6)/COUNT(AG6,BM6,CS6,DY6,FE6,GK6,HQ6,IW6,KC6,LI6,MO6,NU6))","v":""},{"$f":"IF(SUM(AH6,BN6,CT6,DZ6,FF6,GL6,HR6,IX6,KD6,LJ6,MP6,NV6)=0,\"\",SUM(AH6,BN6,CT6,DZ6,FF6,GL6,HR6,IX6,KD6,LJ6,MP6,NV6)/COUNT(AH6,BN6,CT6,DZ6,FF6,GL6,HR6,IX6,KD6,LJ6,MP6,NV6))","v":""}]
[null,"Convenience / Trip Time:",null,null,null,null,null,null,null,null,null,null,null,null,null,null,null,null,null,null,null,null,null,null,null,null,null,null,null,null,null,null,{"$f":"IF(SUM(C7:AF7)=0,\"\",SUM(C7:AF7)/COUNTIF(C7:AF7,\">0\"))","v":""},null,null,null,null,null,null,null,null,null,null,null,null,null,null,null,null,null,null,null,null,null,null,null,null,null,null,null,null,null,null,null,{"$f":"IF(SUM(AI7:BL7)=0,\"\",SUM(AI7:BL7)/COUNTIF(AI7:BL7,\">0\"))","v":""},null,null,null,null,null,null,null,null,null,null,null,null,null,null,null,null,null,null,null,null,null,null,null,null,null,null,null,null,null,null,null,{"$f":"IF(SUM(BO7:CR7)=0,\"\",SUM(BO7:CR7)/COUNTIF(BO7:CR7,\">0\"))","v":""},null,null,null,null,null,null,null,null,null,null,null,null,null,null,null,null,null,null,null,null,null,null,null,null,null,null,null,null,null,null,null,{"$f":"IF(SUM(CU7:DX7)=0,\"\",SUM(CU7:DX7)/COUNTIF(CU7:DX7,\">0\"))","v":""},null,null,null,null,null,null,null,null,null,null,null,null,null,null,null,null,null,null,null,null,null,null,null,null,null,null,null,null,null,null,null,{"$f":"IF(SUM(EA7:FD7)=0,\"\",SUM(EA7:FD7)/COUNTIF(EA7:FD7,\">0\"))","v":""},null,null,null,null,null,null,null,null,null,null,null,null,null,null,null,null,null,null,null,null,null,null,null,null,null,null,null,null,null,null,null,{"$f":"IF(SUM(FG7:GJ7)=0,\"\",SUM(FG7:GJ7)/COUNTIF(FG7:GJ7,\">0\"))","v":""},null,null,null,null,null,null,null,null,null,null,null,null,null,null,null,null,null,null,null,null,null,null,null,null,null,null,null,null,null,null,null,{"$f":"IF(SUM(GM7:HP7)=0,\"\",SUM(GM7:HP7)/COUNTIF(GM7:HP7,\">0\"))","v":""},null,null,null,null,null,null,null,null,null,null,null,null,null,null,null,null,null,null,null,null,null,null,null,null,null,null,null,null,null,null,null,{"$f":"IF(SUM(HS7:IV7)=0,\"\",SUM(HS7:IV7)/COUNTIF(HS7:IV7,\">0\"))","v":""},null,null,null,null,null,null,null,null,null,null,null,null,null,null,null,null,null,null,null,null,null,null,null,null,null,null,null,null,null,null,null,{"$f":"IF(SUM(IY7:KB7)=0,\"\",SUM(IY7:KB7)/COUNTIF(IY7:KB7,\">0\"))","v":""},null,null,null,null,null,null,null,null,null,null,null,null,null,null,null,null,null,null,null,null,null,null,null,null,null,null,null,null,null,null,null,{"$f":"IF(SUM(KE7:LH7)=0,\"\",SUM(KE7:LH7)/COUNTIF(KE7:LH7,\">0\"))","v":""},null,null,null,null,null,null,null,null,null,null,null,null,null,null,null,null,null,null,null,null,null,null,null,null,null,null,null,null,null,null,null,{"$f":"IF(SUM(LK7:MN7)=0,\"\",SUM(LK7:MN7)/COUNTIF(LK7:MN7,\">0\"))","v":""},null,null,null,null,null,null,null,null,null,null,null,null,null,null,null,null,null,null,null,null,null,null,null,null,null,null,null,null,null,null,null,{"$f":"IF(SUM(MQ7:NT7)=0,\"\",SUM(MQ7:NT7)/COUNTIF(MQ7:NT7,\">0\"))","v":""},null,{"$f":"IF(SUM(AG7,BM7,CS7,DY7,FE7,GK7,HQ7,IW7,KC7,LI7,MO7,NU7)=0,\"\",SUM(AG7,BM7,CS7,DY7,FE7,GK7,HQ7,IW7,KC7,LI7,MO7,NU7)/COUNT(AG7,BM7,CS7,DY7,FE7,GK7,HQ7,IW7,KC7,LI7,MO7,NU7))","v":""}]
[null,"Comfort / Ride Quality & Cleanliness:",null,null,null,null,null,null,null,null,null,null,null,null,null,null,null,null,null,null,null,null,null,null,null,null,null,null,null,null,null,null,"",null,null,null,null,null,null,null,null,null,null,null,null,null,null,null,null,null,null,null,null,null,null,null,null,null,null,null,null,null,null,null,"",null,null,null,null,null,null,null,null,null,null,null,null,null,null,null,null,null,null,null,null,null,null,null,null,null,null,null,null,null,null,null,"",null,null,null,null,null,null,null,null,null,null,null,null,null,null,null,null,null,null,null,null,null,null,null,null,null,null,null,null,null,null,null,"",null,null,null,null,null,null,null,null,null,null,null,null,null,null,null,null,null,null,null,null,null,null,null,null,null,null,null,null,null,null,null,"",null,null,null,null,null,null,null,null,null,null,null,null,null,null,null,null,null,null,null,null,null,null,null,null,null,null,null,null,null,null,null,"",null,null,null,null,null,null,null,null,null,null,null,null,null,null,null,null,null,null,null,null,null,null,null,null,null,null,null,null,null,null,null,"",null,null,null,null,null,null,null,null,null,null,null,null,null,null,null,null,null,null,null,null,null,null,null,null,null,null,null,null,null,null,null,"",null,null,null,null,null,null,null,null,null,null,null,null,null,null,null,null,null,null,null,null,null,null,null,null,null,null,null,null,null,null,null,"",null,null,null,null,null,null,null,null,null,null,null,null,null,null,null,null,null,null,null,null,null,null,null,null,null,null,null,null,null,null,null,"",null,null,null,null,null,null,null,null,null,null,null,null,null,null,null,null,null,null,null,null,null,null,null,null,null,null,null,null,null,null,null,"",null,null,null,null,null,null,null,null,null,null,null,null,null,null,null,null,null,null,null,null,null,null,null,null,null,null,null,null,null,null,null,"",null,""]
[null,"Ease of Use / Wayfinding:",null,null,null,null,null,null,null,null,null,null,null,null,null,null,null,null,null,null,null,null,null,null,null,null,null,null,null,null,null,null,"",null,null,null,null,null,null,null,null,null,null,null,null,null,null,null,null,null,null,null,null,null,null,null,null,null,null,null,null,null,null,null,"",null,null,null,null,null,null,null,null,null,null,null,null,null,null,null,null,null,null,null,null,null,null,null,null,null,null,null,null,null,null,null,"",null,null,null,null,null,null,null,null,null,null,null,null,null,null,null,null,null,null,null,null,null,null,null,null,null,null,null,null,null,null,null,"",null,null,null,null,null,null,null,null,null,null,null,null,null,null,null,null,null,null,null,null,null,null,null,null,null,null,null,null,null,null,null,"",null,null,null,null,null,null,null,null,null,null,null,null,null,null,null,null,null,null,null,null,null,null,null,null,null,null,null,null,null,null,null,"",null,null,null,null,null,null,null,null,null,null,null,null,null,null,null,null,null,null,null,null,null,null,null,null,null,null,null,null,null,null,null,"",null,null,null,null,null,null,null,null,null,null,null,null,null,null,null,null,null,null,null,null,null,null,null,null,null,null,null,null,null,null,null,"",null,null,null,null,null,null,null,null,null,null,null,null,null,null,null,null,null,null,null,null,null,null,null,null,null,null,null,null,null,null,null,"",null,null,null,null,null,null,null,null,null,null,null,null,null,null,null,null,null,null,null,null,null,null,null,null,null,null,null,null,null,null,null,"",null,null,null,null,null,null,null,null,null,null,null,null,null,null,null,null,null,null,null,null,null,null,null,null,null,null,null,null,null,null,null,"",null,null,null,null,null,null,null,null,null,null,null,null,null,null,null,null,null,null,null,null,null,null,null,null,null,null,null,null,null,null,null,"",null,""]
[null,"Informational / Announcements:",null,null,null,null,null,null,null,null,null,null,null,null,null,null,null,null,null,null,null,null,null,null,null,null,null,null,null,null,null,null,"",null,null,null,null,null,null,null,null,null,null,null,null,null,null,null,null,null,null,null,null,null,null,null,null,null,null,null,null,null,null,null,"",null,null,null,null,null,null,null,null,null,null,null,null,null,null,null,null,null,null,null,null,null,null,null,null,null,null,null,null,null,null,null,"",null,null,null,null,null,null,null,null,null,null,null,null,null,null,null,null,null,null,null,null,null,null,null,null,null,null,null,null,null,null,null,"",null,null,null,null,null,null,null,null,null,null,null,null,null,null,null,null,null,null,null,null,null,null,null,null,null,null,null,null,null,null,null,"",null,null,null,null,null,null,null,null,null,null,null,null,null,null,null,null,null,null,null,null,null,null,null,null,null,null,null,null,null,null,null,"",null,null,null,null,null,null,null,null,null,null,null,null,null,null,null,null,null,null,null,null,null,null,null,null,null,null,null,null,null,null,null,"",null,null,null,null,null,null,null,null,null,null,null,null,null,null,null,null,null,null,null,null,null,null,null,null,null,null,null,null,null,null,null,"",null,null,null,null,null,null,null,null,null,null,null,null,null,null,null,null,null,null,null,null,null,null,null,null,null,null,null,null,null,null,null,"",null,null,null,null,null,null,null,null,null,null,null,null,null,null,null,null,null,null,null,null,null,null,null,null,null,null,null,null,null,null,null,"",null,null,null,null,null,null,null,null,null,null,null,null,null,null,null,null,null,null,null,null,null,null,null,null,null,null,null,null,null,null,null,"",null,null,null,null,null,null,null,null,null,null,null,null,null,null,null,null,null,null,null,null,null,null,null,null,null,null,null,null,null,null,null,"",null,""]
[null,"Helpfulness of Staff:",null,null,null,null,null,null,null,null,null,null,null,null,null,null,null,null,null,null,null,null,null,null,null,null,null,null,null,null,null,null,"",null,null,null,null,null,null,null,null,null,null,null,null,null,null,null,null,null,null,null,null,null,null,null,null,null,null,null,null,null,null,null,"",null,null,null,null,null,null,null,null,null,null,null,null,null,null,null,null,null,null,null,null,null,null,null,null,null,null,null,null,null,null,null,"",null,null,null,null,null,null,null,null,null,null,null,null,null,null,null,null,null,null,null,null,null,null,null,null,null,null,null,null,null,null,null,"",null,null,null,null,null,null,null,null,null,null,null,null,null,null,null,null,null,null,null,null,null,null,null,null,null,null,null,null,null,null,null,"",null,null,null,null,null,null,null,null,null,null,null,null,null,null,null,null,null,null,null,null,null,null,null,null,null,null,null,null,null,null,null,"",null,null,null,null,null,null,null,null,null,null,null,null,null,null,null,null,null,null,null,null,null,null,null,null,null,null,null,null,null,null,null,"",null,null,null,null,null,null,null,null,null,null,null,null,null,null,null,null,null,null,null,null,null,null,null,null,null,null,null,null,null,null,null,"",null,null,null,null,null,null,null,null,null,null,null,null,null,null,null,null,null,null,null,null,null,null,null,null,null,null,null,null,null,null,null,"",null,null,null,null,null,null,null,null,null,null,null,null,null,null,null,null,null,null,null,null,null,null,null,null,null,null,null,null,null,null,null,"",null,null,null,null,null,null,null,null,null,null,null,null,null,null,null,null,null,null,null,null,null,null,null,null,null,null,null,null,null,null,null,"",null,null,null,null,null,null,null,null,null,null,null,null,null,null,null,null,null,null,null,null,null,null,null,null,null,null,null,null,null,null,null,"",null,""]
[null,"Responsiveness to Complaints:",null,null,null,null,null,null,null,null,null,null,null,null,null,null,null,null,null,null,null,null,null,null,null,null,null,null,null,null,null,null,"",null,null,null,null,null,null,null,null,null,null,null,null,null,null,null,null,null,null,null,null,null,null,null,null,null,null,null,null,null,null,null,"",null,null,null,null,null,null,null,null,null,null,null,null,null,null,null,null,null,null,null,null,null,null,null,null,null,null,null,null,null,null,null,"",null,null,null,null,null,null,null,null,null,null,null,null,null,null,null,null,null,null,null,null,null,null,null,null,null,null,null,null,null,null,null,"",null,null,null,null,null,null,null,null,null,null,null,null,null,null,null,null,null,null,null,null,null,null,null,null,null,null,null,null,null,null,null,"",null,null,null,null,null,null,null,null,null,null,null,null,null,null,null,null,null,null,null,null,null,null,null,null,null,null,null,null,null,null,null,"",null,null,null,null,null,null,null,null,null,null,null,null,null,null,null,null,null,null,null,null,null,null,null,null,null,null,null,null,null,null,null,"",null,null,null,null,null,null,null,null,null,null,null,null,null,null,null,null,null,null,null,null,null,null,null,null,null,null,null,null,null,null,null,"",null,null,null,null,null,null,null,null,null,null,null,null,null,null,null,null,null,null,null,null,null,null,null,null,null,null,null,null,null,null,null,"",null,null,null,null,null,null,null,null,null,null,null,null,null,null,null,null,null,null,null,null,null,null,null,null,null,null,null,null,null,null,null,"",null,null,null,null,null,null,null,null,null,null,null,null,null,null,null,null,null,null,null,null,null,null,null,null,null,null,null,null,null,null,null,"",null,null,null,null,null,null,null,null,null,null,null,null,null,null,null,null,null,null,null,null,null,null,null,null,null,null,null,null,null,null,null,"",null,""]

{"sheet":"PM #6 - Missed Stations","index":9,"n_rows":381,"n_cols":4,"rows_kept":381,"cut":false,"hidden":false,"merged":[]}
[]
[]
[null,"Station Stops\n(#)","Missed Stations\n(#)","Missed Stations per 1K Station Stops"]
["January:",{"$f":"SUM(B5:B35)","v":0},{"$f":"SUM(C5:C35)","v":0},{"$f":"IF(B4=0,\"\",(C4*1000)/B4)","v":""}]
["2011-01-01",null,null,{"$f":"IF(B5=0,\"\",(C5*1000)/B5)","v":""}]
["2011-01-02",null,null,{"$f":"IF(B6=0,\"\",(C6*1000)/B6)","v":""}]
["2011-01-03",null,null,""]
["2011-01-04",null,null,""]
["2011-01-05",null,null,""]
["2011-01-06",null,null,""]
["2011-01-07",null,null,""]
["2011-01-08",null,null,""]
["2011-01-09",null,null,""]
["2011-01-10",null,null,""]
["2011-01-11",null,null,""]
["2011-01-12",null,null,""]
["2011-01-13",null,null,""]
["2011-01-14",null,null,""]
["2011-01-15",null,null,""]
["2011-01-16",null,null,""]
["2011-01-17",null,null,""]
["2011-01-18",null,null,""]
["2011-01-19",null,null,""]
["2011-01-20",null,null,""]
["2011-01-21",null,null,""]
["2011-01-22",null,null,""]
["2011-01-23",null,null,""]
["2011-01-24",null,null,""]
["2011-01-25",null,null,""]
["2011-01-26",null,null,""]
["2011-01-27",null,null,""]
["2011-01-28",null,null,""]
["2011-01-29",null,null,""]
["2011-01-30",null,null,""]
["2011-01-31",null,null,""]
["February:",{"$f":"SUM(B37:B64)","v":0},{"$f":"SUM(C37:C64)","v":0},{"$f":"IF(B36=0,\"\",(C36*1000)/B36)","v":""}]
["2011-02-01",null,null,{"$f":"IF(B37=0,\"\",(C37*1000)/B37)","v":""}]
["2011-02-02",null,null,{"$f":"IF(B38=0,\"\",(C38*1000)/B38)","v":""}]
["2011-02-03",null,null,""]
["2011-02-04",null,null,""]
["2011-02-05",null,null,""]
["2011-02-06",null,null,""]
["2011-02-07",null,null,""]
["2011-02-08",null,null,""]
["2011-02-09",null,null,""]
["2011-02-10",null,null,""]
["2011-02-11",null,null,""]
["2011-02-12",null,null,""]
["2011-02-13",null,null,""]
["2011-02-14",null,null,""]
["2011-02-15",null,null,""]
["2011-02-16",null,null,""]
["2011-02-17",null,null,""]
["2011-02-18",null,null,""]
["2011-02-19",null,null,""]
["2011-02-20",null,null,""]
["2011-02-21",null,null,""]
["2011-02-22",null,null,""]
["2011-02-23",null,null,""]
["2011-02-24",null,null,""]
["2011-02-25",null,null,""]
["2011-02-26",null,null,""]
["2011-02-27",null,null,""]
["2011-02-28",null,null,""]
["March:",{"$f":"SUM(B66:B96)","v":0},{"$f":"SUM(C66:C96)","v":0},{"$f":"IF(B65=0,\"\",(C65*1000)/B65)","v":""}]
["2011-03-01",null,null,{"$f":"IF(B66=0,\"\",(C66*1000)/B66)","v":""}]
["2011-03-02",null,null,{"$f":"IF(B67=0,\"\",(C67*1000)/B67)","v":""}]
["2011-03-03",null,null,""]
["2011-03-04",null,null,""]
["2011-03-05",null,null,""]
["2011-03-06",null,null,""]
["2011-03-07",null,null,""]
["2011-03-08",null,null,""]
["2011-03-09",null,null,""]
["2011-03-10",null,null,""]
["2011-03-11",null,null,""]
["2011-03-12",null,null,""]
["2011-03-13",null,null,""]
["2011-03-14",null,null,""]
["2011-03-15",null,null,""]
["2011-03-16",null,null,""]
["2011-03-17",null,null,""]
["2011-03-18",null,null,""]
["2011-03-19",null,null,""]
["2011-03-20",null,null,""]
["2011-03-21",null,null,""]
["2011-03-22",null,null,""]
["2011-03-23",null,null,""]
["2011-03-24",null,null,""]
["2011-03-25",null,null,""]
["2011-03-26",null,null,""]
["2011-03-27",null,null,""]
["2011-03-28",null,null,""]
["2011-03-29",null,null,""]
["2011-03-30",null,null,""]
["2011-03-31",null,null,""]
["April:",{"$f":"SUM(B98:B127)","v":0},{"$f":"SUM(C98:C127)","v":0},{"$f":"IF(B97=0,\"\",(C97*1000)/B97)","v":""}]
["2011-04-01",null,null,{"$f":"IF(B98=0,\"\",(C98*1000)/B98)","v":""}]
["2011-04-02",null,null,{"$f":"IF(B99=0,\"\",(C99*1000)/B99)","v":""}]
["2011-04-03",null,null,""]
["2011-04-04",null,null,""]
["2011-04-05",null,null,""]
["2011-04-06",null,null,""]
["2011-04-07",null,null,""]
["2011-04-08",null,null,""]
["2011-04-09",null,null,""]
["2011-04-10",null,null,""]
["2011-04-11",null,null,""]
["2011-04-12",null,null,""]
["2011-04-13",null,null,""]
["2011-04-14",null,null,""]
["2011-04-15",null,null,""]
["2011-04-16",null,null,""]
["2011-04-17",null,null,""]
["2011-04-18",null,null,""]
["2011-04-19",null,null,""]
["2011-04-20",null,null,""]
["2011-04-21",null,null,""]
["2011-04-22",null,null,""]
["2011-04-23",null,null,""]
["2011-04-24",null,null,""]
["2011-04-25",null,null,""]
["2011-04-26",null,null,""]
["2011-04-27",null,null,""]
["2011-04-28",null,null,""]
["2011-04-29",null,null,""]
["2011-04-30",null,null,""]
["May:",{"$f":"SUM(B129:B159)","v":0},{"$f":"SUM(C129:C159)","v":0},{"$f":"IF(B128=0,\"\",(C128*1000)/B128)","v":""}]
["2011-05-01",null,null,{"$f":"IF(B129=0,\"\",(C129*1000)/B129)","v":""}]
["2011-05-02",null,null,{"$f":"IF(B130=0,\"\",(C130*1000)/B130)","v":""}]
["2011-05-03",null,null,""]
["2011-05-04",null,null,""]
["2011-05-05",null,null,""]
["2011-05-06",null,null,""]
["2011-05-07",null,null,""]
["2011-05-08",null,null,""]
["2011-05-09",null,null,""]
["2011-05-10",null,null,""]
["2011-05-11",null,null,""]
["2011-05-12",null,null,""]
["2011-05-13",null,null,""]
["2011-05-14",null,null,""]
["2011-05-15",null,null,""]
["2011-05-16",null,null,""]
["2011-05-17",null,null,""]
["2011-05-18",null,null,""]
["2011-05-19",null,null,""]
["2011-05-20",null,null,""]
["2011-05-21",null,null,""]
["2011-05-22",null,null,""]
["2011-05-23",null,null,""]
["2011-05-24",null,null,""]
["2011-05-25",null,null,""]
["2011-05-26",null,null,""]
["2011-05-27",null,null,""]
["2011-05-28",null,null,""]
["2011-05-29",null,null,""]
["2011-05-30",null,null,""]
["2011-05-31",null,null,""]
["June:",{"$f":"SUM(B161:B190)","v":0},{"$f":"SUM(C161:C190)","v":0},{"$f":"IF(B160=0,\"\",(C160*1000)/B160)","v":""}]
["2011-06-01",null,null,{"$f":"IF(B161=0,\"\",(C161*1000)/B161)","v":""}]
["2011-06-02",null,null,{"$f":"IF(B162=0,\"\",(C162*1000)/B162)","v":""}]
["2011-06-03",null,null,""]
["2011-06-04",null,null,""]
["2011-06-05",null,null,""]
["2011-06-06",null,null,""]
["2011-06-07",null,null,""]
["2011-06-08",null,null,""]
["2011-06-09",null,null,""]
["2011-06-10",null,null,""]
["2011-06-11",null,null,""]
["2011-06-12",null,null,""]
["2011-06-13",null,null,""]
["2011-06-14",null,null,""]
["2011-06-15",null,null,""]
["2011-06-16",null,null,""]
["2011-06-17",null,null,""]
["2011-06-18",null,null,""]
["2011-06-19",null,null,""]
["2011-06-20",null,null,""]
["2011-06-21",null,null,""]
["2011-06-22",null,null,""]
["2011-06-23",null,null,""]
["2011-06-24",null,null,""]
["2011-06-25",null,null,""]
["2011-06-26",null,null,""]
["2011-06-27",null,null,""]
["2011-06-28",null,null,""]
["2011-06-29",null,null,""]
["2011-06-30",null,null,""]
["July:",{"$f":"SUM(B192:B222)","v":0},{"$f":"SUM(C192:C222)","v":0},{"$f":"IF(B191=0,\"\",(C191*1000)/B191)","v":""}]
["2011-07-01",null,null,{"$f":"IF(B192=0,\"\",(C192*1000)/B192)","v":""}]
["2011-07-02",null,null,{"$f":"IF(B193=0,\"\",(C193*1000)/B193)","v":""}]
["2011-07-03",null,null,""]
["2011-07-04",null,null,""]
["2011-07-05",null,null,""]
["2011-07-06",null,null,""]
["2011-07-07",null,null,""]
["2011-07-08",null,null,""]
["2011-07-09",null,null,""]
["2011-07-10",null,null,""]
["2011-07-11",null,null,""]
["2011-07-12",null,null,""]
["2011-07-13",null,null,""]
["2011-07-14",null,null,""]
["2011-07-15",null,null,""]
["2011-07-16",null,null,""]
["2011-07-17",null,null,""]
["2011-07-18",null,null,""]
["2011-07-19",null,null,""]
["2011-07-20",null,null,""]
["2011-07-21",null,null,""]
["2011-07-22",null,null,""]
["2011-07-23",null,null,""]
["2011-07-24",null,null,""]
["2011-07-25",null,null,""]
["2011-07-26",null,null,""]
["2011-07-27",null,null,""]
["2011-07-28",null,null,""]
["2011-07-29",null,null,""]
["2011-07-30",null,null,""]
["2011-07-31",null,null,""]
["August:",{"$f":"SUM(B224:B254)","v":0},{"$f":"SUM(C224:C254)","v":0},{"$f":"IF(B223=0,\"\",(C223*1000)/B223)","v":""}]
["2011-08-01",null,null,{"$f":"IF(B224=0,\"\",(C224*1000)/B224)","v":""}]
["2011-08-02",null,null,{"$f":"IF(B225=0,\"\",(C225*1000)/B225)","v":""}]
["2011-08-03",null,null,""]
["2011-08-04",null,null,""]
["2011-08-05",null,null,""]
["2011-08-06",null,null,""]
["2011-08-07",null,null,""]
["2011-08-08",null,null,""]
["2011-08-09",null,null,""]
["2011-08-10",null,null,""]
["2011-08-11",null,null,""]
["2011-08-12",null,null,""]
["2011-08-13",null,null,""]
["2011-08-14",null,null,""]
["2011-08-15",null,null,""]
["2011-08-16",null,null,""]
["2011-08-17",null,null,""]
["2011-08-18",null,null,""]
["2011-08-19",null,null,""]
["2011-08-20",null,null,""]
["2011-08-21",null,null,""]
["2011-08-22",null,null,""]
["2011-08-23",null,null,""]
["2011-08-24",null,null,""]
["2011-08-25",null,null,""]
["2011-08-26",null,null,""]
["2011-08-27",null,null,""]
["2011-08-28",null,null,""]
["2011-08-29",null,null,""]
["2011-08-30",null,null,""]
["2011-08-31",null,null,""]
["September:",{"$f":"SUM(B256:B285)","v":0},{"$f":"SUM(C256:C285)","v":0},{"$f":"IF(B255=0,\"\",(C255*1000)/B255)","v":""}]
["2011-09-01",null,null,{"$f":"IF(B256=0,\"\",(C256*1000)/B256)","v":""}]
["2011-09-02",null,null,{"$f":"IF(B257=0,\"\",(C257*1000)/B257)","v":""}]
["2011-09-03",null,null,""]
["2011-09-04",null,null,""]
["2011-09-05",null,null,""]
["2011-09-06",null,null,""]
["2011-09-07",null,null,""]
["2011-09-08",null,null,""]
["2011-09-09",null,null,""]
["2011-09-10",null,null,""]
["2011-09-11",null,null,""]
["2011-09-12",null,null,""]
["2011-09-13",null,null,""]
["2011-09-14",null,null,""]
["2011-09-15",null,null,""]
["2011-09-16",null,null,""]
["2011-09-17",null,null,""]
["2011-09-18",null,null,""]
["2011-09-19",null,null,""]
["2011-09-20",null,null,""]
["2011-09-21",null,null,""]
["2011-09-22",null,null,""]
["2011-09-23",null,null,""]
["2011-09-24",null,null,""]
["2011-09-25",null,null,""]
["2011-09-26",null,null,""]
["2011-09-27",null,null,""]
["2011-09-28",null,null,""]
["2011-09-29",null,null,""]
["2011-09-30",null,null,""]
["October:",{"$f":"SUM(B287:B317)","v":0},{"$f":"SUM(C287:C317)","v":0},{"$f":"IF(B286=0,\"\",(C286*1000)/B286)","v":""}]
["2011-10-01",null,null,{"$f":"IF(B287=0,\"\",(C287*1000)/B287)","v":""}]
["2011-10-02",null,null,{"$f":"IF(B288=0,\"\",(C288*1000)/B288)","v":""}]
["2011-10-03",null,null,""]
["2011-10-04",null,null,""]
["2011-10-05",null,null,""]
["2011-10-06",null,null,""]
["2011-10-07",null,null,""]
["2011-10-08",null,null,""]
["2011-10-09",null,null,""]
["2011-10-10",null,null,""]
["2011-10-11",null,null,""]
["2011-10-12",null,null,""]
["2011-10-13",null,null,""]
["2011-10-14",null,null,""]
["2011-10-15",null,null,""]
["2011-10-16",null,null,""]
["2011-10-17",null,null,""]
["2011-10-18",null,null,""]
["2011-10-19",null,null,""]
["2011-10-20",null,null,""]
["2011-10-21",null,null,""]
["2011-10-22",null,null,""]
["2011-10-23",null,null,""]
["2011-10-24",null,null,""]
["2011-10-25",null,null,""]
["2011-10-26",null,null,""]
["2011-10-27",null,null,""]
["2011-10-28",null,null,""]
["2011-10-29",null,null,""]
["2011-10-30",null,null,""]
["2011-10-31",null,null,""]
["November:",{"$f":"SUM(B319:B348)","v":0},{"$f":"SUM(C319:C348)","v":0},{"$f":"IF(B318=0,\"\",(C318*1000)/B318)","v":""}]
["2011-11-01",null,null,{"$f":"IF(B319=0,\"\",(C319*1000)/B319)","v":""}]
["2011-11-02",null,null,{"$f":"IF(B320=0,\"\",(C320*1000)/B320)","v":""}]
["2011-11-03",null,null,""]
["2011-11-04",null,null,""]
["2011-11-05",null,null,""]
["2011-11-06",null,null,""]
["2011-11-07",null,null,""]
["2011-11-08",null,null,""]
["2011-11-09",null,null,""]
["2011-11-10",null,null,""]
["2011-11-11",null,null,""]
["2011-11-12",null,null,""]
["2011-11-13",null,null,""]
["2011-11-14",null,null,""]
["2011-11-15",null,null,""]
["2011-11-16",null,null,""]
["2011-11-17",null,null,""]
["2011-11-18",null,null,""]
["2011-11-19",null,null,""]
["2011-11-20",null,null,""]
["2011-11-21",null,null,""]
["2011-11-22",null,null,""]
["2011-11-23",null,null,""]
["2011-11-24",null,null,""]
["2011-11-25",null,null,""]
["2011-11-26",null,null,""]
["2011-11-27",null,null,""]
["2011-11-28",null,null,""]
["2011-11-29",null,null,""]
["2011-11-30",null,null,""]
["December:",{"$f":"SUM(B350:B380)","v":0},{"$f":"SUM(C350:C380)","v":0},{"$f":"IF(B349=0,\"\",(C349*1000)/B349)","v":""}]
["2011-12-01",null,null,{"$f":"IF(B350=0,\"\",(C350*1000)/B350)","v":""}]
["2011-12-02",null,null,{"$f":"IF(B351=0,\"\",(C351*1000)/B351)","v":""}]
["2011-12-03",null,null,""]
["2011-12-04",null,null,""]
["2011-12-05",null,null,""]
["2011-12-06",null,null,""]
["2011-12-07",null,null,""]
["2011-12-08",null,null,""]
["2011-12-09",null,null,""]
["2011-12-10",null,null,""]
["2011-12-11",null,null,""]
["2011-12-12",null,null,""]
["2011-12-13",null,null,""]
["2011-12-14",null,null,""]
["2011-12-15",null,null,""]
["2011-12-16",null,null,""]
["2011-12-17",null,null,""]
["2011-12-18",null,null,""]
["2011-12-19",null,null,""]
["2011-12-20",null,null,""]
["2011-12-21",null,null,""]
["2011-12-22",null,null,""]
["2011-12-23",null,null,""]
["2011-12-24",null,null,""]
["2011-12-25",null,null,""]
["2011-12-26",null,null,""]
["2011-12-27",null,null,""]
["2011-12-28",null,null,""]
["2011-12-29",null,null,""]
["2011-12-30",null,null,""]
["2011-12-31",null,null,""]
["Year-To-Date:",{"$f":"SUM(B4,B36,B65,B97,B128,B160,B191,B223,B255,B286,B318,B349)","v":0},{"$f":"SUM(C4,C36,C65,C97,C128,C160,C191,C223,C255,C286,C318,C349)","v":0},{"$f":"IF(B381=0,\"\",(C381*1000)/B381)","v":""}]

{"sheet":"PM #7 - Unintended Stops","index":10,"n_rows":381,"n_cols":4,"rows_kept":381,"cut":false,"hidden":false,"merged":[]}
[]
[]
[null,"Interstations\n(#)","Unintended\nStops\n(#)","Unintended Stops per 1K Interstations"]
["January:",{"$f":"SUM(B5:B35)","v":0},{"$f":"SUM(C5:C35)","v":0},{"$f":"IF(B4=0,\"\",(C4*1000)/B4)","v":""}]
["2011-01-01",null,null,{"$f":"IF(B5=0,\"\",(C5*1000)/B5)","v":""}]
["2011-01-02",null,null,{"$f":"IF(B6=0,\"\",(C6*1000)/B6)","v":""}]
["2011-01-03",null,null,""]
["2011-01-04",null,null,""]
["2011-01-05",null,null,""]
["2011-01-06",null,null,""]
["2011-01-07",null,null,""]
["2011-01-08",null,null,""]
["2011-01-09",null,null,""]
["2011-01-10",null,null,""]
["2011-01-11",null,null,""]
["2011-01-12",null,null,""]
["2011-01-13",null,null,""]
["2011-01-14",null,null,""]
["2011-01-15",null,null,""]
["2011-01-16",null,null,""]
["2011-01-17",null,null,""]
["2011-01-18",null,null,""]
["2011-01-19",null,null,""]
["2011-01-20",null,null,""]
["2011-01-21",null,null,""]
["2011-01-22",null,null,""]
["2011-01-23",null,null,""]
["2011-01-24",null,null,""]
["2011-01-25",null,null,""]
["2011-01-26",null,null,""]
["2011-01-27",null,null,""]
["2011-01-28",null,null,""]
["2011-01-29",null,null,""]
["2011-01-30",null,null,""]
["2011-01-31",null,null,""]
["February:",{"$f":"SUM(B37:B64)","v":0},{"$f":"SUM(C37:C64)","v":0},{"$f":"IF(B36=0,\"\",(C36*1000)/B36)","v":""}]
["2011-02-01",null,null,{"$f":"IF(B37=0,\"\",(C37*1000)/B37)","v":""}]
["2011-02-02",null,null,{"$f":"IF(B38=0,\"\",(C38*1000)/B38)","v":""}]
["2011-02-03",null,null,""]
["2011-02-04",null,null,""]
["2011-02-05",null,null,""]
["2011-02-06",null,null,""]
["2011-02-07",null,null,""]
["2011-02-08",null,null,""]
["2011-02-09",null,null,""]
["2011-02-10",null,null,""]
["2011-02-11",null,null,""]
["2011-02-12",null,null,""]
["2011-02-13",null,null,""]
["2011-02-14",null,null,""]
["2011-02-15",null,null,""]
["2011-02-16",null,null,""]
["2011-02-17",null,null,""]
["2011-02-18",null,null,""]
["2011-02-19",null,null,""]
["2011-02-20",null,null,""]
["2011-02-21",null,null,""]
["2011-02-22",null,null,""]
["2011-02-23",null,null,""]
["2011-02-24",null,null,""]
["2011-02-25",null,null,""]
["2011-02-26",null,null,""]
["2011-02-27",null,null,""]
["2011-02-28",null,null,""]
["March:",{"$f":"SUM(B66:B96)","v":0},{"$f":"SUM(C66:C96)","v":0},{"$f":"IF(B65=0,\"\",(C65*1000)/B65)","v":""}]
["2011-03-01",null,null,{"$f":"IF(B66=0,\"\",(C66*1000)/B66)","v":""}]
["2011-03-02",null,null,{"$f":"IF(B67=0,\"\",(C67*1000)/B67)","v":""}]
["2011-03-03",null,null,""]
["2011-03-04",null,null,""]
["2011-03-05",null,null,""]
["2011-03-06",null,null,""]
["2011-03-07",null,null,""]
["2011-03-08",null,null,""]
["2011-03-09",null,null,""]
["2011-03-10",null,null,""]
["2011-03-11",null,null,""]
["2011-03-12",null,null,""]
["2011-03-13",null,null,""]
["2011-03-14",null,null,""]
["2011-03-15",null,null,""]
["2011-03-16",null,null,""]
["2011-03-17",null,null,""]
["2011-03-18",null,null,""]
["2011-03-19",null,null,""]
["2011-03-20",null,null,""]
["2011-03-21",null,null,""]
["2011-03-22",null,null,""]
["2011-03-23",null,null,""]
["2011-03-24",null,null,""]
["2011-03-25",null,null,""]
["2011-03-26",null,null,""]
["2011-03-27",null,null,""]
["2011-03-28",null,null,""]
["2011-03-29",null,null,""]
["2011-03-30",null,null,""]
["2011-03-31",null,null,""]
["April:",{"$f":"SUM(B98:B127)","v":0},{"$f":"SUM(C98:C127)","v":0},{"$f":"IF(B97=0,\"\",(C97*1000)/B97)","v":""}]
["2011-04-01",null,null,{"$f":"IF(B98=0,\"\",(C98*1000)/B98)","v":""}]
["2011-04-02",null,null,{"$f":"IF(B99=0,\"\",(C99*1000)/B99)","v":""}]
["2011-04-03",null,null,""]
["2011-04-04",null,null,""]
["2011-04-05",null,null,""]
["2011-04-06",null,null,""]
["2011-04-07",null,null,""]
["2011-04-08",null,null,""]
["2011-04-09",null,null,""]
["2011-04-10",null,null,""]
["2011-04-11",null,null,""]
["2011-04-12",null,null,""]
["2011-04-13",null,null,""]
["2011-04-14",null,null,""]
["2011-04-15",null,null,""]
["2011-04-16",null,null,""]
["2011-04-17",null,null,""]
["2011-04-18",null,null,""]
["2011-04-19",null,null,""]
["2011-04-20",null,null,""]
["2011-04-21",null,null,""]
["2011-04-22",null,null,""]
["2011-04-23",null,null,""]
["2011-04-24",null,null,""]
["2011-04-25",null,null,""]
["2011-04-26",null,null,""]
["2011-04-27",null,null,""]
["2011-04-28",null,null,""]
["2011-04-29",null,null,""]
["2011-04-30",null,null,""]
["May:",{"$f":"SUM(B129:B159)","v":0},{"$f":"SUM(C129:C159)","v":0},{"$f":"IF(B128=0,\"\",(C128*1000)/B128)","v":""}]
["2011-05-01",null,null,{"$f":"IF(B129=0,\"\",(C129*1000)/B129)","v":""}]
["2011-05-02",null,null,{"$f":"IF(B130=0,\"\",(C130*1000)/B130)","v":""}]
["2011-05-03",null,null,""]
["2011-05-04",null,null,""]
["2011-05-05",null,null,""]
["2011-05-06",null,null,""]
["2011-05-07",null,null,""]
["2011-05-08",null,null,""]
["2011-05-09",null,null,""]
["2011-05-10",null,null,""]
["2011-05-11",null,null,""]
["2011-05-12",null,null,""]
["2011-05-13",null,null,""]
["2011-05-14",null,null,""]
["2011-05-15",null,null,""]
["2011-05-16",null,null,""]
["2011-05-17",null,null,""]
["2011-05-18",null,null,""]
["2011-05-19",null,null,""]
["2011-05-20",null,null,""]
["2011-05-21",null,null,""]
["2011-05-22",null,null,""]
["2011-05-23",null,null,""]
["2011-05-24",null,null,""]
["2011-05-25",null,null,""]
["2011-05-26",null,null,""]
["2011-05-27",null,null,""]
["2011-05-28",null,null,""]
["2011-05-29",null,null,""]
["2011-05-30",null,null,""]
["2011-05-31",null,null,""]
["June:",{"$f":"SUM(B161:B190)","v":0},{"$f":"SUM(C161:C190)","v":0},{"$f":"IF(B160=0,\"\",(C160*1000)/B160)","v":""}]
["2011-06-01",null,null,{"$f":"IF(B161=0,\"\",(C161*1000)/B161)","v":""}]
["2011-06-02",null,null,{"$f":"IF(B162=0,\"\",(C162*1000)/B162)","v":""}]
["2011-06-03",null,null,""]
["2011-06-04",null,null,""]
["2011-06-05",null,null,""]
["2011-06-06",null,null,""]
["2011-06-07",null,null,""]
["2011-06-08",null,null,""]
["2011-06-09",null,null,""]
["2011-06-10",null,null,""]
["2011-06-11",null,null,""]
["2011-06-12",null,null,""]
["2011-06-13",null,null,""]
["2011-06-14",null,null,""]
["2011-06-15",null,null,""]
["2011-06-16",null,null,""]
["2011-06-17",null,null,""]
["2011-06-18",null,null,""]
["2011-06-19",null,null,""]
["2011-06-20",null,null,""]
["2011-06-21",null,null,""]
["2011-06-22",null,null,""]
["2011-06-23",null,null,""]
["2011-06-24",null,null,""]
["2011-06-25",null,null,""]
["2011-06-26",null,null,""]
["2011-06-27",null,null,""]
["2011-06-28",null,null,""]
["2011-06-29",null,null,""]
["2011-06-30",null,null,""]
["July:",{"$f":"SUM(B192:B222)","v":0},{"$f":"SUM(C192:C222)","v":0},{"$f":"IF(B191=0,\"\",(C191*1000)/B191)","v":""}]
["2011-07-01",null,null,{"$f":"IF(B192=0,\"\",(C192*1000)/B192)","v":""}]
["2011-07-02",null,null,{"$f":"IF(B193=0,\"\",(C193*1000)/B193)","v":""}]
["2011-07-03",null,null,""]
["2011-07-04",null,null,""]
["2011-07-05",null,null,""]
["2011-07-06",null,null,""]
["2011-07-07",null,null,""]
["2011-07-08",null,null,""]
["2011-07-09",null,null,""]
["2011-07-10",null,null,""]
["2011-07-11",null,null,""]
["2011-07-12",null,null,""]
["2011-07-13",null,null,""]
["2011-07-14",null,null,""]
["2011-07-15",null,null,""]
["2011-07-16",null,null,""]
["2011-07-17",null,null,""]
["2011-07-18",null,null,""]
["2011-07-19",null,null,""]
["2011-07-20",null,null,""]
["2011-07-21",null,null,""]
["2011-07-22",null,null,""]
["2011-07-23",null,null,""]
["2011-07-24",null,null,""]
["2011-07-25",null,null,""]
["2011-07-26",null,null,""]
["2011-07-27",null,null,""]
["2011-07-28",null,null,""]
["2011-07-29",null,null,""]
["2011-07-30",null,null,""]
["2011-07-31",null,null,""]
["August:",{"$f":"SUM(B224:B254)","v":0},{"$f":"SUM(C224:C254)","v":0},{"$f":"IF(B223=0,\"\",(C223*1000)/B223)","v":""}]
["2011-08-01",null,null,{"$f":"IF(B224=0,\"\",(C224*1000)/B224)","v":""}]
["2011-08-02",null,null,{"$f":"IF(B225=0,\"\",(C225*1000)/B225)","v":""}]
["2011-08-03",null,null,""]
["2011-08-04",null,null,""]
["2011-08-05",null,null,""]
["2011-08-06",null,null,""]
["2011-08-07",null,null,""]
["2011-08-08",null,null,""]
["2011-08-09",null,null,""]
["2011-08-10",null,null,""]
["2011-08-11",null,null,""]
["2011-08-12",null,null,""]
["2011-08-13",null,null,""]
["2011-08-14",null,null,""]
["2011-08-15",null,null,""]
["2011-08-16",null,null,""]
["2011-08-17",null,null,""]
["2011-08-18",null,null,""]
["2011-08-19",null,null,""]
["2011-08-20",null,null,""]
["2011-08-21",null,null,""]
["2011-08-22",null,null,""]
["2011-08-23",null,null,""]
["2011-08-24",null,null,""]
["2011-08-25",null,null,""]
["2011-08-26",null,null,""]
["2011-08-27",null,null,""]
["2011-08-28",null,null,""]
["2011-08-29",null,null,""]
["2011-08-30",null,null,""]
["2011-08-31",null,null,""]
["September:",{"$f":"SUM(B256:B285)","v":0},{"$f":"SUM(C256:C285)","v":0},{"$f":"IF(B255=0,\"\",(C255*1000)/B255)","v":""}]
["2011-09-01",null,null,{"$f":"IF(B256=0,\"\",(C256*1000)/B256)","v":""}]
["2011-09-02",null,null,{"$f":"IF(B257=0,\"\",(C257*1000)/B257)","v":""}]
["2011-09-03",null,null,""]
["2011-09-04",null,null,""]
["2011-09-05",null,null,""]
["2011-09-06",null,null,""]
["2011-09-07",null,null,""]
["2011-09-08",null,null,""]
["2011-09-09",null,null,""]
["2011-09-10",null,null,""]
["2011-09-11",null,null,""]
["2011-09-12",null,null,""]
["2011-09-13",null,null,""]
["2011-09-14",null,null,""]
["2011-09-15",null,null,""]
["2011-09-16",null,null,""]
["2011-09-17",null,null,""]
["2011-09-18",null,null,""]
["2011-09-19",null,null,""]
["2011-09-20",null,null,""]
["2011-09-21",null,null,""]
["2011-09-22",null,null,""]
["2011-09-23",null,null,""]
["2011-09-24",null,null,""]
["2011-09-25",null,null,""]
["2011-09-26",null,null,""]
["2011-09-27",null,null,""]
["2011-09-28",null,null,""]
["2011-09-29",null,null,""]
["2011-09-30",null,null,""]
["October:",{"$f":"SUM(B287:B317)","v":0},{"$f":"SUM(C287:C317)","v":0},{"$f":"IF(B286=0,\"\",(C286*1000)/B286)","v":""}]
["2011-10-01",null,null,{"$f":"IF(B287=0,\"\",(C287*1000)/B287)","v":""}]
["2011-10-02",null,null,{"$f":"IF(B288=0,\"\",(C288*1000)/B288)","v":""}]
["2011-10-03",null,null,""]
["2011-10-04",null,null,""]
["2011-10-05",null,null,""]
["2011-10-06",null,null,""]
["2011-10-07",null,null,""]
["2011-10-08",null,null,""]
["2011-10-09",null,null,""]
["2011-10-10",null,null,""]
["2011-10-11",null,null,""]
["2011-10-12",null,null,""]
["2011-10-13",null,null,""]
["2011-10-14",null,null,""]
["2011-10-15",null,null,""]
["2011-10-16",null,null,""]
["2011-10-17",null,null,""]
["2011-10-18",null,null,""]
["2011-10-19",null,null,""]
["2011-10-20",null,null,""]
["2011-10-21",null,null,""]
["2011-10-22",null,null,""]
["2011-10-23",null,null,""]
["2011-10-24",null,null,""]
["2011-10-25",null,null,""]
["2011-10-26",null,null,""]
["2011-10-27",null,null,""]
["2011-10-28",null,null,""]
["2011-10-29",null,null,""]
["2011-10-30",null,null,""]
["2011-10-31",null,null,""]
["November:",{"$f":"SUM(B319:B348)","v":0},{"$f":"SUM(C319:C348)","v":0},{"$f":"IF(B318=0,\"\",(C318*1000)/B318)","v":""}]
["2011-11-01",null,null,{"$f":"IF(B319=0,\"\",(C319*1000)/B319)","v":""}]
["2011-11-02",null,null,{"$f":"IF(B320=0,\"\",(C320*1000)/B320)","v":""}]
["2011-11-03",null,null,""]
["2011-11-04",null,null,""]
["2011-11-05",null,null,""]
["2011-11-06",null,null,""]
["2011-11-07",null,null,""]
["2011-11-08",null,null,""]
["2011-11-09",null,null,""]
["2011-11-10",null,null,""]
["2011-11-11",null,null,""]
["2011-11-12",null,null,""]
["2011-11-13",null,null,""]
["2011-11-14",null,null,""]
["2011-11-15",null,null,""]
["2011-11-16",null,null,""]
["2011-11-17",null,null,""]
["2011-11-18",null,null,""]
["2011-11-19",null,null,""]
["2011-11-20",null,null,""]
["2011-11-21",null,null,""]
["2011-11-22",null,null,""]
["2011-11-23",null,null,""]
["2011-11-24",null,null,""]
["2011-11-25",null,null,""]
["2011-11-26",null,null,""]
["2011-11-27",null,null,""]
["2011-11-28",null,null,""]
["2011-11-29",null,null,""]
["2011-11-30",null,null,""]
["December:",{"$f":"SUM(B350:B380)","v":0},{"$f":"SUM(C350:C380)","v":0},{"$f":"IF(B349=0,\"\",(C349*1000)/B349)","v":""}]
["2011-12-01",null,null,{"$f":"IF(B350=0,\"\",(C350*1000)/B350)","v":""}]
["2011-12-02",null,null,{"$f":"IF(B351=0,\"\",(C351*1000)/B351)","v":""}]
["2011-12-03",null,null,""]
["2011-12-04",null,null,""]
["2011-12-05",null,null,""]
["2011-12-06",null,null,""]
["2011-12-07",null,null,""]
["2011-12-08",null,null,""]
["2011-12-09",null,null,""]
["2011-12-10",null,null,""]
["2011-12-11",null,null,""]
["2011-12-12",null,null,""]
["2011-12-13",null,null,""]
["2011-12-14",null,null,""]
["2011-12-15",null,null,""]
["2011-12-16",null,null,""]
["2011-12-17",null,null,""]
["2011-12-18",null,null,""]
["2011-12-19",null,null,""]
["2011-12-20",null,null,""]
["2011-12-21",null,null,""]
["2011-12-22",null,null,""]
["2011-12-23",null,null,""]
["2011-12-24",null,null,""]
["2011-12-25",null,null,""]
["2011-12-26",null,null,""]
["2011-12-27",null,null,""]
["2011-12-28",null,null,""]
["2011-12-29",null,null,""]
["2011-12-30",null,null,""]
["2011-12-31",null,null,""]
["Year-To-Date:",{"$f":"SUM(B4,B36,B65,B97,B128,B160,B191,B223,B255,B286,B318,B349)","v":0},{"$f":"SUM(C4,C36,C65,C97,C128,C160,C191,C223,C255,C286,C318,C349)","v":0},{"$f":"IF(B381=0,\"\",(C381*1000)/B381)","v":""}]