{"text_format":"1","workbook":"xlsx","n_sheets":11,"sheets":["Base Data wHSA (NCI Modified)","Old HSA","STATES","COUNTIES","LOOKUP","INPUT","OUTPUT","WORKSHEET","YESNO","COMMUNITYSIZE","ANNOTATION"],"not_rendered":{"charts":0,"images":0,"macros":1,"external_links":0,"defined_names":9,"comments":0,"pivot_tables":0},"unopened":[],"bounds":{"document_bytes":16777216,"sheet_cells":100000,"rows_first":2000,"rows_last":500,"rows_between":2000,"halvings":0,"cell_chars":16384,"cell_head_chars":4096},"cells_cut":0,"cells_raw":0,"read":"whole","date_system":"1900"}

{"sheet":"Base Data wHSA (NCI Modified)","index":0,"n_rows":3147,"n_cols":20,"rows_kept":3147,"cut":false,"hidden":true,"merged":[]}
["HSA # (NCI Modified)","Old HS Area Number","Network","Health Service Area (NCI Modified) Description","State","County","FIPS","COUNTY  ","INDEX1","INDEX2","INDEX3","STATE","COUNTY","  HD  ","  PD  ","  TX  ","  UNK  "," N= ","Average Annual Compound Growth Rate","%PD of HD+PD based on HS Area"]
[820,null,16,"Anchorage (Anchorage), AK - Matanuska-Susitna Borough, AK","AK: Aleutians East Borough (02013) - 1994+","AK: Aleutians East Borough (02013) - 1994+","02013","Aleutians East  ",{"$f":"ROWS($L$2:L2)","v":1},{"$f":"IF(L2=WORKSHEET!$B$1,I2,\"\")","v":""},{"$f":"IFERROR(SMALL($J$2:$J$3142,I2),\"\")","v":""},"ALASKA","Aleutians East Borough","N/A","N/A","*","N/A","*",3.5616674152133203E-2,0.22413793103448276]
[820,null,16,"Anchorage (Anchorage), AK - Matanuska-Susitna Borough, AK","AK: Aleutians West Census Area (02016) - 1994+","AK: Aleutians West Census Area (02016) - 1994+","02016","  Aleutians West  ",{"$f":"ROWS($L$2:L3)","v":2},{"$f":"IF(L3=WORKSHEET!$B$1,I3,\"\")","v":""},{"$f":"IFERROR(SMALL($J$2:$J$3142,I3),\"\")","v":""},"ALASKA","Aleutians West","N/A","*","N/A","N/A","*",3.5616674152133203E-2,0.22413793103448276]
[820,null,16,"Anchorage (Anchorage), AK - Matanuska-Susitna Borough, AK","AK: Anchorage Municipality (02020) - 1990+","AK: Anchorage Municipality (02020) - 1990+","02020","  Anchorage  ",{"$f":"ROWS($L$2:L4)","v":3},{"$f":"IF(L4=WORKSHEET!$B$1,I4,\"\")","v":""},"","ALASKA","Anchorage Municipality",299,60,198,"N/A",557,3.5616674152133203E-2,0.22413793103448276]
[820,null,16,"Anchorage (Anchorage), AK - Matanuska-Susitna Borough, AK","AK: Bethel Census Area (02050) - 1990+","AK: Bethel Census Area (02050) - 1990+","02050","  Bethel  ",{"$f":"ROWS($L$2:L5)","v":4},{"$f":"IF(L5=WORKSHEET!$B$1,I5,\"\")","v":""},"","ALASKA","Bethel","*","*","*","N/A","*",3.5616674152133203E-2,0.22413793103448276]
[820,null,16,"Anchorage (Anchorage), AK - Matanuska-Susitna Borough, AK","AK: Bristol Bay Borough (02060) - 1990+","AK: Bristol Bay Borough (02060) - 1990+","02060","  Bristol Bay Borough  ",{"$f":"ROWS($L$2:L6)","v":5},{"$f":"IF(L6=WORKSHEET!$B$1,I6,\"\")","v":""},"","ALASKA","Bristol Bay Borough","*","N/A","*","N/A","*",3.5616674152133203E-2,0.22413793103448276]
[819,null,16,"Fairbanks North Star Borough, AK - Denali/Yukon-Koyukuk, AK","AK: Denali Borough (02068) - 1990+","AK: Denali Borough (02068) - 1990+","02068","  Denali  ",{"$f":"ROWS($L$2:L7)","v":6},{"$f":"IF(L7=WORKSHEET!$B$1,I7,\"\")","v":""},"","ALASKA","Denali Borough","N/A","N/A","*","N/A","*",3.5616674152133203E-2,0.11764705882352941]
[820,null,16,"Anchorage (Anchorage), AK - Matanuska-Susitna Borough, AK","AK: Dillingham Census Area (02070) - 1994+","AK: Dillingham Census Area (02070) - 1994+","02070","  Dillingham  ",{"$f":"ROWS($L$2:L8)","v":7},{"$f":"IF(L8=WORKSHEET!$B$1,I8,\"\")","v":""},"","ALASKA","Dillingham","N/A","N/A","*","N/A","*",3.5616674152133203E-2,0.22413793103448276]
[819,null,16,"Fairbanks North Star Borough, AK - Denali/Yukon-Koyukuk, AK","AK: Fairbanks North Star Borough (02090) - 1990+","AK: Fairbanks North Star Borough (02090) - 1990+","02090","  Fairbanks North Star  ",{"$f":"ROWS($L$2:L9)","v":8},{"$f":"IF(L9=WORKSHEET!$B$1,I9,\"\")","v":""},"","ALASKA","Fairbanks North Star Borough",42,{"$f":"+R9-N9-P9","v":11},46,"*",99,3.5616674152133203E-2,0.20754716981132076]
[818,null,16,"Juneau City and Borough, AK - Sitka City and Borough, AK","AK: Haines Borough (02100) - 1990+","AK: Haines Borough (02100) - 1990+","02100","  Haines  ",{"$f":"ROWS($L$2:L10)","v":9},{"$f":"IF(L10=WORKSHEET!$B$1,I10,\"\")","v":""},"","ALASKA","Haines Borough","N/A","N/A","*","N/A","*",3.5616674152133203E-2,0.11764705882352941]
[818,null,16,"Juneau City and Borough, AK - Sitka City and Borough, AK","AK: Juneau City and Borough (02110) - 1990+","AK: Juneau City and Borough (02110) - 1990+","02110","  Juneau  ",{"$f":"ROWS($L$2:L11)","v":10},{"$f":"IF(L11=WORKSHEET!$B$1,I11,\"\")","v":""},"","ALASKA","Juneau City and Borough",15,{"$f":"+R11-N11-P11","v":0},18,"N/A",33,3.5616674152133203E-2,0.11764705882352941]
[820,null,16,"Anchorage (Anchorage), AK - Matanuska-Susitna Borough, AK","AK: Kenai Peninsula Borough (02122) - 1990+","AK: Kenai Peninsula Borough (02122) - 1990+","02122","  Kenai Peninsula  ",{"$f":"ROWS($L$2:L12)","v":11},{"$f":"IF(L12=WORKSHEET!$B$1,I12,\"\")","v":""},"","ALASKA","Kenai Peninsula Borough",21,13,27,"N/A",61,3.5616674152133203E-2,0.22413793103448276]
[817,null,16,"Ketchikan Gateway Borough, AK - Wrangell-Petersburg Cen, AK","AK: Ketchikan Gateway Borough (02130) - 1990+","AK: Ketchikan Gateway Borough (02130) - 1990+","02130","  Ketchikan Gateway  ",{"$f":"ROWS($L$2:L13)","v":12},{"$f":"IF(L13=WORKSHEET!$B$1,I13,\"\")","v":""},"","ALASKA","Ketchikan Gateway Borough","*","*","*","N/A",14,3.5616674152133203E-2,0.1]
[820,null,16,"Anchorage (Anchorage), AK - Matanuska-Susitna Borough, AK","AK: Kodiak Island Borough (02150) - 1990+","AK: Kodiak Island Borough (02150) - 1990+","02150","  Kodiak Island Borough  ",{"$f":"ROWS($L$2:L14)","v":13},{"$f":"IF(L14=WORKSHEET!$B$1,I14,\"\")","v":""},"","ALASKA","Kodiak Island Borough","*","*","*","N/A",12,3.5616674152133203E-2,0.22413793103448276]
[820,null,16,"Anchorage (Anchorage), AK - Matanuska-Susitna Borough, AK","AK: Lake and Peninsula Borough (02164) - 1994+","AK: Lake and Peninsula Borough (02164) - 1994+","02164",null,{"$f":"ROWS($L$2:L15)","v":14},{"$f":"IF(L15=WORKSHEET!$B$1,I15,\"\")","v":""},"","ALASKA","Lake and Peninsula Borough",null,null,null,null,null,3.5616674152133203E-2,0.22413793103448276]
[820,null,16,"Anchorage (Anchorage), AK - Matanuska-Susitna Borough, AK","AK: Matanuska-Susitna Borough (02170) - 1990+","AK: Matanuska-Susitna Borough (02170) - 1990+","02170","  Matanuska-Susitna  ",{"$f":"ROWS($L$2:L16)","v":15},{"$f":"IF(L16=WORKSHEET!$B$1,I16,\"\")","v":""},"","ALASKA","Matanuska-Susitna Borough",33,14,37,"*",85,3.5616674152133203E-2,0.22413793103448276]
[820,null,16,"Anchorage (Anchorage), AK - Matanuska-Susitna Borough, AK","AK: Nome Census Area (02180) - 1990+","AK: Nome Census Area (02180) - 1990+","02180","  Nome  ",{"$f":"ROWS($L$2:L17)","v":16},{"$f":"IF(L17=WORKSHEET!$B$1,I17,\"\")","v":""},"","ALASKA","Nome","N/A","N/A","*","N/A","*",3.5616674152133203E-2,0.22413793103448276]
[820,null,16,"Anchorage (Anchorage), AK - Matanuska-Susitna Borough, AK","AK: North Slope Borough (02185) - 1990+","AK: North Slope Borough (02185) - 1990+","02185","  North Slope Borouh  ",{"$f":"ROWS($L$2:L18)","v":17},{"$f":"IF(L18=WORKSHEET!$B$1,I18,\"\")","v":""},"","ALASKA","North Slope Borough","N/A","*","N/A","N/A","*",3.5616674152133203E-2,0.22413793103448276]
[820,null,16,"Anchorage (Anchorage), AK - Matanuska-Susitna Borough, AK","AK: Northwest Arctic Borough (02188) - 1990+","AK: Northwest Arctic Borough (02188) - 1990+","02188",null,{"$f":"ROWS($L$2:L19)","v":18},{"$f":"IF(L19=WORKSHEET!$B$1,I19,\"\")","v":""},"","ALASKA","Northwest Arctic Borough",null,null,null,null,null,3.5616674152133203E-2,0.22413793103448276]
[817,null,16,"Ketchikan Gateway Borough, AK - Wrangell-Petersburg Cen, AK","AK: Prince of Wales-Outer Ketchikan Cen Ar (02201) - 1990+","AK: Prince of Wales-Outer Ketchikan Cen Ar (02201) - 1990+","02201","  Prince of Wales-Outer Ketchikan Census Area  ",{"$f":"ROWS($L$2:L20)","v":19},{"$f":"IF(L20=WORKSHEET!$B$1,I20,\"\")","v":""},"","ALASKA","Prince of Wales-Outer Ketchikan","N/A","N/A","*","N/A","*",3.5616674152133203E-2,0.1]
[818,null,16,"Juneau City and Borough, AK - Sitka City and Borough, AK","AK: Sitka City and Borough (02220) - 1990+","AK: Sitka City and Borough (02220) - 1990+","02220","  Sitka Borough  ",{"$f":"ROWS($L$2:L21)","v":20},{"$f":"IF(L21=WORKSHEET!$B$1,I21,\"\")","v":""},"","ALASKA","Sitka City and Borough","N/A","*","*","N/A","*",3.5616674152133203E-2,0.11764705882352941]
[818,null,16,"Juneau City and Borough, AK - Sitka City and Borough, AK","AK: Skagway-Hoonah-Angoon Census Area (02232) - 1994+","AK: Skagway-Hoonah-Angoon Census Area (02232) - 1994+","02232",null,{"$f":"ROWS($L$2:L22)","v":21},{"$f":"IF(L22=WORKSHEET!$B$1,I22,\"\")","v":""},"","ALASKA","Skagway-Hoonah-Angoon",null,null,null,null,null,3.5616674152133203E-2,0.11764705882352941]
[819,null,16,"Fairbanks North Star Borough, AK - Denali/Yukon-Koyukuk, AK","AK: Southeast Fairbanks Census Area (02240) - 1990+","AK: Southeast Fairbanks Census Area (02240) - 1990+","02240","  Southeast Fairbanks  ",{"$f":"ROWS($L$2:L23)","v":22},{"$f":"IF(L23=WORKSHEET!$B$1,I23,\"\")","v":""},"","ALASKA","Southeast Fairbanks","N/A","*","*","N/A","*",3.5616674152133203E-2,0.11764705882352941]
[820,null,16,"Anchorage (Anchorage), AK - Matanuska-Susitna Borough, AK","AK: Valdez-Cordova Census Area (02261) - 1990+","AK: Valdez-Cordova Census Area (02261) - 1990+","02261","  Valdez-Cordova  ",{"$f":"ROWS($L$2:L24)","v":23},{"$f":"IF(L24=WORKSHEET!$B$1,I24,\"\")","v":""},"","ALASKA","Valdez-Cordova","*","*","*","N/A","*",3.5616674152133203E-2,0.22413793103448276]
[820,null,16,"Anchorage (Anchorage), AK - Matanuska-Susitna Borough, AK","AK: Wade Hampton Census Area (02270) - 1990+","AK: Wade Hampton Census Area (02270) - 1990+","02270","  Wade Hampton  ",{"$f":"ROWS($L$2:L25)","v":24},{"$f":"IF(L25=WORKSHEET!$B$1,I25,\"\")","v":""},"","ALASKA","Wade Hampton","*","*","N/A","N/A","*",3.5616674152133203E-2,0.22413793103448276]
[817,null,16,"Ketchikan Gateway Borough, AK - Wrangell-Petersburg Cen, AK","AK: Wrangell-Petersburg Census Area (02280) - 1990+","AK: Wrangell-Petersburg Census Area (02280) - 1990+","02280","  Wrangell-Petersburg Census Area  ",{"$f":"ROWS($L$2:L26)","v":25},{"$f":"IF(L26=WORKSHEET!$B$1,I26,\"\")","v":""},"","ALASKA","Wrangell-Petersburg","N/A","*","*","N/A","*",3.5616674152133203E-2,0.1]
[818,null,16,"Juneau City and Borough, AK - Sitka City and Borough, AK","AK: Yakutat City and Borough (02282) - 1994+","AK: Yakutat City and Borough (02282) - 1994+","02282",null,{"$f":"ROWS($L$2:L27)","v":26},{"$f":"IF(L27=WORKSHEET!$B$1,I27,\"\")","v":""},"","ALASKA","Yakutat City and Borough",null,null,null,null,null,3.5616674152133203E-2,0.11764705882352941]
[819,null,16,"Fairbanks North Star Borough, AK - Denali/Yukon-Koyukuk, AK","AK: Yukon-Koyukuk Census Area (02290) - 1990+","AK: Yukon-Koyukuk Census Area (02290) - 1990+","02290","  Yukon-Koyukuk  ",{"$f":"ROWS($L$2:L28)","v":27},{"$f":"IF(L28=WORKSHEET!$B$1,I28,\"\")","v":""},"","ALASKA","Yukon-Koyukuk","N/A","N/A","*","N/A","*",3.5616674152133203E-2,0.20754716981132076]
[171,null,8,"Montgomery (Montgomery), AL - Autauga, AL","AL: Autauga County (01001)","AL: Autauga County (01001)","01001"," Autauga  ",{"$f":"ROWS($L$2:L29)","v":28},{"$f":"IF(L29=WORKSHEET!$B$1,I29,\"\")","v":""},"","ALABAMA","Autauga County",79,{"$f":"+R29-N29-P29","v":3},21,"N/A",103,3.2242352735066461E-2,6.0667340748230533E-2]
[161,null,8,"Mobile (Mobile), AL - Baldwin, AL","AL: Baldwin County (01003)","AL: Baldwin County (01003)","01003","  Baldwin  ",{"$f":"ROWS($L$2:L30)","v":29},{"$f":"IF(L30=WORKSHEET!$B$1,I30,\"\")","v":""},"","ALABAMA","Baldwin County",182,25,99,"*",307,3.2242352735066461E-2,8.6515978176149644E-2]
[162,null,8,"Houston (Dothan), AL - Dale, AL","AL: Barbour County (01005)","AL: Barbour County (01005)","01005","  Barbour  ",{"$f":"ROWS($L$2:L31)","v":30},{"$f":"IF(L31=WORKSHEET!$B$1,I31,\"\")","v":""},"","ALABAMA","Barbour County",92,{"$f":"+R33-N33-P33","v":4},17,"N/A",117,3.2242352735066461E-2,0.11602209944751381]
[150,null,8,"Jefferson (Birmingham), AL - Shelby, AL","AL: Bibb County (01007)","AL: Bibb County (01007)","01007","  Bibb  ",{"$f":"ROWS($L$2:L32)","v":31},{"$f":"IF(L32=WORKSHEET!$B$1,I32,\"\")","v":""},"","ALABAMA","Bibb County",39,{"$f":"+R32-N32-P32","v":6},14,"N/A",59,3.2242352735066461E-2,0.11175942549371634]
[150,null,8,"Jefferson (Birmingham), AL - Shelby, AL","AL: Blount County (01009)","AL: Blount County (01009)","01009","  Blount  ",{"$f":"ROWS($L$2:L33)","v":32},{"$f":"IF(L33=WORKSHEET!$B$1,I33,\"\")","v":""},"","ALABAMA","Blount County",26,{"$f":"+R33-N33-P33","v":4},25,"N/A",55,3.2242352735066461E-2,0.11175942549371634]
[171,null,8,"Montgomery (Montgomery), AL - Autauga, AL","AL: Bullock County (01011)","AL: Bullock County (01011)","01011","  Bullock  ",{"$f":"ROWS($L$2:L34)","v":33},{"$f":"IF(L34=WORKSHEET!$B$1,I34,\"\")","v":""},"","ALABAMA","Bullock County",34,"*","*","N/A",41,3.2242352735066461E-2,6.0667340748230533E-2]
[259,null,8,"Butler, AL","AL: Butler County (01013)","AL: Butler County (01013)","01013","  Butler  ",{"$f":"ROWS($L$2:L35)","v":34},{"$f":"IF(L35=WORKSHEET!$B$1,I35,\"\")","v":""},"","ALABAMA","Butler County",68,"*","*","N/A",80,3.2242352735066461E-2,2.8571428571428571E-2]
[177,null,8,"Calhoun (Anniston), AL - Cleburne, AL","AL: Calhoun County (01015)","AL: Calhoun County (01015)","01015","  Calhoun  ",{"$f":"ROWS($L$2:L36)","v":35},{"$f":"IF(L36=WORKSHEET!$B$1,I36,\"\")","v":""},"","ALABAMA","Calhoun County",206,47,67,"N/A",320,3.2242352735066461E-2,0.1702127659574468]
[172,null,8,"Chambers, AL - Randolph, AL","AL: Chambers County (01017)","AL: Chambers County (01017)","01017","  Chambers  ",{"$f":"ROWS($L$2:L37)","v":36},{"$f":"IF(L37=WORKSHEET!$B$1,I37,\"\")","v":""},"","ALABAMA","Chambers County",84,{"$f":"+R39-N39-P39","v":3},27,"N/A",117,3.2242352735066461E-2,0.10616438356164383]
[224,null,8,"Etowah (Gadsden), AL - Marshall, AL","AL: Cherokee County (01019)","AL: Cherokee County (01019)","01019","  Cherokee  ",{"$f":"ROWS($L$2:L38)","v":37},{"$f":"IF(L38=WORKSHEET!$B$1,I38,\"\")","v":""},"","ALABAMA","Cherokee County",43,11,14,"N/A",68,3.2242352735066461E-2,0.13400000000000001]
[150,null,8,"Jefferson (Birmingham), AL - Shelby, AL","AL: Chilton County (01021)","AL: Chilton County (01021)","01021","  Chilton  ",{"$f":"ROWS($L$2:L39)","v":38},{"$f":"IF(L39=WORKSHEET!$B$1,I39,\"\")","v":""},"","ALABAMA","Chilton County",57,{"$f":"+R41-N41-P41","v":10},25,"N/A",85,3.2242352735066461E-2,0.11175942549371634]
[412,null,8,"Choctaw, AL - Sumter, AL","AL: Choctaw County (01023)","AL: Choctaw County (01023)","01023","  Choctaw  ",{"$f":"ROWS($L$2:L40)","v":39},{"$f":"IF(L40=WORKSHEET!$B$1,I40,\"\")","v":""},"","ALABAMA","Choctaw County",31,"*","*","*",41,3.2242352735066461E-2,6.3366336633663367E-2]
[161,null,8,"Mobile (Mobile), AL - Baldwin, AL","AL: Clarke County (01025)","AL: Clarke County (01025)","01025","  Clarke  ",{"$f":"ROWS($L$2:L41)","v":40},{"$f":"IF(L41=WORKSHEET!$B$1,I41,\"\")","v":""},"","ALABAMA","Clarke County",50,null,36,"N/A",96,3.2242352735066461E-2,8.6515978176149644E-2]
[241,null,8,"Talladega, AL - Clay, AL","AL: Clay County (01027)","AL: Clay County (01027)","01027","  Clay  ",{"$f":"ROWS($L$2:L42)","v":41},{"$f":"IF(L42=WORKSHEET!$B$1,I42,\"\")","v":""},"","ALABAMA","Clay County",13,"*","*","N/A",21,3.2242352735066461E-2,0.15748031496062992]
[177,null,8,"Calhoun (Anniston), AL - Cleburne, AL","AL: Cleburne County (01029)","AL: Cleburne County (01029)","01029","  Cleburne  ",{"$f":"ROWS($L$2:L43)","v":42},{"$f":"IF(L43=WORKSHEET!$B$1,I43,\"\")","v":""},"","ALABAMA","Cleburne County",18,"N/A","*","N/A",27,3.2242352735066461E-2,0.1702127659574468]
[162,null,8,"Houston (Dothan), AL - Dale, AL","AL: Coffee County (01031)","AL: Coffee County (01031)","01031","  Coffee  ",{"$f":"ROWS($L$2:L44)","v":43},{"$f":"IF(L44=WORKSHEET!$B$1,I44,\"\")","v":""},"","ALABAMA","Coffee County",82,13,30,"*",126,3.2242352735066461E-2,0.11602209944751381]
[219,null,8,"Lauderdale (Florence), AL - Colbert, AL","AL: Colbert County (01033)","AL: Colbert County (01033)","01033","  Colbert  ",{"$f":"ROWS($L$2:L45)","v":44},{"$f":"IF(L45=WORKSHEET!$B$1,I45,\"\")","v":""},"","ALABAMA","Colbert County",86,14,33,"N/A",133,3.2242352735066461E-2,0.16603773584905659]
[163,null,8,"Escambia, AL - Conecuh, AL","AL: Conecuh County (01035)","AL: Conecuh County (01035)","01035","  Conecuh  ",{"$f":"ROWS($L$2:L46)","v":45},{"$f":"IF(L46=WORKSHEET!$B$1,I46,\"\")","v":""},"","ALABAMA","Conecuh County",31,"*","*","N/A",41,3.2242352735066461E-2,9.8234842670759784E-2]
[241,null,8,"Talladega, AL - Clay, AL","AL: Coosa County (01037)","AL: Coosa County (01037)","01037","  Coosa  ",{"$f":"ROWS($L$2:L47)","v":46},{"$f":"IF(L47=WORKSHEET!$B$1,I47,\"\")","v":""},"","ALABAMA","Coosa County",23,"*","*","N/A",36,3.2242352735066461E-2,0.15748031496062992]
[171,null,8,"Montgomery (Montgomery), AL - Autauga, AL","AL: Covington County (01039)","AL: Covington County (01039)","01039","  Covington  ",{"$f":"ROWS($L$2:L48)","v":47},{"$f":"IF(L48=WORKSHEET!$B$1,I48,\"\")","v":""},"","ALABAMA","Covington County",54,{"$f":"+R48-N48-P48","v":6},23,"*",83,3.2242352735066461E-2,6.0667340748230533E-2]
[171,null,8,"Montgomery (Montgomery), AL - Autauga, AL","AL: Crenshaw County (01041)","AL: Crenshaw County (01041)","01041","  Crenshaw  ",{"$f":"ROWS($L$2:L49)","v":48},{"$f":"IF(L49=WORKSHEET!$B$1,I49,\"\")","v":""},"","ALABAMA","Crenshaw County",27,"N/A","*","N/A",30,3.2242352735066461E-2,6.0667340748230533E-2]
[150,null,8,"Jefferson (Birmingham), AL - Shelby, AL","AL: Cullman County (01043)","AL: Cullman County (01043)","01043","  Cullman  ",{"$f":"ROWS($L$2:L50)","v":49},{"$f":"IF(L50=WORKSHEET!$B$1,I50,\"\")","v":""},"","ALABAMA","Cullman County",68,14,43,"*",126,3.2242352735066461E-2,0.11175942549371634]
[162,null,8,"Houston (Dothan), AL - Dale, AL","AL: Dale County (01045)","AL: Dale County (01045)","01045","  Dale  ",{"$f":"ROWS($L$2:L51)","v":50},{"$f":"IF(L51=WORKSHEET!$B$1,I51,\"\")","v":""},"","ALABAMA","Dale County",75,15,26,"*",117,3.2242352735066461E-2,0.11602209944751381]
[175,null,8,"Dallas, AL - Marengo, AL","AL: Dallas County (01047)","AL: Dallas County (01047)","01047","  Dallas  ",{"$f":"ROWS($L$2:L52)","v":51},{"$f":"IF(L52=WORKSHEET!$B$1,I52,\"\")","v":""},"","ALABAMA","Dallas County",184,12,26,"N/A",222,3.2242352735066461E-2,7.0381231671554259E-2]
[224,null,8,"Etowah (Gadsden), AL - Marshall, AL","AL: DeKalb County (01049)","AL: DeKalb County (01049)","01049","  De Kalb  ",{"$f":"ROWS($L$2:L53)","v":52},{"$f":"IF(L53=WORKSHEET!$B$1,I53,\"\")","v":""},"","ALABAMA","DeKalb County",67,12,33,"*",114,3.2242352735066461E-2,0.13400000000000001]
[179,null,8,"Lee (Auburn), AL - Elmore, AL","AL: Elmore County (01051)","AL: Elmore County (01051)","01051","  Elmore  ",{"$f":"ROWS($L$2:L54)","v":53},{"$f":"IF(L54=WORKSHEET!$B$1,I54,\"\")","v":""},"","ALABAMA","Elmore County",97,17,36,"N/A",150,3.2242352735066461E-2,0.10516934046345811]
[163,null,8,"Escambia, AL - Conecuh, AL","AL: Escambia County (01053)","AL: Escambia County (01053)","01053","  Escambia  ",{"$f":"ROWS($L$2:L55)","v":54},{"$f":"IF(L55=WORKSHEET!$B$1,I55,\"\")","v":""},"","ALABAMA","Escambia County",107,{"$f":"+R55-N55-P55","v":8},23,"*",138,3.2242352735066461E-2,9.8234842670759784E-2]
[224,null,8,"Etowah (Gadsden), AL - Marshall, AL","AL: Etowah County (01055)","AL: Etowah County (01055)","01055","  Etowah  ",{"$f":"ROWS($L$2:L56)","v":55},{"$f":"IF(L56=WORKSHEET!$B$1,I56,\"\")","v":""},"","ALABAMA","Etowah County",200,34,57,"N/A",291,3.2242352735066461E-2,0.13400000000000001]
[247,null,8,"Marion, AL - Fayette, AL","AL: Fayette County (01057)","AL: Fayette County (01057)","01057","  Fayette  ",{"$f":"ROWS($L$2:L57)","v":56},{"$f":"IF(L57=WORKSHEET!$B$1,I57,\"\")","v":""},"","ALABAMA","Fayette County",21,"*","*","N/A",36,3.2242352735066461E-2,0.18181818181818182]
[219,null,8,"Lauderdale (Florence), AL - Colbert, AL","AL: Franklin County (01059)","AL: Franklin County (01059)","01059","  Franklin  ",{"$f":"ROWS($L$2:L58)","v":57},{"$f":"IF(L58=WORKSHEET!$B$1,I58,\"\")","v":""},"","ALABAMA","Franklin County",17,{"$f":"+R58-N58-P58","v":7},22,"*",46,3.2242352735066461E-2,0.16603773584905659]
[162,null,8,"Houston (Dothan), AL - Dale, AL","AL: Geneva County (01061)","AL: Geneva County (01061)","01061","  Geneva  ",{"$f":"ROWS($L$2:L59)","v":58},{"$f":"IF(L59=WORKSHEET!$B$1,I59,\"\")","v":""},"","ALABAMA","Geneva County",30,"*","*","N/A",42,3.2242352735066461E-2,0.11602209944751381]
[156,null,8,"Tuscaloosa (Tuscaloosa), AL - Pickens, AL","AL: Greene County (01063)","AL: Greene County (01063)","01063","  Greene  ",{"$f":"ROWS($L$2:L60)","v":59},{"$f":"IF(L60=WORKSHEET!$B$1,I60,\"\")","v":""},"","ALABAMA","Greene County",40,{"$f":"+R60-N60-P60","v":2},15,"N/A",57,3.2242352735066461E-2,0.1483739837398374]
[156,null,8,"Tuscaloosa (Tuscaloosa), AL - Pickens, AL","AL: Hale County (01065)","AL: Hale County (01065)","01065","  Hale  ",{"$f":"ROWS($L$2:L61)","v":60},{"$f":"IF(L61=WORKSHEET!$B$1,I61,\"\")","v":""},"","ALABAMA","Hale County",47,{"$f":"+R61-N61-P61","v":7},15,"N/A",69,3.2242352735066461E-2,0.1483739837398374]
[162,null,8,"Houston (Dothan), AL - Dale, AL","AL: Henry County (01067)","AL: Henry County (01067)","01067","  Henry  ",{"$f":"ROWS($L$2:L62)","v":61},{"$f":"IF(L62=WORKSHEET!$B$1,I62,\"\")","v":""},"","ALABAMA","Henry County",36,{"$f":"+R62-N62-P62","v":3},18,"N/A",57,3.2242352735066461E-2,0.11602209944751381]
[162,null,8,"Houston (Dothan), AL - Dale, AL","AL: Houston County (01069)","AL: Houston County (01069)","01069","  Houston  ",{"$f":"ROWS($L$2:L63)","v":62},{"$f":"IF(L63=WORKSHEET!$B$1,I63,\"\")","v":""},"","ALABAMA","Houston County",158,22,58,"N/A",238,3.2242352735066461E-2,0.11602209944751381]
[210,null,8,"Madison (Huntsville), AL - Limestone, AL","AL: Jackson County (01071)","AL: Jackson County (01071)","01071","  Jackson  ",{"$f":"ROWS($L$2:L64)","v":63},{"$f":"IF(L64=WORKSHEET!$B$1,I64,\"\")","v":""},"","ALABAMA","Jackson County",66,{"$f":"+R64-N64-P64","v":10},26,"N/A",102,3.2242352735066461E-2,0.1079136690647482]
[150,null,8,"Jefferson (Birmingham), AL - Shelby, AL","AL: Jefferson County (01073)","AL: Jefferson County (01073)","01073","  Jefferson  ",{"$f":"ROWS($L$2:L65)","v":64},{"$f":"IF(L65=WORKSHEET!$B$1,I65,\"\")","v":""},"","ALABAMA","Jefferson County",1499,176,555,"*",2233,3.2242352735066461E-2,0.11175942549371634]
[461,null,8,"Lamar, AL","AL: Lamar County (01075)","AL: Lamar County (01075)","01075","  Lamar  ",{"$f":"ROWS($L$2:L66)","v":65},{"$f":"IF(L66=WORKSHEET!$B$1,I66,\"\")","v":""},"","ALABAMA","Lamar County",17,{"$f":"+R66-N66-P66","v":5},12,"*",34,3.2242352735066461E-2,9.0643274853801165E-2]
[219,null,8,"Lauderdale (Florence), AL - Colbert, AL","AL: Lauderdale County (01077)","AL: Lauderdale County (01077)","01077","  Lauderdale  ",{"$f":"ROWS($L$2:L67)","v":66},{"$f":"IF(L67=WORKSHEET!$B$1,I67,\"\")","v":""},{"$f":"IFERROR(SMALL($J$2:$J$3142,I67),\"\")","v":""},"ALABAMA","Lauderdale County",98,17,62,"N/A",177,3.2242352735066461E-2,0.16603773584905659]
[185,null,8,"Morgan (Decatur), AL - Lawrence, AL","AL: Lawrence County (01079)","AL: Lawrence County (01079)","01079","  Lawrence  ",{"$f":"ROWS($L$2:L68)","v":67},{"$f":"IF(L68=WORKSHEET!$B$1,I68,\"\")","v":""},"","ALABAMA","Lawrence County",35,{"$f":"+R68-N68-P68","v":6},18,"N/A",59,3.2242352735066461E-2,0.11682242990654206]
[179,null,8,"Lee (Auburn), AL - Elmore, AL","AL: Lee County (01081)","AL: Lee County (01081)","01081","  Lee  ",{"$f":"ROWS($L$2:L69)","v":68},{"$f":"IF(L69=WORKSHEET!$B$1,I69,\"\")","v":""},"","ALABAMA","Lee County",206,32,53,"N/A",291,3.2242352735066461E-2,0.10516934046345811]
[210,null,8,"Madison (Huntsville), AL - Limestone, AL","AL: Limestone County (01083)","AL: Limestone County (01083)","01083","  Limestone  ",{"$f":"ROWS($L$2:L70)","v":69},{"$f":"IF(L70=WORKSHEET!$B$1,I70,\"\")","v":""},"","ALABAMA","Limestone County",115,{"$f":"+R70-N70-P70","v":8},40,"N/A",163,3.2242352735066461E-2,0.1079136690647482]
[171,null,8,"Montgomery (Montgomery), AL - Autauga, AL","AL: Lowndes County (01085)","AL: Lowndes County (01085)","01085","  Lowndes  ",{"$f":"ROWS($L$2:L71)","v":70},{"$f":"IF(L71=WORKSHEET!$B$1,I71,\"\")","v":""},"","ALABAMA","Lowndes County",64,{"$f":"+R71-N71-P71","v":2},12,"N/A",78,3.2242352735066461E-2,6.0667340748230533E-2]
[179,null,8,"Lee (Auburn), AL - Elmore, AL","AL: Macon County (01087)","AL: Macon County (01087)","01087","  Macon  ",{"$f":"ROWS($L$2:L72)","v":71},{"$f":"IF(L72=WORKSHEET!$B$1,I72,\"\")","v":""},"","ALABAMA","Macon County",104,{"$f":"+R72-N72-P72","v":6},14,"N/A",124,3.2242352735066461E-2,0.10516934046345811]
[210,null,8,"Madison (Huntsville), AL - Limestone, AL","AL: Madison County (01089)","AL: Madison County (01089)","01089","  Madison  ",{"$f":"ROWS($L$2:L73)","v":72},{"$f":"IF(L73=WORKSHEET!$B$1,I73,\"\")","v":""},"","ALABAMA","Madison County",528,64,237,"*",831,3.2242352735066461E-2,0.1079136690647482]
[175,null,8,"Dallas, AL - Marengo, AL","AL: Marengo County (01091)","AL: Marengo County (01091)","01091","  Marengo  ",{"$f":"ROWS($L$2:L74)","v":73},{"$f":"IF(L74=WORKSHEET!$B$1,I74,\"\")","v":""},"","ALABAMA","Marengo County",50,{"$f":"+R74-N74-P74","v":9},16,"N/A",75,3.2242352735066461E-2,7.0381231671554259E-2]
[247,null,8,"Marion, AL - Fayette, AL","AL: Marion County (01093)","AL: Marion County (01093)","01093","  Marion  ",{"$f":"ROWS($L$2:L75)","v":74},{"$f":"IF(L75=WORKSHEET!$B$1,I75,\"\")","v":""},"","ALABAMA","Marion County",24,{"$f":"+R75-N75-P75","v":4},20,"N/A",48,3.2242352735066461E-2,0.18181818181818182]
[224,null,8,"Etowah (Gadsden), AL - Marshall, AL","AL: Marshall County (01095)","AL: Marshall County (01095)","01095","  Marshall  ",{"$f":"ROWS($L$2:L76)","v":75},{"$f":"IF(L76=WORKSHEET!$B$1,I76,\"\")","v":""},"","ALABAMA","Marshall County",123,{"$f":"+R76-N76-P76","v":10},58,"N/A",191,3.2242352735066461E-2,0.13400000000000001]
[161,null,8,"Mobile (Mobile), AL - Baldwin, AL","AL: Mobile County (01097)","AL: Mobile County (01097)","01097","  Mobile  ",{"$f":"ROWS($L$2:L77)","v":76},{"$f":"IF(L77=WORKSHEET!$B$1,I77,\"\")","v":""},"","ALABAMA","Mobile County",866,63,270,"*",1202,3.2242352735066461E-2,8.6515978176149644E-2]
[161,null,8,"Mobile (Mobile), AL - Baldwin, AL","AL: Monroe County (01099)","AL: Monroe County (01099)","01099","  Monroe  ",{"$f":"ROWS($L$2:L78)","v":77},{"$f":"IF(L78=WORKSHEET!$B$1,I78,\"\")","v":""},"","ALABAMA","Monroe County",39,{"$f":"+R78-N78-P78","v":9},14,"*",62,3.2242352735066461E-2,8.6515978176149644E-2]
[171,null,8,"Montgomery (Montgomery), AL - Autauga, AL","AL: Montgomery County (01101)","AL: Montgomery County (01101)","01101","  Montgomery  ",{"$f":"ROWS($L$2:L79)","v":78},{"$f":"IF(L79=WORKSHEET!$B$1,I79,\"\")","v":""},"","ALABAMA","Montgomery County",601,41,128,"*",772,3.2242352735066461E-2,6.0667340748230533E-2]
[185,null,8,"Morgan (Decatur), AL - Lawrence, AL","AL: Morgan County (01103)","AL: Morgan County (01103)","01103","  Morgan  ",{"$f":"ROWS($L$2:L80)","v":79},{"$f":"IF(L80=WORKSHEET!$B$1,I80,\"\")","v":""},"","ALABAMA","Morgan County",154,19,84,"N/A",257,3.2242352735066461E-2,0.11682242990654206]
[175,null,8,"Dallas, AL - Marengo, AL","AL: Perry County (01105)","AL: Perry County (01105)","01105","  Perry  ",{"$f":"ROWS($L$2:L81)","v":80},{"$f":"IF(L81=WORKSHEET!$B$1,I81,\"\")","v":""},"","ALABAMA","Perry County",35,"*","*","N/A",48,3.2242352735066461E-2,7.0381231671554259E-2]
[156,null,8,"Tuscaloosa (Tuscaloosa), AL - Pickens, AL","AL: Pickens County (01107)","AL: Pickens County (01107)","01107","  Pickens  ",{"$f":"ROWS($L$2:L82)","v":81},{"$f":"IF(L82=WORKSHEET!$B$1,I82,\"\")","v":""},"","ALABAMA","Pickens County",54,{"$f":"+R82-N82-P82","v":10},14,"N/A",78,3.2242352735066461E-2,0.1483739837398374]
[171,null,8,"Montgomery (Montgomery), AL - Autauga, AL","AL: Pike County (01109)","AL: Pike County (01109)","01109","  Pike  ",{"$f":"ROWS($L$2:L83)","v":82},{"$f":"IF(L83=WORKSHEET!$B$1,I83,\"\")","v":""},"","ALABAMA","Pike County",70,{"$f":"+R83-N83-P83","v":8},11,"N/A",89,3.2242352735066461E-2,6.0667340748230533E-2]
[172,null,8,"Chambers, AL - Randolph, AL","AL: Randolph County (01111)","AL: Randolph County (01111)","01111","  Randolph  ",{"$f":"ROWS($L$2:L84)","v":83},{"$f":"IF(L84=WORKSHEET!$B$1,I84,\"\")","v":""},"","ALABAMA","Randolph County",43,{"$f":"+R84-N84-P84","v":6},17,"N/A",66,3.2242352735066461E-2,0.10616438356164383]
[166,null,8,"Russell, AL","AL: Russell County (01113)","AL: Russell County (01113)","01113","  Russell  ",{"$f":"ROWS($L$2:L85)","v":84},{"$f":"IF(L85=WORKSHEET!$B$1,I85,\"\")","v":""},"","ALABAMA","Russell County",144,26,37,"N/A",207,3.2242352735066461E-2,0.16097023153252479]
[150,null,8,"Jefferson (Birmingham), AL - Shelby, AL","AL: Shelby County (01117)","AL: Shelby County (01117)","01117","  Shelby  ",{"$f":"ROWS($L$2:L86)","v":85},{"$f":"IF(L86=WORKSHEET!$B$1,I86,\"\")","v":""},"","ALABAMA","Shelby County",114,21,100,"N/A",235,3.2242352735066461E-2,0.11175942549371634]
[150,null,8,"Jefferson (Birmingham), AL - Shelby, AL","AL: St. Clair County (01115)","AL: St. Clair County (01115)","01115","  St. Clair  ",{"$f":"ROWS($L$2:L87)","v":86},{"$f":"IF(L87=WORKSHEET!$B$1,I87,\"\")","v":""},"","ALABAMA","St. Clair County",93,17,46,"N/A",156,3.2242352735066461E-2,0.11175942549371634]
[412,null,8,"Choctaw, AL - Sumter, AL","AL: Sumter County (01119)","AL: Sumter County (01119)","01119","  Sumter  ",{"$f":"ROWS($L$2:L88)","v":87},{"$f":"IF(L88=WORKSHEET!$B$1,I88,\"\")","v":""},"","ALABAMA","Sumter County",43,{"$f":"+R88-N88-P88","v":3},11,"N/A",57,3.2242352735066461E-2,6.3366336633663367E-2]
[241,null,8,"Talladega, AL - Clay, AL","AL: Talladega County (01121)","AL: Talladega County (01121)","01121","  Talladega  ",{"$f":"ROWS($L$2:L89)","v":88},{"$f":"IF(L89=WORKSHEET!$B$1,I89,\"\")","v":""},"","ALABAMA","Talladega County",178,33,53,"N/A",264,3.2242352735066461E-2,0.15748031496062992]
[179,null,8,"Lee (Auburn), AL - Elmore, AL","AL: Tallapoosa County (01123)","AL: Tallapoosa County (01123)","01123","  Tallapoosa  ",{"$f":"ROWS($L$2:L90)","v":89},{"$f":"IF(L90=WORKSHEET!$B$1,I90,\"\")","v":""},"","ALABAMA","Tallapoosa County",95,{"$f":"+R90-N90-P90","v":5},22,"*",122,3.2242352735066461E-2,0.10516934046345811]
[156,null,8,"Tuscaloosa (Tuscaloosa), AL - Pickens, AL","AL: Tuscaloosa County (01125)","AL: Tuscaloosa County (01125)","01125","  Tuscaloosa  ",{"$f":"ROWS($L$2:L91)","v":90},{"$f":"IF(L91=WORKSHEET!$B$1,I91,\"\")","v":""},"","ALABAMA","Tuscaloosa County",278,54,112,"*",445,3.2242352735066461E-2,0.1483739837398374]
[150,null,8,"Jefferson (Birmingham), AL - Shelby, AL","AL: Walker County (01127)","AL: Walker County (01127)","01127","  Walker  ",{"$f":"ROWS($L$2:L92)","v":91},{"$f":"IF(L92=WORKSHEET!$B$1,I92,\"\")","v":""},"","ALABAMA","Walker County",83,{"$f":"+R92-N92-P92","v":9},42,"*",134,3.2242352735066461E-2,0.11175942549371634]
[161,null,8,"Mobile (Mobile), AL - Baldwin, AL","AL: Washington County (01129)","AL: Washington County (01129)","01129","  Washington  ",{"$f":"ROWS($L$2:L93)","v":92},{"$f":"IF(L93=WORKSHEET!$B$1,I93,\"\")","v":""},"","ALABAMA","Washington County",35,{"$f":"+R93-N93-P93","v":5},15,"N/A",55,3.2242352735066461E-2,8.6515978176149644E-2]
[175,null,8,"Dallas, AL - Marengo, AL","AL: Wilcox County (01131)","AL: Wilcox County (01131)","01131","  Wilcox  ",{"$f":"ROWS($L$2:L94)","v":93},{"$f":"IF(L94=WORKSHEET!$B$1,I94,\"\")","v":""},"","ALABAMA","Wilcox County",48,"N/A","*","N/A",58,3.2242352735066461E-2,7.0381231671554259E-2]
[219,null,8,"Lauderdale (Florence), AL - Colbert, AL","AL: Winston County (01133)","AL: Winston County (01133)","01133","  Winston  ",{"$f":"ROWS($L$2:L95)","v":94},{"$f":"IF(L95=WORKSHEET!$B$1,I95,\"\")","v":""},"","ALABAMA","Winston County",20,{"$f":"+R95-N95-P95","v":7},13,"N/A",40,3.2242352735066461E-2,0.16603773584905659]
[527,null,13,"Arkansas, AR - Monroe, AR","AR: Arkansas County (05001)","AR: Arkansas County (05001)","05001"," Arkansas  ",{"$f":"ROWS($L$2:L96)","v":95},{"$f":"IF(L96=WORKSHEET!$B$1,I96,\"\")","v":""},"","ARKANSAS","Arkansas County",30,"*","*","N/A",43,3.0345406699707339E-2,6.8965517241379309E-2]
[480,null,13,"Ashley, AR - Chicot, AR","AR: Ashley County (05003)","AR: Ashley County (05003)","05003","  Ashley  ",{"$f":"ROWS($L$2:L97)","v":96},{"$f":"IF(L97=WORKSHEET!$B$1,I97,\"\")","v":""},"","ARKANSAS","Ashley County",64,"*","*","N/A",72,3.0345406699707339E-2,9.3457943925233641E-2]
[407,null,13,"Baxter, AR - Marion, AR","AR: Baxter County (05005)","AR: Baxter County (05005)","05005","  Baxter  ",{"$f":"ROWS($L$2:L98)","v":97},{"$f":"IF(L98=WORKSHEET!$B$1,I98,\"\")","v":""},"","ARKANSAS","Baxter County",32,{"$f":"+R98-N98-P98","v":5},17,"N/A",54,3.0345406699707339E-2,0.15555555555555556]
[446,null,13,"Washington (Fayetteville), AR - Benton, AR","AR: Benton County (05007)","AR: Benton County (05007)","05007","  Benton  ",{"$f":"ROWS($L$2:L99)","v":98},{"$f":"IF(L99=WORKSHEET!$B$1,I99,\"\")","v":""},"","ARKANSAS","Benton County",179,36,93,"*",310,3.0345406699707339E-2,0.15917602996254682]
[494,null,13,"Boone, AR - Carroll, AR","AR: Boone County (05009)","AR: Boone County (05009)","05009","  Boone  ",{"$f":"ROWS($L$2:L100)","v":99},{"$f":"IF(L100=WORKSHEET!$B$1,I100,\"\")","v":""},"","ARKANSAS","Boone County",39,13,31,"*",84,3.0345406699707339E-2,0.27586206896551724]
[473,null,13,"Jefferson (Pine Bluff), AR - Drew, AR","AR: Bradley County (05011)","AR: Bradley County (05011)","05011","  Bradley  ",{"$f":"ROWS($L$2:L101)","v":100},{"$f":"IF(L101=WORKSHEET!$B$1,I101,\"\")","v":""},"","ARKANSAS","Bradley County",36,{"$f":"+R101-N101-P101","v":4},12,"N/A",52,3.0345406699707339E-2,0.13043478260869565]
[486,null,13,"Union, AR - Columbia, AR","AR: Calhoun County (05013)","AR: Calhoun County (05013)","05013","  Calhoun  ",{"$f":"ROWS($L$2:L102)","v":101},{"$f":"IF(L102=WORKSHEET!$B$1,I102,\"\")","v":""},"","ARKANSAS","Calhoun County","*","*","*","N/A","*",3.0345406699707339E-2,7.1428571428571425E-2]
[494,null,13,"Boone, AR - Carroll, AR","AR: Carroll County (05015)","AR: Carroll County (05015)","05015","  Carroll  ",{"$f":"ROWS($L$2:L103)","v":102},{"$f":"IF(L103=WORKSHEET!$B$1,I103,\"\")","v":""},"","ARKANSAS","Carroll County",18,{"$f":"+R103-N103-P103","v":6},14,"N/A",38,3.0345406699707339E-2,0.27586206896551724]
[480,null,13,"Ashley, AR - Chicot, AR","AR: Chicot County (05017)","AR: Chicot County (05017)","05017","  Chicot  ",{"$f":"ROWS($L$2:L104)","v":103},{"$f":"IF(L104=WORKSHEET!$B$1,I104,\"\")","v":""},"","ARKANSAS","Chicot County",33,"*","*","N/A",43,3.0345406699707339E-2,9.3457943925233641E-2]
[448,null,13,"Garland, AR - Hot Spring, AR","AR: Clark County (05019)","AR: Clark County (05019)","05019","  Clark  ",{"$f":"ROWS($L$2:L105)","v":104},{"$f":"IF(L105=WORKSHEET!$B$1,I105,\"\")","v":""},"","ARKANSAS","Clark County",36,{"$f":"+R105-N105-P105","v":3},19,"N/A",58,3.0345406699707339E-2,0.10091743119266056]
[571,null,13,"Craighead, AR - Greene, AR","AR: Clay County (05021)","AR: Clay County (05021)","05021","  Clay  ",{"$f":"ROWS($L$2:L106)","v":105},{"$f":"IF(L106=WORKSHEET!$B$1,I106,\"\")","v":""},"","ARKANSAS","Clay County",13,11,"*","N/A",31,3.0345406699707339E-2,0.22712933753943218]
[457,null,13,"White, AR - Cleburne, AR","AR: Cleburne County (05023)","AR: Cleburne County (05023)","05023","  Cleburne  ",{"$f":"ROWS($L$2:L107)","v":106},{"$f":"IF(L107=WORKSHEET!$B$1,I107,\"\")","v":""},"","ARKANSAS","Cleburne County",12,13,11,"N/A",36,3.0345406699707339E-2,0.33884297520661155]
[473,null,13,"Jefferson (Pine Bluff), AR - Drew, AR","AR: Cleveland County (05025)","AR: Cleveland County (05025)","05025","  Cleveland  ",{"$f":"ROWS($L$2:L108)","v":107},{"$f":"IF(L108=WORKSHEET!$B$1,I108,\"\")","v":""},"","ARKANSAS","Cleveland County","*","*","*","N/A",16,3.0345406699707339E-2,0.13043478260869565]
[486,null,13,"Union, AR - Columbia, AR","AR: Columbia County (05027)","AR: Columbia County (05027)","05027","  Columbia  ",{"$f":"ROWS($L$2:L109)","v":108},{"$f":"IF(L109=WORKSHEET!$B$1,I109,\"\")","v":""},"","ARKANSAS","Columbia County",44,{"$f":"+R109-N109-P109","v":6},13,"N/A",63,3.0345406699707339E-2,7.1428571428571425E-2]
[432,null,13,"Pulaski (Little Rock), AR - Faulkner, AR","AR: Conway County (05029)","AR: Conway County (05029)","05029","  Conway  ",{"$f":"ROWS($L$2:L110)","v":109},{"$f":"IF(L110=WORKSHEET!$B$1,I110,\"\")","v":""},"","ARKANSAS","Conway County",24,12,22,"N/A",58,3.0345406699707339E-2,0.23109965635738833]
[571,null,13,"Craighead, AR - Greene, AR","AR: Craighead County (05031)","AR: Craighead County (05031)","05031","  Craighead  ",{"$f":"ROWS($L$2:L111)","v":110},{"$f":"IF(L111=WORKSHEET!$B$1,I111,\"\")","v":""},"","ARKANSAS","Craighead County",100,27,45,"N/A",172,3.0345406699707339E-2,0.22712933753943218]
[421,null,13,"Sebastian (Fort Smith), AR - Crawford, AR","AR: Crawford County (05033)","AR: Crawford County (05033)","05033","  Crawford  ",{"$f":"ROWS($L$2:L112)","v":111},{"$f":"IF(L112=WORKSHEET!$B$1,I112,\"\")","v":""},"","ARKANSAS","Crawford County",39,{"$f":"+R112-N112-P112","v":12},22,"*",73,3.0345406699707339E-2,0.19346733668341709]
[499,null,13,"Crittenden (West Memphis), AR - St. Francis, AR","AR: Crittenden County (05035)","AR: Crittenden County (05035)","05035","  Crittenden  ",{"$f":"ROWS($L$2:L113)","v":112},{"$f":"IF(L113=WORKSHEET!$B$1,I113,\"\")","v":""},"","ARKANSAS","Crittenden County",147,17,42,"*",207,3.0345406699707339E-2,7.926829268292683E-2]
[499,null,13,"Crittenden (West Memphis), AR - St. Francis, AR","AR: Cross County (05037)","AR: Cross County (05037)","05037","  Cross  ",{"$f":"ROWS($L$2:L114)","v":113},{"$f":"IF(L114=WORKSHEET!$B$1,I114,\"\")","v":""},"","ARKANSAS","Cross County",29,"*","*","N/A",42,3.0345406699707339E-2,7.926829268292683E-2]
[496,null,13,"Ouachita, AR - Dallas, AR","AR: Dallas County (05039)","AR: Dallas County (05039)","05039","  Dallas  ",{"$f":"ROWS($L$2:L115)","v":114},{"$f":"IF(L115=WORKSHEET!$B$1,I115,\"\")","v":""},"","ARKANSAS","Dallas County",16,"*","*","N/A",27,3.0345406699707339E-2,7.8651685393258425E-2]
[473,null,13,"Jefferson (Pine Bluff), AR - Drew, AR","AR: Desha County (05041)","AR: Desha County (05041)","05041","  Desha  ",{"$f":"ROWS($L$2:L116)","v":115},{"$f":"IF(L116=WORKSHEET!$B$1,I116,\"\")","v":""},"","ARKANSAS","Desha County",43,"*","*","N/A",54,3.0345406699707339E-2,0.13043478260869565]
[473,null,13,"Jefferson (Pine Bluff), AR - Drew, AR","AR: Drew County (05043)","AR: Drew County (05043)","05043","  Drew  ",{"$f":"ROWS($L$2:L117)","v":116},{"$f":"IF(L117=WORKSHEET!$B$1,I117,\"\")","v":""},"","ARKANSAS","Drew County",29,{"$f":"+R117-N117-P117","v":8},14,"N/A",51,3.0345406699707339E-2,0.13043478260869565]
[432,null,13,"Pulaski (Little Rock), AR - Faulkner, AR","AR: Faulkner County (05045)","AR: Faulkner County (05045)","05045","  Faulkner  ",{"$f":"ROWS($L$2:L118)","v":117},{"$f":"IF(L118=WORKSHEET!$B$1,I118,\"\")","v":""},"","ARKANSAS","Faulkner County",89,44,53,"N/A",186,3.0345406699707339E-2,0.23109965635738833]
[421,null,13,"Sebastian (Fort Smith), AR - Crawford, AR","AR: Franklin County (05047)","AR: Franklin County (05047)","05047","  Franklin  ",{"$f":"ROWS($L$2:L119)","v":118},{"$f":"IF(L119=WORKSHEET!$B$1,I119,\"\")","v":""},"","ARKANSAS","Franklin County","*","*","*","N/A",11,3.0345406699707339E-2,0.19346733668341709]
[574,null,13,"Independence, AR - Sharp, AR","AR: Fulton County (05049)","AR: Fulton County (05049)","05049","  Fulton  ",{"$f":"ROWS($L$2:L120)","v":119},{"$f":"IF(L120=WORKSHEET!$B$1,I120,\"\")","v":""},"","ARKANSAS","Fulton County","*","*","*","N/A",14,3.0345406699707339E-2,0.28205128205128205]
[448,null,13,"Garland, AR - Hot Spring, AR","AR: Garland County (05051)","AR: Garland County (05051)","05051","  Garland  ",{"$f":"ROWS($L$2:L121)","v":120},{"$f":"IF(L121=WORKSHEET!$B$1,I121,\"\")","v":""},"","ARKANSAS","Garland County",105,16,42,"N/A",163,3.0345406699707339E-2,0.10091743119266056]
[432,null,13,"Pulaski (Little Rock), AR - Faulkner, AR","AR: Grant County (05053)","AR: Grant County (05053)","05053","  Grant  ",{"$f":"ROWS($L$2:L122)","v":121},{"$f":"IF(L122=WORKSHEET!$B$1,I122,\"\")","v":""},"","ARKANSAS","Grant County",12,{"$f":"+R122-N122-P122","v":7},13,"N/A",32,3.0345406699707339E-2,0.23109965635738833]
[571,null,13,"Craighead, AR - Greene, AR","AR: Greene County (05055)","AR: Greene County (05055)","05055","  Greene  ",{"$f":"ROWS($L$2:L123)","v":122},{"$f":"IF(L123=WORKSHEET!$B$1,I123,\"\")","v":""},"","ARKANSAS","Greene County",30,11,17,"*",59,3.0345406699707339E-2,0.22712933753943218]
[404,null,13,"Miller, AR - Hempstead, AR","AR: Hempstead County (05057)","AR: Hempstead County (05057)","05057","  Hempstead  ",{"$f":"ROWS($L$2:L124)","v":123},{"$f":"IF(L124=WORKSHEET!$B$1,I124,\"\")","v":""},"","ARKANSAS","Hempstead County",39,{"$f":"+R124-N124-P124","v":7},11,"N/A",57,3.0345406699707339E-2,0.18181818181818182]
[448,null,13,"Garland, AR - Hot Spring, AR","AR: Hot Spring County (05059)","AR: Hot Spring County (05059)","05059","  Hot Spring  ",{"$f":"ROWS($L$2:L125)","v":124},{"$f":"IF(L125=WORKSHEET!$B$1,I125,\"\")","v":""},"","ARKANSAS","Hot Spring County",34,{"$f":"+R125-N125-P125","v":1},12,"N/A",47,3.0345406699707339E-2,0.10091743119266056]
[404,null,13,"Miller, AR - Hempstead, AR","AR: Howard County (05061)","AR: Howard County (05061)","05061","  Howard  ",{"$f":"ROWS($L$2:L126)","v":125},{"$f":"IF(L126=WORKSHEET!$B$1,I126,\"\")","v":""},"","ARKANSAS","Howard County",25,"*","*","N/A",37,3.0345406699707339E-2,0.18181818181818182]
[574,null,13,"Independence, AR - Sharp, AR","AR: Independence County (05063)","AR: Independence County (05063)","05063","  Independence  ",{"$f":"ROWS($L$2:L127)","v":126},{"$f":"IF(L127=WORKSHEET!$B$1,I127,\"\")","v":""},"","ARKANSAS","Independence County",24,{"$f":"+R127-N127-P127","v":7},28,"N/A",59,3.0345406699707339E-2,0.28205128205128205]
[574,null,13,"Independence, AR - Sharp, AR","AR: Izard County (05065)","AR: Izard County (05065)","05065","  Izard  ",{"$f":"ROWS($L$2:L128)","v":127},{"$f":"IF(L128=WORKSHEET!$B$1,I128,\"\")","v":""},"","ARKANSAS","Izard County","*","*","*","N/A",14,3.0345406699707339E-2,0.28205128205128205]
[521,null,13,"Jackson, AR","AR: Jackson County (05067)","AR: Jackson County (05067)","05067","  Jackson  ",{"$f":"ROWS($L$2:L129)","v":128},{"$f":"IF(L129=WORKSHEET!$B$1,I129,\"\")","v":""},"","ARKANSAS","Jackson County",26,"*","*","N/A",34,3.0345406699707339E-2,3.7037037037037035E-2]
[473,null,13,"Jefferson (Pine Bluff), AR - Drew, AR","AR: Jefferson County (05069)","AR: Jefferson County (05069)","05069","  Jefferson  ",{"$f":"ROWS($L$2:L130)","v":129},{"$f":"IF(L130=WORKSHEET!$B$1,I130,\"\")","v":""},"","ARKANSAS","Jefferson County",186,22,49,"*",258,3.0345406699707339E-2,0.13043478260869565]
[522,null,13,"Johnson, AR","AR: Johnson County (05071)","AR: Johnson County (05071)","05071","  Johnson  ",{"$f":"ROWS($L$2:L131)","v":130},{"$f":"IF(L131=WORKSHEET!$B$1,I131,\"\")","v":""},{"$f":"IFERROR(SMALL($J$2:$J$3142,I131),\"\")","v":""},"ARKANSAS","Johnson County",14,{"$f":"+R131-N131-P131","v":11},12,"*",37,3.0345406699707339E-2,0.44]
[404,null,13,"Miller, AR - Hempstead, AR","AR: Lafayette County (05073)","AR: Lafayette County (05073)","05073","  Lafayette  ",{"$f":"ROWS($L$2:L132)","v":131},{"$f":"IF(L132=WORKSHEET!$B$1,I132,\"\")","v":""},"","ARKANSAS","Lafayette County",16,"N/A","*","N/A",17,3.0345406699707339E-2,0.18181818181818182]
[571,null,13,"Craighead, AR - Greene, AR","AR: Lawrence County (05075)","AR: Lawrence County (05075)","05075","  Lawrence  ",{"$f":"ROWS($L$2:L133)","v":132},{"$f":"IF(L133=WORKSHEET!$B$1,I133,\"\")","v":""},"","ARKANSAS","Lawrence County",19,"*","*","N/A",33,3.0345406699707339E-2,0.22712933753943218]
[499,null,13,"Crittenden (West Memphis), AR - St. Francis, AR","AR: Lee County (05077)","AR: Lee County (05077)","05077","  Lee  ",{"$f":"ROWS($L$2:L134)","v":133},{"$f":"IF(L134=WORKSHEET!$B$1,I134,\"\")","v":""},"","ARKANSAS","Lee County",33,"*","*","N/A",39,3.0345406699707339E-2,7.926829268292683E-2]
[473,null,13,"Jefferson (Pine Bluff), AR - Drew, AR","AR: Lincoln County (05079)","AR: Lincoln County (05079)","05079","  Lincoln  ",{"$f":"ROWS($L$2:L135)","v":134},{"$f":"IF(L135=WORKSHEET!$B$1,I135,\"\")","v":""},"","ARKANSAS","Lincoln County",18,"*","*","N/A",29,3.0345406699707339E-2,0.13043478260869565]
[404,null,13,"Miller, AR - Hempstead, AR","AR: Little River County (05081)","AR: Little River County (05081)","05081","  Little River  ",{"$f":"ROWS($L$2:L136)","v":135},{"$f":"IF(L136=WORKSHEET!$B$1,I136,\"\")","v":""},"","ARKANSAS","Little River County",13,"*","*","N/A",28,3.0345406699707339E-2,0.18181818181818182]
[421,null,13,"Sebastian (Fort Smith), AR - Crawford, AR","AR: Logan County (05083)","AR: Logan County (05083)","05083","  Logan  ",{"$f":"ROWS($L$2:L137)","v":136},{"$f":"IF(L137=WORKSHEET!$B$1,I137,\"\")","v":""},"","ARKANSAS","Logan County",15,"*","*","N/A",24,3.0345406699707339E-2,0.19346733668341709]
[432,null,13,"Pulaski (Little Rock), AR - Faulkner, AR","AR: Lonoke County (05085)","AR: Lonoke County (05085)","05085","  Lonoke  ",{"$f":"ROWS($L$2:L138)","v":137},{"$f":"IF(L138=WORKSHEET!$B$1,I138,\"\")","v":""},"","ARKANSAS","Lonoke County",57,18,36,"*",112,3.0345406699707339E-2,0.23109965635738833]
[446,null,13,"Washington (Fayetteville), AR - Benton, AR","AR: Madison County (05087)","AR: Madison County (05087)","05087","  Madison  ",{"$f":"ROWS($L$2:L139)","v":138},{"$f":"IF(L139=WORKSHEET!$B$1,I139,\"\")","v":""},"","ARKANSAS","Madison County",13,{"$f":"+R139-N139-P139","v":8},11,"N/A",32,3.0345406699707339E-2,0.15917602996254682]
[407,null,13,"Baxter, AR - Marion, AR","AR: Marion County (05089)","AR: Marion County (05089)","05089","  Marion  ",{"$f":"ROWS($L$2:L140)","v":139},{"$f":"IF(L140=WORKSHEET!$B$1,I140,\"\")","v":""},"","ARKANSAS","Marion County","*","*","*","N/A",13,3.0345406699707339E-2,0.15555555555555556]
[404,null,13,"Miller, AR - Hempstead, AR","AR: Miller County (05091)","AR: Miller County (05091)","05091","  Miller  ",{"$f":"ROWS($L$2:L141)","v":140},{"$f":"IF(L141=WORKSHEET!$B$1,I141,\"\")","v":""},"","ARKANSAS","Miller County",78,14,21,"N/A",113,3.0345406699707339E-2,0.18181818181818182]
[614,null,13,"Mississippi, AR","AR: Mississippi County (05093)","AR: Mississippi County (05093)","05093","  Mississippi  ",{"$f":"ROWS($L$2:L142)","v":141},{"$f":"IF(L142=WORKSHEET!$B$1,I142,\"\")","v":""},"","ARKANSAS","Mississippi County",116,{"$f":"+R142-N142-P142","v":11},19,"*",146,3.0345406699707339E-2,6.8571428571428575E-2]
[527,null,13,"Arkansas, AR - Monroe, AR","AR: Monroe County (05095)","AR: Monroe County (05095)","05095","  Monroe  ",{"$f":"ROWS($L$2:L143)","v":142},{"$f":"IF(L143=WORKSHEET!$B$1,I143,\"\")","v":""},"","ARKANSAS","Monroe County",24,"*","*","N/A",30,3.0345406699707339E-2,6.8965517241379309E-2]
[448,null,13,"Garland, AR - Hot Spring, AR","AR: Montgomery County (05097)","AR: Montgomery County (05097)","05097","  Montgomery  ",{"$f":"ROWS($L$2:L144)","v":143},{"$f":"IF(L144=WORKSHEET!$B$1,I144,\"\")","v":""},"","ARKANSAS","Montgomery County","*","*","*","N/A",12,3.0345406699707339E-2,0.10091743119266056]
[404,null,13,"Miller, AR - Hempstead, AR","AR: Nevada County (05099)","AR: Nevada County (05099)","05099","  Nevada  ",{"$f":"ROWS($L$2:L145)","v":144},{"$f":"IF(L145=WORKSHEET!$B$1,I145,\"\")","v":""},"","ARKANSAS","Nevada County",14,"*","*","N/A",24,3.0345406699707339E-2,0.18181818181818182]
[494,null,13,"Boone, AR - Carroll, AR","AR: Newton County (05101)","AR: Newton County (05101)","05101","  Newton  ",{"$f":"ROWS($L$2:L146)","v":145},{"$f":"IF(L146=WORKSHEET!$B$1,I146,\"\")","v":""},"","ARKANSAS","Newton County","*","*","*","N/A","*",3.0345406699707339E-2,0.27586206896551724]
[496,null,13,"Ouachita, AR - Dallas, AR","AR: Ouachita County (05103)","AR: Ouachita County (05103)","05103","  Ouachita  ",{"$f":"ROWS($L$2:L147)","v":146},{"$f":"IF(L147=WORKSHEET!$B$1,I147,\"\")","v":""},"","ARKANSAS","Ouachita County",66,"*","*","N/A",78,3.0345406699707339E-2,7.8651685393258425E-2]
[432,null,13,"Pulaski (Little Rock), AR - Faulkner, AR","AR: Perry County (05105)","AR: Perry County (05105)","05105","  Perry  ",{"$f":"ROWS($L$2:L148)","v":147},{"$f":"IF(L148=WORKSHEET!$B$1,I148,\"\")","v":""},"","ARKANSAS","Perry County","*","*","*","N/A",14,3.0345406699707339E-2,0.23109965635738833]
[537,null,13,"Phillips, AR","AR: Phillips County (05107)","AR: Phillips County (05107)","05107","  Phillips  ",{"$f":"ROWS($L$2:L149)","v":148},{"$f":"IF(L149=WORKSHEET!$B$1,I149,\"\")","v":""},"","ARKANSAS","Phillips County",78,11,13,"N/A",102,3.0345406699707339E-2,0.12359550561797752]
[448,null,13,"Garland, AR - Hot Spring, AR","AR: Pike County (05109)","AR: Pike County (05109)","05109","  Pike  ",{"$f":"ROWS($L$2:L150)","v":149},{"$f":"IF(L150=WORKSHEET!$B$1,I150,\"\")","v":""},"","ARKANSAS","Pike County",15,"*","*","N/A",21,3.0345406699707339E-2,0.10091743119266056]
[571,null,13,"Craighead, AR - Greene, AR","AR: Poinsett County (05111)","AR: Poinsett County (05111)","05111","  Poinsett  ",{"$f":"ROWS($L$2:L151)","v":150},{"$f":"IF(L151=WORKSHEET!$B$1,I151,\"\")","v":""},"","ARKANSAS","Poinsett County",28,"*","*","*",36,3.0345406699707339E-2,0.22712933753943218]
[534,null,13,"Polk, AR","AR: Polk County (05113)","AR: Polk County (05113)","05113","  Polk  ",{"$f":"ROWS($L$2:L152)","v":151},{"$f":"IF(L152=WORKSHEET!$B$1,I152,\"\")","v":""},"","ARKANSAS","Polk County",19,"*","*","N/A",32,3.0345406699707339E-2,0.13636363636363635]
[442,null,13,"Pope, AR - Yell, AR","AR: Pope County (05115)","AR: Pope County (05115)","05115","  Pope  ",{"$f":"ROWS($L$2:L153)","v":152},{"$f":"IF(L153=WORKSHEET!$B$1,I153,\"\")","v":""},"","ARKANSAS","Pope County",57,{"$f":"+R153-N153-P153","v":9},22,"N/A",88,3.0345406699707339E-2,0.20430107526881722]
[432,null,13,"Pulaski (Little Rock), AR - Faulkner, AR","AR: Prairie County (05117)","AR: Prairie County (05117)","05117","  Prairie  ",{"$f":"ROWS($L$2:L154)","v":153},{"$f":"IF(L154=WORKSHEET!$B$1,I154,\"\")","v":""},"","ARKANSAS","Prairie County","*","*","*","N/A",17,3.0345406699707339E-2,0.23109965635738833]
[432,null,13,"Pulaski (Little Rock), AR - Faulkner, AR","AR: Pulaski County (05119)","AR: Pulaski County (05119)","05119","  Pulaski  ",{"$f":"ROWS($L$2:L155)","v":154},{"$f":"IF(L155=WORKSHEET!$B$1,I155,\"\")","v":""},"","ARKANSAS","Pulaski County",640,163,257,"*",1061,3.0345406699707339E-2,0.23109965635738833]
[571,null,13,"Craighead, AR - Greene, AR","AR: Randolph County (05121)","AR: Randolph County (05121)","05121","  Randolph  ",{"$f":"ROWS($L$2:L156)","v":155},{"$f":"IF(L156=WORKSHEET!$B$1,I156,\"\")","v":""},"","ARKANSAS","Randolph County","*","*","*","N/A",23,3.0345406699707339E-2,0.22712933753943218]
[432,null,13,"Pulaski (Little Rock), AR - Faulkner, AR","AR: Saline County (05125)","AR: Saline County (05125)","05125","  Saline  ",{"$f":"ROWS($L$2:L157)","v":156},{"$f":"IF(L157=WORKSHEET!$B$1,I157,\"\")","v":""},"","ARKANSAS","Saline County",53,17,41,"N/A",111,3.0345406699707339E-2,0.23109965635738833]
[421,null,13,"Sebastian (Fort Smith), AR - Crawford, AR","AR: Scott County (05127)","AR: Scott County (05127)","05127","  Scott  ",{"$f":"ROWS($L$2:L158)","v":157},{"$f":"IF(L158=WORKSHEET!$B$1,I158,\"\")","v":""},"","ARKANSAS","Scott County","*","*","*","N/A","*",3.0345406699707339E-2,0.19346733668341709]
[494,null,13,"Boone, AR - Carroll, AR","AR: Searcy County (05129)","AR: Searcy County (05129)","05129","  Searcy  ",{"$f":"ROWS($L$2:L159)","v":158},{"$f":"IF(L159=WORKSHEET!$B$1,I159,\"\")","v":""},"","ARKANSAS","Searcy County","*","*","*","N/A","*",3.0345406699707339E-2,0.27586206896551724]
[421,null,13,"Sebastian (Fort Smith), AR - Crawford, AR","AR: Sebastian County (05131)","AR: Sebastian County (05131)","05131","  Sebastian  ",{"$f":"ROWS($L$2:L160)","v":159},{"$f":"IF(L160=WORKSHEET!$B$1,I160,\"\")","v":""},"","ARKANSAS","Sebastian County",149,28,49,"N/A",226,3.0345406699707339E-2,0.19346733668341709]
[404,null,13,"Miller, AR - Hempstead, AR","AR: Sevier County (05133)","AR: Sevier County (05133)","05133","  Sevier  ",{"$f":"ROWS($L$2:L161)","v":160},{"$f":"IF(L161=WORKSHEET!$B$1,I161,\"\")","v":""},"","ARKANSAS","Sevier County",18,"*","*","N/A",25,3.0345406699707339E-2,0.18181818181818182]
[574,null,13,"Independence, AR - Sharp, AR","AR: Sharp County (05135)","AR: Sharp County (05135)","05135","  Sharp  ",{"$f":"ROWS($L$2:L162)","v":161},{"$f":"IF(L162=WORKSHEET!$B$1,I162,\"\")","v":""},"","ARKANSAS","Sharp County","*","*","*","N/A",21,3.0345406699707339E-2,0.28205128205128205]
[499,null,13,"Crittenden (West Memphis), AR - St. Francis, AR","AR: St. Francis County (05123)","AR: St. Francis County (05123)","05123","  St. Francis  ",{"$f":"ROWS($L$2:L163)","v":162},{"$f":"IF(L163=WORKSHEET!$B$1,I163,\"\")","v":""},"","ARKANSAS","St. Francis County",93,{"$f":"+R163-N163-P163","v":3},15,"N/A",111,3.0345406699707339E-2,7.926829268292683E-2]
[574,null,13,"Independence, AR - Sharp, AR","AR: Stone County (05137)","AR: Stone County (05137)","05137","  Stone  ",{"$f":"ROWS($L$2:L164)","v":163},{"$f":"IF(L164=WORKSHEET!$B$1,I164,\"\")","v":""},"","ARKANSAS","Stone County","*","*",12,"N/A",21,3.0345406699707339E-2,0.28205128205128205]
[486,null,13,"Union, AR - Columbia, AR","AR: Union County (05139)","AR: Union County (05139)","05139","  Union  ",{"$f":"ROWS($L$2:L165)","v":164},{"$f":"IF(L165=WORKSHEET!$B$1,I165,\"\")","v":""},"","ARKANSAS","Union County",120,{"$f":"+R165-N165-P165","v":6},22,"N/A",148,3.0345406699707339E-2,7.1428571428571425E-2]
[432,null,13,"Pulaski (Little Rock), AR - Faulkner, AR","AR: Van Buren County (05141)","AR: Van Buren County (05141)","05141","  Van Buren  ",{"$f":"ROWS($L$2:L166)","v":165},{"$f":"IF(L166=WORKSHEET!$B$1,I166,\"\")","v":""},"","ARKANSAS","Van Buren County","*","*","*","N/A",13,3.0345406699707339E-2,0.23109965635738833]
[446,null,13,"Washington (Fayetteville), AR - Benton, AR","AR: Washington County (05143)","AR: Washington County (05143)","05143","  Washington  ",{"$f":"ROWS($L$2:L167)","v":166},{"$f":"IF(L167=WORKSHEET!$B$1,I167,\"\")","v":""},"","ARKANSAS","Washington County",194,31,99,"*",325,3.0345406699707339E-2,0.15917602996254682]
[457,null,13,"White, AR - Cleburne, AR","AR: White County (05145)","AR: White County (05145)","05145","  White  ",{"$f":"ROWS($L$2:L168)","v":167},{"$f":"IF(L168=WORKSHEET!$B$1,I168,\"\")","v":""},"","ARKANSAS","White County",55,26,34,"N/A",115,3.0345406699707339E-2,0.33884297520661155]
[457,null,13,"White, AR - Cleburne, AR","AR: Woodruff County (05147)","AR: Woodruff County (05147)","05147","  Woodruff  ",{"$f":"ROWS($L$2:L169)","v":168},{"$f":"IF(L169=WORKSHEET!$B$1,I169,\"\")","v":""},"","ARKANSAS","Woodruff County",13,"*",null,"N/A",17,3.0345406699707339E-2,0.33884297520661155]
[442,null,13,"Pope, AR - Yell, AR","AR: Yell County (05149)","AR: Yell County (05149)","05149","  Yell  ",{"$f":"ROWS($L$2:L170)","v":169},{"$f":"IF(L170=WORKSHEET!$B$1,I170,\"\")","v":""},"","ARKANSAS","Yell County",17,"*",null,"N/A",34,3.0345406699707339E-2,0.20430107526881722]
[765,null,15,"Apache, AZ","AZ: Apache County (04001)","AZ: Apache County (04001)","04001","Apache  ",{"$f":"ROWS($L$2:L171)","v":170},{"$f":"IF(L171=WORKSHEET!$B$1,I171,\"\")","v":""},"","ARIZONA","Apache County",199,21,72,"N/A",292,3.5873498773931679E-2,9.0443686006825938E-2]
[700,null,15,"Pima (Tucson), AZ - Cochise, AZ","AZ: Cochise County (04003)","AZ: Cochise County (04003)","04003","  Cochise  ",{"$f":"ROWS($L$2:L172)","v":171},{"$f":"IF(L172=WORKSHEET!$B$1,I172,\"\")","v":""},"","ARIZONA","Cochise County",152,21,68,"N/A",241,3.5873498773931679E-2,9.5135135135135135E-2]
[699,null,15,"Maricopa (Phoenix), AZ - Pinal, AZ","AZ: Coconino County (04005)","AZ: Coconino County (04005)","04005","  Coconino  ",{"$f":"ROWS($L$2:L173)","v":172},{"$f":"IF(L173=WORKSHEET!$B$1,I173,\"\")","v":""},"","ARIZONA","Coconino County",154,18,109,"*",283,3.5873498773931679E-2,9.8691470912817283E-2]
[699,null,15,"Maricopa (Phoenix), AZ - Pinal, AZ","AZ: Gila County (04007)","AZ: Gila County (04007)","04007","  Gila  ",{"$f":"ROWS($L$2:L174)","v":173},{"$f":"IF(L174=WORKSHEET!$B$1,I174,\"\")","v":""},"","ARIZONA","Gila County",127,{"$f":"+R174-N174-P174","v":11},48,"*",186,3.5873498773931679E-2,9.8691470912817283E-2]
[700,null,15,"Pima (Tucson), AZ - Cochise, AZ","AZ: Graham County (04009)","AZ: Graham County (04009)","04009","  Graham  ",{"$f":"ROWS($L$2:L175)","v":174},{"$f":"IF(L175=WORKSHEET!$B$1,I175,\"\")","v":""},"","ARIZONA","Graham County",47,{"$f":"+R175-N175-P175","v":4},23,"N/A",74,3.5873498773931679E-2,9.5135135135135135E-2]
[700,null,15,"Pima (Tucson), AZ - Cochise, AZ","AZ: Greenlee County (04011)","AZ: Greenlee County (04011)","04011","  Greenlee  ",{"$f":"ROWS($L$2:L176)","v":175},{"$f":"IF(L176=WORKSHEET!$B$1,I176,\"\")","v":""},"","ARIZONA","Greenlee County","*","*","*","N/A",18,3.5873498773931679E-2,9.5135135135135135E-2]
[787,null,15,"Yuma, AZ - La Paz, AZ","AZ: La Paz County (04012) - 1994+","AZ: La Paz County (04012) - 1994+","04012","  Lapaz  ",{"$f":"ROWS($L$2:L177)","v":176},{"$f":"IF(L177=WORKSHEET!$B$1,I177,\"\")","v":""},"","ARIZONA","La Paz County",52,{"$f":"+R177-N177-P177","v":0},14,"N/A",66,3.5873498773931679E-2,0.16780045351473924]
[699,null,15,"Maricopa (Phoenix), AZ - Pinal, AZ","AZ: Maricopa County (04013)","AZ: Maricopa County (04013)","04013","  Maricopa  ",{"$f":"ROWS($L$2:L178)","v":177},{"$f":"IF(L178=WORKSHEET!$B$1,I178,\"\")","v":""},"","ARIZONA","Maricopa County",4609,497,2687,31,7824,3.5873498773931679E-2,9.8691470912817283E-2]
[803,null,15,"Mohave, AZ","AZ: Mohave County (04015)","AZ: Mohave County (04015)","04015","  Mohave  ",{"$f":"ROWS($L$2:L179)","v":178},{"$f":"IF(L179=WORKSHEET!$B$1,I179,\"\")","v":""},"","ARIZONA","Mohave County",282,27,116,"*",429,3.5873498773931679E-2,8.7378640776699032E-2]
[740,null,15,"Navajo, AZ","AZ: Navajo County (04017)","AZ: Navajo County (04017)","04017","  Navajo  ",{"$f":"ROWS($L$2:L180)","v":179},{"$f":"IF(L180=WORKSHEET!$B$1,I180,\"\")","v":""},"","ARIZONA","Navajo County",274,31,130,"*",437,3.5873498773931679E-2,0.11010362694300518]
[700,null,15,"Pima (Tucson), AZ - Cochise, AZ","AZ: Pima County (04019)","AZ: Pima County (04019)","04019","  Pima  ",{"$f":"ROWS($L$2:L181)","v":180},{"$f":"IF(L181=WORKSHEET!$B$1,I181,\"\")","v":""},"","ARIZONA","Pima County",1364,142,692,11,2209,3.5873498773931679E-2,9.5135135135135135E-2]
[699,null,15,"Maricopa (Phoenix), AZ - Pinal, AZ","AZ: Pinal County (04021)","AZ: Pinal County (04021)","04021","  Pinal  ",{"$f":"ROWS($L$2:L182)","v":181},{"$f":"IF(L182=WORKSHEET!$B$1,I182,\"\")","v":""},"","ARIZONA","Pinal County",666,73,228,"*",968,3.5873498773931679E-2,9.8691470912817283E-2]
[700,null,15,"Pima (Tucson), AZ - Cochise, AZ","AZ: Santa Cruz County (04023)","AZ: Santa Cruz County (04023)","04023","  Santa Cruz  ",{"$f":"ROWS($L$2:L183)","v":182},{"$f":"IF(L183=WORKSHEET!$B$1,I183,\"\")","v":""},"","ARIZONA","Santa Cruz County",102,{"$f":"+R183-N183-P183","v":7},35,"N/A",144,3.5873498773931679E-2,9.5135135135135135E-2]
[699,null,15,"Maricopa (Phoenix), AZ - Pinal, AZ","AZ: Yavapai County (04025)","AZ: Yavapai County (04025)","04025","  Yavapai  ",{"$f":"ROWS($L$2:L184)","v":183},{"$f":"IF(L184=WORKSHEET!$B$1,I184,\"\")","v":""},"","ARIZONA","Yavapai County",161,28,153,"*",344,3.5873498773931679E-2,9.8691470912817283E-2]
[787,null,15,"Yuma, AZ - La Paz, AZ","AZ: Yuma County (04027) - 1994+","AZ: Yuma County (04027) - 1994+","04027","  Yuma  ",{"$f":"ROWS($L$2:L185)","v":184},{"$f":"IF(L185=WORKSHEET!$B$1,I185,\"\")","v":""},"","ARIZONA","Yuma County",315,74,97,"*",490,3.5873498773931679E-2,0.16780045351473924]
[766,null,17,"Alameda (Oakland), CA - Contra Costa, CA","CA: Alameda County (06001)","CA: Alameda County (06001)","06001","Alameda  ",{"$f":"ROWS($L$2:L186)","v":185},{"$f":"IF(L186=WORKSHEET!$B$1,I186,\"\")","v":""},"","CALIFORNIA","Alameda County",2293,403,1167,"*",3871,3.1728415956437557E-2,0.13740112994350281]
[701,null,17,"Alpine, CA","CA: Alpine County (06003)","CA: Alpine County (06003)","06003","  Alpine  ",{"$f":"ROWS($L$2:L187)","v":186},{"$f":"IF(L187=WORKSHEET!$B$1,I187,\"\")","v":""},"","CALIFORNIA","Alpine County","*","N/A","*","N/A","*",3.1728415956437557E-2,0.11040609137055837]
[750,null,17,"San Joaquin (Stockton), CA - Calaveras, CA","CA: Amador County (06005)","CA: Amador County (06005)","06005","  Amador  ",{"$f":"ROWS($L$2:L188)","v":187},{"$f":"IF(L188=WORKSHEET!$B$1,I188,\"\")","v":""},"","CALIFORNIA","Amador County",16,{"$f":"+R188-N188-P188","v":5},18,"N/A",39,3.1728415956437557E-2,0.12013422818791947]
[697,null,17,"Butte (Chico), CA - Tehama, CA","CA: Butte County (06007)","CA: Butte County (06007)","06007","  Butte  ",{"$f":"ROWS($L$2:L189)","v":188},{"$f":"IF(L189=WORKSHEET!$B$1,I189,\"\")","v":""},"","CALIFORNIA","Butte County",250,29,115,"*",397,3.1728415956437557E-2,0.10209424083769633]
[750,null,17,"San Joaquin (Stockton), CA - Calaveras, CA","CA: Calaveras County (06009)","CA: Calaveras County (06009)","06009","  Calaveras  ",{"$f":"ROWS($L$2:L190)","v":189},{"$f":"IF(L190=WORKSHEET!$B$1,I190,\"\")","v":""},"","CALIFORNIA","Calaveras County",36,13,26,"N/A",75,3.1728415956437557E-2,0.12013422818791947]
[690,null,17,"Sutter (Yuba City), CA - Yuba, CA","CA: Colusa County (06011)","CA: Colusa County (06011)","06011","  Colusa  ",{"$f":"ROWS($L$2:L191)","v":190},{"$f":"IF(L191=WORKSHEET!$B$1,I191,\"\")","v":""},"","CALIFORNIA","Colusa County",35,"*","*","N/A",48,3.1728415956437557E-2,8.6505190311418678E-2]
[766,null,17,"Alameda (Oakland), CA - Contra Costa, CA","CA: Contra Costa County (06013)","CA: Contra Costa County (06013)","06013","  Contra Costa  ",{"$f":"ROWS($L$2:L192)","v":191},{"$f":"IF(L192=WORKSHEET!$B$1,I192,\"\")","v":""},"","CALIFORNIA","Contra Costa County",1524,205,822,"*",2558,3.1728415956437557E-2,0.13740112994350281]
[738,null,17,"Del Norte, CA","CA: Del Norte County (06015)","CA: Del Norte County (06015)","06015","  Del Norte  ",{"$f":"ROWS($L$2:L193)","v":192},{"$f":"IF(L193=WORKSHEET!$B$1,I193,\"\")","v":""},"","CALIFORNIA","Del Norte County",21,{"$f":"+R193-N193-P193","v":4},12,"N/A",37,3.1728415956437557E-2,0.10144927536231885]
[709,null,17,"Sacramento (Sacramento), CA - Placer, CA","CA: El Dorado County (06017)","CA: El Dorado County (06017)","06017","  El Dorado  ",{"$f":"ROWS($L$2:L194)","v":193},{"$f":"IF(L194=WORKSHEET!$B$1,I194,\"\")","v":""},"","CALIFORNIA","El Dorado County",137,13,94,"*",246,3.1728415956437557E-2,9.7178683385579931E-2]
[718,null,17,"Fresno (Fresno), CA - Kings, CA","CA: Fresno County (06019)","CA: Fresno County (06019)","06019","  Fresno  ",{"$f":"ROWS($L$2:L195)","v":194},{"$f":"IF(L195=WORKSHEET!$B$1,I195,\"\")","v":""},{"$f":"IFERROR(SMALL($J$2:$J$3142,I195),\"\")","v":""},"CALIFORNIA","Fresno County",1500,262,635,"*",2405,3.1728415956437557E-2,0.15083553210202286]
[697,null,17,"Butte (Chico), CA - Tehama, CA","CA: Glenn County (06021)","CA: Glenn County (06021)","06021","  Glenn  ",{"$f":"ROWS($L$2:L196)","v":195},{"$f":"IF(L196=WORKSHEET!$B$1,I196,\"\")","v":""},"","CALIFORNIA","Glenn County",40,{"$f":"+R196-N196-P196","v":4},22,"N/A",66,3.1728415956437557E-2,0.10209424083769633]
[800,null,17,"Humboldt, CA","CA: Humboldt County (06023)","CA: Humboldt County (06023)","06023","  Humboldt  ",{"$f":"ROWS($L$2:L197)","v":196},{"$f":"IF(L197=WORKSHEET!$B$1,I197,\"\")","v":""},"","CALIFORNIA","Humboldt County",94,{"$f":"+R197-N197-P197","v":7},94,"N/A",195,3.1728415956437557E-2,6.9306930693069313E-2]
[774,null,18,"San Diego (San Diego), CA - Imperial, CA","CA: Imperial County (06025)","CA: Imperial County (06025)","06025","  Imperial  ",{"$f":"ROWS($L$2:L198)","v":197},{"$f":"IF(L198=WORKSHEET!$B$1,I198,\"\")","v":""},"","CALIFORNIA","Imperial County",501,40,142,"N/A",683,4.2870099690305571E-2,0.12220508866615266]
[816,null,18,"Inyo, CA - Mono, CA","CA: Inyo County (06027)","CA: Inyo County (06027)","06027","  Inyo  ",{"$f":"ROWS($L$2:L199)","v":198},{"$f":"IF(L199=WORKSHEET!$B$1,I199,\"\")","v":""},"","CALIFORNIA","Inyo County",21,"*","*","N/A",32,4.2870099690305571E-2,0.15151515151515152]
[807,null,18,"Kern, CA","CA: Kern County (06029)","CA: Kern County (06029)","06029","  Kern  ",{"$f":"ROWS($L$2:L200)","v":199},{"$f":"IF(L200=WORKSHEET!$B$1,I200,\"\")","v":""},"","CALIFORNIA","Kern County",1278,199,413,"*",1893,4.2870099690305571E-2,0.13473256601218686]
[718,null,18,"Fresno (Fresno), CA - Kings, CA","CA: Kings County (06031)","CA: Kings County (06031)","06031","  Kings  ",{"$f":"ROWS($L$2:L201)","v":200},{"$f":"IF(L201=WORKSHEET!$B$1,I201,\"\")","v":""},"","CALIFORNIA","Kings County",250,45,69,"*",365,4.2870099690305571E-2,0.15083553210202286]
[746,null,17,"Solano (Vallejo), CA - Napa, CA","CA: Lake County (06033)","CA: Lake County (06033)","06033","  Lake  ",{"$f":"ROWS($L$2:L202)","v":201},{"$f":"IF(L202=WORKSHEET!$B$1,I202,\"\")","v":""},"","CALIFORNIA","Lake County",110,{"$f":"+R202-N202-P202","v":10},34,"*",154,3.1728415956437557E-2,0.12028869286287089]
[780,null,18,"Lassen, CA - Plumas, CA","CA: Lassen County (06035)","CA: Lassen County (06035)","06035","  Lassen  ",{"$f":"ROWS($L$2:L203)","v":202},{"$f":"IF(L203=WORKSHEET!$B$1,I203,\"\")","v":""},"","CALIFORNIA","Lassen County",17,"*","*","N/A",32,4.2870099690305571E-2,0.23684210526315788]
[723,null,17,"Los Angeles (Los Angeles), CA","CA: Los Angeles County (06037)","CA: Los Angeles County (06037)","06037","  Los Angeles  ",{"$f":"ROWS($L$2:L204)","v":203},{"$f":"IF(L204=WORKSHEET!$B$1,I204,\"\")","v":""},"","CALIFORNIA","Los Angeles County",19591,1823,6518,39,27971,3.1728415956437557E-2,8.4229597933772798E-2]
[718,null,17,"Fresno (Fresno), CA - Kings, CA","CA: Madera County (06039)","CA: Madera County (06039)","06039","  Madera  ",{"$f":"ROWS($L$2:L205)","v":204},{"$f":"IF(L205=WORKSHEET!$B$1,I205,\"\")","v":""},"","CALIFORNIA","Madera County",181,36,89,"*",307,3.1728415956437557E-2,0.15083553210202286]
[764,null,17,"Marin, CA","CA: Marin County (06041)","CA: Marin County (06041)","06041","  Marin  ",{"$f":"ROWS($L$2:L206)","v":205},{"$f":"IF(L206=WORKSHEET!$B$1,I206,\"\")","v":""},"","CALIFORNIA","Marin County",177,13,156,"*",347,3.1728415956437557E-2,0.13229018492176386]
[737,null,17,"Stanislaus (Modesto), CA - Merced, CA","CA: Mariposa County (06043)","CA: Mariposa County (06043)","06043","  Mariposa  ",{"$f":"ROWS($L$2:L207)","v":206},{"$f":"IF(L207=WORKSHEET!$B$1,I207,\"\")","v":""},"","CALIFORNIA","Mariposa County","*","*","*","*",19,3.1728415956437557E-2,0.12103929024081116]
[811,null,17,"Mendocino, CA","CA: Mendocino County (06045)","CA: Mendocino County (06045)","06045","  Mendocino  ",{"$f":"ROWS($L$2:L208)","v":207},{"$f":"IF(L208=WORKSHEET!$B$1,I208,\"\")","v":""},"","CALIFORNIA","Mendocino County",109,17,50,"N/A",176,3.1728415956437557E-2,0.13492063492063491]
[737,null,17,"Stanislaus (Modesto), CA - Merced, CA","CA: Merced County (06047)","CA: Merced County (06047)","06047","  Merced  ",{"$f":"ROWS($L$2:L209)","v":208},{"$f":"IF(L209=WORKSHEET!$B$1,I209,\"\")","v":""},"","CALIFORNIA","Merced County",454,56,164,"N/A",674,3.1728415956437557E-2,0.12103929024081116]
[710,null,17,"Shasta (Redding), CA - Trinity, CA","CA: Modoc County (06049)","CA: Modoc County (06049)","06049","  Modoc  ",{"$f":"ROWS($L$2:L210)","v":209},{"$f":"IF(L210=WORKSHEET!$B$1,I210,\"\")","v":""},"","CALIFORNIA","Modoc County","*","*","*","N/A","*",3.1728415956437557E-2,0.14285714285714285]
[816,null,17,"Inyo, CA - Mono, CA","CA: Mono County (06051)","CA: Mono County (06051)","06051","  Mono  ",{"$f":"ROWS($L$2:L211)","v":210},{"$f":"IF(L211=WORKSHEET!$B$1,I211,\"\")","v":""},"","CALIFORNIA","Mono County","*","*","*","*",17,3.1728415956437557E-2,0.15151515151515152]
[751,null,17,"Santa Clara (San Jose), CA - Monterey, CA","CA: Monterey County (06053)","CA: Monterey County (06053)","06053","  Monterey  ",{"$f":"ROWS($L$2:L212)","v":211},{"$f":"IF(L212=WORKSHEET!$B$1,I212,\"\")","v":""},"","CALIFORNIA","Monterey County",566,63,277,"*",907,3.1728415956437557E-2,0.16297786720321933]
[746,null,17,"Solano (Vallejo), CA - Napa, CA","CA: Napa County (06055)","CA: Napa County (06055)","06055","  Napa  ",{"$f":"ROWS($L$2:L213)","v":212},{"$f":"IF(L213=WORKSHEET!$B$1,I213,\"\")","v":""},"","CALIFORNIA","Napa County",157,19,96,"*",273,3.1728415956437557E-2,0.12028869286287089]
[753,null,17,"Nevada, CA - Sierra, CA","CA: Nevada County (06057)","CA: Nevada County (06057)","06057","  Nevada  ",{"$f":"ROWS($L$2:L214)","v":213},{"$f":"IF(L214=WORKSHEET!$B$1,I214,\"\")","v":""},"","CALIFORNIA","Nevada County",65,{"$f":"+R214-N214-P214","v":7},54,"N/A",126,3.1728415956437557E-2,0.10666666666666667]
[833,723,18,"Orange, CA","CA: Orange County (06059)","CA: Orange County (06059)","06059","  Orange  ",{"$f":"ROWS($L$2:L215)","v":214},{"$f":"IF(L215=WORKSHEET!$B$1,I215,\"\")","v":""},"","CALIFORNIA","Orange County",4165,362,1747,"*",6283,4.2870099690305571E-2,8.4229597933772798E-2]
[709,null,17,"Sacramento (Sacramento), CA - Placer, CA","CA: Placer County (06061)","CA: Placer County (06061)","06061","  Placer  ",{"$f":"ROWS($L$2:L216)","v":215},{"$f":"IF(L216=WORKSHEET!$B$1,I216,\"\")","v":""},"","CALIFORNIA","Placer County",310,50,209,"*",571,3.1728415956437557E-2,9.7178683385579931E-2]
[780,null,17,"Lassen, CA - Plumas, CA","CA: Plumas County (06063)","CA: Plumas County (06063)","06063","  Plumas  ",{"$f":"ROWS($L$2:L217)","v":216},{"$f":"IF(L217=WORKSHEET!$B$1,I217,\"\")","v":""},"","CALIFORNIA","Plumas County",12,{"$f":"+R217-N217-P217","v":4},12,"N/A",28,3.1728415956437557E-2,0.23684210526315788]
[768,null,18,"San Bernardino, CA - Riverside (Riverside), CA","CA: Riverside County (06065)","CA: Riverside County (06065)","06065","  Riverside  ",{"$f":"ROWS($L$2:L218)","v":217},{"$f":"IF(L218=WORKSHEET!$B$1,I218,\"\")","v":""},"","CALIFORNIA","Riverside County",3359,571,1148,"*",5080,4.2870099690305571E-2,0.13886847905951505]
[709,null,17,"Sacramento (Sacramento), CA - Placer, CA","CA: Sacramento County (06067)","CA: Sacramento County (06067)","06067","  Sacramento  ",{"$f":"ROWS($L$2:L219)","v":218},{"$f":"IF(L219=WORKSHEET!$B$1,I219,\"\")","v":""},"","CALIFORNIA","Sacramento County",2514,254,1183,11,3962,3.1728415956437557E-2,9.7178683385579931E-2]
[751,null,17,"Santa Clara (San Jose), CA - Monterey, CA","CA: San Benito County (06069)","CA: San Benito County (06069)","06069","  San Benito  ",{"$f":"ROWS($L$2:L220)","v":219},{"$f":"IF(L220=WORKSHEET!$B$1,I220,\"\")","v":""},"","CALIFORNIA","San Benito County",61,13,31,"N/A",105,3.1728415956437557E-2,0.16297786720321933]
[768,null,18,"San Bernardino, CA - Riverside (Riverside), CA","CA: San Bernardino County (06071)","CA: San Bernardino County (06071)","06071","  San Bernardino  ",{"$f":"ROWS($L$2:L221)","v":220},{"$f":"IF(L221=WORKSHEET!$B$1,I221,\"\")","v":""},"","CALIFORNIA","San Bernardino County",3673,563,1118,"*",5363,4.2870099690305571E-2,0.13886847905951505]
[774,null,18,"San Diego (San Diego), CA - Imperial, CA","CA: San Diego County (06073)","CA: San Diego County (06073)","06073","  San Diego  ",{"$f":"ROWS($L$2:L222)","v":221},{"$f":"IF(L222=WORKSHEET!$B$1,I222,\"\")","v":""},"","CALIFORNIA","San Diego County",4053,594,1897,13,6557,4.2870099690305571E-2,0.12220508866615266]
[757,null,17,"San Francisco (San Francisco), CA - San Mateo, CA","CA: San Francisco County (06075)","CA: San Francisco County (06075)","06075","  San Francisco  ",{"$f":"ROWS($L$2:L223)","v":222},{"$f":"IF(L223=WORKSHEET!$B$1,I223,\"\")","v":""},"","CALIFORNIA","San Francisco County",1223,151,673,"*",2050,3.1728415956437557E-2,0.11962470680218922]
[750,null,17,"San Joaquin (Stockton), CA - Calaveras, CA","CA: San Joaquin County (06077)","CA: San Joaquin County (06077)","06077","  San Joaquin  ",{"$f":"ROWS($L$2:L224)","v":223},{"$f":"IF(L224=WORKSHEET!$B$1,I224,\"\")","v":""},"","CALIFORNIA","San Joaquin County",1259,161,500,"*",1930,3.1728415956437557E-2,0.12013422818791947]
[781,null,18,"Santa Barbara (Santa Barbara), CA - San Luis Obispo, CA","CA: San Luis Obispo County (06079)","CA: San Luis Obispo County (06079)","06079","  San Luis Obispo  ",{"$f":"ROWS($L$2:L225)","v":224},{"$f":"IF(L225=WORKSHEET!$B$1,I225,\"\")","v":""},"","CALIFORNIA","San Luis Obispo County",187,61,133,"N/A",381,4.2870099690305571E-2,0.17516339869281045]
[757,null,17,"San Francisco (San Francisco), CA - San Mateo, CA","CA: San Mateo County (06081)","CA: San Mateo County (06081)","06081","  San Mateo  ",{"$f":"ROWS($L$2:L226)","v":225},{"$f":"IF(L226=WORKSHEET!$B$1,I226,\"\")","v":""},"","CALIFORNIA","San Mateo County",1029,155,538,"*",1723,3.1728415956437557E-2,0.11962470680218922]
[781,null,18,"Santa Barbara (Santa Barbara), CA - San Luis Obispo, CA","CA: Santa Barbara County (06083)","CA: Santa Barbara County (06083)","06083","  Santa Barbara  ",{"$f":"ROWS($L$2:L227)","v":226},{"$f":"IF(L227=WORKSHEET!$B$1,I227,\"\")","v":""},"","CALIFORNIA","Santa Barbara County",444,73,244,"*",762,4.2870099690305571E-2,0.17516339869281045]
[751,null,17,"Santa Clara (San Jose), CA - Monterey, CA","CA: Santa Clara County (06085)","CA: Santa Clara County (06085)","06085","  Santa Clara  ",{"$f":"ROWS($L$2:L228)","v":227},{"$f":"IF(L228=WORKSHEET!$B$1,I228,\"\")","v":""},"","CALIFORNIA","Santa Clara County",2285,491,1339,"*",4120,3.1728415956437557E-2,0.162977867203219]
[802,null,17,"Santa Cruz, CA","CA: Santa Cruz County (06087)","CA: Santa Cruz County (06087)","06087","  Santa Cruz  ",{"$f":"ROWS($L$2:L229)","v":228},{"$f":"IF(L229=WORKSHEET!$B$1,I229,\"\")","v":""},"","CALIFORNIA","Santa Cruz County",241,50,183,"*",475,3.1728415956437557E-2,0.1718213058419244]
[710,null,17,"Shasta (Redding), CA - Trinity, CA","CA: Shasta County (06089)","CA: Shasta County (06089)","06089","  Shasta  ",{"$f":"ROWS($L$2:L230)","v":229},{"$f":"IF(L230=WORKSHEET!$B$1,I230,\"\")","v":""},"","CALIFORNIA","Shasta County",165,24,110,"*",301,3.1728415956437557E-2,0.14285714285714285]
[753,null,17,"Nevada, CA - Sierra, CA","CA: Sierra County (06091)","CA: Sierra County (06091)","06091","  Sierra  ",{"$f":"ROWS($L$2:L231)","v":230},{"$f":"IF(L231=WORKSHEET!$B$1,I231,\"\")","v":""},"","CALIFORNIA","Sierra County","*","*","N/A","N/A","*",3.1728415956437557E-2,0.10666666666666667]
[752,null,17,"Siskiyou, CA","CA: Siskiyou County (06093)","CA: Siskiyou County (06093)","06093","  Siskiyou  ",{"$f":"ROWS($L$2:L232)","v":231},{"$f":"IF(L232=WORKSHEET!$B$1,I232,\"\")","v":""},"","CALIFORNIA","Siskiyou County",27,10,21,"N/A",58,3.1728415956437557E-2,0.11343283582089553]
[746,null,17,"Solano (Vallejo), CA - Napa, CA","CA: Solano County (06095)","CA: Solano County (06095)","06095","  Solano  ",{"$f":"ROWS($L$2:L233)","v":232},{"$f":"IF(L233=WORKSHEET!$B$1,I233,\"\")","v":""},"","CALIFORNIA","Solano County",830,122,422,"*",1377,3.1728415956437557E-2,0.12028869286287089]
[834,763,17,"Sonoma (Santa Rosa), CA","CA: Sonoma County (06097)","CA: Sonoma County (06097)","06097","  Sonoma  ",{"$f":"ROWS($L$2:L234)","v":233},{"$f":"IF(L234=WORKSHEET!$B$1,I234,\"\")","v":""},"","CALIFORNIA","Sonoma County",433,80,313,"*",828,3.1728415956437557E-2,0.10714285714285714]
[737,null,17,"Stanislaus (Modesto), CA - Merced, CA","CA: Stanislaus County (06099)","CA: Stanislaus County (06099)","06099","  Stanislaus  ",{"$f":"ROWS($L$2:L235)","v":234},{"$f":"IF(L235=WORKSHEET!$B$1,I235,\"\")","v":""},"","CALIFORNIA","Stanislaus County",873,125,433,"*",1437,3.1728415956437557E-2,0.12103929024081116]
[690,null,17,"Sutter (Yuba City), CA - Yuba, CA","CA: Sutter County (06101)","CA: Sutter County (06101)","06101","  Sutter  ",{"$f":"ROWS($L$2:L236)","v":235},{"$f":"IF(L236=WORKSHEET!$B$1,I236,\"\")","v":""},"","CALIFORNIA","Sutter County",137,{"$f":"+R236-N236-P236","v":7},64,"N/A",208,3.1728415956437557E-2,8.6505190311418678E-2]
[697,null,17,"Butte (Chico), CA - Tehama, CA","CA: Tehama County (06103)","CA: Tehama County (06103)","06103","  Tehama  ",{"$f":"ROWS($L$2:L237)","v":236},{"$f":"IF(L237=WORKSHEET!$B$1,I237,\"\")","v":""},"","CALIFORNIA","Tehama County",53,{"$f":"+R237-N237-P237","v":7},21,"*",81,3.1728415956437557E-2,0.10209424083769633]
[710,null,17,"Shasta (Redding), CA - Trinity, CA","CA: Trinity County (06105)","CA: Trinity County (06105)","06105","  Trinity  ",{"$f":"ROWS($L$2:L238)","v":237},{"$f":"IF(L238=WORKSHEET!$B$1,I238,\"\")","v":""},"","CALIFORNIA","Trinity County","*","*","*","N/A",19,3.1728415956437557E-2,0.14285714285714285]
[789,null,18,"Tulare, CA","CA: Tulare County (06107)","CA: Tulare County (06107)","06107","  Tulare  ",{"$f":"ROWS($L$2:L239)","v":238},{"$f":"IF(L239=WORKSHEET!$B$1,I239,\"\")","v":""},"","CALIFORNIA","Tulare County",733,137,229,"*",1102,4.2870099690305571E-2,0.15747126436781608]
[737,null,17,"Stanislaus (Modesto), CA - Merced, CA","CA: Tuolumne County (06109)","CA: Tuolumne County (06109)","06109","  Tuolumne  ",{"$f":"ROWS($L$2:L240)","v":239},{"$f":"IF(L240=WORKSHEET!$B$1,I240,\"\")","v":""},"","CALIFORNIA","Tuolumne County",52,{"$f":"+R240-N240-P240","v":6},19,"N/A",77,3.1728415956437557E-2,0.12103929024081116]
[790,null,18,"Ventura, CA","CA: Ventura County (06111)","CA: Ventura County (06111)","06111","  Ventura  ",{"$f":"ROWS($L$2:L241)","v":240},{"$f":"IF(L241=WORKSHEET!$B$1,I241,\"\")","v":""},"","CALIFORNIA","Ventura County",1045,103,499,"*",1648,4.2870099690305571E-2,8.9721254355400695E-2]
[709,null,17,"Sacramento (Sacramento), CA - Placer, CA","CA: Yolo County (06113)","CA: Yolo County (06113)","06113","  Yolo  ",{"$f":"ROWS($L$2:L242)","v":241},{"$f":"IF(L242=WORKSHEET!$B$1,I242,\"\")","v":""},"","CALIFORNIA","Yolo County",207,24,116,"*",348,3.1728415956437557E-2,9.7178683385579931E-2]
[690,null,17,"Sutter (Yuba City), CA - Yuba, CA","CA: Yuba County (06115)","CA: Yuba County (06115)","06115","  Yuba  ",{"$f":"ROWS($L$2:L243)","v":242},{"$f":"IF(L243=WORKSHEET!$B$1,I243,\"\")","v":""},"","CALIFORNIA","Yuba County",92,12,39,"*",144,3.1728415956437557E-2,8.6505190311418678E-2]
[688,null,15,"Denver (Denver), CO - Jefferson, CO","CO: Adams County (08001) - 2002+","CO: Adams County (08001) - 2002+","08001","Adams  ",{"$f":"ROWS($L$2:L244)","v":243},{"$f":"IF(L244=WORKSHEET!$B$1,I244,\"\")","v":""},"","COLORADO","Adams County",458,69,300,"*",833,3.5873498773931679E-2,0.11802232854864433]
[731,null,15,"Alamosa, CO - Rio Grande, CO","CO: Alamosa County (08003)","CO: Alamosa County (08003)","08003","  Alamosa  ",{"$f":"ROWS($L$2:L245)","v":244},{"$f":"IF(L245=WORKSHEET!$B$1,I245,\"\")","v":""},"","COLORADO","Alamosa County",21,"*","*","N/A",34,3.5873498773931679E-2,0.16176470588235295]
[688,null,15,"Denver (Denver), CO - Jefferson, CO","CO: Arapahoe County (08005)","CO: Arapahoe County (08005)","08005","  Arapahoe  ",{"$f":"ROWS($L$2:L246)","v":245},{"$f":"IF(L246=WORKSHEET!$B$1,I246,\"\")","v":""},"","COLORADO","Arapahoe County",492,72,397,"*",966,3.5873498773931679E-2,0.11802232854864433]
[985,740,15,"La Plata, CO - Montezuma, CO","CO: Archuleta County (08007)","CO: Archuleta County (08007)","08007","  Archuleta  ",{"$f":"ROWS($L$2:L247)","v":246},{"$f":"IF(L247=WORKSHEET!$B$1,I247,\"\")","v":""},"","COLORADO","Archuleta County","*","*","*","N/A","*",3.5873498773931679E-2,0.110103626943005]
[562,null,15,"Baca, CO","CO: Baca County (08009)","CO: Baca County (08009)","08009","  Baca  ",{"$f":"ROWS($L$2:L248)","v":247},{"$f":"IF(L248=WORKSHEET!$B$1,I248,\"\")","v":""},"","COLORADO","Baca County","*","*","*","N/A","*",3.5873498773931679E-2,0.2857142857142857]
[745,null,15,"Otero, CO - Prowers, CO","CO: Bent County (08011)","CO: Bent County (08011)","08011","  Bent  ",{"$f":"ROWS($L$2:L249)","v":248},{"$f":"IF(L249=WORKSHEET!$B$1,I249,\"\")","v":""},"","COLORADO","Bent County","*","*","*","N/A","*",3.5873498773931679E-2,8.5714285714285715E-2]
[795,null,15,"Boulder, CO - Broomfield, CO","CO: Boulder County (08013) - 2002+","CO: Boulder County (08013) - 2002+","08013","  Boulder  ",{"$f":"ROWS($L$2:L250)","v":249},{"$f":"IF(L250=WORKSHEET!$B$1,I250,\"\")","v":""},"","COLORADO","Boulder County",152,25,155,"*",334,3.5873498773931679E-2,0.15492957746478872]
[795,null,15,"Boulder, CO - Broomfield, CO","CO: Broomfield County (08014) - 2002+","CO: Broomfield County (08014) - 2002+","08014","  Broomfield  ",{"$f":"ROWS($L$2:L251)","v":250},{"$f":"IF(L251=WORKSHEET!$B$1,I251,\"\")","v":""},"","COLORADO","Broomfield County",28,{"$f":"+R251-N251-P251","v":8},54,"N/A",90,3.5873498773931679E-2,0.15492957746478872]
[786,null,15,"Chaffee, CO - Lake, CO","CO: Chaffee County (08015)","CO: Chaffee County (08015)","08015","  Chaffee  ",{"$f":"ROWS($L$2:L252)","v":251},{"$f":"IF(L252=WORKSHEET!$B$1,I252,\"\")","v":""},"","COLORADO","Chaffee County","*","*","*","N/A",15,3.5873498773931679E-2,9.0909090909090912E-2]
[754,null,15,"El Paso (Colorado Springs), CO - Teller, CO","CO: Cheyenne County (08017)","CO: Cheyenne County (08017)","08017","  Cheyenne  ",{"$f":"ROWS($L$2:L253)","v":252},{"$f":"IF(L253=WORKSHEET!$B$1,I253,\"\")","v":""},"","COLORADO","Cheyenne County","*","N/A","*","N/A","*",3.5873498773931679E-2,0.15340909090909091]
[688,null,15,"Denver (Denver), CO - Jefferson, CO","CO: Clear Creek County (08019)","CO: Clear Creek County (08019)","08019","  Clear Creek  ",{"$f":"ROWS($L$2:L254)","v":253},{"$f":"IF(L254=WORKSHEET!$B$1,I254,\"\")","v":""},"","COLORADO","Clear Creek County","*","*","*","N/A","*",3.5873498773931679E-2,0.11802232854864433]
[731,null,15,"Alamosa, CO - Rio Grande, CO","CO: Conejos County (08021)","CO: Conejos County (08021)","08021","  Conejos  ",{"$f":"ROWS($L$2:L255)","v":254},{"$f":"IF(L255=WORKSHEET!$B$1,I255,\"\")","v":""},"","COLORADO","Conejos County",14,"*","*","N/A",18,3.5873498773931679E-2,0.16176470588235295]
[731,null,15,"Alamosa, CO - Rio Grande, CO","CO: Costilla County (08023)","CO: Costilla County (08023)","08023","  Costilla  ",{"$f":"ROWS($L$2:L256)","v":255},{"$f":"IF(L256=WORKSHEET!$B$1,I256,\"\")","v":""},"","COLORADO","Costilla County","*","*","*","N/A","*",3.5873498773931679E-2,0.16176470588235295]
[745,null,15,"Otero, CO - Prowers, CO","CO: Crowley County (08025)","CO: Crowley County (08025)","08025","  Crowley  ",{"$f":"ROWS($L$2:L257)","v":256},{"$f":"IF(L257=WORKSHEET!$B$1,I257,\"\")","v":""},"","COLORADO","Crowley County","*","N/A","*","N/A",11,3.5873498773931679E-2,8.5714285714285715E-2]
[812,null,15,"Fremont, CO - Custer, CO","CO: Custer County (08027)","CO: Custer County (08027)","08027","  Custer  ",{"$f":"ROWS($L$2:L258)","v":257},{"$f":"IF(L258=WORKSHEET!$B$1,I258,\"\")","v":""},"","COLORADO","Custer County","*","*","*","N/A","*",3.5873498773931679E-2,0.21153846153846154]
[761,null,15,"Montrose, CO - Delta, CO","CO: Delta County (08029)","CO: Delta County (08029)","08029","  Delta  ",{"$f":"ROWS($L$2:L259)","v":258},{"$f":"IF(L259=WORKSHEET!$B$1,I259,\"\")","v":""},{"$f":"IFERROR(SMALL($J$2:$J$3142,I259),\"\")","v":""},"COLORADO","Delta County",22,{"$f":"+R259-N259-P259","v":6},14,"*",42,3.5873498773931679E-2,0.14634146341463414]
[688,null,15,"Denver (Denver), CO - Jefferson, CO","CO: Denver County (08031)","CO: Denver County (08031)","08031","  Denver  ",{"$f":"ROWS($L$2:L260)","v":259},{"$f":"IF(L260=WORKSHEET!$B$1,I260,\"\")","v":""},"","COLORADO","Denver County",745,49,423,"*",1220,3.5873498773931679E-2,0.11802232854864433]
[985,740,15,"La Plata, CO - Montezuma, CO","CO: Dolores County (08033)","CO: Dolores County (08033)","08033","  Dolores  ",{"$f":"ROWS($L$2:L261)","v":260},{"$f":"IF(L261=WORKSHEET!$B$1,I261,\"\")","v":""},"","COLORADO","Dolores County","*","*","*","N/A","*",3.5873498773931679E-2,0.11010362694300518]
[688,null,15,"Denver (Denver), CO - Jefferson, CO","CO: Douglas County (08035)","CO: Douglas County (08035)","08035","  Douglas  ",{"$f":"ROWS($L$2:L262)","v":261},{"$f":"IF(L262=WORKSHEET!$B$1,I262,\"\")","v":""},"","COLORADO","Douglas County",86,25,111,"N/A",222,3.5873498773931679E-2,0.11802232854864433]
[711,null,15,"Mesa, CO - Garfield, CO","CO: Eagle County (08037)","CO: Eagle County (08037)","08037","  Eagle  ",{"$f":"ROWS($L$2:L263)","v":262},{"$f":"IF(L263=WORKSHEET!$B$1,I263,\"\")","v":""},"","COLORADO","Eagle County","*","*",13,"N/A",19,3.5873498773931679E-2,0.24675324675324675]
[754,null,15,"El Paso (Colorado Springs), CO - Teller, CO","CO: El Paso County (08041)","CO: El Paso County (08041)","08041","  El Paso  ",{"$f":"ROWS($L$2:L264)","v":263},{"$f":"IF(L264=WORKSHEET!$B$1,I264,\"\")","v":""},"","COLORADO","El Paso County",439,75,291,"*",808,3.5873498773931679E-2,0.15340909090909091]
[688,null,15,"Denver (Denver), CO - Jefferson, CO","CO: Elbert County (08039)","CO: Elbert County (08039)","08039","  Elbert  ",{"$f":"ROWS($L$2:L265)","v":264},{"$f":"IF(L265=WORKSHEET!$B$1,I265,\"\")","v":""},"","COLORADO","Elbert County","*","*","*","N/A",16,3.5873498773931679E-2,0.11802232854864433]
[812,null,15,"Fremont, CO - Custer, CO","CO: Fremont County (08043)","CO: Fremont County (08043)","08043","  Fremont  ",{"$f":"ROWS($L$2:L266)","v":265},{"$f":"IF(L266=WORKSHEET!$B$1,I266,\"\")","v":""},"","COLORADO","Fremont County",39,{"$f":"+R266-N266-P266","v":9},21,"N/A",69,3.5873498773931679E-2,0.21153846153846154]
[711,null,15,"Mesa, CO - Garfield, CO","CO: Garfield County (08045)","CO: Garfield County (08045)","08045","  Garfield  ",{"$f":"ROWS($L$2:L267)","v":266},{"$f":"IF(L267=WORKSHEET!$B$1,I267,\"\")","v":""},"","COLORADO","Garfield County","*",12,17,"*",39,3.5873498773931679E-2,0.24675324675324675]
[688,null,15,"Denver (Denver), CO - Jefferson, CO","CO: Gilpin County (08047)","CO: Gilpin County (08047)","08047","  Gilpin  ",{"$f":"ROWS($L$2:L268)","v":267},{"$f":"IF(L268=WORKSHEET!$B$1,I268,\"\")","v":""},"","COLORADO","Gilpin County","*","N/A","N/A","N/A","*",3.5873498773931679E-2,0.11802232854864433]
[688,null,15,"Denver (Denver), CO - Jefferson, CO","CO: Grand County (08049)","CO: Grand County (08049)","08049","  Grand  ",{"$f":"ROWS($L$2:L269)","v":268},{"$f":"IF(L269=WORKSHEET!$B$1,I269,\"\")","v":""},"","COLORADO","Grand County","*","*","*","N/A",15,3.5873498773931679E-2,0.11802232854864433]
[761,null,15,"Montrose, CO - Delta, CO","CO: Gunnison County (08051)","CO: Gunnison County (08051)","08051","  Gunnison  ",{"$f":"ROWS($L$2:L270)","v":269},{"$f":"IF(L270=WORKSHEET!$B$1,I270,\"\")","v":""},"","COLORADO","Gunnison County","*","*","*","N/A","*",3.5873498773931679E-2,0.14634146341463414]
[761,null,15,"Montrose, CO - Delta, CO","CO: Hinsdale County (08053)","CO: Hinsdale County (08053)","08053",null,{"$f":"ROWS($L$2:L271)","v":270},{"$f":"IF(L271=WORKSHEET!$B$1,I271,\"\")","v":""},"","COLORADO","Hinsdale County",null,null,null,null,null,3.5873498773931679E-2,0.14634146341463414]
[704,null,15,"Pueblo (Pueblo), CO - Las Animas, CO","CO: Huerfano County (08055)","CO: Huerfano County (08055)","08055","  Huerfano  ",{"$f":"ROWS($L$2:L272)","v":271},{"$f":"IF(L272=WORKSHEET!$B$1,I272,\"\")","v":""},"","COLORADO","Huerfano County",11,"N/A","*","N/A",15,3.5873498773931679E-2,9.7826086956521743E-2]
[771,null,15,"Jackson, CO","CO: Jackson County (08057)","CO: Jackson County (08057)","08057","  Jackson  ",{"$f":"ROWS($L$2:L273)","v":272},{"$f":"IF(L273=WORKSHEET!$B$1,I273,\"\")","v":""},"","COLORADO","Jackson County","*","N/A","*","N/A","*",3.5873498773931679E-2,0.20689655172413793]
[688,null,15,"Denver (Denver), CO - Jefferson, CO","CO: Jefferson County (08059) - 2002+","CO: Jefferson County (08059) - 2002+","08059","  Jefferson  ",{"$f":"ROWS($L$2:L274)","v":273},{"$f":"IF(L274=WORKSHEET!$B$1,I274,\"\")","v":""},"","COLORADO","Jefferson County",405,69,364,"*",841,3.5873498773931679E-2,0.11802232854864433]
[745,null,15,"Otero, CO - Prowers, CO","CO: Kiowa County (08061)","CO: Kiowa County (08061)","08061",null,{"$f":"ROWS($L$2:L275)","v":274},{"$f":"IF(L275=WORKSHEET!$B$1,I275,\"\")","v":""},"","COLORADO","Kiowa County",null,null,null,null,null,3.5873498773931679E-2,8.5714285714285715E-2]
[754,null,15,"El Paso (Colorado Springs), CO - Teller, CO","CO: Kit Carson County (08063)","CO: Kit Carson County (08063)","08063","  Kit Carson  ",{"$f":"ROWS($L$2:L276)","v":275},{"$f":"IF(L276=WORKSHEET!$B$1,I276,\"\")","v":""},"","COLORADO","Kit Carson County","*","*","*","N/A","*",3.5873498773931679E-2,0.15340909090909091]
[985,740,15,"La Plata, CO - Montezuma, CO","CO: La Plata County (08067)","CO: La Plata County (08067)","08067","  La Plata  ",{"$f":"ROWS($L$2:L277)","v":276},{"$f":"IF(L277=WORKSHEET!$B$1,I277,\"\")","v":""},"","COLORADO","La Plata County",33,{"$f":"+R277-N277-P277","v":9},28,"N/A",70,3.5873498773931679E-2,0.11010362694300518]
[786,null,15,"Chaffee, CO - Lake, CO","CO: Lake County (08065)","CO: Lake County (08065)","08065","  Lake  ",{"$f":"ROWS($L$2:L278)","v":277},{"$f":"IF(L278=WORKSHEET!$B$1,I278,\"\")","v":""},"","COLORADO","Lake County","N/A","*","*","N/A","*",3.5873498773931679E-2,9.0909090909090912E-2]
[796,null,15,"Larimer, CO","CO: Larimer County (08069)","CO: Larimer County (08069)","08069","  Larimer  ",{"$f":"ROWS($L$2:L279)","v":278},{"$f":"IF(L279=WORKSHEET!$B$1,I279,\"\")","v":""},"","COLORADO","Larimer County",127,26,143,"*",298,3.5873498773931679E-2,0.16993464052287582]
[704,null,15,"Pueblo (Pueblo), CO - Las Animas, CO","CO: Las Animas County (08071)","CO: Las Animas County (08071)","08071","  Las Animas  ",{"$f":"ROWS($L$2:L280)","v":279},{"$f":"IF(L280=WORKSHEET!$B$1,I280,\"\")","v":""},"","COLORADO","Las Animas County","*","*","*","N/A",17,3.5873498773931679E-2,9.7826086956521743E-2]
[754,null,15,"El Paso (Colorado Springs), CO - Teller, CO","CO: Lincoln County (08073)","CO: Lincoln County (08073)","08073","  Lincoln  ",{"$f":"ROWS($L$2:L281)","v":280},{"$f":"IF(L281=WORKSHEET!$B$1,I281,\"\")","v":""},"","COLORADO","Lincoln County","*","*","*","N/A","*",3.5873498773931679E-2,0.15340909090909091]
[763,null,15,"Logan, CO - Phillips, CO","CO: Logan County (08075)","CO: Logan County (08075)","08075","  Logan  ",{"$f":"ROWS($L$2:L282)","v":281},{"$f":"IF(L282=WORKSHEET!$B$1,I282,\"\")","v":""},"","COLORADO","Logan County",23,"*","*","N/A",32,3.5873498773931679E-2,0.10714285714285714]
[711,null,15,"Mesa, CO - Garfield, CO","CO: Mesa County (08077)","CO: Mesa County (08077)","08077","  Mesa  ",{"$f":"ROWS($L$2:L283)","v":282},{"$f":"IF(L283=WORKSHEET!$B$1,I283,\"\")","v":""},"","COLORADO","Mesa County",102,20,85,"*",210,3.5873498773931679E-2,0.24675324675324675]
[731,null,15,"Alamosa, CO - Rio Grande, CO","CO: Mineral County (08079)","CO: Mineral County (08079)","08079","  Mineral  ",{"$f":"ROWS($L$2:L284)","v":283},{"$f":"IF(L284=WORKSHEET!$B$1,I284,\"\")","v":""},"","COLORADO","Mineral County","*","N/A","N/A","N/A","*",3.5873498773931679E-2,0.16176470588235295]
[735,null,15,"Routt, CO - Moffat, CO","CO: Moffat County (08081)","CO: Moffat County (08081)","08081","  Moffat  ",{"$f":"ROWS($L$2:L285)","v":284},{"$f":"IF(L285=WORKSHEET!$B$1,I285,\"\")","v":""},"","COLORADO","Moffat County","*","*","*","N/A","*",3.5873498773931679E-2,0.16666666666666666]
[985,740,15,"La Plata, CO - Montezuma, CO","CO: Montezuma County (08083)","CO: Montezuma County (08083)","08083","  Montezuma  ",{"$f":"ROWS($L$2:L286)","v":285},{"$f":"IF(L286=WORKSHEET!$B$1,I286,\"\")","v":""},"","COLORADO","Montezuma County",49,{"$f":"+R286-N286-P286","v":8},16,"N/A",73,3.5873498773931679E-2,0.11010362694300518]
[761,null,15,"Montrose, CO - Delta, CO","CO: Montrose County (08085)","CO: Montrose County (08085)","08085","  Montrose  ",{"$f":"ROWS($L$2:L287)","v":286},{"$f":"IF(L287=WORKSHEET!$B$1,I287,\"\")","v":""},"","COLORADO","Montrose County",43,{"$f":"+R287-N287-P287","v":4},27,"*",74,3.5873498773931679E-2,0.14634146341463414]
[760,null,15,"Weld, CO - Morgan, CO","CO: Morgan County (08087)","CO: Morgan County (08087)","08087","  Morgan  ",{"$f":"ROWS($L$2:L288)","v":287},{"$f":"IF(L288=WORKSHEET!$B$1,I288,\"\")","v":""},"","COLORADO","Morgan County",15,{"$f":"+R288-N288-P288","v":6},12,"N/A",33,3.5873498773931679E-2,0.12847222222222221]
[745,null,15,"Otero, CO - Prowers, CO","CO: Otero County (08089)","CO: Otero County (08089)","08089","  Otero  ",{"$f":"ROWS($L$2:L289)","v":288},{"$f":"IF(L289=WORKSHEET!$B$1,I289,\"\")","v":""},"","COLORADO","Otero County",31,"*","*","*",42,3.5873498773931679E-2,8.5714285714285715E-2]
[761,null,15,"Montrose, CO - Delta, CO","CO: Ouray County (08091)","CO: Ouray County (08091)","08091","  Ouray  ",{"$f":"ROWS($L$2:L290)","v":289},{"$f":"IF(L290=WORKSHEET!$B$1,I290,\"\")","v":""},"","COLORADO","Ouray County","*","N/A","N/A","N/A","*",3.5873498773931679E-2,0.14634146341463414]
[688,null,15,"Denver (Denver), CO - Jefferson, CO","CO: Park County (08093)","CO: Park County (08093)","08093","  Park  ",{"$f":"ROWS($L$2:L291)","v":290},{"$f":"IF(L291=WORKSHEET!$B$1,I291,\"\")","v":""},"","COLORADO","Park County","*","*","*","N/A",17,3.5873498773931679E-2,0.11802232854864433]
[763,null,15,"Logan, CO - Phillips, CO","CO: Phillips County (08095)","CO: Phillips County (08095)","08095","  Phillips  ",{"$f":"ROWS($L$2:L292)","v":291},{"$f":"IF(L292=WORKSHEET!$B$1,I292,\"\")","v":""},"","COLORADO","Phillips County","*","*","*","N/A","*",3.5873498773931679E-2,0.10714285714285714]
[711,null,15,"Mesa, CO - Garfield, CO","CO: Pitkin County (08097)","CO: Pitkin County (08097)","08097","  Pitkin  ",{"$f":"ROWS($L$2:L293)","v":292},{"$f":"IF(L293=WORKSHEET!$B$1,I293,\"\")","v":""},"","COLORADO","Pitkin County","*","N/A","*","N/A","*",3.5873498773931679E-2,0.24675324675324675]
[745,null,15,"Otero, CO - Prowers, CO","CO: Prowers County (08099)","CO: Prowers County (08099)","08099","  Prowers  ",{"$f":"ROWS($L$2:L294)","v":293},{"$f":"IF(L294=WORKSHEET!$B$1,I294,\"\")","v":""},"","COLORADO","Prowers County",20,"*","*","N/A",32,3.5873498773931679E-2,8.5714285714285715E-2]
[704,null,15,"Pueblo (Pueblo), CO - Las Animas, CO","CO: Pueblo County (08101)","CO: Pueblo County (08101)","08101","  Pueblo  ",{"$f":"ROWS($L$2:L295)","v":294},{"$f":"IF(L295=WORKSHEET!$B$1,I295,\"\")","v":""},"","COLORADO","Pueblo County",212,26,105,"N/A",343,3.5873498773931679E-2,9.7826086956521743E-2]
[711,null,15,"Mesa, CO - Garfield, CO","CO: Rio Blanco County (08103)","CO: Rio Blanco County (08103)","08103","  Rio Blanco  ",{"$f":"ROWS($L$2:L296)","v":295},{"$f":"IF(L296=WORKSHEET!$B$1,I296,\"\")","v":""},"","COLORADO","Rio Blanco County","*","*","*","N/A","*",3.5873498773931679E-2,0.24675324675324675]
[731,null,15,"Alamosa, CO - Rio Grande, CO","CO: Rio Grande County (08105)","CO: Rio Grande County (08105)","08105","  Rio Grande  ",{"$f":"ROWS($L$2:L297)","v":296},{"$f":"IF(L297=WORKSHEET!$B$1,I297,\"\")","v":""},"","COLORADO","Rio Grande County",16,"*","*","N/A",27,3.5873498773931679E-2,0.16176470588235295]
[735,null,15,"Routt, CO - Moffat, CO","CO: Routt County (08107)","CO: Routt County (08107)","08107","  Routt  ",{"$f":"ROWS($L$2:L298)","v":297},{"$f":"IF(L298=WORKSHEET!$B$1,I298,\"\")","v":""},"","COLORADO","Routt County","*","*","*","N/A",12,3.5873498773931679E-2,0.16666666666666666]
[731,null,15,"Alamosa, CO - Rio Grande, CO","CO: Saguache County (08109)","CO: Saguache County (08109)","08109","  Saguache  ",{"$f":"ROWS($L$2:L299)","v":298},{"$f":"IF(L299=WORKSHEET!$B$1,I299,\"\")","v":""},"","COLORADO","Saguache County","*","N/A","*","N/A","*",3.5873498773931679E-2,0.16176470588235295]
[985,740,15,"La Plata, CO - Montezuma, CO","CO: San Juan County (08111)","CO: San Juan County (08111)","08111",null,{"$f":"ROWS($L$2:L300)","v":299},{"$f":"IF(L300=WORKSHEET!$B$1,I300,\"\")","v":""},"","COLORADO","San Juan County",null,null,null,null,null,3.5873498773931679E-2,0.11010362694300518]
[761,null,15,"Montrose, CO - Delta, CO","CO: San Miguel County (08113)","CO: San Miguel County (08113)","08113","  San Miguel  ",{"$f":"ROWS($L$2:L301)","v":300},{"$f":"IF(L301=WORKSHEET!$B$1,I301,\"\")","v":""},"","COLORADO","San Miguel County","*","N/A","*","N/A","*",3.5873498773931679E-2,0.14634146341463414]
[763,null,15,"Logan, CO - Phillips, CO","CO: Sedgwick County (08115)","CO: Sedgwick County (08115)","08115","  Sedgwick  ",{"$f":"ROWS($L$2:L302)","v":301},{"$f":"IF(L302=WORKSHEET!$B$1,I302,\"\")","v":""},"","COLORADO","Sedgwick County","*","N/A","N/A","N/A","*",3.5873498773931679E-2,0.10714285714285714]
[688,null,15,"Denver (Denver), CO - Jefferson, CO","CO: Summit County (08117)","CO: Summit County (08117)","08117","  Summit  ",{"$f":"ROWS($L$2:L303)","v":302},{"$f":"IF(L303=WORKSHEET!$B$1,I303,\"\")","v":""},"","COLORADO","Summit County","*","*","*","N/A","*",3.5873498773931679E-2,0.11802232854864433]
[754,null,15,"El Paso (Colorado Springs), CO - Teller, CO","CO: Teller County (08119)","CO: Teller County (08119)","08119","  Teller  ",{"$f":"ROWS($L$2:L304)","v":303},{"$f":"IF(L304=WORKSHEET!$B$1,I304,\"\")","v":""},"","COLORADO","Teller County","*","*",14,"N/A",22,3.5873498773931679E-2,0.15340909090909091]
[760,null,15,"Weld, CO - Morgan, CO","CO: Washington County (08121)","CO: Washington County (08121)","08121","  Washington  ",{"$f":"ROWS($L$2:L305)","v":304},{"$f":"IF(L305=WORKSHEET!$B$1,I305,\"\")","v":""},"","COLORADO","Washington County","*","N/A","N/A","N/A","*",3.5873498773931679E-2,0.12847222222222221]
[760,null,15,"Weld, CO - Morgan, CO","CO: Weld County (08123) - 2002+","CO: Weld County (08123) - 2002+","08123","  Weld  ",{"$f":"ROWS($L$2:L306)","v":305},{"$f":"IF(L306=WORKSHEET!$B$1,I306,\"\")","v":""},"","COLORADO","Weld County",233,27,122,"*",383,3.5873498773931679E-2,0.12847222222222221]
[760,null,15,"Weld, CO - Morgan, CO","CO: Yuma County (08125)","CO: Yuma County (08125)","08125","  Yuma  ",{"$f":"ROWS($L$2:L307)","v":306},{"$f":"IF(L307=WORKSHEET!$B$1,I307,\"\")","v":""},"","COLORADO","Yuma County","*","*","*","N/A","*",3.5873498773931679E-2,0.12847222222222221]
[121,null,1,"Fairfield, CT","CT: Fairfield County (09001)","CT: Fairfield County (09001)","09001","Fairfield  ",{"$f":"ROWS($L$2:L308)","v":307},{"$f":"IF(L308=WORKSHEET!$B$1,I308,\"\")","v":""},"","CONNECTICUT","Fairfield County",941,145,510,"*",1598,2.1156934020173799E-2,0.13351749539594843]
[4,null,1,"Hartford (Hartford), CT - Tolland, CT","CT: Hartford County (09003)","CT: Hartford County (09003)","09003","  Hartford  ",{"$f":"ROWS($L$2:L309)","v":308},{"$f":"IF(L309=WORKSHEET!$B$1,I309,\"\")","v":""},"","CONNECTICUT","Hartford County",1089,133,541,"*",1770,2.1156934020173799E-2,0.11349036402569593]
[85,null,1,"New Haven (New Haven), CT - Litchfield, CT","CT: Litchfield County (09005)","CT: Litchfield County (09005)","09005","  Litchfield  ",{"$f":"ROWS($L$2:L310)","v":309},{"$f":"IF(L310=WORKSHEET!$B$1,I310,\"\")","v":""},"","CONNECTICUT","Litchfield County",86,29,100,"*",217,2.1156934020173799E-2,0.15299479166666666]
[85,null,1,"New Haven (New Haven), CT - Litchfield, CT","CT: Middlesex County (09007)","CT: Middlesex County (09007)","09007","  Middlesex  ",{"$f":"ROWS($L$2:L311)","v":310},{"$f":"IF(L311=WORKSHEET!$B$1,I311,\"\")","v":""},"","CONNECTICUT","Middlesex County",114,18,90,"N/A",222,2.1156934020173799E-2,0.15299479166666666]
[85,null,1,"New Haven (New Haven), CT - Litchfield, CT","CT: New Haven County (09009)","CT: New Haven County (09009)","09009","  New Haven  ",{"$f":"ROWS($L$2:L312)","v":311},{"$f":"IF(L312=WORKSHEET!$B$1,I312,\"\")","v":""},"","CONNECTICUT","New Haven County",1101,188,559,"*",1851,2.1156934020173799E-2,0.15299479166666666]
[20,null,1,"New London, CT","CT: New London County (09011)","CT: New London County (09011)","09011","  New London  ",{"$f":"ROWS($L$2:L313)","v":312},{"$f":"IF(L313=WORKSHEET!$B$1,I313,\"\")","v":""},"","CONNECTICUT","New London County",210,36,153,"*",400,2.1156934020173799E-2,6.5977742448330684E-2]
[4,null,1,"Hartford (Hartford), CT - Tolland, CT","CT: Tolland County (09013)","CT: Tolland County (09013)","09013","  Tolland  ",{"$f":"ROWS($L$2:L314)","v":313},{"$f":"IF(L314=WORKSHEET!$B$1,I314,\"\")","v":""},"","CONNECTICUT","Tolland County",68,16,61,"N/A",145,2.1156934020173799E-2,0.11349036402569593]
[4,null,1,"Hartford (Hartford), CT - Tolland, CT","CT: Windham County (09015)","CT: Windham County (09015)","09015","  Windham  ",{"$f":"ROWS($L$2:L315)","v":314},{"$f":"IF(L315=WORKSHEET!$B$1,I315,\"\")","v":""},"","CONNECTICUT","Windham County",85,{"$f":"+R315-N315-P315","v":10},69,"N/A",164,2.1156934020173799E-2,0.11349036402569593]
[61,null,5,"District of Columbia, DC","DC: District of Columbia (11001)","DC: District of Columbia (11001)","11001","The District  ",{"$f":"ROWS($L$2:L316)","v":315},{"$f":"IF(L316=WORKSHEET!$B$1,I316,\"\")","v":""},"","WASHINGTON D.C.","District of Columbia",2102,73,483,"*",2668,2.9657918208264081E-2,6.4977973568281944E-2]
[3,null,4,"Sussex, DE - Kent, DE","DE: Kent County (10001)","DE: Kent County (10001)","10001","Kent  ",{"$f":"ROWS($L$2:L317)","v":316},{"$f":"IF(L317=WORKSHEET!$B$1,I317,\"\")","v":""},"","DELAWARE","Kent County",291,42,112,"N/A",445,2.0498597240547433E-2,0.11527904849039342]
[75,null,4,"New Castle (Wilmington), DE","DE: New Castle County (10003)","DE: New Castle County (10003)","10003","  New Castle  ",{"$f":"ROWS($L$2:L318)","v":317},{"$f":"IF(L318=WORKSHEET!$B$1,I318,\"\")","v":""},"","DELAWARE","New Castle County",857,121,420,"*",1400,2.0498597240547433E-2,0.11607142857142858]
[3,null,4,"Sussex, DE - Kent, DE","DE: Sussex County (10005)","DE: Sussex County (10005)","10005","  Sussex  ",{"$f":"ROWS($L$2:L319)","v":318},{"$f":"IF(L319=WORKSHEET!$B$1,I319,\"\")","v":""},"","DELAWARE","Sussex County",360,43,140,"*",544,2.0498597240547433E-2,0.11527904849039342]
[159,null,7,"Alachua (Gainesville), FL - Columbia, FL","FL: Alachua County (12001)","FL: Alachua County (12001)","12001"," Alachua  ",{"$f":"ROWS($L$2:L320)","v":319},{"$f":"IF(L320=WORKSHEET!$B$1,I320,\"\")","v":""},"","FLORIDA","Alachua County",340,49,129,"*",521,3.7455595845502301E-2,0.12029161603888214]
[158,null,7,"Duval (Jacksonville), FL - Clay, FL","FL: Baker County (12003)","FL: Baker County (12003)","12003","  Baker  ",{"$f":"ROWS($L$2:L321)","v":320},{"$f":"IF(L321=WORKSHEET!$B$1,I321,\"\")","v":""},"","FLORIDA","Baker County",35,{"$f":"+R321-N321-P321","v":1},16,"N/A",52,3.7455595845502301E-2,9.6146508966043501E-2]
[155,null,7,"Bay (Panama City), FL - Jackson, FL","FL: Bay County (12005)","FL: Bay County (12005)","12005","  Bay  ",{"$f":"ROWS($L$2:L322)","v":321},{"$f":"IF(L322=WORKSHEET!$B$1,I322,\"\")","v":""},"","FLORIDA","Bay County",233,33,81,"*",348,3.7455595845502301E-2,0.12236286919831224]
[159,null,7,"Alachua (Gainesville), FL - Columbia, FL","FL: Bradford County (12007)","FL: Bradford County (12007)","12007","  Bradford  ",{"$f":"ROWS($L$2:L323)","v":322},{"$f":"IF(L323=WORKSHEET!$B$1,I323,\"\")","v":""},{"$f":"IFERROR(SMALL($J$2:$J$3142,I323),\"\")","v":""},"FLORIDA","Bradford County",48,{"$f":"+R323-N323-P323","v":5},17,"N/A",70,3.7455595845502301E-2,0.12029161603888214]
[237,null,7,"Brevard (Palm Bay), FL - Indian River, FL","FL: Brevard County (12009)","FL: Brevard County (12009)","12009","  Brevard  ",{"$f":"ROWS($L$2:L324)","v":323},{"$f":"IF(L324=WORKSHEET!$B$1,I324,\"\")","v":""},"","FLORIDA","Brevard County",798,82,346,"*",1228,3.7455595845502301E-2,0.10820559062218214]
[200,null,7,"Miami-Dade (Miami), FL - Broward, FL","FL: Broward County (12011)","FL: Broward County (12011)","12011","  Broward  ",{"$f":"ROWS($L$2:L325)","v":324},{"$f":"IF(L325=WORKSHEET!$B$1,I325,\"\")","v":""},"","FLORIDA","Broward County",2828,257,1094,13,4192,3.7455595845502301E-2,5.868452146514376E-2]
[155,null,7,"Bay (Panama City), FL - Jackson, FL","FL: Calhoun County (12013)","FL: Calhoun County (12013)","12013","  Calhoun  ",{"$f":"ROWS($L$2:L326)","v":325},{"$f":"IF(L326=WORKSHEET!$B$1,I326,\"\")","v":""},"","FLORIDA","Calhoun County","*","*","*","N/A",16,3.7455595845502301E-2,0.12236286919831224]
[213,null,7,"Sarasota (Sarasota), FL - Charlotte, FL","FL: Charlotte County (12015)","FL: Charlotte County (12015)","12015","  Charlotte  ",{"$f":"ROWS($L$2:L327)","v":326},{"$f":"IF(L327=WORKSHEET!$B$1,I327,\"\")","v":""},"","FLORIDA","Charlotte County",174,25,87,"N/A",286,3.7455595845502301E-2,0.11901681759379043]
[233,null,7,"Marion (Ocala), FL - Citrus, FL","FL: Citrus County (12017)","FL: Citrus County (12017)","12017","  Citrus  ",{"$f":"ROWS($L$2:L328)","v":327},{"$f":"IF(L328=WORKSHEET!$B$1,I328,\"\")","v":""},"","FLORIDA","Citrus County",150,33,89,"*",275,3.7455595845502301E-2,0.20615796519410978]
[158,null,7,"Duval (Jacksonville), FL - Clay, FL","FL: Clay County (12019)","FL: Clay County (12019)","12019","  Clay  ",{"$f":"ROWS($L$2:L329)","v":328},{"$f":"IF(L329=WORKSHEET!$B$1,I329,\"\")","v":""},"","FLORIDA","Clay County",184,20,122,"*",328,3.7455595845502301E-2,9.6146508966043501E-2]
[165,null,7,"Lee (Cape Coral), FL - Collier, FL","FL: Collier County (12021)","FL: Collier County (12021)","12021","  Collier  ",{"$f":"ROWS($L$2:L330)","v":329},{"$f":"IF(L330=WORKSHEET!$B$1,I330,\"\")","v":""},"","FLORIDA","Collier County",321,45,153,"*",521,3.7455595845502301E-2,0.14590163934426228]
[159,null,7,"Alachua (Gainesville), FL - Columbia, FL","FL: Columbia County (12023)","FL: Columbia County (12023)","12023","  Columbia  ",{"$f":"ROWS($L$2:L331)","v":330},{"$f":"IF(L331=WORKSHEET!$B$1,I331,\"\")","v":""},"","FLORIDA","Columbia County",129,13,38,"N/A",180,3.7455595845502301E-2,0.12029161603888214]
[213,null,7,"Sarasota (Sarasota), FL - Charlotte, FL","FL: DeSoto County (12027)","FL: DeSoto County (12027)","12027","  De Soto  ",{"$f":"ROWS($L$2:L332)","v":331},{"$f":"IF(L332=WORKSHEET!$B$1,I332,\"\")","v":""},"","FLORIDA","DeSoto County",52,{"$f":"+R332-N332-P332","v":5},14,"N/A",71,3.7455595845502301E-2,0.11901681759379043]
[159,null,7,"Alachua (Gainesville), FL - Columbia, FL","FL: Dixie County (12029)","FL: Dixie County (12029)","12029","  Dixie  ",{"$f":"ROWS($L$2:L333)","v":332},{"$f":"IF(L333=WORKSHEET!$B$1,I333,\"\")","v":""},"","FLORIDA","Dixie County",21,"*","*","N/A",29,3.7455595845502301E-2,0.12029161603888214]
[158,null,7,"Duval (Jacksonville), FL - Clay, FL","FL: Duval County (12031)","FL: Duval County (12031)","12031","  Duval  ",{"$f":"ROWS($L$2:L334)","v":333},{"$f":"IF(L334=WORKSHEET!$B$1,I334,\"\")","v":""},"","FLORIDA","Duval County",1734,173,612,"*",2528,3.7455595845502301E-2,9.6146508966043501E-2]
[892,163,7,"Escambia (Pensacola), FL - Okaloosa, FL","FL: Escambia County (12033)","FL: Escambia County (12033)","12033","  Escambia  ",{"$f":"ROWS($L$2:L335)","v":334},{"$f":"IF(L335=WORKSHEET!$B$1,I335,\"\")","v":""},"","FLORIDA","Escambia County",594,57,164,"*",818,3.7455595845502301E-2,9.8234842670759798E-2]
[142,null,7,"Orange (Orlando), FL - Volusia, FL","FL: Flagler County (12035)","FL: Flagler County (12035)","12035","  Flagler  ",{"$f":"ROWS($L$2:L336)","v":335},{"$f":"IF(L336=WORKSHEET!$B$1,I336,\"\")","v":""},"","FLORIDA","Flagler County",100,25,63,"N/A",188,3.7455595845502301E-2,0.12601214574898786]
[183,null,7,"Leon (Tallahassee), FL - Gadsden, FL","FL: Franklin County (12037)","FL: Franklin County (12037)","12037","  Franklin  ",{"$f":"ROWS($L$2:L337)","v":336},{"$f":"IF(L337=WORKSHEET!$B$1,I337,\"\")","v":""},"","FLORIDA","Franklin County","*","*","*","N/A",16,3.7455595845502301E-2,0.12829525483304041]
[183,null,7,"Leon (Tallahassee), FL - Gadsden, FL","FL: Gadsden County (12039)","FL: Gadsden County (12039)","12039","  Gadsden  ",{"$f":"ROWS($L$2:L338)","v":337},{"$f":"IF(L338=WORKSHEET!$B$1,I338,\"\")","v":""},"","FLORIDA","Gadsden County",106,{"$f":"+R338-N338-P338","v":11},31,"*",148,3.7455595845502301E-2,0.12829525483304041]
[159,null,7,"Alachua (Gainesville), FL - Columbia, FL","FL: Gilchrist County (12041)","FL: Gilchrist County (12041)","12041","  Gilchrist  ",{"$f":"ROWS($L$2:L339)","v":338},{"$f":"IF(L339=WORKSHEET!$B$1,I339,\"\")","v":""},"","FLORIDA","Gilchrist County",17,"*","*","N/A",27,3.7455595845502301E-2,0.12029161603888214]
[165,null,7,"Lee (Cape Coral), FL - Collier, FL","FL: Glades County (12043)","FL: Glades County (12043)","12043","  Glades  ",{"$f":"ROWS($L$2:L340)","v":339},{"$f":"IF(L340=WORKSHEET!$B$1,I340,\"\")","v":""},"","FLORIDA","Glades County",11,"*","*","N/A",21,3.7455595845502301E-2,0.14590163934426228]
[155,null,7,"Bay (Panama City), FL - Jackson, FL","FL: Gulf County (12045)","FL: Gulf County (12045)","12045","  Gulf  ",{"$f":"ROWS($L$2:L341)","v":340},{"$f":"IF(L341=WORKSHEET!$B$1,I341,\"\")","v":""},"","FLORIDA","Gulf County",27,"*","*","N/A",35,3.7455595845502301E-2,0.12236286919831224]
[159,null,7,"Alachua (Gainesville), FL - Columbia, FL","FL: Hamilton County (12047)","FL: Hamilton County (12047)","12047","  Hamilton  ",{"$f":"ROWS($L$2:L342)","v":341},{"$f":"IF(L342=WORKSHEET!$B$1,I342,\"\")","v":""},"","FLORIDA","Hamilton County",13,"*","*","N/A",24,3.7455595845502301E-2,0.12029161603888214]
[202,null,7,"Polk (Lakeland), FL - Highlands, FL","FL: Hardee County (12049)","FL: Hardee County (12049)","12049","  Hardee  ",{"$f":"ROWS($L$2:L343)","v":342},{"$f":"IF(L343=WORKSHEET!$B$1,I343,\"\")","v":""},"","FLORIDA","Hardee County",47,{"$f":"+R343-N343-P343","v":7},17,"*",71,3.7455595845502301E-2,0.11594202898550725]
[165,null,7,"Lee (Cape Coral), FL - Collier, FL","FL: Hendry County (12051)","FL: Hendry County (12051)","12051","  Hendry  ",{"$f":"ROWS($L$2:L344)","v":343},{"$f":"IF(L344=WORKSHEET!$B$1,I344,\"\")","v":""},"","FLORIDA","Hendry County",52,{"$f":"+R344-N344-P344","v":6},23,"N/A",81,3.7455595845502301E-2,0.14590163934426228]
[227,null,7,"Hillsborough (Tampa), FL - Pinellas, FL","FL: Hernando County (12053)","FL: Hernando County (12053)","12053","  Hernando  ",{"$f":"ROWS($L$2:L345)","v":344},{"$f":"IF(L345=WORKSHEET!$B$1,I345,\"\")","v":""},"","FLORIDA","Hernando County",147,30,116,"N/A",293,3.7455595845502301E-2,0.1118043424007986]
[202,null,7,"Polk (Lakeland), FL - Highlands, FL","FL: Highlands County (12055)","FL: Highlands County (12055)","12055","  Highlands  ",{"$f":"ROWS($L$2:L346)","v":345},{"$f":"IF(L346=WORKSHEET!$B$1,I346,\"\")","v":""},"","FLORIDA","Highlands County",195,{"$f":"+R346-N346-P346","v":8},84,"N/A",287,3.7455595845502301E-2,0.11594202898550725]
[227,null,7,"Hillsborough (Tampa), FL - Pinellas, FL","FL: Hillsborough County (12057)","FL: Hillsborough County (12057)","12057","  Hillsborough  ",{"$f":"ROWS($L$2:L347)","v":346},{"$f":"IF(L347=WORKSHEET!$B$1,I347,\"\")","v":""},"","FLORIDA","Hillsborough County",1595,180,815,14,2604,3.7455595845502301E-2,0.1118043424007986]
[155,null,7,"Bay (Panama City), FL - Jackson, FL","FL: Holmes County (12059)","FL: Holmes County (12059)","12059","  Holmes  ",{"$f":"ROWS($L$2:L348)","v":347},{"$f":"IF(L348=WORKSHEET!$B$1,I348,\"\")","v":""},"","FLORIDA","Holmes County",22,"*","*","N/A",34,3.7455595845502301E-2,0.12236286919831224]
[237,null,7,"Brevard (Palm Bay), FL - Indian River, FL","FL: Indian River County (12061)","FL: Indian River County (12061)","12061","  Indian River  ",{"$f":"ROWS($L$2:L349)","v":348},{"$f":"IF(L349=WORKSHEET!$B$1,I349,\"\")","v":""},"","FLORIDA","Indian River County",191,38,82,"*",312,3.7455595845502301E-2,0.10820559062218214]
[155,null,7,"Bay (Panama City), FL - Jackson, FL","FL: Jackson County (12063)","FL: Jackson County (12063)","12063","  Jackson  ",{"$f":"ROWS($L$2:L350)","v":349},{"$f":"IF(L350=WORKSHEET!$B$1,I350,\"\")","v":""},"","FLORIDA","Jackson County",83,16,23,"N/A",122,3.7455595845502301E-2,0.12236286919831224]
[183,null,7,"Leon (Tallahassee), FL - Gadsden, FL","FL: Jefferson County (12065)","FL: Jefferson County (12065)","12065","  Jefferson  ",{"$f":"ROWS($L$2:L351)","v":350},{"$f":"IF(L351=WORKSHEET!$B$1,I351,\"\")","v":""},"","FLORIDA","Jefferson County",21,"*","*","N/A",29,3.7455595845502301E-2,0.12829525483304041]
[159,null,7,"Alachua (Gainesville), FL - Columbia, FL","FL: Lafayette County (12067)","FL: Lafayette County (12067)","12067","  Lafayette  ",{"$f":"ROWS($L$2:L352)","v":351},{"$f":"IF(L352=WORKSHEET!$B$1,I352,\"\")","v":""},"","FLORIDA","Lafayette County","*","*","*","N/A","*",3.7455595845502301E-2,0.12029161603888214]
[142,null,7,"Orange (Orlando), FL - Volusia, FL","FL: Lake County (12069)","FL: Lake County (12069)","12069","  Lake  ",{"$f":"ROWS($L$2:L353)","v":352},{"$f":"IF(L353=WORKSHEET!$B$1,I353,\"\")","v":""},"","FLORIDA","Lake County",483,82,242,"*",809,3.7455595845502301E-2,0.12601214574898786]
[165,null,7,"Lee (Cape Coral), FL - Collier, FL","FL: Lee County (12071)","FL: Lee County (12071)","12071","  Lee  ",{"$f":"ROWS($L$2:L354)","v":353},{"$f":"IF(L354=WORKSHEET!$B$1,I354,\"\")","v":""},"","FLORIDA","Lee County",658,122,385,"*",1169,3.7455595845502301E-2,0.14590163934426228]
[183,null,7,"Leon (Tallahassee), FL - Gadsden, FL","FL: Leon County (12073)","FL: Leon County (12073)","12073","  Leon  ",{"$f":"ROWS($L$2:L355)","v":354},{"$f":"IF(L355=WORKSHEET!$B$1,I355,\"\")","v":""},"","FLORIDA","Leon County",251,46,125,"N/A",422,3.7455595845502301E-2,0.12829525483304041]
[159,null,7,"Alachua (Gainesville), FL - Columbia, FL","FL: Levy County (12075)","FL: Levy County (12075)","12075","  Levy  ",{"$f":"ROWS($L$2:L356)","v":355},{"$f":"IF(L356=WORKSHEET!$B$1,I356,\"\")","v":""},"","FLORIDA","Levy County",48,"*",25,"N/A",76,3.7455595845502301E-2,0.12029161603888214]
[183,null,7,"Leon (Tallahassee), FL - Gadsden, FL","FL: Liberty County (12077)","FL: Liberty County (12077)","12077","  Liberty  ",{"$f":"ROWS($L$2:L357)","v":356},{"$f":"IF(L357=WORKSHEET!$B$1,I357,\"\")","v":""},"","FLORIDA","Liberty County","*","N/A","*","*",12,3.7455595845502301E-2,0.12829525483304041]
[183,null,7,"Leon (Tallahassee), FL - Gadsden, FL","FL: Madison County (12079)","FL: Madison County (12079)","12079","  Madison  ",{"$f":"ROWS($L$2:L358)","v":357},{"$f":"IF(L358=WORKSHEET!$B$1,I358,\"\")","v":""},"","FLORIDA","Madison County",49,"*","*","N/A",58,3.7455595845502301E-2,0.12829525483304041]
[266,null,7,"Manatee, FL","FL: Manatee County (12081)","FL: Manatee County (12081)","12081","  Manatee  ",{"$f":"ROWS($L$2:L359)","v":358},{"$f":"IF(L359=WORKSHEET!$B$1,I359,\"\")","v":""},"","FLORIDA","Manatee County",415,69,171,"*",659,3.7455595845502301E-2,0.14256198347107438]
[233,null,7,"Marion (Ocala), FL - Citrus, FL","FL: Marion County (12083)","FL: Marion County (12083)","12083","  Marion  ",{"$f":"ROWS($L$2:L360)","v":359},{"$f":"IF(L360=WORKSHEET!$B$1,I360,\"\")","v":""},"","FLORIDA","Marion County",443,121,188,"*",754,3.7455595845502301E-2,0.20615796519410978]
[221,null,7,"Palm Beach (West Palm Beach), FL - St. Lucie, FL","FL: Martin County (12085)","FL: Martin County (12085)","12085","  Martin  ",{"$f":"ROWS($L$2:L361)","v":360},{"$f":"IF(L361=WORKSHEET!$B$1,I361,\"\")","v":""},"","FLORIDA","Martin County",138,15,60,"*",214,3.7455595845502301E-2,8.644126873475079E-2]
[200,null,7,"Miami-Dade (Miami), FL - Broward, FL","FL: Miami-Dade County (12086)","FL: Miami-Dade County (12086)","12086","  Miami-Dade  ",{"$f":"ROWS($L$2:L362)","v":361},{"$f":"IF(L362=WORKSHEET!$B$1,I362,\"\")","v":""},"","FLORIDA","Miami-Dade County",4280,180,1595,22,6077,3.7455595845502301E-2,5.868452146514376E-2]
[200,null,7,"Miami-Dade (Miami), FL - Broward, FL","FL: Monroe County (12087)","FL: Monroe County (12087)","12087","  Monroe  ",{"$f":"ROWS($L$2:L363)","v":362},{"$f":"IF(L363=WORKSHEET!$B$1,I363,\"\")","v":""},"","FLORIDA","Monroe County",62,{"$f":"+R363-N363-P363","v":10},27,"N/A",99,3.7455595845502301E-2,5.868452146514376E-2]
[158,null,7,"Duval (Jacksonville), FL - Clay, FL","FL: Nassau County (12089)","FL: Nassau County (12089)","12089","  Nassau  ",{"$f":"ROWS($L$2:L364)","v":363},{"$f":"IF(L364=WORKSHEET!$B$1,I364,\"\")","v":""},"","FLORIDA","Nassau County",69,11,50,"N/A",130,3.7455595845502301E-2,9.6146508966043501E-2]
[892,163,7,"Escambia (Pensacola), FL - Okaloosa, FL","FL: Okaloosa County (12091)","FL: Okaloosa County (12091)","12091","  Okaloosa  ",{"$f":"ROWS($L$2:L365)","v":364},{"$f":"IF(L365=WORKSHEET!$B$1,I365,\"\")","v":""},"","FLORIDA","Okaloosa County",246,28,99,"*",375,3.7455595845502301E-2,9.8234842670759784E-2]
[221,null,7,"Palm Beach (West Palm Beach), FL - St. Lucie, FL","FL: Okeechobee County (12093)","FL: Okeechobee County (12093)","12093","  Okeechobee  ",{"$f":"ROWS($L$2:L366)","v":365},{"$f":"IF(L366=WORKSHEET!$B$1,I366,\"\")","v":""},"","FLORIDA","Okeechobee County",62,{"$f":"+R366-N366-P366","v":6},20,"N/A",88,3.7455595845502301E-2,8.644126873475079E-2]
[142,null,7,"Orange (Orlando), FL - Volusia, FL","FL: Orange County (12095)","FL: Orange County (12095)","12095","  Orange  ",{"$f":"ROWS($L$2:L367)","v":366},{"$f":"IF(L367=WORKSHEET!$B$1,I367,\"\")","v":""},"","FLORIDA","Orange County",1691,208,732,"*",2640,3.7455595845502301E-2,0.12601214574898786]
[257,null,7,"Osceola, FL","FL: Osceola County (12097)","FL: Osceola County (12097)","12097","  Osceola  ",{"$f":"ROWS($L$2:L368)","v":367},{"$f":"IF(L368=WORKSHEET!$B$1,I368,\"\")","v":""},"","FLORIDA","Osceola County",452,88,221,"*",763,3.7455595845502301E-2,0.16296296296296298]
[221,null,7,"Palm Beach (West Palm Beach), FL - St. Lucie, FL","FL: Palm Beach County (12099)","FL: Palm Beach County (12099)","12099","  Palm Beach  ",{"$f":"ROWS($L$2:L369)","v":368},{"$f":"IF(L369=WORKSHEET!$B$1,I369,\"\")","v":""},"","FLORIDA","Palm Beach County",1943,186,779,"*",2914,3.7455595845502301E-2,8.644126873475079E-2]
[227,null,7,"Hillsborough (Tampa), FL - Pinellas, FL","FL: Pasco County (12101)","FL: Pasco County (12101)","12101","  Pasco  ",{"$f":"ROWS($L$2:L370)","v":369},{"$f":"IF(L370=WORKSHEET!$B$1,I370,\"\")","v":""},"","FLORIDA","Pasco County",497,89,263,"*",857,3.7455595845502301E-2,0.1118043424007986]
[227,null,7,"Hillsborough (Tampa), FL - Pinellas, FL","FL: Pinellas County (12103)","FL: Pinellas County (12103)","12103","  Pinellas  ",{"$f":"ROWS($L$2:L371)","v":370},{"$f":"IF(L371=WORKSHEET!$B$1,I371,\"\")","v":""},"","FLORIDA","Pinellas County",1320,149,568,"*",2047,3.7455595845502301E-2,0.1118043424007986]
[202,null,7,"Polk (Lakeland), FL - Highlands, FL","FL: Polk County (12105)","FL: Polk County (12105)","12105","  Polk  ",{"$f":"ROWS($L$2:L372)","v":371},{"$f":"IF(L372=WORKSHEET!$B$1,I372,\"\")","v":""},"","FLORIDA","Polk County",856,131,313,"*",1304,3.7455595845502301E-2,0.11594202898550725]
[251,null,7,"St. Johns (St. Augustine), FL - Putnam, FL","FL: Putnam County (12107)","FL: Putnam County (12107)","12107","  Putnam  ",{"$f":"ROWS($L$2:L373)","v":372},{"$f":"IF(L373=WORKSHEET!$B$1,I373,\"\")","v":""},"","FLORIDA","Putnam County",125,13,48,"*",187,3.7455595845502301E-2,0.12640449438202248]
[892,163,7,"Escambia (Pensacola), FL - Okaloosa, FL","FL: Santa Rosa County (12113)","FL: Santa Rosa County (12113)","12113","  Santa Rosa  ",{"$f":"ROWS($L$2:L374)","v":373},{"$f":"IF(L374=WORKSHEET!$B$1,I374,\"\")","v":""},"","FLORIDA","Santa Rosa County",137,26,80,"*",244,3.7455595845502301E-2,9.8234842670759784E-2]
[213,null,7,"Sarasota (Sarasota), FL - Charlotte, FL","FL: Sarasota County (12115)","FL: Sarasota County (12115)","12115","  Sarasota  ",{"$f":"ROWS($L$2:L375)","v":374},{"$f":"IF(L375=WORKSHEET!$B$1,I375,\"\")","v":""},"","FLORIDA","Sarasota County",455,62,234,"*",754,3.7455595845502301E-2,0.11901681759379043]
[142,null,7,"Orange (Orlando), FL - Volusia, FL","FL: Seminole County (12117)","FL: Seminole County (12117)","12117","  Seminole  ",{"$f":"ROWS($L$2:L376)","v":375},{"$f":"IF(L376=WORKSHEET!$B$1,I376,\"\")","v":""},"","FLORIDA","Seminole County",447,37,221,"*",706,3.7455595845502301E-2,0.12601214574898786]
[251,null,7,"St. Johns (St. Augustine), FL - Putnam, FL","FL: St. Johns County (12109)","FL: St. Johns County (12109)","12109","  St. Johns  ",{"$f":"ROWS($L$2:L377)","v":376},{"$f":"IF(L377=WORKSHEET!$B$1,I377,\"\")","v":""},"","FLORIDA","St. Johns County",186,32,118,"N/A",336,3.7455595845502301E-2,0.12640449438202248]
[221,null,7,"Palm Beach (West Palm Beach), FL - St. Lucie, FL","FL: St. Lucie County (12111)","FL: St. Lucie County (12111)","12111","  St. Lucie  ",{"$f":"ROWS($L$2:L378)","v":377},{"$f":"IF(L378=WORKSHEET!$B$1,I378,\"\")","v":""},"","FLORIDA","St. Lucie County",478,41,174,"*",694,3.7455595845502301E-2,8.644126873475079E-2]
[142,null,7,"Orange (Orlando), FL - Volusia, FL","FL: Sumter County (12119)","FL: Sumter County (12119)","12119","  Sumter  ",{"$f":"ROWS($L$2:L379)","v":378},{"$f":"IF(L379=WORKSHEET!$B$1,I379,\"\")","v":""},"","FLORIDA","Sumter County",72,11,28,"N/A",111,3.7455595845502301E-2,0.12601214574898786]
[159,null,7,"Alachua (Gainesville), FL - Columbia, FL","FL: Suwannee County (12121)","FL: Suwannee County (12121)","12121","  Suwannee  ",{"$f":"ROWS($L$2:L380)","v":379},{"$f":"IF(L380=WORKSHEET!$B$1,I380,\"\")","v":""},"","FLORIDA","Suwannee County",51,{"$f":"+R380-N380-P380","v":8},19,"N/A",78,3.7455595845502301E-2,0.12029161603888214]
[183,null,7,"Leon (Tallahassee), FL - Gadsden, FL","FL: Taylor County (12123)","FL: Taylor County (12123)","12123","  Taylor  ",{"$f":"ROWS($L$2:L381)","v":380},{"$f":"IF(L381=WORKSHEET!$B$1,I381,\"\")","v":""},"","FLORIDA","Taylor County",22,"*","*","N/A",33,3.7455595845502301E-2,0.12829525483304041]
[159,null,7,"Alachua (Gainesville), FL - Columbia, FL","FL: Union County (12125)","FL: Union County (12125)","12125","  Union  ",{"$f":"ROWS($L$2:L382)","v":381},{"$f":"IF(L382=WORKSHEET!$B$1,I382,\"\")","v":""},"","FLORIDA","Union County",53,"*","*","N/A",67,3.7455595845502301E-2,0.12029161603888214]
[142,null,7,"Orange (Orlando), FL - Volusia, FL","FL: Volusia County (12127)","FL: Volusia County (12127)","12127","  Volusia  ",{"$f":"ROWS($L$2:L383)","v":382},{"$f":"IF(L383=WORKSHEET!$B$1,I383,\"\")","v":""},"","FLORIDA","Volusia County",661,135,311,"*",1111,3.7455595845502301E-2,0.12601214574898786]
[183,null,7,"Leon (Tallahassee), FL - Gadsden, FL","FL: Wakulla County (12129)","FL: Wakulla County (12129)","12129","  Wakulla  ",{"$f":"ROWS($L$2:L384)","v":383},{"$f":"IF(L384=WORKSHEET!$B$1,I384,\"\")","v":""},"","FLORIDA","Wakulla County",30,{"$f":"+R384-N384-P384","v":6},11,"N/A",47,3.7455595845502301E-2,0.12829525483304041]
[892,163,7,"Escambia (Pensacola), FL - Okaloosa, FL","FL: Walton County (12131)","FL: Walton County (12131)","12131","  Walton  ",{"$f":"ROWS($L$2:L385)","v":384},{"$f":"IF(L385=WORKSHEET!$B$1,I385,\"\")","v":""},"","FLORIDA","Walton County",60,{"$f":"+R385-N385-P385","v":8},26,"N/A",94,3.7455595845502301E-2,9.8234842670759784E-2]
[155,null,7,"Bay (Panama City), FL - Jackson, FL","FL: Washington County (12133)","FL: Washington County (12133)","12133","  Washington  ",{"$f":"ROWS($L$2:L386)","v":385},{"$f":"IF(L386=WORKSHEET!$B$1,I386,\"\")","v":""},"","FLORIDA","Washington County",41,{"$f":"+R386-N386-P386","v":4},14,"N/A",59,3.7455595845502301E-2,0.12236286919831224]
[230,null,6,"Wayne, GA - Appling, GA","GA: Appling County (13001)","GA: Appling County (13001)","13001"," Appling  ",{"$f":"ROWS($L$2:L387)","v":386},{"$f":"IF(L387=WORKSHEET!$B$1,I387,\"\")","v":""},{"$f":"IFERROR(SMALL($J$2:$J$3142,I387),\"\")","v":""},"GEORGIA","Appling County",34,{"$f":"+R387-N387-P387","v":6},14,"*",54,3.316512684006382E-2,0.13207547169811321]
[236,null,6,"Coffee, GA - Jeff Davis, GA","GA: Atkinson County (13003)","GA: Atkinson County (13003)","13003","  Atkinson  ",{"$f":"ROWS($L$2:L388)","v":387},{"$f":"IF(L388=WORKSHEET!$B$1,I388,\"\")","v":""},"","GEORGIA","Atkinson County",16,"*","*","N/A",22,3.316512684006382E-2,9.2436974789915971E-2]
[174,null,6,"Ware, GA - Pierce, GA","GA: Bacon County (13005)","GA: Bacon County (13005)","13005","  Bacon  ",{"$f":"ROWS($L$2:L389)","v":388},{"$f":"IF(L389=WORKSHEET!$B$1,I389,\"\")","v":""},"","GEORGIA","Bacon County",21,"*","*","N/A",27,3.316512684006382E-2,5.5214723926380369E-2]
[144,null,6,"Dougherty (Albany), GA - Lee, GA","GA: Baker County (13007)","GA: Baker County (13007)","13007","  Baker  ",{"$f":"ROWS($L$2:L390)","v":389},{"$f":"IF(L390=WORKSHEET!$B$1,I390,\"\")","v":""},"","GEORGIA","Baker County",12,"*","N/A","N/A",14,3.316512684006382E-2,0.12917933130699089]
[828,201,6,"Baldwin, GA","GA: Baldwin County (13009)","GA: Baldwin County (13009)","13009","  Baldwin  ",{"$f":"ROWS($L$2:L391)","v":390},{"$f":"IF(L391=WORKSHEET!$B$1,I391,\"\")","v":""},"","GEORGIA","Baldwin County",123,{"$f":"+R391-N391-P391","v":10},32,"N/A",165,3.316512684006382E-2,6.222222222222222E-2]
[157,null,6,"Hall, GA - Habersham, GA","GA: Banks County (13011)","GA: Banks County (13011)","13011","  Banks  ",{"$f":"ROWS($L$2:L392)","v":391},{"$f":"IF(L392=WORKSHEET!$B$1,I392,\"\")","v":""},"","GEORGIA","Banks County",12,"*","*","N/A",24,3.316512684006382E-2,0.14420803782505912]
[829,164,6,"Clarke (Athens), GA - Barrow, GA","GA: Barrow County (13013)","GA: Barrow County (13013)","13013","  Barrow  ",{"$f":"ROWS($L$2:L393)","v":392},{"$f":"IF(L393=WORKSHEET!$B$1,I393,\"\")","v":""},"","GEORGIA","Barrow County",88,15,43,"*",148,3.316512684006382E-2,9.0909090909090912E-2]
[154,null,6,"Floyd, GA - Bartow, GA","GA: Bartow County (13015)","GA: Bartow County (13015)","13015","  Bartow  ",{"$f":"ROWS($L$2:L394)","v":393},{"$f":"IF(L394=WORKSHEET!$B$1,I394,\"\")","v":""},"","GEORGIA","Bartow County",153,24,53,"*",231,3.316512684006382E-2,0.11052631578947368]
[189,null,6,"Tift, GA - Ben Hill, GA","GA: Ben Hill County (13017)","GA: Ben Hill County (13017)","13017","  Ben Hill  ",{"$f":"ROWS($L$2:L395)","v":394},{"$f":"IF(L395=WORKSHEET!$B$1,I395,\"\")","v":""},"","GEORGIA","Ben Hill County",50,{"$f":"+R395-N395-P395","v":6},13,"*",69,3.316512684006382E-2,9.5000000000000001E-2]
[180,null,6,"Lowndes, GA - Brooks, GA","GA: Berrien County (13019)","GA: Berrien County (13019)","13019","  Berrien  ",{"$f":"ROWS($L$2:L396)","v":395},{"$f":"IF(L396=WORKSHEET!$B$1,I396,\"\")","v":""},"","GEORGIA","Berrien County",29,{"$f":"+R396-N396-P396","v":3},11,"N/A",43,3.316512684006382E-2,8.9552238805970144E-2]
[193,null,6,"Bibb (Macon), GA - Houston, GA","GA: Bibb County (13021)","GA: Bibb County (13021)","13021","  Bibb  ",{"$f":"ROWS($L$2:L397)","v":396},{"$f":"IF(L397=WORKSHEET!$B$1,I397,\"\")","v":""},"","GEORGIA","Bibb County",605,56,106,"*",768,3.316512684006382E-2,0.10352264557872035]
[193,null,6,"Bibb (Macon), GA - Houston, GA","GA: Bleckley County (13023)","GA: Bleckley County (13023)","13023","  Bleckley  ",{"$f":"ROWS($L$2:L398)","v":397},{"$f":"IF(L398=WORKSHEET!$B$1,I398,\"\")","v":""},"","GEORGIA","Bleckley County",17,"*","*","N/A",24,3.316512684006382E-2,0.10352264557872035]
[890,158,6,"Glynn, GA - Camden, GA","GA: Brantley County (13025)","GA: Brantley County (13025)","13025","  Brantley  ",{"$f":"ROWS($L$2:L399)","v":398},{"$f":"IF(L399=WORKSHEET!$B$1,I399,\"\")","v":""},"","GEORGIA","Brantley County",23,"*","*","N/A",36,3.316512684006382E-2,9.6146508966043501E-2]
[180,null,6,"Lowndes, GA - Brooks, GA","GA: Brooks County (13027)","GA: Brooks County (13027)","13027","  Brooks  ",{"$f":"ROWS($L$2:L400)","v":399},{"$f":"IF(L400=WORKSHEET!$B$1,I400,\"\")","v":""},"","GEORGIA","Brooks County",48,"*","*","*",55,3.316512684006382E-2,8.9552238805970144E-2]
[143,null,6,"Chatham (Savannah), GA - Liberty, GA","GA: Bryan County (13029)","GA: Bryan County (13029)","13029","  Bryan  ",{"$f":"ROWS($L$2:L401)","v":400},{"$f":"IF(L401=WORKSHEET!$B$1,I401,\"\")","v":""},"","GEORGIA","Bryan County",22,{"$f":"+R401-N401-P401","v":5},14,"N/A",41,3.316512684006382E-2,0.11739502999143102]
[222,null,6,"Bulloch, GA - Emanuel, GA","GA: Bulloch County (13031)","GA: Bulloch County (13031)","13031","  Bulloch  ",{"$f":"ROWS($L$2:L402)","v":401},{"$f":"IF(L402=WORKSHEET!$B$1,I402,\"\")","v":""},"","GEORGIA","Bulloch County",89,14,24,"N/A",127,3.316512684006382E-2,0.12446351931330472]
[830,152,6,"Richmond (South Augusta), GA - Columbia, GA","GA: Burke County (13033)","GA: Burke County (13033)","13033","  Burke  ",{"$f":"ROWS($L$2:L403)","v":402},{"$f":"IF(L403=WORKSHEET!$B$1,I403,\"\")","v":""},"","GEORGIA","Burke County",68,"*","*","N/A",79,3.316512684006382E-2,9.9939061547836688E-2]
[204,null,6,"Spalding (Griffin), GA - Butts, GA","GA: Butts County (13035)","GA: Butts County (13035)","13035","  Butts  ",{"$f":"ROWS($L$2:L404)","v":403},{"$f":"IF(L404=WORKSHEET!$B$1,I404,\"\")","v":""},"","GEORGIA","Butts County",58,{"$f":"+R404-N404-P404","v":5},12,"N/A",75,3.316512684006382E-2,9.6234309623430964E-2]
[144,null,6,"Dougherty (Albany), GA - Lee, GA","GA: Calhoun County (13037)","GA: Calhoun County (13037)","13037","  Calhoun  ",{"$f":"ROWS($L$2:L405)","v":404},{"$f":"IF(L405=WORKSHEET!$B$1,I405,\"\")","v":""},"","GEORGIA","Calhoun County",25,"*","*","*",34,3.316512684006382E-2,0.12917933130699089]
[890,158,6,"Glynn, GA - Camden, GA","GA: Camden County (13039)","GA: Camden County (13039)","13039","  Camden  ",{"$f":"ROWS($L$2:L406)","v":405},{"$f":"IF(L406=WORKSHEET!$B$1,I406,\"\")","v":""},"","GEORGIA","Camden County",70,{"$f":"+R406-N406-P406","v":10},30,"N/A",110,3.316512684006382E-2,9.6146508966043501E-2]
[222,null,6,"Bulloch, GA - Emanuel, GA","GA: Candler County (13043)","GA: Candler County (13043)","13043","  Candler  ",{"$f":"ROWS($L$2:L407)","v":406},{"$f":"IF(L407=WORKSHEET!$B$1,I407,\"\")","v":""},"","GEORGIA","Candler County",23,"*","*","N/A",30,3.316512684006382E-2,0.12446351931330472]
[896,177,6,"Carroll, GA - Haralson, GA","GA: Carroll County (13045)","GA: Carroll County (13045)","13045","  Carroll  ",{"$f":"ROWS($L$2:L408)","v":407},{"$f":"IF(L408=WORKSHEET!$B$1,I408,\"\")","v":""},"","GEORGIA","Carroll County",169,35,58,"*",264,3.316512684006382E-2,0.1702127659574468]
[141,null,6,"Walker, GA - Catoosa, GA","GA: Catoosa County (13047)","GA: Catoosa County (13047)","13047","  Catoosa  ",{"$f":"ROWS($L$2:L409)","v":408},{"$f":"IF(L409=WORKSHEET!$B$1,I409,\"\")","v":""},"","GEORGIA","Catoosa County",47,{"$f":"+R409-N409-P409","v":4},11,"N/A",62,3.316512684006382E-2,5.6541019955654102E-2]
[890,144,6,"Glynn, GA - Camden, GA","GA: Charlton County (13049)","GA: Charlton County (13049)","13049","  Charlton  ",{"$f":"ROWS($L$2:L410)","v":409},{"$f":"IF(L410=WORKSHEET!$B$1,I410,\"\")","v":""},"","GEORGIA","Charlton County",24,"*","*","N/A",30,3.316512684006382E-2,0.12917933130699089]
[143,null,6,"Chatham (Savannah), GA - Liberty, GA","GA: Chatham County (13051)","GA: Chatham County (13051)","13051","  Chatham  ",{"$f":"ROWS($L$2:L411)","v":410},{"$f":"IF(L411=WORKSHEET!$B$1,I411,\"\")","v":""},"","GEORGIA","Chatham County",544,59,127,"*",731,3.316512684006382E-2,0.11739502999143102]
[893,166,6,"Muscogee (Columbus), GA - Harris, GA","GA: Chattahoochee County (13053)","GA: Chattahoochee County (13053)","13053","  Chattahoochee  ",{"$f":"ROWS($L$2:L412)","v":411},{"$f":"IF(L412=WORKSHEET!$B$1,I412,\"\")","v":""},"","GEORGIA","Chattahoochee County","*","*","*","N/A",13,3.316512684006382E-2,0.16097023153252479]
[154,null,6,"Floyd, GA - Bartow, GA","GA: Chattooga County (13055)","GA: Chattooga County (13055)","13055","  Chattooga  ",{"$f":"ROWS($L$2:L413)","v":412},{"$f":"IF(L413=WORKSHEET!$B$1,I413,\"\")","v":""},"","GEORGIA","Chattooga County",50,{"$f":"+R413-N413-P413","v":4},15,"N/A",69,3.316512684006382E-2,0.11052631578947368]
[826,190,6,"Cherokee, GA - Douglas, GA","GA: Cherokee County (13057)","GA: Cherokee County (13057)","13057","  Cherokee  ",{"$f":"ROWS($L$2:L414)","v":413},{"$f":"IF(L414=WORKSHEET!$B$1,I414,\"\")","v":""},"","GEORGIA","Cherokee County",153,29,91,"N/A",273,3.316512684006382E-2,0.15786350148367953]
[829,164,6,"Clarke (Athens), GA - Barrow, GA","GA: Clarke County (13059)","GA: Clarke County (13059)","13059","  Clarke  ",{"$f":"ROWS($L$2:L415)","v":414},{"$f":"IF(L415=WORKSHEET!$B$1,I415,\"\")","v":""},"","GEORGIA","Clarke County",199,16,56,"N/A",271,3.316512684006382E-2,9.0909090909090912E-2]
[144,null,6,"Dougherty (Albany), GA - Lee, GA","GA: Clay County (13061)","GA: Clay County (13061)","13061","  Clay  ",{"$f":"ROWS($L$2:L416)","v":415},{"$f":"IF(L416=WORKSHEET!$B$1,I416,\"\")","v":""},"","GEORGIA","Clay County",11,"N/A","*","N/A",12,3.316512684006382E-2,0.12917933130699089]
[153,null,6,"Fulton (Atlanta), GA - DeKalb, GA","GA: Clayton County (13063)","GA: Clayton County (13063)","13063","  Clayton  ",{"$f":"ROWS($L$2:L417)","v":416},{"$f":"IF(L417=WORKSHEET!$B$1,I417,\"\")","v":""},"","GEORGIA","Clayton County",708,98,192,"*",999,3.316512684006382E-2,0.115356355620867]
[174,null,6,"Ware, GA - Pierce, GA","GA: Clinch County (13065)","GA: Clinch County (13065)","13065","  Clinch  ",{"$f":"ROWS($L$2:L418)","v":417},{"$f":"IF(L418=WORKSHEET!$B$1,I418,\"\")","v":""},"","GEORGIA","Clinch County",16,"*","*","N/A",25,3.316512684006382E-2,5.5214723926380369E-2]
[190,null,6,"Cobb (Marietta), GA","GA: Cobb County (13067)","GA: Cobb County (13067)","13067","  Cobb  ",{"$f":"ROWS($L$2:L419)","v":418},{"$f":"IF(L419=WORKSHEET!$B$1,I419,\"\")","v":""},"","GEORGIA","Cobb County",853,154,418,"*",1430,3.316512684006382E-2,0.15786350148367953]
[236,null,6,"Coffee, GA - Jeff Davis, GA","GA: Coffee County (13069)","GA: Coffee County (13069)","13069","  Coffee  ",{"$f":"ROWS($L$2:L420)","v":419},{"$f":"IF(L420=WORKSHEET!$B$1,I420,\"\")","v":""},"","GEORGIA","Coffee County",79,{"$f":"+R420-N420-P420","v":5},18,"N/A",102,3.316512684006382E-2,9.2436974789915971E-2]
[254,null,6,"Colquitt, GA","GA: Colquitt County (13071)","GA: Colquitt County (13071)","13071","  Colquitt  ",{"$f":"ROWS($L$2:L421)","v":420},{"$f":"IF(L421=WORKSHEET!$B$1,I421,\"\")","v":""},"","GEORGIA","Colquitt County",104,15,20,"*",141,3.316512684006382E-2,0.12605042016806722]
[830,152,6,"Richmond (South Augusta), GA - Columbia, GA","GA: Columbia County (13073)","GA: Columbia County (13073)","13073","  Columbia  ",{"$f":"ROWS($L$2:L422)","v":421},{"$f":"IF(L422=WORKSHEET!$B$1,I422,\"\")","v":""},"","GEORGIA","Columbia County",149,18,68,"N/A",235,3.316512684006382E-2,9.9939061547836688E-2]
[180,null,6,"Lowndes, GA - Brooks, GA","GA: Cook County (13075)","GA: Cook County (13075)","13075","  Cook  ",{"$f":"ROWS($L$2:L423)","v":422},{"$f":"IF(L423=WORKSHEET!$B$1,I423,\"\")","v":""},"","GEORGIA","Cook County",43,"*","*","N/A",48,3.316512684006382E-2,8.9552238805970144E-2]
[894,172,6,"Coweta, GA - Troup (La Grange), GA","GA: Coweta County (13077)","GA: Coweta County (13077)","13077","  Coweta  ",{"$f":"ROWS($L$2:L424)","v":423},{"$f":"IF(L424=WORKSHEET!$B$1,I424,\"\")","v":""},"","GEORGIA","Coweta County",153,23,86,"*",263,3.316512684006382E-2,0.10616438356164383]
[193,null,6,"Bibb (Macon), GA - Houston, GA","GA: Crawford County (13079)","GA: Crawford County (13079)","13079","  Crawford  ",{"$f":"ROWS($L$2:L425)","v":424},{"$f":"IF(L425=WORKSHEET!$B$1,I425,\"\")","v":""},"","GEORGIA","Crawford County",29,"N/A","*","N/A",35,3.316512684006382E-2,0.10352264557872035]
[197,null,6,"Sumter, GA - Crisp, GA","GA: Crisp County (13081)","GA: Crisp County (13081)","13081","  Crisp  ",{"$f":"ROWS($L$2:L426)","v":425},{"$f":"IF(L426=WORKSHEET!$B$1,I426,\"\")","v":""},"","GEORGIA","Crisp County",79,{"$f":"+R426-N426-P426","v":4},14,"N/A",97,3.316512684006382E-2,7.1428571428571425E-2]
[141,null,6,"Walker, GA - Catoosa, GA","GA: Dade County (13083)","GA: Dade County (13083)","13083","  Dade  ",{"$f":"ROWS($L$2:L427)","v":426},{"$f":"IF(L427=WORKSHEET!$B$1,I427,\"\")","v":""},"","GEORGIA","Dade County",15,"*","*","N/A",25,3.316512684006382E-2,5.6541019955654102E-2]
[157,null,6,"Hall, GA - Habersham, GA","GA: Dawson County (13085)","GA: Dawson County (13085)","13085","  Dawson  ",{"$f":"ROWS($L$2:L428)","v":427},{"$f":"IF(L428=WORKSHEET!$B$1,I428,\"\")","v":""},"","GEORGIA","Dawson County",18,{"$f":"+R428-N428-P428","v":5},14,"N/A",37,3.316512684006382E-2,0.14420803782505912]
[228,null,6,"Decatur, GA - Seminole, GA","GA: Decatur County (13087)","GA: Decatur County (13087)","13087","  Decatur  ",{"$f":"ROWS($L$2:L429)","v":428},{"$f":"IF(L429=WORKSHEET!$B$1,I429,\"\")","v":""},"","GEORGIA","Decatur County",72,"*","*","N/A",88,3.316512684006382E-2,0.16935483870967741]
[153,null,6,"Fulton (Atlanta), GA - DeKalb, GA","GA: DeKalb County (13089)","GA: DeKalb County (13089)","13089","  De Kalb  ",{"$f":"ROWS($L$2:L430)","v":429},{"$f":"IF(L430=WORKSHEET!$B$1,I430,\"\")","v":""},"","GEORGIA","DeKalb County",1612,190,465,"*",2272,3.316512684006382E-2,0.115356355620867]
[206,null,6,"Laurens, GA - Toombs, GA","GA: Dodge County (13091)","GA: Dodge County (13091)","13091","  Dodge  ",{"$f":"ROWS($L$2:L431)","v":430},{"$f":"IF(L431=WORKSHEET!$B$1,I431,\"\")","v":""},"","GEORGIA","Dodge County",38,{"$f":"+R431-N431-P431","v":9},13,"*",60,3.316512684006382E-2,0.13802083333333334]
[197,null,6,"Sumter, GA - Crisp, GA","GA: Dooly County (13093)","GA: Dooly County (13093)","13093","  Dooly  ",{"$f":"ROWS($L$2:L432)","v":431},{"$f":"IF(L432=WORKSHEET!$B$1,I432,\"\")","v":""},"","GEORGIA","Dooly County",40,"*","*","N/A",51,3.316512684006382E-2,7.1428571428571425E-2]
[144,null,6,"Dougherty (Albany), GA - Lee, GA","GA: Dougherty County (13095)","GA: Dougherty County (13095)","13095","  Dougherty  ",{"$f":"ROWS($L$2:L433)","v":432},{"$f":"IF(L433=WORKSHEET!$B$1,I433,\"\")","v":""},"","GEORGIA","Dougherty County",341,44,44,"N/A",429,3.316512684006382E-2,0.12917933130699089]
[826,190,6,"Cherokee, GA - Douglas, GA","GA: Douglas County (13097)","GA: Douglas County (13097)","13097","  Douglas  ",{"$f":"ROWS($L$2:L434)","v":433},{"$f":"IF(L434=WORKSHEET!$B$1,I434,\"\")","v":""},"","GEORGIA","Douglas County",246,58,86,"*",391,3.316512684006382E-2,0.15786350148367953]
[144,null,6,"Dougherty (Albany), GA - Lee, GA","GA: Early County (13099)","GA: Early County (13099)","13099","  Early  ",{"$f":"ROWS($L$2:L435)","v":434},{"$f":"IF(L435=WORKSHEET!$B$1,I435,\"\")","v":""},"","GEORGIA","Early County",37,"*","*","N/A",49,3.316512684006382E-2,0.12917933130699089]
[180,null,6,"Lowndes, GA - Brooks, GA","GA: Echols County (13101)","GA: Echols County (13101)","13101","  Echols  ",{"$f":"ROWS($L$2:L436)","v":435},{"$f":"IF(L436=WORKSHEET!$B$1,I436,\"\")","v":""},"","GEORGIA","Echols County","*","N/A","*","N/A","*",3.316512684006382E-2,8.9552238805970144E-2]
[143,null,6,"Chatham (Savannah), GA - Liberty, GA","GA: Effingham County (13103)","GA: Effingham County (13103)","13103","  Effingham  ",{"$f":"ROWS($L$2:L437)","v":436},{"$f":"IF(L437=WORKSHEET!$B$1,I437,\"\")","v":""},"","GEORGIA","Effingham County",48,14,20,"N/A",82,3.316512684006382E-2,0.11739502999143102]
[253,null,6,"Elbert, GA - Wilkes, GA","GA: Elbert County (13105)","GA: Elbert County (13105)","13105","  Elbert  ",{"$f":"ROWS($L$2:L438)","v":437},{"$f":"IF(L438=WORKSHEET!$B$1,I438,\"\")","v":""},"","GEORGIA","Elbert County",43,{"$f":"+R438-N438-P438","v":1},14,"N/A",58,3.316512684006382E-2,1.1764705882352941E-2]
[222,null,6,"Bulloch, GA - Emanuel, GA","GA: Emanuel County (13107)","GA: Emanuel County (13107)","13107","  Emanuel  ",{"$f":"ROWS($L$2:L439)","v":438},{"$f":"IF(L439=WORKSHEET!$B$1,I439,\"\")","v":""},"","GEORGIA","Emanuel County",52,{"$f":"+R439-N439-P439","v":7},16,"N/A",75,3.316512684006382E-2,0.12446351931330472]
[143,null,6,"Chatham (Savannah), GA - Liberty, GA","GA: Evans County (13109)","GA: Evans County (13109)","13109","  Evans  ",{"$f":"ROWS($L$2:L440)","v":439},{"$f":"IF(L440=WORKSHEET!$B$1,I440,\"\")","v":""},"","GEORGIA","Evans County",17,"*","*","N/A",28,3.316512684006382E-2,0.11739502999143102]
[173,null,6,"Gilmer, GA - Fannin, GA","GA: Fannin County (13111)","GA: Fannin County (13111)","13111","  Fannin  ",{"$f":"ROWS($L$2:L441)","v":440},{"$f":"IF(L441=WORKSHEET!$B$1,I441,\"\")","v":""},"","GEORGIA","Fannin County",26,"*","*","N/A",39,3.316512684006382E-2,9.0909090909090912E-2]
[825,153,6,"Henry, GA - Forsyth, GA","GA: Fayette County (13113)","GA: Fayette County (13113)","13113","  Fayette  ",{"$f":"ROWS($L$2:L442)","v":441},{"$f":"IF(L442=WORKSHEET!$B$1,I442,\"\")","v":""},"","GEORGIA","Fayette County",89,19,72,"N/A",180,3.316512684006382E-2,0.115356355620867]
[154,null,6,"Floyd, GA - Bartow, GA","GA: Floyd County (13115)","GA: Floyd County (13115)","13115","  Floyd  ",{"$f":"ROWS($L$2:L443)","v":442},{"$f":"IF(L443=WORKSHEET!$B$1,I443,\"\")","v":""},"","GEORGIA","Floyd County",170,14,47,"*",235,3.316512684006382E-2,0.11052631578947368]
[825,153,6,"Henry, GA - Forsyth, GA","GA: Forsyth County (13117)","GA: Forsyth County (13117)","13117","  Forsyth  ",{"$f":"ROWS($L$2:L444)","v":443},{"$f":"IF(L444=WORKSHEET!$B$1,I444,\"\")","v":""},"","GEORGIA","Forsyth County",86,17,62,"N/A",165,3.316512684006382E-2,0.115356355620867]
[216,null,6,"Stephens, GA - Hart, GA","GA: Franklin County (13119)","GA: Franklin County (13119)","13119","  Franklin  ",{"$f":"ROWS($L$2:L445)","v":444},{"$f":"IF(L445=WORKSHEET!$B$1,I445,\"\")","v":""},"","GEORGIA","Franklin County",37,"*","*","N/A",50,3.316512684006382E-2,7.0967741935483872E-2]
[153,null,6,"Fulton (Atlanta), GA - DeKalb, GA","GA: Fulton County (13121)","GA: Fulton County (13121)","13121","  Fulton  ",{"$f":"ROWS($L$2:L446)","v":445},{"$f":"IF(L446=WORKSHEET!$B$1,I446,\"\")","v":""},"","GEORGIA","Fulton County",2025,202,565,"*",2795,3.316512684006382E-2,0.115356355620867]
[173,null,6,"Gilmer, GA - Fannin, GA","GA: Gilmer County (13123)","GA: Gilmer County (13123)","13123","  Gilmer  ",{"$f":"ROWS($L$2:L447)","v":446},{"$f":"IF(L447=WORKSHEET!$B$1,I447,\"\")","v":""},"","GEORGIA","Gilmer County",35,{"$f":"+R447-N447-P447","v":7},14,"N/A",56,3.316512684006382E-2,9.0909090909090912E-2]
[152,null,6,"Warren, GA - Glascock, GA","GA: Glascock County (13125)","GA: Glascock County (13125)","13125","  Glascock  ",{"$f":"ROWS($L$2:L448)","v":447},{"$f":"IF(L448=WORKSHEET!$B$1,I448,\"\")","v":""},"","GEORGIA","Glascock County","*","N/A","N/A","N/A","*",3.316512684006382E-2,9.9939061547836688E-2]
[890,158,6,"Glynn, GA - Camden, GA","GA: Glynn County (13127)","GA: Glynn County (13127)","13127","  Glynn  ",{"$f":"ROWS($L$2:L449)","v":448},{"$f":"IF(L449=WORKSHEET!$B$1,I449,\"\")","v":""},"","GEORGIA","Glynn County",205,24,69,"*",300,3.316512684006382E-2,9.6146508966043501E-2]
[154,null,6,"Floyd, GA - Bartow, GA","GA: Gordon County (13129)","GA: Gordon County (13129)","13129","  Gordon  ",{"$f":"ROWS($L$2:L450)","v":449},{"$f":"IF(L450=WORKSHEET!$B$1,I450,\"\")","v":""},"","GEORGIA","Gordon County",63,14,35,"*",113,3.316512684006382E-2,0.11052631578947368]
[178,null,6,"Thomas, GA - Mitchell, GA","GA: Grady County (13131)","GA: Grady County (13131)","13131","  Grady  ",{"$f":"ROWS($L$2:L451)","v":450},{"$f":"IF(L451=WORKSHEET!$B$1,I451,\"\")","v":""},{"$f":"IFERROR(SMALL($J$2:$J$3142,I451),\"\")","v":""},"GEORGIA","Grady County",65,"*","*","*",82,3.316512684006382E-2,0.10422535211267606]
[164,null,6,"Morgan, GA - Greene, GA","GA: Greene County (13133)","GA: Greene County (13133)","13133","  Greene  ",{"$f":"ROWS($L$2:L452)","v":451},{"$f":"IF(L452=WORKSHEET!$B$1,I452,\"\")","v":""},"","GEORGIA","Greene County",62,{"$f":"+R452-N452-P452","v":2},16,"N/A",80,3.316512684006382E-2,9.0909090909090912E-2]
[153,null,6,"Fulton (Atlanta), GA - DeKalb, GA","GA: Gwinnett County (13135)","GA: Gwinnett County (13135)","13135","  Gwinnett  ",{"$f":"ROWS($L$2:L453)","v":452},{"$f":"IF(L453=WORKSHEET!$B$1,I453,\"\")","v":""},"","GEORGIA","Gwinnett County",804,145,438,"*",1390,3.316512684006382E-2,0.115356355620867]
[157,null,6,"Hall, GA - Habersham, GA","GA: Habersham County (13137)","GA: Habersham County (13137)","13137","  Habersham  ",{"$f":"ROWS($L$2:L454)","v":453},{"$f":"IF(L454=WORKSHEET!$B$1,I454,\"\")","v":""},"","GEORGIA","Habersham County",46,{"$f":"+R454-N454-P454","v":9},23,"*",78,3.316512684006382E-2,0.14420803782505912]
[157,null,6,"Hall, GA - Habersham, GA","GA: Hall County (13139)","GA: Hall County (13139)","13139","  Hall  ",{"$f":"ROWS($L$2:L455)","v":454},{"$f":"IF(L455=WORKSHEET!$B$1,I455,\"\")","v":""},"","GEORGIA","Hall County",221,29,84,"*",335,3.316512684006382E-2,0.14420803782505912]
[201,null,6,"Putnam, GA - Hancock, GA","GA: Hancock County (13141)","GA: Hancock County (13141)","13141","  Hancock  ",{"$f":"ROWS($L$2:L456)","v":455},{"$f":"IF(L456=WORKSHEET!$B$1,I456,\"\")","v":""},"","GEORGIA","Hancock County",48,"*","*","N/A",55,3.316512684006382E-2,6.222222222222222E-2]
[896,177,6,"Carroll, GA - Haralson, GA","GA: Haralson County (13143)","GA: Haralson County (13143)","13143","  Haralson  ",{"$f":"ROWS($L$2:L457)","v":456},{"$f":"IF(L457=WORKSHEET!$B$1,I457,\"\")","v":""},"","GEORGIA","Haralson County",36,{"$f":"+R457-N457-P457","v":6},12,"N/A",54,3.316512684006382E-2,0.1702127659574468]
[893,166,6,"Muscogee (Columbus), GA - Harris, GA","GA: Harris County (13145)","GA: Harris County (13145)","13145","  Harris  ",{"$f":"ROWS($L$2:L458)","v":457},{"$f":"IF(L458=WORKSHEET!$B$1,I458,\"\")","v":""},"","GEORGIA","Harris County",35,"*","*","N/A",49,3.316512684006382E-2,0.16097023153252479]
[216,null,6,"Stephens, GA - Hart, GA","GA: Hart County (13147)","GA: Hart County (13147)","13147","  Hart  ",{"$f":"ROWS($L$2:L459)","v":458},{"$f":"IF(L459=WORKSHEET!$B$1,I459,\"\")","v":""},"","GEORGIA","Hart County",52,{"$f":"+R459-N459-P459","v":5},12,"N/A",69,3.316512684006382E-2,7.0967741935483872E-2]
[894,172,6,"Coweta, GA - Troup (La Grange), GA","GA: Heard County (13149)","GA: Heard County (13149)","13149","  Heard  ",{"$f":"ROWS($L$2:L460)","v":459},{"$f":"IF(L460=WORKSHEET!$B$1,I460,\"\")","v":""},"","GEORGIA","Heard County",16,"*","*","N/A",22,3.316512684006382E-2,0.10616438356164383]
[825,153,6,"Henry, GA - Forsyth, GA","GA: Henry County (13151)","GA: Henry County (13151)","13151","  Henry  ",{"$f":"ROWS($L$2:L461)","v":460},{"$f":"IF(L461=WORKSHEET!$B$1,I461,\"\")","v":""},"","GEORGIA","Henry County",331,67,153,"*",552,3.316512684006382E-2,0.115356355620867]
[193,null,6,"Bibb (Macon), GA - Houston, GA","GA: Houston County (13153)","GA: Houston County (13153)","13153","  Houston  ",{"$f":"ROWS($L$2:L462)","v":461},{"$f":"IF(L462=WORKSHEET!$B$1,I462,\"\")","v":""},"","GEORGIA","Houston County",270,36,62,"*",370,3.316512684006382E-2,0.10352264557872035]
[189,null,6,"Tift, GA - Ben Hill, GA","GA: Irwin County (13155)","GA: Irwin County (13155)","13155","  Irwin  ",{"$f":"ROWS($L$2:L463)","v":462},{"$f":"IF(L463=WORKSHEET!$B$1,I463,\"\")","v":""},"","GEORGIA","Irwin County",19,"*","*","N/A",23,3.316512684006382E-2,9.5000000000000001E-2]
[829,164,6,"Clarke (Athens), GA - Barrow, GA","GA: Jackson County (13157)","GA: Jackson County (13157)","13157","  Jackson  ",{"$f":"ROWS($L$2:L464)","v":463},{"$f":"IF(L464=WORKSHEET!$B$1,I464,\"\")","v":""},"","GEORGIA","Jackson County",73,13,35,"N/A",121,3.316512684006382E-2,9.0909090909090912E-2]
[220,null,6,"Jasper, GA","GA: Jasper County (13159)","GA: Jasper County (13159)","13159","  Jasper  ",{"$f":"ROWS($L$2:L465)","v":464},{"$f":"IF(L465=WORKSHEET!$B$1,I465,\"\")","v":""},"","GEORGIA","Jasper County",25,"*","*","N/A",32,3.316512684006382E-2,9.7560975609756101E-2]
[236,null,6,"Coffee, GA - Jeff Davis, GA","GA: Jeff Davis County (13161)","GA: Jeff Davis County (13161)","13161","  Jeff Davis  ",{"$f":"ROWS($L$2:L466)","v":465},{"$f":"IF(L466=WORKSHEET!$B$1,I466,\"\")","v":""},"","GEORGIA","Jeff Davis County",13,"*","*","N/A",20,3.316512684006382E-2,9.2436974789915971E-2]
[250,null,6,"Washington, GA - Jefferson, GA","GA: Jefferson County (13163)","GA: Jefferson County (13163)","13163","  Jefferson  ",{"$f":"ROWS($L$2:L467)","v":466},{"$f":"IF(L467=WORKSHEET!$B$1,I467,\"\")","v":""},"","GEORGIA","Jefferson County",83,{"$f":"+R467-N467-P467","v":4},18,"N/A",105,3.316512684006382E-2,4.8484848484848485E-2]
[830,152,6,"Richmond (South Augusta), GA - Columbia, GA","GA: Jenkins County (13165)","GA: Jenkins County (13165)","13165","  Jenkins  ",{"$f":"ROWS($L$2:L468)","v":467},{"$f":"IF(L468=WORKSHEET!$B$1,I468,\"\")","v":""},"","GEORGIA","Jenkins County",35,"*","*","N/A",43,3.316512684006382E-2,9.9939061547836688E-2]
[206,null,6,"Laurens, GA - Toombs, GA","GA: Johnson County (13167)","GA: Johnson County (13167)","13167","  Johnson  ",{"$f":"ROWS($L$2:L469)","v":468},{"$f":"IF(L469=WORKSHEET!$B$1,I469,\"\")","v":""},"","GEORGIA","Johnson County",15,"*","*","N/A",22,3.316512684006382E-2,0.13802083333333334]
[193,null,6,"Bibb (Macon), GA - Houston, GA","GA: Jones County (13169)","GA: Jones County (13169)","13169","  Jones  ",{"$f":"ROWS($L$2:L470)","v":469},{"$f":"IF(L470=WORKSHEET!$B$1,I470,\"\")","v":""},"","GEORGIA","Jones County",28,"*","*","N/A",36,3.316512684006382E-2,0.10352264557872035]
[269,null,6,"Upson, GA - Lamar, GA","GA: Lamar County (13171)","GA: Lamar County (13171)","13171","  Lamar  ",{"$f":"ROWS($L$2:L471)","v":470},{"$f":"IF(L471=WORKSHEET!$B$1,I471,\"\")","v":""},"","GEORGIA","Lamar County",28,11,"*","N/A",48,3.316512684006382E-2,0.19259259259259259]
[180,null,6,"Lowndes, GA - Brooks, GA","GA: Lanier County (13173)","GA: Lanier County (13173)","13173","  Lanier  ",{"$f":"ROWS($L$2:L472)","v":471},{"$f":"IF(L472=WORKSHEET!$B$1,I472,\"\")","v":""},"","GEORGIA","Lanier County",15,"*","*","N/A",23,3.316512684006382E-2,8.9552238805970144E-2]
[206,null,6,"Laurens, GA - Toombs, GA","GA: Laurens County (13175)","GA: Laurens County (13175)","13175","  Laurens  ",{"$f":"ROWS($L$2:L473)","v":472},{"$f":"IF(L473=WORKSHEET!$B$1,I473,\"\")","v":""},"","GEORGIA","Laurens County",162,23,36,"*",223,3.316512684006382E-2,0.13802083333333334]
[144,null,6,"Dougherty (Albany), GA - Lee, GA","GA: Lee County (13177)","GA: Lee County (13177)","13177","  Lee  ",{"$f":"ROWS($L$2:L474)","v":473},{"$f":"IF(L474=WORKSHEET!$B$1,I474,\"\")","v":""},"","GEORGIA","Lee County",31,13,15,"N/A",59,3.316512684006382E-2,0.12917933130699089]
[143,null,6,"Chatham (Savannah), GA - Liberty, GA","GA: Liberty County (13179)","GA: Liberty County (13179)","13179","  Liberty  ",{"$f":"ROWS($L$2:L475)","v":474},{"$f":"IF(L475=WORKSHEET!$B$1,I475,\"\")","v":""},"","GEORGIA","Liberty County",86,16,25,"N/A",127,3.316512684006382E-2,0.11739502999143102]
[830,152,6,"Richmond (South Augusta), GA - Columbia, GA","GA: Lincoln County (13181)","GA: Lincoln County (13181)","13181","  Lincoln  ",{"$f":"ROWS($L$2:L476)","v":475},{"$f":"IF(L476=WORKSHEET!$B$1,I476,\"\")","v":""},"","GEORGIA","Lincoln County",23,"N/A","*","N/A",28,3.316512684006382E-2,9.9939061547836688E-2]
[143,null,6,"Chatham (Savannah), GA - Liberty, GA","GA: Long County (13183)","GA: Long County (13183)","13183","  Long  ",{"$f":"ROWS($L$2:L477)","v":476},{"$f":"IF(L477=WORKSHEET!$B$1,I477,\"\")","v":""},"","GEORGIA","Long County",13,"*","*","N/A",16,3.316512684006382E-2,0.11739502999143102]
[180,null,6,"Lowndes, GA - Brooks, GA","GA: Lowndes County (13185)","GA: Lowndes County (13185)","13185","  Lowndes  ",{"$f":"ROWS($L$2:L478)","v":477},{"$f":"IF(L478=WORKSHEET!$B$1,I478,\"\")","v":""},"","GEORGIA","Lowndes County",230,26,67,"N/A",323,3.316512684006382E-2,8.9552238805970144E-2]
[157,null,6,"Hall, GA - Habersham, GA","GA: Lumpkin County (13187)","GA: Lumpkin County (13187)","13187","  Lumpkin  ",{"$f":"ROWS($L$2:L479)","v":478},{"$f":"IF(L479=WORKSHEET!$B$1,I479,\"\")","v":""},"","GEORGIA","Lumpkin County",15,{"$f":"+R479-N479-P479","v":2},13,"N/A",30,3.316512684006382E-2,0.14420803782505912]
[197,null,6,"Sumter, GA - Crisp, GA","GA: Macon County (13193)","GA: Macon County (13193)","13193","  Macon  ",{"$f":"ROWS($L$2:L480)","v":479},{"$f":"IF(L480=WORKSHEET!$B$1,I480,\"\")","v":""},"","GEORGIA","Macon County",49,"*","*","N/A",57,3.316512684006382E-2,7.1428571428571425E-2]
[829,164,6,"Clarke (Athens), GA - Barrow, GA","GA: Madison County (13195)","GA: Madison County (13195)","13195","  Madison  ",{"$f":"ROWS($L$2:L481)","v":480},{"$f":"IF(L481=WORKSHEET!$B$1,I481,\"\")","v":""},"","GEORGIA","Madison County",44,{"$f":"+R481-N481-P481","v":3},18,"N/A",65,3.316512684006382E-2,9.0909090909090912E-2]
[893,166,6,"Muscogee (Columbus), GA - Harris, GA","GA: Marion County (13197)","GA: Marion County (13197)","13197","  Marion  ",{"$f":"ROWS($L$2:L482)","v":481},{"$f":"IF(L482=WORKSHEET!$B$1,I482,\"\")","v":""},"","GEORGIA","Marion County","*","*","*","N/A",21,3.316512684006382E-2,0.16097023153252479]
[830,152,6,"Richmond (South Augusta), GA - Columbia, GA","GA: McDuffie County (13189)","GA: McDuffie County (13189)","13189","  Mc Duffie  ",{"$f":"ROWS($L$2:L483)","v":482},{"$f":"IF(L483=WORKSHEET!$B$1,I483,\"\")","v":""},"","GEORGIA","McDuffie County",74,{"$f":"+R483-N483-P483","v":9},18,"N/A",101,3.316512684006382E-2,9.9939061547836688E-2]
[890,158,6,"Glynn, GA - Camden, GA","GA: McIntosh County (13191)","GA: McIntosh County (13191)","13191","  Mc Intosh  ",{"$f":"ROWS($L$2:L484)","v":483},{"$f":"IF(L484=WORKSHEET!$B$1,I484,\"\")","v":""},"","GEORGIA","McIntosh County",25,"*","*","*",42,3.316512684006382E-2,9.6146508966043501E-2]
[894,172,6,"Coweta, GA - Troup (La Grange), GA","GA: Meriwether County (13199)","GA: Meriwether County (13199)","13199","  Meriwether  ",{"$f":"ROWS($L$2:L485)","v":484},{"$f":"IF(L485=WORKSHEET!$B$1,I485,\"\")","v":""},"","GEORGIA","Meriwether County",70,"*","*","N/A",85,3.316512684006382E-2,0.10616438356164383]
[228,null,6,"Decatur, GA - Seminole, GA","GA: Miller County (13201)","GA: Miller County (13201)","13201","  Miller  ",{"$f":"ROWS($L$2:L486)","v":485},{"$f":"IF(L486=WORKSHEET!$B$1,I486,\"\")","v":""},"","GEORGIA","Miller County","*","*","*","N/A",14,3.316512684006382E-2,0.16935483870967741]
[178,null,6,"Thomas, GA - Mitchell, GA","GA: Mitchell County (13205)","GA: Mitchell County (13205)","13205","  Mitchell  ",{"$f":"ROWS($L$2:L487)","v":486},{"$f":"IF(L487=WORKSHEET!$B$1,I487,\"\")","v":""},"","GEORGIA","Mitchell County",78,{"$f":"+R487-N487-P487","v":7},11,"N/A",96,3.316512684006382E-2,0.10422535211267606]
[193,null,6,"Bibb (Macon), GA - Houston, GA","GA: Monroe County (13207)","GA: Monroe County (13207)","13207","  Monroe  ",{"$f":"ROWS($L$2:L488)","v":487},{"$f":"IF(L488=WORKSHEET!$B$1,I488,\"\")","v":""},"","GEORGIA","Monroe County",57,{"$f":"+R488-N488-P488","v":4},12,"N/A",73,3.316512684006382E-2,0.10352264557872035]
[206,null,6,"Laurens, GA - Toombs, GA","GA: Montgomery County (13209)","GA: Montgomery County (13209)","13209","  Montgomery  ",{"$f":"ROWS($L$2:L489)","v":488},{"$f":"IF(L489=WORKSHEET!$B$1,I489,\"\")","v":""},"","GEORGIA","Montgomery County","*","*","*","N/A",18,3.316512684006382E-2,0.13802083333333334]
[164,null,6,"Morgan, GA - Greene, GA","GA: Morgan County (13211)","GA: Morgan County (13211)","13211","  Morgan  ",{"$f":"ROWS($L$2:L490)","v":489},{"$f":"IF(L490=WORKSHEET!$B$1,I490,\"\")","v":""},"","GEORGIA","Morgan County",36,{"$f":"+R490-N490-P490","v":4},19,"N/A",59,3.316512684006382E-2,9.0909090909090912E-2]
[145,null,6,"Whitfield, GA - Murray, GA","GA: Murray County (13213)","GA: Murray County (13213)","13213","  Murray  ",{"$f":"ROWS($L$2:L491)","v":490},{"$f":"IF(L491=WORKSHEET!$B$1,I491,\"\")","v":""},"","GEORGIA","Murray County",38,{"$f":"+R491-N491-P491","v":7},15,"N/A",60,3.316512684006382E-2,0.13259668508287292]
[893,166,6,"Muscogee (Columbus), GA - Harris, GA","GA: Muscogee County (13215)","GA: Muscogee County (13215)","13215","  Muscogee  ",{"$f":"ROWS($L$2:L492)","v":491},{"$f":"IF(L492=WORKSHEET!$B$1,I492,\"\")","v":""},"","GEORGIA","Muscogee County",512,97,100,"*",710,3.316512684006382E-2,0.16097023153252479]
[827,220,6,"Newton (Covington), GA","GA: Newton County (13217)","GA: Newton County (13217)","13217","  Newton  ",{"$f":"ROWS($L$2:L493)","v":492},{"$f":"IF(L493=WORKSHEET!$B$1,I493,\"\")","v":""},"","GEORGIA","Newton County",271,30,71,"*",373,3.316512684006382E-2,9.7560975609756101E-2]
[829,164,6,"Clarke (Athens), GA - Barrow, GA","GA: Oconee County (13219)","GA: Oconee County (13219)","13219","  Oconee  ",{"$f":"ROWS($L$2:L494)","v":493},{"$f":"IF(L494=WORKSHEET!$B$1,I494,\"\")","v":""},"","GEORGIA","Oconee County",25,{"$f":"+R494-N494-P494","v":0},27,"N/A",52,3.316512684006382E-2,9.0909090909090912E-2]
[829,164,6,"Clarke (Athens), GA - Barrow, GA","GA: Oglethorpe County (13221)","GA: Oglethorpe County (13221)","13221","  Oglethorpe  ",{"$f":"ROWS($L$2:L495)","v":494},{"$f":"IF(L495=WORKSHEET!$B$1,I495,\"\")","v":""},"","GEORGIA","Oglethorpe County",13,"*","*","N/A",19,3.316512684006382E-2,9.0909090909090912E-2]
[826,190,6,"Cherokee, GA - Douglas, GA","GA: Paulding County (13223)","GA: Paulding County (13223)","13223","  Paulding  ",{"$f":"ROWS($L$2:L496)","v":495},{"$f":"IF(L496=WORKSHEET!$B$1,I496,\"\")","v":""},"","GEORGIA","Paulding County",131,18,53,"N/A",202,3.316512684006382E-2,0.15786350148367953]
[193,null,6,"Bibb (Macon), GA - Houston, GA","GA: Peach County (13225)","GA: Peach County (13225)","13225","  Peach  ",{"$f":"ROWS($L$2:L497)","v":496},{"$f":"IF(L497=WORKSHEET!$B$1,I497,\"\")","v":""},"","GEORGIA","Peach County",98,21,14,"*",135,3.316512684006382E-2,0.10352264557872035]
[826,190,6,"Cherokee, GA - Douglas, GA","GA: Pickens County (13227)","GA: Pickens County (13227)","13227","  Pickens  ",{"$f":"ROWS($L$2:L498)","v":497},{"$f":"IF(L498=WORKSHEET!$B$1,I498,\"\")","v":""},"","GEORGIA","Pickens County",36,{"$f":"+R498-N498-P498","v":7},13,"N/A",56,3.316512684006382E-2,0.15786350148367953]
[174,null,6,"Ware, GA - Pierce, GA","GA: Pierce County (13229)","GA: Pierce County (13229)","13229","  Pierce  ",{"$f":"ROWS($L$2:L499)","v":498},{"$f":"IF(L499=WORKSHEET!$B$1,I499,\"\")","v":""},"","GEORGIA","Pierce County",34,"N/A","*","N/A",43,3.316512684006382E-2,5.5214723926380369E-2]
[269,null,6,"Upson, GA - Lamar, GA","GA: Pike County (13231)","GA: Pike County (13231)","13231","  Pike  ",{"$f":"ROWS($L$2:L500)","v":499},{"$f":"IF(L500=WORKSHEET!$B$1,I500,\"\")","v":""},"","GEORGIA","Pike County",31,{"$f":"+R500-N500-P500","v":1},15,"N/A",47,3.316512684006382E-2,0.19259259259259259]
[154,null,6,"Floyd, GA - Bartow, GA","GA: Polk County (13233)","GA: Polk County (13233)","13233","  Polk  ",{"$f":"ROWS($L$2:L501)","v":500},{"$f":"IF(L501=WORKSHEET!$B$1,I501,\"\")","v":""},"","GEORGIA","Polk County",71,{"$f":"+R501-N501-P501","v":7},23,"N/A",101,3.316512684006382E-2,0.11052631578947368]
[193,null,6,"Bibb (Macon), GA - Houston, GA","GA: Pulaski County (13235)","GA: Pulaski County (13235)","13235","  Pulaski  ",{"$f":"ROWS($L$2:L502)","v":501},{"$f":"IF(L502=WORKSHEET!$B$1,I502,\"\")","v":""},"","GEORGIA","Pulaski County",39,"*","*","N/A",49,3.316512684006382E-2,0.10352264557872035]
[201,null,6,"Putnam, GA - Hancock, GA","GA: Putnam County (13237)","GA: Putnam County (13237)","13237","  Putnam  ",{"$f":"ROWS($L$2:L503)","v":502},{"$f":"IF(L503=WORKSHEET!$B$1,I503,\"\")","v":""},"","GEORGIA","Putnam County",40,"*","*","N/A",48,3.316512684006382E-2,6.222222222222222E-2]
[891,162,6,"Quitman, GA","GA: Quitman County (13239)","GA: Quitman County (13239)","13239","  Quitman  ",{"$f":"ROWS($L$2:L504)","v":503},{"$f":"IF(L504=WORKSHEET!$B$1,I504,\"\")","v":""},"","GEORGIA","Quitman County","*","N/A","*","N/A","*",3.316512684006382E-2,0.116022099447514]
[268,null,6,"Rabun, GA","GA: Rabun County (13241)","GA: Rabun County (13241)","13241","  Rabun  ",{"$f":"ROWS($L$2:L505)","v":504},{"$f":"IF(L505=WORKSHEET!$B$1,I505,\"\")","v":""},"","GEORGIA","Rabun County",26,"*","*","N/A",34,3.316512684006382E-2,3.7037037037037035E-2]
[144,null,6,"Dougherty (Albany), GA - Lee, GA","GA: Randolph County (13243)","GA: Randolph County (13243)","13243","  Randolph  ",{"$f":"ROWS($L$2:L506)","v":505},{"$f":"IF(L506=WORKSHEET!$B$1,I506,\"\")","v":""},"","GEORGIA","Randolph County",26,"*","*","N/A",32,3.316512684006382E-2,0.12917933130699089]
[830,152,6,"Richmond (South Augusta), GA - Columbia, GA","GA: Richmond County (13245)","GA: Richmond County (13245)","13245","  Richmond  ",{"$f":"ROWS($L$2:L507)","v":506},{"$f":"IF(L507=WORKSHEET!$B$1,I507,\"\")","v":""},"","GEORGIA","Richmond County",679,46,137,"*",868,3.316512684006382E-2,9.9939061547836688E-2]
[825,153,6,"Henry, GA - Forsyth, GA","GA: Rockdale County (13247)","GA: Rockdale County (13247)","13247","  Rockdale  ",{"$f":"ROWS($L$2:L508)","v":507},{"$f":"IF(L508=WORKSHEET!$B$1,I508,\"\")","v":""},"","GEORGIA","Rockdale County",201,27,61,"*",290,3.316512684006382E-2,0.115356355620867]
[893,166,6,"Muscogee (Columbus), GA - Harris, GA","GA: Schley County (13249)","GA: Schley County (13249)","13249","  Schley  ",{"$f":"ROWS($L$2:L509)","v":508},{"$f":"IF(L509=WORKSHEET!$B$1,I509,\"\")","v":""},"","GEORGIA","Schley County","*","N/A","*","N/A","*",3.316512684006382E-2,0.16097023153252479]
[222,null,6,"Bulloch, GA - Emanuel, GA","GA: Screven County (13251)","GA: Screven County (13251)","13251","  Screven  ",{"$f":"ROWS($L$2:L510)","v":509},{"$f":"IF(L510=WORKSHEET!$B$1,I510,\"\")","v":""},"","GEORGIA","Screven County",40,{"$f":"+R510-N510-P510","v":5},13,"N/A",58,3.316512684006382E-2,0.12446351931330472]
[228,null,6,"Decatur, GA - Seminole, GA","GA: Seminole County (13253)","GA: Seminole County (13253)","13253","  Seminole  ",{"$f":"ROWS($L$2:L511)","v":510},{"$f":"IF(L511=WORKSHEET!$B$1,I511,\"\")","v":""},"","GEORGIA","Seminole County",22,11,"*","N/A",39,3.316512684006382E-2,0.16935483870967741]
[204,null,6,"Spalding (Griffin), GA - Butts, GA","GA: Spalding County (13255)","GA: Spalding County (13255)","13255","  Spalding  ",{"$f":"ROWS($L$2:L512)","v":511},{"$f":"IF(L512=WORKSHEET!$B$1,I512,\"\")","v":""},"","GEORGIA","Spalding County",158,18,28,"N/A",204,3.316512684006382E-2,9.6234309623430964E-2]
[216,null,6,"Stephens, GA - Hart, GA","GA: Stephens County (13257)","GA: Stephens County (13257)","13257","  Stephens  ",{"$f":"ROWS($L$2:L513)","v":512},{"$f":"IF(L513=WORKSHEET!$B$1,I513,\"\")","v":""},"","GEORGIA","Stephens County",55,{"$f":"+R513-N513-P513","v":3},19,"N/A",77,3.316512684006382E-2,7.0967741935483872E-2]
[893,166,6,"Muscogee (Columbus), GA - Harris, GA","GA: Stewart County (13259)","GA: Stewart County (13259)","13259","  Stewart  ",{"$f":"ROWS($L$2:L514)","v":513},{"$f":"IF(L514=WORKSHEET!$B$1,I514,\"\")","v":""},"","GEORGIA","Stewart County",22,"*","*","N/A",28,3.316512684006382E-2,0.16097023153252479]
[197,null,6,"Sumter, GA - Crisp, GA","GA: Sumter County (13261)","GA: Sumter County (13261)","13261","  Sumter  ",{"$f":"ROWS($L$2:L515)","v":514},{"$f":"IF(L515=WORKSHEET!$B$1,I515,\"\")","v":""},{"$f":"IFERROR(SMALL($J$2:$J$3142,I515),\"\")","v":""},"GEORGIA","Sumter County",108,"*","*","N/A",124,3.316512684006382E-2,7.1428571428571425E-2]
[893,166,6,"Muscogee (Columbus), GA - Harris, GA","GA: Talbot County (13263)","GA: Talbot County (13263)","13263","  Talbot  ",{"$f":"ROWS($L$2:L516)","v":515},{"$f":"IF(L516=WORKSHEET!$B$1,I516,\"\")","v":""},"","GEORGIA","Talbot County",18,"*","*","N/A",26,3.316512684006382E-2,0.16097023153252479]
[152,null,6,"Warren, GA - Glascock, GA","GA: Taliaferro County (13265)","GA: Taliaferro County (13265)","13265","  Taliaferro  ",{"$f":"ROWS($L$2:L517)","v":516},{"$f":"IF(L517=WORKSHEET!$B$1,I517,\"\")","v":""},"","GEORGIA","Taliaferro County","*","*","N/A","N/A","*",3.316512684006382E-2,9.9939061547836688E-2]
[143,null,6,"Chatham (Savannah), GA - Liberty, GA","GA: Tattnall County (13267)","GA: Tattnall County (13267)","13267","  Tattnall  ",{"$f":"ROWS($L$2:L518)","v":517},{"$f":"IF(L518=WORKSHEET!$B$1,I518,\"\")","v":""},"","GEORGIA","Tattnall County",34,11,{"$f":"+R518-N518-O518","v":7},"N/A",52,3.316512684006382E-2,0.11739502999143102]
[193,null,6,"Bibb (Macon), GA - Houston, GA","GA: Taylor County (13269)","GA: Taylor County (13269)","13269","  Taylor  ",{"$f":"ROWS($L$2:L519)","v":518},{"$f":"IF(L519=WORKSHEET!$B$1,I519,\"\")","v":""},"","GEORGIA","Taylor County",19,"*","*","N/A",27,3.316512684006382E-2,0.10352264557872035]
[206,null,6,"Laurens, GA - Toombs, GA","GA: Telfair County (13271)","GA: Telfair County (13271)","13271","  Telfair  ",{"$f":"ROWS($L$2:L520)","v":519},{"$f":"IF(L520=WORKSHEET!$B$1,I520,\"\")","v":""},"","GEORGIA","Telfair County",31,"*","*","N/A",38,3.316512684006382E-2,0.13802083333333334]
[144,null,6,"Dougherty (Albany), GA - Lee, GA","GA: Terrell County (13273)","GA: Terrell County (13273)","13273","  Terrell  ",{"$f":"ROWS($L$2:L521)","v":520},{"$f":"IF(L521=WORKSHEET!$B$1,I521,\"\")","v":""},"","GEORGIA","Terrell County",44,"*","*","N/A",59,3.316512684006382E-2,0.12917933130699089]
[178,null,6,"Thomas, GA - Mitchell, GA","GA: Thomas County (13275)","GA: Thomas County (13275)","13275","  Thomas  ",{"$f":"ROWS($L$2:L522)","v":521},{"$f":"IF(L522=WORKSHEET!$B$1,I522,\"\")","v":""},"","GEORGIA","Thomas County",175,22,17,"N/A",214,3.316512684006382E-2,0.10422535211267606]
[189,null,6,"Tift, GA - Ben Hill, GA","GA: Tift County (13277)","GA: Tift County (13277)","13277","  Tift  ",{"$f":"ROWS($L$2:L523)","v":522},{"$f":"IF(L523=WORKSHEET!$B$1,I523,\"\")","v":""},"","GEORGIA","Tift County",90,{"$f":"+R523-N523-P523","v":9},15,"N/A",114,3.316512684006382E-2,9.5000000000000001E-2]
[206,null,6,"Laurens, GA - Toombs, GA","GA: Toombs County (13279)","GA: Toombs County (13279)","13279","  Toombs  ",{"$f":"ROWS($L$2:L524)","v":523},{"$f":"IF(L524=WORKSHEET!$B$1,I524,\"\")","v":""},"","GEORGIA","Toombs County",49,{"$f":"+R524-N524-P524","v":6},16,"*",71,3.316512684006382E-2,0.13802083333333334]
[157,null,6,"Hall, GA - Habersham, GA","GA: Towns County (13281)","GA: Towns County (13281)","13281","  Towns  ",{"$f":"ROWS($L$2:L525)","v":524},{"$f":"IF(L525=WORKSHEET!$B$1,I525,\"\")","v":""},"","GEORGIA","Towns County",13,"*","*","N/A",20,3.316512684006382E-2,0.14420803782505912]
[206,null,6,"Laurens, GA - Toombs, GA","GA: Treutlen County (13283)","GA: Treutlen County (13283)","13283","  Treutlen  ",{"$f":"ROWS($L$2:L526)","v":525},{"$f":"IF(L526=WORKSHEET!$B$1,I526,\"\")","v":""},"","GEORGIA","Treutlen County",20,"*","*","*",28,3.316512684006382E-2,0.13802083333333334]
[894,172,6,"Coweta, GA - Troup (La Grange), GA","GA: Troup County (13285)","GA: Troup County (13285)","13285","  Troup  ",{"$f":"ROWS($L$2:L527)","v":526},{"$f":"IF(L527=WORKSHEET!$B$1,I527,\"\")","v":""},"","GEORGIA","Troup County",156,19,40,"*",216,3.316512684006382E-2,0.10616438356164383]
[189,null,6,"Tift, GA - Ben Hill, GA","GA: Turner County (13287)","GA: Turner County (13287)","13287","  Turner  ",{"$f":"ROWS($L$2:L528)","v":527},{"$f":"IF(L528=WORKSHEET!$B$1,I528,\"\")","v":""},"","GEORGIA","Turner County",22,"*","*","N/A",27,3.316512684006382E-2,9.5000000000000001E-2]
[193,null,6,"Bibb (Macon), GA - Houston, GA","GA: Twiggs County (13289)","GA: Twiggs County (13289)","13289","  Twiggs  ",{"$f":"ROWS($L$2:L529)","v":528},{"$f":"IF(L529=WORKSHEET!$B$1,I529,\"\")","v":""},"","GEORGIA","Twiggs County",39,"*","*","N/A",47,3.316512684006382E-2,0.10352264557872035]
[157,null,6,"Hall, GA - Habersham, GA","GA: Union County (13291)","GA: Union County (13291)","13291","  Union  ",{"$f":"ROWS($L$2:L530)","v":529},{"$f":"IF(L530=WORKSHEET!$B$1,I530,\"\")","v":""},"","GEORGIA","Union County",16,{"$f":"+R530-N530-P530","v":3},11,"N/A",30,3.316512684006382E-2,0.14420803782505912]
[269,null,6,"Upson, GA - Lamar, GA","GA: Upson County (13293)","GA: Upson County (13293)","13293","  Upson  ",{"$f":"ROWS($L$2:L531)","v":530},{"$f":"IF(L531=WORKSHEET!$B$1,I531,\"\")","v":""},"","GEORGIA","Upson County",50,14,17,"N/A",81,3.316512684006382E-2,0.19259259259259301]
[141,null,6,"Walker, GA - Catoosa, GA","GA: Walker County (13295)","GA: Walker County (13295)","13295","  Walker  ",{"$f":"ROWS($L$2:L532)","v":531},{"$f":"IF(L532=WORKSHEET!$B$1,I532,\"\")","v":""},"","GEORGIA","Walker County",108,{"$f":"+R532-N532-P532","v":5},40,"*",153,3.316512684006382E-2,5.6541019955654102E-2]
[825,153,6,"Henry, GA - Forsyth, GA","GA: Walton County (13297)","GA: Walton County (13297)","13297","  Walton  ",{"$f":"ROWS($L$2:L533)","v":532},{"$f":"IF(L533=WORKSHEET!$B$1,I533,\"\")","v":""},"","GEORGIA","Walton County",164,20,57,"*",242,3.316512684006382E-2,0.115356355620867]
[174,null,6,"Ware, GA - Pierce, GA","GA: Ware County (13299)","GA: Ware County (13299)","13299","  Ware  ",{"$f":"ROWS($L$2:L534)","v":533},{"$f":"IF(L534=WORKSHEET!$B$1,I534,\"\")","v":""},"","GEORGIA","Ware County",83,{"$f":"+R534-N534-P534","v":4},16,"N/A",103,3.316512684006382E-2,5.5214723926380369E-2]
[152,null,6,"Warren, GA - Glascock, GA","GA: Warren County (13301)","GA: Warren County (13301)","13301","  Warren  ",{"$f":"ROWS($L$2:L535)","v":534},{"$f":"IF(L535=WORKSHEET!$B$1,I535,\"\")","v":""},"","GEORGIA","Warren County",29,"*","*","*",34,3.316512684006382E-2,9.9939061547836688E-2]
[250,null,6,"Washington, GA - Jefferson, GA","GA: Washington County (13303)","GA: Washington County (13303)","13303","  Washington  ",{"$f":"ROWS($L$2:L536)","v":535},{"$f":"IF(L536=WORKSHEET!$B$1,I536,\"\")","v":""},"","GEORGIA","Washington County",74,"*","*","N/A",85,3.316512684006382E-2,4.8484848484848485E-2]
[230,null,6,"Wayne, GA - Appling, GA","GA: Wayne County (13305)","GA: Wayne County (13305)","13305","  Wayne  ",{"$f":"ROWS($L$2:L537)","v":536},{"$f":"IF(L537=WORKSHEET!$B$1,I537,\"\")","v":""},"","GEORGIA","Wayne County",58,{"$f":"+R537-N537-P537","v":9},23,"N/A",90,3.316512684006382E-2,0.13207547169811321]
[893,166,6,"Muscogee (Columbus), GA - Harris, GA","GA: Webster County (13307)","GA: Webster County (13307)","13307","  Webster  ",{"$f":"ROWS($L$2:L538)","v":537},{"$f":"IF(L538=WORKSHEET!$B$1,I538,\"\")","v":""},"","GEORGIA","Webster County","*","*","*","N/A",11,3.316512684006382E-2,0.16097023153252479]
[206,null,6,"Laurens, GA - Toombs, GA","GA: Wheeler County (13309)","GA: Wheeler County (13309)","13309","  Wheeler  ",{"$f":"ROWS($L$2:L539)","v":538},{"$f":"IF(L539=WORKSHEET!$B$1,I539,\"\")","v":""},"","GEORGIA","Wheeler County","*","*","*","N/A","*",3.316512684006382E-2,0.13802083333333334]
[157,null,6,"Hall, GA - Habersham, GA","GA: White County (13311)","GA: White County (13311)","13311","  White  ",{"$f":"ROWS($L$2:L540)","v":539},{"$f":"IF(L540=WORKSHEET!$B$1,I540,\"\")","v":""},"","GEORGIA","White County",21,{"$f":"+R540-N540-P540","v":6},13,"N/A",40,3.316512684006382E-2,0.14420803782505912]
[145,null,6,"Whitfield, GA - Murray, GA","GA: Whitfield County (13313)","GA: Whitfield County (13313)","13313","  Whitfield  ",{"$f":"ROWS($L$2:L541)","v":540},{"$f":"IF(L541=WORKSHEET!$B$1,I541,\"\")","v":""},"","GEORGIA","Whitfield County",119,17,58,"N/A",194,3.316512684006382E-2,0.13259668508287292]
[197,null,6,"Sumter, GA - Crisp, GA","GA: Wilcox County (13315)","GA: Wilcox County (13315)","13315","  Wilcox  ",{"$f":"ROWS($L$2:L542)","v":541},{"$f":"IF(L542=WORKSHEET!$B$1,I542,\"\")","v":""},"","GEORGIA","Wilcox County",23,"*","*","N/A",29,3.316512684006382E-2,7.1428571428571425E-2]
[253,null,6,"Elbert, GA - Wilkes, GA","GA: Wilkes County (13317)","GA: Wilkes County (13317)","13317","  Wilkes  ",{"$f":"ROWS($L$2:L543)","v":542},{"$f":"IF(L543=WORKSHEET!$B$1,I543,\"\")","v":""},"","GEORGIA","Wilkes County",41,"N/A","*","N/A",49,3.316512684006382E-2,1.1764705882352941E-2]
[193,null,6,"Bibb (Macon), GA - Houston, GA","GA: Wilkinson County (13319)","GA: Wilkinson County (13319)","13319","  Wilkinson  ",{"$f":"ROWS($L$2:L544)","v":543},{"$f":"IF(L544=WORKSHEET!$B$1,I544,\"\")","v":""},"","GEORGIA","Wilkinson County",46,"*","*","N/A",54,3.316512684006382E-2,0.10352264557872035]
[144,null,6,"Dougherty (Albany), GA - Lee, GA","GA: Worth County (13321)","GA: Worth County (13321)","13321","  Worth  ",{"$f":"ROWS($L$2:L545)","v":544},{"$f":"IF(L545=WORKSHEET!$B$1,I545,\"\")","v":""},"","GEORGIA","Worth County",46,11,"*","N/A",61,3.316512684006382E-2,0.12917933130699089]
[823,null,17,"Hawaii, HI","HI: Hawaii County (15001)","HI: Hawaii County (15001)","15001","Hawaii  ",{"$f":"ROWS($L$2:L546)","v":545},{"$f":"IF(L546=WORKSHEET!$B$1,I546,\"\")","v":""},"","HAWAII","Hawaii County",341,43,72,"*",457,3.1728415956437557E-2,0.11197916666666667]
[821,null,17,"Honolulu (Honolulu), HI - Maui, HI","HI: Honolulu County (15003)","HI: Honolulu County (15003)","15003","  Honolulu  ",{"$f":"ROWS($L$2:L547)","v":546},{"$f":"IF(L547=WORKSHEET!$B$1,I547,\"\")","v":""},"","HAWAII","Honolulu County",2454,227,629,"*",3316,3.1728415956437557E-2,8.6066904839233516E-2]
[821,null,17,"Honolulu (Honolulu), HI - Maui, HI","HI: Kalawao County (15005)","HI: Kalawao County (15005)","15005",null,{"$f":"ROWS($L$2:L548)","v":547},{"$f":"IF(L548=WORKSHEET!$B$1,I548,\"\")","v":""},"","HAWAII","Kalawao County",null,null,null,null,null,3.1728415956437557E-2,8.6066904839233516E-2]
[822,null,17,"Kauai, HI","HI: Kauai County (15007)","HI: Kauai County (15007)","15007","  Kauai  ",{"$f":"ROWS($L$2:L549)","v":548},{"$f":"IF(L549=WORKSHEET!$B$1,I549,\"\")","v":""},"","HAWAII","Kauai County",105,12,35,"N/A",152,3.1728415956437557E-2,0.10256410256410256]
[821,null,17,"Honolulu (Honolulu), HI - Maui, HI","HI: Maui County (15009)","HI: Maui County (15009)","15009","  Maui  ",{"$f":"ROWS($L$2:L550)","v":549},{"$f":"IF(L550=WORKSHEET!$B$1,I550,\"\")","v":""},"","HAWAII","Maui County",360,38,88,"N/A",486,3.1728415956437557E-2,8.6066904839233516E-2]
[546,null,12,"Polk (Des Moines), IA - Dallas, IA","IA: Adair County (19001)","IA: Adair County (19001)","19001"," Adair  ",{"$f":"ROWS($L$2:L551)","v":550},{"$f":"IF(L551=WORKSHEET!$B$1,I551,\"\")","v":""},"","IOWA","Adair County","*","*","*","N/A","*",1.8657129718217477E-2,0.16765285996055226]
[647,null,12,"Montgomery, IA - Adams, IA","IA: Adams County (19003)","IA: Adams County (19003)","19003","  Adams  ",{"$f":"ROWS($L$2:L552)","v":551},{"$f":"IF(L552=WORKSHEET!$B$1,I552,\"\")","v":""},"","IOWA","Adams County","*","N/A","*","N/A","*",1.8657129718217477E-2,0.1111111111111111]
[290,null,12,"Allamakee, IA","IA: Allamakee County (19005)","IA: Allamakee County (19005)","19005","  Allamakee  ",{"$f":"ROWS($L$2:L553)","v":552},{"$f":"IF(L553=WORKSHEET!$B$1,I553,\"\")","v":""},"","IOWA","Allamakee County",15,{"$f":"+R553-N553-P553","v":0},12,"N/A",27,1.8657129718217477E-2,6.6666666666666666E-2]
[649,null,12,"Appanoose, IA - Davis, IA","IA: Appanoose County (19007)","IA: Appanoose County (19007)","19007","  Appanoose  ",{"$f":"ROWS($L$2:L554)","v":553},{"$f":"IF(L554=WORKSHEET!$B$1,I554,\"\")","v":""},"","IOWA","Appanoose County",16,"*",15,"N/A",33,1.8657129718217477E-2,6.8965517241379309E-2]
[596,null,12,"Pottawattamie (Council Bluffs), IA - Harrison, IA","IA: Audubon County (19009)","IA: Audubon County (19009)","19009","  Audubon  ",{"$f":"ROWS($L$2:L555)","v":554},{"$f":"IF(L555=WORKSHEET!$B$1,I555,\"\")","v":""},"","IOWA","Audubon County","*","*","*","N/A","*",1.8657129718217477E-2,0.12213740458015267]
[545,null,12,"Linn (Cedar Rapids), IA - Johnson, IA","IA: Benton County (19011)","IA: Benton County (19011)","19011","  Benton  ",{"$f":"ROWS($L$2:L556)","v":555},{"$f":"IF(L556=WORKSHEET!$B$1,I556,\"\")","v":""},"","IOWA","Benton County",16,{"$f":"+R556-N556-P556","v":3},11,"N/A",30,1.8657129718217477E-2,0.14164305949008499]
[557,null,12,"Black Hawk (Waterloo), IA - Bremer, IA","IA: Black Hawk County (19013)","IA: Black Hawk County (19013)","19013","  Black Hawk  ",{"$f":"ROWS($L$2:L557)","v":556},{"$f":"IF(L557=WORKSHEET!$B$1,I557,\"\")","v":""},"","IOWA","Black Hawk County",159,10,83,"N/A",252,1.8657129718217477E-2,8.2352941176470587E-2]
[606,null,12,"Story, IA - Boone, IA","IA: Boone County (19015)","IA: Boone County (19015)","19015","  Boone  ",{"$f":"ROWS($L$2:L558)","v":557},{"$f":"IF(L558=WORKSHEET!$B$1,I558,\"\")","v":""},"","IOWA","Boone County",11,2,21,"N/A",34,1.8657129718217477E-2,0.12820512820512819]
[557,null,12,"Black Hawk (Waterloo), IA - Bremer, IA","IA: Bremer County (19017)","IA: Bremer County (19017)","19017","  Bremer  ",{"$f":"ROWS($L$2:L559)","v":558},{"$f":"IF(L559=WORKSHEET!$B$1,I559,\"\")","v":""},"","IOWA","Bremer County",16,3,15,"N/A",34,1.8657129718217477E-2,8.2352941176470587E-2]
[557,null,12,"Black Hawk (Waterloo), IA - Bremer, IA","IA: Buchanan County (19019)","IA: Buchanan County (19019)","19019","  Buchanan  ",{"$f":"ROWS($L$2:L560)","v":559},{"$f":"IF(L560=WORKSHEET!$B$1,I560,\"\")","v":""},"","IOWA","Buchanan County",18,2,13,"N/A",33,1.8657129718217477E-2,8.2352941176470587E-2]
[560,null,12,"Woodbury (Sioux City), IA - Plymouth, IA","IA: Buena Vista County (19021)","IA: Buena Vista County (19021)","19021","  Buena Vista  ",{"$f":"ROWS($L$2:L561)","v":560},{"$f":"IF(L561=WORKSHEET!$B$1,I561,\"\")","v":""},"","IOWA","Buena Vista County",14,2,17,"N/A",33,1.8657129718217477E-2,6.0836501901140684E-2]
[557,null,12,"Black Hawk (Waterloo), IA - Bremer, IA","IA: Butler County (19023)","IA: Butler County (19023)","19023","  Butler  ",{"$f":"ROWS($L$2:L562)","v":561},{"$f":"IF(L562=WORKSHEET!$B$1,I562,\"\")","v":""},"","IOWA","Butler County",12,2,11,"N/A",25,1.8657129718217477E-2,8.2352941176470587E-2]
[633,null,12,"Carroll, IA - Sac, IA","IA: Calhoun County (19025)","IA: Calhoun County (19025)","19025","  Calhoun  ",{"$f":"ROWS($L$2:L563)","v":562},{"$f":"IF(L563=WORKSHEET!$B$1,I563,\"\")","v":""},"","IOWA","Calhoun County","*","*",11,"N/A",19,1.8657129718217477E-2,0.16666666666666666]
[633,null,12,"Carroll, IA - Sac, IA","IA: Carroll County (19027)","IA: Carroll County (19027)","19027","  Carroll  ",{"$f":"ROWS($L$2:L564)","v":563},{"$f":"IF(L564=WORKSHEET!$B$1,I564,\"\")","v":""},"","IOWA","Carroll County",15,{"$f":"+R564-N564-P564","v":2},20,"N/A",37,1.8657129718217477E-2,0.16666666666666666]
[596,null,12,"Pottawattamie (Council Bluffs), IA - Harrison, IA","IA: Cass County (19029)","IA: Cass County (19029)","19029","  Cass  ",{"$f":"ROWS($L$2:L565)","v":564},{"$f":"IF(L565=WORKSHEET!$B$1,I565,\"\")","v":""},"","IOWA","Cass County",12,"*","*","N/A",24,1.8657129718217477E-2,0.12213740458015267]
[545,null,12,"Linn (Cedar Rapids), IA - Johnson, IA","IA: Cedar County (19031)","IA: Cedar County (19031)","19031","  Cedar  ",{"$f":"ROWS($L$2:L566)","v":565},{"$f":"IF(L566=WORKSHEET!$B$1,I566,\"\")","v":""},"","IOWA","Cedar County","*","*","*","N/A",22,1.8657129718217477E-2,0.14164305949008499]
[556,null,12,"Cerro Gordo, IA - Kossuth, IA","IA: Cerro Gordo County (19033)","IA: Cerro Gordo County (19033)","19033","  Cerro Gordo  ",{"$f":"ROWS($L$2:L567)","v":566},{"$f":"IF(L567=WORKSHEET!$B$1,I567,\"\")","v":""},"","IOWA","Cerro Gordo County",31,{"$f":"+R567-N567-P567","v":3},43,"N/A",77,1.8657129718217477E-2,0.1076923076923077]
[560,null,12,"Woodbury (Sioux City), IA - Plymouth, IA","IA: Cherokee County (19035)","IA: Cherokee County (19035)","19035","  Cherokee  ",{"$f":"ROWS($L$2:L568)","v":567},{"$f":"IF(L568=WORKSHEET!$B$1,I568,\"\")","v":""},"","IOWA","Cherokee County","*","*","*","N/A",11,1.8657129718217477E-2,6.0836501901140684E-2]
[634,null,12,"Floyd, IA - Chickasaw, IA","IA: Chickasaw County (19037)","IA: Chickasaw County (19037)","19037","  Chickasaw  ",{"$f":"ROWS($L$2:L569)","v":568},{"$f":"IF(L569=WORKSHEET!$B$1,I569,\"\")","v":""},"","IOWA","Chickasaw County",12,"*","*","*",25,1.8657129718217477E-2,0.15151515151515152]
[546,null,12,"Polk (Des Moines), IA - Dallas, IA","IA: Clarke County (19039)","IA: Clarke County (19039)","19039","  Clarke  ",{"$f":"ROWS($L$2:L570)","v":569},{"$f":"IF(L570=WORKSHEET!$B$1,I570,\"\")","v":""},"","IOWA","Clarke County","*","*","*","N/A","*",1.8657129718217477E-2,0.16765285996055226]
[625,null,12,"Clay, IA - Dickinson, IA","IA: Clay County (19041)","IA: Clay County (19041)","19041","  Clay  ",{"$f":"ROWS($L$2:L571)","v":570},{"$f":"IF(L571=WORKSHEET!$B$1,I571,\"\")","v":""},"","IOWA","Clay County",15,{"$f":"+R571-N571-P571","v":2},18,"N/A",35,1.8657129718217477E-2,9.3023255813953487E-2]
[350,null,12,"Clayton, IA - Delaware, IA","IA: Clayton County (19043)","IA: Clayton County (19043)","19043","  Clayton  ",{"$f":"ROWS($L$2:L572)","v":571},{"$f":"IF(L572=WORKSHEET!$B$1,I572,\"\")","v":""},"","IOWA","Clayton County","*","N/A","*","N/A",17,1.8657129718217477E-2,0.10810810810810811]
[921,361,12,"Clinton, IA","IA: Clinton County (19045)","IA: Clinton County (19045)","19045","  Clinton  ",{"$f":"ROWS($L$2:L573)","v":572},{"$f":"IF(L573=WORKSHEET!$B$1,I573,\"\")","v":""},"","IOWA","Clinton County",51,{"$f":"+R573-N573-P573","v":5},26,"N/A",82,1.8657129718217477E-2,0.12962962962962962]
[681,null,12,"Crawford, IA","IA: Crawford County (19047)","IA: Crawford County (19047)","19047","  Crawford  ",{"$f":"ROWS($L$2:L574)","v":573},{"$f":"IF(L574=WORKSHEET!$B$1,I574,\"\")","v":""},"","IOWA","Crawford County",19,"*","*","N/A",32,1.8657129718217477E-2,0.13636363636363635]
[546,null,12,"Polk (Des Moines), IA - Dallas, IA","IA: Dallas County (19049)","IA: Dallas County (19049)","19049","  Dallas  ",{"$f":"ROWS($L$2:L575)","v":574},{"$f":"IF(L575=WORKSHEET!$B$1,I575,\"\")","v":""},"","IOWA","Dallas County",27,{"$f":"+R575-N575-P575","v":8},30,"N/A",65,1.8657129718217477E-2,0.16765285996055226]
[649,null,12,"Appanoose, IA - Davis, IA","IA: Davis County (19051)","IA: Davis County (19051)","19051","  Davis  ",{"$f":"ROWS($L$2:L576)","v":575},{"$f":"IF(L576=WORKSHEET!$B$1,I576,\"\")","v":""},"","IOWA","Davis County",11,"N/A","*","N/A",17,1.8657129718217477E-2,6.8965517241379309E-2]
[546,null,12,"Polk (Des Moines), IA - Dallas, IA","IA: Decatur County (19053)","IA: Decatur County (19053)","19053","  Decatur  ",{"$f":"ROWS($L$2:L577)","v":576},{"$f":"IF(L577=WORKSHEET!$B$1,I577,\"\")","v":""},"","IOWA","Decatur County","*","*","*","N/A","*",1.8657129718217477E-2,0.16765285996055226]
[350,null,12,"Clayton, IA - Delaware, IA","IA: Delaware County (19055)","IA: Delaware County (19055)","19055","  Delaware  ",{"$f":"ROWS($L$2:L578)","v":577},{"$f":"IF(L578=WORKSHEET!$B$1,I578,\"\")","v":""},"","IOWA","Delaware County",13,{"$f":"+R578-N578-P578","v":3},12,"N/A",28,1.8657129718217477E-2,0.10810810810810811]
[917,340,12,"Des Moines, IA - Henry, IA","IA: Des Moines County (19057)","IA: Des Moines County (19057)","19057","  Des Moines  ",{"$f":"ROWS($L$2:L579)","v":578},{"$f":"IF(L579=WORKSHEET!$B$1,I579,\"\")","v":""},{"$f":"IFERROR(SMALL($J$2:$J$3142,I579),\"\")","v":""},"IOWA","Des Moines County",50,{"$f":"+R579-N579-P579","v":5},26,"N/A",81,1.8657129718217477E-2,0.13333333333333333]
[625,null,12,"Clay, IA - Dickinson, IA","IA: Dickinson County (19059)","IA: Dickinson County (19059)","19059","  Dickinson  ",{"$f":"ROWS($L$2:L580)","v":579},{"$f":"IF(L580=WORKSHEET!$B$1,I580,\"\")","v":""},"","IOWA","Dickinson County",18,{"$f":"+R580-N580-P580","v":2},19,"N/A",39,1.8657129718217477E-2,9.3023255813953487E-2]
[909,302,12,"Dubuque (Dubuque), IA - Jackson, IA","IA: Dubuque County (19061)","IA: Dubuque County (19061)","19061","  Dubuque  ",{"$f":"ROWS($L$2:L581)","v":580},{"$f":"IF(L581=WORKSHEET!$B$1,I581,\"\")","v":""},"","IOWA","Dubuque County",63,{"$f":"+R581-N581-P581","v":9},56,"*",128,1.8657129718217477E-2,0.105263157894737]
[626,null,12,"Emmet, IA","IA: Emmet County (19063)","IA: Emmet County (19063)","19063","  Emmet  ",{"$f":"ROWS($L$2:L582)","v":581},{"$f":"IF(L582=WORKSHEET!$B$1,I582,\"\")","v":""},"","IOWA","Emmet County","*","*","*","N/A",17,1.8657129718217477E-2,9.0909090909090912E-2]
[557,null,12,"Black Hawk (Waterloo), IA - Bremer, IA","IA: Fayette County (19065)","IA: Fayette County (19065)","19065","  Fayette  ",{"$f":"ROWS($L$2:L583)","v":582},{"$f":"IF(L583=WORKSHEET!$B$1,I583,\"\")","v":""},"","IOWA","Fayette County",21,{"$f":"+R583-N583-P583","v":4},17,"*",42,1.8657129718217477E-2,8.2352941176470587E-2]
[634,null,12,"Floyd, IA - Chickasaw, IA","IA: Floyd County (19067)","IA: Floyd County (19067)","19067","  Floyd  ",{"$f":"ROWS($L$2:L584)","v":583},{"$f":"IF(L584=WORKSHEET!$B$1,I584,\"\")","v":""},"","IOWA","Floyd County",16,{"$f":"+R584-N584-P584","v":2},11,"N/A",29,1.8657129718217477E-2,0.15151515151515152]
[556,null,12,"Cerro Gordo, IA - Kossuth, IA","IA: Franklin County (19069)","IA: Franklin County (19069)","19069","  Franklin  ",{"$f":"ROWS($L$2:L585)","v":584},{"$f":"IF(L585=WORKSHEET!$B$1,I585,\"\")","v":""},"","IOWA","Franklin County","*","*","*","N/A","*",1.8657129718217477E-2,0.1076923076923077]
[644,null,12,"Page, IA - Fremont, IA","IA: Fremont County (19071)","IA: Fremont County (19071)","19071","  Fremont  ",{"$f":"ROWS($L$2:L586)","v":585},{"$f":"IF(L586=WORKSHEET!$B$1,I586,\"\")","v":""},"","IOWA","Fremont County","*","*","*","N/A","*",1.8657129718217477E-2,0.1111111111111111]
[617,null,12,"Guthrie, IA - Greene, IA","IA: Greene County (19073)","IA: Greene County (19073)","19073","  Greene  ",{"$f":"ROWS($L$2:L587)","v":586},{"$f":"IF(L587=WORKSHEET!$B$1,I587,\"\")","v":""},"","IOWA","Greene County","*","*","*","N/A","*",1.8657129718217477E-2,9.0909090909090912E-2]
[557,null,12,"Black Hawk (Waterloo), IA - Bremer, IA","IA: Grundy County (19075)","IA: Grundy County (19075)","19075","  Grundy  ",{"$f":"ROWS($L$2:L588)","v":587},{"$f":"IF(L588=WORKSHEET!$B$1,I588,\"\")","v":""},"","IOWA","Grundy County","*","*","*","N/A",19,1.8657129718217477E-2,8.2352941176470587E-2]
[617,null,12,"Guthrie, IA - Greene, IA","IA: Guthrie County (19077)","IA: Guthrie County (19077)","19077","  Guthrie  ",{"$f":"ROWS($L$2:L589)","v":588},{"$f":"IF(L589=WORKSHEET!$B$1,I589,\"\")","v":""},"","IOWA","Guthrie County","*","*","*","N/A",15,1.8657129718217477E-2,9.0909090909090912E-2]
[606,null,12,"Story, IA - Boone, IA","IA: Hamilton County (19079)","IA: Hamilton County (19079)","19079","  Hamilton  ",{"$f":"ROWS($L$2:L590)","v":589},{"$f":"IF(L590=WORKSHEET!$B$1,I590,\"\")","v":""},"","IOWA","Hamilton County",11,"*","*","N/A",21,1.8657129718217477E-2,0.12820512820512819]
[556,null,12,"Cerro Gordo, IA - Kossuth, IA","IA: Hancock County (19081)","IA: Hancock County (19081)","19081","  Hancock  ",{"$f":"ROWS($L$2:L591)","v":590},{"$f":"IF(L591=WORKSHEET!$B$1,I591,\"\")","v":""},"","IOWA","Hancock County","*","*",12,"N/A",20,1.8657129718217477E-2,0.1076923076923077]
[606,null,12,"Story, IA - Boone, IA","IA: Hardin County (19083)","IA: Hardin County (19083)","19083","  Hardin  ",{"$f":"ROWS($L$2:L592)","v":591},{"$f":"IF(L592=WORKSHEET!$B$1,I592,\"\")","v":""},"","IOWA","Hardin County","*","*",16,"N/A",27,1.8657129718217477E-2,0.12820512820512819]
[596,null,12,"Pottawattamie (Council Bluffs), IA - Harrison, IA","IA: Harrison County (19085)","IA: Harrison County (19085)","19085","  Harrison  ",{"$f":"ROWS($L$2:L593)","v":592},{"$f":"IF(L593=WORKSHEET!$B$1,I593,\"\")","v":""},"","IOWA","Harrison County",12,{"$f":"+R593-N593-P593","v":3},12,"N/A",27,1.8657129718217477E-2,0.12213740458015267]
[917,340,12,"Des Moines, IA - Henry, IA","IA: Henry County (19087)","IA: Henry County (19087)","19087","  Henry  ",{"$f":"ROWS($L$2:L594)","v":593},{"$f":"IF(L594=WORKSHEET!$B$1,I594,\"\")","v":""},"","IOWA","Henry County",22,{"$f":"+R594-N594-P594","v":6},12,"*",40,1.8657129718217477E-2,0.13333333333333333]
[552,null,12,"Howard, IA","IA: Howard County (19089)","IA: Howard County (19089)","19089","  Howard  ",{"$f":"ROWS($L$2:L595)","v":594},{"$f":"IF(L595=WORKSHEET!$B$1,I595,\"\")","v":""},"","IOWA","Howard County","*","N/A","*","N/A",16,1.8657129718217477E-2,3.4482758620689655E-2]
[585,null,12,"Webster, IA - Humboldt, IA","IA: Humboldt County (19091)","IA: Humboldt County (19091)","19091","  Humboldt  ",{"$f":"ROWS($L$2:L596)","v":595},{"$f":"IF(L596=WORKSHEET!$B$1,I596,\"\")","v":""},"","IOWA","Humboldt County","*","*","*","N/A",13,1.8657129718217477E-2,0.19148936170212766]
[560,null,12,"Woodbury (Sioux City), IA - Plymouth, IA","IA: Ida County (19093)","IA: Ida County (19093)","19093","  Ida  ",{"$f":"ROWS($L$2:L597)","v":596},{"$f":"IF(L597=WORKSHEET!$B$1,I597,\"\")","v":""},"","IOWA","Ida County","*","*","*","N/A",14,1.8657129718217477E-2,6.0836501901140684E-2]
[545,null,12,"Linn (Cedar Rapids), IA - Johnson, IA","IA: Iowa County (19095)","IA: Iowa County (19095)","19095","  Iowa  ",{"$f":"ROWS($L$2:L598)","v":597},{"$f":"IF(L598=WORKSHEET!$B$1,I598,\"\")","v":""},"","IOWA","Iowa County","*","N/A","*","N/A",17,1.8657129718217477E-2,0.14164305949008499]
[909,302,12,"Dubuque (Dubuque), IA - Jackson, IA","IA: Jackson County (19097)","IA: Jackson County (19097)","19097","  Jackson  ",{"$f":"ROWS($L$2:L599)","v":598},{"$f":"IF(L599=WORKSHEET!$B$1,I599,\"\")","v":""},"","IOWA","Jackson County",12,{"$f":"+R599-N599-P599","v":3},12,"N/A",27,1.8657129718217477E-2,0.10526315789473684]
[546,null,12,"Polk (Des Moines), IA - Dallas, IA","IA: Jasper County (19099)","IA: Jasper County (19099)","19099","  Jasper  ",{"$f":"ROWS($L$2:L600)","v":599},{"$f":"IF(L600=WORKSHEET!$B$1,I600,\"\")","v":""},"","IOWA","Jasper County",19,{"$f":"+R600-N600-P600","v":5},24,"N/A",48,1.8657129718217477E-2,0.16765285996055226]
[589,null,12,"Wapello, IA - Mahaska, IA","IA: Jefferson County (19101)","IA: Jefferson County (19101)","19101","  Jefferson  ",{"$f":"ROWS($L$2:L601)","v":600},{"$f":"IF(L601=WORKSHEET!$B$1,I601,\"\")","v":""},"","IOWA","Jefferson County",16,{"$f":"+R601-N601-P601","v":1},11,"N/A",28,1.8657129718217477E-2,0.1368421052631579]
[545,null,12,"Linn (Cedar Rapids), IA - Johnson, IA","IA: Johnson County (19103)","IA: Johnson County (19103)","19103","  Johnson  ",{"$f":"ROWS($L$2:L602)","v":601},{"$f":"IF(L602=WORKSHEET!$B$1,I602,\"\")","v":""},"","IOWA","Johnson County",70,{"$f":"+R602-N602-P602","v":4},94,"N/A",168,1.8657129718217477E-2,0.14164305949008499]
[545,null,12,"Linn (Cedar Rapids), IA - Johnson, IA","IA: Jones County (19105)","IA: Jones County (19105)","19105","  Jones  ",{"$f":"ROWS($L$2:L603)","v":602},{"$f":"IF(L603=WORKSHEET!$B$1,I603,\"\")","v":""},"","IOWA","Jones County",12,{"$f":"+R603-N603-P603","v":3},14,"N/A",29,1.8657129718217477E-2,0.14164305949008499]
[589,null,12,"Wapello, IA - Mahaska, IA","IA: Keokuk County (19107)","IA: Keokuk County (19107)","19107","  Keokuk  ",{"$f":"ROWS($L$2:L604)","v":603},{"$f":"IF(L604=WORKSHEET!$B$1,I604,\"\")","v":""},"","IOWA","Keokuk County","*","*","*","N/A",11,1.8657129718217477E-2,0.1368421052631579]
[556,null,12,"Cerro Gordo, IA - Kossuth, IA","IA: Kossuth County (19109)","IA: Kossuth County (19109)","19109","  Kossuth  ",{"$f":"ROWS($L$2:L605)","v":604},{"$f":"IF(L605=WORKSHEET!$B$1,I605,\"\")","v":""},"","IOWA","Kossuth County","*","*",18,"N/A",26,1.8657129718217477E-2,0.1076923076923077]
[982,367,12,"Lee, IA","IA: Lee County (19111)","IA: Lee County (19111)","19111","  Lee  ",{"$f":"ROWS($L$2:L606)","v":605},{"$f":"IF(L606=WORKSHEET!$B$1,I606,\"\")","v":""},"","IOWA","Lee County",27,{"$f":"+R606-N606-P606","v":6},32,"N/A",65,1.8657129718217477E-2,0.16666666666666666]
[545,null,12,"Linn (Cedar Rapids), IA - Johnson, IA","IA: Linn County (19113)","IA: Linn County (19113)","19113","  Linn  ",{"$f":"ROWS($L$2:L607)","v":606},{"$f":"IF(L607=WORKSHEET!$B$1,I607,\"\")","v":""},"","IOWA","Linn County",152,31,156,"N/A",339,1.8657129718217477E-2,0.14164305949008499]
[545,null,12,"Linn (Cedar Rapids), IA - Johnson, IA","IA: Louisa County (19115)","IA: Louisa County (19115)","19115","  Louisa  ",{"$f":"ROWS($L$2:L608)","v":607},{"$f":"IF(L608=WORKSHEET!$B$1,I608,\"\")","v":""},"","IOWA","Louisa County",17,"*","*","N/A",28,1.8657129718217477E-2,0.14164305949008499]
[645,null,12,"Lucas, IA - Wayne, IA","IA: Lucas County (19117)","IA: Lucas County (19117)","19117","  Lucas  ",{"$f":"ROWS($L$2:L609)","v":608},{"$f":"IF(L609=WORKSHEET!$B$1,I609,\"\")","v":""},"","IOWA","Lucas County","*","*","*","N/A",15,1.8657129718217477E-2,0.16666666666666666]
[544,null,12,"Lyon, IA","IA: Lyon County (19119)","IA: Lyon County (19119)","19119","  Lyon  ",{"$f":"ROWS($L$2:L610)","v":609},{"$f":"IF(L610=WORKSHEET!$B$1,I610,\"\")","v":""},"","IOWA","Lyon County","*","*",12,"N/A",19,1.8657129718217477E-2,0.19008264462809918]
[546,null,12,"Polk (Des Moines), IA - Dallas, IA","IA: Madison County (19121)","IA: Madison County (19121)","19121","  Madison  ",{"$f":"ROWS($L$2:L611)","v":610},{"$f":"IF(L611=WORKSHEET!$B$1,I611,\"\")","v":""},"","IOWA","Madison County","*","*","*","N/A",18,1.8657129718217477E-2,0.16765285996055226]
[589,null,12,"Wapello, IA - Mahaska, IA","IA: Mahaska County (19123)","IA: Mahaska County (19123)","19123","  Mahaska  ",{"$f":"ROWS($L$2:L612)","v":611},{"$f":"IF(L612=WORKSHEET!$B$1,I612,\"\")","v":""},"","IOWA","Mahaska County",17,{"$f":"+R612-N612-P612","v":5},13,"N/A",35,1.8657129718217477E-2,0.1368421052631579]
[546,null,12,"Polk (Des Moines), IA - Dallas, IA","IA: Marion County (19125)","IA: Marion County (19125)","19125","  Marion  ",{"$f":"ROWS($L$2:L613)","v":612},{"$f":"IF(L613=WORKSHEET!$B$1,I613,\"\")","v":""},"","IOWA","Marion County",13,{"$f":"+R613-N613-P613","v":4},21,"N/A",38,1.8657129718217477E-2,0.16765285996055226]
[679,null,12,"Marshall, IA - Tama, IA","IA: Marshall County (19127)","IA: Marshall County (19127)","19127","  Marshall  ",{"$f":"ROWS($L$2:L614)","v":613},{"$f":"IF(L614=WORKSHEET!$B$1,I614,\"\")","v":""},"","IOWA","Marshall County",47,{"$f":"+R614-N614-P614","v":5},31,"N/A",83,1.8657129718217477E-2,0.14492753623188406]
[596,null,12,"Pottawattamie (Council Bluffs), IA - Harrison, IA","IA: Mills County (19129)","IA: Mills County (19129)","19129","  Mills  ",{"$f":"ROWS($L$2:L615)","v":614},{"$f":"IF(L615=WORKSHEET!$B$1,I615,\"\")","v":""},"","IOWA","Mills County","*","*",14,"N/A",19,1.8657129718217477E-2,0.12213740458015267]
[665,null,12,"Mitchell, IA","IA: Mitchell County (19131)","IA: Mitchell County (19131)","19131","  Mitchell  ",{"$f":"ROWS($L$2:L616)","v":615},{"$f":"IF(L616=WORKSHEET!$B$1,I616,\"\")","v":""},"","IOWA","Mitchell County","*","*","*","N/A",15,1.8657129718217477E-2,9.0909090909090912E-2]
[560,null,12,"Woodbury (Sioux City), IA - Plymouth, IA","IA: Monona County (19133)","IA: Monona County (19133)","19133","  Monona  ",{"$f":"ROWS($L$2:L617)","v":616},{"$f":"IF(L617=WORKSHEET!$B$1,I617,\"\")","v":""},"","IOWA","Monona County",11,"*","*","*",17,1.8657129718217477E-2,6.0836501901140684E-2]
[589,null,12,"Wapello, IA - Mahaska, IA","IA: Monroe County (19135)","IA: Monroe County (19135)","19135","  Monroe  ",{"$f":"ROWS($L$2:L618)","v":617},{"$f":"IF(L618=WORKSHEET!$B$1,I618,\"\")","v":""},"","IOWA","Monroe County","*","*",11,"N/A",16,1.8657129718217477E-2,0.1368421052631579]
[647,null,12,"Montgomery, IA - Adams, IA","IA: Montgomery County (19137)","IA: Montgomery County (19137)","19137","  Montgomery  ",{"$f":"ROWS($L$2:L619)","v":618},{"$f":"IF(L619=WORKSHEET!$B$1,I619,\"\")","v":""},"","IOWA","Montgomery County","*","*","*","N/A",16,1.8657129718217477E-2,0.1111111111111111]
[641,null,12,"Scott (Davenport), IA - Muscatine, IA","IA: Muscatine County (19139)","IA: Muscatine County (19139)","19139","  Muscatine  ",{"$f":"ROWS($L$2:L620)","v":619},{"$f":"IF(L620=WORKSHEET!$B$1,I620,\"\")","v":""},"","IOWA","Muscatine County",41,{"$f":"+R620-N620-P620","v":1},28,"N/A",70,1.8657129718217477E-2,5.3061224489795916E-2]
[652,null,12,"OBrien, IA - Osceola, IA","IA: OBrien County (19141)","IA: OBrien County (19141)","19141","  Obrien  ",{"$f":"ROWS($L$2:L621)","v":620},{"$f":"IF(L621=WORKSHEET!$B$1,I621,\"\")","v":""},"","IOWA","OBrien County","*","*",17,"N/A",28,1.8657129718217477E-2,0.27777777777777779]
[652,null,12,"OBrien, IA - Osceola, IA","IA: Osceola County (19143)","IA: Osceola County (19143)","19143","  Osceola  ",{"$f":"ROWS($L$2:L622)","v":621},{"$f":"IF(L622=WORKSHEET!$B$1,I622,\"\")","v":""},"","IOWA","Osceola County","*","*","*","N/A",11,1.8657129718217477E-2,0.27777777777777779]
[644,null,12,"Page, IA - Fremont, IA","IA: Page County (19145)","IA: Page County (19145)","19145","  Page  ",{"$f":"ROWS($L$2:L623)","v":622},{"$f":"IF(L623=WORKSHEET!$B$1,I623,\"\")","v":""},"","IOWA","Page County",15,"*","*","N/A",26,1.8657129718217477E-2,0.1111111111111111]
[625,null,12,"Clay, IA - Dickinson, IA","IA: Palo Alto County (19147)","IA: Palo Alto County (19147)","19147","  Palo Alto  ",{"$f":"ROWS($L$2:L624)","v":623},{"$f":"IF(L624=WORKSHEET!$B$1,I624,\"\")","v":""},"","IOWA","Palo Alto County","*","N/A",11,"N/A",17,1.8657129718217477E-2,9.3023255813953487E-2]
[560,null,12,"Woodbury (Sioux City), IA - Plymouth, IA","IA: Plymouth County (19149)","IA: Plymouth County (19149)","19149","  Plymouth  ",{"$f":"ROWS($L$2:L625)","v":624},{"$f":"IF(L625=WORKSHEET!$B$1,I625,\"\")","v":""},"","IOWA","Plymouth County",11,{"$f":"+R625-N625-P625","v":2},17,"N/A",30,1.8657129718217477E-2,6.0836501901140684E-2]
[585,null,12,"Webster, IA - Humboldt, IA","IA: Pocahontas County (19151)","IA: Pocahontas County (19151)","19151","  Pocahontas  ",{"$f":"ROWS($L$2:L626)","v":625},{"$f":"IF(L626=WORKSHEET!$B$1,I626,\"\")","v":""},"","IOWA","Pocahontas County","*","N/A","*","N/A","*",1.8657129718217477E-2,0.19148936170212766]
[546,null,12,"Polk (Des Moines), IA - Dallas, IA","IA: Polk County (19153)","IA: Polk County (19153)","19153","  Polk  ",{"$f":"ROWS($L$2:L627)","v":626},{"$f":"IF(L627=WORKSHEET!$B$1,I627,\"\")","v":""},"","IOWA","Polk County",316,53,327,"*",697,1.8657129718217477E-2,0.16765285996055226]
[596,null,12,"Pottawattamie (Council Bluffs), IA - Harrison, IA","IA: Pottawattamie County (19155)","IA: Pottawattamie County (19155)","19155","  Pottawattamie  ",{"$f":"ROWS($L$2:L628)","v":627},{"$f":"IF(L628=WORKSHEET!$B$1,I628,\"\")","v":""},"","IOWA","Pottawattamie County",69,{"$f":"+R628-N628-P628","v":6},70,"N/A",145,1.8657129718217477E-2,0.12213740458015267]
[686,null,12,"Poweshiek, IA","IA: Poweshiek County (19157)","IA: Poweshiek County (19157)","19157","  Poweshiek  ",{"$f":"ROWS($L$2:L629)","v":628},{"$f":"IF(L629=WORKSHEET!$B$1,I629,\"\")","v":""},"","IOWA","Poweshiek County",14,"*","*","N/A",25,1.8657129718217477E-2,6.6666666666666666E-2]
[546,null,12,"Polk (Des Moines), IA - Dallas, IA","IA: Ringgold County (19159)","IA: Ringgold County (19159)","19159","  Ringgold  ",{"$f":"ROWS($L$2:L630)","v":629},{"$f":"IF(L630=WORKSHEET!$B$1,I630,\"\")","v":""},"","IOWA","Ringgold County","*","N/A","*","N/A",11,1.8657129718217477E-2,0.16765285996055226]
[633,null,12,"Carroll, IA - Sac, IA","IA: Sac County (19161)","IA: Sac County (19161)","19161","  Sac  ",{"$f":"ROWS($L$2:L631)","v":630},{"$f":"IF(L631=WORKSHEET!$B$1,I631,\"\")","v":""},"","IOWA","Sac County","*","*","*","N/A",17,1.8657129718217477E-2,0.16666666666666666]
[641,null,12,"Scott (Davenport), IA - Muscatine, IA","IA: Scott County (19163)","IA: Scott County (19163)","19163","  Scott  ",{"$f":"ROWS($L$2:L632)","v":631},{"$f":"IF(L632=WORKSHEET!$B$1,I632,\"\")","v":""},"","IOWA","Scott County",191,12,110,"*",315,1.8657129718217477E-2,5.3061224489795916E-2]
[596,null,12,"Pottawattamie (Council Bluffs), IA - Harrison, IA","IA: Shelby County (19165)","IA: Shelby County (19165)","19165","  Shelby  ",{"$f":"ROWS($L$2:L633)","v":632},{"$f":"IF(L633=WORKSHEET!$B$1,I633,\"\")","v":""},"","IOWA","Shelby County",13,"*","*","N/A",23,1.8657129718217477E-2,0.12213740458015267]
[672,null,12,"Sioux, IA","IA: Sioux County (19167)","IA: Sioux County (19167)","19167","  Sioux  ",{"$f":"ROWS($L$2:L634)","v":633},{"$f":"IF(L634=WORKSHEET!$B$1,I634,\"\")","v":""},"","IOWA","Sioux County",17,"N/A",21,"N/A",38,1.8657129718217477E-2,0]
[606,null,12,"Story, IA - Boone, IA","IA: Story County (19169)","IA: Story County (19169)","19169","  Story  ",{"$f":"ROWS($L$2:L635)","v":634},{"$f":"IF(L635=WORKSHEET!$B$1,I635,\"\")","v":""},"","IOWA","Story County",28,{"$f":"+R635-N635-P635","v":3},33,"N/A",64,1.8657129718217477E-2,0.12820512820512819]
[679,null,12,"Marshall, IA - Tama, IA","IA: Tama County (19171)","IA: Tama County (19171)","19171","  Tama  ",{"$f":"ROWS($L$2:L636)","v":635},{"$f":"IF(L636=WORKSHEET!$B$1,I636,\"\")","v":""},"","IOWA","Tama County",12,{"$f":"+R636-N636-P636","v":5},12,"N/A",29,1.8657129718217477E-2,0.14492753623188406]
[644,null,12,"Page, IA - Fremont, IA","IA: Taylor County (19173)","IA: Taylor County (19173)","19173","  Taylor  ",{"$f":"ROWS($L$2:L637)","v":636},{"$f":"IF(L637=WORKSHEET!$B$1,I637,\"\")","v":""},"","IOWA","Taylor County","*","N/A","*","N/A",14,1.8657129718217477E-2,0.1111111111111111]
[546,null,12,"Polk (Des Moines), IA - Dallas, IA","IA: Union County (19175)","IA: Union County (19175)","19175","  Union  ",{"$f":"ROWS($L$2:L638)","v":637},{"$f":"IF(L638=WORKSHEET!$B$1,I638,\"\")","v":""},"","IOWA","Union County","*","*",11,"N/A",22,1.8657129718217477E-2,0.16765285996055226]
[589,null,12,"Wapello, IA - Mahaska, IA","IA: Van Buren County (19177)","IA: Van Buren County (19177)","19177","  Van Buren  ",{"$f":"ROWS($L$2:L639)","v":638},{"$f":"IF(L639=WORKSHEET!$B$1,I639,\"\")","v":""},"","IOWA","Van Buren County","*","N/A","*","N/A",17,1.8657129718217477E-2,0.1368421052631579]
[589,null,12,"Wapello, IA - Mahaska, IA","IA: Wapello County (19179)","IA: Wapello County (19179)","19179","  Wapello  ",{"$f":"ROWS($L$2:L640)","v":639},{"$f":"IF(L640=WORKSHEET!$B$1,I640,\"\")","v":""},"","IOWA","Wapello County",33,{"$f":"+R640-N640-P640","v":3},23,"N/A",59,1.8657129718217477E-2,0.1368421052631579]
[546,null,12,"Polk (Des Moines), IA - Dallas, IA","IA: Warren County (19181)","IA: Warren County (19181)","19181","  Warren  ",{"$f":"ROWS($L$2:L641)","v":640},{"$f":"IF(L641=WORKSHEET!$B$1,I641,\"\")","v":""},"","IOWA","Warren County",16,{"$f":"+R641-N641-P641","v":9},43,"N/A",68,1.8657129718217477E-2,0.16765285996055226]
[545,null,12,"Linn (Cedar Rapids), IA - Johnson, IA","IA: Washington County (19183)","IA: Washington County (19183)","19183","  Washington  ",{"$f":"ROWS($L$2:L642)","v":641},{"$f":"IF(L642=WORKSHEET!$B$1,I642,\"\")","v":""},"","IOWA","Washington County",16,{"$f":"+R642-N642-P642","v":4},14,"N/A",34,1.8657129718217477E-2,0.14164305949008499]
[645,null,12,"Lucas, IA - Wayne, IA","IA: Wayne County (19185)","IA: Wayne County (19185)","19185","  Wayne  ",{"$f":"ROWS($L$2:L643)","v":642},{"$f":"IF(L643=WORKSHEET!$B$1,I643,\"\")","v":""},{"$f":"IFERROR(SMALL($J$2:$J$3142,I643),\"\")","v":""},"IOWA","Wayne County","*","*","*","N/A",14,1.8657129718217477E-2,0.16666666666666666]
[585,null,12,"Webster, IA - Humboldt, IA","IA: Webster County (19187)","IA: Webster County (19187)","19187","  Webster  ",{"$f":"ROWS($L$2:L644)","v":643},{"$f":"IF(L644=WORKSHEET!$B$1,I644,\"\")","v":""},"","IOWA","Webster County",34,{"$f":"+R644-N644-P644","v":7},31,"*",72,1.8657129718217477E-2,0.19148936170212766]
[556,null,12,"Cerro Gordo, IA - Kossuth, IA","IA: Winnebago County (19189)","IA: Winnebago County (19189)","19189","  Winnebago  ",{"$f":"ROWS($L$2:L645)","v":644},{"$f":"IF(L645=WORKSHEET!$B$1,I645,\"\")","v":""},"","IOWA","Winnebago County","*","N/A","*","N/A",13,1.8657129718217477E-2,0.1076923076923077]
[395,null,12,"Winneshiek, IA","IA: Winneshiek County (19191)","IA: Winneshiek County (19191)","19191","  Winneshiek  ",{"$f":"ROWS($L$2:L646)","v":645},{"$f":"IF(L646=WORKSHEET!$B$1,I646,\"\")","v":""},"","IOWA","Winneshiek County",19,{"$f":"+R646-N646-P646","v":0},12,"N/A",31,1.8657129718217477E-2,0]
[560,null,12,"Woodbury (Sioux City), IA - Plymouth, IA","IA: Woodbury County (19193)","IA: Woodbury County (19193)","19193","  Woodbury  ",{"$f":"ROWS($L$2:L647)","v":646},{"$f":"IF(L647=WORKSHEET!$B$1,I647,\"\")","v":""},"","IOWA","Woodbury County",124,{"$f":"+R647-N647-P647","v":8},79,"*",211,1.8657129718217477E-2,6.0836501901140684E-2]
[556,null,12,"Cerro Gordo, IA - Kossuth, IA","IA: Worth County (19195)","IA: Worth County (19195)","19195","  Worth  ",{"$f":"ROWS($L$2:L648)","v":647},{"$f":"IF(L648=WORKSHEET!$B$1,I648,\"\")","v":""},"","IOWA","Worth County","*","*","*","N/A",13,1.8657129718217477E-2,0.1076923076923077]
[606,null,12,"Story, IA - Boone, IA","IA: Wright County (19197)","IA: Wright County (19197)","19197","  Wright  ",{"$f":"ROWS($L$2:L649)","v":648},{"$f":"IF(L649=WORKSHEET!$B$1,I649,\"\")","v":""},"","IOWA","Wright County","*","*",12,"N/A",23,1.8657129718217477E-2,0.12820512820512819]
[716,null,16,"Ada (Boise City), ID - Canyon, ID","ID: Ada County (16001)","ID: Ada County (16001)","16001"," Ada  ",{"$f":"ROWS($L$2:L650)","v":649},{"$f":"IF(L650=WORKSHEET!$B$1,I650,\"\")","v":""},"","IDAHO","Ada County",186,71,194,"*",452,3.5616674152133203E-2,0.26250000000000001]
[729,null,16,"Payette, ID - Washington, ID","ID: Adams County (16003)","ID: Adams County (16003)","16003","  Adams  ",{"$f":"ROWS($L$2:L651)","v":650},{"$f":"IF(L651=WORKSHEET!$B$1,I651,\"\")","v":""},"","IDAHO","Adams County","*","*","*","N/A","*",3.5616674152133203E-2,0.25641025641025639]
[696,null,16,"Bannock, ID - Bingham, ID","ID: Bannock County (16005)","ID: Bannock County (16005)","16005","  Bannock  ",{"$f":"ROWS($L$2:L652)","v":651},{"$f":"IF(L652=WORKSHEET!$B$1,I652,\"\")","v":""},"","IDAHO","Bannock County",57,18,55,"*",132,3.5616674152133203E-2,0.24025974025974026]
[715,null,16,"Franklin, ID - Bear Lake, ID","ID: Bear Lake County (16007)","ID: Bear Lake County (16007)","16007","  Bear Lake  ",{"$f":"ROWS($L$2:L653)","v":652},{"$f":"IF(L653=WORKSHEET!$B$1,I653,\"\")","v":""},"","IDAHO","Bear Lake County","*","N/A","*","N/A","*",3.5616674152133203E-2,6.1224489795918366E-2]
[734,null,16,"Kootenai, ID - Bonner, ID","ID: Benewah County (16009)","ID: Benewah County (16009)","16009","  Benewah  ",{"$f":"ROWS($L$2:L654)","v":653},{"$f":"IF(L654=WORKSHEET!$B$1,I654,\"\")","v":""},"","IDAHO","Benewah County","*","N/A","*","N/A",11,3.5616674152133203E-2,0.15948275862068967]
[696,null,16,"Bannock, ID - Bingham, ID","ID: Bingham County (16011)","ID: Bingham County (16011)","16011","  Bingham  ",{"$f":"ROWS($L$2:L655)","v":654},{"$f":"IF(L655=WORKSHEET!$B$1,I655,\"\")","v":""},"","IDAHO","Bingham County",47,13,24,"N/A",84,3.5616674152133203E-2,0.24025974025974026]
[808,null,16,"Blaine, ID - Camas, ID","ID: Blaine County (16013)","ID: Blaine County (16013)","16013","  Blaine  ",{"$f":"ROWS($L$2:L656)","v":655},{"$f":"IF(L656=WORKSHEET!$B$1,I656,\"\")","v":""},"","IDAHO","Blaine County","*","*","*","N/A",15,3.5616674152133203E-2,0.16666666666666666]
[716,null,16,"Ada (Boise City), ID - Canyon, ID","ID: Boise County (16015)","ID: Boise County (16015)","16015","  Boise  ",{"$f":"ROWS($L$2:L657)","v":656},{"$f":"IF(L657=WORKSHEET!$B$1,I657,\"\")","v":""},"","IDAHO","Boise County","*","*","*","N/A","*",3.5616674152133203E-2,0.26250000000000001]
[734,null,16,"Kootenai, ID - Bonner, ID","ID: Bonner County (16017)","ID: Bonner County (16017)","16017","  Bonner  ",{"$f":"ROWS($L$2:L658)","v":657},{"$f":"IF(L658=WORKSHEET!$B$1,I658,\"\")","v":""},"","IDAHO","Bonner County",36,{"$f":"+R658-N658-P658","v":9},19,"*",64,3.5616674152133203E-2,0.15948275862068967]
[722,null,16,"Bonneville, ID - Madison, ID","ID: Bonneville County (16019)","ID: Bonneville County (16019)","16019","  Bonneville  ",{"$f":"ROWS($L$2:L659)","v":658},{"$f":"IF(L659=WORKSHEET!$B$1,I659,\"\")","v":""},"","IDAHO","Bonneville County",83,27,89,"*",200,3.5616674152133203E-2,0.24705882352941178]
[734,null,16,"Kootenai, ID - Bonner, ID","ID: Boundary County (16021)","ID: Boundary County (16021)","16021","  Boundary  ",{"$f":"ROWS($L$2:L660)","v":659},{"$f":"IF(L660=WORKSHEET!$B$1,I660,\"\")","v":""},"","IDAHO","Boundary County","*","*","*","N/A",18,3.5616674152133203E-2,0.15948275862068967]
[722,null,16,"Bonneville, ID - Madison, ID","ID: Butte County (16023)","ID: Butte County (16023)","16023","  Butte  ",{"$f":"ROWS($L$2:L661)","v":660},{"$f":"IF(L661=WORKSHEET!$B$1,I661,\"\")","v":""},"","IDAHO","Butte County","*","N/A","*","N/A","*",3.5616674152133203E-2,0.24705882352941178]
[808,null,16,"Blaine, ID - Camas, ID","ID: Camas County (16025)","ID: Camas County (16025)","16025","  Camas  ",{"$f":"ROWS($L$2:L662)","v":661},{"$f":"IF(L662=WORKSHEET!$B$1,I662,\"\")","v":""},"","IDAHO","Camas County","*","N/A","*","N/A","*",3.5616674152133203E-2,0.16666666666666666]
[716,null,16,"Ada (Boise City), ID - Canyon, ID","ID: Canyon County (16027)","ID: Canyon County (16027)","16027","  Canyon  ",{"$f":"ROWS($L$2:L663)","v":662},{"$f":"IF(L663=WORKSHEET!$B$1,I663,\"\")","v":""},"","IDAHO","Canyon County",179,57,123,"N/A",359,3.5616674152133203E-2,0.26250000000000001]
[696,null,16,"Bannock, ID - Bingham, ID","ID: Caribou County (16029)","ID: Caribou County (16029)","16029","  Caribou  ",{"$f":"ROWS($L$2:L664)","v":663},{"$f":"IF(L664=WORKSHEET!$B$1,I664,\"\")","v":""},"","IDAHO","Caribou County","*","*","*","N/A","*",3.5616674152133203E-2,0.24025974025974026]
[730,null,16,"Cassia, ID - Minidoka, ID","ID: Cassia County (16031)","ID: Cassia County (16031)","16031","  Cassia  ",{"$f":"ROWS($L$2:L665)","v":664},{"$f":"IF(L665=WORKSHEET!$B$1,I665,\"\")","v":""},"","IDAHO","Cassia County",20,{"$f":"+R665-N665-P665","v":5},13,"N/A",38,3.5616674152133203E-2,0.2558139534883721]
[722,null,16,"Bonneville, ID - Madison, ID","ID: Clark County (16033)","ID: Clark County (16033)","16033","  Clark  ",{"$f":"ROWS($L$2:L666)","v":665},{"$f":"IF(L666=WORKSHEET!$B$1,I666,\"\")","v":""},"","IDAHO","Clark County","*","*","*","N/A","*",3.5616674152133203E-2,0.24705882352941178]
[694,null,16,"Nez Perce, ID - Idaho, ID","ID: Clearwater County (16035)","ID: Clearwater County (16035)","16035","  Clearwater  ",{"$f":"ROWS($L$2:L667)","v":666},{"$f":"IF(L667=WORKSHEET!$B$1,I667,\"\")","v":""},"","IDAHO","Clearwater County","*","N/A","*","N/A",16,3.5616674152133203E-2,0.13333333333333333]
[722,null,16,"Bonneville, ID - Madison, ID","ID: Custer County (16037)","ID: Custer County (16037)","16037","  Custer  ",{"$f":"ROWS($L$2:L668)","v":667},{"$f":"IF(L668=WORKSHEET!$B$1,I668,\"\")","v":""},"","IDAHO","Custer County","N/A","*","*","N/A","*",3.5616674152133203E-2,0.24705882352941178]
[716,null,16,"Ada (Boise City), ID - Canyon, ID","ID: Elmore County (16039)","ID: Elmore County (16039)","16039","  Elmore  ",{"$f":"ROWS($L$2:L669)","v":668},{"$f":"IF(L669=WORKSHEET!$B$1,I669,\"\")","v":""},"","IDAHO","Elmore County",19,"*","*","*",34,3.5616674152133203E-2,0.26250000000000001]
[715,null,16,"Franklin, ID - Bear Lake, ID","ID: Franklin County (16041)","ID: Franklin County (16041)","16041","  Franklin  ",{"$f":"ROWS($L$2:L670)","v":669},{"$f":"IF(L670=WORKSHEET!$B$1,I670,\"\")","v":""},"","IDAHO","Franklin County","*","N/A","*","N/A","*",3.5616674152133203E-2,6.1224489795918366E-2]
[722,null,16,"Bonneville, ID - Madison, ID","ID: Fremont County (16043)","ID: Fremont County (16043)","16043","  Fremont  ",{"$f":"ROWS($L$2:L671)","v":670},{"$f":"IF(L671=WORKSHEET!$B$1,I671,\"\")","v":""},"","IDAHO","Fremont County","*","*","*","*",14,3.5616674152133203E-2,0.24705882352941178]
[716,null,16,"Ada (Boise City), ID - Canyon, ID","ID: Gem County (16045)","ID: Gem County (16045)","16045","  Gem  ",{"$f":"ROWS($L$2:L672)","v":671},{"$f":"IF(L672=WORKSHEET!$B$1,I672,\"\")","v":""},"","IDAHO","Gem County",12,{"$f":"+R672-N672-P672","v":6},11,"N/A",29,3.5616674152133203E-2,0.26250000000000001]
[695,null,16,"Twin Falls, ID - Jerome, ID","ID: Gooding County (16047)","ID: Gooding County (16047)","16047","  Gooding  ",{"$f":"ROWS($L$2:L673)","v":672},{"$f":"IF(L673=WORKSHEET!$B$1,I673,\"\")","v":""},"","IDAHO","Gooding County","*","*","*","N/A",16,3.5616674152133203E-2,0.20535714285714285]
[694,null,16,"Nez Perce, ID - Idaho, ID","ID: Idaho County (16049)","ID: Idaho County (16049)","16049","  Idaho  ",{"$f":"ROWS($L$2:L674)","v":673},{"$f":"IF(L674=WORKSHEET!$B$1,I674,\"\")","v":""},"","IDAHO","Idaho County","*","*","*","N/A",13,3.5616674152133203E-2,0.13333333333333333]
[722,null,16,"Bonneville, ID - Madison, ID","ID: Jefferson County (16051)","ID: Jefferson County (16051)","16051","  Jefferson  ",{"$f":"ROWS($L$2:L675)","v":674},{"$f":"IF(L675=WORKSHEET!$B$1,I675,\"\")","v":""},"","IDAHO","Jefferson County",22,{"$f":"+R675-N675-P675","v":5},15,"N/A",42,3.5616674152133203E-2,0.24705882352941178]
[695,null,16,"Twin Falls, ID - Jerome, ID","ID: Jerome County (16053)","ID: Jerome County (16053)","16053","  Jerome  ",{"$f":"ROWS($L$2:L676)","v":675},{"$f":"IF(L676=WORKSHEET!$B$1,I676,\"\")","v":""},"","IDAHO","Jerome County",18,"*","*","N/A",28,3.5616674152133203E-2,0.20535714285714285]
[734,null,16,"Kootenai, ID - Bonner, ID","ID: Kootenai County (16055)","ID: Kootenai County (16055)","16055","  Kootenai  ",{"$f":"ROWS($L$2:L677)","v":676},{"$f":"IF(L677=WORKSHEET!$B$1,I677,\"\")","v":""},"","IDAHO","Kootenai County",123,21,99,"N/A",243,3.5616674152133203E-2,0.15948275862068967]
[784,null,16,"Latah, ID","ID: Latah County (16057)","ID: Latah County (16057)","16057","  Latah  ",{"$f":"ROWS($L$2:L678)","v":677},{"$f":"IF(L678=WORKSHEET!$B$1,I678,\"\")","v":""},"","IDAHO","Latah County",18,{"$f":"+R678-N678-P678","v":1},13,"N/A",32,3.5616674152133203E-2,0.11764705882352941]
[813,null,16,"Lemhi, ID","ID: Lemhi County (16059)","ID: Lemhi County (16059)","16059","  Lemhi  ",{"$f":"ROWS($L$2:L679)","v":678},{"$f":"IF(L679=WORKSHEET!$B$1,I679,\"\")","v":""},"","IDAHO","Lemhi County","*","N/A","*","N/A","*",3.5616674152133203E-2,0]
[694,null,16,"Nez Perce, ID - Idaho, ID","ID: Lewis County (16061)","ID: Lewis County (16061)","16061","  Lewis  ",{"$f":"ROWS($L$2:L680)","v":679},{"$f":"IF(L680=WORKSHEET!$B$1,I680,\"\")","v":""},"","IDAHO","Lewis County","*","*","*","N/A",13,3.5616674152133203E-2,0.13333333333333333]
[695,null,16,"Twin Falls, ID - Jerome, ID","ID: Lincoln County (16063)","ID: Lincoln County (16063)","16063","  Lincoln  ",{"$f":"ROWS($L$2:L681)","v":680},{"$f":"IF(L681=WORKSHEET!$B$1,I681,\"\")","v":""},"","IDAHO","Lincoln County","*","N/A","*","N/A","*",3.5616674152133203E-2,0.20535714285714285]
[722,null,16,"Bonneville, ID - Madison, ID","ID: Madison County (16065)","ID: Madison County (16065)","16065","  Madison  ",{"$f":"ROWS($L$2:L682)","v":681},{"$f":"IF(L682=WORKSHEET!$B$1,I682,\"\")","v":""},"","IDAHO","Madison County",12,{"$f":"+R682-N682-P682","v":2},20,"N/A",34,3.5616674152133203E-2,0.24705882352941178]
[730,null,16,"Cassia, ID - Minidoka, ID","ID: Minidoka County (16067)","ID: Minidoka County (16067)","16067","  Minidoka  ",{"$f":"ROWS($L$2:L683)","v":682},{"$f":"IF(L683=WORKSHEET!$B$1,I683,\"\")","v":""},"","IDAHO","Minidoka County",12,{"$f":"+R683-N683-P683","v":6},20,"N/A",38,3.5616674152133203E-2,0.2558139534883721]
[694,null,16,"Nez Perce, ID - Idaho, ID","ID: Nez Perce County (16069)","ID: Nez Perce County (16069)","16069","  Nez Perce  ",{"$f":"ROWS($L$2:L684)","v":683},{"$f":"IF(L684=WORKSHEET!$B$1,I684,\"\")","v":""},"","IDAHO","Nez Perce County",46,{"$f":"+R684-N684-P684","v":7},26,"N/A",79,3.5616674152133203E-2,0.13333333333333333]
[696,null,16,"Bannock, ID - Bingham, ID","ID: Oneida County (16071)","ID: Oneida County (16071)","16071","  Oneida  ",{"$f":"ROWS($L$2:L685)","v":684},{"$f":"IF(L685=WORKSHEET!$B$1,I685,\"\")","v":""},"","IDAHO","Oneida County","*","*","*","N/A","*",3.5616674152133203E-2,0.24025974025974026]
[716,null,16,"Ada (Boise City), ID - Canyon, ID","ID: Owyhee County (16073)","ID: Owyhee County (16073)","16073","  Owyhee  ",{"$f":"ROWS($L$2:L686)","v":685},{"$f":"IF(L686=WORKSHEET!$B$1,I686,\"\")","v":""},"","IDAHO","Owyhee County",12,"*","*","N/A",19,3.5616674152133203E-2,0.26250000000000001]
[729,null,16,"Payette, ID - Washington, ID","ID: Payette County (16075)","ID: Payette County (16075)","16075","  Payette  ",{"$f":"ROWS($L$2:L687)","v":686},{"$f":"IF(L687=WORKSHEET!$B$1,I687,\"\")","v":""},"","IDAHO","Payette County",13,{"$f":"+R687-N687-P687","v":6},17,"N/A",36,3.5616674152133203E-2,0.25641025641025639]
[696,null,16,"Bannock, ID - Bingham, ID","ID: Power County (16077)","ID: Power County (16077)","16077","  Power  ",{"$f":"ROWS($L$2:L688)","v":687},{"$f":"IF(L688=WORKSHEET!$B$1,I688,\"\")","v":""},"","IDAHO","Power County","*","*","*","N/A",15,3.5616674152133203E-2,0.24025974025974026]
[734,null,16,"Kootenai, ID - Bonner, ID","ID: Shoshone County (16079)","ID: Shoshone County (16079)","16079","  Shoshone  ",{"$f":"ROWS($L$2:L689)","v":688},{"$f":"IF(L689=WORKSHEET!$B$1,I689,\"\")","v":""},"","IDAHO","Shoshone County",23,"*","*","N/A",33,3.5616674152133203E-2,0.15948275862068967]
[722,null,16,"Bonneville, ID - Madison, ID","ID: Teton County (16081)","ID: Teton County (16081)","16081","  Teton  ",{"$f":"ROWS($L$2:L690)","v":689},{"$f":"IF(L690=WORKSHEET!$B$1,I690,\"\")","v":""},"","IDAHO","Teton County","*","*","*","N/A","*",3.5616674152133203E-2,0.24705882352941178]
[695,null,16,"Twin Falls, ID - Jerome, ID","ID: Twin Falls County (16083)","ID: Twin Falls County (16083)","16083","  Twin Falls  ",{"$f":"ROWS($L$2:L691)","v":690},{"$f":"IF(L691=WORKSHEET!$B$1,I691,\"\")","v":""},"","IDAHO","Twin Falls County",61,16,44,"N/A",121,3.5616674152133203E-2,0.20535714285714285]
[716,null,16,"Ada (Boise City), ID - Canyon, ID","ID: Valley County (16085)","ID: Valley County (16085)","16085","  Valley  ",{"$f":"ROWS($L$2:L692)","v":691},{"$f":"IF(L692=WORKSHEET!$B$1,I692,\"\")","v":""},"","IDAHO","Valley County","N/A","*","*","N/A","*",3.5616674152133203E-2,0.26250000000000001]
[729,null,16,"Payette, ID - Washington, ID","ID: Washington County (16087)","ID: Washington County (16087)","16087","  Washington  ",{"$f":"ROWS($L$2:L693)","v":692},{"$f":"IF(L693=WORKSHEET!$B$1,I693,\"\")","v":""},"","IDAHO","Washington County","*","*","*","N/A",18,3.5616674152133203E-2,0.25641025641025639]
[353,null,10,"Adams, IL - Pike, IL","IL: Adams County (17001)","IL: Adams County (17001)","17001","Adams  ",{"$f":"ROWS($L$2:L694)","v":693},{"$f":"IF(L694=WORKSHEET!$B$1,I694,\"\")","v":""},"","ILLINOIS","Adams County",47,22,39,"N/A",108,3.076218952777415E-2,0.26190476190476192]
[563,null,10,"Union, IL - Alexander, IL","IL: Alexander County (17003)","IL: Alexander County (17003)","17003","  Alexander  ",{"$f":"ROWS($L$2:L695)","v":694},{"$f":"IF(L695=WORKSHEET!$B$1,I695,\"\")","v":""},"","ILLINOIS","Alexander County",11,"*","*","N/A",17,3.076218952777415E-2,9.2077087794432549E-2]
[299,null,10,"Madison (Alton), IL - Jersey, IL","IL: Bond County (17005)","IL: Bond County (17005)","17005","  Bond  ",{"$f":"ROWS($L$2:L696)","v":695},{"$f":"IF(L696=WORKSHEET!$B$1,I696,\"\")","v":""},"","ILLINOIS","Bond County",20,{"$f":"+R696-N696-P696","v":7},11,"N/A",38,3.076218952777415E-2,0.14222222222222222]
[291,null,10,"Winnebago (Rockford), IL - Ogle, IL","IL: Boone County (17007)","IL: Boone County (17007)","17007","  Boone  ",{"$f":"ROWS($L$2:L697)","v":696},{"$f":"IF(L697=WORKSHEET!$B$1,I697,\"\")","v":""},"","ILLINOIS","Boone County",39,{"$f":"+R697-N697-P697","v":11},39,"*",89,3.076218952777415E-2,0.14695945945945946]
[318,null,10,"Sangamon (Springfield), IL - Christian, IL","IL: Brown County (17009)","IL: Brown County (17009)","17009","  Brown  ",{"$f":"ROWS($L$2:L698)","v":697},{"$f":"IF(L698=WORKSHEET!$B$1,I698,\"\")","v":""},"","ILLINOIS","Brown County","*","N/A","*","N/A","*",3.076218952777415E-2,0.11264367816091954]
[336,null,10,"La Salle, IL - Livingston, IL","IL: Bureau County (17011)","IL: Bureau County (17011)","17011","  Bureau  ",{"$f":"ROWS($L$2:L699)","v":698},{"$f":"IF(L699=WORKSHEET!$B$1,I699,\"\")","v":""},"","ILLINOIS","Bureau County",52,{"$f":"+R699-N699-P699","v":2},30,"N/A",84,3.076218952777415E-2,5.9113300492610835E-2]
[299,null,10,"Madison (Alton), IL - Jersey, IL","IL: Calhoun County (17013)","IL: Calhoun County (17013)","17013","  Calhoun  ",{"$f":"ROWS($L$2:L700)","v":699},{"$f":"IF(L700=WORKSHEET!$B$1,I700,\"\")","v":""},"","ILLINOIS","Calhoun County","*","N/A","*","N/A","*",3.076218952777415E-2,0.14222222222222222]
[361,null,10,"Whiteside, IL - Carroll, IL","IL: Carroll County (17015)","IL: Carroll County (17015)","17015","  Carroll  ",{"$f":"ROWS($L$2:L701)","v":700},{"$f":"IF(L701=WORKSHEET!$B$1,I701,\"\")","v":""},"","ILLINOIS","Carroll County",15,{"$f":"+R701-N701-P701","v":3},16,"N/A",34,3.076218952777415E-2,0.12962962962962962]
[318,null,10,"Sangamon (Springfield), IL - Christian, IL","IL: Cass County (17017)","IL: Cass County (17017)","17017","  Cass  ",{"$f":"ROWS($L$2:L702)","v":701},{"$f":"IF(L702=WORKSHEET!$B$1,I702,\"\")","v":""},"","ILLINOIS","Cass County",14,"*","*","*",25,3.076218952777415E-2,0.11264367816091954]
[279,null,10,"Champaign (Champaign), IL - Coles, IL","IL: Champaign County (17019)","IL: Champaign County (17019)","17019","  Champaign  ",{"$f":"ROWS($L$2:L703)","v":702},{"$f":"IF(L703=WORKSHEET!$B$1,I703,\"\")","v":""},"","ILLINOIS","Champaign County",144,23,120,"N/A",287,3.076218952777415E-2,0.17142857142857143]
[318,null,10,"Sangamon (Springfield), IL - Christian, IL","IL: Christian County (17021)","IL: Christian County (17021)","17021","  Christian  ",{"$f":"ROWS($L$2:L704)","v":703},{"$f":"IF(L704=WORKSHEET!$B$1,I704,\"\")","v":""},"","ILLINOIS","Christian County",44,{"$f":"+R704-N704-P704","v":7},16,"N/A",67,3.076218952777415E-2,0.11264367816091954]
[311,null,10,"Clark, IL","IL: Clark County (17023)","IL: Clark County (17023)","17023","  Clark  ",{"$f":"ROWS($L$2:L705)","v":704},{"$f":"IF(L705=WORKSHEET!$B$1,I705,\"\")","v":""},"","ILLINOIS","Clark County",13,"*","*","N/A",22,3.076218952777415E-2,0.16095890410958905]
[351,null,10,"Richland, IL - Clay, IL","IL: Clay County (17025)","IL: Clay County (17025)","17025","  Clay  ",{"$f":"ROWS($L$2:L706)","v":705},{"$f":"IF(L706=WORKSHEET!$B$1,I706,\"\")","v":""},"","ILLINOIS","Clay County",12,"*","*","N/A",23,3.076218952777415E-2,0.16071428571428573]
[325,null,10,"St. Clair (Belleville), IL - Clinton, IL","IL: Clinton County (17027)","IL: Clinton County (17027)","17027","  Clinton  ",{"$f":"ROWS($L$2:L707)","v":706},{"$f":"IF(L707=WORKSHEET!$B$1,I707,\"\")","v":""},{"$f":"IFERROR(SMALL($J$2:$J$3142,I707),\"\")","v":""},"ILLINOIS","Clinton County",22,{"$f":"+R707-N707-P707","v":4},19,"N/A",45,3.076218952777415E-2,0.10827067669172932]
[279,null,10,"Champaign (Champaign), IL - Coles, IL","IL: Coles County (17029)","IL: Coles County (17029)","17029","  Coles  ",{"$f":"ROWS($L$2:L708)","v":707},{"$f":"IF(L708=WORKSHEET!$B$1,I708,\"\")","v":""},"","ILLINOIS","Coles County",37,11,27,"N/A",75,3.076218952777415E-2,0.17142857142857143]
[287,null,10,"Cook (Chicago), IL - DuPage, IL","IL: Cook County (17031)","IL: Cook County (17031)","17031","  Cook  ",{"$f":"ROWS($L$2:L709)","v":708},{"$f":"IF(L709=WORKSHEET!$B$1,I709,\"\")","v":""},"","ILLINOIS","Cook County",10465,895,4411,28,15799,3.076218952777415E-2,8.1384265708629666E-2]
[310,null,10,"Crawford, IL - Lawrence, IL","IL: Crawford County (17033)","IL: Crawford County (17033)","17033","  Crawford  ",{"$f":"ROWS($L$2:L710)","v":709},{"$f":"IF(L710=WORKSHEET!$B$1,I710,\"\")","v":""},"","ILLINOIS","Crawford County",31,{"$f":"+R710-N710-P710","v":2},14,"N/A",47,3.076218952777415E-2,4.6875E-2]
[279,null,10,"Champaign (Champaign), IL - Coles, IL","IL: Cumberland County (17035)","IL: Cumberland County (17035)","17035","  Cumberland  ",{"$f":"ROWS($L$2:L711)","v":710},{"$f":"IF(L711=WORKSHEET!$B$1,I711,\"\")","v":""},"","ILLINOIS","Cumberland County","*","*","*","N/A","*",3.076218952777415E-2,0.17142857142857143]
[338,null,10,"McLean (Bloomington), IL - Woodford, IL","IL: De Witt County (17039)","IL: De Witt County (17039)","17039","  De Kalb  ",{"$f":"ROWS($L$2:L712)","v":711},{"$f":"IF(L712=WORKSHEET!$B$1,I712,\"\")","v":""},"","ILLINOIS","De Witt County",108,12,66,"*",187,3.076218952777415E-2,0.1524390243902439]
[373,null,10,"Kane (Aurora), IL - DeKalb, IL","IL: DeKalb County (17037)","IL: DeKalb County (17037)","17037","  De Witt  ",{"$f":"ROWS($L$2:L713)","v":712},{"$f":"IF(L713=WORKSHEET!$B$1,I713,\"\")","v":""},"","ILLINOIS","DeKalb County",13,{"$f":"+R713-N713-P713","v":3},12,"N/A",28,3.076218952777415E-2,0.11509229098805646]
[279,null,10,"Champaign (Champaign), IL - Coles, IL","IL: Douglas County (17041)","IL: Douglas County (17041)","17041","  Douglas  ",{"$f":"ROWS($L$2:L714)","v":713},{"$f":"IF(L714=WORKSHEET!$B$1,I714,\"\")","v":""},"","ILLINOIS","Douglas County","*","*","*","N/A",24,3.076218952777415E-2,0.17142857142857143]
[287,null,10,"Cook (Chicago), IL - DuPage, IL","IL: DuPage County (17043)","IL: DuPage County (17043)","17043","  Du Page  ",{"$f":"ROWS($L$2:L715)","v":714},{"$f":"IF(L715=WORKSHEET!$B$1,I715,\"\")","v":""},"","ILLINOIS","DuPage County",901,104,723,"*",1734,3.076218952777415E-2,8.1384265708629666E-2]
[333,null,10,"Vermilion, IL - Edgar, IL","IL: Edgar County (17045)","IL: Edgar County (17045)","17045","  Edgar  ",{"$f":"ROWS($L$2:L716)","v":715},{"$f":"IF(L716=WORKSHEET!$B$1,I716,\"\")","v":""},"","ILLINOIS","Edgar County",16,"*","*","N/A",32,3.076218952777415E-2,0.23121387283236994]
[351,null,10,"Richland, IL - Clay, IL","IL: Edwards County (17047)","IL: Edwards County (17047)","17047","  Edwards  ",{"$f":"ROWS($L$2:L717)","v":716},{"$f":"IF(L717=WORKSHEET!$B$1,I717,\"\")","v":""},"","ILLINOIS","Edwards County","*","*","*","N/A",11,3.076218952777415E-2,0.16071428571428573]
[363,null,10,"Effingham, IL - Fayette, IL","IL: Effingham County (17049)","IL: Effingham County (17049)","17049","  Effingham  ",{"$f":"ROWS($L$2:L718)","v":717},{"$f":"IF(L718=WORKSHEET!$B$1,I718,\"\")","v":""},"","ILLINOIS","Effingham County",27,{"$f":"+R718-N718-P718","v":9},28,"N/A",64,3.076218952777415E-2,0.17857142857142858]
[363,null,10,"Effingham, IL - Fayette, IL","IL: Fayette County (17051)","IL: Fayette County (17051)","17051","  Fayette  ",{"$f":"ROWS($L$2:L719)","v":718},{"$f":"IF(L719=WORKSHEET!$B$1,I719,\"\")","v":""},"","ILLINOIS","Fayette County",19,{"$f":"+R719-N719-P719","v":1},15,"N/A",35,3.076218952777415E-2,0.17857142857142858]
[279,null,10,"Champaign (Champaign), IL - Coles, IL","IL: Ford County (17053)","IL: Ford County (17053)","17053","  Ford  ",{"$f":"ROWS($L$2:L720)","v":719},{"$f":"IF(L720=WORKSHEET!$B$1,I720,\"\")","v":""},"","ILLINOIS","Ford County","*","*",11,"N/A",20,3.076218952777415E-2,0.17142857142857143]
[331,null,10,"Williamson, IL - Jackson, IL","IL: Franklin County (17055)","IL: Franklin County (17055)","17055","  Franklin  ",{"$f":"ROWS($L$2:L721)","v":720},{"$f":"IF(L721=WORKSHEET!$B$1,I721,\"\")","v":""},"","ILLINOIS","Franklin County",61,{"$f":"+R721-N721-P721","v":9},15,"*",85,3.076218952777415E-2,0.11538461538461539]
[277,null,10,"Peoria (Peoria), IL - Tazewell, IL","IL: Fulton County (17057)","IL: Fulton County (17057)","17057","  Fulton  ",{"$f":"ROWS($L$2:L722)","v":721},{"$f":"IF(L722=WORKSHEET!$B$1,I722,\"\")","v":""},"","ILLINOIS","Fulton County",44,{"$f":"+R722-N722-P722","v":6},29,"N/A",79,3.076218952777415E-2,0.11834319526627218]
[384,null,10,"Saline, IL - Gallatin, IL","IL: Gallatin County (17059)","IL: Gallatin County (17059)","17059","  Gallatin  ",{"$f":"ROWS($L$2:L723)","v":722},{"$f":"IF(L723=WORKSHEET!$B$1,I723,\"\")","v":""},"","ILLINOIS","Gallatin County","*","*","N/A","N/A",14,3.076218952777415E-2,0.20289855072463769]
[319,null,10,"Morgan, IL - Greene, IL","IL: Greene County (17061)","IL: Greene County (17061)","17061","  Greene  ",{"$f":"ROWS($L$2:L724)","v":723},{"$f":"IF(L724=WORKSHEET!$B$1,I724,\"\")","v":""},"","ILLINOIS","Greene County",11,"*","*","N/A",17,3.076218952777415E-2,0.15714285714285714]
[303,null,10,"Will (Joliet), IL - Grundy, IL","IL: Grundy County (17063)","IL: Grundy County (17063)","17063","  Grundy  ",{"$f":"ROWS($L$2:L725)","v":724},{"$f":"IF(L725=WORKSHEET!$B$1,I725,\"\")","v":""},"","ILLINOIS","Grundy County",44,{"$f":"+R725-N725-P725","v":6},38,"*",88,3.076218952777415E-2,0.12403100775193798]
[383,null,10,"White, IL - Hamilton, IL","IL: Hamilton County (17065)","IL: Hamilton County (17065)","17065","  Hamilton  ",{"$f":"ROWS($L$2:L726)","v":725},{"$f":"IF(L726=WORKSHEET!$B$1,I726,\"\")","v":""},"","ILLINOIS","Hamilton County",12,"*","*","N/A",22,3.076218952777415E-2,0.25925925925925924]
[367,null,10,"Hancock, IL","IL: Hancock County (17067)","IL: Hancock County (17067)","17067","  Hancock  ",{"$f":"ROWS($L$2:L727)","v":726},{"$f":"IF(L727=WORKSHEET!$B$1,I727,\"\")","v":""},"","ILLINOIS","Hancock County",15,{"$f":"+R727-N727-P727","v":2},13,"N/A",30,3.076218952777415E-2,0.16666666666666666]
[384,null,10,"Saline, IL - Gallatin, IL","IL: Hardin County (17069)","IL: Hardin County (17069)","17069","  Hardin  ",{"$f":"ROWS($L$2:L728)","v":727},{"$f":"IF(L728=WORKSHEET!$B$1,I728,\"\")","v":""},"","ILLINOIS","Hardin County","*","*","*","N/A","*",3.076218952777415E-2,0.20289855072463769]
[340,null,10,"Henderson, IL","IL: Henderson County (17071)","IL: Henderson County (17071)","17071","  Henderson  ",{"$f":"ROWS($L$2:L729)","v":728},{"$f":"IF(L729=WORKSHEET!$B$1,I729,\"\")","v":""},"","ILLINOIS","Henderson County","*","*","*","N/A",11,3.076218952777415E-2,0.13333333333333333]
[307,null,10,"Rock Island (Moline), IL - Henry, IL","IL: Henry County (17073)","IL: Henry County (17073)","17073","  Henry  ",{"$f":"ROWS($L$2:L730)","v":729},{"$f":"IF(L730=WORKSHEET!$B$1,I730,\"\")","v":""},"","ILLINOIS","Henry County",55,{"$f":"+R730-N730-P730","v":10},27,"N/A",92,3.076218952777415E-2,0.11174785100286533]
[343,null,10,"Kankakee (Kankakee), IL - Iroquois, IL","IL: Iroquois County (17075)","IL: Iroquois County (17075)","17075","  Iroquois  ",{"$f":"ROWS($L$2:L731)","v":730},{"$f":"IF(L731=WORKSHEET!$B$1,I731,\"\")","v":""},"","ILLINOIS","Iroquois County",17,17,22,"N/A",56,3.076218952777415E-2,0.2549800796812749]
[331,null,10,"Williamson, IL - Jackson, IL","IL: Jackson County (17077)","IL: Jackson County (17077)","17077","  Jackson  ",{"$f":"ROWS($L$2:L732)","v":731},{"$f":"IF(L732=WORKSHEET!$B$1,I732,\"\")","v":""},"","ILLINOIS","Jackson County",73,{"$f":"+R732-N732-P732","v":9},35,"N/A",117,3.076218952777415E-2,0.11538461538461539]
[351,null,10,"Richland, IL - Clay, IL","IL: Jasper County (17079)","IL: Jasper County (17079)","17079","  Jasper  ",{"$f":"ROWS($L$2:L733)","v":732},{"$f":"IF(L733=WORKSHEET!$B$1,I733,\"\")","v":""},"","ILLINOIS","Jasper County",13,"*","*","N/A",18,3.076218952777415E-2,0.16071428571428573]
[335,null,10,"Jefferson, IL - Wayne, IL","IL: Jefferson County (17081)","IL: Jefferson County (17081)","17081","  Jefferson  ",{"$f":"ROWS($L$2:L734)","v":733},{"$f":"IF(L734=WORKSHEET!$B$1,I734,\"\")","v":""},"","ILLINOIS","Jefferson County",61,15,20,"N/A",96,3.076218952777415E-2,0.19191919191919191]
[299,null,10,"Madison (Alton), IL - Jersey, IL","IL: Jersey County (17083)","IL: Jersey County (17083)","17083","  Jersey  ",{"$f":"ROWS($L$2:L735)","v":734},{"$f":"IF(L735=WORKSHEET!$B$1,I735,\"\")","v":""},"","ILLINOIS","Jersey County",33,{"$f":"+R735-N735-P735","v":1},12,"N/A",46,3.076218952777415E-2,0.14222222222222222]
[302,null,10,"Stephenson, IL - Jo Daviess, IL","IL: Jo Daviess County (17085)","IL: Jo Daviess County (17085)","17085","  Jo Daviess  ",{"$f":"ROWS($L$2:L736)","v":735},{"$f":"IF(L736=WORKSHEET!$B$1,I736,\"\")","v":""},"","ILLINOIS","Jo Daviess County",16,{"$f":"+R736-N736-P736","v":3},16,"N/A",35,3.076218952777415E-2,0.10526315789473684]
[12,null,10,"Massac, IL - Johnson, IL","IL: Johnson County (17087)","IL: Johnson County (17087)","17087","  Johnson  ",{"$f":"ROWS($L$2:L737)","v":736},{"$f":"IF(L737=WORKSHEET!$B$1,I737,\"\")","v":""},"","ILLINOIS","Johnson County",12,"*","*","N/A",24,3.076218952777415E-2,0.14728682170542637]
[373,null,10,"Kane (Aurora), IL - DeKalb, IL","IL: Kane County (17089)","IL: Kane County (17089)","17089","  Kane  ",{"$f":"ROWS($L$2:L738)","v":737},{"$f":"IF(L738=WORKSHEET!$B$1,I738,\"\")","v":""},"","ILLINOIS","Kane County",639,83,430,"*",1157,3.076218952777415E-2,0.11509229098805646]
[343,null,10,"Kankakee (Kankakee), IL - Iroquois, IL","IL: Kankakee County (17091)","IL: Kankakee County (17091)","17091","  Kankakee  ",{"$f":"ROWS($L$2:L739)","v":738},{"$f":"IF(L739=WORKSHEET!$B$1,I739,\"\")","v":""},"","ILLINOIS","Kankakee County",170,47,56,"*",275,3.076218952777415E-2,0.2549800796812749]
[373,null,10,"Kane (Aurora), IL - DeKalb, IL","IL: Kendall County (17093)","IL: Kendall County (17093)","17093","  Kendall  ",{"$f":"ROWS($L$2:L740)","v":739},{"$f":"IF(L740=WORKSHEET!$B$1,I740,\"\")","v":""},"","ILLINOIS","Kendall County",68,11,47,"N/A",126,3.076218952777415E-2,0.11509229098805646]
[324,null,10,"Knox, IL - Warren, IL","IL: Knox County (17095)","IL: Knox County (17095)","17095","  Knox  ",{"$f":"ROWS($L$2:L741)","v":740},{"$f":"IF(L741=WORKSHEET!$B$1,I741,\"\")","v":""},"","ILLINOIS","Knox County",72,{"$f":"+R741-N741-P741","v":10},37,"N/A",119,3.076218952777415E-2,0.12244897959183673]
[336,null,10,"La Salle, IL - Livingston, IL","IL: La Salle County (17099)","IL: La Salle County (17099)","17099","  La Salle  ",{"$f":"ROWS($L$2:L742)","v":741},{"$f":"IF(L742=WORKSHEET!$B$1,I742,\"\")","v":""},"","ILLINOIS","La Salle County",106,{"$f":"+R742-N742-P742","v":7},78,"*",191,3.076218952777415E-2,5.9113300492610835E-2]
[287,null,10,"Cook (Chicago), IL - DuPage, IL","IL: Lake County (17097)","IL: Lake County (17097)","17097","  Lake  ",{"$f":"ROWS($L$2:L743)","v":742},{"$f":"IF(L743=WORKSHEET!$B$1,I743,\"\")","v":""},"","ILLINOIS","Lake County",904,68,496,"*",1474,3.076218952777415E-2,8.1384265708629666E-2]
[310,null,10,"Crawford, IL - Lawrence, IL","IL: Lawrence County (17101)","IL: Lawrence County (17101)","17101","  Lawrence  ",{"$f":"ROWS($L$2:L744)","v":743},{"$f":"IF(L744=WORKSHEET!$B$1,I744,\"\")","v":""},"","ILLINOIS","Lawrence County",20,"*","*","N/A",26,3.076218952777415E-2,4.6875E-2]
[291,null,10,"Winnebago (Rockford), IL - Ogle, IL","IL: Lee County (17103)","IL: Lee County (17103)","17103","  Lee  ",{"$f":"ROWS($L$2:L745)","v":744},{"$f":"IF(L745=WORKSHEET!$B$1,I745,\"\")","v":""},"","ILLINOIS","Lee County",39,{"$f":"+R745-N745-P745","v":7},20,"N/A",66,3.076218952777415E-2,0.14695945945945946]
[336,null,10,"La Salle, IL - Livingston, IL","IL: Livingston County (17105)","IL: Livingston County (17105)","17105","Livingston  ",{"$f":"ROWS($L$2:L746)","v":745},{"$f":"IF(L746=WORKSHEET!$B$1,I746,\"\")","v":""},"","ILLINOIS","Livingston County",29,"*",25,"N/A",57,3.076218952777415E-2,5.9113300492610835E-2]
[318,null,10,"Sangamon (Springfield), IL - Christian, IL","IL: Logan County (17107)","IL: Logan County (17107)","17107","  Logan  ",{"$f":"ROWS($L$2:L747)","v":746},{"$f":"IF(L747=WORKSHEET!$B$1,I747,\"\")","v":""},"","ILLINOIS","Logan County",28,"*",18,"N/A",51,3.076218952777415E-2,0.11264367816091954]
[305,null,10,"Macon (Decatur), IL - Shelby, IL","IL: Macon County (17115)","IL: Macon County (17115)","17115","  Macon  ",{"$f":"ROWS($L$2:L748)","v":747},{"$f":"IF(L748=WORKSHEET!$B$1,I748,\"\")","v":""},"","ILLINOIS","Macon County",187,17,66,"*",272,3.076218952777415E-2,0.102880658436214]
[334,null,10,"Macoupin, IL - Montgomery, IL","IL: Macoupin County (17117)","IL: Macoupin County (17117)","17117","  Macoupin  ",{"$f":"ROWS($L$2:L749)","v":748},{"$f":"IF(L749=WORKSHEET!$B$1,I749,\"\")","v":""},"","ILLINOIS","Macoupin County",57,{"$f":"+R749-N749-P749","v":4},36,"*",97,3.076218952777415E-2,7.1428571428571425E-2]
[299,null,10,"Madison (Alton), IL - Jersey, IL","IL: Madison County (17119)","IL: Madison County (17119)","17119","  Madison  ",{"$f":"ROWS($L$2:L750)","v":749},{"$f":"IF(L750=WORKSHEET!$B$1,I750,\"\")","v":""},"","ILLINOIS","Madison County",329,56,164,"*",551,3.076218952777415E-2,0.14222222222222222]
[358,null,10,"Marion, IL - Washington, IL","IL: Marion County (17121)","IL: Marion County (17121)","17121","  Marion  ",{"$f":"ROWS($L$2:L751)","v":750},{"$f":"IF(L751=WORKSHEET!$B$1,I751,\"\")","v":""},"","ILLINOIS","Marion County",55,11,24,"N/A",90,3.076218952777415E-2,0.16666666666666666]
[277,null,10,"Peoria (Peoria), IL - Tazewell, IL","IL: Marshall County (17123)","IL: Marshall County (17123)","17123","  Marshall  ",{"$f":"ROWS($L$2:L752)","v":751},{"$f":"IF(L752=WORKSHEET!$B$1,I752,\"\")","v":""},"","ILLINOIS","Marshall County",16,"*","*","N/A",28,3.076218952777415E-2,0.11834319526627218]
[277,null,10,"Peoria (Peoria), IL - Tazewell, IL","IL: Mason County (17125)","IL: Mason County (17125)","17125","  Mason  ",{"$f":"ROWS($L$2:L753)","v":752},{"$f":"IF(L753=WORKSHEET!$B$1,I753,\"\")","v":""},"","ILLINOIS","Mason County",12,"*","*","N/A",26,3.076218952777415E-2,0.11834319526627218]
[12,null,10,"Massac, IL - Johnson, IL","IL: Massac County (17127)","IL: Massac County (17127)","17127","  Massac  ",{"$f":"ROWS($L$2:L754)","v":753},{"$f":"IF(L754=WORKSHEET!$B$1,I754,\"\")","v":""},"","ILLINOIS","Massac County",19,"*","*","*",31,3.076218952777415E-2,0.14728682170542637]
[318,null,10,"Sangamon (Springfield), IL - Christian, IL","IL: McDonough County (17109)","IL: McDonough County (17109)","17109","  Mc Donough  ",{"$f":"ROWS($L$2:L755)","v":754},{"$f":"IF(L755=WORKSHEET!$B$1,I755,\"\")","v":""},"","ILLINOIS","McDonough County",18,{"$f":"+R755-N755-P755","v":6},14,"N/A",38,3.076218952777415E-2,0.11264367816091954]
[287,null,10,"Cook (Chicago), IL - DuPage, IL","IL: McHenry County (17111)","IL: McHenry County (17111)","17111","  Mc Henry  ",{"$f":"ROWS($L$2:L756)","v":755},{"$f":"IF(L756=WORKSHEET!$B$1,I756,\"\")","v":""},"","ILLINOIS","McHenry County",259,43,213,"*",516,3.076218952777415E-2,8.1384265708629666E-2]
[338,null,10,"McLean (Bloomington), IL - Woodford, IL","IL: McLean County (17113)","IL: McLean County (17113)","17113","  Mc Lean  ",{"$f":"ROWS($L$2:L757)","v":756},{"$f":"IF(L757=WORKSHEET!$B$1,I757,\"\")","v":""},"","ILLINOIS","McLean County",107,17,117,"N/A",241,3.076218952777415E-2,0.1524390243902439]
[318,null,10,"Sangamon (Springfield), IL - Christian, IL","IL: Menard County (17129)","IL: Menard County (17129)","17129","  Menard  ",{"$f":"ROWS($L$2:L758)","v":757},{"$f":"IF(L758=WORKSHEET!$B$1,I758,\"\")","v":""},"","ILLINOIS","Menard County",16,"*","*","N/A",24,3.076218952777415E-2,0.11264367816091954]
[307,null,10,"Rock Island (Moline), IL - Henry, IL","IL: Mercer County (17131)","IL: Mercer County (17131)","17131","  Mercer  ",{"$f":"ROWS($L$2:L759)","v":758},{"$f":"IF(L759=WORKSHEET!$B$1,I759,\"\")","v":""},"","ILLINOIS","Mercer County",18,{"$f":"+R759-N759-P759","v":5},14,"N/A",37,3.076218952777415E-2,0.11174785100286533]
[325,null,10,"St. Clair (Belleville), IL - Clinton, IL","IL: Monroe County (17133)","IL: Monroe County (17133)","17133","  Monroe  ",{"$f":"ROWS($L$2:L760)","v":759},{"$f":"IF(L760=WORKSHEET!$B$1,I760,\"\")","v":""},"","ILLINOIS","Monroe County",17,{"$f":"+R760-N760-P760","v":4},14,"N/A",35,3.076218952777415E-2,0.10827067669172932]
[334,null,10,"Macoupin, IL - Montgomery, IL","IL: Montgomery County (17135)","IL: Montgomery County (17135)","17135","  Montgomery  ",{"$f":"ROWS($L$2:L761)","v":760},{"$f":"IF(L761=WORKSHEET!$B$1,I761,\"\")","v":""},"","ILLINOIS","Montgomery County",47,{"$f":"+R761-N761-P761","v":4},21,"N/A",72,3.076218952777415E-2,7.1428571428571425E-2]
[319,null,10,"Morgan, IL - Greene, IL","IL: Morgan County (17137)","IL: Morgan County (17137)","17137","  Morgan  ",{"$f":"ROWS($L$2:L762)","v":761},{"$f":"IF(L762=WORKSHEET!$B$1,I762,\"\")","v":""},"","ILLINOIS","Morgan County",41,{"$f":"+R762-N762-P762","v":10},18,"*",69,3.076218952777415E-2,0.15714285714285714]
[305,null,10,"Macon (Decatur), IL - Shelby, IL","IL: Moultrie County (17139)","IL: Moultrie County (17139)","17139","  Moultrie  ",{"$f":"ROWS($L$2:L763)","v":762},{"$f":"IF(L763=WORKSHEET!$B$1,I763,\"\")","v":""},"","ILLINOIS","Moultrie County","*","*",14,"N/A",25,3.076218952777415E-2,0.102880658436214]
[291,null,10,"Winnebago (Rockford), IL - Ogle, IL","IL: Ogle County (17141)","IL: Ogle County (17141)","17141","  Ogle  ",{"$f":"ROWS($L$2:L764)","v":763},{"$f":"IF(L764=WORKSHEET!$B$1,I764,\"\")","v":""},"","ILLINOIS","Ogle County",30,12,40,"N/A",82,3.076218952777415E-2,0.14695945945945946]
[277,null,10,"Peoria (Peoria), IL - Tazewell, IL","IL: Peoria County (17143)","IL: Peoria County (17143)","17143","  Peoria  ",{"$f":"ROWS($L$2:L765)","v":764},{"$f":"IF(L765=WORKSHEET!$B$1,I765,\"\")","v":""},"","ILLINOIS","Peoria County",260,29,136,"*",426,3.076218952777415E-2,0.11834319526627218]
[331,null,10,"Williamson, IL - Jackson, IL","IL: Perry County (17145)","IL: Perry County (17145)","17145","  Perry  ",{"$f":"ROWS($L$2:L766)","v":765},{"$f":"IF(L766=WORKSHEET!$B$1,I766,\"\")","v":""},"","ILLINOIS","Perry County",37,{"$f":"+R766-N766-P766","v":3},21,"N/A",61,3.076218952777415E-2,0.11538461538461539]
[305,null,10,"Macon (Decatur), IL - Shelby, IL","IL: Piatt County (17147)","IL: Piatt County (17147)","17147","  Piatt  ",{"$f":"ROWS($L$2:L767)","v":766},{"$f":"IF(L767=WORKSHEET!$B$1,I767,\"\")","v":""},"","ILLINOIS","Piatt County","*","*","*","N/A",16,3.076218952777415E-2,0.102880658436214]
[353,null,10,"Adams, IL - Pike, IL","IL: Pike County (17149)","IL: Pike County (17149)","17149","  Pike  ",{"$f":"ROWS($L$2:L768)","v":767},{"$f":"IF(L768=WORKSHEET!$B$1,I768,\"\")","v":""},"","ILLINOIS","Pike County",11,"*","*","N/A",30,3.076218952777415E-2,0.26190476190476192]
[384,null,10,"Saline, IL - Gallatin, IL","IL: Pope County (17151)","IL: Pope County (17151)","17151","  Pope  ",{"$f":"ROWS($L$2:L769)","v":768},{"$f":"IF(L769=WORKSHEET!$B$1,I769,\"\")","v":""},"","ILLINOIS","Pope County","*","N/A","*","N/A","*",3.076218952777415E-2,0.20289855072463769]
[563,null,10,"Union, IL - Alexander, IL","IL: Pulaski County (17153)","IL: Pulaski County (17153)","17153","  Pulaski  ",{"$f":"ROWS($L$2:L770)","v":769},{"$f":"IF(L770=WORKSHEET!$B$1,I770,\"\")","v":""},"","ILLINOIS","Pulaski County",15,"*","*","N/A",17,3.076218952777415E-2,9.2077087794432549E-2]
[336,null,10,"La Salle, IL - Livingston, IL","IL: Putnam County (17155)","IL: Putnam County (17155)","17155","  Putnam  ",{"$f":"ROWS($L$2:L771)","v":770},{"$f":"IF(L771=WORKSHEET!$B$1,I771,\"\")","v":""},{"$f":"IFERROR(SMALL($J$2:$J$3142,I771),\"\")","v":""},"ILLINOIS","Putnam County","*","*","*","N/A","*",3.076218952777415E-2,5.9113300492610835E-2]
[325,null,10,"St. Clair (Belleville), IL - Clinton, IL","IL: Randolph County (17157)","IL: Randolph County (17157)","17157","  Randolph  ",{"$f":"ROWS($L$2:L772)","v":771},{"$f":"IF(L772=WORKSHEET!$B$1,I772,\"\")","v":""},"","ILLINOIS","Randolph County",37,{"$f":"+R772-N772-P772","v":5},18,"N/A",60,3.076218952777415E-2,0.10827067669172932]
[351,null,10,"Richland, IL - Clay, IL","IL: Richland County (17159)","IL: Richland County (17159)","17159","  Richland  ",{"$f":"ROWS($L$2:L773)","v":772},{"$f":"IF(L773=WORKSHEET!$B$1,I773,\"\")","v":""},"","ILLINOIS","Richland County",20,"*","*","N/A",28,3.076218952777415E-2,0.16071428571428573]
[307,null,10,"Rock Island (Moline), IL - Henry, IL","IL: Rock Island County (17161)","IL: Rock Island County (17161)","17161","  Rock Island  ",{"$f":"ROWS($L$2:L774)","v":773},{"$f":"IF(L774=WORKSHEET!$B$1,I774,\"\")","v":""},"","ILLINOIS","Rock Island County",233,24,114,"*",374,3.076218952777415E-2,0.11174785100286533]
[384,null,10,"Saline, IL - Gallatin, IL","IL: Saline County (17165)","IL: Saline County (17165)","17165","  Saline  ",{"$f":"ROWS($L$2:L775)","v":774},{"$f":"IF(L775=WORKSHEET!$B$1,I775,\"\")","v":""},"","ILLINOIS","Saline County",35,"*","*","N/A",53,3.076218952777415E-2,0.20289855072463769]
[318,null,10,"Sangamon (Springfield), IL - Christian, IL","IL: Sangamon County (17167)","IL: Sangamon County (17167)","17167","  Sangamon  ",{"$f":"ROWS($L$2:L776)","v":775},{"$f":"IF(L776=WORKSHEET!$B$1,I776,\"\")","v":""},"","ILLINOIS","Sangamon County",251,27,147,"N/A",425,3.076218952777415E-2,0.11264367816091954]
[318,null,10,"Sangamon (Springfield), IL - Christian, IL","IL: Schuyler County (17169)","IL: Schuyler County (17169)","17169","  Schuyler  ",{"$f":"ROWS($L$2:L777)","v":776},{"$f":"IF(L777=WORKSHEET!$B$1,I777,\"\")","v":""},"","ILLINOIS","Schuyler County",12,"*","*","N/A",15,3.076218952777415E-2,0.11264367816091954]
[319,null,10,"Morgan, IL - Greene, IL","IL: Scott County (17171)","IL: Scott County (17171)","17171","  Scott  ",{"$f":"ROWS($L$2:L778)","v":777},{"$f":"IF(L778=WORKSHEET!$B$1,I778,\"\")","v":""},"","ILLINOIS","Scott County","*","N/A","*","N/A","*",3.076218952777415E-2,0.15714285714285714]
[305,null,10,"Macon (Decatur), IL - Shelby, IL","IL: Shelby County (17173)","IL: Shelby County (17173)","17173","  Shelby  ",{"$f":"ROWS($L$2:L779)","v":778},{"$f":"IF(L779=WORKSHEET!$B$1,I779,\"\")","v":""},"","ILLINOIS","Shelby County",17,{"$f":"+R779-N779-P779","v":3},15,"N/A",35,3.076218952777415E-2,0.102880658436214]
[325,null,10,"St. Clair (Belleville), IL - Clinton, IL","IL: St. Clair County (17163)","IL: St. Clair County (17163)","17163","  St. Clair  ",{"$f":"ROWS($L$2:L780)","v":779},{"$f":"IF(L780=WORKSHEET!$B$1,I780,\"\")","v":""},"","ILLINOIS","St. Clair County",517,59,179,"*",756,3.076218952777415E-2,0.10827067669172932]
[307,null,10,"Rock Island (Moline), IL - Henry, IL","IL: Stark County (17175)","IL: Stark County (17175)","17175","  Stark  ",{"$f":"ROWS($L$2:L781)","v":780},{"$f":"IF(L781=WORKSHEET!$B$1,I781,\"\")","v":""},"","ILLINOIS","Stark County","*","N/A","N/A","N/A","*",3.076218952777415E-2,0.11174785100286533]
[302,null,10,"Stephenson, IL - Jo Daviess, IL","IL: Stephenson County (17177)","IL: Stephenson County (17177)","17177","  Stephenson  ",{"$f":"ROWS($L$2:L782)","v":781},{"$f":"IF(L782=WORKSHEET!$B$1,I782,\"\")","v":""},"","ILLINOIS","Stephenson County",62,{"$f":"+R782-N782-P782","v":4},48,"N/A",114,3.076218952777415E-2,0.10526315789473684]
[277,null,10,"Peoria (Peoria), IL - Tazewell, IL","IL: Tazewell County (17179)","IL: Tazewell County (17179)","17179","  Tazewell  ",{"$f":"ROWS($L$2:L783)","v":782},{"$f":"IF(L783=WORKSHEET!$B$1,I783,\"\")","v":""},"","ILLINOIS","Tazewell County",115,18,100,"N/A",233,3.076218952777415E-2,0.11834319526627218]
[563,null,10,"Union, IL - Alexander, IL","IL: Union County (17181)","IL: Union County (17181)","17181","  Union  ",{"$f":"ROWS($L$2:L784)","v":783},{"$f":"IF(L784=WORKSHEET!$B$1,I784,\"\")","v":""},"","ILLINOIS","Union County",19,{"$f":"+R784-N784-P784","v":0},12,"N/A",31,3.076218952777415E-2,9.2077087794432549E-2]
[333,null,10,"Vermilion, IL - Edgar, IL","IL: Vermilion County (17183)","IL: Vermilion County (17183)","17183","  Vermilion  ",{"$f":"ROWS($L$2:L785)","v":784},{"$f":"IF(L785=WORKSHEET!$B$1,I785,\"\")","v":""},"","ILLINOIS","Vermilion County",93,26,47,"*",167,3.076218952777415E-2,0.23121387283236994]
[273,null,10,"Wabash, IL","IL: Wabash County (17185)","IL: Wabash County (17185)","17185","  Wabash  ",{"$f":"ROWS($L$2:L786)","v":785},{"$f":"IF(L786=WORKSHEET!$B$1,I786,\"\")","v":""},"","ILLINOIS","Wabash County","*","*","*","N/A",19,3.076218952777415E-2,0.14713216957605985]
[324,null,10,"Knox, IL - Warren, IL","IL: Warren County (17187)","IL: Warren County (17187)","17187","  Warren  ",{"$f":"ROWS($L$2:L787)","v":786},{"$f":"IF(L787=WORKSHEET!$B$1,I787,\"\")","v":""},"","ILLINOIS","Warren County",14,"*","*","N/A",23,3.076218952777415E-2,0.12244897959183673]
[358,null,10,"Marion, IL - Washington, IL","IL: Washington County (17189)","IL: Washington County (17189)","17189","  Washington  ",{"$f":"ROWS($L$2:L788)","v":787},{"$f":"IF(L788=WORKSHEET!$B$1,I788,\"\")","v":""},"","ILLINOIS","Washington County","*","*","*","N/A",20,3.076218952777415E-2,0.16666666666666666]
[335,null,10,"Jefferson, IL - Wayne, IL","IL: Wayne County (17191)","IL: Wayne County (17191)","17191","  Wayne  ",{"$f":"ROWS($L$2:L789)","v":788},{"$f":"IF(L789=WORKSHEET!$B$1,I789,\"\")","v":""},"","ILLINOIS","Wayne County",19,"*","*","N/A",31,3.076218952777415E-2,0.19191919191919191]
[383,null,10,"White, IL - Hamilton, IL","IL: White County (17193)","IL: White County (17193)","17193","  White  ",{"$f":"ROWS($L$2:L790)","v":789},{"$f":"IF(L790=WORKSHEET!$B$1,I790,\"\")","v":""},"","ILLINOIS","White County","*","*","*","*",15,3.076218952777415E-2,0.25925925925925924]
[361,null,10,"Whiteside, IL - Carroll, IL","IL: Whiteside County (17195)","IL: Whiteside County (17195)","17195","  Whiteside  ",{"$f":"ROWS($L$2:L791)","v":790},{"$f":"IF(L791=WORKSHEET!$B$1,I791,\"\")","v":""},"","ILLINOIS","Whiteside County",75,13,35,"*",124,3.076218952777415E-2,0.12962962962962962]
[303,null,10,"Will (Joliet), IL - Grundy, IL","IL: Will County (17197)","IL: Will County (17197)","17197","  Will  ",{"$f":"ROWS($L$2:L792)","v":791},{"$f":"IF(L792=WORKSHEET!$B$1,I792,\"\")","v":""},"","ILLINOIS","Will County",747,107,435,"*",1292,3.076218952777415E-2,0.12403100775193798]
[331,null,10,"Williamson, IL - Jackson, IL","IL: Williamson County (17199)","IL: Williamson County (17199)","17199","  Williamson  ",{"$f":"ROWS($L$2:L793)","v":792},{"$f":"IF(L793=WORKSHEET!$B$1,I793,\"\")","v":""},"","ILLINOIS","Williamson County",82,13,50,"N/A",145,3.076218952777415E-2,0.11538461538461539]
[291,null,10,"Winnebago (Rockford), IL - Ogle, IL","IL: Winnebago County (17201)","IL: Winnebago County (17201)","17201","  Winnebago  ",{"$f":"ROWS($L$2:L794)","v":793},{"$f":"IF(L794=WORKSHEET!$B$1,I794,\"\")","v":""},"","ILLINOIS","Winnebago County",397,58,229,"*",689,3.076218952777415E-2,0.14695945945945946]
[338,null,10,"McLean (Bloomington), IL - Woodford, IL","IL: Woodford County (17203)","IL: Woodford County (17203)","17203","  Woodford  ",{"$f":"ROWS($L$2:L795)","v":794},{"$f":"IF(L795=WORKSHEET!$B$1,I795,\"\")","v":""},"","ILLINOIS","Woodford County",19,{"$f":"+R795-N795-P795","v":5},18,"N/A",42,3.0762189527774202E-2,0.1524390243902439]
[332,null,9,"Huntington, IN - Adams, IN","IN: Adams County (18001)","IN: Adams County (18001)","18001","Adams  ",{"$f":"ROWS($L$2:L796)","v":795},{"$f":"IF(L796=WORKSHEET!$B$1,I796,\"\")","v":""},"","INDIANA","Adams County",24,{"$f":"+R796-N796-P796","v":4},16,"N/A",44,2.6132791095279894E-2,0.14782608695652175]
[304,null,9,"Allen (Fort Wayne), IN - Noble, IN","IN: Allen County (18003)","IN: Allen County (18003)","18003","  Allen  ",{"$f":"ROWS($L$2:L797)","v":796},{"$f":"IF(L797=WORKSHEET!$B$1,I797,\"\")","v":""},"","INDIANA","Allen County",441,73,278,"*",799,2.6132791095279894E-2,0.13798219584569732]
[313,null,9,"Bartholomew, IN - Jackson, IN","IN: Bartholomew County (18005)","IN: Bartholomew County (18005)","18005","  Bartholomew  ",{"$f":"ROWS($L$2:L798)","v":797},{"$f":"IF(L798=WORKSHEET!$B$1,I798,\"\")","v":""},"","INDIANA","Bartholomew County",73,12,41,"N/A",126,2.6132791095279894E-2,0.13270142180094788]
[300,null,9,"Tippecanoe (Lafayette), IN - Clinton, IN","IN: Benton County (18007)","IN: Benton County (18007)","18007","  Benton  ",{"$f":"ROWS($L$2:L799)","v":798},{"$f":"IF(L799=WORKSHEET!$B$1,I799,\"\")","v":""},"","INDIANA","Benton County",12,"*","*","N/A",17,2.6132791095279894E-2,0.19047619047619047]
[323,null,9,"Delaware (Muncie), IN - Randolph, IN","IN: Blackford County (18009)","IN: Blackford County (18009)","18009","  Blackford  ",{"$f":"ROWS($L$2:L800)","v":799},{"$f":"IF(L800=WORKSHEET!$B$1,I800,\"\")","v":""},"","INDIANA","Blackford County",14,"*","*","N/A",24,2.6132791095279894E-2,8.9201877934272297E-2]
[401,null,9,"Boone, IN","IN: Boone County (18011)","IN: Boone County (18011)","18011","  Boone  ",{"$f":"ROWS($L$2:L801)","v":800},{"$f":"IF(L801=WORKSHEET!$B$1,I801,\"\")","v":""},"","INDIANA","Boone County",36,{"$f":"+R801-N801-P801","v":10},36,"N/A",82,2.6132791095279894E-2,0.21739130434782608]
[341,null,9,"Monroe (Bloomington), IN - Greene, IN","IN: Brown County (18013)","IN: Brown County (18013)","18013","  Brown  ",{"$f":"ROWS($L$2:L802)","v":801},{"$f":"IF(L802=WORKSHEET!$B$1,I802,\"\")","v":""},"","INDIANA","Brown County","*","N/A","*","N/A",16,2.6132791095279894E-2,0.1691542288557214]
[300,null,9,"Tippecanoe (Lafayette), IN - Clinton, IN","IN: Carroll County (18015)","IN: Carroll County (18015)","18015","  Carroll  ",{"$f":"ROWS($L$2:L803)","v":802},{"$f":"IF(L803=WORKSHEET!$B$1,I803,\"\")","v":""},"","INDIANA","Carroll County",20,{"$f":"+R803-N803-P803","v":2},12,"N/A",34,2.6132791095279894E-2,0.19047619047619047]
[364,null,9,"Howard (Kokomo), IN - Cass, IN","IN: Cass County (18017)","IN: Cass County (18017)","18017","  Cass  ",{"$f":"ROWS($L$2:L804)","v":803},{"$f":"IF(L804=WORKSHEET!$B$1,I804,\"\")","v":""},"","INDIANA","Cass County",46,{"$f":"+R804-N804-P804","v":6},25,"N/A",77,2.6132791095279894E-2,0.14423076923076922]
[365,null,9,"Clark (Jeffersonville), IN - Scott, IN","IN: Clark County (18019)","IN: Clark County (18019)","18019","  Clark  ",{"$f":"ROWS($L$2:L805)","v":804},{"$f":"IF(L805=WORKSHEET!$B$1,I805,\"\")","v":""},"","INDIANA","Clark County",170,15,58,"*",244,2.6132791095279894E-2,8.4745762711864403E-2]
[911,311,9,"Vigo (Terre Haute), IN - Clay, IN","IN: Clay County (18021)","IN: Clay County (18021)","18021","  Clay  ",{"$f":"ROWS($L$2:L806)","v":805},{"$f":"IF(L806=WORKSHEET!$B$1,I806,\"\")","v":""},"","INDIANA","Clay County",29,{"$f":"+R806-N806-P806","v":8},17,"N/A",54,2.6132791095279894E-2,0.16095890410958905]
[300,null,9,"Tippecanoe (Lafayette), IN - Clinton, IN","IN: Clinton County (18023)","IN: Clinton County (18023)","18023","  Clinton  ",{"$f":"ROWS($L$2:L807)","v":806},{"$f":"IF(L807=WORKSHEET!$B$1,I807,\"\")","v":""},"","INDIANA","Clinton County",34,{"$f":"+R807-N807-P807","v":7},17,"N/A",58,2.6132791095279894E-2,0.19047619047619047]
[339,null,9,"Floyd (New Albany), IN - Harrison, IN","IN: Crawford County (18025)","IN: Crawford County (18025)","18025","  Crawford  ",{"$f":"ROWS($L$2:L808)","v":807},{"$f":"IF(L808=WORKSHEET!$B$1,I808,\"\")","v":""},"","INDIANA","Crawford County",17,{"$f":"+R808-N808-P808","v":1},11,"N/A",29,2.6132791095279894E-2,5.4794520547945202E-2]
[910,310,9,"Knox, IN - Daviess, IN","IN: Daviess County (18027)","IN: Daviess County (18027)","18027","  Daviess  ",{"$f":"ROWS($L$2:L809)","v":808},{"$f":"IF(L809=WORKSHEET!$B$1,I809,\"\")","v":""},"","INDIANA","Daviess County",46,"N/A","*","N/A",55,2.6132791095279894E-2,4.6875E-2]
[304,null,9,"Allen (Fort Wayne), IN - Noble, IN","IN: De Kalb County (18033)","IN: De Kalb County (18033)","18033","  De Kalb  ",{"$f":"ROWS($L$2:L810)","v":809},{"$f":"IF(L810=WORKSHEET!$B$1,I810,\"\")","v":""},"","INDIANA","De Kalb County",41,{"$f":"+R810-N810-P810","v":2},29,"N/A",72,2.6132791095279894E-2,0.13798219584569732]
[321,null,9,"Dearborn, IN - Jefferson (Madison), IN","IN: Dearborn County (18029)","IN: Dearborn County (18029)","18029","  Dearborn  ",{"$f":"ROWS($L$2:L811)","v":810},{"$f":"IF(L811=WORKSHEET!$B$1,I811,\"\")","v":""},"","INDIANA","Dearborn County",40,12,23,"*",76,2.6132791095279894E-2,0.19209039548022599]
[313,null,9,"Bartholomew, IN - Jackson, IN","IN: Decatur County (18031)","IN: Decatur County (18031)","18031","  Decatur  ",{"$f":"ROWS($L$2:L812)","v":811},{"$f":"IF(L812=WORKSHEET!$B$1,I812,\"\")","v":""},"","INDIANA","Decatur County",33,{"$f":"+R812-N812-P812","v":2},19,"N/A",54,2.6132791095279894E-2,0.13270142180094788]
[323,null,9,"Delaware (Muncie), IN - Randolph, IN","IN: Delaware County (18035)","IN: Delaware County (18035)","18035","  Delaware  ",{"$f":"ROWS($L$2:L813)","v":812},{"$f":"IF(L813=WORKSHEET!$B$1,I813,\"\")","v":""},"","INDIANA","Delaware County",151,13,56,"N/A",220,2.6132791095279894E-2,8.9201877934272297E-2]
[394,null,9,"Dubois, IN","IN: Dubois County (18037)","IN: Dubois County (18037)","18037","  Dubois  ",{"$f":"ROWS($L$2:L814)","v":813},{"$f":"IF(L814=WORKSHEET!$B$1,I814,\"\")","v":""},"","INDIANA","Dubois County",44,{"$f":"+R814-N814-P814","v":7},17,"*",68,2.6132791095279894E-2,0.13725490196078433]
[349,null,9,"Elkhart (Elkhart), IN - Kosciusko, IN","IN: Elkhart County (18039)","IN: Elkhart County (18039)","18039","  Elkhart  ",{"$f":"ROWS($L$2:L815)","v":814},{"$f":"IF(L815=WORKSHEET!$B$1,I815,\"\")","v":""},"","INDIANA","Elkhart County",169,22,121,"N/A",312,2.6132791095279894E-2,0.13229571984435798]
[385,null,9,"Wayne, IN - Fayette, IN","IN: Fayette County (18041)","IN: Fayette County (18041)","18041","  Fayette  ",{"$f":"ROWS($L$2:L816)","v":815},{"$f":"IF(L816=WORKSHEET!$B$1,I816,\"\")","v":""},"","INDIANA","Fayette County",32,"*","*","*",46,2.6132791095279894E-2,0.14361702127659576]
[339,null,9,"Floyd (New Albany), IN - Harrison, IN","IN: Floyd County (18043)","IN: Floyd County (18043)","18043","  Floyd  ",{"$f":"ROWS($L$2:L817)","v":816},{"$f":"IF(L817=WORKSHEET!$B$1,I817,\"\")","v":""},"","INDIANA","Floyd County",100,{"$f":"+R817-N817-P817","v":5},31,"N/A",136,2.6132791095279894E-2,5.4794520547945202E-2]
[915,333,9,"Fountain, IN - Warren, IN","IN: Fountain County (18045)","IN: Fountain County (18045)","18045","  Fountain  ",{"$f":"ROWS($L$2:L818)","v":817},{"$f":"IF(L818=WORKSHEET!$B$1,I818,\"\")","v":""},"","INDIANA","Fountain County",21,"*","*","N/A",33,2.6132791095279894E-2,0.23121387283236994]
[270,null,9,"Franklin, IN","IN: Franklin County (18047)","IN: Franklin County (18047)","18047","  Franklin  ",{"$f":"ROWS($L$2:L819)","v":818},{"$f":"IF(L819=WORKSHEET!$B$1,I819,\"\")","v":""},"","INDIANA","Franklin County",14,"*","*","N/A",25,2.6132791095279894E-2,9.9131693198263385E-2]
[312,null,9,"St. Joseph (South Bend), IN - Marshall, IN","IN: Fulton County (18049)","IN: Fulton County (18049)","18049","  Fulton  ",{"$f":"ROWS($L$2:L820)","v":819},{"$f":"IF(L820=WORKSHEET!$B$1,I820,\"\")","v":""},"","INDIANA","Fulton County",21,"*","*","N/A",33,2.6132791095279894E-2,0.13235294117647059]
[902,312,9,"Vanderburgh (Evansville), IN - Warrick, IN","IN: Gibson County (18051)","IN: Gibson County (18051)","18051","  Gibson  ",{"$f":"ROWS($L$2:L821)","v":820},{"$f":"IF(L821=WORKSHEET!$B$1,I821,\"\")","v":""},"","INDIANA","Gibson County",39,11,19,"N/A",69,2.6132791095279894E-2,0.13235294117647059]
[389,null,9,"Grant, IN - Miami, IN","IN: Grant County (18053)","IN: Grant County (18053)","18053","  Grant  ",{"$f":"ROWS($L$2:L822)","v":821},{"$f":"IF(L822=WORKSHEET!$B$1,I822,\"\")","v":""},"","INDIANA","Grant County",88,13,47,"*",149,2.6132791095279894E-2,0.14285714285714285]
[341,null,9,"Monroe (Bloomington), IN - Greene, IN","IN: Greene County (18055)","IN: Greene County (18055)","18055","  Greene  ",{"$f":"ROWS($L$2:L823)","v":822},{"$f":"IF(L823=WORKSHEET!$B$1,I823,\"\")","v":""},"","INDIANA","Greene County",44,{"$f":"+R823-N823-P823","v":7},16,"*",67,2.6132791095279894E-2,0.1691542288557214]
[390,null,9,"Hamilton, IN - Madison (Anderson), IN","IN: Hamilton County (18057)","IN: Hamilton County (18057)","18057","  Hamilton  ",{"$f":"ROWS($L$2:L824)","v":823},{"$f":"IF(L824=WORKSHEET!$B$1,I824,\"\")","v":""},"","INDIANA","Hamilton County",151,40,147,"N/A",338,2.6132791095279894E-2,0.17042606516290726]
[362,null,9,"Hancock, IN - Henry (New Castle), IN","IN: Hancock County (18059)","IN: Hancock County (18059)","18059","  Hancock  ",{"$f":"ROWS($L$2:L825)","v":824},{"$f":"IF(L825=WORKSHEET!$B$1,I825,\"\")","v":""},"","INDIANA","Hancock County",59,{"$f":"+R825-N825-P825","v":8},52,"*",119,2.6132791095279894E-2,0.125]
[339,null,9,"Floyd (New Albany), IN - Harrison, IN","IN: Harrison County (18061)","IN: Harrison County (18061)","18061","  Harrison  ",{"$f":"ROWS($L$2:L826)","v":825},{"$f":"IF(L826=WORKSHEET!$B$1,I826,\"\")","v":""},"","INDIANA","Harrison County",49,{"$f":"+R826-N826-P826","v":4},14,"N/A",67,2.6132791095279894E-2,5.4794520547945202E-2]
[275,null,9,"Marion (Indianapolis), IN - Johnson, IN","IN: Hendricks County (18063)","IN: Hendricks County (18063)","18063","  Hendricks  ",{"$f":"ROWS($L$2:L827)","v":826},{"$f":"IF(L827=WORKSHEET!$B$1,I827,\"\")","v":""},"","INDIANA","Hendricks County",110,19,76,"*",206,2.6132791095279894E-2,0.10977184674989238]
[362,null,9,"Hancock, IN - Henry (New Castle), IN","IN: Henry County (18065)","IN: Henry County (18065)","18065","  Henry  ",{"$f":"ROWS($L$2:L828)","v":827},{"$f":"IF(L828=WORKSHEET!$B$1,I828,\"\")","v":""},"","INDIANA","Henry County",46,{"$f":"+R828-N828-P828","v":8},25,"N/A",79,2.6132791095279894E-2,0.125]
[364,null,9,"Howard (Kokomo), IN - Cass, IN","IN: Howard County (18067)","IN: Howard County (18067)","18067","  Howard  ",{"$f":"ROWS($L$2:L829)","v":828},{"$f":"IF(L829=WORKSHEET!$B$1,I829,\"\")","v":""},"","INDIANA","Howard County",124,20,65,"*",210,2.6132791095279894E-2,0.14423076923076922]
[332,null,9,"Huntington, IN - Adams, IN","IN: Huntington County (18069)","IN: Huntington County (18069)","18069","  Huntington  ",{"$f":"ROWS($L$2:L830)","v":829},{"$f":"IF(L830=WORKSHEET!$B$1,I830,\"\")","v":""},"","INDIANA","Huntington County",28,{"$f":"+R830-N830-P830","v":4},33,"N/A",65,2.6132791095279894E-2,0.14782608695652175]
[313,null,9,"Bartholomew, IN - Jackson, IN","IN: Jackson County (18071)","IN: Jackson County (18071)","18071","  Jackson  ",{"$f":"ROWS($L$2:L831)","v":830},{"$f":"IF(L831=WORKSHEET!$B$1,I831,\"\")","v":""},"","INDIANA","Jackson County",50,{"$f":"+R831-N831-P831","v":9},26,"N/A",85,2.6132791095279894E-2,0.13270142180094788]
[308,null,9,"Lake (Gary), IN - Porter, IN","IN: Jasper County (18073)","IN: Jasper County (18073)","18073","  Jasper  ",{"$f":"ROWS($L$2:L832)","v":831},{"$f":"IF(L832=WORKSHEET!$B$1,I832,\"\")","v":""},"","INDIANA","Jasper County",23,{"$f":"+R832-N832-P832","v":9},16,"N/A",48,2.6132791095279894E-2,0.1078894133513149]
[332,null,9,"Huntington, IN - Adams, IN","IN: Jay County (18075)","IN: Jay County (18075)","18075","  Jay  ",{"$f":"ROWS($L$2:L833)","v":832},{"$f":"IF(L833=WORKSHEET!$B$1,I833,\"\")","v":""},"","INDIANA","Jay County",22,"*","*","*",38,2.6132791095279894E-2,0.14782608695652175]
[321,null,9,"Dearborn, IN - Jefferson (Madison), IN","IN: Jefferson County (18077)","IN: Jefferson County (18077)","18077","  Jefferson  ",{"$f":"ROWS($L$2:L834)","v":833},{"$f":"IF(L834=WORKSHEET!$B$1,I834,\"\")","v":""},"","INDIANA","Jefferson County",39,{"$f":"+R834-N834-P834","v":8},13,"*",60,2.6132791095279894E-2,0.19209039548022599]
[313,null,9,"Bartholomew, IN - Jackson, IN","IN: Jennings County (18079)","IN: Jennings County (18079)","18079","  Jennings  ",{"$f":"ROWS($L$2:L835)","v":834},{"$f":"IF(L835=WORKSHEET!$B$1,I835,\"\")","v":""},{"$f":"IFERROR(SMALL($J$2:$J$3142,I835),\"\")","v":""},"INDIANA","Jennings County",27,"*","*","N/A",38,2.6132791095279894E-2,0.13270142180094788]
[275,null,9,"Marion (Indianapolis), IN - Johnson, IN","IN: Johnson County (18081)","IN: Johnson County (18081)","18081","  Johnson  ",{"$f":"ROWS($L$2:L836)","v":835},{"$f":"IF(L836=WORKSHEET!$B$1,I836,\"\")","v":""},"","INDIANA","Johnson County",94,21,68,"N/A",183,2.6132791095279894E-2,0.10977184674989238]
[910,310,9,"Knox, IN - Daviess, IN","IN: Knox County (18083)","IN: Knox County (18083)","18083","  Knox  ",{"$f":"ROWS($L$2:L837)","v":836},{"$f":"IF(L837=WORKSHEET!$B$1,I837,\"\")","v":""},"","INDIANA","Knox County",64,{"$f":"+R837-N837-P837","v":2},15,"N/A",81,2.6132791095279894E-2,4.6875E-2]
[349,null,9,"Elkhart (Elkhart), IN - Kosciusko, IN","IN: Kosciusko County (18085)","IN: Kosciusko County (18085)","18085","  Kosciusko  ",{"$f":"ROWS($L$2:L838)","v":837},{"$f":"IF(L838=WORKSHEET!$B$1,I838,\"\")","v":""},"","INDIANA","Kosciusko County",54,12,64,"N/A",130,2.6132791095279894E-2,0.13229571984435798]
[378,null,9,"La Porte, IN - Starke, IN","IN: La Porte County (18091)","IN: La Porte County (18091)","18091","  La Porte  ",{"$f":"ROWS($L$2:L839)","v":838},{"$f":"IF(L839=WORKSHEET!$B$1,I839,\"\")","v":""},"","INDIANA","La Porte County",157,36,96,"*",290,2.6132791095279894E-2,0.18777292576419213]
[304,null,9,"Allen (Fort Wayne), IN - Noble, IN","IN: LaGrange County (18087)","IN: LaGrange County (18087)","18087","  Lagrange  ",{"$f":"ROWS($L$2:L840)","v":839},{"$f":"IF(L840=WORKSHEET!$B$1,I840,\"\")","v":""},"","INDIANA","LaGrange County",17,{"$f":"+R840-N840-P840","v":3},27,"N/A",47,2.6132791095279894E-2,0.13798219584569732]
[308,null,9,"Lake (Gary), IN - Porter, IN","IN: Lake County (18089)","IN: Lake County (18089)","18089","  Lake  ",{"$f":"ROWS($L$2:L841)","v":840},{"$f":"IF(L841=WORKSHEET!$B$1,I841,\"\")","v":""},"","INDIANA","Lake County",1128,110,371,"*",1613,2.6132791095279894E-2,0.1078894133513149]
[329,null,9,"Lawrence, IN - Orange, IN","IN: Lawrence County (18093)","IN: Lawrence County (18093)","18093","  Lawrence  ",{"$f":"ROWS($L$2:L842)","v":841},{"$f":"IF(L842=WORKSHEET!$B$1,I842,\"\")","v":""},"","INDIANA","Lawrence County",60,{"$f":"+R842-N842-P842","v":6},25,"N/A",91,2.6132791095279894E-2,8.9108910891089105E-2]
[390,null,9,"Hamilton, IN - Madison (Anderson), IN","IN: Madison County (18095)","IN: Madison County (18095)","18095","  Madison  ",{"$f":"ROWS($L$2:L843)","v":842},{"$f":"IF(L843=WORKSHEET!$B$1,I843,\"\")","v":""},"","INDIANA","Madison County",180,28,97,"*",307,2.6132791095279894E-2,0.17042606516290726]
[275,null,9,"Marion (Indianapolis), IN - Johnson, IN","IN: Marion County (18097)","IN: Marion County (18097)","18097","  Marion  ",{"$f":"ROWS($L$2:L844)","v":843},{"$f":"IF(L844=WORKSHEET!$B$1,I844,\"\")","v":""},"","INDIANA","Marion County",1717,182,701,"*",2606,2.6132791095279894E-2,0.10977184674989238]
[312,null,9,"St. Joseph (South Bend), IN - Marshall, IN","IN: Marshall County (18099)","IN: Marshall County (18099)","18099","  Marshall  ",{"$f":"ROWS($L$2:L845)","v":844},{"$f":"IF(L845=WORKSHEET!$B$1,I845,\"\")","v":""},"","INDIANA","Marshall County",34,{"$f":"+R845-N845-P845","v":9},27,"*",70,2.6132791095279894E-2,0.13235294117647059]
[910,310,9,"Knox, IN - Daviess, IN","IN: Martin County (18101)","IN: Martin County (18101)","18101","  Martin  ",{"$f":"ROWS($L$2:L846)","v":845},{"$f":"IF(L846=WORKSHEET!$B$1,I846,\"\")","v":""},"","INDIANA","Martin County","*","*","*","N/A",16,2.6132791095279894E-2,4.6875E-2]
[389,null,9,"Grant, IN - Miami, IN","IN: Miami County (18103)","IN: Miami County (18103)","18103","  Miami  ",{"$f":"ROWS($L$2:L847)","v":846},{"$f":"IF(L847=WORKSHEET!$B$1,I847,\"\")","v":""},"","INDIANA","Miami County",30,{"$f":"+R847-N847-P847","v":7},16,"N/A",53,2.6132791095279894E-2,0.14285714285714285]
[341,null,9,"Monroe (Bloomington), IN - Greene, IN","IN: Monroe County (18105)","IN: Monroe County (18105)","18105","  Monroe  ",{"$f":"ROWS($L$2:L848)","v":847},{"$f":"IF(L848=WORKSHEET!$B$1,I848,\"\")","v":""},"","INDIANA","Monroe County",92,20,54,"*",167,2.6132791095279894E-2,0.1691542288557214]
[402,null,9,"Montgomery, IN","IN: Montgomery County (18107)","IN: Montgomery County (18107)","18107","  Montgomery  ",{"$f":"ROWS($L$2:L849)","v":848},{"$f":"IF(L849=WORKSHEET!$B$1,I849,\"\")","v":""},"","INDIANA","Montgomery County",42,{"$f":"+R849-N849-P849","v":4},21,"N/A",67,2.6132791095279894E-2,8.6956521739130432E-2]
[275,null,9,"Marion (Indianapolis), IN - Johnson, IN","IN: Morgan County (18109)","IN: Morgan County (18109)","18109","  Morgan  ",{"$f":"ROWS($L$2:L850)","v":849},{"$f":"IF(L850=WORKSHEET!$B$1,I850,\"\")","v":""},"","INDIANA","Morgan County",65,16,56,"N/A",137,2.6132791095279894E-2,0.10977184674989238]
[308,null,9,"Lake (Gary), IN - Porter, IN","IN: Newton County (18111)","IN: Newton County (18111)","18111","  Newton  ",{"$f":"ROWS($L$2:L851)","v":850},{"$f":"IF(L851=WORKSHEET!$B$1,I851,\"\")","v":""},"","INDIANA","Newton County","*","*","*","N/A",15,2.6132791095279894E-2,0.1078894133513149]
[304,null,9,"Allen (Fort Wayne), IN - Noble, IN","IN: Noble County (18113)","IN: Noble County (18113)","18113","  Noble  ",{"$f":"ROWS($L$2:L852)","v":851},{"$f":"IF(L852=WORKSHEET!$B$1,I852,\"\")","v":""},"","INDIANA","Noble County",37,{"$f":"+R852-N852-P852","v":2},30,"N/A",69,2.6132791095279894E-2,0.13798219584569732]
[321,null,9,"Dearborn, IN - Jefferson (Madison), IN","IN: Ohio County (18115)","IN: Ohio County (18115)","18115","  Ohio  ",{"$f":"ROWS($L$2:L853)","v":852},{"$f":"IF(L853=WORKSHEET!$B$1,I853,\"\")","v":""},"","INDIANA","Ohio County","*","*","*","N/A","*",2.6132791095279894E-2,0.19209039548022599]
[329,null,9,"Lawrence, IN - Orange, IN","IN: Orange County (18117)","IN: Orange County (18117)","18117","  Orange  ",{"$f":"ROWS($L$2:L854)","v":853},{"$f":"IF(L854=WORKSHEET!$B$1,I854,\"\")","v":""},"","INDIANA","Orange County",32,"*","*","N/A",45,2.6132791095279894E-2,8.9108910891089105E-2]
[341,null,9,"Monroe (Bloomington), IN - Greene, IN","IN: Owen County (18119)","IN: Owen County (18119)","18119","  Owen  ",{"$f":"ROWS($L$2:L855)","v":854},{"$f":"IF(L855=WORKSHEET!$B$1,I855,\"\")","v":""},"","INDIANA","Owen County",23,{"$f":"+R855-N855-P855","v":8},11,"N/A",42,2.6132791095279894E-2,0.1691542288557214]
[911,311,9,"Vigo (Terre Haute), IN - Clay, IN","IN: Parke County (18121)","IN: Parke County (18121)","18121","  Parke  ",{"$f":"ROWS($L$2:L856)","v":855},{"$f":"IF(L856=WORKSHEET!$B$1,I856,\"\")","v":""},"","INDIANA","Parke County",17,"*","*","N/A",25,2.6132791095279894E-2,0.16095890410958905]
[316,null,9,"Perry, IN","IN: Perry County (18123)","IN: Perry County (18123)","18123","  Perry  ",{"$f":"ROWS($L$2:L857)","v":856},{"$f":"IF(L857=WORKSHEET!$B$1,I857,\"\")","v":""},"","INDIANA","Perry County",18,"*","*","N/A",30,2.6132791095279894E-2,0.2013888888888889]
[910,null,9,"Knox, IN - Daviess, IN","IN: Pike County (18125)","IN: Pike County (18125)","18125","  Pike  ",{"$f":"ROWS($L$2:L858)","v":857},{"$f":"IF(L858=WORKSHEET!$B$1,I858,\"\")","v":""},"","INDIANA","Pike County",13,"*","*","N/A",25,2.6132791095279894E-2,{"$f":"+O858/(N858+O858)","v":{"$error":"#VALUE!"}}]
[308,null,9,"Lake (Gary), IN - Porter, IN","IN: Porter County (18127)","IN: Porter County (18127)","18127","  Porter  ",{"$f":"ROWS($L$2:L859)","v":858},{"$f":"IF(L859=WORKSHEET!$B$1,I859,\"\")","v":""},"","INDIANA","Porter County",166,39,106,"*",312,2.6132791095279894E-2,0.1078894133513149]
[902,273,9,"Vanderburgh (Evansville), IN - Warrick, IN","IN: Posey County (18129)","IN: Posey County (18129)","18129","  Posey  ",{"$f":"ROWS($L$2:L860)","v":859},{"$f":"IF(L860=WORKSHEET!$B$1,I860,\"\")","v":""},"","INDIANA","Posey County",17,{"$f":"+R860-N860-P860","v":9},15,"N/A",41,2.6132791095279894E-2,0.14713216957605985]
[312,null,9,"St. Joseph (South Bend), IN - Marshall, IN","IN: Pulaski County (18131)","IN: Pulaski County (18131)","18131","  Pulaski  ",{"$f":"ROWS($L$2:L861)","v":860},{"$f":"IF(L861=WORKSHEET!$B$1,I861,\"\")","v":""},"","INDIANA","Pulaski County",17,"*","*","N/A",29,2.6132791095279894E-2,0.13235294117647059]
[275,null,9,"Marion (Indianapolis), IN - Johnson, IN","IN: Putnam County (18133)","IN: Putnam County (18133)","18133","  Putnam  ",{"$f":"ROWS($L$2:L862)","v":861},{"$f":"IF(L862=WORKSHEET!$B$1,I862,\"\")","v":""},"","INDIANA","Putnam County",27,{"$f":"+R862-N862-P862","v":8},23,"N/A",58,2.6132791095279894E-2,0.10977184674989238]
[323,null,9,"Delaware (Muncie), IN - Randolph, IN","IN: Randolph County (18135)","IN: Randolph County (18135)","18135","  Randolph  ",{"$f":"ROWS($L$2:L863)","v":862},{"$f":"IF(L863=WORKSHEET!$B$1,I863,\"\")","v":""},"","INDIANA","Randolph County",29,{"$f":"+R863-N863-P863","v":5},17,"*",51,2.6132791095279894E-2,8.9201877934272297E-2]
[321,null,9,"Dearborn, IN - Jefferson (Madison), IN","IN: Ripley County (18137)","IN: Ripley County (18137)","18137","  Ripley  ",{"$f":"ROWS($L$2:L864)","v":863},{"$f":"IF(L864=WORKSHEET!$B$1,I864,\"\")","v":""},"","INDIANA","Ripley County",34,{"$f":"+R864-N864-P864","v":6},15,"N/A",55,2.6132791095279894E-2,0.19209039548022599]
[275,null,9,"Marion (Indianapolis), IN - Johnson, IN","IN: Rush County (18139)","IN: Rush County (18139)","18139","  Rush  ",{"$f":"ROWS($L$2:L865)","v":864},{"$f":"IF(L865=WORKSHEET!$B$1,I865,\"\")","v":""},"","INDIANA","Rush County",12,"*","*","N/A",20,2.6132791095279894E-2,0.10977184674989238]
[365,null,9,"Clark (Jeffersonville), IN - Scott, IN","IN: Scott County (18143)","IN: Scott County (18143)","18143","  Scott  ",{"$f":"ROWS($L$2:L866)","v":865},{"$f":"IF(L866=WORKSHEET!$B$1,I866,\"\")","v":""},"","INDIANA","Scott County",46,{"$f":"+R866-N866-P866","v":5},13,"N/A",64,2.6132791095279894E-2,8.4745762711864403E-2]
[275,null,9,"Marion (Indianapolis), IN - Johnson, IN","IN: Shelby County (18145)","IN: Shelby County (18145)","18145","  Shelby  ",{"$f":"ROWS($L$2:L867)","v":866},{"$f":"IF(L867=WORKSHEET!$B$1,I867,\"\")","v":""},"","INDIANA","Shelby County",43,{"$f":"+R867-N867-P867","v":6},24,"N/A",73,2.6132791095279894E-2,0.10977184674989238]
[902,273,9,"Vanderburgh (Evansville), IN - Warrick, IN","IN: Spencer County (18147)","IN: Spencer County (18147)","18147","  Spencer  ",{"$f":"ROWS($L$2:L868)","v":867},{"$f":"IF(L868=WORKSHEET!$B$1,I868,\"\")","v":""},"","INDIANA","Spencer County",18,"*","*","*",34,2.6132791095279894E-2,0.14713216957605985]
[312,null,9,"St. Joseph (South Bend), IN - Marshall, IN","IN: St. Joseph County (18141)","IN: St. Joseph County (18141)","18141","  St. Joseph  ",{"$f":"ROWS($L$2:L869)","v":868},{"$f":"IF(L869=WORKSHEET!$B$1,I869,\"\")","v":""},"","INDIANA","St. Joseph County",341,47,164,"N/A",552,2.6132791095279894E-2,0.13235294117647059]
[378,null,9,"La Porte, IN - Starke, IN","IN: Starke County (18149)","IN: Starke County (18149)","18149","  Starke  ",{"$f":"ROWS($L$2:L870)","v":869},{"$f":"IF(L870=WORKSHEET!$B$1,I870,\"\")","v":""},"","INDIANA","Starke County",29,"*","*","N/A",44,2.6132791095279894E-2,0.18777292576419213]
[304,null,9,"Allen (Fort Wayne), IN - Noble, IN","IN: Steuben County (18151)","IN: Steuben County (18151)","18151","  Steuben  ",{"$f":"ROWS($L$2:L871)","v":870},{"$f":"IF(L871=WORKSHEET!$B$1,I871,\"\")","v":""},"","INDIANA","Steuben County",28,{"$f":"+R871-N871-P871","v":6},28,"N/A",62,2.6132791095279894E-2,0.13798219584569732]
[911,311,9,"Vigo (Terre Haute), IN - Clay, IN","IN: Sullivan County (18153)","IN: Sullivan County (18153)","18153","  Sullivan  ",{"$f":"ROWS($L$2:L872)","v":871},{"$f":"IF(L872=WORKSHEET!$B$1,I872,\"\")","v":""},"","INDIANA","Sullivan County",23,"*","*","N/A",34,2.6132791095279894E-2,0.16095890410958905]
[321,null,9,"Dearborn, IN - Jefferson (Madison), IN","IN: Switzerland County (18155)","IN: Switzerland County (18155)","18155","  Switzerland  ",{"$f":"ROWS($L$2:L873)","v":872},{"$f":"IF(L873=WORKSHEET!$B$1,I873,\"\")","v":""},"","INDIANA","Switzerland County","*","*","*","N/A",16,2.6132791095279894E-2,0.19209039548022599]
[300,null,9,"Tippecanoe (Lafayette), IN - Clinton, IN","IN: Tippecanoe County (18157)","IN: Tippecanoe County (18157)","18157","  Tippecanoe  ",{"$f":"ROWS($L$2:L874)","v":873},{"$f":"IF(L874=WORKSHEET!$B$1,I874,\"\")","v":""},"","INDIANA","Tippecanoe County",118,33,87,"*",239,2.6132791095279894E-2,0.19047619047619047]
[364,null,9,"Howard (Kokomo), IN - Cass, IN","IN: Tipton County (18159)","IN: Tipton County (18159)","18159","  Tipton  ",{"$f":"ROWS($L$2:L875)","v":874},{"$f":"IF(L875=WORKSHEET!$B$1,I875,\"\")","v":""},"","INDIANA","Tipton County","*","*","*","N/A",22,2.6132791095279894E-2,0.14423076923076922]
[385,null,9,"Wayne, IN - Fayette, IN","IN: Union County (18161)","IN: Union County (18161)","18161","  Union  ",{"$f":"ROWS($L$2:L876)","v":875},{"$f":"IF(L876=WORKSHEET!$B$1,I876,\"\")","v":""},"","INDIANA","Union County","*","*","*","*",14,2.6132791095279894E-2,0.14361702127659576]
[902,273,9,"Vanderburgh (Evansville), IN - Warrick, IN","IN: Vanderburgh County (18163)","IN: Vanderburgh County (18163)","18163","  Vanderburgh  ",{"$f":"ROWS($L$2:L877)","v":876},{"$f":"IF(L877=WORKSHEET!$B$1,I877,\"\")","v":""},"","INDIANA","Vanderburgh County",225,24,84,"*",334,2.6132791095279894E-2,0.14713216957605985]
[911,311,9,"Vigo (Terre Haute), IN - Clay, IN","IN: Vermillion County (18165)","IN: Vermillion County (18165)","18165","  Vermillion  ",{"$f":"ROWS($L$2:L878)","v":877},{"$f":"IF(L878=WORKSHEET!$B$1,I878,\"\")","v":""},"","INDIANA","Vermillion County",22,"*","*","N/A",33,2.6132791095279894E-2,0.16095890410958905]
[911,311,9,"Vigo (Terre Haute), IN - Clay, IN","IN: Vigo County (18167)","IN: Vigo County (18167)","18167","  Vigo  ",{"$f":"ROWS($L$2:L879)","v":878},{"$f":"IF(L879=WORKSHEET!$B$1,I879,\"\")","v":""},"","INDIANA","Vigo County",141,27,55,"*",224,2.6132791095279894E-2,0.16095890410958905]
[389,null,9,"Grant, IN - Miami, IN","IN: Wabash County (18169)","IN: Wabash County (18169)","18169","  Wabash  ",{"$f":"ROWS($L$2:L880)","v":879},{"$f":"IF(L880=WORKSHEET!$B$1,I880,\"\")","v":""},"","INDIANA","Wabash County",32,{"$f":"+R880-N880-P880","v":5},17,"N/A",54,2.6132791095279894E-2,0.14285714285714285]
[915,333,9,"Fountain, IN - Warren, IN","IN: Warren County (18171)","IN: Warren County (18171)","18171","  Warren  ",{"$f":"ROWS($L$2:L881)","v":880},{"$f":"IF(L881=WORKSHEET!$B$1,I881,\"\")","v":""},"","INDIANA","Warren County","*","*","*","N/A","*",2.6132791095279894E-2,0.23121387283236994]
[902,273,9,"Vanderburgh (Evansville), IN - Warrick, IN","IN: Warrick County (18173)","IN: Warrick County (18173)","18173","  Warrick  ",{"$f":"ROWS($L$2:L882)","v":881},{"$f":"IF(L882=WORKSHEET!$B$1,I882,\"\")","v":""},"","INDIANA","Warrick County",34,{"$f":"+R882-N882-P882","v":6},30,"N/A",70,2.6132791095279894E-2,0.14713216957605985]
[339,null,9,"Floyd (New Albany), IN - Harrison, IN","IN: Washington County (18175)","IN: Washington County (18175)","18175","  Washington  ",{"$f":"ROWS($L$2:L883)","v":882},{"$f":"IF(L883=WORKSHEET!$B$1,I883,\"\")","v":""},"","INDIANA","Washington County",41,{"$f":"+R883-N883-P883","v":2},16,"N/A",59,2.6132791095279894E-2,5.4794520547945202E-2]
[385,null,9,"Wayne, IN - Fayette, IN","IN: Wayne County (18177)","IN: Wayne County (18177)","18177","  Wayne  ",{"$f":"ROWS($L$2:L884)","v":883},{"$f":"IF(L884=WORKSHEET!$B$1,I884,\"\")","v":""},"","INDIANA","Wayne County",123,20,65,"*",209,2.6132791095279894E-2,0.14361702127659576]
[332,null,9,"Huntington, IN - Adams, IN","IN: Wells County (18179)","IN: Wells County (18179)","18179","  Wells  ",{"$f":"ROWS($L$2:L885)","v":884},{"$f":"IF(L885=WORKSHEET!$B$1,I885,\"\")","v":""},"","INDIANA","Wells County",24,{"$f":"+R885-N885-P885","v":3},11,"N/A",38,2.6132791095279894E-2,0.14782608695652175]
[300,null,9,"Tippecanoe (Lafayette), IN - Clinton, IN","IN: White County (18181)","IN: White County (18181)","18181","  White  ",{"$f":"ROWS($L$2:L886)","v":885},{"$f":"IF(L886=WORKSHEET!$B$1,I886,\"\")","v":""},"","INDIANA","White County",20,{"$f":"+R886-N886-P886","v":4},13,"N/A",37,2.6132791095279894E-2,0.19047619047619047]
[304,null,9,"Allen (Fort Wayne), IN - Noble, IN","IN: Whitley County (18183)","IN: Whitley County (18183)","18183","  Whitley  ",{"$f":"ROWS($L$2:L887)","v":886},{"$f":"IF(L887=WORKSHEET!$B$1,I887,\"\")","v":""},"","INDIANA","Whitley County",17,{"$f":"+R887-N887-P887","v":7},22,"N/A",46,2.6132791095279894E-2,0.13798219584569732]
[601,null,12,"Labette, KS - Neosho, KS","KS: Allen County (20001)","KS: Allen County (20001)","20001","Allen  ",{"$f":"ROWS($L$2:L888)","v":887},{"$f":"IF(L888=WORKSHEET!$B$1,I888,\"\")","v":""},"","KANSAS","Allen County",13,{"$f":"+R888-N888-P888","v":5},11,"N/A",29,1.8657129718217477E-2,0.13636363636363635]
[624,null,12,"Johnson (Overland Park), KS - Douglas, KS","KS: Anderson County (20003)","KS: Anderson County (20003)","20003","  Anderson  ",{"$f":"ROWS($L$2:L889)","v":888},{"$f":"IF(L889=WORKSHEET!$B$1,I889,\"\")","v":""},"","KANSAS","Anderson County","*","N/A","*","N/A",11,1.8657129718217477E-2,0.1709090909090909]
[671,null,12,"Atchison, KS","KS: Atchison County (20005)","KS: Atchison County (20005)","20005","  Atchison  ",{"$f":"ROWS($L$2:L890)","v":889},{"$f":"IF(L890=WORKSHEET!$B$1,I890,\"\")","v":""},"","KANSAS","Atchison County",11,{"$f":"+R890-N890-P890","v":3},13,"N/A",27,1.8657129718217477E-2,0.21428571428571427]
[669,null,12,"Barber, KS","KS: Barber County (20007)","KS: Barber County (20007)","20007","  Barber  ",{"$f":"ROWS($L$2:L891)","v":890},{"$f":"IF(L891=WORKSHEET!$B$1,I891,\"\")","v":""},"","KANSAS","Barber County","*","N/A","N/A","N/A","*",1.8657129718217477E-2,0]
[583,null,12,"Barton, KS - Pawnee, KS","KS: Barton County (20009)","KS: Barton County (20009)","20009","  Barton  ",{"$f":"ROWS($L$2:L892)","v":891},{"$f":"IF(L892=WORKSHEET!$B$1,I892,\"\")","v":""},"","KANSAS","Barton County",17,"*","*","N/A",28,1.8657129718217477E-2,0.11538461538461539]
[630,null,12,"Crawford, KS - Bourbon, KS","KS: Bourbon County (20011)","KS: Bourbon County (20011)","20011","  Bourbon  ",{"$f":"ROWS($L$2:L893)","v":892},{"$f":"IF(L893=WORKSHEET!$B$1,I893,\"\")","v":""},"","KANSAS","Bourbon County",24,"*","*","N/A",34,1.8657129718217477E-2,0.20547945205479451]
[554,null,12,"Shawnee (Topeka), KS - Riley, KS","KS: Brown County (20013)","KS: Brown County (20013)","20013","  Brown  ",{"$f":"ROWS($L$2:L894)","v":893},{"$f":"IF(L894=WORKSHEET!$B$1,I894,\"\")","v":""},"","KANSAS","Brown County",14,"N/A","*","N/A",19,1.8657129718217477E-2,0.11388888888888889]
[576,null,12,"Sedgwick (Wichita), KS - Butler, KS","KS: Butler County (20015)","KS: Butler County (20015)","20015","  Butler  ",{"$f":"ROWS($L$2:L895)","v":894},{"$f":"IF(L895=WORKSHEET!$B$1,I895,\"\")","v":""},"","KANSAS","Butler County",47,{"$f":"+R895-N895-P895","v":8},35,"N/A",90,1.8657129718217477E-2,9.0182648401826479E-2]
[567,null,12,"Lyon, KS - Coffey, KS","KS: Chase County (20017)","KS: Chase County (20017)","20017","  Chase  ",{"$f":"ROWS($L$2:L896)","v":895},{"$f":"IF(L896=WORKSHEET!$B$1,I896,\"\")","v":""},"","KANSAS","Chase County","*","N/A","N/A","N/A","*",1.8657129718217477E-2,0.125]
[451,null,12,"Montgomery, KS - Chautauqua, KS","KS: Chautauqua County (20019)","KS: Chautauqua County (20019)","20019","  Chautauqua  ",{"$f":"ROWS($L$2:L897)","v":896},{"$f":"IF(L897=WORKSHEET!$B$1,I897,\"\")","v":""},"","KANSAS","Chautauqua County","*","N/A","*","N/A","*",1.8657129718217477E-2,0.13533834586466165]
[539,null,12,"Cherokee, KS","KS: Cherokee County (20021)","KS: Cherokee County (20021)","20021","  Cherokee  ",{"$f":"ROWS($L$2:L898)","v":897},{"$f":"IF(L898=WORKSHEET!$B$1,I898,\"\")","v":""},"","KANSAS","Cherokee County",19,{"$f":"+R898-N898-P898","v":6},12,"N/A",37,1.8657129718217477E-2,0.18450184501845018]
[636,null,12,"Cheyenne, KS - Rawlins, KS","KS: Cheyenne County (20023)","KS: Cheyenne County (20023)","20023","  Cheyenne  ",{"$f":"ROWS($L$2:L899)","v":898},{"$f":"IF(L899=WORKSHEET!$B$1,I899,\"\")","v":""},{"$f":"IFERROR(SMALL($J$2:$J$3142,I899),\"\")","v":""},"KANSAS","Cheyenne County","*","*","*","N/A","*",1.8657129718217477E-2,0.125]
[551,null,12,"Ford, KS - Gray, KS","KS: Clark County (20025)","KS: Clark County (20025)","20025",null,{"$f":"ROWS($L$2:L900)","v":899},{"$f":"IF(L900=WORKSHEET!$B$1,I900,\"\")","v":""},"","KANSAS","Clark County",null,null,null,null,null,1.8657129718217477E-2,0.19672131147540983]
[662,null,12,"Clay, KS","KS: Clay County (20027)","KS: Clay County (20027)","20027","  Clay  ",{"$f":"ROWS($L$2:L901)","v":900},{"$f":"IF(L901=WORKSHEET!$B$1,I901,\"\")","v":""},"","KANSAS","Clay County","*","N/A","*","N/A",11,1.8657129718217477E-2,0]
[642,null,12,"Cloud, KS - Republic, KS","KS: Cloud County (20029)","KS: Cloud County (20029)","20029","  Cloud  ",{"$f":"ROWS($L$2:L902)","v":901},{"$f":"IF(L902=WORKSHEET!$B$1,I902,\"\")","v":""},"","KANSAS","Cloud County","*","*","*","N/A",14,1.8657129718217477E-2,9.0909090909090912E-2]
[567,null,12,"Lyon, KS - Coffey, KS","KS: Coffey County (20031)","KS: Coffey County (20031)","20031","  Coffey  ",{"$f":"ROWS($L$2:L903)","v":902},{"$f":"IF(L903=WORKSHEET!$B$1,I903,\"\")","v":""},"","KANSAS","Coffey County","*","*","*","*","*",1.8657129718217477E-2,0.125]
[618,null,12,"Pratt, KS - Kiowa, KS","KS: Comanche County (20033)","KS: Comanche County (20033)","20033","  Comanche  ",{"$f":"ROWS($L$2:L904)","v":903},{"$f":"IF(L904=WORKSHEET!$B$1,I904,\"\")","v":""},"","KANSAS","Comanche County","N/A","N/A","*","N/A","*",1.8657129718217477E-2,9.0909090909090912E-2]
[576,null,12,"Sedgwick (Wichita), KS - Butler, KS","KS: Cowley County (20035)","KS: Cowley County (20035)","20035","  Cowley  ",{"$f":"ROWS($L$2:L905)","v":904},{"$f":"IF(L905=WORKSHEET!$B$1,I905,\"\")","v":""},"","KANSAS","Cowley County",32,{"$f":"+R905-N905-P905","v":5},18,"N/A",55,1.8657129718217477E-2,9.0182648401826479E-2]
[630,null,12,"Crawford, KS - Bourbon, KS","KS: Crawford County (20037)","KS: Crawford County (20037)","20037","  Crawford  ",{"$f":"ROWS($L$2:L906)","v":905},{"$f":"IF(L906=WORKSHEET!$B$1,I906,\"\")","v":""},"","KANSAS","Crawford County",29,11,23,"N/A",63,1.8657129718217477E-2,0.20547945205479451]
[613,null,12,"Decatur, KS - Sheridan, KS","KS: Decatur County (20039)","KS: Decatur County (20039)","20039","  Decatur  ",{"$f":"ROWS($L$2:L907)","v":906},{"$f":"IF(L907=WORKSHEET!$B$1,I907,\"\")","v":""},"","KANSAS","Decatur County","*","*","*","N/A","*",1.8657129718217477E-2,0.27272727272727271]
[650,null,12,"Geary, KS - Dickinson, KS","KS: Dickinson County (20041)","KS: Dickinson County (20041)","20041","  Dickinson  ",{"$f":"ROWS($L$2:L908)","v":907},{"$f":"IF(L908=WORKSHEET!$B$1,I908,\"\")","v":""},"","KANSAS","Dickinson County",13,"*","*","N/A",23,1.8657129718217477E-2,3.3333333333333333E-2]
[591,null,12,"Doniphan, KS","KS: Doniphan County (20043)","KS: Doniphan County (20043)","20043","  Doniphan  ",{"$f":"ROWS($L$2:L909)","v":908},{"$f":"IF(L909=WORKSHEET!$B$1,I909,\"\")","v":""},"","KANSAS","Doniphan County","*","N/A","*","N/A",13,1.8657129718217477E-2,0.13375796178343949]
[624,null,12,"Johnson (Overland Park), KS - Douglas, KS","KS: Douglas County (20045)","KS: Douglas County (20045)","20045","  Douglas  ",{"$f":"ROWS($L$2:L910)","v":909},{"$f":"IF(L910=WORKSHEET!$B$1,I910,\"\")","v":""},"","KANSAS","Douglas County",60,16,54,"N/A",130,1.8657129718217477E-2,0.1709090909090909]
[583,null,12,"Barton, KS - Pawnee, KS","KS: Edwards County (20047)","KS: Edwards County (20047)","20047","  Edwards  ",{"$f":"ROWS($L$2:L911)","v":910},{"$f":"IF(L911=WORKSHEET!$B$1,I911,\"\")","v":""},"","KANSAS","Edwards County","*","N/A","*","N/A","*",1.8657129718217477E-2,0.11538461538461539]
[451,null,12,"Montgomery, KS - Chautauqua, KS","KS: Elk County (20049)","KS: Elk County (20049)","20049","  Elk  ",{"$f":"ROWS($L$2:L912)","v":911},{"$f":"IF(L912=WORKSHEET!$B$1,I912,\"\")","v":""},"","KANSAS","Elk County","*","*","N/A","N/A","*",1.8657129718217477E-2,0.13533834586466165]
[565,null,12,"Ellis, KS - Rooks, KS","KS: Ellis County (20051)","KS: Ellis County (20051)","20051","  Ellis  ",{"$f":"ROWS($L$2:L913)","v":912},{"$f":"IF(L913=WORKSHEET!$B$1,I913,\"\")","v":""},"","KANSAS","Ellis County",21,{"$f":"+R913-N913-P913","v":2},13,"N/A",36,1.8657129718217477E-2,0.15]
[569,null,12,"Saline, KS - Ellsworth, KS","KS: Ellsworth County (20053)","KS: Ellsworth County (20053)","20053","  Ellsworth  ",{"$f":"ROWS($L$2:L914)","v":913},{"$f":"IF(L914=WORKSHEET!$B$1,I914,\"\")","v":""},"","KANSAS","Ellsworth County","*","*","*","N/A",12,1.8657129718217477E-2,0.10227272727272728]
[575,null,12,"Finney, KS - Scott, KS","KS: Finney County (20055)","KS: Finney County (20055)","20055","  Finney  ",{"$f":"ROWS($L$2:L915)","v":914},{"$f":"IF(L915=WORKSHEET!$B$1,I915,\"\")","v":""},"","KANSAS","Finney County",39,{"$f":"+R915-N915-P915","v":8},20,"N/A",67,1.8657129718217477E-2,0.16923076923076924]
[551,null,12,"Ford, KS - Gray, KS","KS: Ford County (20057)","KS: Ford County (20057)","20057","  Ford  ",{"$f":"ROWS($L$2:L916)","v":915},{"$f":"IF(L916=WORKSHEET!$B$1,I916,\"\")","v":""},"","KANSAS","Ford County",42,{"$f":"+R916-N916-P916","v":8},23,"N/A",73,1.8657129718217477E-2,0.19672131147540983]
[624,null,12,"Johnson (Overland Park), KS - Douglas, KS","KS: Franklin County (20059)","KS: Franklin County (20059)","20059","  Franklin  ",{"$f":"ROWS($L$2:L917)","v":916},{"$f":"IF(L917=WORKSHEET!$B$1,I917,\"\")","v":""},"","KANSAS","Franklin County",19,{"$f":"+R917-N917-P917","v":3},19,"*",41,1.8657129718217477E-2,0.1709090909090909]
[650,null,12,"Geary, KS - Dickinson, KS","KS: Geary County (20061)","KS: Geary County (20061)","20061","  Geary  ",{"$f":"ROWS($L$2:L918)","v":917},{"$f":"IF(L918=WORKSHEET!$B$1,I918,\"\")","v":""},"","KANSAS","Geary County",39,{"$f":"+R918-N918-P918","v":1},15,"N/A",55,1.8657129718217477E-2,3.3333333333333333E-2]
[565,null,12,"Ellis, KS - Rooks, KS","KS: Gove County (20063)","KS: Gove County (20063)","20063","  Gove  ",{"$f":"ROWS($L$2:L919)","v":918},{"$f":"IF(L919=WORKSHEET!$B$1,I919,\"\")","v":""},"","KANSAS","Gove County","*","N/A","*","N/A","*",1.8657129718217477E-2,0.15]
[565,null,12,"Ellis, KS - Rooks, KS","KS: Graham County (20065)","KS: Graham County (20065)","20065","  Graham  ",{"$f":"ROWS($L$2:L920)","v":919},{"$f":"IF(L920=WORKSHEET!$B$1,I920,\"\")","v":""},"","KANSAS","Graham County","*","*","*","N/A","*",1.8657129718217477E-2,0.15]
[943,562,12,"Grant, KS - Stanton, KS","KS: Grant County (20067)","KS: Grant County (20067)","20067","  Grant  ",{"$f":"ROWS($L$2:L921)","v":920},{"$f":"IF(L921=WORKSHEET!$B$1,I921,\"\")","v":""},"","KANSAS","Grant County","*","*","*","N/A",12,1.8657129718217477E-2,0.28571428571428598]
[551,null,12,"Ford, KS - Gray, KS","KS: Gray County (20069)","KS: Gray County (20069)","20069","  Gray  ",{"$f":"ROWS($L$2:L922)","v":921},{"$f":"IF(L922=WORKSHEET!$B$1,I922,\"\")","v":""},"","KANSAS","Gray County","*","*","*","N/A",15,1.8657129718217477E-2,0.19672131147540983]
[643,643,12,"Wichita, KS - Greeley, KS","KS: Greeley County (20071)","KS: Greeley County (20071)","20071","  Greeley  ",{"$f":"ROWS($L$2:L923)","v":922},{"$f":"IF(L923=WORKSHEET!$B$1,I923,\"\")","v":""},"","KANSAS","Greeley County","N/A","*","*","N/A","*",1.8657129718217477E-2,"na"]
[567,null,12,"Lyon, KS - Coffey, KS","KS: Greenwood County (20073)","KS: Greenwood County (20073)","20073","  Greenwood  ",{"$f":"ROWS($L$2:L924)","v":923},{"$f":"IF(L924=WORKSHEET!$B$1,I924,\"\")","v":""},"","KANSAS","Greenwood County","*","N/A","*","N/A","*",1.8657129718217477E-2,0.125]
[575,null,12,"Finney, KS - Scott, KS","KS: Hamilton County (20075)","KS: Hamilton County (20075)","20075","  Hamilton  ",{"$f":"ROWS($L$2:L925)","v":924},{"$f":"IF(L925=WORKSHEET!$B$1,I925,\"\")","v":""},"","KANSAS","Hamilton County","*","N/A","*","N/A","*",1.8657129718217477E-2,0.16923076923076924]
[661,null,12,"Kingman, KS - Harper, KS","KS: Harper County (20077)","KS: Harper County (20077)","20077","  Harper  ",{"$f":"ROWS($L$2:L926)","v":925},{"$f":"IF(L926=WORKSHEET!$B$1,I926,\"\")","v":""},"","KANSAS","Harper County","*","*","*","N/A",12,1.8657129718217477E-2,0.18181818181818182]
[576,null,12,"Sedgwick (Wichita), KS - Butler, KS","KS: Harvey County (20079)","KS: Harvey County (20079)","20079","  Harvey  ",{"$f":"ROWS($L$2:L927)","v":926},{"$f":"IF(L927=WORKSHEET!$B$1,I927,\"\")","v":""},"","KANSAS","Harvey County",37,{"$f":"+R927-N927-P927","v":3},21,"N/A",61,1.8657129718217477E-2,9.0182648401826479E-2]
[575,null,12,"Finney, KS - Scott, KS","KS: Haskell County (20081)","KS: Haskell County (20081)","20081","  Haskell  ",{"$f":"ROWS($L$2:L928)","v":927},{"$f":"IF(L928=WORKSHEET!$B$1,I928,\"\")","v":""},"","KANSAS","Haskell County","*","*","N/A","N/A","*",1.8657129718217477E-2,0.16923076923076924]
[551,null,12,"Ford, KS - Gray, KS","KS: Hodgeman County (20083)","KS: Hodgeman County (20083)","20083","  Hodgeman  ",{"$f":"ROWS($L$2:L929)","v":928},{"$f":"IF(L929=WORKSHEET!$B$1,I929,\"\")","v":""},"","KANSAS","Hodgeman County","*","*","*","N/A","*",1.8657129718217477E-2,0.19672131147540983]
[554,null,12,"Shawnee (Topeka), KS - Riley, KS","KS: Jackson County (20085)","KS: Jackson County (20085)","20085","  Jackson  ",{"$f":"ROWS($L$2:L930)","v":929},{"$f":"IF(L930=WORKSHEET!$B$1,I930,\"\")","v":""},"","KANSAS","Jackson County","*","N/A","*","N/A",13,1.8657129718217477E-2,0.11388888888888889]
[554,null,12,"Shawnee (Topeka), KS - Riley, KS","KS: Jefferson County (20087)","KS: Jefferson County (20087)","20087","  Jefferson  ",{"$f":"ROWS($L$2:L931)","v":930},{"$f":"IF(L931=WORKSHEET!$B$1,I931,\"\")","v":""},"","KANSAS","Jefferson County",17,{"$f":"+R931-N931-P931","v":1},13,"N/A",31,1.8657129718217477E-2,0.11388888888888889]
[622,null,12,"Mitchell, KS - Osborne, KS","KS: Jewell County (20089)","KS: Jewell County (20089)","20089","  Jewell  ",{"$f":"ROWS($L$2:L932)","v":931},{"$f":"IF(L932=WORKSHEET!$B$1,I932,\"\")","v":""},"","KANSAS","Jewell County","*","N/A","*","N/A","*",1.8657129718217477E-2,9.0909090909090912E-2]
[624,null,12,"Johnson (Overland Park), KS - Douglas, KS","KS: Johnson County (20091)","KS: Johnson County (20091)","20091","  Johnson  ",{"$f":"ROWS($L$2:L933)","v":932},{"$f":"IF(L933=WORKSHEET!$B$1,I933,\"\")","v":""},"","KANSAS","Johnson County",341,71,329,"N/A",741,1.8657129718217477E-2,0.1709090909090909]
[575,null,12,"Finney, KS - Scott, KS","KS: Kearny County (20093)","KS: Kearny County (20093)","20093","  Kearny  ",{"$f":"ROWS($L$2:L934)","v":933},{"$f":"IF(L934=WORKSHEET!$B$1,I934,\"\")","v":""},"","KANSAS","Kearny County","*","*","*","N/A","*",1.8657129718217477E-2,0.16923076923076924]
[661,null,12,"Kingman, KS - Harper, KS","KS: Kingman County (20095)","KS: Kingman County (20095)","20095","  Kingman  ",{"$f":"ROWS($L$2:L935)","v":934},{"$f":"IF(L935=WORKSHEET!$B$1,I935,\"\")","v":""},"","KANSAS","Kingman County","*","N/A","*","N/A","*",1.8657129718217477E-2,0.18181818181818182]
[618,null,12,"Pratt, KS - Kiowa, KS","KS: Kiowa County (20097)","KS: Kiowa County (20097)","20097","  Kiowa  ",{"$f":"ROWS($L$2:L936)","v":935},{"$f":"IF(L936=WORKSHEET!$B$1,I936,\"\")","v":""},"","KANSAS","Kiowa County","N/A","*","*","N/A","*",1.8657129718217477E-2,9.0909090909090912E-2]
[601,null,12,"Labette, KS - Neosho, KS","KS: Labette County (20099)","KS: Labette County (20099)","20099","  Labette  ",{"$f":"ROWS($L$2:L937)","v":936},{"$f":"IF(L937=WORKSHEET!$B$1,I937,\"\")","v":""},"","KANSAS","Labette County",44,"*","*","N/A",59,1.8657129718217477E-2,0.13636363636363635]
[575,null,12,"Finney, KS - Scott, KS","KS: Lane County (20101)","KS: Lane County (20101)","20101","  Lane  ",{"$f":"ROWS($L$2:L938)","v":937},{"$f":"IF(L938=WORKSHEET!$B$1,I938,\"\")","v":""},"","KANSAS","Lane County","*","N/A","*","N/A","*",1.8657129718217477E-2,0.16923076923076924]
[621,null,12,"Wyandotte (Kansas City), KS - Leavenworth, KS","KS: Leavenworth County (20103)","KS: Leavenworth County (20103)","20103","  Leavenworth  ",{"$f":"ROWS($L$2:L939)","v":938},{"$f":"IF(L939=WORKSHEET!$B$1,I939,\"\")","v":""},"","KANSAS","Leavenworth County",57,14,34,"*",106,1.8657129718217477E-2,8.8842975206611566E-2]
[569,null,12,"Saline, KS - Ellsworth, KS","KS: Lincoln County (20105)","KS: Lincoln County (20105)","20105","  Lincoln  ",{"$f":"ROWS($L$2:L940)","v":939},{"$f":"IF(L940=WORKSHEET!$B$1,I940,\"\")","v":""},"","KANSAS","Lincoln County","*","N/A","*","N/A","*",1.8657129718217477E-2,0.10227272727272728]
[630,null,12,"Crawford, KS - Bourbon, KS","KS: Linn County (20107)","KS: Linn County (20107)","20107","  Linn  ",{"$f":"ROWS($L$2:L941)","v":940},{"$f":"IF(L941=WORKSHEET!$B$1,I941,\"\")","v":""},"","KANSAS","Linn County","*","*","*","N/A",13,1.8657129718217477E-2,0.20547945205479451]
[565,null,12,"Ellis, KS - Rooks, KS","KS: Logan County (20109)","KS: Logan County (20109)","20109","  Logan  ",{"$f":"ROWS($L$2:L942)","v":941},{"$f":"IF(L942=WORKSHEET!$B$1,I942,\"\")","v":""},"","KANSAS","Logan County","*","N/A","*","N/A","*",1.8657129718217477E-2,0.15]
[567,null,12,"Lyon, KS - Coffey, KS","KS: Lyon County (20111)","KS: Lyon County (20111)","20111","  Lyon  ",{"$f":"ROWS($L$2:L943)","v":942},{"$f":"IF(L943=WORKSHEET!$B$1,I943,\"\")","v":""},"","KANSAS","Lyon County",37,{"$f":"+R943-N943-P943","v":5},19,"N/A",61,1.8657129718217477E-2,0.125]
[576,null,12,"Sedgwick (Wichita), KS - Butler, KS","KS: Marion County (20115)","KS: Marion County (20115)","20115","  Marion  ",{"$f":"ROWS($L$2:L944)","v":943},{"$f":"IF(L944=WORKSHEET!$B$1,I944,\"\")","v":""},"","KANSAS","Marion County",14,"*","*","N/A",20,1.8657129718217477E-2,9.0182648401826479E-2]
[635,null,12,"Marshall, KS - Washington, KS","KS: Marshall County (20117)","KS: Marshall County (20117)","20117","  Marshall  ",{"$f":"ROWS($L$2:L945)","v":944},{"$f":"IF(L945=WORKSHEET!$B$1,I945,\"\")","v":""},"","KANSAS","Marshall County","*","*","*","N/A",15,1.8657129718217477E-2,7.6923076923076927E-2]
[674,null,12,"McPherson, KS","KS: McPherson County (20113)","KS: McPherson County (20113)","20113","  Mcpherson  ",{"$f":"ROWS($L$2:L946)","v":945},{"$f":"IF(L946=WORKSHEET!$B$1,I946,\"\")","v":""},"","KANSAS","McPherson County",18,{"$f":"+R946-N946-P946","v":1},20,"N/A",39,1.8657129718217477E-2,5.2631578947368418E-2]
[551,null,12,"Ford, KS - Gray, KS","KS: Meade County (20119)","KS: Meade County (20119)","20119","  Meade  ",{"$f":"ROWS($L$2:L947)","v":946},{"$f":"IF(L947=WORKSHEET!$B$1,I947,\"\")","v":""},"","KANSAS","Meade County","*","*","*","N/A","*",1.8657129718217477E-2,0.19672131147540983]
[624,null,12,"Johnson (Overland Park), KS - Douglas, KS","KS: Miami County (20121)","KS: Miami County (20121)","20121","  Miami  ",{"$f":"ROWS($L$2:L948)","v":947},{"$f":"IF(L948=WORKSHEET!$B$1,I948,\"\")","v":""},"","KANSAS","Miami County",27,{"$f":"+R948-N948-P948","v":6},21,"*",54,1.8657129718217477E-2,0.1709090909090909]
[622,null,12,"Mitchell, KS - Osborne, KS","KS: Mitchell County (20123)","KS: Mitchell County (20123)","20123","  Mitchell  ",{"$f":"ROWS($L$2:L949)","v":948},{"$f":"IF(L949=WORKSHEET!$B$1,I949,\"\")","v":""},"","KANSAS","Mitchell County","*","*","*","N/A","*",1.8657129718217477E-2,9.0909090909090912E-2]
[451,null,12,"Montgomery, KS - Chautauqua, KS","KS: Montgomery County (20125)","KS: Montgomery County (20125)","20125","  Montgomery  ",{"$f":"ROWS($L$2:L950)","v":949},{"$f":"IF(L950=WORKSHEET!$B$1,I950,\"\")","v":""},"","KANSAS","Montgomery County",53,{"$f":"+R950-N950-P950","v":6},15,"*",74,1.8657129718217477E-2,0.13533834586466165]
[650,null,12,"Geary, KS - Dickinson, KS","KS: Morris County (20127)","KS: Morris County (20127)","20127","  Morris  ",{"$f":"ROWS($L$2:L951)","v":950},{"$f":"IF(L951=WORKSHEET!$B$1,I951,\"\")","v":""},"","KANSAS","Morris County","*","N/A","*","N/A","*",1.8657129718217477E-2,3.3333333333333333E-2]
[587,null,12,"Seward, KS - Morton, KS","KS: Morton County (20129)","KS: Morton County (20129)","20129","  Morton  ",{"$f":"ROWS($L$2:L952)","v":951},{"$f":"IF(L952=WORKSHEET!$B$1,I952,\"\")","v":""},"","KANSAS","Morton County","*","N/A","*","N/A","*",1.8657129718217477E-2,0.36956521739130432]
[554,null,12,"Shawnee (Topeka), KS - Riley, KS","KS: Nemaha County (20131)","KS: Nemaha County (20131)","20131","  Nemaha  ",{"$f":"ROWS($L$2:L953)","v":952},{"$f":"IF(L953=WORKSHEET!$B$1,I953,\"\")","v":""},"","KANSAS","Nemaha County","*","*","*","N/A",16,1.8657129718217477E-2,0.11388888888888889]
[601,null,12,"Labette, KS - Neosho, KS","KS: Neosho County (20133)","KS: Neosho County (20133)","20133","  Neosho  ",{"$f":"ROWS($L$2:L954)","v":953},{"$f":"IF(L954=WORKSHEET!$B$1,I954,\"\")","v":""},"","KANSAS","Neosho County",17,"*","*","N/A",26,1.8657129718217477E-2,0.13636363636363635]
[682,null,12,"Ness, KS","KS: Ness County (20135)","KS: Ness County (20135)","20135","  Ness  ",{"$f":"ROWS($L$2:L955)","v":954},{"$f":"IF(L955=WORKSHEET!$B$1,I955,\"\")","v":""},"","KANSAS","Ness County","*","*","*","N/A","*",1.8657129718217477E-2,0.125]
[637,null,12,"Phillips, KS - Norton, KS","KS: Norton County (20137)","KS: Norton County (20137)","20137","  Norton  ",{"$f":"ROWS($L$2:L956)","v":955},{"$f":"IF(L956=WORKSHEET!$B$1,I956,\"\")","v":""},"","KANSAS","Norton County","*","N/A","*","N/A","*",1.8657129718217477E-2,0.16666666666666666]
[554,null,12,"Shawnee (Topeka), KS - Riley, KS","KS: Osage County (20139)","KS: Osage County (20139)","20139","  Osage  ",{"$f":"ROWS($L$2:L957)","v":956},{"$f":"IF(L957=WORKSHEET!$B$1,I957,\"\")","v":""},"","KANSAS","Osage County","*","*","*","N/A",20,1.8657129718217477E-2,0.11388888888888889]
[622,null,12,"Mitchell, KS - Osborne, KS","KS: Osborne County (20141)","KS: Osborne County (20141)","20141","  Osborne  ",{"$f":"ROWS($L$2:L958)","v":957},{"$f":"IF(L958=WORKSHEET!$B$1,I958,\"\")","v":""},"","KANSAS","Osborne County","N/A","N/A","*","N/A","*",1.8657129718217477E-2,9.0909090909090912E-2]
[569,null,12,"Saline, KS - Ellsworth, KS","KS: Ottawa County (20143)","KS: Ottawa County (20143)","20143","  Ottawa  ",{"$f":"ROWS($L$2:L959)","v":958},{"$f":"IF(L959=WORKSHEET!$B$1,I959,\"\")","v":""},"","KANSAS","Ottawa County","*","*","*","N/A","*",1.8657129718217477E-2,0.10227272727272728]
[583,null,12,"Barton, KS - Pawnee, KS","KS: Pawnee County (20145)","KS: Pawnee County (20145)","20145","  Pawnee  ",{"$f":"ROWS($L$2:L960)","v":959},{"$f":"IF(L960=WORKSHEET!$B$1,I960,\"\")","v":""},"","KANSAS","Pawnee County","*","*","*","N/A","*",1.8657129718217477E-2,0.11538461538461539]
[637,null,12,"Phillips, KS - Norton, KS","KS: Phillips County (20147)","KS: Phillips County (20147)","20147","  Phillips  ",{"$f":"ROWS($L$2:L961)","v":960},{"$f":"IF(L961=WORKSHEET!$B$1,I961,\"\")","v":""},"","KANSAS","Phillips County","*","*","*","N/A","*",1.8657129718217477E-2,0.16666666666666666]
[554,null,12,"Shawnee (Topeka), KS - Riley, KS","KS: Pottawatomie County (20149)","KS: Pottawatomie County (20149)","20149","  Pottawatomie  ",{"$f":"ROWS($L$2:L962)","v":961},{"$f":"IF(L962=WORKSHEET!$B$1,I962,\"\")","v":""},"","KANSAS","Pottawatomie County","*","*","*","N/A",18,1.8657129718217477E-2,0.11388888888888889]
[618,null,12,"Pratt, KS - Kiowa, KS","KS: Pratt County (20151)","KS: Pratt County (20151)","20151","  Pratt  ",{"$f":"ROWS($L$2:L963)","v":962},{"$f":"IF(L963=WORKSHEET!$B$1,I963,\"\")","v":""},{"$f":"IFERROR(SMALL($J$2:$J$3142,I963),\"\")","v":""},"KANSAS","Pratt County","*","*","*","N/A",13,1.8657129718217477E-2,9.0909090909090912E-2]
[636,null,12,"Cheyenne, KS - Rawlins, KS","KS: Rawlins County (20153)","KS: Rawlins County (20153)","20153","  Rawlins  ",{"$f":"ROWS($L$2:L964)","v":963},{"$f":"IF(L964=WORKSHEET!$B$1,I964,\"\")","v":""},"","KANSAS","Rawlins County","*","N/A","*","N/A","*",1.8657129718217477E-2,0.125]
[598,null,12,"Reno, KS - Rice, KS","KS: Reno County (20155)","KS: Reno County (20155)","20155","  Reno  ",{"$f":"ROWS($L$2:L965)","v":964},{"$f":"IF(L965=WORKSHEET!$B$1,I965,\"\")","v":""},"","KANSAS","Reno County",59,{"$f":"+R965-N965-P965","v":6},32,"N/A",97,1.8657129718217477E-2,0.1]
[642,null,12,"Cloud, KS - Republic, KS","KS: Republic County (20157)","KS: Republic County (20157)","20157","  Republic  ",{"$f":"ROWS($L$2:L966)","v":965},{"$f":"IF(L966=WORKSHEET!$B$1,I966,\"\")","v":""},"","KANSAS","Republic County","*","N/A","*","N/A","*",1.8657129718217477E-2,9.0909090909090912E-2]
[598,null,12,"Reno, KS - Rice, KS","KS: Rice County (20159)","KS: Rice County (20159)","20159","  Rice  ",{"$f":"ROWS($L$2:L967)","v":966},{"$f":"IF(L967=WORKSHEET!$B$1,I967,\"\")","v":""},"","KANSAS","Rice County","*","*","*","N/A",16,1.8657129718217477E-2,0.1]
[554,null,12,"Shawnee (Topeka), KS - Riley, KS","KS: Riley County (20161)","KS: Riley County (20161)","20161","  Riley  ",{"$f":"ROWS($L$2:L968)","v":967},{"$f":"IF(L968=WORKSHEET!$B$1,I968,\"\")","v":""},"","KANSAS","Riley County",31,{"$f":"+R968-N968-P968","v":2},29,"N/A",62,1.8657129718217477E-2,0.11388888888888889]
[565,null,12,"Ellis, KS - Rooks, KS","KS: Rooks County (20163)","KS: Rooks County (20163)","20163","  Rooks  ",{"$f":"ROWS($L$2:L969)","v":968},{"$f":"IF(L969=WORKSHEET!$B$1,I969,\"\")","v":""},"","KANSAS","Rooks County","*","*","N/A","N/A","*",1.8657129718217477E-2,0.15]
[583,null,12,"Barton, KS - Pawnee, KS","KS: Rush County (20165)","KS: Rush County (20165)","20165","  Rush  ",{"$f":"ROWS($L$2:L970)","v":969},{"$f":"IF(L970=WORKSHEET!$B$1,I970,\"\")","v":""},"","KANSAS","Rush County","*","N/A","N/A","N/A","*",1.8657129718217477E-2,0.11538461538461539]
[667,null,12,"Russell, KS","KS: Russell County (20167)","KS: Russell County (20167)","20167","  Russell  ",{"$f":"ROWS($L$2:L971)","v":970},{"$f":"IF(L971=WORKSHEET!$B$1,I971,\"\")","v":""},"","KANSAS","Russell County","*","N/A","*","N/A","*",1.8657129718217477E-2,0]
[569,null,12,"Saline, KS - Ellsworth, KS","KS: Saline County (20169)","KS: Saline County (20169)","20169","  Saline  ",{"$f":"ROWS($L$2:L972)","v":971},{"$f":"IF(L972=WORKSHEET!$B$1,I972,\"\")","v":""},"","KANSAS","Saline County",68,{"$f":"+R972-N972-P972","v":7},29,"*",104,1.8657129718217477E-2,0.10227272727272728]
[575,null,12,"Finney, KS - Scott, KS","KS: Scott County (20171)","KS: Scott County (20171)","20171","  Scott  ",{"$f":"ROWS($L$2:L973)","v":972},{"$f":"IF(L973=WORKSHEET!$B$1,I973,\"\")","v":""},"","KANSAS","Scott County","*","N/A","*","N/A","*",1.8657129718217477E-2,0.16923076923076924]
[576,null,12,"Sedgwick (Wichita), KS - Butler, KS","KS: Sedgwick County (20173)","KS: Sedgwick County (20173)","20173","  Sedgwick  ",{"$f":"ROWS($L$2:L974)","v":973},{"$f":"IF(L974=WORKSHEET!$B$1,I974,\"\")","v":""},"","KANSAS","Sedgwick County",649,58,252,"*",963,1.8657129718217477E-2,9.0182648401826479E-2]
[587,null,12,"Seward, KS - Morton, KS","KS: Seward County (20175)","KS: Seward County (20175)","20175","  Seward  ",{"$f":"ROWS($L$2:L975)","v":974},{"$f":"IF(L975=WORKSHEET!$B$1,I975,\"\")","v":""},"","KANSAS","Seward County",16,11,"*","N/A",36,1.8657129718217477E-2,0.36956521739130432]
[554,null,12,"Shawnee (Topeka), KS - Riley, KS","KS: Shawnee County (20177)","KS: Shawnee County (20177)","20177","  Shawnee  ",{"$f":"ROWS($L$2:L976)","v":975},{"$f":"IF(L976=WORKSHEET!$B$1,I976,\"\")","v":""},"","KANSAS","Shawnee County",221,32,112,"*",367,1.8657129718217477E-2,0.11388888888888889]
[613,null,12,"Decatur, KS - Sheridan, KS","KS: Sheridan County (20179)","KS: Sheridan County (20179)","20179","  Sheridan  ",{"$f":"ROWS($L$2:L977)","v":976},{"$f":"IF(L977=WORKSHEET!$B$1,I977,\"\")","v":""},"","KANSAS","Sheridan County","N/A","*","*","N/A","*",1.8657129718217477E-2,0.27272727272727271]
[659,null,12,"Thomas, KS - Sherman, KS","KS: Sherman County (20181)","KS: Sherman County (20181)","20181","  Sherman  ",{"$f":"ROWS($L$2:L978)","v":977},{"$f":"IF(L978=WORKSHEET!$B$1,I978,\"\")","v":""},"","KANSAS","Sherman County","*","*","N/A","N/A",14,1.8657129718217477E-2,0.14285714285714285]
[637,null,12,"Phillips, KS - Norton, KS","KS: Smith County (20183)","KS: Smith County (20183)","20183","  Smith  ",{"$f":"ROWS($L$2:L979)","v":978},{"$f":"IF(L979=WORKSHEET!$B$1,I979,\"\")","v":""},"","KANSAS","Smith County","*","*","*","N/A","*",1.8657129718217477E-2,0.16666666666666666]
[598,null,12,"Reno, KS - Rice, KS","KS: Stafford County (20185)","KS: Stafford County (20185)","20185","  Stafford  ",{"$f":"ROWS($L$2:L980)","v":979},{"$f":"IF(L980=WORKSHEET!$B$1,I980,\"\")","v":""},"","KANSAS","Stafford County","*","N/A","*","N/A","*",1.8657129718217477E-2,0.1]
[943,562,12,"Grant, KS - Stanton, KS","KS: Stanton County (20187)","KS: Stanton County (20187)","20187","  Stanton  ",{"$f":"ROWS($L$2:L981)","v":980},{"$f":"IF(L981=WORKSHEET!$B$1,I981,\"\")","v":""},"","KANSAS","Stanton County","*","*","*","N/A","*",1.8657129718217477E-2,0.2857142857142857]
[664,null,12,"Stevens, KS","KS: Stevens County (20189)","KS: Stevens County (20189)","20189","  Stevens  ",{"$f":"ROWS($L$2:L982)","v":981},{"$f":"IF(L982=WORKSHEET!$B$1,I982,\"\")","v":""},"","KANSAS","Stevens County","*","*","*","N/A","*",1.8657129718217477E-2,0.1111111111111111]
[576,null,12,"Sedgwick (Wichita), KS - Butler, KS","KS: Sumner County (20191)","KS: Sumner County (20191)","20191","  Sumner  ",{"$f":"ROWS($L$2:L983)","v":982},{"$f":"IF(L983=WORKSHEET!$B$1,I983,\"\")","v":""},"","KANSAS","Sumner County",18,{"$f":"+R983-N983-P983","v":2},14,"N/A",34,1.8657129718217477E-2,9.0182648401826479E-2]
[659,null,12,"Thomas, KS - Sherman, KS","KS: Thomas County (20193)","KS: Thomas County (20193)","20193","  Thomas  ",{"$f":"ROWS($L$2:L984)","v":983},{"$f":"IF(L984=WORKSHEET!$B$1,I984,\"\")","v":""},"","KANSAS","Thomas County","*","*","*","N/A","*",1.8657129718217477E-2,0.14285714285714285]
[565,null,12,"Ellis, KS - Rooks, KS","KS: Trego County (20195)","KS: Trego County (20195)","20195","  Trego  ",{"$f":"ROWS($L$2:L985)","v":984},{"$f":"IF(L985=WORKSHEET!$B$1,I985,\"\")","v":""},"","KANSAS","Trego County","N/A","*","*","N/A","*",1.8657129718217477E-2,0.15]
[554,null,12,"Shawnee (Topeka), KS - Riley, KS","KS: Wabaunsee County (20197)","KS: Wabaunsee County (20197)","20197","  Wabaunsee  ",{"$f":"ROWS($L$2:L986)","v":985},{"$f":"IF(L986=WORKSHEET!$B$1,I986,\"\")","v":""},"","KANSAS","Wabaunsee County","*","N/A","*","N/A","*",1.8657129718217477E-2,0.11388888888888889]
[659,null,12,"Thomas, KS - Sherman, KS","KS: Wallace County (20199)","KS: Wallace County (20199)","20199","  Wallace  ",{"$f":"ROWS($L$2:L987)","v":986},{"$f":"IF(L987=WORKSHEET!$B$1,I987,\"\")","v":""},"","KANSAS","Wallace County","*","N/A","N/A","N/A","*",1.8657129718217477E-2,0.14285714285714285]
[635,null,12,"Marshall, KS - Washington, KS","KS: Washington County (20201)","KS: Washington County (20201)","20201","  Washington  ",{"$f":"ROWS($L$2:L988)","v":987},{"$f":"IF(L988=WORKSHEET!$B$1,I988,\"\")","v":""},"","KANSAS","Washington County","*","N/A","*","N/A","*",1.8657129718217477E-2,7.6923076923076927E-2]
[643,643,12,"Wichita, KS - Greeley, KS","KS: Wichita County (20203)","KS: Wichita County (20203)","20203","  Wichita  ",{"$f":"ROWS($L$2:L989)","v":988},{"$f":"IF(L989=WORKSHEET!$B$1,I989,\"\")","v":""},"","KANSAS","Wichita County","N/A","*","*","N/A","*",1.8657129718217477E-2,"na"]
[675,null,12,"Wilson, KS","KS: Wilson County (20205)","KS: Wilson County (20205)","20205","  Wilson  ",{"$f":"ROWS($L$2:L990)","v":989},{"$f":"IF(L990=WORKSHEET!$B$1,I990,\"\")","v":""},"","KANSAS","Wilson County","*","*","*","N/A","*",1.8657129718217477E-2,0.125]
[601,null,12,"Labette, KS - Neosho, KS","KS: Woodson County (20207)","KS: Woodson County (20207)","20207","  Woodson  ",{"$f":"ROWS($L$2:L991)","v":990},{"$f":"IF(L991=WORKSHEET!$B$1,I991,\"\")","v":""},"","KANSAS","Woodson County","*","N/A","*","N/A","*",1.8657129718217477E-2,0.13636363636363635]
[621,null,12,"Wyandotte (Kansas City), KS - Leavenworth, KS","KS: Wyandotte County (20209)","KS: Wyandotte County (20209)","20209","  Wyandotte  ",{"$f":"ROWS($L$2:L992)","v":991},{"$f":"IF(L992=WORKSHEET!$B$1,I992,\"\")","v":""},"","KANSAS","Wyandotte County",384,29,147,"*",562,1.8657129718217477E-2,8.8842975206611566E-2]
[82,null,9,"Taylor, KY - Adair, KY","KY: Adair County (21001)","KY: Adair County (21001)","21001","Adair  ",{"$f":"ROWS($L$2:L993)","v":992},{"$f":"IF(L993=WORKSHEET!$B$1,I993,\"\")","v":""},"","KENTUCKY","Adair County",19,"*","*","N/A",30,2.6132791095279894E-2,0.17045454545454544]
[29,null,9,"Warren, KY - Logan, KY","KY: Allen County (21003)","KY: Allen County (21003)","21003","  Allen  ",{"$f":"ROWS($L$2:L994)","v":993},{"$f":"IF(L994=WORKSHEET!$B$1,I994,\"\")","v":""},"","KENTUCKY","Allen County",12,"*","*","N/A",22,2.6132791095279894E-2,0.12857142857142856]
[114,null,9,"Franklin, KY - Anderson, KY","KY: Anderson County (21005)","KY: Anderson County (21005)","21005","  Anderson  ",{"$f":"ROWS($L$2:L995)","v":994},{"$f":"IF(L995=WORKSHEET!$B$1,I995,\"\")","v":""},"","KENTUCKY","Anderson County",20,"*","*","N/A",31,2.6132791095279894E-2,0.11650485436893204]
[855,12,9,"McCracken, KY - Graves, KY","KY: Ballard County (21007)","KY: Ballard County (21007)","21007","  Ballard  ",{"$f":"ROWS($L$2:L996)","v":995},{"$f":"IF(L996=WORKSHEET!$B$1,I996,\"\")","v":""},"","KENTUCKY","Ballard County",12,"*","*","N/A",20,2.6132791095279894E-2,0.14728682170542637]
[53,null,9,"Barren, KY - Hart, KY","KY: Barren County (21009)","KY: Barren County (21009)","21009","  Barren  ",{"$f":"ROWS($L$2:L997)","v":996},{"$f":"IF(L997=WORKSHEET!$B$1,I997,\"\")","v":""},"","KENTUCKY","Barren County",55,{"$f":"+R997-N997-P997","v":3},14,"N/A",72,2.6132791095279894E-2,6.8627450980392163E-2]
[131,null,9,"Montgomery, KY - Bath, KY","KY: Bath County (21011)","KY: Bath County (21011)","21011","  Bath  ",{"$f":"ROWS($L$2:L998)","v":997},{"$f":"IF(L998=WORKSHEET!$B$1,I998,\"\")","v":""},"","KENTUCKY","Bath County","*","*","*","N/A",17,2.6132791095279894E-2,0.17857142857142858]
[96,null,9,"Harlan, KY - Bell, KY","KY: Bell County (21013)","KY: Bell County (21013)","21013","  Bell  ",{"$f":"ROWS($L$2:L999)","v":998},{"$f":"IF(L999=WORKSHEET!$B$1,I999,\"\")","v":""},"","KENTUCKY","Bell County",26,{"$f":"+R999-N999-P999","v":6},15,"N/A",47,2.6132791095279894E-2,0.15322580645161291]
[2,null,9,"Kenton (Covington), KY - Campbell, KY","KY: Boone County (21015)","KY: Boone County (21015)","21015","  Boone  ",{"$f":"ROWS($L$2:L1000)","v":999},{"$f":"IF(L1000=WORKSHEET!$B$1,I1000,\"\")","v":""},"","KENTUCKY","Boone County",100,20,79,"*",200,2.6132791095279894E-2,0.19047619047619047]
[102,null,9,"Bourbon (Paris), KY - Nicholas, KY","KY: Bourbon County (21017)","KY: Bourbon County (21017)","21017","  Bourbon  ",{"$f":"ROWS($L$2:L1001)","v":1000},{"$f":"IF(L1001=WORKSHEET!$B$1,I1001,\"\")","v":""},"","KENTUCKY","Bourbon County",20,"*","*","*",26,2.6132791095279894E-2,6.25E-2]
[46,null,9,"Boyd, KY - Greenup, KY","KY: Boyd County (21019)","KY: Boyd County (21019)","21019","  Boyd  ",{"$f":"ROWS($L$2:L1002)","v":1001},{"$f":"IF(L1002=WORKSHEET!$B$1,I1002,\"\")","v":""},"","KENTUCKY","Boyd County",69,{"$f":"+R1002-N1002-P1002","v":7},26,"*",102,2.6132791095279894E-2,8.24561403508772E-2]
[27,null,9,"Boyle, KY - Lincoln, KY","KY: Boyle County (21021)","KY: Boyle County (21021)","21021","  Boyle  ",{"$f":"ROWS($L$2:L1003)","v":1002},{"$f":"IF(L1003=WORKSHEET!$B$1,I1003,\"\")","v":""},"","KENTUCKY","Boyle County",42,{"$f":"+R1003-N1003-P1003","v":3},19,"*",64,2.6132791095279894E-2,0.108108108108108]
[116,null,9,"Mason, KY - Fleming, KY","KY: Bracken County (21023)","KY: Bracken County (21023)","21023","  Bracken  ",{"$f":"ROWS($L$2:L1004)","v":1003},{"$f":"IF(L1004=WORKSHEET!$B$1,I1004,\"\")","v":""},"","KENTUCKY","Bracken County","*","*","*","N/A",16,2.6132791095279894E-2,0.18181818181818182]
[18,null,9,"Fayette (Lexington-Fayette), KY - Jessamine, KY","KY: Breathitt County (21025)","KY: Breathitt County (21025)","21025","  Breathitt  ",{"$f":"ROWS($L$2:L1005)","v":1004},{"$f":"IF(L1005=WORKSHEET!$B$1,I1005,\"\")","v":""},"","KENTUCKY","Breathitt County",25,"*","*","*",31,2.6132791095279894E-2,0.13811420982735723]
[89,null,9,"Hardin, KY - Meade, KY","KY: Breckinridge County (21027)","KY: Breckinridge County (21027)","21027","  Breckinridge  ",{"$f":"ROWS($L$2:L1006)","v":1005},{"$f":"IF(L1006=WORKSHEET!$B$1,I1006,\"\")","v":""},"","KENTUCKY","Breckinridge County",11,"*","*","N/A",24,2.6132791095279894E-2,0.16988416988416988]
[272,null,9,"Jefferson (Louisville), KY - Bullitt, KY","KY: Bullitt County (21029)","KY: Bullitt County (21029)","21029","  Bullitt  ",{"$f":"ROWS($L$2:L1007)","v":1006},{"$f":"IF(L1007=WORKSHEET!$B$1,I1007,\"\")","v":""},"","KENTUCKY","Bullitt County",59,{"$f":"+R1007-N1007-P1007","v":2},27,"N/A",88,2.6132791095279894E-2,5.7832678270634472E-2]
[29,null,9,"Warren, KY - Logan, KY","KY: Butler County (21031)","KY: Butler County (21031)","21031","  Butler  ",{"$f":"ROWS($L$2:L1008)","v":1007},{"$f":"IF(L1008=WORKSHEET!$B$1,I1008,\"\")","v":""},"","KENTUCKY","Butler County","*","N/A","*","N/A","*",2.6132791095279894E-2,0.12857142857142856]
[45,null,9,"Christian (Hopkinsville), KY - Hopkins, KY","KY: Caldwell County (21033)","KY: Caldwell County (21033)","21033","  Caldwell  ",{"$f":"ROWS($L$2:L1009)","v":1008},{"$f":"IF(L1009=WORKSHEET!$B$1,I1009,\"\")","v":""},"","KENTUCKY","Caldwell County",18,"*","*","N/A",27,2.6132791095279894E-2,9.7701149425287362E-2]
[115,null,9,"Calloway, KY","KY: Calloway County (21035)","KY: Calloway County (21035)","21035","  Calloway  ",{"$f":"ROWS($L$2:L1010)","v":1009},{"$f":"IF(L1010=WORKSHEET!$B$1,I1010,\"\")","v":""},"","KENTUCKY","Calloway County",30,{"$f":"+R1010-N1010-P1010","v":5},19,"N/A",54,2.6132791095279894E-2,9.7402597402597407E-2]
[2,null,9,"Kenton (Covington), KY - Campbell, KY","KY: Campbell County (21037)","KY: Campbell County (21037)","21037","  Campbell  ",{"$f":"ROWS($L$2:L1011)","v":1010},{"$f":"IF(L1011=WORKSHEET!$B$1,I1011,\"\")","v":""},"","KENTUCKY","Campbell County",74,18,51,"N/A",143,2.6132791095279894E-2,0.19047619047619047]
[855,12,9,"McCracken, KY - Graves, KY","KY: Carlisle County (21039)","KY: Carlisle County (21039)","21039","  Carlisle  ",{"$f":"ROWS($L$2:L1012)","v":1011},{"$f":"IF(L1012=WORKSHEET!$B$1,I1012,\"\")","v":""},"","KENTUCKY","Carlisle County","*","N/A","*","N/A",14,2.6132791095279894E-2,0.14728682170542637]
[914,321,9,"Carroll, KY - Trimble, KY","KY: Carroll County (21041)","KY: Carroll County (21041)","21041","  Carroll  ",{"$f":"ROWS($L$2:L1013)","v":1012},{"$f":"IF(L1013=WORKSHEET!$B$1,I1013,\"\")","v":""},"","KENTUCKY","Carroll County","*","*","*","N/A",16,2.6132791095279894E-2,0.19209039548022599]
[46,null,9,"Boyd, KY - Greenup, KY","KY: Carter County (21043)","KY: Carter County (21043)","21043","  Carter  ",{"$f":"ROWS($L$2:L1014)","v":1013},{"$f":"IF(L1014=WORKSHEET!$B$1,I1014,\"\")","v":""},"","KENTUCKY","Carter County",22,{"$f":"+R1014-N1014-P1014","v":3},11,"N/A",36,2.6132791095279894E-2,8.24561403508772E-2]
[27,null,9,"Boyle, KY - Lincoln, KY","KY: Casey County (21045)","KY: Casey County (21045)","21045","  Casey  ",{"$f":"ROWS($L$2:L1015)","v":1014},{"$f":"IF(L1015=WORKSHEET!$B$1,I1015,\"\")","v":""},"","KENTUCKY","Casey County",12,"N/A","*","N/A",16,2.6132791095279894E-2,0.10810810810810811]
[45,null,9,"Christian (Hopkinsville), KY - Hopkins, KY","KY: Christian County (21047)","KY: Christian County (21047)","21047","  Christian  ",{"$f":"ROWS($L$2:L1016)","v":1015},{"$f":"IF(L1016=WORKSHEET!$B$1,I1016,\"\")","v":""},"","KENTUCKY","Christian County",121,14,23,"N/A",158,2.6132791095279894E-2,9.7701149425287362E-2]
[18,null,9,"Fayette (Lexington-Fayette), KY - Jessamine, KY","KY: Clark County (21049)","KY: Clark County (21049)","21049","  Clark  ",{"$f":"ROWS($L$2:L1017)","v":1016},{"$f":"IF(L1017=WORKSHEET!$B$1,I1017,\"\")","v":""},"","KENTUCKY","Clark County",47,{"$f":"+R1017-N1017-P1017","v":9},22,"*",78,2.6132791095279894E-2,0.13811420982735723]
[51,null,9,"Laurel, KY - Whitley, KY","KY: Clay County (21051)","KY: Clay County (21051)","21051","  Clay  ",{"$f":"ROWS($L$2:L1018)","v":1017},{"$f":"IF(L1018=WORKSHEET!$B$1,I1018,\"\")","v":""},"","KENTUCKY","Clay County",21,{"$f":"+R1018-N1018-P1018","v":5},14,"N/A",40,2.6132791095279894E-2,0.12994350282485875]
[104,null,9,"Clinton, KY - Cumberland, KY","KY: Clinton County (21053)","KY: Clinton County (21053)","21053","  Clinton  ",{"$f":"ROWS($L$2:L1019)","v":1018},{"$f":"IF(L1019=WORKSHEET!$B$1,I1019,\"\")","v":""},"","KENTUCKY","Clinton County",14,"*","*","N/A",23,2.6132791095279894E-2,4.7619047619047616E-2]
[855,12,9,"McCracken, KY - Graves, KY","KY: Crittenden County (21055)","KY: Crittenden County (21055)","21055","  Crittenden  ",{"$f":"ROWS($L$2:L1020)","v":1019},{"$f":"IF(L1020=WORKSHEET!$B$1,I1020,\"\")","v":""},"","KENTUCKY","Crittenden County","*","N/A","*","N/A",11,2.6132791095279894E-2,0.14728682170542637]
[104,null,9,"Clinton, KY - Cumberland, KY","KY: Cumberland County (21057)","KY: Cumberland County (21057)","21057","  Cumberland  ",{"$f":"ROWS($L$2:L1021)","v":1020},{"$f":"IF(L1021=WORKSHEET!$B$1,I1021,\"\")","v":""},"","KENTUCKY","Cumberland County","*","N/A","*","N/A","*",2.6132791095279894E-2,4.7619047619047616E-2]
[913,316,9,"Daviess (Owensboro), KY - Ohio, KY","KY: Daviess County (21059)","KY: Daviess County (21059)","21059","  Daviess  ",{"$f":"ROWS($L$2:L1022)","v":1021},{"$f":"IF(L1022=WORKSHEET!$B$1,I1022,\"\")","v":""},"","KENTUCKY","Daviess County",75,14,37,"N/A",126,2.6132791095279894E-2,0.2013888888888889]
[29,null,9,"Warren, KY - Logan, KY","KY: Edmonson County (21061)","KY: Edmonson County (21061)","21061","  Edmonson  ",{"$f":"ROWS($L$2:L1023)","v":1022},{"$f":"IF(L1023=WORKSHEET!$B$1,I1023,\"\")","v":""},"","KENTUCKY","Edmonson County","*","*","*","N/A",16,2.6132791095279894E-2,0.12857142857142856]
[67,null,9,"Rowan, KY - Morgan, KY","KY: Elliott County (21063)","KY: Elliott County (21063)","21063","  Elliott  ",{"$f":"ROWS($L$2:L1024)","v":1023},{"$f":"IF(L1024=WORKSHEET!$B$1,I1024,\"\")","v":""},"","KENTUCKY","Elliott County","*","*","*","N/A",15,2.6132791095279894E-2,0.27083333333333331]
[62,null,9,"Madison, KY - Rockcastle, KY","KY: Estill County (21065)","KY: Estill County (21065)","21065","  Estill  ",{"$f":"ROWS($L$2:L1025)","v":1024},{"$f":"IF(L1025=WORKSHEET!$B$1,I1025,\"\")","v":""},"","KENTUCKY","Estill County",22,{"$f":"+R1025-N1025-P1025","v":1},11,"N/A",34,2.6132791095279894E-2,0.13714285714285715]
[18,null,9,"Fayette (Lexington-Fayette), KY - Jessamine, KY","KY: Fayette County (21067)","KY: Fayette County (21067)","21067","  Fayette  ",{"$f":"ROWS($L$2:L1026)","v":1025},{"$f":"IF(L1026=WORKSHEET!$B$1,I1026,\"\")","v":""},"","KENTUCKY","Fayette County",343,53,171,"*",568,2.6132791095279894E-2,0.13811420982735723]
[116,null,9,"Mason, KY - Fleming, KY","KY: Fleming County (21069)","KY: Fleming County (21069)","21069","  Fleming  ",{"$f":"ROWS($L$2:L1027)","v":1026},{"$f":"IF(L1027=WORKSHEET!$B$1,I1027,\"\")","v":""},{"$f":"IFERROR(SMALL($J$2:$J$3142,I1027),\"\")","v":""},"KENTUCKY","Fleming County",20,{"$f":"+R1027-N1027-P1027","v":3},11,"N/A",34,2.6132791095279894E-2,0.18181818181818182]
[11,null,9,"Floyd, KY - Johnson, KY","KY: Floyd County (21071)","KY: Floyd County (21071)","21071","  Floyd  ",{"$f":"ROWS($L$2:L1028)","v":1027},{"$f":"IF(L1028=WORKSHEET!$B$1,I1028,\"\")","v":""},"","KENTUCKY","Floyd County",46,{"$f":"+R1028-N1028-P1028","v":9},24,"N/A",79,2.6132791095279894E-2,0.109375]
[114,null,9,"Franklin, KY - Anderson, KY","KY: Franklin County (21073)","KY: Franklin County (21073)","21073","  Franklin  ",{"$f":"ROWS($L$2:L1029)","v":1028},{"$f":"IF(L1029=WORKSHEET!$B$1,I1029,\"\")","v":""},"","KENTUCKY","Franklin County",63,{"$f":"+R1029-N1029-P1029","v":9},33,"*",105,2.6132791095279894E-2,0.11650485436893204]
[181,null,9,"Fulton, KY","KY: Fulton County (21075)","KY: Fulton County (21075)","21075","  Fulton  ",{"$f":"ROWS($L$2:L1030)","v":1029},{"$f":"IF(L1030=WORKSHEET!$B$1,I1030,\"\")","v":""},"","KENTUCKY","Fulton County",17,"*","*","*",22,2.6132791095279894E-2,8.5714285714285715E-2]
[2,null,9,"Kenton (Covington), KY - Campbell, KY","KY: Gallatin County (21077)","KY: Gallatin County (21077)","21077","  Gallatin  ",{"$f":"ROWS($L$2:L1031)","v":1030},{"$f":"IF(L1031=WORKSHEET!$B$1,I1031,\"\")","v":""},"","KENTUCKY","Gallatin County","*","*","*","N/A",16,2.6132791095279894E-2,0.19047619047619047]
[27,null,9,"Boyle, KY - Lincoln, KY","KY: Garrard County (21079)","KY: Garrard County (21079)","21079","  Garrard  ",{"$f":"ROWS($L$2:L1032)","v":1031},{"$f":"IF(L1032=WORKSHEET!$B$1,I1032,\"\")","v":""},"","KENTUCKY","Garrard County",17,"*","*","N/A",30,2.6132791095279894E-2,0.10810810810810811]
[2,null,9,"Kenton (Covington), KY - Campbell, KY","KY: Grant County (21081)","KY: Grant County (21081)","21081","  Grant  ",{"$f":"ROWS($L$2:L1033)","v":1032},{"$f":"IF(L1033=WORKSHEET!$B$1,I1033,\"\")","v":""},"","KENTUCKY","Grant County",31,{"$f":"+R1033-N1033-P1033","v":10},15,"N/A",56,2.6132791095279894E-2,0.19047619047619047]
[855,12,9,"McCracken, KY - Graves, KY","KY: Graves County (21083)","KY: Graves County (21083)","21083","  Graves  ",{"$f":"ROWS($L$2:L1034)","v":1033},{"$f":"IF(L1034=WORKSHEET!$B$1,I1034,\"\")","v":""},"","KENTUCKY","Graves County",37,{"$f":"+R1034-N1034-P1034","v":7},17,"*",61,2.6132791095279894E-2,0.14728682170542637]
[89,null,9,"Hardin, KY - Meade, KY","KY: Grayson County (21085)","KY: Grayson County (21085)","21085","  Grayson  ",{"$f":"ROWS($L$2:L1035)","v":1034},{"$f":"IF(L1035=WORKSHEET!$B$1,I1035,\"\")","v":""},"","KENTUCKY","Grayson County",30,{"$f":"+R1035-N1035-P1035","v":4},13,"*",47,2.6132791095279894E-2,0.16988416988416988]
[82,null,9,"Taylor, KY - Adair, KY","KY: Green County (21087)","KY: Green County (21087)","21087","  Green  ",{"$f":"ROWS($L$2:L1036)","v":1035},{"$f":"IF(L1036=WORKSHEET!$B$1,I1036,\"\")","v":""},"","KENTUCKY","Green County","*","*","*","N/A",17,2.6132791095279894E-2,0.17045454545454544]
[46,null,9,"Boyd, KY - Greenup, KY","KY: Greenup County (21089)","KY: Greenup County (21089)","21089","  Greenup  ",{"$f":"ROWS($L$2:L1037)","v":1036},{"$f":"IF(L1037=WORKSHEET!$B$1,I1037,\"\")","v":""},"","KENTUCKY","Greenup County",56,{"$f":"+R1037-N1037-P1037","v":5},24,"N/A",85,2.6132791095279894E-2,8.24561403508772E-2]
[913,316,9,"Daviess (Owensboro), KY - Ohio, KY","KY: Hancock County (21091)","KY: Hancock County (21091)","21091","  Hancock  ",{"$f":"ROWS($L$2:L1038)","v":1037},{"$f":"IF(L1038=WORKSHEET!$B$1,I1038,\"\")","v":""},"","KENTUCKY","Hancock County","*","*","*","N/A",12,2.6132791095279894E-2,0.2013888888888889]
[89,null,9,"Hardin, KY - Meade, KY","KY: Hardin County (21093)","KY: Hardin County (21093)","21093","  Hardin  ",{"$f":"ROWS($L$2:L1039)","v":1038},{"$f":"IF(L1039=WORKSHEET!$B$1,I1039,\"\")","v":""},"","KENTUCKY","Hardin County",143,32,52,"N/A",227,2.6132791095279894E-2,0.16988416988416988]
[96,null,9,"Harlan, KY - Bell, KY","KY: Harlan County (21095)","KY: Harlan County (21095)","21095","  Harlan  ",{"$f":"ROWS($L$2:L1040)","v":1039},{"$f":"IF(L1040=WORKSHEET!$B$1,I1040,\"\")","v":""},"","KENTUCKY","Harlan County",38,{"$f":"+R1040-N1040-P1040","v":7},15,"N/A",60,2.6132791095279894E-2,0.15322580645161291]
[119,null,9,"Harrison, KY - Robertson, KY","KY: Harrison County (21097)","KY: Harrison County (21097)","21097","  Harrison  ",{"$f":"ROWS($L$2:L1041)","v":1040},{"$f":"IF(L1041=WORKSHEET!$B$1,I1041,\"\")","v":""},"","KENTUCKY","Harrison County",12,"*","*","N/A",23,2.6132791095279894E-2,7.1428571428571425E-2]
[53,null,9,"Barren, KY - Hart, KY","KY: Hart County (21099)","KY: Hart County (21099)","21099","  Hart  ",{"$f":"ROWS($L$2:L1042)","v":1041},{"$f":"IF(L1042=WORKSHEET!$B$1,I1042,\"\")","v":""},"","KENTUCKY","Hart County",17,"*","*","N/A",26,2.6132791095279894E-2,6.8627450980392163E-2]
[40,null,9,"Henderson (Henderson), KY - Union, KY","KY: Henderson County (21101)","KY: Henderson County (21101)","21101","  Henderson  ",{"$f":"ROWS($L$2:L1043)","v":1042},{"$f":"IF(L1043=WORKSHEET!$B$1,I1043,\"\")","v":""},"","KENTUCKY","Henderson County",70,{"$f":"+R1043-N1043-P1043","v":7},16,"N/A",93,2.6132791095279894E-2,0.10526315789473684]
[272,null,9,"Jefferson (Louisville), KY - Bullitt, KY","KY: Henry County (21103)","KY: Henry County (21103)","21103","  Henry  ",{"$f":"ROWS($L$2:L1044)","v":1043},{"$f":"IF(L1044=WORKSHEET!$B$1,I1044,\"\")","v":""},"","KENTUCKY","Henry County",19,"N/A","*","N/A",27,2.6132791095279894E-2,5.7832678270634472E-2]
[855,12,9,"McCracken, KY - Graves, KY","KY: Hickman County (21105)","KY: Hickman County (21105)","21105","  Hickman  ",{"$f":"ROWS($L$2:L1045)","v":1044},{"$f":"IF(L1045=WORKSHEET!$B$1,I1045,\"\")","v":""},"","KENTUCKY","Hickman County","*","N/A","*","N/A","*",2.6132791095279894E-2,0.14728682170542637]
[45,null,9,"Christian (Hopkinsville), KY - Hopkins, KY","KY: Hopkins County (21107)","KY: Hopkins County (21107)","21107","  Hopkins  ",{"$f":"ROWS($L$2:L1046)","v":1045},{"$f":"IF(L1046=WORKSHEET!$B$1,I1046,\"\")","v":""},"","KENTUCKY","Hopkins County",73,11,34,"*",119,2.6132791095279894E-2,9.7701149425287362E-2]
[62,null,9,"Madison, KY - Rockcastle, KY","KY: Jackson County (21109)","KY: Jackson County (21109)","21109","  Jackson  ",{"$f":"ROWS($L$2:L1047)","v":1046},{"$f":"IF(L1047=WORKSHEET!$B$1,I1047,\"\")","v":""},"","KENTUCKY","Jackson County",13,"*","*","N/A",27,2.6132791095279894E-2,0.13714285714285715]
[272,null,9,"Jefferson (Louisville), KY - Bullitt, KY","KY: Jefferson County (21111)","KY: Jefferson County (21111)","21111","  Jefferson  ",{"$f":"ROWS($L$2:L1048)","v":1047},{"$f":"IF(L1048=WORKSHEET!$B$1,I1048,\"\")","v":""},"","KENTUCKY","Jefferson County",1393,88,468,"*",1953,2.6132791095279894E-2,5.7832678270634472E-2]
[18,null,9,"Fayette (Lexington-Fayette), KY - Jessamine, KY","KY: Jessamine County (21113)","KY: Jessamine County (21113)","21113","  Jessamine  ",{"$f":"ROWS($L$2:L1049)","v":1048},{"$f":"IF(L1049=WORKSHEET!$B$1,I1049,\"\")","v":""},"","KENTUCKY","Jessamine County",32,{"$f":"+R1049-N1049-P1049","v":5},21,"N/A",58,2.6132791095279894E-2,0.13811420982735723]
[11,null,9,"Floyd, KY - Johnson, KY","KY: Johnson County (21115)","KY: Johnson County (21115)","21115","  Johnson  ",{"$f":"ROWS($L$2:L1050)","v":1049},{"$f":"IF(L1050=WORKSHEET!$B$1,I1050,\"\")","v":""},"","KENTUCKY","Johnson County",44,"*","*","N/A",59,2.6132791095279894E-2,0.109375]
[2,null,9,"Kenton (Covington), KY - Campbell, KY","KY: Kenton County (21117)","KY: Kenton County (21117)","21117","  Kenton  ",{"$f":"ROWS($L$2:L1051)","v":1050},{"$f":"IF(L1051=WORKSHEET!$B$1,I1051,\"\")","v":""},"","KENTUCKY","Kenton County",170,38,86,"*",297,2.6132791095279894E-2,0.19047619047619047]
[18,null,9,"Fayette (Lexington-Fayette), KY - Jessamine, KY","KY: Knott County (21119)","KY: Knott County (21119)","21119","  Knott  ",{"$f":"ROWS($L$2:L1052)","v":1051},{"$f":"IF(L1052=WORKSHEET!$B$1,I1052,\"\")","v":""},"","KENTUCKY","Knott County",18,"*","*","N/A",32,2.6132791095279894E-2,0.13811420982735723]
[51,null,9,"Laurel, KY - Whitley, KY","KY: Knox County (21121)","KY: Knox County (21121)","21121","  Knox  ",{"$f":"ROWS($L$2:L1053)","v":1052},{"$f":"IF(L1053=WORKSHEET!$B$1,I1053,\"\")","v":""},"","KENTUCKY","Knox County",28,"*","*","N/A",40,2.6132791095279894E-2,0.12994350282485875]
[89,null,9,"Hardin, KY - Meade, KY","KY: Larue County (21123)","KY: Larue County (21123)","21123","  Larue  ",{"$f":"ROWS($L$2:L1054)","v":1053},{"$f":"IF(L1054=WORKSHEET!$B$1,I1054,\"\")","v":""},"","KENTUCKY","Larue County","*","*","*","N/A",17,2.6132791095279894E-2,0.16988416988416988]
[51,null,9,"Laurel, KY - Whitley, KY","KY: Laurel County (21125)","KY: Laurel County (21125)","21125","  Laurel  ",{"$f":"ROWS($L$2:L1055)","v":1054},{"$f":"IF(L1055=WORKSHEET!$B$1,I1055,\"\")","v":""},"","KENTUCKY","Laurel County",44,{"$f":"+R1055-N1055-P1055","v":8},21,"N/A",73,2.6132791095279894E-2,0.12994350282485875]
[46,null,9,"Boyd, KY - Greenup, KY","KY: Lawrence County (21127)","KY: Lawrence County (21127)","21127","  Lawrence  ",{"$f":"ROWS($L$2:L1056)","v":1055},{"$f":"IF(L1056=WORKSHEET!$B$1,I1056,\"\")","v":""},"","KENTUCKY","Lawrence County",30,"*","*","N/A",43,2.6132791095279894E-2,8.24561403508772E-2]
[18,null,9,"Fayette (Lexington-Fayette), KY - Jessamine, KY","KY: Lee County (21129)","KY: Lee County (21129)","21129","  Lee  ",{"$f":"ROWS($L$2:L1057)","v":1056},{"$f":"IF(L1057=WORKSHEET!$B$1,I1057,\"\")","v":""},"","KENTUCKY","Lee County","*","*","*","N/A",13,2.6132791095279894E-2,0.13811420982735723]
[18,null,9,"Fayette (Lexington-Fayette), KY - Jessamine, KY","KY: Leslie County (21131)","KY: Leslie County (21131)","21131","  Leslie  ",{"$f":"ROWS($L$2:L1058)","v":1057},{"$f":"IF(L1058=WORKSHEET!$B$1,I1058,\"\")","v":""},"","KENTUCKY","Leslie County",12,"*","*","N/A",26,2.6132791095279894E-2,0.13811420982735723]
[123,null,9,"Letcher, KY","KY: Letcher County (21133)","KY: Letcher County (21133)","21133","  Letcher  ",{"$f":"ROWS($L$2:L1059)","v":1058},{"$f":"IF(L1059=WORKSHEET!$B$1,I1059,\"\")","v":""},"","KENTUCKY","Letcher County",21,{"$f":"+R1059-N1059-P1059","v":3},14,"*",38,2.6132791095279894E-2,0.125]
[337,null,9,"Lewis, KY","KY: Lewis County (21135)","KY: Lewis County (21135)","21135","  Lewis  ",{"$f":"ROWS($L$2:L1060)","v":1059},{"$f":"IF(L1060=WORKSHEET!$B$1,I1060,\"\")","v":""},"","KENTUCKY","Lewis County",17,{"$f":"+R1060-N1060-P1060","v":2},15,"N/A",34,2.6132791095279894E-2,9.1240875912408759E-2]
[27,null,9,"Boyle, KY - Lincoln, KY","KY: Lincoln County (21137)","KY: Lincoln County (21137)","21137","  Lincoln  ",{"$f":"ROWS($L$2:L1061)","v":1060},{"$f":"IF(L1061=WORKSHEET!$B$1,I1061,\"\")","v":""},"","KENTUCKY","Lincoln County",35,{"$f":"+R1061-N1061-P1061","v":8},11,"N/A",54,2.6132791095279894E-2,0.10810810810810811]
[855,12,9,"McCracken, KY - Graves, KY","KY: Livingston County (21139)","KY: Livingston County (21139)","21139","  Livingston  ",{"$f":"ROWS($L$2:L1062)","v":1061},{"$f":"IF(L1062=WORKSHEET!$B$1,I1062,\"\")","v":""},"","KENTUCKY","Livingston County","*","N/A","*","*",11,2.6132791095279894E-2,0.14728682170542637]
[29,null,9,"Warren, KY - Logan, KY","KY: Logan County (21141)","KY: Logan County (21141)","21141","  Logan  ",{"$f":"ROWS($L$2:L1063)","v":1062},{"$f":"IF(L1063=WORKSHEET!$B$1,I1063,\"\")","v":""},"","KENTUCKY","Logan County",22,{"$f":"+R1063-N1063-P1063","v":4},13,"*",39,2.6132791095279894E-2,0.12857142857142856]
[855,12,9,"McCracken, KY - Graves, KY","KY: Lyon County (21143)","KY: Lyon County (21143)","21143","  Lyon  ",{"$f":"ROWS($L$2:L1064)","v":1063},{"$f":"IF(L1064=WORKSHEET!$B$1,I1064,\"\")","v":""},"","KENTUCKY","Lyon County","*","N/A","*","N/A",11,2.6132791095279894E-2,0.14728682170542637]
[62,null,9,"Madison, KY - Rockcastle, KY","KY: Madison County (21151)","KY: Madison County (21151)","21151","  Madison  ",{"$f":"ROWS($L$2:L1065)","v":1064},{"$f":"IF(L1065=WORKSHEET!$B$1,I1065,\"\")","v":""},"","KENTUCKY","Madison County",92,15,50,"N/A",157,2.6132791095279894E-2,0.13714285714285715]
[11,null,9,"Floyd, KY - Johnson, KY","KY: Magoffin County (21153)","KY: Magoffin County (21153)","21153","  Magoffin  ",{"$f":"ROWS($L$2:L1066)","v":1065},{"$f":"IF(L1066=WORKSHEET!$B$1,I1066,\"\")","v":""},"","KENTUCKY","Magoffin County",24,"N/A","*","*",27,2.6132791095279894E-2,0.109375]
[272,null,9,"Jefferson (Louisville), KY - Bullitt, KY","KY: Marion County (21155)","KY: Marion County (21155)","21155","  Marion  ",{"$f":"ROWS($L$2:L1067)","v":1066},{"$f":"IF(L1067=WORKSHEET!$B$1,I1067,\"\")","v":""},"","KENTUCKY","Marion County",33,"*","*","N/A",42,2.6132791095279894E-2,5.7832678270634472E-2]
[855,12,9,"McCracken, KY - Graves, KY","KY: Marshall County (21157)","KY: Marshall County (21157)","21157","  Marshall  ",{"$f":"ROWS($L$2:L1068)","v":1067},{"$f":"IF(L1068=WORKSHEET!$B$1,I1068,\"\")","v":""},"","KENTUCKY","Marshall County",30,"*","*","N/A",45,2.6132791095279894E-2,0.14728682170542637]
[46,null,9,"Boyd, KY - Greenup, KY","KY: Martin County (21159)","KY: Martin County (21159)","21159","  Martin  ",{"$f":"ROWS($L$2:L1069)","v":1068},{"$f":"IF(L1069=WORKSHEET!$B$1,I1069,\"\")","v":""},"","KENTUCKY","Martin County",22,"*","*","N/A",33,2.6132791095279894E-2,8.24561403508772E-2]
[116,null,9,"Mason, KY - Fleming, KY","KY: Mason County (21161)","KY: Mason County (21161)","21161","  Mason  ",{"$f":"ROWS($L$2:L1070)","v":1069},{"$f":"IF(L1070=WORKSHEET!$B$1,I1070,\"\")","v":""},"","KENTUCKY","Mason County",26,{"$f":"+R1070-N1070-P1070","v":4},14,"N/A",44,2.6132791095279894E-2,0.18181818181818182]
[855,12,9,"McCracken, KY - Graves, KY","KY: McCracken County (21145)","KY: McCracken County (21145)","21145","  Mc Cracken  ",{"$f":"ROWS($L$2:L1071)","v":1070},{"$f":"IF(L1071=WORKSHEET!$B$1,I1071,\"\")","v":""},"","KENTUCKY","McCracken County",74,16,32,"*",123,2.6132791095279894E-2,0.14728682170542637]
[37,null,9,"Pulaski, KY - Wayne, KY","KY: McCreary County (21147)","KY: McCreary County (21147)","21147","  Mc Creary  ",{"$f":"ROWS($L$2:L1072)","v":1071},{"$f":"IF(L1072=WORKSHEET!$B$1,I1072,\"\")","v":""},"","KENTUCKY","McCreary County",13,"*","*","N/A",22,2.6132791095279894E-2,8.5106382978723402E-2]
[913,316,9,"Daviess (Owensboro), KY - Ohio, KY","KY: McLean County (21149)","KY: McLean County (21149)","21149","  Mc Lean  ",{"$f":"ROWS($L$2:L1073)","v":1072},{"$f":"IF(L1073=WORKSHEET!$B$1,I1073,\"\")","v":""},"","KENTUCKY","McLean County","*","*","*","N/A",11,2.6132791095279894E-2,0.2013888888888889]
[89,null,9,"Hardin, KY - Meade, KY","KY: Meade County (21163)","KY: Meade County (21163)","21163","  Meade  ",{"$f":"ROWS($L$2:L1074)","v":1073},{"$f":"IF(L1074=WORKSHEET!$B$1,I1074,\"\")","v":""},"","KENTUCKY","Meade County",21,"*","*","*",33,2.6132791095279894E-2,0.16988416988416988]
[67,null,9,"Rowan, KY - Morgan, KY","KY: Menifee County (21165)","KY: Menifee County (21165)","21165","  Menifee  ",{"$f":"ROWS($L$2:L1075)","v":1074},{"$f":"IF(L1075=WORKSHEET!$B$1,I1075,\"\")","v":""},"","KENTUCKY","Menifee County","*","*","*","N/A","*",2.6132791095279894E-2,0.27083333333333331]
[27,null,9,"Boyle, KY - Lincoln, KY","KY: Mercer County (21167)","KY: Mercer County (21167)","21167","  Mercer  ",{"$f":"ROWS($L$2:L1076)","v":1075},{"$f":"IF(L1076=WORKSHEET!$B$1,I1076,\"\")","v":""},"","KENTUCKY","Mercer County",26,{"$f":"+R1076-N1076-P1076","v":3},13,"N/A",42,2.6132791095279894E-2,0.10810810810810811]
[53,null,9,"Barren, KY - Hart, KY","KY: Metcalfe County (21169)","KY: Metcalfe County (21169)","21169","  Metcalfe  ",{"$f":"ROWS($L$2:L1077)","v":1076},{"$f":"IF(L1077=WORKSHEET!$B$1,I1077,\"\")","v":""},"","KENTUCKY","Metcalfe County",13,"*","*","N/A",17,2.6132791095279894E-2,6.8627450980392163E-2]
[53,null,9,"Barren, KY - Hart, KY","KY: Monroe County (21171)","KY: Monroe County (21171)","21171","  Monroe  ",{"$f":"ROWS($L$2:L1078)","v":1077},{"$f":"IF(L1078=WORKSHEET!$B$1,I1078,\"\")","v":""},"","KENTUCKY","Monroe County","*","N/A","*","N/A",14,2.6132791095279894E-2,6.8627450980392163E-2]
[131,null,9,"Montgomery, KY - Bath, KY","KY: Montgomery County (21173)","KY: Montgomery County (21173)","21173","  Montgomery  ",{"$f":"ROWS($L$2:L1079)","v":1078},{"$f":"IF(L1079=WORKSHEET!$B$1,I1079,\"\")","v":""},"","KENTUCKY","Montgomery County",37,"*","*","N/A",54,2.6132791095279894E-2,0.17857142857142858]
[67,null,9,"Rowan, KY - Morgan, KY","KY: Morgan County (21175)","KY: Morgan County (21175)","21175","  Morgan  ",{"$f":"ROWS($L$2:L1080)","v":1079},{"$f":"IF(L1080=WORKSHEET!$B$1,I1080,\"\")","v":""},"","KENTUCKY","Morgan County","*","*","*","N/A",16,2.6132791095279894E-2,0.27083333333333331]
[45,null,9,"Christian (Hopkinsville), KY - Hopkins, KY","KY: Muhlenberg County (21177)","KY: Muhlenberg County (21177)","21177","  Muhlenberg  ",{"$f":"ROWS($L$2:L1081)","v":1080},{"$f":"IF(L1081=WORKSHEET!$B$1,I1081,\"\")","v":""},"","KENTUCKY","Muhlenberg County",44,{"$f":"+R1081-N1081-P1081","v":3},14,"N/A",61,2.6132791095279894E-2,9.7701149425287362E-2]
[272,null,9,"Jefferson (Louisville), KY - Bullitt, KY","KY: Nelson County (21179)","KY: Nelson County (21179)","21179","  Nelson  ",{"$f":"ROWS($L$2:L1082)","v":1081},{"$f":"IF(L1082=WORKSHEET!$B$1,I1082,\"\")","v":""},"","KENTUCKY","Nelson County",48,{"$f":"+R1082-N1082-P1082","v":7},20,"N/A",75,2.6132791095279894E-2,5.7832678270634472E-2]
[102,null,9,"Bourbon (Paris), KY - Nicholas, KY","KY: Nicholas County (21181)","KY: Nicholas County (21181)","21181","  Nicholas  ",{"$f":"ROWS($L$2:L1083)","v":1082},{"$f":"IF(L1083=WORKSHEET!$B$1,I1083,\"\")","v":""},"","KENTUCKY","Nicholas County","*","*","*","N/A",15,2.6132791095279894E-2,6.25E-2]
[913,316,9,"Daviess (Owensboro), KY - Ohio, KY","KY: Ohio County (21183)","KY: Ohio County (21183)","21183","  Ohio  ",{"$f":"ROWS($L$2:L1084)","v":1083},{"$f":"IF(L1084=WORKSHEET!$B$1,I1084,\"\")","v":""},"","KENTUCKY","Ohio County",14,"*","*","*",32,2.6132791095279894E-2,0.2013888888888889]
[272,null,9,"Jefferson (Louisville), KY - Bullitt, KY","KY: Oldham County (21185)","KY: Oldham County (21185)","21185","  Oldham  ",{"$f":"ROWS($L$2:L1085)","v":1084},{"$f":"IF(L1085=WORKSHEET!$B$1,I1085,\"\")","v":""},"","KENTUCKY","Oldham County",49,{"$f":"+R1085-N1085-P1085","v":3},20,"N/A",72,2.6132791095279894E-2,5.7832678270634472E-2]
[114,null,9,"Franklin, KY - Anderson, KY","KY: Owen County (21187)","KY: Owen County (21187)","21187","  Owen  ",{"$f":"ROWS($L$2:L1086)","v":1085},{"$f":"IF(L1086=WORKSHEET!$B$1,I1086,\"\")","v":""},"","KENTUCKY","Owen County","*","*","*","N/A",17,2.6132791095279894E-2,0.11650485436893204]
[18,null,9,"Fayette (Lexington-Fayette), KY - Jessamine, KY","KY: Owsley County (21189)","KY: Owsley County (21189)","21189","  Owsley  ",{"$f":"ROWS($L$2:L1087)","v":1086},{"$f":"IF(L1087=WORKSHEET!$B$1,I1087,\"\")","v":""},"","KENTUCKY","Owsley County","*","*","*","N/A","*",2.6132791095279894E-2,0.13811420982735723]
[2,null,9,"Kenton (Covington), KY - Campbell, KY","KY: Pendleton County (21191)","KY: Pendleton County (21191)","21191","  Pendleton  ",{"$f":"ROWS($L$2:L1088)","v":1087},{"$f":"IF(L1088=WORKSHEET!$B$1,I1088,\"\")","v":""},"","KENTUCKY","Pendleton County","*","*","*","N/A",19,2.6132791095279894E-2,0.19047619047619047]
[18,null,9,"Fayette (Lexington-Fayette), KY - Jessamine, KY","KY: Perry County (21193)","KY: Perry County (21193)","21193","  Perry  ",{"$f":"ROWS($L$2:L1089)","v":1088},{"$f":"IF(L1089=WORKSHEET!$B$1,I1089,\"\")","v":""},"","KENTUCKY","Perry County",54,{"$f":"+R1089-N1089-P1089","v":9},16,"N/A",79,2.6132791095279894E-2,0.13811420982735723]
[13,null,9,"Pike, KY","KY: Pike County (21195)","KY: Pike County (21195)","21195","  Pike  ",{"$f":"ROWS($L$2:L1090)","v":1089},{"$f":"IF(L1090=WORKSHEET!$B$1,I1090,\"\")","v":""},"","KENTUCKY","Pike County",85,12,41,"*",139,2.6132791095279894E-2,0.14358974358974358]
[18,null,9,"Fayette (Lexington-Fayette), KY - Jessamine, KY","KY: Powell County (21197)","KY: Powell County (21197)","21197","  Powell  ",{"$f":"ROWS($L$2:L1091)","v":1090},{"$f":"IF(L1091=WORKSHEET!$B$1,I1091,\"\")","v":""},{"$f":"IFERROR(SMALL($J$2:$J$3142,I1091),\"\")","v":""},"KENTUCKY","Powell County",14,"*","*","N/A",20,2.6132791095279894E-2,0.13811420982735723]
[37,null,9,"Pulaski, KY - Wayne, KY","KY: Pulaski County (21199)","KY: Pulaski County (21199)","21199","  Pulaski  ",{"$f":"ROWS($L$2:L1092)","v":1091},{"$f":"IF(L1092=WORKSHEET!$B$1,I1092,\"\")","v":""},"","KENTUCKY","Pulaski County",97,{"$f":"+R1092-N1092-P1092","v":12},14,"*",123,2.6132791095279894E-2,8.5106382978723402E-2]
[119,null,9,"Harrison, KY - Robertson, KY","KY: Robertson County (21201)","KY: Robertson County (21201)","21201","  Robertson  ",{"$f":"ROWS($L$2:L1093)","v":1092},{"$f":"IF(L1093=WORKSHEET!$B$1,I1093,\"\")","v":""},"","KENTUCKY","Robertson County","*","N/A","N/A","N/A","*",2.6132791095279894E-2,7.1428571428571425E-2]
[62,null,9,"Madison, KY - Rockcastle, KY","KY: Rockcastle County (21203)","KY: Rockcastle County (21203)","21203","  Rockcastle  ",{"$f":"ROWS($L$2:L1094)","v":1093},{"$f":"IF(L1094=WORKSHEET!$B$1,I1094,\"\")","v":""},"","KENTUCKY","Rockcastle County",24,{"$f":"+R1094-N1094-P1094","v":4},14,"N/A",42,2.6132791095279894E-2,0.13714285714285715]
[67,null,9,"Rowan, KY - Morgan, KY","KY: Rowan County (21205)","KY: Rowan County (21205)","21205","  Rowan  ",{"$f":"ROWS($L$2:L1095)","v":1094},{"$f":"IF(L1095=WORKSHEET!$B$1,I1095,\"\")","v":""},"","KENTUCKY","Rowan County",15,"*","*","*",33,2.6132791095279894E-2,0.27083333333333331]
[82,null,9,"Taylor, KY - Adair, KY","KY: Russell County (21207)","KY: Russell County (21207)","21207","  Russell  ",{"$f":"ROWS($L$2:L1096)","v":1095},{"$f":"IF(L1096=WORKSHEET!$B$1,I1096,\"\")","v":""},"","KENTUCKY","Russell County","*","*",11,"N/A",24,2.6132791095279894E-2,0.17045454545454544]
[18,null,9,"Fayette (Lexington-Fayette), KY - Jessamine, KY","KY: Scott County (21209)","KY: Scott County (21209)","21209","  Scott  ",{"$f":"ROWS($L$2:L1097)","v":1096},{"$f":"IF(L1097=WORKSHEET!$B$1,I1097,\"\")","v":""},"","KENTUCKY","Scott County",54,{"$f":"+R1097-N1097-P1097","v":7},25,"*",86,2.6132791095279894E-2,0.13811420982735723]
[272,null,9,"Jefferson (Louisville), KY - Bullitt, KY","KY: Shelby County (21211)","KY: Shelby County (21211)","21211","  Shelby  ",{"$f":"ROWS($L$2:L1098)","v":1097},{"$f":"IF(L1098=WORKSHEET!$B$1,I1098,\"\")","v":""},"","KENTUCKY","Shelby County",57,{"$f":"+R1098-N1098-P1098","v":0},14,"N/A",71,2.6132791095279894E-2,5.7832678270634472E-2]
[29,null,9,"Warren, KY - Logan, KY","KY: Simpson County (21213)","KY: Simpson County (21213)","21213","  Simpson  ",{"$f":"ROWS($L$2:L1099)","v":1098},{"$f":"IF(L1099=WORKSHEET!$B$1,I1099,\"\")","v":""},"","KENTUCKY","Simpson County",22,{"$f":"+R1099-N1099-P1099","v":3},13,"N/A",38,2.6132791095279894E-2,0.12857142857142856]
[272,null,9,"Jefferson (Louisville), KY - Bullitt, KY","KY: Spencer County (21215)","KY: Spencer County (21215)","21215","  Spencer  ",{"$f":"ROWS($L$2:L1100)","v":1099},{"$f":"IF(L1100=WORKSHEET!$B$1,I1100,\"\")","v":""},"","KENTUCKY","Spencer County","*","*","*","N/A","*",2.6132791095279894E-2,5.7832678270634472E-2]
[82,null,9,"Taylor, KY - Adair, KY","KY: Taylor County (21217)","KY: Taylor County (21217)","21217","  Taylor  ",{"$f":"ROWS($L$2:L1101)","v":1100},{"$f":"IF(L1101=WORKSHEET!$B$1,I1101,\"\")","v":""},"","KENTUCKY","Taylor County",38,{"$f":"+R1101-N1101-P1101","v":5},17,"N/A",60,2.6132791095279894E-2,0.17045454545454544]
[45,null,9,"Christian (Hopkinsville), KY - Hopkins, KY","KY: Todd County (21219)","KY: Todd County (21219)","21219","  Todd  ",{"$f":"ROWS($L$2:L1102)","v":1101},{"$f":"IF(L1102=WORKSHEET!$B$1,I1102,\"\")","v":""},"","KENTUCKY","Todd County",15,"*","*","N/A",21,2.6132791095279894E-2,9.7701149425287362E-2]
[45,null,9,"Christian (Hopkinsville), KY - Hopkins, KY","KY: Trigg County (21221)","KY: Trigg County (21221)","21221","  Trigg  ",{"$f":"ROWS($L$2:L1103)","v":1102},{"$f":"IF(L1103=WORKSHEET!$B$1,I1103,\"\")","v":""},"","KENTUCKY","Trigg County",22,"*","*","N/A",30,2.6132791095279894E-2,9.7701149425287362E-2]
[914,321,9,"Carroll, KY - Trimble, KY","KY: Trimble County (21223)","KY: Trimble County (21223)","21223","  Trimble  ",{"$f":"ROWS($L$2:L1104)","v":1103},{"$f":"IF(L1104=WORKSHEET!$B$1,I1104,\"\")","v":""},"","KENTUCKY","Trimble County","*","*","*","N/A",14,2.6132791095279894E-2,0.19209039548022599]
[40,null,9,"Henderson (Henderson), KY - Union, KY","KY: Union County (21225)","KY: Union County (21225)","21225","  Union  ",{"$f":"ROWS($L$2:L1105)","v":1104},{"$f":"IF(L1105=WORKSHEET!$B$1,I1105,\"\")","v":""},"","KENTUCKY","Union County",15,"*","*","N/A",21,2.6132791095279894E-2,0.10526315789473684]
[29,null,9,"Warren, KY - Logan, KY","KY: Warren County (21227)","KY: Warren County (21227)","21227","  Warren  ",{"$f":"ROWS($L$2:L1106)","v":1105},{"$f":"IF(L1106=WORKSHEET!$B$1,I1106,\"\")","v":""},"","KENTUCKY","Warren County",116,17,46,"*",183,2.6132791095279894E-2,0.12857142857142856]
[272,null,9,"Jefferson (Louisville), KY - Bullitt, KY","KY: Washington County (21229)","KY: Washington County (21229)","21229","  Washington  ",{"$f":"ROWS($L$2:L1107)","v":1106},{"$f":"IF(L1107=WORKSHEET!$B$1,I1107,\"\")","v":""},"","KENTUCKY","Washington County",16,"*","*","N/A",26,2.6132791095279894E-2,5.7832678270634472E-2]
[37,null,9,"Pulaski, KY - Wayne, KY","KY: Wayne County (21231)","KY: Wayne County (21231)","21231","  Wayne  ",{"$f":"ROWS($L$2:L1108)","v":1107},{"$f":"IF(L1108=WORKSHEET!$B$1,I1108,\"\")","v":""},"","KENTUCKY","Wayne County",19,"*","*","N/A",30,2.6132791095279894E-2,8.5106382978723402E-2]
[45,null,9,"Christian (Hopkinsville), KY - Hopkins, KY","KY: Webster County (21233)","KY: Webster County (21233)","21233","  Webster  ",{"$f":"ROWS($L$2:L1109)","v":1108},{"$f":"IF(L1109=WORKSHEET!$B$1,I1109,\"\")","v":""},"","KENTUCKY","Webster County",21,"*","*","N/A",26,2.6132791095279894E-2,9.7701149425287362E-2]
[51,null,9,"Laurel, KY - Whitley, KY","KY: Whitley County (21235)","KY: Whitley County (21235)","21235","  Whitley  ",{"$f":"ROWS($L$2:L1110)","v":1109},{"$f":"IF(L1110=WORKSHEET!$B$1,I1110,\"\")","v":""},"","KENTUCKY","Whitley County",61,{"$f":"+R1110-N1110-P1110","v":8},19,"*",88,2.6132791095279894E-2,0.12994350282485875]
[18,null,9,"Fayette (Lexington-Fayette), KY - Jessamine, KY","KY: Wolfe County (21237)","KY: Wolfe County (21237)","21237","  Wolfe  ",{"$f":"ROWS($L$2:L1111)","v":1110},{"$f":"IF(L1111=WORKSHEET!$B$1,I1111,\"\")","v":""},"","KENTUCKY","Wolfe County","*","*","*","*",14,2.6132791095279894E-2,0.13811420982735723]
[18,null,9,"Fayette (Lexington-Fayette), KY - Jessamine, KY","KY: Woodford County (21239)","KY: Woodford County (21239)","21239","  Woodford  ",{"$f":"ROWS($L$2:L1112)","v":1111},{"$f":"IF(L1112=WORKSHEET!$B$1,I1112,\"\")","v":""},"","KENTUCKY","Woodford County",30,{"$f":"+R1112-N1112-P1112","v":1},13,"N/A",44,2.6132791095279894E-2,0.13811420982735723]
[424,null,13,"Lafayette (Lafayette), LA - Iberia, LA","LA: Acadia Parish (22001)","LA: Acadia Parish (22001)","22001"," Acadia  ",{"$f":"ROWS($L$2:L1113)","v":1112},{"$f":"IF(L1113=WORKSHEET!$B$1,I1113,\"\")","v":""},"","LOUISIANA","Acadia Parish",98,{"$f":"+R1113-N1113-P1113","v":7},20,"*",125,3.0345406699707339E-2,5.6818181818181816E-2]
[450,null,13,"Rapides (Alexandria), LA - Avoyelles, LA","LA: Allen Parish (22003)","LA: Allen Parish (22003)","22003","  Allen  ",{"$f":"ROWS($L$2:L1114)","v":1113},{"$f":"IF(L1114=WORKSHEET!$B$1,I1114,\"\")","v":""},"","LOUISIANA","Allen Parish",44,{"$f":"+R1114-N1114-P1114","v":1},11,"N/A",56,3.0345406699707339E-2,4.7191011235955059E-2]
[419,null,13,"East Baton Rouge (Baton Rouge), LA - Livingston, LA","LA: Ascension Parish (22005)","LA: Ascension Parish (22005)","22005","  Ascension  ",{"$f":"ROWS($L$2:L1115)","v":1114},{"$f":"IF(L1115=WORKSHEET!$B$1,I1115,\"\")","v":""},"","LOUISIANA","Ascension Parish",146,24,71,"N/A",241,3.0345406699707339E-2,7.3493975903614464E-2]
[467,null,13,"Terrebonne (Houma), LA - Lafourche, LA","LA: Assumption Parish (22007)","LA: Assumption Parish (22007)","22007","  Assumption  ",{"$f":"ROWS($L$2:L1116)","v":1115},{"$f":"IF(L1116=WORKSHEET!$B$1,I1116,\"\")","v":""},"","LOUISIANA","Assumption Parish",43,{"$f":"+R1116-N1116-P1116","v":3},17,"N/A",63,3.0345406699707339E-2,0.12994350282485875]
[450,null,13,"Rapides (Alexandria), LA - Avoyelles, LA","LA: Avoyelles Parish (22009)","LA: Avoyelles Parish (22009)","22009","  Avoyelles  ",{"$f":"ROWS($L$2:L1117)","v":1116},{"$f":"IF(L1117=WORKSHEET!$B$1,I1117,\"\")","v":""},"","LOUISIANA","Avoyelles Parish",72,{"$f":"+R1117-N1117-P1117","v":4},21,"N/A",97,3.0345406699707339E-2,4.7191011235955059E-2]
[470,null,13,"Calcasieu (Lake Charles), LA - Vernon, LA","LA: Beauregard Parish (22011)","LA: Beauregard Parish (22011)","22011","  Beauregard  ",{"$f":"ROWS($L$2:L1118)","v":1117},{"$f":"IF(L1118=WORKSHEET!$B$1,I1118,\"\")","v":""},"","LOUISIANA","Beauregard Parish",58,{"$f":"+R1118-N1118-P1118","v":5},19,"N/A",82,3.0345406699707339E-2,0.12754158964879853]
[439,null,13,"Lincoln, LA - Union, LA","LA: Bienville Parish (22013)","LA: Bienville Parish (22013)","22013","  Bienville  ",{"$f":"ROWS($L$2:L1119)","v":1118},{"$f":"IF(L1119=WORKSHEET!$B$1,I1119,\"\")","v":""},"","LOUISIANA","Bienville Parish",37,{"$f":"+R1119-N1119-P1119","v":2},14,"N/A",53,3.0345406699707339E-2,7.6923076923076927E-2]
[416,null,13,"Caddo (Shreveport), LA - Bossier, LA","LA: Bossier Parish (22015)","LA: Bossier Parish (22015)","22015","  Bossier  ",{"$f":"ROWS($L$2:L1120)","v":1119},{"$f":"IF(L1120=WORKSHEET!$B$1,I1120,\"\")","v":""},"","LOUISIANA","Bossier Parish",195,13,60,"*",269,3.0345406699707339E-2,6.1016949152542375E-2]
[416,null,13,"Caddo (Shreveport), LA - Bossier, LA","LA: Caddo Parish (22017)","LA: Caddo Parish (22017)","22017","  Caddo  ",{"$f":"ROWS($L$2:L1121)","v":1120},{"$f":"IF(L1121=WORKSHEET!$B$1,I1121,\"\")","v":""},"","LOUISIANA","Caddo Parish",839,51,162,"*",1054,3.0345406699707339E-2,6.1016949152542375E-2]
[470,null,13,"Calcasieu (Lake Charles), LA - Vernon, LA","LA: Calcasieu Parish (22019)","LA: Calcasieu Parish (22019)","22019","  Calcasieu  ",{"$f":"ROWS($L$2:L1122)","v":1121},{"$f":"IF(L1122=WORKSHEET!$B$1,I1122,\"\")","v":""},"","LOUISIANA","Calcasieu Parish",301,46,82,"N/A",429,3.0345406699707339E-2,0.12754158964879853]
[443,null,13,"Ouachita (Monroe), LA - Morehouse, LA","LA: Caldwell Parish (22021)","LA: Caldwell Parish (22021)","22021","  Caldwell  ",{"$f":"ROWS($L$2:L1123)","v":1122},{"$f":"IF(L1123=WORKSHEET!$B$1,I1123,\"\")","v":""},"","LOUISIANA","Caldwell Parish",14,"*","*","N/A",18,3.0345406699707339E-2,6.3953488372093026E-2]
[470,null,13,"Calcasieu (Lake Charles), LA - Vernon, LA","LA: Cameron Parish (22023)","LA: Cameron Parish (22023)","22023","  Cameron  ",{"$f":"ROWS($L$2:L1124)","v":1123},{"$f":"IF(L1124=WORKSHEET!$B$1,I1124,\"\")","v":""},"","LOUISIANA","Cameron Parish","*","*","*","N/A","*",3.0345406699707339E-2,0.12754158964879853]
[450,null,13,"Rapides (Alexandria), LA - Avoyelles, LA","LA: Catahoula Parish (22025)","LA: Catahoula Parish (22025)","22025","  Catahoula  ",{"$f":"ROWS($L$2:L1125)","v":1124},{"$f":"IF(L1125=WORKSHEET!$B$1,I1125,\"\")","v":""},"","LOUISIANA","Catahoula Parish",15,"N/A","*","N/A",21,3.0345406699707339E-2,4.7191011235955059E-2]
[523,null,13,"Claiborne, LA","LA: Claiborne Parish (22027)","LA: Claiborne Parish (22027)","22027","  Claiborne  ",{"$f":"ROWS($L$2:L1126)","v":1125},{"$f":"IF(L1126=WORKSHEET!$B$1,I1126,\"\")","v":""},"","LOUISIANA","Claiborne Parish",56,"*","*","*",66,3.0345406699707339E-2,1.7543859649122806E-2]
[435,null,13,"Concordia, LA - Tensas, LA","LA: Concordia Parish (22029)","LA: Concordia Parish (22029)","22029","  Concordia  ",{"$f":"ROWS($L$2:L1127)","v":1126},{"$f":"IF(L1127=WORKSHEET!$B$1,I1127,\"\")","v":""},"","LOUISIANA","Concordia Parish",42,"*","*","N/A",55,3.0345406699707339E-2,8.8495575221238937E-2]
[416,null,13,"Caddo (Shreveport), LA - Bossier, LA","LA: De Soto Parish (22031)","LA: De Soto Parish (22031)","22031","  De Soto  ",{"$f":"ROWS($L$2:L1128)","v":1127},{"$f":"IF(L1128=WORKSHEET!$B$1,I1128,\"\")","v":""},"","LOUISIANA","De Soto Parish",81,{"$f":"+R1128-N1128-P1128","v":4},20,"N/A",105,3.0345406699707339E-2,6.1016949152542375E-2]
[419,null,13,"East Baton Rouge (Baton Rouge), LA - Livingston, LA","LA: East Baton Rouge Parish (22033)","LA: East Baton Rouge Parish (22033)","22033","  E. Baton Rouge  ",{"$f":"ROWS($L$2:L1129)","v":1128},{"$f":"IF(L1129=WORKSHEET!$B$1,I1129,\"\")","v":""},"","LOUISIANA","East Baton Rouge Parish",972,70,299,"*",1345,3.0345406699707339E-2,7.3493975903614464E-2]
[443,null,13,"Ouachita (Monroe), LA - Morehouse, LA","LA: East Carroll Parish (22035)","LA: East Carroll Parish (22035)","22035","  East Carroll  ",{"$f":"ROWS($L$2:L1130)","v":1129},{"$f":"IF(L1130=WORKSHEET!$B$1,I1130,\"\")","v":""},"","LOUISIANA","East Carroll Parish",43,"N/A","*","*",48,3.0345406699707339E-2,6.3953488372093026E-2]
[419,null,13,"East Baton Rouge (Baton Rouge), LA - Livingston, LA","LA: East Feliciana Parish (22037)","LA: East Feliciana Parish (22037)","22037","  East Feliciana  ",{"$f":"ROWS($L$2:L1131)","v":1130},{"$f":"IF(L1131=WORKSHEET!$B$1,I1131,\"\")","v":""},"","LOUISIANA","East Feliciana Parish",101,{"$f":"+R1131-N1131-P1131","v":7},16,"*",124,3.0345406699707339E-2,7.3493975903614464E-2]
[463,null,13,"St. Landry, LA - Evangeline, LA","LA: Evangeline Parish (22039)","LA: Evangeline Parish (22039)","22039","  Evangeline  ",{"$f":"ROWS($L$2:L1132)","v":1131},{"$f":"IF(L1132=WORKSHEET!$B$1,I1132,\"\")","v":""},"","LOUISIANA","Evangeline Parish",52,{"$f":"+R1132-N1132-P1132","v":2},27,"N/A",81,3.0345406699707339E-2,7.2649572649572655E-2]
[443,null,13,"Ouachita (Monroe), LA - Morehouse, LA","LA: Franklin Parish (22041)","LA: Franklin Parish (22041)","22041","  Franklin  ",{"$f":"ROWS($L$2:L1133)","v":1132},{"$f":"IF(L1133=WORKSHEET!$B$1,I1133,\"\")","v":""},"","LOUISIANA","Franklin Parish",38,"*","*","N/A",45,3.0345406699707339E-2,6.3953488372093026E-2]
[450,null,13,"Rapides (Alexandria), LA - Avoyelles, LA","LA: Grant Parish (22043)","LA: Grant Parish (22043)","22043","  Grant  ",{"$f":"ROWS($L$2:L1134)","v":1133},{"$f":"IF(L1134=WORKSHEET!$B$1,I1134,\"\")","v":""},"","LOUISIANA","Grant Parish",33,"*","*","N/A",42,3.0345406699707339E-2,4.7191011235955059E-2]
[424,null,13,"Lafayette (Lafayette), LA - Iberia, LA","LA: Iberia Parish (22045)","LA: Iberia Parish (22045)","22045","  Iberia  ",{"$f":"ROWS($L$2:L1135)","v":1134},{"$f":"IF(L1135=WORKSHEET!$B$1,I1135,\"\")","v":""},"","LOUISIANA","Iberia Parish",168,15,30,"N/A",213,3.0345406699707339E-2,5.6818181818181816E-2]
[419,null,13,"East Baton Rouge (Baton Rouge), LA - Livingston, LA","LA: Iberville Parish (22047)","LA: Iberville Parish (22047)","22047","  Iberville  ",{"$f":"ROWS($L$2:L1136)","v":1135},{"$f":"IF(L1136=WORKSHEET!$B$1,I1136,\"\")","v":""},"","LOUISIANA","Iberville Parish",87,{"$f":"+R1136-N1136-P1136","v":6},26,"N/A",119,3.0345406699707339E-2,7.3493975903614464E-2]
[439,null,13,"Lincoln, LA - Union, LA","LA: Jackson Parish (22049)","LA: Jackson Parish (22049)","22049","  Jackson  ",{"$f":"ROWS($L$2:L1137)","v":1136},{"$f":"IF(L1137=WORKSHEET!$B$1,I1137,\"\")","v":""},"","LOUISIANA","Jackson Parish",24,"N/A","*","N/A",32,3.0345406699707339E-2,7.6923076923076927E-2]
[470,null,13,"Calcasieu (Lake Charles), LA - Vernon, LA","LA: Jefferson Davis Parish (22053)","LA: Jefferson Davis Parish (22053)","22053","  Jefferson  ",{"$f":"ROWS($L$2:L1138)","v":1137},{"$f":"IF(L1138=WORKSHEET!$B$1,I1138,\"\")","v":""},"","LOUISIANA","Jefferson Davis Parish",773,69,313,"*",1158,3.0345406699707339E-2,0.12754158964879853]
[403,null,13,"Orleans (New Orleans), LA - Jefferson, LA","LA: Jefferson Parish (22051)","LA: Jefferson Parish (22051)","22051","  Jeffrson Davis  ",{"$f":"ROWS($L$2:L1139)","v":1138},{"$f":"IF(L1139=WORKSHEET!$B$1,I1139,\"\")","v":""},"","LOUISIANA","Jefferson Parish",57,{"$f":"+R1139-N1139-P1139","v":8},17,"N/A",82,3.0345406699707339E-2,9.0212765957446803E-2]
[450,null,13,"Rapides (Alexandria), LA - Avoyelles, LA","LA: La Salle Parish (22059)","LA: La Salle Parish (22059)","22059","  La Salle  ",{"$f":"ROWS($L$2:L1140)","v":1139},{"$f":"IF(L1140=WORKSHEET!$B$1,I1140,\"\")","v":""},"","LOUISIANA","La Salle Parish",14,"*","*","N/A",23,3.0345406699707339E-2,4.7191011235955059E-2]
[424,null,13,"Lafayette (Lafayette), LA - Iberia, LA","LA: Lafayette Parish (22055)","LA: Lafayette Parish (22055)","22055","  Lafayette  ",{"$f":"ROWS($L$2:L1141)","v":1140},{"$f":"IF(L1141=WORKSHEET!$B$1,I1141,\"\")","v":""},"","LOUISIANA","Lafayette Parish",317,15,119,"*",452,3.0345406699707339E-2,5.6818181818181816E-2]
[467,null,13,"Terrebonne (Houma), LA - Lafourche, LA","LA: Lafourche Parish (22057)","LA: Lafourche Parish (22057)","22057","  Lafourche  ",{"$f":"ROWS($L$2:L1142)","v":1141},{"$f":"IF(L1142=WORKSHEET!$B$1,I1142,\"\")","v":""},"","LOUISIANA","Lafourche Parish",112,22,53,"N/A",187,3.0345406699707339E-2,0.12994350282485875]
[439,null,13,"Lincoln, LA - Union, LA","LA: Lincoln Parish (22061)","LA: Lincoln Parish (22061)","22061","  Lincoln  ",{"$f":"ROWS($L$2:L1143)","v":1142},{"$f":"IF(L1143=WORKSHEET!$B$1,I1143,\"\")","v":""},"","LOUISIANA","Lincoln Parish",91,12,24,"*",128,3.0345406699707339E-2,7.6923076923076927E-2]
[419,null,13,"East Baton Rouge (Baton Rouge), LA - Livingston, LA","LA: Livingston Parish (22063)","LA: Livingston Parish (22063)","22063","  Livingston  ",{"$f":"ROWS($L$2:L1144)","v":1143},{"$f":"IF(L1144=WORKSHEET!$B$1,I1144,\"\")","v":""},"","LOUISIANA","Livingston Parish",103,{"$f":"+R1144-N1144-P1144","v":11},49,"*",163,3.0345406699707339E-2,7.3493975903614464E-2]
[431,null,13,"Madison, LA","LA: Madison Parish (22065)","LA: Madison Parish (22065)","22065","  Madison  ",{"$f":"ROWS($L$2:L1145)","v":1144},{"$f":"IF(L1145=WORKSHEET!$B$1,I1145,\"\")","v":""},"","LOUISIANA","Madison Parish",34,"*","*","*",37,3.0345406699707339E-2,0.10628019323671498]
[443,null,13,"Ouachita (Monroe), LA - Morehouse, LA","LA: Morehouse Parish (22067)","LA: Morehouse Parish (22067)","22067","  Morehouse  ",{"$f":"ROWS($L$2:L1146)","v":1145},{"$f":"IF(L1146=WORKSHEET!$B$1,I1146,\"\")","v":""},"","LOUISIANA","Morehouse Parish",107,{"$f":"+R1146-N1146-P1146","v":4},16,"N/A",127,3.0345406699707339E-2,6.3953488372093026E-2]
[416,null,13,"Caddo (Shreveport), LA - Bossier, LA","LA: Natchitoches Parish (22069)","LA: Natchitoches Parish (22069)","22069","  Natchitoches  ",{"$f":"ROWS($L$2:L1147)","v":1146},{"$f":"IF(L1147=WORKSHEET!$B$1,I1147,\"\")","v":""},"","LOUISIANA","Natchitoches Parish",88,{"$f":"+R1147-N1147-P1147","v":4},21,"N/A",113,3.0345406699707339E-2,6.1016949152542375E-2]
[403,null,13,"Orleans (New Orleans), LA - Jefferson, LA","LA: Orleans Parish (22071)","LA: Orleans Parish (22071)","22071","  Orleans  ",{"$f":"ROWS($L$2:L1148)","v":1147},{"$f":"IF(L1148=WORKSHEET!$B$1,I1148,\"\")","v":""},"","LOUISIANA","Orleans Parish",1030,106,246,"*",1383,3.0345406699707339E-2,9.0212765957446803E-2]
[443,null,13,"Ouachita (Monroe), LA - Morehouse, LA","LA: Ouachita Parish (22073)","LA: Ouachita Parish (22073)","22073","  Ouachita  ",{"$f":"ROWS($L$2:L1149)","v":1148},{"$f":"IF(L1149=WORKSHEET!$B$1,I1149,\"\")","v":""},"","LOUISIANA","Ouachita Parish",362,33,66,"*",462,3.0345406699707339E-2,6.3953488372093026E-2]
[403,null,13,"Orleans (New Orleans), LA - Jefferson, LA","LA: Plaquemines Parish (22075)","LA: Plaquemines Parish (22075)","22075","  Plaquemines  ",{"$f":"ROWS($L$2:L1150)","v":1149},{"$f":"IF(L1150=WORKSHEET!$B$1,I1150,\"\")","v":""},"","LOUISIANA","Plaquemines Parish",28,{"$f":"+R1150-N1150-P1150","v":6},16,"N/A",50,3.0345406699707339E-2,9.0212765957446803E-2]
[419,null,13,"East Baton Rouge (Baton Rouge), LA - Livingston, LA","LA: Pointe Coupee Parish (22077)","LA: Pointe Coupee Parish (22077)","22077","  Pointe Coupee  ",{"$f":"ROWS($L$2:L1151)","v":1150},{"$f":"IF(L1151=WORKSHEET!$B$1,I1151,\"\")","v":""},"","LOUISIANA","Pointe Coupee Parish",39,{"$f":"+R1151-N1151-P1151","v":4},13,"*",56,3.0345406699707339E-2,7.3493975903614464E-2]
[450,null,13,"Rapides (Alexandria), LA - Avoyelles, LA","LA: Rapides Parish (22079)","LA: Rapides Parish (22079)","22079","  Rapides  ",{"$f":"ROWS($L$2:L1152)","v":1151},{"$f":"IF(L1152=WORKSHEET!$B$1,I1152,\"\")","v":""},"","LOUISIANA","Rapides Parish",246,13,52,"*",312,3.0345406699707339E-2,4.7191011235955059E-2]
[416,null,13,"Caddo (Shreveport), LA - Bossier, LA","LA: Red River Parish (22081)","LA: Red River Parish (22081)","22081","  Red River  ",{"$f":"ROWS($L$2:L1153)","v":1152},{"$f":"IF(L1153=WORKSHEET!$B$1,I1153,\"\")","v":""},"","LOUISIANA","Red River Parish",26,"*","*","N/A",31,3.0345406699707339E-2,6.1016949152542375E-2]
[443,null,13,"Ouachita (Monroe), LA - Morehouse, LA","LA: Richland Parish (22083)","LA: Richland Parish (22083)","22083","  Richland  ",{"$f":"ROWS($L$2:L1154)","v":1153},{"$f":"IF(L1154=WORKSHEET!$B$1,I1154,\"\")","v":""},"","LOUISIANA","Richland Parish",58,"*","*","N/A",70,3.0345406699707339E-2,6.3953488372093026E-2]
[416,null,13,"Caddo (Shreveport), LA - Bossier, LA","LA: Sabine Parish (22085)","LA: Sabine Parish (22085)","22085","  Sabine  ",{"$f":"ROWS($L$2:L1155)","v":1154},{"$f":"IF(L1155=WORKSHEET!$B$1,I1155,\"\")","v":""},{"$f":"IFERROR(SMALL($J$2:$J$3142,I1155),\"\")","v":""},"LOUISIANA","Sabine Parish",42,{"$f":"+R1155-N1155-P1155","v":4},11,"N/A",57,3.0345406699707339E-2,6.1016949152542375E-2]
[403,null,13,"Orleans (New Orleans), LA - Jefferson, LA","LA: St. Bernard Parish (22087)","LA: St. Bernard Parish (22087)","22087","  St. Bernard  ",{"$f":"ROWS($L$2:L1156)","v":1155},{"$f":"IF(L1156=WORKSHEET!$B$1,I1156,\"\")","v":""},"","LOUISIANA","St. Bernard Parish",37,11,17,"N/A",65,3.0345406699707339E-2,9.0212765957446803E-2]
[403,null,13,"Orleans (New Orleans), LA - Jefferson, LA","LA: St. Charles Parish (22089)","LA: St. Charles Parish (22089)","22089","  St. Charles  ",{"$f":"ROWS($L$2:L1157)","v":1156},{"$f":"IF(L1157=WORKSHEET!$B$1,I1157,\"\")","v":""},"","LOUISIANA","St. Charles Parish",77,{"$f":"+R1157-N1157-P1157","v":7},36,"*",120,3.0345406699707339E-2,9.0212765957446803E-2]
[423,null,13,"Tangipahoa, LA - St. Helena, LA","LA: St. Helena Parish (22091)","LA: St. Helena Parish (22091)","22091","  St. Helena  ",{"$f":"ROWS($L$2:L1158)","v":1157},{"$f":"IF(L1158=WORKSHEET!$B$1,I1158,\"\")","v":""},"","LOUISIANA","St. Helena Parish",16,"*","*","N/A",24,3.0345406699707339E-2,7.6677316293929709E-2]
[403,null,13,"Orleans (New Orleans), LA - Jefferson, LA","LA: St. James Parish (22093)","LA: St. James Parish (22093)","22093","  St. James  ",{"$f":"ROWS($L$2:L1159)","v":1158},{"$f":"IF(L1159=WORKSHEET!$B$1,I1159,\"\")","v":""},"","LOUISIANA","St. James Parish",67,{"$f":"+R1159-N1159-P1159","v":4},20,"N/A",91,3.0345406699707339E-2,9.0212765957446803E-2]
[403,null,13,"Orleans (New Orleans), LA - Jefferson, LA","LA: St. John the Baptist Parish (22095)","LA: St. John the Baptist Parish (22095)","22095","  St. John Baptist  ",{"$f":"ROWS($L$2:L1160)","v":1159},{"$f":"IF(L1160=WORKSHEET!$B$1,I1160,\"\")","v":""},"","LOUISIANA","St. John the Baptish Parish",126,{"$f":"+R1160-N1160-P1160","v":10},35,"N/A",171,3.0345406699707339E-2,9.0212765957446803E-2]
[463,null,13,"St. Landry, LA - Evangeline, LA","LA: St. Landry Parish (22097)","LA: St. Landry Parish (22097)","22097","  St. Landry  ",{"$f":"ROWS($L$2:L1161)","v":1160},{"$f":"IF(L1161=WORKSHEET!$B$1,I1161,\"\")","v":""},"","LOUISIANA","St. Landry Parish",165,15,57,"*",238,3.0345406699707339E-2,7.2649572649572655E-2]
[424,null,13,"Lafayette (Lafayette), LA - Iberia, LA","LA: St. Martin Parish (22099)","LA: St. Martin Parish (22099)","22099","  St. Martin  ",{"$f":"ROWS($L$2:L1162)","v":1161},{"$f":"IF(L1162=WORKSHEET!$B$1,I1162,\"\")","v":""},"","LOUISIANA","St. Martin Parish",87,{"$f":"+R1162-N1162-P1162","v":3},26,"N/A",116,3.0345406699707339E-2,5.6818181818181816E-2]
[528,null,13,"St. Mary, LA","LA: St. Mary Parish (22101)","LA: St. Mary Parish (22101)","22101","  St. Mary  ",{"$f":"ROWS($L$2:L1163)","v":1162},{"$f":"IF(L1163=WORKSHEET!$B$1,I1163,\"\")","v":""},"","LOUISIANA","St. Mary Parish",84,14,31,"N/A",129,3.0345406699707339E-2,0.14285714285714285]
[500,null,13,"St. Tammany (Slidell), LA - Washington, LA","LA: St. Tammany Parish (22103)","LA: St. Tammany Parish (22103)","22103","  St. Tammany  ",{"$f":"ROWS($L$2:L1164)","v":1163},{"$f":"IF(L1164=WORKSHEET!$B$1,I1164,\"\")","v":""},"","LOUISIANA","St. Tammany Parish",308,31,142,"*",483,3.0345406699707339E-2,6.4347826086956522E-2]
[423,null,13,"Tangipahoa, LA - St. Helena, LA","LA: Tangipahoa Parish (22105)","LA: Tangipahoa Parish (22105)","22105","  Tangipahoa  ",{"$f":"ROWS($L$2:L1165)","v":1164},{"$f":"IF(L1165=WORKSHEET!$B$1,I1165,\"\")","v":""},"","LOUISIANA","Tangipahoa Parish",273,21,78,"*",374,3.0345406699707339E-2,7.6677316293929709E-2]
[435,null,13,"Concordia, LA - Tensas, LA","LA: Tensas Parish (22107)","LA: Tensas Parish (22107)","22107","  Tensas  ",{"$f":"ROWS($L$2:L1166)","v":1165},{"$f":"IF(L1166=WORKSHEET!$B$1,I1166,\"\")","v":""},"","LOUISIANA","Tensas Parish",20,"*","*","N/A",22,3.0345406699707339E-2,8.8495575221238937E-2]
[467,null,13,"Terrebonne (Houma), LA - Lafourche, LA","LA: Terrebonne Parish (22109)","LA: Terrebonne Parish (22109)","22109","  Terrebonne  ",{"$f":"ROWS($L$2:L1167)","v":1166},{"$f":"IF(L1167=WORKSHEET!$B$1,I1167,\"\")","v":""},"","LOUISIANA","Terrebonne Parish",153,21,77,"*",253,3.0345406699707339E-2,0.12994350282485875]
[439,null,13,"Lincoln, LA - Union, LA","LA: Union Parish (22111)","LA: Union Parish (22111)","22111","  Union  ",{"$f":"ROWS($L$2:L1168)","v":1167},{"$f":"IF(L1168=WORKSHEET!$B$1,I1168,\"\")","v":""},"","LOUISIANA","Union Parish",64,"*","*","N/A",77,3.0345406699707339E-2,7.6923076923076927E-2]
[424,null,13,"Lafayette (Lafayette), LA - Iberia, LA","LA: Vermilion Parish (22113)","LA: Vermilion Parish (22113)","22113","  Vermilion  ",{"$f":"ROWS($L$2:L1169)","v":1168},{"$f":"IF(L1169=WORKSHEET!$B$1,I1169,\"\")","v":""},"","LOUISIANA","Vermilion Parish",77,{"$f":"+R1169-N1169-P1169","v":7},25,"*",109,3.0345406699707339E-2,5.6818181818181816E-2]
[470,null,13,"Calcasieu (Lake Charles), LA - Vernon, LA","LA: Vernon Parish (22115)","LA: Vernon Parish (22115)","22115","  Vernon  ",{"$f":"ROWS($L$2:L1170)","v":1169},{"$f":"IF(L1170=WORKSHEET!$B$1,I1170,\"\")","v":""},"","LOUISIANA","Vernon Parish",53,{"$f":"+R1170-N1170-P1170","v":9},18,"N/A",80,3.0345406699707339E-2,0.12754158964879853]
[500,null,13,"St. Tammany (Slidell), LA - Washington, LA","LA: Washington Parish (22117)","LA: Washington Parish (22117)","22117","  W. Baton Rouge  ",{"$f":"ROWS($L$2:L1171)","v":1170},{"$f":"IF(L1171=WORKSHEET!$B$1,I1171,\"\")","v":""},"","LOUISIANA","Washington Parish",53,{"$f":"+R1171-N1171-P1171","v":3},17,"*",73,3.0345406699707339E-2,6.4347826086956522E-2]
[416,null,13,"Caddo (Shreveport), LA - Bossier, LA","LA: Webster Parish (22119)","LA: Webster Parish (22119)","22119","  Washington  ",{"$f":"ROWS($L$2:L1172)","v":1171},{"$f":"IF(L1172=WORKSHEET!$B$1,I1172,\"\")","v":""},"","LOUISIANA","Webster Parish",118,{"$f":"+R1172-N1172-P1172","v":3},35,"N/A",156,3.0345406699707339E-2,6.1016949152542375E-2]
[419,null,13,"East Baton Rouge (Baton Rouge), LA - Livingston, LA","LA: West Baton Rouge Parish (22121)","LA: West Baton Rouge Parish (22121)","22121","  Webster  ",{"$f":"ROWS($L$2:L1173)","v":1172},{"$f":"IF(L1173=WORKSHEET!$B$1,I1173,\"\")","v":""},"","LOUISIANA","West Baton Rouge Parish",114,12,21,"N/A",147,3.0345406699707339E-2,7.3493975903614464E-2]
[443,null,13,"Ouachita (Monroe), LA - Morehouse, LA","LA: West Carroll Parish (22123)","LA: West Carroll Parish (22123)","22123","  West Carroll  ",{"$f":"ROWS($L$2:L1174)","v":1173},{"$f":"IF(L1174=WORKSHEET!$B$1,I1174,\"\")","v":""},"","LOUISIANA","West Carroll Parish",22,"*","*","N/A",28,3.0345406699707339E-2,6.3953488372093026E-2]
[419,null,13,"East Baton Rouge (Baton Rouge), LA - Livingston, LA","LA: West Feliciana Parish (22125)","LA: West Feliciana Parish (22125)","22125","  West Feliciana  ",{"$f":"ROWS($L$2:L1175)","v":1174},{"$f":"IF(L1175=WORKSHEET!$B$1,I1175,\"\")","v":""},"","LOUISIANA","West Feliciana Parish",37,"*","*","N/A",43,3.0345406699707339E-2,7.3493975903614464E-2]
[530,null,13,"Winn, LA","LA: Winn Parish (22127)","LA: Winn Parish (22127)","22127","  Winn  ",{"$f":"ROWS($L$2:L1176)","v":1175},{"$f":"IF(L1176=WORKSHEET!$B$1,I1176,\"\")","v":""},"","LOUISIANA","Winn Parish",19,"*","*","N/A",34,3.0345406699707339E-2,0.20833333333333334]
[22,null,1,"Middlesex, MA - Suffolk (Boston), MA","MA: Barnstable County (25001)","MA: Barnstable County (25001)","25001","Barnstable  ",{"$f":"ROWS($L$2:L1177)","v":1176},{"$f":"IF(L1177=WORKSHEET!$B$1,I1177,\"\")","v":""},"","MASSACHUSETTS","Barnstable County",146,21,144,"*",313,2.1156934020173799E-2,8.6248982912937353E-2]
[112,null,1,"Berkshire (Pittsfield), MA","MA: Berkshire County (25003)","MA: Berkshire County (25003)","25003","  Berkshire  ",{"$f":"ROWS($L$2:L1178)","v":1177},{"$f":"IF(L1178=WORKSHEET!$B$1,I1178,\"\")","v":""},"","MASSACHUSETTS","Berkshire County",129,17,94,"*",241,2.1156934020173799E-2,0.11986301369863013]
[68,null,1,"Bristol (New Bedford), MA","MA: Bristol County (25005)","MA: Bristol County (25005)","25005","  Bristol  ",{"$f":"ROWS($L$2:L1179)","v":1178},{"$f":"IF(L1179=WORKSHEET!$B$1,I1179,\"\")","v":""},"","MASSACHUSETTS","Bristol County",557,45,356,"*",964,2.1156934020173799E-2,7.2485207100591711E-2]
[22,null,1,"Middlesex, MA - Suffolk (Boston), MA","MA: Dukes County (25007)","MA: Dukes County (25007)","25007","  Dukes  ",{"$f":"ROWS($L$2:L1180)","v":1179},{"$f":"IF(L1180=WORKSHEET!$B$1,I1180,\"\")","v":""},"","MASSACHUSETTS","Dukes County","*","N/A","*","N/A",14,2.1156934020173799E-2,8.6248982912937353E-2]
[74,null,1,"Essex (Lynn), MA","MA: Essex County (25009)","MA: Essex County (25009)","25009","  Essex  ",{"$f":"ROWS($L$2:L1181)","v":1180},{"$f":"IF(L1181=WORKSHEET!$B$1,I1181,\"\")","v":""},"","MASSACHUSETTS","Essex County",767,60,565,"*",1396,2.1156934020173799E-2,7.7526987242394499E-2]
[101,null,1,"Worcester (Worcester), MA - Franklin, MA","MA: Franklin County (25011)","MA: Franklin County (25011)","25011","  Franklin  ",{"$f":"ROWS($L$2:L1182)","v":1181},{"$f":"IF(L1182=WORKSHEET!$B$1,I1182,\"\")","v":""},"","MASSACHUSETTS","Franklin County",50,{"$f":"+R1182-N1182-P1182","v":4},48,"N/A",102,2.1156934020173799E-2,0.11773472429210134]
[32,null,1,"Hampden (Springfield), MA - Hampshire, MA","MA: Hampden County (25013)","MA: Hampden County (25013)","25013","  Hampden  ",{"$f":"ROWS($L$2:L1183)","v":1182},{"$f":"IF(L1183=WORKSHEET!$B$1,I1183,\"\")","v":""},"","MASSACHUSETTS","Hampden County",650,30,324,"*",1008,2.1156934020173799E-2,4.3984476067270378E-2]
[32,null,1,"Hampden (Springfield), MA - Hampshire, MA","MA: Hampshire County (25015)","MA: Hampshire County (25015)","25015","  Hampshire  ",{"$f":"ROWS($L$2:L1184)","v":1183},{"$f":"IF(L1184=WORKSHEET!$B$1,I1184,\"\")","v":""},"","MASSACHUSETTS","Hampshire County",89,{"$f":"+R1184-N1184-P1184","v":5},98,"*",192,2.1156934020173799E-2,4.3984476067270378E-2]
[22,null,1,"Middlesex, MA - Suffolk (Boston), MA","MA: Middlesex County (25017)","MA: Middlesex County (25017)","25017","  Middlesex  ",{"$f":"ROWS($L$2:L1185)","v":1184},{"$f":"IF(L1185=WORKSHEET!$B$1,I1185,\"\")","v":""},"","MASSACHUSETTS","Middlesex County",1172,118,993,"*",2289,2.1156934020173799E-2,8.6248982912937353E-2]
[22,null,1,"Middlesex, MA - Suffolk (Boston), MA","MA: Nantucket County (25019)","MA: Nantucket County (25019)","25019","  Nantucket  ",{"$f":"ROWS($L$2:L1186)","v":1185},{"$f":"IF(L1186=WORKSHEET!$B$1,I1186,\"\")","v":""},"","MASSACHUSETTS","Nantucket County","*","*","*","N/A","*",2.1156934020173799E-2,8.6248982912937353E-2]
[22,null,1,"Middlesex, MA - Suffolk (Boston), MA","MA: Norfolk County (25021)","MA: Norfolk County (25021)","25021","  Norfolk  ",{"$f":"ROWS($L$2:L1187)","v":1186},{"$f":"IF(L1187=WORKSHEET!$B$1,I1187,\"\")","v":""},"","MASSACHUSETTS","Norfolk County",526,43,429,"*",1003,2.1156934020173799E-2,8.6248982912937353E-2]
[22,null,1,"Middlesex, MA - Suffolk (Boston), MA","MA: Plymouth County (25023)","MA: Plymouth County (25023)","25023","  Plymouth  ",{"$f":"ROWS($L$2:L1188)","v":1187},{"$f":"IF(L1188=WORKSHEET!$B$1,I1188,\"\")","v":""},"","MASSACHUSETTS","Plymouth County",462,39,313,"N/A",814,2.1156934020173799E-2,8.6248982912937353E-2]
[22,null,1,"Middlesex, MA - Suffolk (Boston), MA","MA: Suffolk County (25025)","MA: Suffolk County (25025)","25025","  Suffolk  ",{"$f":"ROWS($L$2:L1189)","v":1188},{"$f":"IF(L1189=WORKSHEET!$B$1,I1189,\"\")","v":""},"","MASSACHUSETTS","Suffolk County",1051,96,591,"*",1747,2.1156934020173799E-2,8.6248982912937353E-2]
[101,null,1,"Worcester (Worcester), MA - Franklin, MA","MA: Worcester County (25027)","MA: Worcester County (25027)","25027","  Worcester  ",{"$f":"ROWS($L$2:L1190)","v":1189},{"$f":"IF(L1190=WORKSHEET!$B$1,I1190,\"\")","v":""},"","MASSACHUSETTS","Worcester County",542,75,573,"*",1191,2.1156934020173799E-2,0.11773472429210134]
[1,null,5,"Allegany (Cumberland), MD - Garrett, MD","MD: Allegany County (24001)","MD: Allegany County (24001)","24001","Allegany  ",{"$f":"ROWS($L$2:L1191)","v":1190},{"$f":"IF(L1191=WORKSHEET!$B$1,I1191,\"\")","v":""},"","MARYLAND","Allegany County",109,{"$f":"+R1191-N1191-P1191","v":9},40,"*",158,2.9657918208264081E-2,7.6555023923444973E-2]
[16,null,5,"Baltimore, MD - Baltimore City, MD","MD: Anne Arundel County (24003)","MD: Anne Arundel County (24003)","24003","  Anne Arundel  ",{"$f":"ROWS($L$2:L1192)","v":1191},{"$f":"IF(L1192=WORKSHEET!$B$1,I1192,\"\")","v":""},"","MARYLAND","Anne Arundel County",608,46,423,"*",1081,2.9657918208264081E-2,6.5690461663616029E-2]
[16,null,5,"Baltimore, MD - Baltimore City, MD","MD: Baltimore City (24510)","MD: Baltimore City (24510)","24510","  Baltimore  ",{"$f":"ROWS($L$2:L1193)","v":1192},{"$f":"IF(L1193=WORKSHEET!$B$1,I1193,\"\")","v":""},"","MARYLAND","Baltimore City",1328,114,696,"*",2143,2.9657918208264081E-2,6.5690461663616029E-2]
[16,null,5,"Baltimore, MD - Baltimore City, MD","MD: Baltimore County (24005)","MD: Baltimore County (24005)","24005","  Baltimore City  ",{"$f":"ROWS($L$2:L1194)","v":1193},{"$f":"IF(L1194=WORKSHEET!$B$1,I1194,\"\")","v":""},"","MARYLAND","Baltimore County",2234,108,703,11,3056,2.9657918208264081E-2,6.5690461663616029E-2]
[16,null,5,"Baltimore, MD - Baltimore City, MD","MD: Calvert County (24009)","MD: Calvert County (24009)","24009","  Calvert  ",{"$f":"ROWS($L$2:L1195)","v":1194},{"$f":"IF(L1195=WORKSHEET!$B$1,I1195,\"\")","v":""},"","MARYLAND","Calvert County",108,{"$f":"+R1195-N1195-P1195","v":6},72,"N/A",186,2.9657918208264081E-2,6.5690461663616029E-2]
[107,null,5,"Queen Annes, MD - Talbot, MD","MD: Caroline County (24011)","MD: Caroline County (24011)","24011","  Caroline  ",{"$f":"ROWS($L$2:L1196)","v":1195},{"$f":"IF(L1196=WORKSHEET!$B$1,I1196,\"\")","v":""},"","MARYLAND","Caroline County",32,12,25,"N/A",69,2.9657918208264081E-2,0.21973094170403587]
[16,null,5,"Baltimore, MD - Baltimore City, MD","MD: Carroll County (24013)","MD: Carroll County (24013)","24013","  Carroll  ",{"$f":"ROWS($L$2:L1197)","v":1196},{"$f":"IF(L1197=WORKSHEET!$B$1,I1197,\"\")","v":""},"","MARYLAND","Carroll County",91,15,113,"N/A",219,2.9657918208264081E-2,6.5690461663616029E-2]
[875,75,5,"Harford, MD - Cecil, MD","MD: Cecil County (24015)","MD: Cecil County (24015)","24015","  Cecil  ",{"$f":"ROWS($L$2:L1198)","v":1197},{"$f":"IF(L1198=WORKSHEET!$B$1,I1198,\"\")","v":""},"","MARYLAND","Cecil County",91,13,61,"N/A",165,2.9657918208264081E-2,0.11607142857142858]
[869,61,5,"Montgomery, MD - Prince Georges, MD","MD: Charles County (24017)","MD: Charles County (24017)","24017","  Charles  ",{"$f":"ROWS($L$2:L1199)","v":1198},{"$f":"IF(L1199=WORKSHEET!$B$1,I1199,\"\")","v":""},"","MARYLAND","Charles County",266,29,115,"*",412,2.9657918208264081E-2,6.4977973568281902E-2]
[107,null,5,"Queen Annes, MD - Talbot, MD","MD: Dorchester County (24019)","MD: Dorchester County (24019)","24019","  Dorchester  ",{"$f":"ROWS($L$2:L1200)","v":1199},{"$f":"IF(L1200=WORKSHEET!$B$1,I1200,\"\")","v":""},"","MARYLAND","Dorchester County",78,18,23,"N/A",119,2.9657918208264081E-2,0.21973094170403587]
[48,null,5,"Frederick, MD","MD: Frederick County (24021)","MD: Frederick County (24021)","24021","  Frederick  ",{"$f":"ROWS($L$2:L1201)","v":1200},{"$f":"IF(L1201=WORKSHEET!$B$1,I1201,\"\")","v":""},"","MARYLAND","Frederick County",189,31,144,"N/A",364,2.9657918208264081E-2,0.12387096774193548]
[1,null,5,"Allegany (Cumberland), MD - Garrett, MD","MD: Garrett County (24023)","MD: Garrett County (24023)","24023","  Garrett  ",{"$f":"ROWS($L$2:L1202)","v":1201},{"$f":"IF(L1202=WORKSHEET!$B$1,I1202,\"\")","v":""},"","MARYLAND","Garrett County",22,{"$f":"+R1202-N1202-P1202","v":4},16,"N/A",42,2.9657918208264081E-2,7.6555023923444973E-2]
[875,75,5,"Harford, MD - Cecil, MD","MD: Harford County (24025)","MD: Harford County (24025)","24025","  Harford  ",{"$f":"ROWS($L$2:L1203)","v":1202},{"$f":"IF(L1203=WORKSHEET!$B$1,I1203,\"\")","v":""},"","MARYLAND","Harford County",240,22,160,"*",423,2.9657918208264081E-2,0.11607142857142858]
[16,null,5,"Baltimore, MD - Baltimore City, MD","MD: Howard County (24027)","MD: Howard County (24027)","24027","  Howard  ",{"$f":"ROWS($L$2:L1204)","v":1203},{"$f":"IF(L1204=WORKSHEET!$B$1,I1204,\"\")","v":""},"","MARYLAND","Howard County",225,34,208,"*",468,2.9657918208264081E-2,6.5690461663616029E-2]
[124,null,5,"Kent, MD","MD: Kent County (24029)","MD: Kent County (24029)","24029","  Kent  ",{"$f":"ROWS($L$2:L1205)","v":1204},{"$f":"IF(L1205=WORKSHEET!$B$1,I1205,\"\")","v":""},"","MARYLAND","Kent County",33,{"$f":"+R1205-N1205-P1205","v":3},18,"N/A",54,2.9657918208264081E-2,8.3333333333333329E-2]
[869,61,5,"Montgomery, MD - Prince Georges, MD","MD: Montgomery County (24031)","MD: Montgomery County (24031)","24031","  Montgomery  ",{"$f":"ROWS($L$2:L1206)","v":1205},{"$f":"IF(L1206=WORKSHEET!$B$1,I1206,\"\")","v":""},"","MARYLAND","Montgomery County",880,104,656,"*",1643,2.9657918208264081E-2,6.4977973568281944E-2]
[869,61,5,"Montgomery, MD - Prince Georges, MD","MD: Prince Georges County (24033)","MD: Prince Georges County (24033)","24033","  Prince Georges  ",{"$f":"ROWS($L$2:L1207)","v":1206},{"$f":"IF(L1207=WORKSHEET!$B$1,I1207,\"\")","v":""},"","MARYLAND","Prince Georges County",2574,188,1020,"*",3791,2.9657918208264081E-2,6.4977973568281944E-2]
[107,null,5,"Queen Annes, MD - Talbot, MD","MD: Queen Annes County (24035)","MD: Queen Annes County (24035)","24035","  Queen Annes  ",{"$f":"ROWS($L$2:L1208)","v":1207},{"$f":"IF(L1208=WORKSHEET!$B$1,I1208,\"\")","v":""},"","MARYLAND","Queen Annes County",26,{"$f":"+R1208-N1208-P1208","v":9},30,"*",65,2.9657918208264081E-2,0.21973094170403587]
[852,3,5,"Wicomico, MD - Worcester, MD","MD: Somerset County (24039)","MD: Somerset County (24039)","24039","  Somerset  ",{"$f":"ROWS($L$2:L1209)","v":1208},{"$f":"IF(L1209=WORKSHEET!$B$1,I1209,\"\")","v":""},"","MARYLAND","Somerset County",54,{"$f":"+R1209-N1209-P1209","v":6},18,"N/A",78,2.9657918208264081E-2,0.11527904849039342]
[869,61,5,"Montgomery, MD - Prince Georges, MD","MD: St. Marys County (24037)","MD: St. Marys County (24037)","24037","  St. Marys  ",{"$f":"ROWS($L$2:L1210)","v":1209},{"$f":"IF(L1210=WORKSHEET!$B$1,I1210,\"\")","v":""},"","MARYLAND","St. Marys County",121,19,80,"N/A",220,2.9657918208264081E-2,6.4977973568281944E-2]
[107,null,5,"Queen Annes, MD - Talbot, MD","MD: Talbot County (24041)","MD: Talbot County (24041)","24041","  Talbot  ",{"$f":"ROWS($L$2:L1211)","v":1210},{"$f":"IF(L1211=WORKSHEET!$B$1,I1211,\"\")","v":""},"","MARYLAND","Talbot County",38,11,28,"*",79,2.9657918208264081E-2,0.21973094170403587]
[72,null,5,"Washington (Hagerstown), MD","MD: Washington County (24043)","MD: Washington County (24043)","24043","  Washington  ",{"$f":"ROWS($L$2:L1212)","v":1211},{"$f":"IF(L1212=WORKSHEET!$B$1,I1212,\"\")","v":""},"","MARYLAND","Washington County",160,25,104,"N/A",289,2.9657918208264081E-2,0.12365591397849462]
[852,3,5,"Wicomico, MD - Worcester, MD","MD: Wicomico County (24045)","MD: Wicomico County (24045)","24045","  Wicomico  ",{"$f":"ROWS($L$2:L1213)","v":1212},{"$f":"IF(L1213=WORKSHEET!$B$1,I1213,\"\")","v":""},"","MARYLAND","Wicomico County",183,18,78,"*",280,2.9657918208264081E-2,0.11527904849039342]
[852,3,5,"Wicomico, MD - Worcester, MD","MD: Worcester County (24047)","MD: Worcester County (24047)","24047","  Worcester  ",{"$f":"ROWS($L$2:L1214)","v":1213},{"$f":"IF(L1214=WORKSHEET!$B$1,I1214,\"\")","v":""},"","MARYLAND","Worcester County",79,17,51,"*",148,2.9657918208264081E-2,0.11527904849039342]
[95,null,1,"Androscoggin (Lewiston), ME - Oxford, ME","ME: Androscoggin County (23001)","ME: Androscoggin County (23001)","23001","Androscoggin  ",{"$f":"ROWS($L$2:L1215)","v":1214},{"$f":"IF(L1215=WORKSHEET!$B$1,I1215,\"\")","v":""},"","MAINE","Androscoggin County",89,{"$f":"+R1215-N1215-P1215","v":5},52,"N/A",146,2.1156934020173799E-2,8.0745341614906832E-2]
[136,null,1,"Aroostook, ME","ME: Aroostook County (23003)","ME: Aroostook County (23003)","23003","  Aroostook  ",{"$f":"ROWS($L$2:L1216)","v":1215},{"$f":"IF(L1216=WORKSHEET!$B$1,I1216,\"\")","v":""},"","MAINE","Aroostook County",60,{"$f":"+R1216-N1216-P1216","v":6},26,"N/A",92,2.1156934020173799E-2,9.0909090909090912E-2]
[9,null,1,"Cumberland (Portland), ME - Knox, ME","ME: Cumberland County (23005)","ME: Cumberland County (23005)","23005","  Cumberland  ",{"$f":"ROWS($L$2:L1217)","v":1216},{"$f":"IF(L1217=WORKSHEET!$B$1,I1217,\"\")","v":""},"","MAINE","Cumberland County",187,23,165,"*",378,2.1156934020173799E-2,9.1228070175438603E-2]
[95,null,1,"Androscoggin (Lewiston), ME - Oxford, ME","ME: Franklin County (23007)","ME: Franklin County (23007)","23007","  Franklin  ",{"$f":"ROWS($L$2:L1218)","v":1217},{"$f":"IF(L1218=WORKSHEET!$B$1,I1218,\"\")","v":""},"","MAINE","Franklin County",12,{"$f":"+R1218-N1218-P1218","v":2},16,"N/A",30,2.1156934020173799E-2,8.0745341614906832E-2]
[17,null,1,"Penobscot (Bangor), ME - Hancock, ME","ME: Hancock County (23009)","ME: Hancock County (23009)","23009","  Hancock  ",{"$f":"ROWS($L$2:L1219)","v":1218},{"$f":"IF(L1219=WORKSHEET!$B$1,I1219,\"\")","v":""},{"$f":"IFERROR(SMALL($J$2:$J$3142,I1219),\"\")","v":""},"MAINE","Hancock County",47,6,36,"*",89,2.1156934020173799E-2,8.3682008368200833E-2]
[38,null,1,"Kennebec, ME - Somerset, ME","ME: Kennebec County (23011)","ME: Kennebec County (23011)","23011","  Kennebec  ",{"$f":"ROWS($L$2:L1220)","v":1219},{"$f":"IF(L1220=WORKSHEET!$B$1,I1220,\"\")","v":""},"","MAINE","Kennebec County",121,5,62,"N/A",188,2.1156934020173799E-2,5.6872037914691899E-2]
[9,null,1,"Cumberland (Portland), ME - Knox, ME","ME: Knox County (23013)","ME: Knox County (23013)","23013","  Knox  ",{"$f":"ROWS($L$2:L1221)","v":1220},{"$f":"IF(L1221=WORKSHEET!$B$1,I1221,\"\")","v":""},"","MAINE","Knox County",23,1,29,"N/A",53,2.1156934020173799E-2,9.1228070175438603E-2]
[9,null,1,"Cumberland (Portland), ME - Knox, ME","ME: Lincoln County (23015)","ME: Lincoln County (23015)","23015","  Lincoln  ",{"$f":"ROWS($L$2:L1222)","v":1221},{"$f":"IF(L1222=WORKSHEET!$B$1,I1222,\"\")","v":""},"","MAINE","Lincoln County",20,1,22,"N/A",43,2.1156934020173799E-2,9.1228070175438603E-2]
[95,null,1,"Androscoggin (Lewiston), ME - Oxford, ME","ME: Oxford County (23017)","ME: Oxford County (23017)","23017","  Oxford  ",{"$f":"ROWS($L$2:L1223)","v":1222},{"$f":"IF(L1223=WORKSHEET!$B$1,I1223,\"\")","v":""},"","MAINE","Oxford County",47,6,36,"N/A",89,2.1156934020173799E-2,8.0745341614906832E-2]
[17,null,1,"Penobscot (Bangor), ME - Hancock, ME","ME: Penobscot County (23019)","ME: Penobscot County (23019)","23019","  Penobscot  ",{"$f":"ROWS($L$2:L1224)","v":1223},{"$f":"IF(L1224=WORKSHEET!$B$1,I1224,\"\")","v":""},"","MAINE","Penobscot County",133,10,95,"N/A",238,2.1156934020173799E-2,8.3682008368200833E-2]
[17,null,1,"Penobscot (Bangor), ME - Hancock, ME","ME: Piscataquis County (23021)","ME: Piscataquis County (23021)","23021","  Piscataquis  ",{"$f":"ROWS($L$2:L1225)","v":1224},{"$f":"IF(L1225=WORKSHEET!$B$1,I1225,\"\")","v":""},"","MAINE","Piscataquis County",11,"*","*","N/A",23,2.1156934020173799E-2,8.3682008368200833E-2]
[9,null,1,"Cumberland (Portland), ME - Knox, ME","ME: Sagadahoc County (23023)","ME: Sagadahoc County (23023)","23023","  Sagadahoc  ",{"$f":"ROWS($L$2:L1226)","v":1225},{"$f":"IF(L1226=WORKSHEET!$B$1,I1226,\"\")","v":""},"","MAINE","Sagadahoc County",29,{"$f":"+R1226-N1226-P1226","v":2},25,"*",56,2.1156934020173799E-2,9.1228070175438603E-2]
[38,null,1,"Kennebec, ME - Somerset, ME","ME: Somerset County (23025)","ME: Somerset County (23025)","23025","  Somerset  ",{"$f":"ROWS($L$2:L1227)","v":1226},{"$f":"IF(L1227=WORKSHEET!$B$1,I1227,\"\")","v":""},"","MAINE","Somerset County",47,{"$f":"+R1227-N1227-P1227","v":5},30,"*",82,2.1156934020173799E-2,5.6872037914691941E-2]
[38,null,1,"Kennebec, ME - Somerset, ME","ME: Waldo County (23027)","ME: Waldo County (23027)","23027","  Waldo  ",{"$f":"ROWS($L$2:L1228)","v":1227},{"$f":"IF(L1228=WORKSHEET!$B$1,I1228,\"\")","v":""},"","MAINE","Waldo County",31,{"$f":"+R1228-N1228-P1228","v":3},19,"N/A",53,2.1156934020173799E-2,5.6872037914691941E-2]
[17,null,1,"Penobscot (Bangor), ME - Hancock, ME","ME: Washington County (23029)","ME: Washington County (23029)","23029","  Washington  ",{"$f":"ROWS($L$2:L1229)","v":1228},{"$f":"IF(L1229=WORKSHEET!$B$1,I1229,\"\")","v":""},"","MAINE","Washington County",28,"*","*","N/A",38,2.1156934020173799E-2,8.3682008368200833E-2]
[98,null,1,"York, ME","ME: York County (23031)","ME: York County (23031)","23031","  York  ",{"$f":"ROWS($L$2:L1230)","v":1229},{"$f":"IF(L1230=WORKSHEET!$B$1,I1230,\"\")","v":""},"","MAINE","York County",123,22,125,"*",271,2.1156934020173799E-2,0.12941176470588237]
[371,null,11,"Alpena, MI - Presque Isle, MI","MI: Alcona County (26001)","MI: Alcona County (26001)","26001","Alcona  ",{"$f":"ROWS($L$2:L1231)","v":1230},{"$f":"IF(L1231=WORKSHEET!$B$1,I1231,\"\")","v":""},"","MICHIGAN","Alcona County",13,"*","*","N/A",21,1.8426754284955972E-2,8.9743589743589744E-2]
[293,null,11,"Marquette, MI - Delta, MI","MI: Alger County (26003)","MI: Alger County (26003)","26003","  Alger  ",{"$f":"ROWS($L$2:L1232)","v":1231},{"$f":"IF(L1232=WORKSHEET!$B$1,I1232,\"\")","v":""},"","MICHIGAN","Alger County","*","N/A","*","N/A",11,1.8426754284955972E-2,2.1505376344086023E-2]
[320,null,11,"Ottawa (Holland), MI - Allegan, MI","MI: Allegan County (26005)","MI: Allegan County (26005)","26005","  Allegan  ",{"$f":"ROWS($L$2:L1233)","v":1232},{"$f":"IF(L1233=WORKSHEET!$B$1,I1233,\"\")","v":""},"","MICHIGAN","Allegan County",82,{"$f":"+R1233-N1233-P1233","v":9},58,"N/A",149,1.8426754284955972E-2,0.10596026490066225]
[371,null,11,"Alpena, MI - Presque Isle, MI","MI: Alpena County (26007)","MI: Alpena County (26007)","26007","  Alpena  ",{"$f":"ROWS($L$2:L1234)","v":1233},{"$f":"IF(L1234=WORKSHEET!$B$1,I1234,\"\")","v":""},"","MICHIGAN","Alpena County",30,{"$f":"+R1234-N1234-P1234","v":3},26,"N/A",59,1.8426754284955972E-2,8.9743589743589744E-2]
[271,null,11,"Grand Traverse, MI - Manistee, MI","MI: Antrim County (26009)","MI: Antrim County (26009)","26009","  Antrim  ",{"$f":"ROWS($L$2:L1235)","v":1234},{"$f":"IF(L1235=WORKSHEET!$B$1,I1235,\"\")","v":""},"","MICHIGAN","Antrim County",24,{"$f":"+R1235-N1235-P1235","v":4},11,"N/A",39,1.8426754284955972E-2,0.11413043478260869]
[342,null,11,"Bay (Bay City), MI - Iosco, MI","MI: Arenac County (26011)","MI: Arenac County (26011)","26011","  Arenac  ",{"$f":"ROWS($L$2:L1236)","v":1235},{"$f":"IF(L1236=WORKSHEET!$B$1,I1236,\"\")","v":""},"","MICHIGAN","Arenac County",15,{"$f":"+R1236-N1236-P1236","v":2},15,"N/A",32,1.8426754284955972E-2,0.11538461538461539]
[359,null,11,"Houghton, MI - Baraga, MI","MI: Baraga County (26013)","MI: Baraga County (26013)","26013","  Baraga  ",{"$f":"ROWS($L$2:L1237)","v":1236},{"$f":"IF(L1237=WORKSHEET!$B$1,I1237,\"\")","v":""},"","MICHIGAN","Baraga County","*","N/A",12,"N/A",19,1.8426754284955972E-2,2.6315789473684209E-2]
[381,null,11,"Calhoun (Battle Creek), MI - Barry, MI","MI: Barry County (26015)","MI: Barry County (26015)","26015","  Barry  ",{"$f":"ROWS($L$2:L1238)","v":1237},{"$f":"IF(L1238=WORKSHEET!$B$1,I1238,\"\")","v":""},"","MICHIGAN","Barry County",37,{"$f":"+R1238-N1238-P1238","v":3},28,"N/A",68,1.8426754284955972E-2,5.7239057239057242E-2]
[342,null,11,"Bay (Bay City), MI - Iosco, MI","MI: Bay County (26017)","MI: Bay County (26017)","26017","  Bay  ",{"$f":"ROWS($L$2:L1239)","v":1238},{"$f":"IF(L1239=WORKSHEET!$B$1,I1239,\"\")","v":""},"","MICHIGAN","Bay County",125,{"$f":"+R1239-N1239-P1239","v":11},79,"*",215,1.8426754284955972E-2,0.11538461538461539]
[271,null,11,"Grand Traverse, MI - Manistee, MI","MI: Benzie County (26019)","MI: Benzie County (26019)","26019","  Benzie  ",{"$f":"ROWS($L$2:L1240)","v":1239},{"$f":"IF(L1240=WORKSHEET!$B$1,I1240,\"\")","v":""},"","MICHIGAN","Benzie County",11,"*","*","N/A",20,1.8426754284955972E-2,0.11413043478260869]
[327,null,11,"Berrien (Benton Harbor), MI - Van Buren, MI","MI: Berrien County (26021)","MI: Berrien County (26021)","26021","  Berrien  ",{"$f":"ROWS($L$2:L1241)","v":1240},{"$f":"IF(L1241=WORKSHEET!$B$1,I1241,\"\")","v":""},"","MICHIGAN","Berrien County",231,29,115,"*",377,1.8426754284955972E-2,0.10918114143920596]
[375,null,11,"Jackson (Jackson), MI - Lenawee, MI","MI: Branch County (26023)","MI: Branch County (26023)","26023","  Branch  ",{"$f":"ROWS($L$2:L1242)","v":1241},{"$f":"IF(L1242=WORKSHEET!$B$1,I1242,\"\")","v":""},"","MICHIGAN","Branch County",42,{"$f":"+R1242-N1242-P1242","v":4},22,"N/A",68,1.8426754284955972E-2,9.2760180995475117E-2]
[381,null,11,"Calhoun (Battle Creek), MI - Barry, MI","MI: Calhoun County (26025)","MI: Calhoun County (26025)","26025","  Calhoun  ",{"$f":"ROWS($L$2:L1243)","v":1242},{"$f":"IF(L1243=WORKSHEET!$B$1,I1243,\"\")","v":""},"","MICHIGAN","Calhoun County",243,14,103,"*",361,1.8426754284955972E-2,5.7239057239057242E-2]
[327,null,11,"Berrien (Benton Harbor), MI - Van Buren, MI","MI: Cass County (26027)","MI: Cass County (26027)","26027","  Cass  ",{"$f":"ROWS($L$2:L1244)","v":1243},{"$f":"IF(L1244=WORKSHEET!$B$1,I1244,\"\")","v":""},"","MICHIGAN","Cass County",31,{"$f":"+R1244-N1244-P1244","v":9},27,"N/A",67,1.8426754284955972E-2,0.10918114143920596]
[294,null,11,"Chippewa, MI - Emmet, MI","MI: Charlevoix County (26029)","MI: Charlevoix County (26029)","26029","  Charlevoix  ",{"$f":"ROWS($L$2:L1245)","v":1244},{"$f":"IF(L1245=WORKSHEET!$B$1,I1245,\"\")","v":""},"","MICHIGAN","Charlevoix County",20,1,20,"N/A",41,1.8426754284955972E-2,6.4000000000000001E-2]
[294,null,11,"Chippewa, MI - Emmet, MI","MI: Cheboygan County (26031)","MI: Cheboygan County (26031)","26031","  Cheboygan  ",{"$f":"ROWS($L$2:L1246)","v":1245},{"$f":"IF(L1246=WORKSHEET!$B$1,I1246,\"\")","v":""},"","MICHIGAN","Cheboygan County",18,2,14,"N/A",34,1.8426754284955972E-2,6.4000000000000001E-2]
[294,null,11,"Chippewa, MI - Emmet, MI","MI: Chippewa County (26033)","MI: Chippewa County (26033)","26033","  Chippewa  ",{"$f":"ROWS($L$2:L1247)","v":1246},{"$f":"IF(L1247=WORKSHEET!$B$1,I1247,\"\")","v":""},"","MICHIGAN","Chippewa County",39,1,18,"N/A",58,1.8426754284955972E-2,6.4000000000000001E-2]
[330,null,11,"Midland (Midland), MI - Isabella, MI","MI: Clare County (26035)","MI: Clare County (26035)","26035","  Clare  ",{"$f":"ROWS($L$2:L1248)","v":1247},{"$f":"IF(L1248=WORKSHEET!$B$1,I1248,\"\")","v":""},"","MICHIGAN","Clare County",30,1,22,"N/A",53,1.8426754284955972E-2,5.1162790697674418E-2]
[285,null,11,"Ingham (Lansing), MI - Eaton, MI","MI: Clinton County (26037)","MI: Clinton County (26037)","26037","  Clinton  ",{"$f":"ROWS($L$2:L1249)","v":1248},{"$f":"IF(L1249=WORKSHEET!$B$1,I1249,\"\")","v":""},"","MICHIGAN","Clinton County",43,6,43,"*",92,1.8426754284955972E-2,0.11343283582089553]
[392,null,11,"Roscommon, MI - Otsego, MI","MI: Crawford County (26039)","MI: Crawford County (26039)","26039","  Crawford  ",{"$f":"ROWS($L$2:L1250)","v":1249},{"$f":"IF(L1250=WORKSHEET!$B$1,I1250,\"\")","v":""},"","MICHIGAN","Crawford County",12,2,11,"N/A",25,1.8426754284955972E-2,0.1111111111111111]
[293,null,11,"Marquette, MI - Delta, MI","MI: Delta County (26041)","MI: Delta County (26041)","26041","  Delta  ",{"$f":"ROWS($L$2:L1251)","v":1250},{"$f":"IF(L1251=WORKSHEET!$B$1,I1251,\"\")","v":""},"","MICHIGAN","Delta County",37,0,29,"N/A",66,1.8426754284955972E-2,2.1505376344086023E-2]
[315,null,11,"Dickinson, MI - Menominee, MI","MI: Dickinson County (26043)","MI: Dickinson County (26043)","26043","  Dickinson  ",{"$f":"ROWS($L$2:L1252)","v":1251},{"$f":"IF(L1252=WORKSHEET!$B$1,I1252,\"\")","v":""},"","MICHIGAN","Dickinson County",23,1,18,"N/A",42,1.8426754284955972E-2,0.13461538461538461]
[285,null,11,"Ingham (Lansing), MI - Eaton, MI","MI: Eaton County (26045)","MI: Eaton County (26045)","26045","  Eaton  ",{"$f":"ROWS($L$2:L1253)","v":1252},{"$f":"IF(L1253=WORKSHEET!$B$1,I1253,\"\")","v":""},"","MICHIGAN","Eaton County",96,13,66,"*",176,1.8426754284955972E-2,0.11343283582089553]
[294,null,11,"Chippewa, MI - Emmet, MI","MI: Emmet County (26047)","MI: Emmet County (26047)","26047","  Emmet  ",{"$f":"ROWS($L$2:L1254)","v":1253},{"$f":"IF(L1254=WORKSHEET!$B$1,I1254,\"\")","v":""},"","MICHIGAN","Emmet County",31,{"$f":"+R1254-N1254-P1254","v":2},23,"N/A",56,1.8426754284955972E-2,6.4000000000000001E-2]
[328,null,11,"Genesee (Flint), MI - Lapeer, MI","MI: Genesee County (26049)","MI: Genesee County (26049)","26049","  Genesee  ",{"$f":"ROWS($L$2:L1255)","v":1254},{"$f":"IF(L1255=WORKSHEET!$B$1,I1255,\"\")","v":""},"","MICHIGAN","Genesee County",806,134,316,"*",1257,1.8426754284955972E-2,0.13806327900287632]
[330,null,11,"Midland (Midland), MI - Isabella, MI","MI: Gladwin County (26051)","MI: Gladwin County (26051)","26051","  Gladwin  ",{"$f":"ROWS($L$2:L1256)","v":1255},{"$f":"IF(L1256=WORKSHEET!$B$1,I1256,\"\")","v":""},"","MICHIGAN","Gladwin County",40,{"$f":"+R1256-N1256-P1256","v":5},18,"N/A",63,1.8426754284955972E-2,5.1162790697674418E-2]
[284,null,11,"Gogebic, MI - Ontonagon, MI","MI: Gogebic County (26053)","MI: Gogebic County (26053)","26053","  Gogebic  ",{"$f":"ROWS($L$2:L1257)","v":1256},{"$f":"IF(L1257=WORKSHEET!$B$1,I1257,\"\")","v":""},"","MICHIGAN","Gogebic County",12,3,14,"N/A",29,1.8426754284955972E-2,0.1276595744680851]
[271,null,11,"Grand Traverse, MI - Manistee, MI","MI: Grand Traverse County (26055)","MI: Grand Traverse County (26055)","26055","  Grand Traverse  ",{"$f":"ROWS($L$2:L1258)","v":1257},{"$f":"IF(L1258=WORKSHEET!$B$1,I1258,\"\")","v":""},"","MICHIGAN","Grand Traverse County",72,10,76,"N/A",158,1.8426754284955972E-2,0.11413043478260869]
[309,null,11,"Kent (Grand Rapids), MI - Ionia, MI","MI: Gratiot County (26057)","MI: Gratiot County (26057)","26057","  Gratiot  ",{"$f":"ROWS($L$2:L1259)","v":1258},{"$f":"IF(L1259=WORKSHEET!$B$1,I1259,\"\")","v":""},"","MICHIGAN","Gratiot County",49,6,34,"*",89,1.8426754284955972E-2,8.2207207207207214E-2]
[375,null,11,"Jackson (Jackson), MI - Lenawee, MI","MI: Hillsdale County (26059)","MI: Hillsdale County (26059)","26059","  Hillsdale  ",{"$f":"ROWS($L$2:L1260)","v":1259},{"$f":"IF(L1260=WORKSHEET!$B$1,I1260,\"\")","v":""},"","MICHIGAN","Hillsdale County",61,7,23,"N/A",91,1.8426754284955972E-2,9.2760180995475117E-2]
[359,null,11,"Houghton, MI - Baraga, MI","MI: Houghton County (26061)","MI: Houghton County (26061)","26061","  Houghton  ",{"$f":"ROWS($L$2:L1261)","v":1260},{"$f":"IF(L1261=WORKSHEET!$B$1,I1261,\"\")","v":""},"","MICHIGAN","Houghton County",29,0,16,"N/A",45,1.8426754284955972E-2,2.6315789473684209E-2]
[322,null,11,"Saginaw (Saginaw), MI - Tuscola, MI","MI: Huron County (26063)","MI: Huron County (26063)","26063","  Huron  ",{"$f":"ROWS($L$2:L1262)","v":1261},{"$f":"IF(L1262=WORKSHEET!$B$1,I1262,\"\")","v":""},"","MICHIGAN","Huron County",31,7,30,"N/A",68,1.8426754284955972E-2,0.12167300380228137]
[285,null,11,"Ingham (Lansing), MI - Eaton, MI","MI: Ingham County (26065)","MI: Ingham County (26065)","26065","  Ingham  ",{"$f":"ROWS($L$2:L1263)","v":1262},{"$f":"IF(L1263=WORKSHEET!$B$1,I1263,\"\")","v":""},"","MICHIGAN","Ingham County",385,36,192,"*",615,1.8426754284955972E-2,0.11343283582089553]
[309,null,11,"Kent (Grand Rapids), MI - Ionia, MI","MI: Ionia County (26067)","MI: Ionia County (26067)","26067","  Ionia  ",{"$f":"ROWS($L$2:L1264)","v":1263},{"$f":"IF(L1264=WORKSHEET!$B$1,I1264,\"\")","v":""},"","MICHIGAN","Ionia County",67,{"$f":"+R1264-N1264-P1264","v":8},39,"N/A",114,1.8426754284955972E-2,8.2207207207207214E-2]
[342,null,11,"Bay (Bay City), MI - Iosco, MI","MI: Iosco County (26069)","MI: Iosco County (26069)","26069","  Iosco  ",{"$f":"ROWS($L$2:L1265)","v":1264},{"$f":"IF(L1265=WORKSHEET!$B$1,I1265,\"\")","v":""},"","MICHIGAN","Iosco County",29,{"$f":"+R1265-N1265-P1265","v":10},24,"N/A",63,1.8426754284955972E-2,0.11538461538461539]
[315,null,11,"Dickinson, MI - Menominee, MI","MI: Iron County (26071)","MI: Iron County (26071)","26071","  Iron  ",{"$f":"ROWS($L$2:L1266)","v":1265},{"$f":"IF(L1266=WORKSHEET!$B$1,I1266,\"\")","v":""},"","MICHIGAN","Iron County","*","*","*","N/A",21,1.8426754284955972E-2,0.13461538461538461]
[330,null,11,"Midland (Midland), MI - Isabella, MI","MI: Isabella County (26073)","MI: Isabella County (26073)","26073","  Isabella  ",{"$f":"ROWS($L$2:L1267)","v":1266},{"$f":"IF(L1267=WORKSHEET!$B$1,I1267,\"\")","v":""},"","MICHIGAN","Isabella County",47,{"$f":"+R1267-N1267-P1267","v":1},41,"N/A",89,1.8426754284955972E-2,5.1162790697674418E-2]
[375,null,11,"Jackson (Jackson), MI - Lenawee, MI","MI: Jackson County (26075)","MI: Jackson County (26075)","26075","  Jackson  ",{"$f":"ROWS($L$2:L1268)","v":1267},{"$f":"IF(L1268=WORKSHEET!$B$1,I1268,\"\")","v":""},"","MICHIGAN","Jackson County",181,17,92,"N/A",290,1.8426754284955972E-2,9.2760180995475117E-2]
[348,null,11,"Kalamazoo (Kalamazoo), MI - St. Joseph, MI","MI: Kalamazoo County (26077)","MI: Kalamazoo County (26077)","26077","  Kalamazoo  ",{"$f":"ROWS($L$2:L1269)","v":1268},{"$f":"IF(L1269=WORKSHEET!$B$1,I1269,\"\")","v":""},"","MICHIGAN","Kalamazoo County",290,20,157,"*",470,1.8426754284955972E-2,6.6666666666666666E-2]
[271,null,11,"Grand Traverse, MI - Manistee, MI","MI: Kalkaska County (26079)","MI: Kalkaska County (26079)","26079","  Kalkaska  ",{"$f":"ROWS($L$2:L1270)","v":1269},{"$f":"IF(L1270=WORKSHEET!$B$1,I1270,\"\")","v":""},"","MICHIGAN","Kalkaska County",22,"*","*","N/A",29,1.8426754284955972E-2,0.11413043478260869]
[309,null,11,"Kent (Grand Rapids), MI - Ionia, MI","MI: Kent County (26081)","MI: Kent County (26081)","26081","  Kent  ",{"$f":"ROWS($L$2:L1271)","v":1270},{"$f":"IF(L1271=WORKSHEET!$B$1,I1271,\"\")","v":""},"","MICHIGAN","Kent County",602,49,458,"*",1110,1.8426754284955972E-2,8.2207207207207214E-2]
[359,null,11,"Houghton, MI - Baraga, MI","MI: Keweenaw County (26083)","MI: Keweenaw County (26083)","26083","  Keweenaw  ",{"$f":"ROWS($L$2:L1272)","v":1271},{"$f":"IF(L1272=WORKSHEET!$B$1,I1272,\"\")","v":""},"","MICHIGAN","Keweenaw County","*","*","*","N/A","*",1.8426754284955972E-2,2.6315789473684209E-2]
[317,null,11,"Wexford, MI - Osceola, MI","MI: Lake County (26085)","MI: Lake County (26085)","26085","  Lake  ",{"$f":"ROWS($L$2:L1273)","v":1272},{"$f":"IF(L1273=WORKSHEET!$B$1,I1273,\"\")","v":""},"","MICHIGAN","Lake County",15,"*","*","N/A",27,1.8426754284955972E-2,0.13924050632911392]
[328,null,11,"Genesee (Flint), MI - Lapeer, MI","MI: Lapeer County (26087)","MI: Lapeer County (26087)","26087","  Lapeer  ",{"$f":"ROWS($L$2:L1274)","v":1273},{"$f":"IF(L1274=WORKSHEET!$B$1,I1274,\"\")","v":""},"","MICHIGAN","Lapeer County",93,{"$f":"+R1274-N1274-P1274","v":10},54,"N/A",157,1.8426754284955972E-2,0.13806327900287632]
[271,null,11,"Grand Traverse, MI - Manistee, MI","MI: Leelanau County (26089)","MI: Leelanau County (26089)","26089","  Leelanau  ",{"$f":"ROWS($L$2:L1275)","v":1274},{"$f":"IF(L1275=WORKSHEET!$B$1,I1275,\"\")","v":""},"","MICHIGAN","Leelanau County","*","*","*","N/A",20,1.8426754284955972E-2,0.11413043478260869]
[375,null,11,"Jackson (Jackson), MI - Lenawee, MI","MI: Lenawee County (26091)","MI: Lenawee County (26091)","26091","  Lenawee  ",{"$f":"ROWS($L$2:L1276)","v":1275},{"$f":"IF(L1276=WORKSHEET!$B$1,I1276,\"\")","v":""},"","MICHIGAN","Lenawee County",117,13,70,"*",201,1.8426754284955972E-2,9.2760180995475117E-2]
[831,274,11,"Washtenaw, MI - Livingston, MI","MI: Livingston County (26093)","MI: Livingston County (26093)","26093","  Livingston  ",{"$f":"ROWS($L$2:L1277)","v":1276},{"$f":"IF(L1277=WORKSHEET!$B$1,I1277,\"\")","v":""},"","MICHIGAN","Livingston County",104,14,105,"*",224,1.8426754284955972E-2,9.2702903946388679E-2]
[293,null,11,"Marquette, MI - Delta, MI","MI: Luce County (26095)","MI: Luce County (26095)","26095","  Luce  ",{"$f":"ROWS($L$2:L1278)","v":1277},{"$f":"IF(L1278=WORKSHEET!$B$1,I1278,\"\")","v":""},"","MICHIGAN","Luce County","*","N/A","*","N/A","*",1.8426754284955972E-2,2.1505376344086023E-2]
[294,null,11,"Chippewa, MI - Emmet, MI","MI: Mackinac County (26097)","MI: Mackinac County (26097)","26097","  Mackinac  ",{"$f":"ROWS($L$2:L1279)","v":1278},{"$f":"IF(L1279=WORKSHEET!$B$1,I1279,\"\")","v":""},"","MICHIGAN","Mackinac County","*","*","*","N/A",14,1.8426754284955972E-2,6.4000000000000001E-2]
[274,null,11,"Wayne (Detroit), MI - Oakland, MI","MI: Macomb County (26099)","MI: Macomb County (26099)","26099","  Macomb  ",{"$f":"ROWS($L$2:L1280)","v":1279},{"$f":"IF(L1280=WORKSHEET!$B$1,I1280,\"\")","v":""},"","MICHIGAN","Macomb County",1029,157,652,"*",1840,1.8426754284955972E-2,9.2702903946388679E-2]
[271,null,11,"Grand Traverse, MI - Manistee, MI","MI: Manistee County (26101)","MI: Manistee County (26101)","26101","  Manistee  ",{"$f":"ROWS($L$2:L1281)","v":1280},{"$f":"IF(L1281=WORKSHEET!$B$1,I1281,\"\")","v":""},"","MICHIGAN","Manistee County",24,{"$f":"+R1281-N1281-P1281","v":3},19,"N/A",46,1.8426754284955972E-2,0.11413043478260869]
[293,null,11,"Marquette, MI - Delta, MI","MI: Marquette County (26103)","MI: Marquette County (26103)","26103","  Marquette  ",{"$f":"ROWS($L$2:L1282)","v":1281},{"$f":"IF(L1282=WORKSHEET!$B$1,I1282,\"\")","v":""},"","MICHIGAN","Marquette County",37,2,56,"N/A",95,1.8426754284955972E-2,2.1505376344086023E-2]
[296,null,11,"Muskegon (Muskegon), MI - Newaygo, MI","MI: Mason County (26105)","MI: Mason County (26105)","26105","  Mason  ",{"$f":"ROWS($L$2:L1283)","v":1282},{"$f":"IF(L1283=WORKSHEET!$B$1,I1283,\"\")","v":""},{"$f":"IFERROR(SMALL($J$2:$J$3142,I1283),\"\")","v":""},"MICHIGAN","Mason County",32,2,22,"N/A",56,1.8426754284955972E-2,7.746478873239436E-2]
[309,null,11,"Kent (Grand Rapids), MI - Ionia, MI","MI: Mecosta County (26107)","MI: Mecosta County (26107)","26107","  Mecosta  ",{"$f":"ROWS($L$2:L1284)","v":1283},{"$f":"IF(L1284=WORKSHEET!$B$1,I1284,\"\")","v":""},"","MICHIGAN","Mecosta County",41,3,23,"N/A",67,1.8426754284955972E-2,8.2207207207207214E-2]
[315,null,11,"Dickinson, MI - Menominee, MI","MI: Menominee County (26109)","MI: Menominee County (26109)","26109","  Menominee  ",{"$f":"ROWS($L$2:L1285)","v":1284},{"$f":"IF(L1285=WORKSHEET!$B$1,I1285,\"\")","v":""},"","MICHIGAN","Menominee County",15,2,15,"N/A",32,1.8426754284955972E-2,0.13461538461538461]
[330,null,11,"Midland (Midland), MI - Isabella, MI","MI: Midland County (26111)","MI: Midland County (26111)","26111","  Midland  ",{"$f":"ROWS($L$2:L1286)","v":1285},{"$f":"IF(L1286=WORKSHEET!$B$1,I1286,\"\")","v":""},"","MICHIGAN","Midland County",87,4,42,"N/A",133,1.8426754284955972E-2,5.1162790697674418E-2]
[317,null,11,"Wexford, MI - Osceola, MI","MI: Missaukee County (26113)","MI: Missaukee County (26113)","26113","  Missaukee  ",{"$f":"ROWS($L$2:L1287)","v":1286},{"$f":"IF(L1287=WORKSHEET!$B$1,I1287,\"\")","v":""},"","MICHIGAN","Missaukee County","*","*","*","N/A","*",1.8426754284955972E-2,0.13924050632911392]
[276,null,11,"Monroe, MI","MI: Monroe County (26115)","MI: Monroe County (26115)","26115","  Monroe  ",{"$f":"ROWS($L$2:L1288)","v":1287},{"$f":"IF(L1288=WORKSHEET!$B$1,I1288,\"\")","v":""},"","MICHIGAN","Monroe County",156,17,90,"N/A",263,1.8426754284955972E-2,7.922912205567452E-2]
[309,null,11,"Kent (Grand Rapids), MI - Ionia, MI","MI: Montcalm County (26117)","MI: Montcalm County (26117)","26117","  Montcalm  ",{"$f":"ROWS($L$2:L1289)","v":1288},{"$f":"IF(L1289=WORKSHEET!$B$1,I1289,\"\")","v":""},"","MICHIGAN","Montcalm County",56,{"$f":"+R1289-N1289-P1289","v":10},33,"*",99,1.8426754284955972E-2,8.2207207207207214E-2]
[371,null,11,"Alpena, MI - Presque Isle, MI","MI: Montmorency County (26119)","MI: Montmorency County (26119)","26119","  Montmorency  ",{"$f":"ROWS($L$2:L1290)","v":1289},{"$f":"IF(L1290=WORKSHEET!$B$1,I1290,\"\")","v":""},"","MICHIGAN","Montmorency County","*","*","*","N/A",19,1.8426754284955972E-2,8.9743589743589744E-2]
[296,null,11,"Muskegon (Muskegon), MI - Newaygo, MI","MI: Muskegon County (26121)","MI: Muskegon County (26121)","26121","  Muskegon  ",{"$f":"ROWS($L$2:L1291)","v":1290},{"$f":"IF(L1291=WORKSHEET!$B$1,I1291,\"\")","v":""},"","MICHIGAN","Muskegon County",294,24,135,"N/A",453,1.8426754284955972E-2,7.746478873239436E-2]
[296,null,11,"Muskegon (Muskegon), MI - Newaygo, MI","MI: Newaygo County (26123)","MI: Newaygo County (26123)","26123","  Newaygo  ",{"$f":"ROWS($L$2:L1292)","v":1291},{"$f":"IF(L1292=WORKSHEET!$B$1,I1292,\"\")","v":""},"","MICHIGAN","Newaygo County",45,{"$f":"+R1292-N1292-P1292","v":5},34,"*",84,1.8426754284955972E-2,7.746478873239436E-2]
[274,null,11,"Wayne (Detroit), MI - Oakland, MI","MI: Oakland County (26125)","MI: Oakland County (26125)","26125","  Oakland  ",{"$f":"ROWS($L$2:L1293)","v":1292},{"$f":"IF(L1293=WORKSHEET!$B$1,I1293,\"\")","v":""},"","MICHIGAN","Oakland County",1487,210,976,"*",2680,1.8426754284955972E-2,9.2702903946388679E-2]
[296,null,11,"Muskegon (Muskegon), MI - Newaygo, MI","MI: Oceana County (26127)","MI: Oceana County (26127)","26127","  Oceana  ",{"$f":"ROWS($L$2:L1294)","v":1293},{"$f":"IF(L1294=WORKSHEET!$B$1,I1294,\"\")","v":""},"","MICHIGAN","Oceana County",22,{"$f":"+R1294-N1294-P1294","v":4},23,"N/A",49,1.8426754284955972E-2,7.746478873239436E-2]
[342,null,11,"Bay (Bay City), MI - Iosco, MI","MI: Ogemaw County (26129)","MI: Ogemaw County (26129)","26129","  Ogemaw  ",{"$f":"ROWS($L$2:L1295)","v":1294},{"$f":"IF(L1295=WORKSHEET!$B$1,I1295,\"\")","v":""},"","MICHIGAN","Ogemaw County",31,{"$f":"+R1295-N1295-P1295","v":4},14,"N/A",49,1.8426754284955972E-2,0.11538461538461539]
[284,null,11,"Gogebic, MI - Ontonagon, MI","MI: Ontonagon County (26131)","MI: Ontonagon County (26131)","26131","  Ontonagon  ",{"$f":"ROWS($L$2:L1296)","v":1295},{"$f":"IF(L1296=WORKSHEET!$B$1,I1296,\"\")","v":""},"","MICHIGAN","Ontonagon County","*","*","*","N/A",11,1.8426754284955972E-2,0.1276595744680851]
[317,null,11,"Wexford, MI - Osceola, MI","MI: Osceola County (26133)","MI: Osceola County (26133)","26133","  Osceola  ",{"$f":"ROWS($L$2:L1297)","v":1296},{"$f":"IF(L1297=WORKSHEET!$B$1,I1297,\"\")","v":""},"","MICHIGAN","Osceola County",22,{"$f":"+R1297-N1297-P1297","v":2},16,"N/A",40,1.8426754284955972E-2,0.13924050632911392]
[342,null,11,"Bay (Bay City), MI - Iosco, MI","MI: Oscoda County (26135)","MI: Oscoda County (26135)","26135","  Oscoda  ",{"$f":"ROWS($L$2:L1298)","v":1297},{"$f":"IF(L1298=WORKSHEET!$B$1,I1298,\"\")","v":""},"","MICHIGAN","Oscoda County","*","*","*","N/A",11,1.8426754284955972E-2,0.11538461538461539]
[392,null,11,"Roscommon, MI - Otsego, MI","MI: Otsego County (26137)","MI: Otsego County (26137)","26137","  Otsego  ",{"$f":"ROWS($L$2:L1299)","v":1298},{"$f":"IF(L1299=WORKSHEET!$B$1,I1299,\"\")","v":""},"","MICHIGAN","Otsego County",18,{"$f":"+R1299-N1299-P1299","v":2},15,"N/A",35,1.8426754284955972E-2,0.1111111111111111]
[320,null,11,"Ottawa (Holland), MI - Allegan, MI","MI: Ottawa County (26139)","MI: Ottawa County (26139)","26139","  Ottawa  ",{"$f":"ROWS($L$2:L1300)","v":1299},{"$f":"IF(L1300=WORKSHEET!$B$1,I1300,\"\")","v":""},"","MICHIGAN","Ottawa County",188,23,158,"*",371,1.8426754284955972E-2,0.10596026490066225]
[371,null,11,"Alpena, MI - Presque Isle, MI","MI: Presque Isle County (26141)","MI: Presque Isle County (26141)","26141","  Presque Isle  ",{"$f":"ROWS($L$2:L1301)","v":1300},{"$f":"IF(L1301=WORKSHEET!$B$1,I1301,\"\")","v":""},"","MICHIGAN","Presque Isle County",18,{"$f":"+R1301-N1301-P1301","v":2},11,"N/A",31,1.8426754284955972E-2,8.9743589743589744E-2]
[392,null,11,"Roscommon, MI - Otsego, MI","MI: Roscommon County (26143)","MI: Roscommon County (26143)","26143","  Roscommon  ",{"$f":"ROWS($L$2:L1302)","v":1301},{"$f":"IF(L1302=WORKSHEET!$B$1,I1302,\"\")","v":""},"","MICHIGAN","Roscommon County",26,{"$f":"+R1302-N1302-P1302","v":3},14,"N/A",43,1.8426754284955972E-2,0.1111111111111111]
[322,null,11,"Saginaw (Saginaw), MI - Tuscola, MI","MI: Saginaw County (26145)","MI: Saginaw County (26145)","26145","  Saginaw  ",{"$f":"ROWS($L$2:L1303)","v":1302},{"$f":"IF(L1303=WORKSHEET!$B$1,I1303,\"\")","v":""},"","MICHIGAN","Saginaw County",360,44,169,"N/A",573,1.8426754284955972E-2,0.12167300380228137]
[297,null,11,"St. Clair (Port Huron), MI - Sanilac, MI","MI: Sanilac County (26151)","MI: Sanilac County (26151)","26151","  Sanilac  ",{"$f":"ROWS($L$2:L1304)","v":1303},{"$f":"IF(L1304=WORKSHEET!$B$1,I1304,\"\")","v":""},"","MICHIGAN","Sanilac County",43,{"$f":"+R1304-N1304-P1304","v":6},32,"N/A",81,1.8426754284955972E-2,0.14356435643564355]
[293,null,11,"Marquette, MI - Delta, MI","MI: Schoolcraft County (26153)","MI: Schoolcraft County (26153)","26153","  Schoolcraft  ",{"$f":"ROWS($L$2:L1305)","v":1304},{"$f":"IF(L1305=WORKSHEET!$B$1,I1305,\"\")","v":""},"","MICHIGAN","Schoolcraft County","*","N/A","*","N/A",11,1.8426754284955972E-2,2.1505376344086023E-2]
[285,null,11,"Ingham (Lansing), MI - Eaton, MI","MI: Shiawassee County (26155)","MI: Shiawassee County (26155)","26155","  Shiawassee  ",{"$f":"ROWS($L$2:L1306)","v":1305},{"$f":"IF(L1306=WORKSHEET!$B$1,I1306,\"\")","v":""},"","MICHIGAN","Shiawassee County",70,22,37,"N/A",129,1.8426754284955972E-2,0.11343283582089553]
[297,null,11,"St. Clair (Port Huron), MI - Sanilac, MI","MI: St. Clair County (26147)","MI: St. Clair County (26147)","26147","  St. Clair  ",{"$f":"ROWS($L$2:L1307)","v":1306},{"$f":"IF(L1307=WORKSHEET!$B$1,I1307,\"\")","v":""},"","MICHIGAN","St. Clair County",130,23,119,"N/A",272,1.8426754284955972E-2,0.14356435643564355]
[348,null,11,"Kalamazoo (Kalamazoo), MI - St. Joseph, MI","MI: St. Joseph County (26149)","MI: St. Joseph County (26149)","26149","  St. Joseph  ",{"$f":"ROWS($L$2:L1308)","v":1307},{"$f":"IF(L1308=WORKSHEET!$B$1,I1308,\"\")","v":""},"","MICHIGAN","St. Joseph County",74,{"$f":"+R1308-N1308-P1308","v":7},46,"*",127,1.8426754284955972E-2,6.6666666666666666E-2]
[322,null,11,"Saginaw (Saginaw), MI - Tuscola, MI","MI: Tuscola County (26157)","MI: Tuscola County (26157)","26157","  Tuscola  ",{"$f":"ROWS($L$2:L1309)","v":1308},{"$f":"IF(L1309=WORKSHEET!$B$1,I1309,\"\")","v":""},"","MICHIGAN","Tuscola County",71,13,43,"N/A",127,1.8426754284955972E-2,0.12167300380228137]
[327,null,11,"Berrien (Benton Harbor), MI - Van Buren, MI","MI: Van Buren County (26159)","MI: Van Buren County (26159)","26159","  Van Buren  ",{"$f":"ROWS($L$2:L1310)","v":1309},{"$f":"IF(L1310=WORKSHEET!$B$1,I1310,\"\")","v":""},"","MICHIGAN","Van Buren County",97,{"$f":"+R1310-N1310-P1310","v":6},62,"N/A",165,1.8426754284955972E-2,0.10918114143920596]
[831,274,11,"Washtenaw, MI - Livingston, MI","MI: Washtenaw County (26161)","MI: Washtenaw County (26161)","26161","  Washtenaw  ",{"$f":"ROWS($L$2:L1311)","v":1310},{"$f":"IF(L1311=WORKSHEET!$B$1,I1311,\"\")","v":""},"","MICHIGAN","Washtenaw County",364,29,255,"*",650,1.8426754284955972E-2,9.2702903946388679E-2]
[274,null,11,"Wayne (Detroit), MI - Oakland, MI","MI: Wayne County (26163)","MI: Wayne County (26163)","26163","  Wayne  ",{"$f":"ROWS($L$2:L1312)","v":1311},{"$f":"IF(L1312=WORKSHEET!$B$1,I1312,\"\")","v":""},"","MICHIGAN","Wayne County",4327,337,1577,11,6252,1.8426754284955972E-2,9.2702903946388679E-2]
[317,null,11,"Wexford, MI - Osceola, MI","MI: Wexford County (26165)","MI: Wexford County (26165)","26165","  Wexford  ",{"$f":"ROWS($L$2:L1313)","v":1312},{"$f":"IF(L1313=WORKSHEET!$B$1,I1313,\"\")","v":""},"","MICHIGAN","Wexford County",28,{"$f":"+R1313-N1313-P1313","v":6},15,"N/A",49,1.8426754284955972E-2,0.13924050632911392]
[612,null,11,"Crow Wing, MN - Cass, MN","MN: Aitkin County (27001)","MN: Aitkin County (27001)","27001"," Aitkin  ",{"$f":"ROWS($L$2:L1314)","v":1313},{"$f":"IF(L1314=WORKSHEET!$B$1,I1314,\"\")","v":""},"","MINNESOTA","Aitkin County",14,{"$f":"+R1314-N1314-P1314","v":5},19,"N/A",38,1.8426754284955972E-2,0.17763157894736842]
[540,null,11,"Hennepin (Minneapolis), MN - Anoka, MN","MN: Anoka County (27003)","MN: Anoka County (27003)","27003","  Anoka  ",{"$f":"ROWS($L$2:L1315)","v":1314},{"$f":"IF(L1315=WORKSHEET!$B$1,I1315,\"\")","v":""},"","MINNESOTA","Anoka County",223,37,262,"*",525,1.8426754284955972E-2,8.9527027027027029E-2]
[547,null,11,"Clay, MN - Becker, MN","MN: Becker County (27005)","MN: Becker County (27005)","27005","  Becker  ",{"$f":"ROWS($L$2:L1316)","v":1315},{"$f":"IF(L1316=WORKSHEET!$B$1,I1316,\"\")","v":""},"","MINNESOTA","Becker County",25,{"$f":"+R1316-N1316-P1316","v":7},20,"N/A",52,1.8426754284955972E-2,0.20317460317460317]
[597,null,11,"Beltrami, MN - Clearwater, MN","MN: Beltrami County (27007)","MN: Beltrami County (27007)","27007","  Beltrami  ",{"$f":"ROWS($L$2:L1317)","v":1316},{"$f":"IF(L1317=WORKSHEET!$B$1,I1317,\"\")","v":""},"","MINNESOTA","Beltrami County",71,{"$f":"+R1317-N1317-P1317","v":3},41,"N/A",115,1.8426754284955972E-2,3.4090909090909088E-2]
[588,null,11,"Stearns (St. Cloud), MN - Benton, MN","MN: Benton County (27009)","MN: Benton County (27009)","27009","  Benton  ",{"$f":"ROWS($L$2:L1318)","v":1317},{"$f":"IF(L1318=WORKSHEET!$B$1,I1318,\"\")","v":""},"","MINNESOTA","Benton County",21,{"$f":"+R1318-N1318-P1318","v":2},29,"N/A",52,1.8426754284955972E-2,9.5238095238095233E-2]
[590,null,11,"Big Stone, MN - Traverse, MN","MN: Big Stone County (27011)","MN: Big Stone County (27011)","27011","  Big Stone  ",{"$f":"ROWS($L$2:L1319)","v":1318},{"$f":"IF(L1319=WORKSHEET!$B$1,I1319,\"\")","v":""},"","MINNESOTA","Big Stone County","*","N/A","*","N/A",15,1.8426754284955972E-2,8.8235294117647065E-2]
[573,null,11,"Blue Earth, MN - Nicollet, MN","MN: Blue Earth County (27013)","MN: Blue Earth County (27013)","27013","  Blue Earth  ",{"$f":"ROWS($L$2:L1320)","v":1319},{"$f":"IF(L1320=WORKSHEET!$B$1,I1320,\"\")","v":""},"","MINNESOTA","Blue Earth County",48,{"$f":"+R1320-N1320-P1320","v":3},50,"N/A",101,1.8426754284955972E-2,5.3191489361702128E-2]
[602,null,11,"Brown, MN - Renville, MN","MN: Brown County (27015)","MN: Brown County (27015)","27015","  Brown  ",{"$f":"ROWS($L$2:L1321)","v":1320},{"$f":"IF(L1321=WORKSHEET!$B$1,I1321,\"\")","v":""},"","MINNESOTA","Brown County",24,{"$f":"+R1321-N1321-P1321","v":2},21,"N/A",47,1.8426754284955972E-2,3.7735849056603772E-2]
[289,null,11,"St. Louis (Duluth), MN - Itasca, MN","MN: Carlton County (27017)","MN: Carlton County (27017)","27017","  Carlton  ",{"$f":"ROWS($L$2:L1322)","v":1321},{"$f":"IF(L1322=WORKSHEET!$B$1,I1322,\"\")","v":""},"","MINNESOTA","Carlton County",16,{"$f":"+R1322-N1322-P1322","v":4},29,"*",49,1.8426754284955972E-2,0.10563380281690141]
[540,null,11,"Hennepin (Minneapolis), MN - Anoka, MN","MN: Carver County (27019)","MN: Carver County (27019)","27019","  Carver  ",{"$f":"ROWS($L$2:L1323)","v":1322},{"$f":"IF(L1323=WORKSHEET!$B$1,I1323,\"\")","v":""},"","MINNESOTA","Carver County",31,{"$f":"+R1323-N1323-P1323","v":3},48,"*",82,1.8426754284955972E-2,8.9527027027027029E-2]
[612,null,11,"Crow Wing, MN - Cass, MN","MN: Cass County (27021)","MN: Cass County (27021)","27021","  Cass  ",{"$f":"ROWS($L$2:L1324)","v":1323},{"$f":"IF(L1324=WORKSHEET!$B$1,I1324,\"\")","v":""},"","MINNESOTA","Cass County",30,{"$f":"+R1324-N1324-P1324","v":5},22,"N/A",57,1.8426754284955972E-2,0.17763157894736842]
[592,null,11,"Kandiyohi, MN - Chippewa, MN","MN: Chippewa County (27023)","MN: Chippewa County (27023)","27023","  Chippewa  ",{"$f":"ROWS($L$2:L1325)","v":1324},{"$f":"IF(L1325=WORKSHEET!$B$1,I1325,\"\")","v":""},"","MINNESOTA","Chippewa County","*","*",11,"N/A",22,1.8426754284955972E-2,0.16455696202531644]
[286,null,11,"Ramsey (St. Paul), MN - Dakota, MN","MN: Chisago County (27025)","MN: Chisago County (27025)","27025","  Chisago  ",{"$f":"ROWS($L$2:L1326)","v":1325},{"$f":"IF(L1326=WORKSHEET!$B$1,I1326,\"\")","v":""},"","MINNESOTA","Chisago County",23,{"$f":"+R1326-N1326-P1326","v":4},47,"N/A",74,1.8426754284955972E-2,8.850289495450786E-2]
[547,null,11,"Clay, MN - Becker, MN","MN: Clay County (27027)","MN: Clay County (27027)","27027","  Clay  ",{"$f":"ROWS($L$2:L1327)","v":1326},{"$f":"IF(L1327=WORKSHEET!$B$1,I1327,\"\")","v":""},"","MINNESOTA","Clay County",60,{"$f":"+R1327-N1327-P1327","v":10},54,"N/A",124,1.8426754284955972E-2,0.20317460317460317]
[597,null,11,"Beltrami, MN - Clearwater, MN","MN: Clearwater County (27029)","MN: Clearwater County (27029)","27029","  Clearwater  ",{"$f":"ROWS($L$2:L1328)","v":1327},{"$f":"IF(L1328=WORKSHEET!$B$1,I1328,\"\")","v":""},"","MINNESOTA","Clearwater County",14,"N/A","*","N/A",20,1.8426754284955972E-2,3.4090909090909088E-2]
[289,null,11,"St. Louis (Duluth), MN - Itasca, MN","MN: Cook County (27031)","MN: Cook County (27031)","27031","  Cook  ",{"$f":"ROWS($L$2:L1329)","v":1328},{"$f":"IF(L1329=WORKSHEET!$B$1,I1329,\"\")","v":""},"","MINNESOTA","Cook County","*","*","*","N/A","*",1.8426754284955972E-2,0.10563380281690141]
[619,null,11,"Nobles, MN - Cottonwood, MN","MN: Cottonwood County (27033)","MN: Cottonwood County (27033)","27033","  Cottonwood  ",{"$f":"ROWS($L$2:L1330)","v":1329},{"$f":"IF(L1330=WORKSHEET!$B$1,I1330,\"\")","v":""},"","MINNESOTA","Cottonwood County","*","*","*","N/A",14,1.8426754284955972E-2,0.14035087719298245]
[612,null,11,"Crow Wing, MN - Cass, MN","MN: Crow Wing County (27035)","MN: Crow Wing County (27035)","27035","  Crow Wing  ",{"$f":"ROWS($L$2:L1331)","v":1330},{"$f":"IF(L1331=WORKSHEET!$B$1,I1331,\"\")","v":""},"","MINNESOTA","Crow Wing County",46,{"$f":"+R1331-N1331-P1331","v":8},64,"N/A",118,1.8426754284955972E-2,0.17763157894736842]
[286,null,11,"Ramsey (St. Paul), MN - Dakota, MN","MN: Dakota County (27037)","MN: Dakota County (27037)","27037","  Dakota  ",{"$f":"ROWS($L$2:L1332)","v":1331},{"$f":"IF(L1332=WORKSHEET!$B$1,I1332,\"\")","v":""},"","MINNESOTA","Dakota County",242,22,295,"*",560,1.8426754284955972E-2,8.850289495450786E-2]
[941,552,11,"Olmsted (Rochester), MN - Winona, MN","MN: Dodge County (27039)","MN: Dodge County (27039)","27039","  Dodge  ",{"$f":"ROWS($L$2:L1333)","v":1332},{"$f":"IF(L1333=WORKSHEET!$B$1,I1333,\"\")","v":""},"","MINNESOTA","Dodge County",11,{"$f":"+R1333-N1333-P1333","v":0},21,"N/A",32,1.8426754284955972E-2,3.4482758620689655E-2]
[608,null,11,"Douglas, MN - Pope, MN","MN: Douglas County (27041)","MN: Douglas County (27041)","27041","  Douglas  ",{"$f":"ROWS($L$2:L1334)","v":1333},{"$f":"IF(L1334=WORKSHEET!$B$1,I1334,\"\")","v":""},"","MINNESOTA","Douglas County",25,4,40,"*",69,1.8426754284955972E-2,0.16216216216216217]
[646,null,11,"Freeborn, MN - Faribault, MN","MN: Faribault County (27043)","MN: Faribault County (27043)","27043","  Faribault  ",{"$f":"ROWS($L$2:L1335)","v":1334},{"$f":"IF(L1335=WORKSHEET!$B$1,I1335,\"\")","v":""},"","MINNESOTA","Faribault County",19,3,13,"N/A",35,1.8426754284955972E-2,0.10638297872340426]
[941,552,11,"Olmsted (Rochester), MN - Winona, MN","MN: Fillmore County (27045)","MN: Fillmore County (27045)","27045","  Fillmore  ",{"$f":"ROWS($L$2:L1336)","v":1335},{"$f":"IF(L1336=WORKSHEET!$B$1,I1336,\"\")","v":""},"","MINNESOTA","Fillmore County",11,1,19,"N/A",31,1.8426754284955972E-2,3.4482758620689655E-2]
[646,null,11,"Freeborn, MN - Faribault, MN","MN: Freeborn County (27047)","MN: Freeborn County (27047)","27047","  Freeborn  ",{"$f":"ROWS($L$2:L1337)","v":1336},{"$f":"IF(L1337=WORKSHEET!$B$1,I1337,\"\")","v":""},"","MINNESOTA","Freeborn County",23,2,38,"N/A",63,1.8426754284955972E-2,0.10638297872340426]
[370,null,11,"Goodhue, MN","MN: Goodhue County (27049)","MN: Goodhue County (27049)","27049","  Goodhue  ",{"$f":"ROWS($L$2:L1338)","v":1337},{"$f":"IF(L1338=WORKSHEET!$B$1,I1338,\"\")","v":""},"","MINNESOTA","Goodhue County",31,2,45,"N/A",78,1.8426754284955972E-2,9.7345132743362831E-2]
[582,null,11,"Otter Tail, MN - Grant, MN","MN: Grant County (27051)","MN: Grant County (27051)","27051","  Grant  ",{"$f":"ROWS($L$2:L1339)","v":1338},{"$f":"IF(L1339=WORKSHEET!$B$1,I1339,\"\")","v":""},"","MINNESOTA","Grant County","*","*","*","N/A",12,1.8426754284955972E-2,0.15384615384615385]
[540,null,11,"Hennepin (Minneapolis), MN - Anoka, MN","MN: Hennepin County (27053)","MN: Hennepin County (27053)","27053","  Hennepin  ",{"$f":"ROWS($L$2:L1340)","v":1339},{"$f":"IF(L1340=WORKSHEET!$B$1,I1340,\"\")","v":""},"","MINNESOTA","Hennepin County",1134,94,912,"*",2146,1.8426754284955972E-2,8.9527027027027029E-2]
[981,290,11,"Houston, MN","MN: Houston County (27055)","MN: Houston County (27055)","27055","  Houston  ",{"$f":"ROWS($L$2:L1341)","v":1340},{"$f":"IF(L1341=WORKSHEET!$B$1,I1341,\"\")","v":""},"","MINNESOTA","Houston County",23,{"$f":"+R1341-N1341-P1341","v":1},14,"N/A",38,1.8426754284955972E-2,6.6666666666666666E-2]
[612,null,11,"Crow Wing, MN - Cass, MN","MN: Hubbard County (27057)","MN: Hubbard County (27057)","27057","  Hubbard  ",{"$f":"ROWS($L$2:L1342)","v":1341},{"$f":"IF(L1342=WORKSHEET!$B$1,I1342,\"\")","v":""},"","MINNESOTA","Hubbard County",23,{"$f":"+R1342-N1342-P1342","v":8},17,"N/A",48,1.8426754284955972E-2,0.17763157894736842]
[603,null,11,"Isanti (Cambridge), MN - Mille Lacs, MN","MN: Isanti County (27059)","MN: Isanti County (27059)","27059","  Isanti  ",{"$f":"ROWS($L$2:L1343)","v":1342},{"$f":"IF(L1343=WORKSHEET!$B$1,I1343,\"\")","v":""},"","MINNESOTA","Isanti County",29,{"$f":"+R1343-N1343-P1343","v":4},26,"*",59,1.8426754284955972E-2,9.6385542168674704E-2]
[289,null,11,"St. Louis (Duluth), MN - Itasca, MN","MN: Itasca County (27061)","MN: Itasca County (27061)","27061","  Itasca  ",{"$f":"ROWS($L$2:L1344)","v":1343},{"$f":"IF(L1344=WORKSHEET!$B$1,I1344,\"\")","v":""},"","MINNESOTA","Itasca County",31,{"$f":"+R1344-N1344-P1344","v":8},39,"N/A",78,1.8426754284955972E-2,0.10563380281690141]
[619,null,11,"Nobles, MN - Cottonwood, MN","MN: Jackson County (27063)","MN: Jackson County (27063)","27063","  Jackson  ",{"$f":"ROWS($L$2:L1345)","v":1344},{"$f":"IF(L1345=WORKSHEET!$B$1,I1345,\"\")","v":""},"","MINNESOTA","Jackson County","*","N/A",13,"N/A",20,1.8426754284955972E-2,0.14035087719298245]
[603,null,11,"Isanti (Cambridge), MN - Mille Lacs, MN","MN: Kanabec County (27065)","MN: Kanabec County (27065)","27065","  Kanabec  ",{"$f":"ROWS($L$2:L1346)","v":1345},{"$f":"IF(L1346=WORKSHEET!$B$1,I1346,\"\")","v":""},"","MINNESOTA","Kanabec County",20,"N/A","*","N/A",27,1.8426754284955972E-2,9.6385542168674704E-2]
[592,null,11,"Kandiyohi, MN - Chippewa, MN","MN: Kandiyohi County (27067)","MN: Kandiyohi County (27067)","27067","  Kandiyohi  ",{"$f":"ROWS($L$2:L1347)","v":1346},{"$f":"IF(L1347=WORKSHEET!$B$1,I1347,\"\")","v":""},{"$f":"IFERROR(SMALL($J$2:$J$3142,I1347),\"\")","v":""},"MINNESOTA","Kandiyohi County",33,{"$f":"+R1347-N1347-P1347","v":6},31,"N/A",70,1.8426754284955972E-2,0.16455696202531644]
[604,null,11,"Pennington, MN - Marshall, MN","MN: Kittson County (27069)","MN: Kittson County (27069)","27069","  Kittson  ",{"$f":"ROWS($L$2:L1348)","v":1347},{"$f":"IF(L1348=WORKSHEET!$B$1,I1348,\"\")","v":""},"","MINNESOTA","Kittson County","*","*","*","N/A","*",1.8426754284955972E-2,0.16]
[289,null,11,"St. Louis (Duluth), MN - Itasca, MN","MN: Koochiching County (27071)","MN: Koochiching County (27071)","27071","  Koochiching  ",{"$f":"ROWS($L$2:L1349)","v":1348},{"$f":"IF(L1349=WORKSHEET!$B$1,I1349,\"\")","v":""},"","MINNESOTA","Koochiching County","*","*",16,"N/A",25,1.8426754284955972E-2,0.10563380281690141]
[592,null,11,"Kandiyohi, MN - Chippewa, MN","MN: Lac qui Parle County (27073)","MN: Lac qui Parle County (27073)","27073","  Lac Qui Parle  ",{"$f":"ROWS($L$2:L1350)","v":1349},{"$f":"IF(L1350=WORKSHEET!$B$1,I1350,\"\")","v":""},"","MINNESOTA","Lac qui Parle County","*","*","*","N/A","*",1.8426754284955972E-2,0.16455696202531644]
[289,null,11,"St. Louis (Duluth), MN - Itasca, MN","MN: Lake County (27075)","MN: Lake County (27075)","27075","  Lake  ",{"$f":"ROWS($L$2:L1351)","v":1350},{"$f":"IF(L1351=WORKSHEET!$B$1,I1351,\"\")","v":""},"","MINNESOTA","Lake County","*","N/A",12,"N/A",14,1.8426754284955972E-2,0.10563380281690141]
[631,null,11,"Roseau, MN - Lake of the Woods, MN","MN: Lake of the Woods County (27077)","MN: Lake of the Woods County (27077)","27077","  Lake Of Woods  ",{"$f":"ROWS($L$2:L1352)","v":1351},{"$f":"IF(L1352=WORKSHEET!$B$1,I1352,\"\")","v":""},"","MINNESOTA","Lake of the Woods County","*","N/A","*","N/A","*",1.8426754284955972E-2,6.6666666666666666E-2]
[540,null,11,"Hennepin (Minneapolis), MN - Anoka, MN","MN: Le Sueur County (27079)","MN: Le Sueur County (27079)","27079","  Le Sueur  ",{"$f":"ROWS($L$2:L1353)","v":1352},{"$f":"IF(L1353=WORKSHEET!$B$1,I1353,\"\")","v":""},"","MINNESOTA","Le Sueur County",22,{"$f":"+R1353-N1353-P1353","v":1},21,"N/A",44,1.8426754284955972E-2,8.9527027027027029E-2]
[609,null,11,"Lyon, MN - Lincoln, MN","MN: Lincoln County (27081)","MN: Lincoln County (27081)","27081","  Lincoln  ",{"$f":"ROWS($L$2:L1354)","v":1353},{"$f":"IF(L1354=WORKSHEET!$B$1,I1354,\"\")","v":""},"","MINNESOTA","Lincoln County","*","N/A","*","N/A","*",1.8426754284955972E-2,0.1111111111111111]
[609,null,11,"Lyon, MN - Lincoln, MN","MN: Lyon County (27083)","MN: Lyon County (27083)","27083","  Lyon  ",{"$f":"ROWS($L$2:L1355)","v":1354},{"$f":"IF(L1355=WORKSHEET!$B$1,I1355,\"\")","v":""},"","MINNESOTA","Lyon County",20,{"$f":"+R1355-N1355-P1355","v":3},17,"N/A",40,1.8426754284955972E-2,0.1111111111111111]
[547,null,11,"Clay, MN - Becker, MN","MN: Mahnomen County (27087)","MN: Mahnomen County (27087)","27087","  Mahnomen  ",{"$f":"ROWS($L$2:L1356)","v":1355},{"$f":"IF(L1356=WORKSHEET!$B$1,I1356,\"\")","v":""},"","MINNESOTA","Mahnomen County",11,"N/A","*","N/A",12,1.8426754284955972E-2,0.20317460317460317]
[604,null,11,"Pennington, MN - Marshall, MN","MN: Marshall County (27089)","MN: Marshall County (27089)","27089","  Marshall  ",{"$f":"ROWS($L$2:L1357)","v":1356},{"$f":"IF(L1357=WORKSHEET!$B$1,I1357,\"\")","v":""},"","MINNESOTA","Marshall County","*","*","*","N/A",12,1.8426754284955972E-2,0.16]
[958,626,11,"Martin, MN","MN: Martin County (27091)","MN: Martin County (27091)","27091","  Martin  ",{"$f":"ROWS($L$2:L1358)","v":1357},{"$f":"IF(L1358=WORKSHEET!$B$1,I1358,\"\")","v":""},"","MINNESOTA","Martin County",24,{"$f":"+R1358-N1358-P1358","v":2},17,"N/A",43,1.8426754284955972E-2,9.0909090909090912E-2]
[540,null,11,"Hennepin (Minneapolis), MN - Anoka, MN","MN: McLeod County (27085)","MN: McLeod County (27085)","27085","  Mc Leod  ",{"$f":"ROWS($L$2:L1359)","v":1358},{"$f":"IF(L1359=WORKSHEET!$B$1,I1359,\"\")","v":""},"","MINNESOTA","McLeod County",28,1,24,"N/A",53,1.8426754284955972E-2,8.9527027027027029E-2]
[588,null,11,"Stearns (St. Cloud), MN - Benton, MN","MN: Meeker County (27093)","MN: Meeker County (27093)","27093","  Meeker  ",{"$f":"ROWS($L$2:L1360)","v":1359},{"$f":"IF(L1360=WORKSHEET!$B$1,I1360,\"\")","v":""},"","MINNESOTA","Meeker County",16,4,17,"N/A",37,1.8426754284955972E-2,9.5238095238095233E-2]
[603,null,11,"Isanti (Cambridge), MN - Mille Lacs, MN","MN: Mille Lacs County (27095)","MN: Mille Lacs County (27095)","27095","  Mille Lacs  ",{"$f":"ROWS($L$2:L1361)","v":1360},{"$f":"IF(L1361=WORKSHEET!$B$1,I1361,\"\")","v":""},"","MINNESOTA","Mille Lacs County",26,4,23,"*",53,1.8426754284955972E-2,9.6385542168674704E-2]
[588,null,11,"Stearns (St. Cloud), MN - Benton, MN","MN: Morrison County (27097)","MN: Morrison County (27097)","27097","  Morrison  ",{"$f":"ROWS($L$2:L1362)","v":1361},{"$f":"IF(L1362=WORKSHEET!$B$1,I1362,\"\")","v":""},"","MINNESOTA","Morrison County",25,1,32,"N/A",58,1.8426754284955972E-2,9.5238095238095233E-2]
[941,552,11,"Olmsted (Rochester), MN - Winona, MN","MN: Mower County (27099)","MN: Mower County (27099)","27099","  Mower  ",{"$f":"ROWS($L$2:L1363)","v":1362},{"$f":"IF(L1363=WORKSHEET!$B$1,I1363,\"\")","v":""},"","MINNESOTA","Mower County",23,2,30,"N/A",55,1.8426754284955972E-2,3.4482758620689655E-2]
[619,null,11,"Nobles, MN - Cottonwood, MN","MN: Murray County (27101)","MN: Murray County (27101)","27101","  Murray  ",{"$f":"ROWS($L$2:L1364)","v":1363},{"$f":"IF(L1364=WORKSHEET!$B$1,I1364,\"\")","v":""},"","MINNESOTA","Murray County",11,"*","*","N/A",19,1.8426754284955972E-2,0.14035087719298245]
[573,null,11,"Blue Earth, MN - Nicollet, MN","MN: Nicollet County (27103)","MN: Nicollet County (27103)","27103","  Nicollet  ",{"$f":"ROWS($L$2:L1365)","v":1364},{"$f":"IF(L1365=WORKSHEET!$B$1,I1365,\"\")","v":""},"","MINNESOTA","Nicollet County",16,{"$f":"+R1365-N1365-P1365","v":0},12,"N/A",28,1.8426754284955972E-2,5.3191489361702128E-2]
[619,null,11,"Nobles, MN - Cottonwood, MN","MN: Nobles County (27105)","MN: Nobles County (27105)","27105","  Nobles  ",{"$f":"ROWS($L$2:L1366)","v":1365},{"$f":"IF(L1366=WORKSHEET!$B$1,I1366,\"\")","v":""},"","MINNESOTA","Nobles County",27,"*","*","N/A",38,1.8426754284955972E-2,0.14035087719298245]
[547,null,11,"Clay, MN - Becker, MN","MN: Norman County (27107)","MN: Norman County (27107)","27107","  Norman  ",{"$f":"ROWS($L$2:L1367)","v":1366},{"$f":"IF(L1367=WORKSHEET!$B$1,I1367,\"\")","v":""},"","MINNESOTA","Norman County",11,"*","*","N/A",23,1.8426754284955972E-2,0.20317460317460317]
[941,552,11,"Olmsted (Rochester), MN - Winona, MN","MN: Olmsted County (27109)","MN: Olmsted County (27109)","27109","  Olmsted  ",{"$f":"ROWS($L$2:L1368)","v":1367},{"$f":"IF(L1368=WORKSHEET!$B$1,I1368,\"\")","v":""},"","MINNESOTA","Olmsted County",114,{"$f":"+R1368-N1368-P1368","v":4},193,"N/A",311,1.8426754284955972E-2,3.4482758620689655E-2]
[582,null,11,"Otter Tail, MN - Grant, MN","MN: Otter Tail County (27111)","MN: Otter Tail County (27111)","27111","  Otter Tail  ",{"$f":"ROWS($L$2:L1369)","v":1368},{"$f":"IF(L1369=WORKSHEET!$B$1,I1369,\"\")","v":""},"","MINNESOTA","Otter Tail County",37,{"$f":"+R1369-N1369-P1369","v":7},41,"N/A",85,1.8426754284955972E-2,0.15384615384615385]
[604,null,11,"Pennington, MN - Marshall, MN","MN: Pennington County (27113)","MN: Pennington County (27113)","27113","  Pennington  ",{"$f":"ROWS($L$2:L1370)","v":1369},{"$f":"IF(L1370=WORKSHEET!$B$1,I1370,\"\")","v":""},"","MINNESOTA","Pennington County",11,{"$f":"+R1370-N1370-P1370","v":2},15,"N/A",28,1.8426754284955972E-2,0.16]
[289,null,11,"St. Louis (Duluth), MN - Itasca, MN","MN: Pine County (27115)","MN: Pine County (27115)","27115","  Pine  ",{"$f":"ROWS($L$2:L1371)","v":1370},{"$f":"IF(L1371=WORKSHEET!$B$1,I1371,\"\")","v":""},"","MINNESOTA","Pine County",30,{"$f":"+R1371-N1371-P1371","v":2},16,"N/A",48,1.8426754284955972E-2,0.10563380281690141]
[984,544,11,"Pipestone, MN - Rock, MN","MN: Pipestone County (27117)","MN: Pipestone County (27117)","27117","  Pipestone  ",{"$f":"ROWS($L$2:L1372)","v":1371},{"$f":"IF(L1372=WORKSHEET!$B$1,I1372,\"\")","v":""},"","MINNESOTA","Pipestone County","*","*","*","N/A",17,1.8426754284955972E-2,0.19008264462809901]
[584,null,11,"Polk, MN","MN: Polk County (27119)","MN: Polk County (27119)","27119","  Polk  ",{"$f":"ROWS($L$2:L1373)","v":1372},{"$f":"IF(L1373=WORKSHEET!$B$1,I1373,\"\")","v":""},"","MINNESOTA","Polk County",35,{"$f":"+R1373-N1373-P1373","v":4},26,"N/A",65,1.8426754284955972E-2,0.12878787878787878]
[608,null,11,"Douglas, MN - Pope, MN","MN: Pope County (27121)","MN: Pope County (27121)","27121","  Pope  ",{"$f":"ROWS($L$2:L1374)","v":1373},{"$f":"IF(L1374=WORKSHEET!$B$1,I1374,\"\")","v":""},"","MINNESOTA","Pope County","*","*","*","N/A",11,1.8426754284955972E-2,0.16216216216216217]
[286,null,11,"Ramsey (St. Paul), MN - Dakota, MN","MN: Ramsey County (27123)","MN: Ramsey County (27123)","27123","  Ramsey  ",{"$f":"ROWS($L$2:L1375)","v":1374},{"$f":"IF(L1375=WORKSHEET!$B$1,I1375,\"\")","v":""},"","MINNESOTA","Ramsey County",693,62,553,"*",1313,1.8426754284955972E-2,8.850289495450786E-2]
[604,null,11,"Pennington, MN - Marshall, MN","MN: Red Lake County (27125)","MN: Red Lake County (27125)","27125","  Red Lake  ",{"$f":"ROWS($L$2:L1376)","v":1375},{"$f":"IF(L1376=WORKSHEET!$B$1,I1376,\"\")","v":""},"","MINNESOTA","Red Lake County","N/A","N/A","*","N/A","*",1.8426754284955972E-2,0.16]
[602,null,11,"Brown, MN - Renville, MN","MN: Redwood County (27127)","MN: Redwood County (27127)","27127","  Redwood  ",{"$f":"ROWS($L$2:L1377)","v":1376},{"$f":"IF(L1377=WORKSHEET!$B$1,I1377,\"\")","v":""},"","MINNESOTA","Redwood County","*","N/A",13,"N/A",23,1.8426754284955972E-2,3.7735849056603772E-2]
[602,null,11,"Brown, MN - Renville, MN","MN: Renville County (27129)","MN: Renville County (27129)","27129","  Renville  ",{"$f":"ROWS($L$2:L1378)","v":1377},{"$f":"IF(L1378=WORKSHEET!$B$1,I1378,\"\")","v":""},"","MINNESOTA","Renville County",17,{"$f":"+R1378-N1378-P1378","v":0},20,"N/A",37,1.8426754284955972E-2,3.7735849056603772E-2]
[396,null,11,"Rice, MN","MN: Rice County (27131)","MN: Rice County (27131)","27131","  Rice  ",{"$f":"ROWS($L$2:L1379)","v":1378},{"$f":"IF(L1379=WORKSHEET!$B$1,I1379,\"\")","v":""},"","MINNESOTA","Rice County",29,{"$f":"+R1379-N1379-P1379","v":4},38,"*",71,1.8426754284955972E-2,0.12121212121212122]
[984,544,11,"Pipestone, MN - Rock, MN","MN: Rock County (27133)","MN: Rock County (27133)","27133","  Rock  ",{"$f":"ROWS($L$2:L1380)","v":1379},{"$f":"IF(L1380=WORKSHEET!$B$1,I1380,\"\")","v":""},"","MINNESOTA","Rock County","*","*",11,"N/A",24,1.8426754284955972E-2,0.19008264462809918]
[631,null,11,"Roseau, MN - Lake of the Woods, MN","MN: Roseau County (27135)","MN: Roseau County (27135)","27135","  Roseau  ",{"$f":"ROWS($L$2:L1381)","v":1380},{"$f":"IF(L1381=WORKSHEET!$B$1,I1381,\"\")","v":""},"","MINNESOTA","Roseau County",12,{"$f":"+R1381-N1381-P1381","v":1},19,"N/A",32,1.8426754284955972E-2,6.6666666666666666E-2]
[540,null,11,"Hennepin (Minneapolis), MN - Anoka, MN","MN: Scott County (27139)","MN: Scott County (27139)","27139","  Scott  ",{"$f":"ROWS($L$2:L1382)","v":1381},{"$f":"IF(L1382=WORKSHEET!$B$1,I1382,\"\")","v":""},"","MINNESOTA","Scott County",71,{"$f":"+R1382-N1382-P1382","v":8},72,"N/A",151,1.8426754284955972E-2,8.9527027027027029E-2]
[540,null,11,"Hennepin (Minneapolis), MN - Anoka, MN","MN: Sherburne County (27141)","MN: Sherburne County (27141)","27141","  Sherburne  ",{"$f":"ROWS($L$2:L1383)","v":1382},{"$f":"IF(L1383=WORKSHEET!$B$1,I1383,\"\")","v":""},"","MINNESOTA","Sherburne County",26,{"$f":"+R1383-N1383-P1383","v":9},54,"N/A",89,1.8426754284955972E-2,8.9527027027027029E-2]
[540,null,11,"Hennepin (Minneapolis), MN - Anoka, MN","MN: Sibley County (27143)","MN: Sibley County (27143)","27143","  Sibley  ",{"$f":"ROWS($L$2:L1384)","v":1383},{"$f":"IF(L1384=WORKSHEET!$B$1,I1384,\"\")","v":""},"","MINNESOTA","Sibley County",11,"*","*","N/A",23,1.8426754284955972E-2,8.9527027027027029E-2]
[289,null,11,"St. Louis (Duluth), MN - Itasca, MN","MN: St. Louis County (27137)","MN: St. Louis County (27137)","27137","  St. Louis  ",{"$f":"ROWS($L$2:L1385)","v":1384},{"$f":"IF(L1385=WORKSHEET!$B$1,I1385,\"\")","v":""},"","MINNESOTA","St. Louis County",139,{"$f":"+R1385-N1385-P1385","v":14},159,"*",312,1.8426754284955972E-2,0.10563380281690141]
[588,null,11,"Stearns (St. Cloud), MN - Benton, MN","MN: Stearns County (27145)","MN: Stearns County (27145)","27145","  Stearns  ",{"$f":"ROWS($L$2:L1386)","v":1385},{"$f":"IF(L1386=WORKSHEET!$B$1,I1386,\"\")","v":""},"","MINNESOTA","Stearns County",110,{"$f":"+R1386-N1386-P1386","v":11},133,"*",254,1.8426754284955972E-2,9.5238095238095233E-2]
[941,552,11,"Olmsted (Rochester), MN - Winona, MN","MN: Steele County (27147)","MN: Steele County (27147)","27147","  Steele  ",{"$f":"ROWS($L$2:L1387)","v":1386},{"$f":"IF(L1387=WORKSHEET!$B$1,I1387,\"\")","v":""},"","MINNESOTA","Steele County",25,{"$f":"+R1387-N1387-P1387","v":1},32,"N/A",58,1.8426754284955972E-2,3.4482758620689655E-2]
[608,null,11,"Douglas, MN - Pope, MN","MN: Stevens County (27149)","MN: Stevens County (27149)","27149","  Stevens  ",{"$f":"ROWS($L$2:L1388)","v":1387},{"$f":"IF(L1388=WORKSHEET!$B$1,I1388,\"\")","v":""},"","MINNESOTA","Stevens County","*","N/A","*","N/A",13,1.8426754284955972E-2,0.16216216216216217]
[592,null,11,"Kandiyohi, MN - Chippewa, MN","MN: Swift County (27151)","MN: Swift County (27151)","27151","  Swift  ",{"$f":"ROWS($L$2:L1389)","v":1388},{"$f":"IF(L1389=WORKSHEET!$B$1,I1389,\"\")","v":""},"","MINNESOTA","Swift County","*","*","*","N/A",18,1.8426754284955972E-2,0.16455696202531644]
[588,null,11,"Stearns (St. Cloud), MN - Benton, MN","MN: Todd County (27153)","MN: Todd County (27153)","27153","  Todd  ",{"$f":"ROWS($L$2:L1390)","v":1389},{"$f":"IF(L1390=WORKSHEET!$B$1,I1390,\"\")","v":""},"","MINNESOTA","Todd County",18,{"$f":"+R1390-N1390-P1390","v":3},20,"N/A",41,1.8426754284955972E-2,9.5238095238095233E-2]
[590,null,11,"Big Stone, MN - Traverse, MN","MN: Traverse County (27155)","MN: Traverse County (27155)","27155","  Traverse  ",{"$f":"ROWS($L$2:L1391)","v":1390},{"$f":"IF(L1391=WORKSHEET!$B$1,I1391,\"\")","v":""},"","MINNESOTA","Traverse County","*","*","*","N/A","*",1.8426754284955972E-2,8.8235294117647065E-2]
[941,552,11,"Olmsted (Rochester), MN - Winona, MN","MN: Wabasha County (27157)","MN: Wabasha County (27157)","27157","  Wabasha  ",{"$f":"ROWS($L$2:L1392)","v":1391},{"$f":"IF(L1392=WORKSHEET!$B$1,I1392,\"\")","v":""},"","MINNESOTA","Wabasha County",25,{"$f":"+R1392-N1392-P1392","v":0},21,"N/A",46,1.8426754284955972E-2,3.4482758620689655E-2]
[612,null,11,"Crow Wing, MN - Cass, MN","MN: Wadena County (27159)","MN: Wadena County (27159)","27159","  Wadena  ",{"$f":"ROWS($L$2:L1393)","v":1392},{"$f":"IF(L1393=WORKSHEET!$B$1,I1393,\"\")","v":""},"","MINNESOTA","Wadena County",12,{"$f":"+R1393-N1393-P1393","v":1},11,"N/A",24,1.8426754284955972E-2,0.17763157894736842]
[573,null,11,"Blue Earth, MN - Nicollet, MN","MN: Waseca County (27161)","MN: Waseca County (27161)","27161","  Waseca  ",{"$f":"ROWS($L$2:L1394)","v":1393},{"$f":"IF(L1394=WORKSHEET!$B$1,I1394,\"\")","v":""},"","MINNESOTA","Waseca County",11,{"$f":"+R1394-N1394-P1394","v":2},24,"N/A",37,1.8426754284955972E-2,5.3191489361702128E-2]
[286,null,11,"Ramsey (St. Paul), MN - Dakota, MN","MN: Washington County (27163)","MN: Washington County (27163)","27163","  Washington  ",{"$f":"ROWS($L$2:L1395)","v":1394},{"$f":"IF(L1395=WORKSHEET!$B$1,I1395,\"\")","v":""},"","MINNESOTA","Washington County",108,14,177,"*",300,1.8426754284955972E-2,8.850289495450786E-2]
[573,null,11,"Blue Earth, MN - Nicollet, MN","MN: Watonwan County (27165)","MN: Watonwan County (27165)","27165","  Watonwan  ",{"$f":"ROWS($L$2:L1396)","v":1395},{"$f":"IF(L1396=WORKSHEET!$B$1,I1396,\"\")","v":""},"","MINNESOTA","Watonwan County",14,"N/A","*","N/A",23,1.8426754284955972E-2,5.3191489361702128E-2]
[547,null,11,"Clay, MN - Becker, MN","MN: Wilkin County (27167)","MN: Wilkin County (27167)","27167","  Wilkin  ",{"$f":"ROWS($L$2:L1397)","v":1396},{"$f":"IF(L1397=WORKSHEET!$B$1,I1397,\"\")","v":""},"","MINNESOTA","Wilkin County","*","*","*","N/A",14,1.8426754284955972E-2,0.20317460317460317]
[941,552,11,"Olmsted (Rochester), MN - Winona, MN","MN: Winona County (27169)","MN: Winona County (27169)","27169","  Winona  ",{"$f":"ROWS($L$2:L1398)","v":1397},{"$f":"IF(L1398=WORKSHEET!$B$1,I1398,\"\")","v":""},"","MINNESOTA","Winona County",34,{"$f":"+R1398-N1398-P1398","v":1},39,"N/A",74,1.8426754284955972E-2,3.4482758620689655E-2]
[540,null,11,"Hennepin (Minneapolis), MN - Anoka, MN","MN: Wright County (27171)","MN: Wright County (27171)","27171","  Wright  ",{"$f":"ROWS($L$2:L1399)","v":1398},{"$f":"IF(L1399=WORKSHEET!$B$1,I1399,\"\")","v":""},"","MINNESOTA","Wright County",71,{"$f":"+R1399-N1399-P1399","v":5},118,"*",194,1.8426754284955972E-2,8.9527027027027029E-2]
[592,null,11,"Kandiyohi, MN - Chippewa, MN","MN: Yellow Medicine County (27173)","MN: Yellow Medicine County (27173)","27173","  Yellow Medcine  ",{"$f":"ROWS($L$2:L1400)","v":1399},{"$f":"IF(L1400=WORKSHEET!$B$1,I1400,\"\")","v":""},"","MINNESOTA","Yellow Medicine County",15,"*","*","N/A",25,1.8426754284955972E-2,0.16455696202531644]
[566,null,12,"Adair, MO - Sullivan, MO","MO: Adair County (29001)","MO: Adair County (29001)","29001","Adair  ",{"$f":"ROWS($L$2:L1401)","v":1400},{"$f":"IF(L1401=WORKSHEET!$B$1,I1401,\"\")","v":""},"","MISSOURI","Adair County",22,"N/A","*","N/A",28,1.8657129718217477E-2,9.0909090909090912E-2]
[953,591,12,"Buchanan (St. Joseph), MO - Nodaway, MO","MO: Andrew County (29003)","MO: Andrew County (29003)","29003","  Andrew  ",{"$f":"ROWS($L$2:L1402)","v":1401},{"$f":"IF(L1402=WORKSHEET!$B$1,I1402,\"\")","v":""},"","MISSOURI","Andrew County","*","*","*","N/A",21,1.8657129718217477E-2,0.13375796178343899]
[678,null,12,"Atchison, MO - Holt, MO","MO: Atchison County (29005)","MO: Atchison County (29005)","29005","  Atchison  ",{"$f":"ROWS($L$2:L1403)","v":1402},{"$f":"IF(L1403=WORKSHEET!$B$1,I1403,\"\")","v":""},"","MISSOURI","Atchison County","*","*","*","N/A","*",1.8657129718217477E-2,9.0909090909090912E-2]
[666,null,12,"Audrain, MO - Montgomery, MO","MO: Audrain County (29007)","MO: Audrain County (29007)","29007","  Audrain  ",{"$f":"ROWS($L$2:L1404)","v":1403},{"$f":"IF(L1404=WORKSHEET!$B$1,I1404,\"\")","v":""},"","MISSOURI","Audrain County",27,{"$f":"+R1404-N1404-P1404","v":2},16,"N/A",45,1.8657129718217477E-2,0.17777777777777778]
[549,null,12,"Greene (Springfield), MO - Christian, MO","MO: Barry County (29009)","MO: Barry County (29009)","29009","  Barry  ",{"$f":"ROWS($L$2:L1405)","v":1404},{"$f":"IF(L1405=WORKSHEET!$B$1,I1405,\"\")","v":""},"","MISSOURI","Barry County",27,12,15,"N/A",54,1.8657129718217477E-2,0.29715061058344638]
[938,549,12,"Jasper (Joplin), MO - Newton, MO","MO: Barton County (29011)","MO: Barton County (29011)","29011","  Barton  ",{"$f":"ROWS($L$2:L1406)","v":1405},{"$f":"IF(L1406=WORKSHEET!$B$1,I1406,\"\")","v":""},"","MISSOURI","Barton County","*","*","*","N/A",14,1.8657129718217477E-2,0.29715061058344638]
[607,null,12,"Henry, MO - Bates, MO","MO: Bates County (29013)","MO: Bates County (29013)","29013","  Bates  ",{"$f":"ROWS($L$2:L1407)","v":1406},{"$f":"IF(L1407=WORKSHEET!$B$1,I1407,\"\")","v":""},"","MISSOURI","Bates County",13,{"$f":"+R1407-N1407-P1407","v":3},15,"*",31,1.8657129718217477E-2,0.14814814814814814]
[656,null,12,"Pettis, MO - Saline, MO","MO: Benton County (29015)","MO: Benton County (29015)","29015","  Benton  ",{"$f":"ROWS($L$2:L1408)","v":1407},{"$f":"IF(L1408=WORKSHEET!$B$1,I1408,\"\")","v":""},"","MISSOURI","Benton County",19,{"$f":"+R1408-N1408-P1408","v":2},15,"N/A",36,1.8657129718217477E-2,0.14728682170542637]
[944,563,12,"Cape Girardeau, MO - Butler, MO","MO: Bollinger County (29017)","MO: Bollinger County (29017)","29017","  Bollinger  ",{"$f":"ROWS($L$2:L1409)","v":1408},{"$f":"IF(L1409=WORKSHEET!$B$1,I1409,\"\")","v":""},"","MISSOURI","Bollinger County","*","*","*","N/A",14,1.8657129718217477E-2,9.2077087794432549E-2]
[553,null,12,"Boone (Columbia), MO - Randolph, MO","MO: Boone County (29019)","MO: Boone County (29019)","29019","  Boone  ",{"$f":"ROWS($L$2:L1410)","v":1409},{"$f":"IF(L1410=WORKSHEET!$B$1,I1410,\"\")","v":""},"","MISSOURI","Boone County",124,30,88,"N/A",242,1.8657129718217477E-2,0.14859437751004015]
[953,591,12,"Buchanan (St. Joseph), MO - Nodaway, MO","MO: Buchanan County (29021)","MO: Buchanan County (29021)","29021","  Buchanan  ",{"$f":"ROWS($L$2:L1411)","v":1410},{"$f":"IF(L1411=WORKSHEET!$B$1,I1411,\"\")","v":""},{"$f":"IFERROR(SMALL($J$2:$J$3142,I1411),\"\")","v":""},"MISSOURI","Buchanan County",92,12,54,"N/A",158,1.8657129718217477E-2,0.13375796178343949]
[944,null,12,"Cape Girardeau, MO - Butler, MO","MO: Butler County (29023)","MO: Butler County (29023)","29023","  Butler  ",{"$f":"ROWS($L$2:L1412)","v":1411},{"$f":"IF(L1412=WORKSHEET!$B$1,I1412,\"\")","v":""},"","MISSOURI","Butler County",55,{"$f":"+R1412-N1412-P1412","v":9},17,"*",81,1.8657129718217477E-2,{"$f":"+O1412/(N1412+O1412)","v":0.140625}]
[548,null,12,"Jackson (Kansas City), MO - Clay, MO","MO: Caldwell County (29025)","MO: Caldwell County (29025)","29025","  Caldwell  ",{"$f":"ROWS($L$2:L1413)","v":1412},{"$f":"IF(L1413=WORKSHEET!$B$1,I1413,\"\")","v":""},"","MISSOURI","Caldwell County","*","N/A","*","N/A",11,1.8657129718217477E-2,9.2194570135746612E-2]
[581,null,12,"Cole, MO - Callaway, MO","MO: Callaway County (29027)","MO: Callaway County (29027)","29027","  Callaway  ",{"$f":"ROWS($L$2:L1414)","v":1413},{"$f":"IF(L1414=WORKSHEET!$B$1,I1414,\"\")","v":""},"","MISSOURI","Callaway County",36,{"$f":"+R1414-N1414-P1414","v":7},17,"N/A",60,1.8657129718217477E-2,0.2032967032967033]
[685,null,12,"Camden, MO","MO: Camden County (29029)","MO: Camden County (29029)","29029","  Camden  ",{"$f":"ROWS($L$2:L1415)","v":1414},{"$f":"IF(L1415=WORKSHEET!$B$1,I1415,\"\")","v":""},"","MISSOURI","Camden County",15,{"$f":"+R1415-N1415-P1415","v":5},20,"N/A",40,1.8657129718217477E-2,0.25]
[944,563,12,"Cape Girardeau, MO - Butler, MO","MO: Cape Girardeau County (29031)","MO: Cape Girardeau County (29031)","29031","  Cape Girardeau  ",{"$f":"ROWS($L$2:L1416)","v":1415},{"$f":"IF(L1416=WORKSHEET!$B$1,I1416,\"\")","v":""},"","MISSOURI","Cape Girardeau County",71,{"$f":"+R1416-N1416-P1416","v":11},36,"*",118,1.8657129718217477E-2,9.2077087794432549E-2]
[657,null,12,"Livingston, MO - Carroll, MO","MO: Carroll County (29033)","MO: Carroll County (29033)","29033","  Carroll  ",{"$f":"ROWS($L$2:L1417)","v":1416},{"$f":"IF(L1417=WORKSHEET!$B$1,I1417,\"\")","v":""},"","MISSOURI","Carroll County","*","*","*","N/A",13,1.8657129718217477E-2,0.31818181818181818]
[944,563,12,"Cape Girardeau, MO - Butler, MO","MO: Carter County (29035)","MO: Carter County (29035)","29035","  Carter  ",{"$f":"ROWS($L$2:L1418)","v":1417},{"$f":"IF(L1418=WORKSHEET!$B$1,I1418,\"\")","v":""},"","MISSOURI","Carter County","*","*","*","N/A","*",1.8657129718217477E-2,9.2077087794432549E-2]
[548,null,12,"Jackson (Kansas City), MO - Clay, MO","MO: Cass County (29037)","MO: Cass County (29037)","29037","  Cass  ",{"$f":"ROWS($L$2:L1419)","v":1418},{"$f":"IF(L1419=WORKSHEET!$B$1,I1419,\"\")","v":""},"","MISSOURI","Cass County",76,{"$f":"+R1419-N1419-P1419","v":7},80,"*",163,1.8657129718217477E-2,9.2194570135746612E-2]
[639,null,12,"Vernon, MO - Cedar, MO","MO: Cedar County (29039)","MO: Cedar County (29039)","29039","  Cedar  ",{"$f":"ROWS($L$2:L1420)","v":1419},{"$f":"IF(L1420=WORKSHEET!$B$1,I1420,\"\")","v":""},"","MISSOURI","Cedar County",14,"*","*","N/A",30,1.8657129718217477E-2,0.27272727272727271]
[553,null,12,"Boone (Columbia), MO - Randolph, MO","MO: Chariton County (29041)","MO: Chariton County (29041)","29041","  Chariton  ",{"$f":"ROWS($L$2:L1421)","v":1420},{"$f":"IF(L1421=WORKSHEET!$B$1,I1421,\"\")","v":""},"","MISSOURI","Chariton County","*","N/A","*","N/A",11,1.8657129718217477E-2,0.14859437751004015]
[549,null,12,"Greene (Springfield), MO - Christian, MO","MO: Christian County (29043)","MO: Christian County (29043)","29043","  Christian  ",{"$f":"ROWS($L$2:L1422)","v":1421},{"$f":"IF(L1422=WORKSHEET!$B$1,I1422,\"\")","v":""},"","MISSOURI","Christian County",34,24,42,"N/A",100,1.8657129718217477E-2,0.29715061058344638]
[922,367,12,"Clark, MO","MO: Clark County (29045)","MO: Clark County (29045)","29045","  Clark  ",{"$f":"ROWS($L$2:L1423)","v":1422},{"$f":"IF(L1423=WORKSHEET!$B$1,I1423,\"\")","v":""},"","MISSOURI","Clark County","*","*","*","N/A","*",1.8657129718217477E-2,0.16666666666666666]
[548,null,12,"Jackson (Kansas City), MO - Clay, MO","MO: Clay County (29047)","MO: Clay County (29047)","29047","  Clay  ",{"$f":"ROWS($L$2:L1424)","v":1423},{"$f":"IF(L1424=WORKSHEET!$B$1,I1424,\"\")","v":""},"","MISSOURI","Clay County",173,27,159,"N/A",359,1.8657129718217477E-2,9.2194570135746612E-2]
[548,null,12,"Jackson (Kansas City), MO - Clay, MO","MO: Clinton County (29049)","MO: Clinton County (29049)","29049","  Clinton  ",{"$f":"ROWS($L$2:L1425)","v":1424},{"$f":"IF(L1425=WORKSHEET!$B$1,I1425,\"\")","v":""},"","MISSOURI","Clinton County",19,{"$f":"+R1425-N1425-P1425","v":3},16,"N/A",38,1.8657129718217477E-2,9.2194570135746612E-2]
[581,null,12,"Cole, MO - Callaway, MO","MO: Cole County (29051)","MO: Cole County (29051)","29051","  Cole  ",{"$f":"ROWS($L$2:L1426)","v":1425},{"$f":"IF(L1426=WORKSHEET!$B$1,I1426,\"\")","v":""},"","MISSOURI","Cole County",40,{"$f":"+R1426-N1426-P1426","v":10},49,"*",99,1.8657129718217477E-2,0.2032967032967033]
[553,null,12,"Boone (Columbia), MO - Randolph, MO","MO: Cooper County (29053)","MO: Cooper County (29053)","29053","  Cooper  ",{"$f":"ROWS($L$2:L1427)","v":1426},{"$f":"IF(L1427=WORKSHEET!$B$1,I1427,\"\")","v":""},"","MISSOURI","Cooper County",16,{"$f":"+R1427-N1427-P1427","v":1},13,"N/A",30,1.8657129718217477E-2,0.14859437751004015]
[581,null,12,"Cole, MO - Callaway, MO","MO: Crawford County (29055)","MO: Crawford County (29055)","29055","  Crawford  ",{"$f":"ROWS($L$2:L1428)","v":1427},{"$f":"IF(L1428=WORKSHEET!$B$1,I1428,\"\")","v":""},"","MISSOURI","Crawford County",24,{"$f":"+R1428-N1428-P1428","v":6},12,"N/A",42,1.8657129718217477E-2,0.2032967032967033]
[549,null,12,"Greene (Springfield), MO - Christian, MO","MO: Dade County (29057)","MO: Dade County (29057)","29057","  Dade  ",{"$f":"ROWS($L$2:L1429)","v":1428},{"$f":"IF(L1429=WORKSHEET!$B$1,I1429,\"\")","v":""},"","MISSOURI","Dade County","*","*","*","N/A",15,1.8657129718217477E-2,0.29715061058344638]
[549,null,12,"Greene (Springfield), MO - Christian, MO","MO: Dallas County (29059)","MO: Dallas County (29059)","29059","  Dallas  ",{"$f":"ROWS($L$2:L1430)","v":1429},{"$f":"IF(L1430=WORKSHEET!$B$1,I1430,\"\")","v":""},"","MISSOURI","Dallas County","*",12,"*","N/A",26,1.8657129718217477E-2,0.29715061058344638]
[548,null,12,"Jackson (Kansas City), MO - Clay, MO","MO: Daviess County (29061)","MO: Daviess County (29061)","29061","  Daviess  ",{"$f":"ROWS($L$2:L1431)","v":1430},{"$f":"IF(L1431=WORKSHEET!$B$1,I1431,\"\")","v":""},"","MISSOURI","Daviess County","*","*","*","N/A","*",1.8657129718217477E-2,9.2194570135746612E-2]
[953,591,12,"Buchanan (St. Joseph), MO - Nodaway, MO","MO: DeKalb County (29063)","MO: DeKalb County (29063)","29063","  De Kalb  ",{"$f":"ROWS($L$2:L1432)","v":1431},{"$f":"IF(L1432=WORKSHEET!$B$1,I1432,\"\")","v":""},"","MISSOURI","DeKalb County","*","N/A","*","N/A","*",1.8657129718217477E-2,0.13375796178343949]
[627,null,12,"Pulaski, MO - Phelps, MO","MO: Dent County (29065)","MO: Dent County (29065)","29065","  Dent  ",{"$f":"ROWS($L$2:L1433)","v":1432},{"$f":"IF(L1433=WORKSHEET!$B$1,I1433,\"\")","v":""},"","MISSOURI","Dent County",15,"*","*","N/A",25,1.8657129718217477E-2,0.21008403361344538]
[549,null,12,"Greene (Springfield), MO - Christian, MO","MO: Douglas County (29067)","MO: Douglas County (29067)","29067","  Douglas  ",{"$f":"ROWS($L$2:L1434)","v":1433},{"$f":"IF(L1434=WORKSHEET!$B$1,I1434,\"\")","v":""},"","MISSOURI","Douglas County","*","*","*","N/A",20,1.8657129718217477E-2,0.29715061058344638]
[945,571,12,"Dunklin, MO","MO: Dunklin County (29069)","MO: Dunklin County (29069)","29069","  Dunklin  ",{"$f":"ROWS($L$2:L1435)","v":1434},{"$f":"IF(L1435=WORKSHEET!$B$1,I1435,\"\")","v":""},"","MISSOURI","Dunklin County",47,{"$f":"+R1435-N1435-P1435","v":6},11,"*",64,1.8657129718217477E-2,0.22712933753943218]
[541,null,12,"St. Louis, MO - St. Louis City, MO","MO: Franklin County (29071)","MO: Franklin County (29071)","29071","  Franklin  ",{"$f":"ROWS($L$2:L1436)","v":1435},{"$f":"IF(L1436=WORKSHEET!$B$1,I1436,\"\")","v":""},"","MISSOURI","Franklin County",89,37,83,"N/A",209,1.8657129718217477E-2,0.11064659977703456]
[581,null,12,"Cole, MO - Callaway, MO","MO: Gasconade County (29073)","MO: Gasconade County (29073)","29073","  Gasconade  ",{"$f":"ROWS($L$2:L1437)","v":1436},{"$f":"IF(L1437=WORKSHEET!$B$1,I1437,\"\")","v":""},"","MISSOURI","Gasconade County","*","*","*","N/A",25,1.8657129718217477E-2,0.2032967032967033]
[953,591,12,"Buchanan (St. Joseph), MO - Nodaway, MO","MO: Gentry County (29075)","MO: Gentry County (29075)","29075","  Gentry  ",{"$f":"ROWS($L$2:L1438)","v":1437},{"$f":"IF(L1438=WORKSHEET!$B$1,I1438,\"\")","v":""},"","MISSOURI","Gentry County","*","*","*","N/A",14,1.8657129718217477E-2,0.13375796178343949]
[549,null,12,"Greene (Springfield), MO - Christian, MO","MO: Greene County (29077)","MO: Greene County (29077)","29077","  Greene  ",{"$f":"ROWS($L$2:L1439)","v":1438},{"$f":"IF(L1439=WORKSHEET!$B$1,I1439,\"\")","v":""},"","MISSOURI","Greene County",282,76,158,"*",517,1.8657129718217477E-2,0.29715061058344638]
[683,null,12,"Grundy, MO - Mercer, MO","MO: Grundy County (29079)","MO: Grundy County (29079)","29079","  Grundy  ",{"$f":"ROWS($L$2:L1440)","v":1439},{"$f":"IF(L1440=WORKSHEET!$B$1,I1440,\"\")","v":""},"","MISSOURI","Grundy County",11,"*","*","N/A",17,1.8657129718217477E-2,7.1428571428571425E-2]
[953,591,12,"Buchanan (St. Joseph), MO - Nodaway, MO","MO: Harrison County (29081)","MO: Harrison County (29081)","29081","  Harrison  ",{"$f":"ROWS($L$2:L1441)","v":1440},{"$f":"IF(L1441=WORKSHEET!$B$1,I1441,\"\")","v":""},"","MISSOURI","Harrison County","*","N/A",13,"N/A",21,1.8657129718217477E-2,0.13375796178343949]
[607,null,12,"Henry, MO - Bates, MO","MO: Henry County (29083)","MO: Henry County (29083)","29083","  Henry  ",{"$f":"ROWS($L$2:L1442)","v":1441},{"$f":"IF(L1442=WORKSHEET!$B$1,I1442,\"\")","v":""},"","MISSOURI","Henry County",28,{"$f":"+R1442-N1442-P1442","v":3},15,"*",46,1.8657129718217477E-2,0.14814814814814814]
[549,null,12,"Greene (Springfield), MO - Christian, MO","MO: Hickory County (29085)","MO: Hickory County (29085)","29085","  Hickory  ",{"$f":"ROWS($L$2:L1443)","v":1442},{"$f":"IF(L1443=WORKSHEET!$B$1,I1443,\"\")","v":""},"","MISSOURI","Hickory County","*","*","N/A","N/A","*",1.8657129718217477E-2,0.29715061058344638]
[678,null,12,"Atchison, MO - Holt, MO","MO: Holt County (29087)","MO: Holt County (29087)","29087","  Holt  ",{"$f":"ROWS($L$2:L1444)","v":1443},{"$f":"IF(L1444=WORKSHEET!$B$1,I1444,\"\")","v":""},"","MISSOURI","Holt County","*","*","*","N/A","*",1.8657129718217477E-2,9.0909090909090912E-2]
[553,null,12,"Boone (Columbia), MO - Randolph, MO","MO: Howard County (29089)","MO: Howard County (29089)","29089","  Howard  ",{"$f":"ROWS($L$2:L1445)","v":1444},{"$f":"IF(L1445=WORKSHEET!$B$1,I1445,\"\")","v":""},"","MISSOURI","Howard County",12,"*","*","*",20,1.8657129718217477E-2,0.14859437751004015]
[946,574,12,"Howell, MO - Oregon, MO","MO: Howell County (29091)","MO: Howell County (29091)","29091","  Howell  ",{"$f":"ROWS($L$2:L1446)","v":1445},{"$f":"IF(L1446=WORKSHEET!$B$1,I1446,\"\")","v":""},"","MISSOURI","Howell County",49,11,23,"N/A",83,1.8657129718217477E-2,0.28205128205128205]
[541,null,12,"St. Louis, MO - St. Louis City, MO","MO: Iron County (29093)","MO: Iron County (29093)","29093","  Iron  ",{"$f":"ROWS($L$2:L1447)","v":1446},{"$f":"IF(L1447=WORKSHEET!$B$1,I1447,\"\")","v":""},"","MISSOURI","Iron County",11,"*","*","N/A",17,1.8657129718217477E-2,0.11064659977703456]
[548,null,12,"Jackson (Kansas City), MO - Clay, MO","MO: Jackson County (29095)","MO: Jackson County (29095)","29095","  Jackson  ",{"$f":"ROWS($L$2:L1448)","v":1447},{"$f":"IF(L1448=WORKSHEET!$B$1,I1448,\"\")","v":""},"","MISSOURI","Jackson County",1179,101,600,"*",1883,1.8657129718217477E-2,9.2194570135746612E-2]
[938,539,12,"Jasper (Joplin), MO - Newton, MO","MO: Jasper County (29097)","MO: Jasper County (29097)","29097","  Jasper  ",{"$f":"ROWS($L$2:L1449)","v":1448},{"$f":"IF(L1449=WORKSHEET!$B$1,I1449,\"\")","v":""},"","MISSOURI","Jasper County",130,25,70,"N/A",225,1.8657129718217477E-2,0.18450184501845018]
[541,null,12,"St. Louis, MO - St. Louis City, MO","MO: Jefferson County (29099)","MO: Jefferson County (29099)","29099","  Jefferson  ",{"$f":"ROWS($L$2:L1450)","v":1449},{"$f":"IF(L1450=WORKSHEET!$B$1,I1450,\"\")","v":""},"","MISSOURI","Jefferson County",174,39,123,"N/A",336,1.8657129718217477E-2,0.11064659977703456]
[548,null,12,"Jackson (Kansas City), MO - Clay, MO","MO: Johnson County (29101)","MO: Johnson County (29101)","29101","  Johnson  ",{"$f":"ROWS($L$2:L1451)","v":1450},{"$f":"IF(L1451=WORKSHEET!$B$1,I1451,\"\")","v":""},"","MISSOURI","Johnson County",34,{"$f":"+R1451-N1451-P1451","v":9},24,"N/A",67,1.8657129718217477E-2,9.2194570135746612E-2]
[566,null,12,"Adair, MO - Sullivan, MO","MO: Knox County (29103)","MO: Knox County (29103)","29103","  Knox  ",{"$f":"ROWS($L$2:L1452)","v":1451},{"$f":"IF(L1452=WORKSHEET!$B$1,I1452,\"\")","v":""},"","MISSOURI","Knox County","*","N/A","*","N/A","*",1.8657129718217477E-2,9.0909090909090912E-2]
[549,null,12,"Greene (Springfield), MO - Christian, MO","MO: Laclede County (29105)","MO: Laclede County (29105)","29105","  Laclede  ",{"$f":"ROWS($L$2:L1453)","v":1452},{"$f":"IF(L1453=WORKSHEET!$B$1,I1453,\"\")","v":""},"","MISSOURI","Laclede County",27,12,16,"N/A",55,1.8657129718217477E-2,0.29715061058344638]
[548,null,12,"Jackson (Kansas City), MO - Clay, MO","MO: Lafayette County (29107)","MO: Lafayette County (29107)","29107","  Lafayette  ",{"$f":"ROWS($L$2:L1454)","v":1453},{"$f":"IF(L1454=WORKSHEET!$B$1,I1454,\"\")","v":""},"","MISSOURI","Lafayette County",32,{"$f":"+R1454-N1454-P1454","v":4},21,"N/A",57,1.8657129718217477E-2,9.2194570135746612E-2]
[549,null,12,"Greene (Springfield), MO - Christian, MO","MO: Lawrence County (29109)","MO: Lawrence County (29109)","29109","  Lawrence  ",{"$f":"ROWS($L$2:L1455)","v":1454},{"$f":"IF(L1455=WORKSHEET!$B$1,I1455,\"\")","v":""},"","MISSOURI","Lawrence County",27,11,23,"N/A",61,1.8657129718217477E-2,0.29715061058344638]
[920,353,12,"Marion, MO - Pike, MO","MO: Lewis County (29111)","MO: Lewis County (29111)","29111","  Lewis  ",{"$f":"ROWS($L$2:L1456)","v":1455},{"$f":"IF(L1456=WORKSHEET!$B$1,I1456,\"\")","v":""},"","MISSOURI","Lewis County","*","*","*","N/A","*",1.8657129718217477E-2,0.26190476190476197]
[599,null,12,"St. Charles (St. Charles), MO - Lincoln, MO","MO: Lincoln County (29113)","MO: Lincoln County (29113)","29113","  Lincoln  ",{"$f":"ROWS($L$2:L1457)","v":1456},{"$f":"IF(L1457=WORKSHEET!$B$1,I1457,\"\")","v":""},"","MISSOURI","Lincoln County",37,13,31,"N/A",81,1.8657129718217477E-2,0.23786407766990292]
[673,null,12,"Linn, MO","MO: Linn County (29115)","MO: Linn County (29115)","29115","  Linn  ",{"$f":"ROWS($L$2:L1458)","v":1457},{"$f":"IF(L1458=WORKSHEET!$B$1,I1458,\"\")","v":""},"","MISSOURI","Linn County","*","*","*","N/A",25,1.8657129718217477E-2,0.33333333333333331]
[657,null,12,"Livingston, MO - Carroll, MO","MO: Livingston County (29117)","MO: Livingston County (29117)","29117","  Livingston  ",{"$f":"ROWS($L$2:L1459)","v":1458},{"$f":"IF(L1459=WORKSHEET!$B$1,I1459,\"\")","v":""},"","MISSOURI","Livingston County","*","*",11,"*",21,1.8657129718217477E-2,0.31818181818181818]
[553,null,12,"Boone (Columbia), MO - Randolph, MO","MO: Macon County (29121)","MO: Macon County (29121)","29121","  Macon  ",{"$f":"ROWS($L$2:L1460)","v":1459},{"$f":"IF(L1460=WORKSHEET!$B$1,I1460,\"\")","v":""},"","MISSOURI","Macon County",20,{"$f":"+R1460-N1460-P1460","v":1},12,"N/A",33,1.8657129718217477E-2,0.14859437751004015]
[663,null,12,"Madison, MO","MO: Madison County (29123)","MO: Madison County (29123)","29123","  Madison  ",{"$f":"ROWS($L$2:L1461)","v":1460},{"$f":"IF(L1461=WORKSHEET!$B$1,I1461,\"\")","v":""},"","MISSOURI","Madison County",12,"N/A","*","N/A",20,1.8657129718217477E-2,0]
[581,null,12,"Cole, MO - Callaway, MO","MO: Maries County (29125)","MO: Maries County (29125)","29125","  Maries  ",{"$f":"ROWS($L$2:L1462)","v":1461},{"$f":"IF(L1462=WORKSHEET!$B$1,I1462,\"\")","v":""},"","MISSOURI","Maries County","*","*","N/A","N/A","*",1.8657129718217477E-2,0.2032967032967033]
[920,353,12,"Marion, MO - Pike, MO","MO: Marion County (29127)","MO: Marion County (29127)","29127","  Marion  ",{"$f":"ROWS($L$2:L1463)","v":1462},{"$f":"IF(L1463=WORKSHEET!$B$1,I1463,\"\")","v":""},"","MISSOURI","Marion County",32,{"$f":"+R1463-N1463-P1463","v":8},21,"N/A",61,1.8657129718217477E-2,0.26190476190476192]
[938,539,12,"Jasper (Joplin), MO - Newton, MO","MO: McDonald County (29119)","MO: McDonald County (29119)","29119","  Mc Donald  ",{"$f":"ROWS($L$2:L1464)","v":1463},{"$f":"IF(L1464=WORKSHEET!$B$1,I1464,\"\")","v":""},"","MISSOURI","McDonald County",20,{"$f":"+R1464-N1464-P1464","v":4},13,"N/A",37,1.8657129718217477E-2,0.18450184501845018]
[683,null,12,"Grundy, MO - Mercer, MO","MO: Mercer County (29129)","MO: Mercer County (29129)","29129","  Mercer  ",{"$f":"ROWS($L$2:L1465)","v":1464},{"$f":"IF(L1465=WORKSHEET!$B$1,I1465,\"\")","v":""},"","MISSOURI","Mercer County","*","N/A","*","N/A","*",1.8657129718217477E-2,7.1428571428571425E-2]
[581,null,12,"Cole, MO - Callaway, MO","MO: Miller County (29131)","MO: Miller County (29131)","29131","  Miller  ",{"$f":"ROWS($L$2:L1466)","v":1465},{"$f":"IF(L1466=WORKSHEET!$B$1,I1466,\"\")","v":""},"","MISSOURI","Miller County",18,{"$f":"+R1466-N1466-P1466","v":3},12,"N/A",33,1.8657129718217477E-2,0.2032967032967033]
[944,563,12,"Cape Girardeau, MO - Butler, MO","MO: Mississippi County (29133)","MO: Mississippi County (29133)","29133","  Mississippi  ",{"$f":"ROWS($L$2:L1467)","v":1466},{"$f":"IF(L1467=WORKSHEET!$B$1,I1467,\"\")","v":""},"","MISSOURI","Mississippi County",23,"*","*","N/A",34,1.8657129718217477E-2,9.2077087794432549E-2]
[581,null,12,"Cole, MO - Callaway, MO","MO: Moniteau County (29135)","MO: Moniteau County (29135)","29135","  Moniteau  ",{"$f":"ROWS($L$2:L1468)","v":1467},{"$f":"IF(L1468=WORKSHEET!$B$1,I1468,\"\")","v":""},"","MISSOURI","Moniteau County","*","*","*","N/A",15,1.8657129718217477E-2,0.2032967032967033]
[666,null,12,"Audrain, MO - Montgomery, MO","MO: Monroe County (29137)","MO: Monroe County (29137)","29137","  Monroe  ",{"$f":"ROWS($L$2:L1469)","v":1468},{"$f":"IF(L1469=WORKSHEET!$B$1,I1469,\"\")","v":""},"","MISSOURI","Monroe County","*","N/A","*","N/A","*",1.8657129718217477E-2,0.17777777777777778]
[666,null,12,"Audrain, MO - Montgomery, MO","MO: Montgomery County (29139)","MO: Montgomery County (29139)","29139","  Montgomery  ",{"$f":"ROWS($L$2:L1470)","v":1469},{"$f":"IF(L1470=WORKSHEET!$B$1,I1470,\"\")","v":""},"","MISSOURI","Montgomery County","*","*","*","N/A",21,1.8657129718217477E-2,0.17777777777777778]
[656,null,12,"Pettis, MO - Saline, MO","MO: Morgan County (29141)","MO: Morgan County (29141)","29141","  Morgan  ",{"$f":"ROWS($L$2:L1471)","v":1470},{"$f":"IF(L1471=WORKSHEET!$B$1,I1471,\"\")","v":""},"","MISSOURI","Morgan County",12,"*","*","N/A",25,1.8657129718217477E-2,0.14728682170542637]
[944,563,12,"Cape Girardeau, MO - Butler, MO","MO: New Madrid County (29143)","MO: New Madrid County (29143)","29143","  New Madrid  ",{"$f":"ROWS($L$2:L1472)","v":1471},{"$f":"IF(L1472=WORKSHEET!$B$1,I1472,\"\")","v":""},"","MISSOURI","New Madrid County",38,{"$f":"+R1472-N1472-P1472","v":3},11,"N/A",52,1.8657129718217477E-2,9.2077087794432549E-2]
[938,539,12,"Jasper (Joplin), MO - Newton, MO","MO: Newton County (29145)","MO: Newton County (29145)","29145","  Newton  ",{"$f":"ROWS($L$2:L1473)","v":1472},{"$f":"IF(L1473=WORKSHEET!$B$1,I1473,\"\")","v":""},"","MISSOURI","Newton County",44,13,24,"N/A",81,1.8657129718217477E-2,0.18450184501845018]
[953,591,12,"Buchanan (St. Joseph), MO - Nodaway, MO","MO: Nodaway County (29147)","MO: Nodaway County (29147)","29147","  Nodaway  ",{"$f":"ROWS($L$2:L1474)","v":1473},{"$f":"IF(L1474=WORKSHEET!$B$1,I1474,\"\")","v":""},"","MISSOURI","Nodaway County","*","*","*","N/A",20,1.8657129718217477E-2,0.13375796178343949]
[946,574,12,"Howell, MO - Oregon, MO","MO: Oregon County (29149)","MO: Oregon County (29149)","29149","  Oregon  ",{"$f":"ROWS($L$2:L1475)","v":1474},{"$f":"IF(L1475=WORKSHEET!$B$1,I1475,\"\")","v":""},{"$f":"IFERROR(SMALL($J$2:$J$3142,I1475),\"\")","v":""},"MISSOURI","Oregon County","*","*","*","N/A",18,1.8657129718217477E-2,0.28205128205128205]
[581,null,12,"Cole, MO - Callaway, MO","MO: Osage County (29151)","MO: Osage County (29151)","29151","  Osage  ",{"$f":"ROWS($L$2:L1476)","v":1475},{"$f":"IF(L1476=WORKSHEET!$B$1,I1476,\"\")","v":""},"","MISSOURI","Osage County","*","*","*","N/A",18,1.8657129718217477E-2,0.2032967032967033]
[549,null,12,"Greene (Springfield), MO - Christian, MO","MO: Ozark County (29153)","MO: Ozark County (29153)","29153","  Ozark  ",{"$f":"ROWS($L$2:L1477)","v":1476},{"$f":"IF(L1477=WORKSHEET!$B$1,I1477,\"\")","v":""},"","MISSOURI","Ozark County","*","*","*","N/A","*",1.8657129718217477E-2,0.29715061058344638]
[956,614,12,"Pemiscot, MO","MO: Pemiscot County (29155)","MO: Pemiscot County (29155)","29155","  Pemiscot  ",{"$f":"ROWS($L$2:L1478)","v":1477},{"$f":"IF(L1478=WORKSHEET!$B$1,I1478,\"\")","v":""},"","MISSOURI","Pemiscot County",47,{"$f":"+R1478-N1478-P1478","v":1},14,"N/A",62,1.8657129718217477E-2,6.8571428571428575E-2]
[944,563,12,"Cape Girardeau, MO - Butler, MO","MO: Perry County (29157)","MO: Perry County (29157)","29157","  Perry  ",{"$f":"ROWS($L$2:L1479)","v":1478},{"$f":"IF(L1479=WORKSHEET!$B$1,I1479,\"\")","v":""},"","MISSOURI","Perry County",22,"*","*","N/A",32,1.8657129718217477E-2,9.2077087794432549E-2]
[656,null,12,"Pettis, MO - Saline, MO","MO: Pettis County (29159)","MO: Pettis County (29159)","29159","  Pettis  ",{"$f":"ROWS($L$2:L1480)","v":1479},{"$f":"IF(L1480=WORKSHEET!$B$1,I1480,\"\")","v":""},"","MISSOURI","Pettis County",52,{"$f":"+R1480-N1480-P1480","v":4},19,"N/A",75,1.8657129718217477E-2,0.14728682170542637]
[627,null,12,"Pulaski, MO - Phelps, MO","MO: Phelps County (29161)","MO: Phelps County (29161)","29161","  Phelps  ",{"$f":"ROWS($L$2:L1481)","v":1480},{"$f":"IF(L1481=WORKSHEET!$B$1,I1481,\"\")","v":""},"","MISSOURI","Phelps County",42,12,21,"N/A",75,1.8657129718217477E-2,0.21008403361344538]
[920,627,12,"Marion, MO - Pike, MO","MO: Pike County (29163)","MO: Pike County (29163)","29163","  Pike  ",{"$f":"ROWS($L$2:L1482)","v":1481},{"$f":"IF(L1482=WORKSHEET!$B$1,I1482,\"\")","v":""},"","MISSOURI","Pike County",24,"*","*","N/A",33,1.8657129718217477E-2,0.21008403361344499]
[548,null,12,"Jackson (Kansas City), MO - Clay, MO","MO: Platte County (29165)","MO: Platte County (29165)","29165","  Platte  ",{"$f":"ROWS($L$2:L1483)","v":1482},{"$f":"IF(L1483=WORKSHEET!$B$1,I1483,\"\")","v":""},"","MISSOURI","Platte County",51,11,54,"N/A",116,1.8657129718217477E-2,9.2194570135746612E-2]
[549,null,12,"Greene (Springfield), MO - Christian, MO","MO: Polk County (29167)","MO: Polk County (29167)","29167","  Polk  ",{"$f":"ROWS($L$2:L1484)","v":1483},{"$f":"IF(L1484=WORKSHEET!$B$1,I1484,\"\")","v":""},"","MISSOURI","Polk County",20,19,11,"*",51,1.8657129718217477E-2,0.29715061058344638]
[627,null,12,"Pulaski, MO - Phelps, MO","MO: Pulaski County (29169)","MO: Pulaski County (29169)","29169","  Pulaski  ",{"$f":"ROWS($L$2:L1485)","v":1484},{"$f":"IF(L1485=WORKSHEET!$B$1,I1485,\"\")","v":""},"","MISSOURI","Pulaski County",32,{"$f":"+R1485-N1485-P1485","v":11},24,"*",67,1.8657129718217477E-2,0.21008403361344538]
[566,null,12,"Adair, MO - Sullivan, MO","MO: Putnam County (29171)","MO: Putnam County (29171)","29171","  Putnam  ",{"$f":"ROWS($L$2:L1486)","v":1485},{"$f":"IF(L1486=WORKSHEET!$B$1,I1486,\"\")","v":""},"","MISSOURI","Putnam County","*","*","*","N/A","*",1.8657129718217477E-2,9.0909090909090912E-2]
[920,353,12,"Marion, MO - Pike, MO","MO: Ralls County (29173)","MO: Ralls County (29173)","29173","  Ralls  ",{"$f":"ROWS($L$2:L1487)","v":1486},{"$f":"IF(L1487=WORKSHEET!$B$1,I1487,\"\")","v":""},"","MISSOURI","Ralls County","*","*","*","N/A",14,1.8657129718217477E-2,0.26190476190476192]
[553,null,12,"Boone (Columbia), MO - Randolph, MO","MO: Randolph County (29175)","MO: Randolph County (29175)","29175","  Randolph  ",{"$f":"ROWS($L$2:L1488)","v":1487},{"$f":"IF(L1488=WORKSHEET!$B$1,I1488,\"\")","v":""},"","MISSOURI","Randolph County",28,"*","*","*",42,1.8657129718217477E-2,0.14859437751004015]
[548,null,12,"Jackson (Kansas City), MO - Clay, MO","MO: Ray County (29177)","MO: Ray County (29177)","29177","  Ray  ",{"$f":"ROWS($L$2:L1489)","v":1488},{"$f":"IF(L1489=WORKSHEET!$B$1,I1489,\"\")","v":""},"","MISSOURI","Ray County",31,"*","*","N/A",42,1.8657129718217477E-2,9.2194570135746612E-2]
[627,null,12,"Pulaski, MO - Phelps, MO","MO: Reynolds County (29179)","MO: Reynolds County (29179)","29179","  Reynolds  ",{"$f":"ROWS($L$2:L1490)","v":1489},{"$f":"IF(L1490=WORKSHEET!$B$1,I1490,\"\")","v":""},"","MISSOURI","Reynolds County","*","*","*","N/A","*",1.8657129718217477E-2,0.21008403361344538]
[944,563,12,"Cape Girardeau, MO - Butler, MO","MO: Ripley County (29181)","MO: Ripley County (29181)","29181","  Ripley  ",{"$f":"ROWS($L$2:L1491)","v":1490},{"$f":"IF(L1491=WORKSHEET!$B$1,I1491,\"\")","v":""},"","MISSOURI","Ripley County",11,"N/A","*","*",19,1.8657129718217477E-2,9.2077087794432549E-2]
[656,null,12,"Pettis, MO - Saline, MO","MO: Saline County (29195)","MO: Saline County (29195)","29195","  Saline  ",{"$f":"ROWS($L$2:L1492)","v":1491},{"$f":"IF(L1492=WORKSHEET!$B$1,I1492,\"\")","v":""},"","MISSOURI","Saline County",27,{"$f":"+R1492-N1492-P1492","v":9},12,"N/A",48,1.8657129718217477E-2,0.14728682170542637]
[566,null,12,"Adair, MO - Sullivan, MO","MO: Schuyler County (29197)","MO: Schuyler County (29197)","29197","  Schuyler  ",{"$f":"ROWS($L$2:L1493)","v":1492},{"$f":"IF(L1493=WORKSHEET!$B$1,I1493,\"\")","v":""},"","MISSOURI","Schuyler County","*","N/A","*","N/A","*",1.8657129718217477E-2,9.0909090909090912E-2]
[566,null,12,"Adair, MO - Sullivan, MO","MO: Scotland County (29199)","MO: Scotland County (29199)","29199","  Scotland  ",{"$f":"ROWS($L$2:L1494)","v":1493},{"$f":"IF(L1494=WORKSHEET!$B$1,I1494,\"\")","v":""},"","MISSOURI","Scotland County","*","N/A","*","N/A","*",1.8657129718217477E-2,9.0909090909090912E-2]
[944,563,12,"Cape Girardeau, MO - Butler, MO","MO: Scott County (29201)","MO: Scott County (29201)","29201","  Scott  ",{"$f":"ROWS($L$2:L1495)","v":1494},{"$f":"IF(L1495=WORKSHEET!$B$1,I1495,\"\")","v":""},"","MISSOURI","Scott County",89,{"$f":"+R1495-N1495-P1495","v":11},26,"*",126,1.8657129718217477E-2,9.2077087794432549E-2]
[946,574,12,"Howell, MO - Oregon, MO","MO: Shannon County (29203)","MO: Shannon County (29203)","29203","  Shannon  ",{"$f":"ROWS($L$2:L1496)","v":1495},{"$f":"IF(L1496=WORKSHEET!$B$1,I1496,\"\")","v":""},"","MISSOURI","Shannon County","*","*","*","N/A",13,1.8657129718217477E-2,0.28205128205128205]
[553,null,12,"Boone (Columbia), MO - Randolph, MO","MO: Shelby County (29205)","MO: Shelby County (29205)","29205","  Shelby  ",{"$f":"ROWS($L$2:L1497)","v":1496},{"$f":"IF(L1497=WORKSHEET!$B$1,I1497,\"\")","v":""},"","MISSOURI","Shelby County","*","*","*","N/A","*",1.8657129718217477E-2,0.14859437751004015]
[599,null,12,"St. Charles (St. Charles), MO - Lincoln, MO","MO: St. Charles County (29183)","MO: St. Charles County (29183)","29183","  St. Charles  ",{"$f":"ROWS($L$2:L1498)","v":1497},{"$f":"IF(L1498=WORKSHEET!$B$1,I1498,\"\")","v":""},"","MISSOURI","St. Charles County",255,79,234,"*",569,1.8657129718217477E-2,0.23786407766990292]
[607,null,12,"Henry, MO - Bates, MO","MO: St. Clair County (29185)","MO: St. Clair County (29185)","29185","  St. Clair  ",{"$f":"ROWS($L$2:L1499)","v":1498},{"$f":"IF(L1499=WORKSHEET!$B$1,I1499,\"\")","v":""},"","MISSOURI","St. Clair County","*","*","*","N/A","*",1.8657129718217477E-2,0.14814814814814814]
[541,null,12,"St. Louis, MO - St. Louis City, MO","MO: St. Francois County (29187)","MO: St. Francois County (29187)","29187","  St. Francois  ",{"$f":"ROWS($L$2:L1500)","v":1499},{"$f":"IF(L1500=WORKSHEET!$B$1,I1500,\"\")","v":""},"","MISSOURI","St. Francois County",66,12,30,"*",109,1.8657129718217477E-2,0.11064659977703456]
[541,null,12,"St. Louis, MO - St. Louis City, MO","MO: St. Genevieve County (29186)","MO: St. Genevieve County (29186)","29186","  Ste. Genevieve  ",{"$f":"ROWS($L$2:L1501)","v":1500},{"$f":"IF(L1501=WORKSHEET!$B$1,I1501,\"\")","v":""},"","MISSOURI","St. Genevieve County",13,{"$f":"+R1501-N1501-P1501","v":1},12,"N/A",26,1.8657129718217477E-2,0.11064659977703456]
[541,null,12,"St. Louis, MO - St. Louis City, MO","MO: St. Louis City (29510)","MO: St. Louis City (29510)","29510","  St. Louis City  ",{"$f":"ROWS($L$2:L1502)","v":1501},{"$f":"IF(L1502=WORKSHEET!$B$1,I1502,\"\")","v":""},"","MISSOURI","St. Louis City",991,65,235,"*",1295,1.8657129718217477E-2,0.11064659977703456]
[541,null,12,"St. Louis, MO - St. Louis City, MO","MO: St. Louis County (29189)","MO: St. Louis County (29189)","29189","  St. Louis  ",{"$f":"ROWS($L$2:L1503)","v":1502},{"$f":"IF(L1503=WORKSHEET!$B$1,I1503,\"\")","v":""},"","MISSOURI","St. Louis County",1823,238,838,"*",2904,1.8657129718217477E-2,0.11064659977703456]
[944,563,12,"Cape Girardeau, MO - Butler, MO","MO: Stoddard County (29207)","MO: Stoddard County (29207)","29207","  Stoddard  ",{"$f":"ROWS($L$2:L1504)","v":1503},{"$f":"IF(L1504=WORKSHEET!$B$1,I1504,\"\")","v":""},"","MISSOURI","Stoddard County",38,{"$f":"+R1504-N1504-P1504","v":3},36,"N/A",77,1.8657129718217477E-2,9.2077087794432549E-2]
[549,null,12,"Greene (Springfield), MO - Christian, MO","MO: Stone County (29209)","MO: Stone County (29209)","29209","  Stone  ",{"$f":"ROWS($L$2:L1505)","v":1504},{"$f":"IF(L1505=WORKSHEET!$B$1,I1505,\"\")","v":""},"","MISSOURI","Stone County",12,{"$f":"+R1505-N1505-P1505","v":8},15,"N/A",35,1.8657129718217477E-2,0.29715061058344638]
[566,null,12,"Adair, MO - Sullivan, MO","MO: Sullivan County (29211)","MO: Sullivan County (29211)","29211","  Sullivan  ",{"$f":"ROWS($L$2:L1506)","v":1505},{"$f":"IF(L1506=WORKSHEET!$B$1,I1506,\"\")","v":""},"","MISSOURI","Sullivan County","*","N/A","*","N/A","*",1.8657129718217477E-2,9.0909090909090912E-2]
[676,null,12,"Taney, MO","MO: Taney County (29213)","MO: Taney County (29213)","29213","  Taney  ",{"$f":"ROWS($L$2:L1507)","v":1506},{"$f":"IF(L1507=WORKSHEET!$B$1,I1507,\"\")","v":""},"","MISSOURI","Taney County",44,26,22,"N/A",92,1.8657129718217477E-2,0.37142857142857144]
[549,null,12,"Greene (Springfield), MO - Christian, MO","MO: Texas County (29215)","MO: Texas County (29215)","29215","  Texas  ",{"$f":"ROWS($L$2:L1508)","v":1507},{"$f":"IF(L1508=WORKSHEET!$B$1,I1508,\"\")","v":""},"","MISSOURI","Texas County",18,{"$f":"+R1508-N1508-P1508","v":7},15,"N/A",40,1.8657129718217477E-2,0.29715061058344638]
[639,null,12,"Vernon, MO - Cedar, MO","MO: Vernon County (29217)","MO: Vernon County (29217)","29217","  Vernon  ",{"$f":"ROWS($L$2:L1509)","v":1508},{"$f":"IF(L1509=WORKSHEET!$B$1,I1509,\"\")","v":""},"","MISSOURI","Vernon County",18,"*","*","N/A",32,1.8657129718217477E-2,0.27272727272727271]
[599,null,12,"St. Charles (St. Charles), MO - Lincoln, MO","MO: Warren County (29219)","MO: Warren County (29219)","29219","  Warren  ",{"$f":"ROWS($L$2:L1510)","v":1509},{"$f":"IF(L1510=WORKSHEET!$B$1,I1510,\"\")","v":""},"","MISSOURI","Warren County",22,{"$f":"+R1510-N1510-P1510","v":6},22,"N/A",50,1.8657129718217477E-2,0.23786407766990292]
[541,null,12,"St. Louis, MO - St. Louis City, MO","MO: Washington County (29221)","MO: Washington County (29221)","29221","  Washington  ",{"$f":"ROWS($L$2:L1511)","v":1510},{"$f":"IF(L1511=WORKSHEET!$B$1,I1511,\"\")","v":""},"","MISSOURI","Washington County",24,"*","*","N/A",37,1.8657129718217477E-2,0.11064659977703456]
[944,563,12,"Cape Girardeau, MO - Butler, MO","MO: Wayne County (29223)","MO: Wayne County (29223)","29223","  Wayne  ",{"$f":"ROWS($L$2:L1512)","v":1511},{"$f":"IF(L1512=WORKSHEET!$B$1,I1512,\"\")","v":""},"","MISSOURI","Wayne County",16,"*","*","N/A",24,1.8657129718217477E-2,9.2077087794432549E-2]
[549,null,12,"Greene (Springfield), MO - Christian, MO","MO: Webster County (29225)","MO: Webster County (29225)","29225","  Webster  ",{"$f":"ROWS($L$2:L1513)","v":1512},{"$f":"IF(L1513=WORKSHEET!$B$1,I1513,\"\")","v":""},"","MISSOURI","Webster County",23,15,21,"N/A",59,1.8657129718217477E-2,0.29715061058344638]
[953,549,12,"Buchanan (St. Joseph), MO - Nodaway, MO","MO: Worth County (29227)","MO: Worth County (29227)","29227","  Worth  ",{"$f":"ROWS($L$2:L1514)","v":1513},{"$f":"IF(L1514=WORKSHEET!$B$1,I1514,\"\")","v":""},"","MISSOURI","Worth County","*","*","*","N/A","*",1.8657129718217477E-2,0.29715061058344638]
[549,null,12,"Greene (Springfield), MO - Christian, MO","MO: Wright County (29229)","MO: Wright County (29229)","29229","  Wright  ",{"$f":"ROWS($L$2:L1515)","v":1514},{"$f":"IF(L1515=WORKSHEET!$B$1,I1515,\"\")","v":""},"","MISSOURI","Wright County",16,{"$f":"+R1515-N1515-P1515","v":10},11,"N/A",37,1.8657129718217477E-2,0.29715061058344638]
[929,435,8,"Adams, MS - Jefferson, MS","MS: Adams County (28001)","MS: Adams County (28001)","28001","Adams  ",{"$f":"ROWS($L$2:L1516)","v":1515},{"$f":"IF(L1516=WORKSHEET!$B$1,I1516,\"\")","v":""},"","MISSISSIPPI","Adams County",100,{"$f":"+R1516-N1516-P1516","v":9},13,"*",122,3.2242352735066461E-2,8.8495575221238937E-2]
[498,null,8,"Alcorn, MS - Tishomingo, MS","MS: Alcorn County (28003)","MS: Alcorn County (28003)","28003","  Alcorn  ",{"$f":"ROWS($L$2:L1517)","v":1516},{"$f":"IF(L1517=WORKSHEET!$B$1,I1517,\"\")","v":""},"","MISSISSIPPI","Alcorn County",48,{"$f":"+R1517-N1517-P1517","v":7},19,"*",74,3.2242352735066461E-2,0.13333333333333333]
[477,null,8,"Pike, MS - Marion, MS","MS: Amite County (28005)","MS: Amite County (28005)","28005","  Amite  ",{"$f":"ROWS($L$2:L1518)","v":1517},{"$f":"IF(L1518=WORKSHEET!$B$1,I1518,\"\")","v":""},"","MISSISSIPPI","Amite County",25,{"$f":"+R1518-N1518-P1518","v":4},12,"N/A",41,3.2242352735066461E-2,0.12121212121212122]
[411,null,8,"Hinds (Jackson), MS - Rankin, MS","MS: Attala County (28007)","MS: Attala County (28007)","28007","  Attala  ",{"$f":"ROWS($L$2:L1519)","v":1518},{"$f":"IF(L1519=WORKSHEET!$B$1,I1519,\"\")","v":""},"","MISSISSIPPI","Attala County",48,{"$f":"+R1519-N1519-P1519","v":3},12,"N/A",63,3.2242352735066461E-2,0.10832313341493269]
[146,null,8,"DeSoto, MS - Marshall, MS","MS: Benton County (28009)","MS: Benton County (28009)","28009","  Benton  ",{"$f":"ROWS($L$2:L1520)","v":1519},{"$f":"IF(L1520=WORKSHEET!$B$1,I1520,\"\")","v":""},"","MISSISSIPPI","Benton County",18,"*","*","N/A",23,3.2242352735066461E-2,0.10306845003933911]
[487,null,8,"Bolivar, MS - Leflore, MS","MS: Bolivar County (28011)","MS: Bolivar County (28011)","28011","  Bolivar  ",{"$f":"ROWS($L$2:L1521)","v":1520},{"$f":"IF(L1521=WORKSHEET!$B$1,I1521,\"\")","v":""},"","MISSISSIPPI","Bolivar County",120,12,20,"*",153,3.2242352735066461E-2,0.12530120481927712]
[459,null,8,"Lafayette, MS - Calhoun, MS","MS: Calhoun County (28013)","MS: Calhoun County (28013)","28013","  Calhoun  ",{"$f":"ROWS($L$2:L1522)","v":1521},{"$f":"IF(L1522=WORKSHEET!$B$1,I1522,\"\")","v":""},"","MISSISSIPPI","Calhoun County",31,"*","*","N/A",41,3.2242352735066461E-2,6.9930069930069935E-2]
[502,null,8,"Grenada, MS - Montgomery, MS","MS: Carroll County (28015)","MS: Carroll County (28015)","28015","  Carroll  ",{"$f":"ROWS($L$2:L1523)","v":1522},{"$f":"IF(L1523=WORKSHEET!$B$1,I1523,\"\")","v":""},"","MISSISSIPPI","Carroll County",24,"*","*","N/A",27,3.2242352735066461E-2,0.11510791366906475]
[418,null,8,"Lee, MS - Monroe, MS","MS: Chickasaw County (28017)","MS: Chickasaw County (28017)","28017","  Chickasaw  ",{"$f":"ROWS($L$2:L1524)","v":1523},{"$f":"IF(L1524=WORKSHEET!$B$1,I1524,\"\")","v":""},"","MISSISSIPPI","Chickasaw County",42,{"$f":"+R1524-N1524-P1524","v":7},26,"*",75,3.2242352735066461E-2,0.10209424083769633]
[484,null,8,"Oktibbeha, MS - Winston, MS","MS: Choctaw County (28019)","MS: Choctaw County (28019)","28019","  Choctaw  ",{"$f":"ROWS($L$2:L1525)","v":1524},{"$f":"IF(L1525=WORKSHEET!$B$1,I1525,\"\")","v":""},"","MISSISSIPPI","Choctaw County",17,"*","*","N/A",29,3.2242352735066461E-2,6.1674008810572688E-2]
[928,431,8,"Warren, MS - Claiborne, MS","MS: Claiborne County (28021)","MS: Claiborne County (28021)","28021","  Claiborne  ",{"$f":"ROWS($L$2:L1526)","v":1525},{"$f":"IF(L1526=WORKSHEET!$B$1,I1526,\"\")","v":""},"","MISSISSIPPI","Claiborne County",34,"*","*","N/A",41,3.2242352735066461E-2,0.10628019323671498]
[926,412,8,"Lauderdale, MS - Neshoba, MS","MS: Clarke County (28023)","MS: Clarke County (28023)","28023","  Clarke  ",{"$f":"ROWS($L$2:L1527)","v":1526},{"$f":"IF(L1527=WORKSHEET!$B$1,I1527,\"\")","v":""},"","MISSISSIPPI","Clarke County",41,"*","*","*",52,3.2242352735066461E-2,6.3366336633663367E-2]
[934,461,8,"Lowndes, MS - Clay, MS","MS: Clay County (28025)","MS: Clay County (28025)","28025","  Clay  ",{"$f":"ROWS($L$2:L1528)","v":1527},{"$f":"IF(L1528=WORKSHEET!$B$1,I1528,\"\")","v":""},"","MISSISSIPPI","Clay County",49,{"$f":"+R1528-N1528-P1528","v":10},13,"N/A",72,3.2242352735066461E-2,9.0643274853801165E-2]
[422,null,8,"Coahoma, MS - Tallahatchie, MS","MS: Coahoma County (28027)","MS: Coahoma County (28027)","28027","  Coahoma  ",{"$f":"ROWS($L$2:L1529)","v":1528},{"$f":"IF(L1529=WORKSHEET!$B$1,I1529,\"\")","v":""},"","MISSISSIPPI","Coahoma County",111,{"$f":"+R1529-N1529-P1529","v":7},23,"N/A",141,3.2242352735066461E-2,6.4516129032258063E-2]
[511,null,8,"Lincoln, MS - Copiah, MS","MS: Copiah County (28029)","MS: Copiah County (28029)","28029","  Copiah  ",{"$f":"ROWS($L$2:L1530)","v":1529},{"$f":"IF(L1530=WORKSHEET!$B$1,I1530,\"\")","v":""},"","MISSISSIPPI","Copiah County",63,{"$f":"+R1530-N1530-P1530","v":11},24,"*",98,3.2242352735066461E-2,0.13245033112582782]
[409,null,8,"Forrest, MS - Lamar, MS","MS: Covington County (28031)","MS: Covington County (28031)","28031","  Covington  ",{"$f":"ROWS($L$2:L1531)","v":1530},{"$f":"IF(L1531=WORKSHEET!$B$1,I1531,\"\")","v":""},"","MISSISSIPPI","Covington County",47,"*","*","N/A",62,3.2242352735066461E-2,9.2391304347826081E-2]
[146,null,8,"DeSoto, MS - Marshall, MS","MS: DeSoto County (28033)","MS: DeSoto County (28033)","28033","  De Soto  ",{"$f":"ROWS($L$2:L1532)","v":1531},{"$f":"IF(L1532=WORKSHEET!$B$1,I1532,\"\")","v":""},"","MISSISSIPPI","DeSoto County",231,51,96,"N/A",378,3.2242352735066461E-2,0.10306845003933911]
[409,null,8,"Forrest, MS - Lamar, MS","MS: Forrest County (28035)","MS: Forrest County (28035)","28035","  Forrest  ",{"$f":"ROWS($L$2:L1533)","v":1532},{"$f":"IF(L1533=WORKSHEET!$B$1,I1533,\"\")","v":""},"","MISSISSIPPI","Forrest County",198,15,54,"*",268,3.2242352735066461E-2,9.2391304347826081E-2]
[929,435,8,"Adams, MS - Jefferson, MS","MS: Franklin County (28037)","MS: Franklin County (28037)","28037","  Franklin  ",{"$f":"ROWS($L$2:L1534)","v":1533},{"$f":"IF(L1534=WORKSHEET!$B$1,I1534,\"\")","v":""},"","MISSISSIPPI","Franklin County",21,"*","*","N/A",25,3.2242352735066461E-2,8.8495575221238937E-2]
[471,null,8,"Jackson (Pascagoula), MS - George, MS","MS: George County (28039)","MS: George County (28039)","28039","  George  ",{"$f":"ROWS($L$2:L1535)","v":1534},{"$f":"IF(L1535=WORKSHEET!$B$1,I1535,\"\")","v":""},"","MISSISSIPPI","George County",36,{"$f":"+R1535-N1535-P1535","v":5},15,"N/A",56,3.2242352735066461E-2,0.13405797101449277]
[409,null,8,"Forrest, MS - Lamar, MS","MS: Greene County (28041)","MS: Greene County (28041)","28041","  Greene  ",{"$f":"ROWS($L$2:L1536)","v":1535},{"$f":"IF(L1536=WORKSHEET!$B$1,I1536,\"\")","v":""},"","MISSISSIPPI","Greene County",18,"*","*","N/A",24,3.2242352735066461E-2,9.2391304347826081E-2]
[502,null,8,"Grenada, MS - Montgomery, MS","MS: Grenada County (28043)","MS: Grenada County (28043)","28043","  Grenada  ",{"$f":"ROWS($L$2:L1537)","v":1536},{"$f":"IF(L1537=WORKSHEET!$B$1,I1537,\"\")","v":""},"","MISSISSIPPI","Grenada County",63,{"$f":"+R1537-N1537-P1537","v":9},19,"*",91,3.2242352735066461E-2,0.11510791366906475]
[456,null,8,"Harrison (Biloxi), MS - Hancock, MS","MS: Hancock County (28045)","MS: Hancock County (28045)","28045","  Hancock  ",{"$f":"ROWS($L$2:L1538)","v":1537},{"$f":"IF(L1538=WORKSHEET!$B$1,I1538,\"\")","v":""},"","MISSISSIPPI","Hancock County",44,{"$f":"+R1538-N1538-P1538","v":8},21,"N/A",73,3.2242352735066461E-2,0.1417004048582996]
[456,null,8,"Harrison (Biloxi), MS - Hancock, MS","MS: Harrison County (28047)","MS: Harrison County (28047)","28047","  Harrison  ",{"$f":"ROWS($L$2:L1539)","v":1538},{"$f":"IF(L1539=WORKSHEET!$B$1,I1539,\"\")","v":""},{"$f":"IFERROR(SMALL($J$2:$J$3142,I1539),\"\")","v":""},"MISSISSIPPI","Harrison County",352,56,115,"*",525,3.2242352735066461E-2,0.1417004048582996]
[411,null,8,"Hinds (Jackson), MS - Rankin, MS","MS: Hinds County (28049)","MS: Hinds County (28049)","28049","  Hinds  ",{"$f":"ROWS($L$2:L1540)","v":1539},{"$f":"IF(L1540=WORKSHEET!$B$1,I1540,\"\")","v":""},"","MISSISSIPPI","Hinds County",756,92,179,"*",1031,3.2242352735066461E-2,0.10832313341493269]
[411,null,8,"Hinds (Jackson), MS - Rankin, MS","MS: Holmes County (28051)","MS: Holmes County (28051)","28051","  Holmes  ",{"$f":"ROWS($L$2:L1541)","v":1540},{"$f":"IF(L1541=WORKSHEET!$B$1,I1541,\"\")","v":""},"","MISSISSIPPI","Holmes County",90,11,18,"N/A",119,3.2242352735066461E-2,0.10832313341493269]
[487,null,8,"Bolivar, MS - Leflore, MS","MS: Humphreys County (28053)","MS: Humphreys County (28053)","28053","  Humphreys  ",{"$f":"ROWS($L$2:L1542)","v":1541},{"$f":"IF(L1542=WORKSHEET!$B$1,I1542,\"\")","v":""},"","MISSISSIPPI","Humphreys County",43,"*","*","N/A",58,3.2242352735066461E-2,0.12530120481927712]
[488,null,8,"Washington, MS - Sharkey, MS","MS: Issaquena County (28055)","MS: Issaquena County (28055)","28055","  Issaquena  ",{"$f":"ROWS($L$2:L1543)","v":1542},{"$f":"IF(L1543=WORKSHEET!$B$1,I1543,\"\")","v":""},"","MISSISSIPPI","Issaquena County","*","N/A","N/A","N/A","*",3.2242352735066461E-2,0.12558139534883722]
[418,null,8,"Lee, MS - Monroe, MS","MS: Itawamba County (28057)","MS: Itawamba County (28057)","28057","  Itawamba  ",{"$f":"ROWS($L$2:L1544)","v":1543},{"$f":"IF(L1544=WORKSHEET!$B$1,I1544,\"\")","v":""},"","MISSISSIPPI","Itawamba County",33,{"$f":"+R1544-N1544-P1544","v":3},12,"N/A",48,3.2242352735066461E-2,0.10209424083769633]
[471,null,8,"Jackson (Pascagoula), MS - George, MS","MS: Jackson County (28059)","MS: Jackson County (28059)","28059","  Jackson  ",{"$f":"ROWS($L$2:L1545)","v":1544},{"$f":"IF(L1545=WORKSHEET!$B$1,I1545,\"\")","v":""},"","MISSISSIPPI","Jackson County",203,32,78,"N/A",313,3.2242352735066461E-2,0.13405797101449277]
[455,null,8,"Jones, MS - Wayne, MS","MS: Jasper County (28061)","MS: Jasper County (28061)","28061","  Jasper  ",{"$f":"ROWS($L$2:L1546)","v":1545},{"$f":"IF(L1546=WORKSHEET!$B$1,I1546,\"\")","v":""},"","MISSISSIPPI","Jasper County",64,"*","*","N/A",73,3.2242352735066461E-2,6.3122923588039864E-2]
[929,435,8,"Adams, MS - Jefferson, MS","MS: Jefferson County (28063)","MS: Jefferson County (28063)","28063","  Jefferson  ",{"$f":"ROWS($L$2:L1547)","v":1546},{"$f":"IF(L1547=WORKSHEET!$B$1,I1547,\"\")","v":""},"","MISSISSIPPI","Jefferson County",23,{"$f":"+R1547-N1547-P1547","v":4},11,"N/A",38,3.2242352735066461E-2,8.8495575221238937E-2]
[504,null,8,"Jefferson Davis, MS - Lawrence, MS","MS: Jefferson Davis County (28065)","MS: Jefferson Davis County (28065)","28065","  Jefferson Davis  ",{"$f":"ROWS($L$2:L1548)","v":1547},{"$f":"IF(L1548=WORKSHEET!$B$1,I1548,\"\")","v":""},"","MISSISSIPPI","Jefferson Davis County",39,"*","*","N/A",50,3.2242352735066461E-2,0.11627906976744186]
[455,null,8,"Jones, MS - Wayne, MS","MS: Jones County (28067)","MS: Jones County (28067)","28067","  Jones  ",{"$f":"ROWS($L$2:L1549)","v":1548},{"$f":"IF(L1549=WORKSHEET!$B$1,I1549,\"\")","v":""},"","MISSISSIPPI","Jones County",146,{"$f":"+R1549-N1549-P1549","v":10},42,"*",198,3.2242352735066461E-2,6.3122923588039864E-2]
[926,412,8,"Lauderdale, MS - Neshoba, MS","MS: Kemper County (28069)","MS: Kemper County (28069)","28069","  Kemper  ",{"$f":"ROWS($L$2:L1550)","v":1549},{"$f":"IF(L1550=WORKSHEET!$B$1,I1550,\"\")","v":""},"","MISSISSIPPI","Kemper County",28,"*","*","N/A",34,3.2242352735066461E-2,6.3366336633663367E-2]
[459,null,8,"Lafayette, MS - Calhoun, MS","MS: Lafayette County (28071)","MS: Lafayette County (28071)","28071","  Lafayette  ",{"$f":"ROWS($L$2:L1551)","v":1550},{"$f":"IF(L1551=WORKSHEET!$B$1,I1551,\"\")","v":""},"","MISSISSIPPI","Lafayette County",66,{"$f":"+R1551-N1551-P1551","v":5},26,"N/A",97,3.2242352735066461E-2,6.9930069930069935E-2]
[409,null,8,"Forrest, MS - Lamar, MS","MS: Lamar County (28073)","MS: Lamar County (28073)","28073","  Lamar  ",{"$f":"ROWS($L$2:L1552)","v":1551},{"$f":"IF(L1552=WORKSHEET!$B$1,I1552,\"\")","v":""},"","MISSISSIPPI","Lamar County",44,{"$f":"+R1552-N1552-P1552","v":7},14,"N/A",65,3.2242352735066461E-2,9.2391304347826081E-2]
[926,412,8,"Lauderdale, MS - Neshoba, MS","MS: Lauderdale County (28075)","MS: Lauderdale County (28075)","28075","  Lauderdale  ",{"$f":"ROWS($L$2:L1553)","v":1552},{"$f":"IF(L1553=WORKSHEET!$B$1,I1553,\"\")","v":""},"","MISSISSIPPI","Lauderdale County",161,12,36,"N/A",209,3.2242352735066461E-2,6.3366336633663367E-2]
[504,null,8,"Jefferson Davis, MS - Lawrence, MS","MS: Lawrence County (28077)","MS: Lawrence County (28077)","28077","  Lawrence  ",{"$f":"ROWS($L$2:L1554)","v":1553},{"$f":"IF(L1554=WORKSHEET!$B$1,I1554,\"\")","v":""},"","MISSISSIPPI","Lawrence County",37,{"$f":"+R1554-N1554-P1554","v":7},16,"N/A",60,3.2242352735066461E-2,0.11627906976744186]
[411,null,8,"Hinds (Jackson), MS - Rankin, MS","MS: Leake County (28079)","MS: Leake County (28079)","28079","  Leake  ",{"$f":"ROWS($L$2:L1555)","v":1554},{"$f":"IF(L1555=WORKSHEET!$B$1,I1555,\"\")","v":""},"","MISSISSIPPI","Leake County",68,{"$f":"+R1555-N1555-P1555","v":7},15,"*",90,3.2242352735066461E-2,0.10832313341493269]
[418,null,8,"Lee, MS - Monroe, MS","MS: Lee County (28081)","MS: Lee County (28081)","28081","  Lee  ",{"$f":"ROWS($L$2:L1556)","v":1555},{"$f":"IF(L1556=WORKSHEET!$B$1,I1556,\"\")","v":""},"","MISSISSIPPI","Lee County",144,12,50,"*",207,3.2242352735066461E-2,0.10209424083769633]
[487,null,8,"Bolivar, MS - Leflore, MS","MS: Leflore County (28083)","MS: Leflore County (28083)","28083","  Leflore  ",{"$f":"ROWS($L$2:L1557)","v":1556},{"$f":"IF(L1557=WORKSHEET!$B$1,I1557,\"\")","v":""},"","MISSISSIPPI","Leflore County",114,14,21,"*",150,3.2242352735066461E-2,0.12530120481927712]
[511,null,8,"Lincoln, MS - Copiah, MS","MS: Lincoln County (28085)","MS: Lincoln County (28085)","28085","  Lincoln  ",{"$f":"ROWS($L$2:L1558)","v":1557},{"$f":"IF(L1558=WORKSHEET!$B$1,I1558,\"\")","v":""},"","MISSISSIPPI","Lincoln County",68,{"$f":"+R1558-N1558-P1558","v":10},25,"N/A",103,3.2242352735066461E-2,0.13245033112582782]
[934,461,8,"Lowndes, MS - Clay, MS","MS: Lowndes County (28087)","MS: Lowndes County (28087)","28087","  Lowndes  ",{"$f":"ROWS($L$2:L1559)","v":1558},{"$f":"IF(L1559=WORKSHEET!$B$1,I1559,\"\")","v":""},"","MISSISSIPPI","Lowndes County",194,14,39,"N/A",247,3.2242352735066461E-2,9.0643274853801165E-2]
[411,null,8,"Hinds (Jackson), MS - Rankin, MS","MS: Madison County (28089)","MS: Madison County (28089)","28089","  Madison  ",{"$f":"ROWS($L$2:L1560)","v":1559},{"$f":"IF(L1560=WORKSHEET!$B$1,I1560,\"\")","v":""},"","MISSISSIPPI","Madison County",180,22,57,"N/A",259,3.2242352735066461E-2,0.10832313341493269]
[477,null,8,"Pike, MS - Marion, MS","MS: Marion County (28091)","MS: Marion County (28091)","28091","  Marion  ",{"$f":"ROWS($L$2:L1561)","v":1560},{"$f":"IF(L1561=WORKSHEET!$B$1,I1561,\"\")","v":""},"","MISSISSIPPI","Marion County",59,{"$f":"+R1561-N1561-P1561","v":7},12,"N/A",78,3.2242352735066461E-2,0.12121212121212122]
[146,null,8,"DeSoto, MS - Marshall, MS","MS: Marshall County (28093)","MS: Marshall County (28093)","28093","  Marshall  ",{"$f":"ROWS($L$2:L1562)","v":1561},{"$f":"IF(L1562=WORKSHEET!$B$1,I1562,\"\")","v":""},"","MISSISSIPPI","Marshall County",116,{"$f":"+R1562-N1562-P1562","v":7},22,"N/A",145,3.2242352735066461E-2,0.10306845003933911]
[418,null,8,"Lee, MS - Monroe, MS","MS: Monroe County (28095)","MS: Monroe County (28095)","28095","  Monroe  ",{"$f":"ROWS($L$2:L1563)","v":1562},{"$f":"IF(L1563=WORKSHEET!$B$1,I1563,\"\")","v":""},"","MISSISSIPPI","Monroe County",88,13,29,"N/A",130,3.2242352735066461E-2,0.10209424083769633]
[502,null,8,"Grenada, MS - Montgomery, MS","MS: Montgomery County (28097)","MS: Montgomery County (28097)","28097","  Montgomery  ",{"$f":"ROWS($L$2:L1564)","v":1563},{"$f":"IF(L1564=WORKSHEET!$B$1,I1564,\"\")","v":""},"","MISSISSIPPI","Montgomery County",36,{"$f":"+R1564-N1564-P1564","v":7},11,"N/A",54,3.2242352735066461E-2,0.11510791366906475]
[926,412,8,"Lauderdale, MS - Neshoba, MS","MS: Neshoba County (28099)","MS: Neshoba County (28099)","28099","  Neshoba  ",{"$f":"ROWS($L$2:L1565)","v":1564},{"$f":"IF(L1565=WORKSHEET!$B$1,I1565,\"\")","v":""},"","MISSISSIPPI","Neshoba County",103,{"$f":"+R1565-N1565-P1565","v":7},16,"N/A",126,3.2242352735066461E-2,6.3366336633663367E-2]
[926,412,8,"Lauderdale, MS - Neshoba, MS","MS: Newton County (28101)","MS: Newton County (28101)","28101","  Newton  ",{"$f":"ROWS($L$2:L1566)","v":1565},{"$f":"IF(L1566=WORKSHEET!$B$1,I1566,\"\")","v":""},"","MISSISSIPPI","Newton County",66,{"$f":"+R1566-N1566-P1566","v":3},11,"N/A",80,3.2242352735066461E-2,6.3366336633663367E-2]
[934,461,8,"Lowndes, MS - Clay, MS","MS: Noxubee County (28103)","MS: Noxubee County (28103)","28103","  Noxubee  ",{"$f":"ROWS($L$2:L1567)","v":1566},{"$f":"IF(L1567=WORKSHEET!$B$1,I1567,\"\")","v":""},"","MISSISSIPPI","Noxubee County",51,"*","*","N/A",60,3.2242352735066461E-2,9.0643274853801165E-2]
[484,null,8,"Oktibbeha, MS - Winston, MS","MS: Oktibbeha County (28105)","MS: Oktibbeha County (28105)","28105","  Oktibbeha  ",{"$f":"ROWS($L$2:L1568)","v":1567},{"$f":"IF(L1568=WORKSHEET!$B$1,I1568,\"\")","v":""},"","MISSISSIPPI","Oktibbeha County",110,{"$f":"+R1568-N1568-P1568","v":5},21,"N/A",136,3.2242352735066461E-2,6.1674008810572688E-2]
[146,null,8,"DeSoto, MS - Marshall, MS","MS: Panola County (28107)","MS: Panola County (28107)","28107","  Panola  ",{"$f":"ROWS($L$2:L1569)","v":1568},{"$f":"IF(L1569=WORKSHEET!$B$1,I1569,\"\")","v":""},"","MISSISSIPPI","Panola County",104,{"$f":"+R1569-N1569-P1569","v":6},23,"N/A",133,3.2242352735066461E-2,0.10306845003933911]
[936,500,8,"Pearl River, MS","MS: Pearl River County (28109)","MS: Pearl River County (28109)","28109","  Pearl River  ",{"$f":"ROWS($L$2:L1570)","v":1569},{"$f":"IF(L1570=WORKSHEET!$B$1,I1570,\"\")","v":""},"","MISSISSIPPI","Pearl River County",112,{"$f":"+R1570-N1570-P1570","v":3},34,"N/A",149,3.2242352735066461E-2,6.4347826086956522E-2]
[409,null,8,"Forrest, MS - Lamar, MS","MS: Perry County (28111)","MS: Perry County (28111)","28111","  Perry  ",{"$f":"ROWS($L$2:L1571)","v":1570},{"$f":"IF(L1571=WORKSHEET!$B$1,I1571,\"\")","v":""},"","MISSISSIPPI","Perry County",27,"*","*","N/A",36,3.2242352735066461E-2,9.2391304347826081E-2]
[477,null,8,"Pike, MS - Marion, MS","MS: Pike County (28113)","MS: Pike County (28113)","28113","  Pike  ",{"$f":"ROWS($L$2:L1572)","v":1571},{"$f":"IF(L1572=WORKSHEET!$B$1,I1572,\"\")","v":""},"","MISSISSIPPI","Pike County",113,16,27,"*",157,3.2242352735066461E-2,0.12121212121212122]
[482,null,8,"Pontotoc, MS - Union, MS","MS: Pontotoc County (28115)","MS: Pontotoc County (28115)","28115","  Pontotoc  ",{"$f":"ROWS($L$2:L1573)","v":1572},{"$f":"IF(L1573=WORKSHEET!$B$1,I1573,\"\")","v":""},"","MISSISSIPPI","Pontotoc County",36,{"$f":"+R1573-N1573-P1573","v":8},13,"N/A",57,3.2242352735066461E-2,0.14960629921259844]
[418,null,8,"Lee, MS - Monroe, MS","MS: Prentiss County (28117)","MS: Prentiss County (28117)","28117","  Prentiss  ",{"$f":"ROWS($L$2:L1574)","v":1573},{"$f":"IF(L1574=WORKSHEET!$B$1,I1574,\"\")","v":""},"","MISSISSIPPI","Prentiss County",36,{"$f":"+R1574-N1574-P1574","v":6},11,"N/A",53,3.2242352735066461E-2,0.10209424083769633]
[422,null,8,"Coahoma, MS - Tallahatchie, MS","MS: Quitman County (28119)","MS: Quitman County (28119)","28119","  Quitman  ",{"$f":"ROWS($L$2:L1575)","v":1574},{"$f":"IF(L1575=WORKSHEET!$B$1,I1575,\"\")","v":""},"","MISSISSIPPI","Quitman County",30,"*","*","N/A",35,3.2242352735066461E-2,6.4516129032258063E-2]
[411,null,8,"Hinds (Jackson), MS - Rankin, MS","MS: Rankin County (28121)","MS: Rankin County (28121)","28121","  Rankin  ",{"$f":"ROWS($L$2:L1576)","v":1575},{"$f":"IF(L1576=WORKSHEET!$B$1,I1576,\"\")","v":""},"","MISSISSIPPI","Rankin County",184,32,93,"*",310,3.2242352735066461E-2,0.10832313341493269]
[411,null,8,"Hinds (Jackson), MS - Rankin, MS","MS: Scott County (28123)","MS: Scott County (28123)","28123","  Scott  ",{"$f":"ROWS($L$2:L1577)","v":1576},{"$f":"IF(L1577=WORKSHEET!$B$1,I1577,\"\")","v":""},"","MISSISSIPPI","Scott County",71,{"$f":"+R1577-N1577-P1577","v":4},19,"N/A",94,3.2242352735066461E-2,0.10832313341493269]
[488,null,8,"Washington, MS - Sharkey, MS","MS: Sharkey County (28125)","MS: Sharkey County (28125)","28125","  Sharkey  ",{"$f":"ROWS($L$2:L1578)","v":1577},{"$f":"IF(L1578=WORKSHEET!$B$1,I1578,\"\")","v":""},"","MISSISSIPPI","Sharkey County",20,"*","*","N/A",26,3.2242352735066461E-2,0.12558139534883722]
[411,null,8,"Hinds (Jackson), MS - Rankin, MS","MS: Simpson County (28127)","MS: Simpson County (28127)","28127","  Simpson  ",{"$f":"ROWS($L$2:L1579)","v":1578},{"$f":"IF(L1579=WORKSHEET!$B$1,I1579,\"\")","v":""},"","MISSISSIPPI","Simpson County",60,{"$f":"+R1579-N1579-P1579","v":8},14,"*",82,3.2242352735066461E-2,0.10832313341493269]
[455,null,8,"Jones, MS - Wayne, MS","MS: Smith County (28129)","MS: Smith County (28129)","28129","  Smith  ",{"$f":"ROWS($L$2:L1580)","v":1579},{"$f":"IF(L1580=WORKSHEET!$B$1,I1580,\"\")","v":""},"","MISSISSIPPI","Smith County",28,{"$f":"+R1580-N1580-P1580","v":5},11,"N/A",44,3.2242352735066461E-2,6.3122923588039864E-2]
[456,null,8,"Harrison (Biloxi), MS - Hancock, MS","MS: Stone County (28131)","MS: Stone County (28131)","28131","  Stone  ",{"$f":"ROWS($L$2:L1581)","v":1580},{"$f":"IF(L1581=WORKSHEET!$B$1,I1581,\"\")","v":""},"","MISSISSIPPI","Stone County",28,"*","*","N/A",43,3.2242352735066461E-2,0.1417004048582996]
[487,null,8,"Bolivar, MS - Leflore, MS","MS: Sunflower County (28133)","MS: Sunflower County (28133)","28133","  Sunflower  ",{"$f":"ROWS($L$2:L1582)","v":1581},{"$f":"IF(L1582=WORKSHEET!$B$1,I1582,\"\")","v":""},"","MISSISSIPPI","Sunflower County",86,21,11,"N/A",118,3.2242352735066461E-2,0.12530120481927712]
[422,null,8,"Coahoma, MS - Tallahatchie, MS","MS: Tallahatchie County (28135)","MS: Tallahatchie County (28135)","28135","  Tallahatchie  ",{"$f":"ROWS($L$2:L1583)","v":1582},{"$f":"IF(L1583=WORKSHEET!$B$1,I1583,\"\")","v":""},"","MISSISSIPPI","Tallahatchie County",33,{"$f":"+R1583-N1583-P1583","v":3},14,"N/A",50,3.2242352735066461E-2,6.4516129032258063E-2]
[146,null,8,"DeSoto, MS - Marshall, MS","MS: Tate County (28137)","MS: Tate County (28137)","28137","  Tate  ",{"$f":"ROWS($L$2:L1584)","v":1583},{"$f":"IF(L1584=WORKSHEET!$B$1,I1584,\"\")","v":""},"","MISSISSIPPI","Tate County",83,{"$f":"+R1584-N1584-P1584","v":6},15,"N/A",104,3.2242352735066461E-2,0.10306845003933911]
[482,null,8,"Pontotoc, MS - Union, MS","MS: Tippah County (28139)","MS: Tippah County (28139)","28139","  Tippah  ",{"$f":"ROWS($L$2:L1585)","v":1584},{"$f":"IF(L1585=WORKSHEET!$B$1,I1585,\"\")","v":""},"","MISSISSIPPI","Tippah County",38,{"$f":"+R1585-N1585-P1585","v":2},14,"N/A",54,3.2242352735066461E-2,0.14960629921259844]
[498,null,8,"Alcorn, MS - Tishomingo, MS","MS: Tishomingo County (28141)","MS: Tishomingo County (28141)","28141","  Tishomingo  ",{"$f":"ROWS($L$2:L1586)","v":1585},{"$f":"IF(L1586=WORKSHEET!$B$1,I1586,\"\")","v":""},"","MISSISSIPPI","Tishomingo County",17,"*","*","N/A",28,3.2242352735066461E-2,0.13333333333333333]
[146,null,8,"DeSoto, MS - Marshall, MS","MS: Tunica County (28143)","MS: Tunica County (28143)","28143","  Tunica  ",{"$f":"ROWS($L$2:L1587)","v":1586},{"$f":"IF(L1587=WORKSHEET!$B$1,I1587,\"\")","v":""},"","MISSISSIPPI","Tunica County",52,"*","*","N/A",60,3.2242352735066461E-2,0.10306845003933911]
[482,null,8,"Pontotoc, MS - Union, MS","MS: Union County (28145)","MS: Union County (28145)","28145","  Union  ",{"$f":"ROWS($L$2:L1588)","v":1587},{"$f":"IF(L1588=WORKSHEET!$B$1,I1588,\"\")","v":""},"","MISSISSIPPI","Union County",34,"*","*","N/A",53,3.2242352735066461E-2,0.14960629921259844]
[477,null,8,"Pike, MS - Marion, MS","MS: Walthall County (28147)","MS: Walthall County (28147)","28147","  Walthall  ",{"$f":"ROWS($L$2:L1589)","v":1588},{"$f":"IF(L1589=WORKSHEET!$B$1,I1589,\"\")","v":""},"","MISSISSIPPI","Walthall County",35,"*","*","N/A",48,3.2242352735066461E-2,0.12121212121212122]
[928,431,8,"Warren, MS - Claiborne, MS","MS: Warren County (28149)","MS: Warren County (28149)","28149","  Warren  ",{"$f":"ROWS($L$2:L1590)","v":1589},{"$f":"IF(L1590=WORKSHEET!$B$1,I1590,\"\")","v":""},"","MISSISSIPPI","Warren County",117,17,19,"*",154,3.2242352735066461E-2,0.10628019323671498]
[488,null,8,"Washington, MS - Sharkey, MS","MS: Washington County (28151)","MS: Washington County (28151)","28151","  Washington  ",{"$f":"ROWS($L$2:L1591)","v":1590},{"$f":"IF(L1591=WORKSHEET!$B$1,I1591,\"\")","v":""},"","MISSISSIPPI","Washington County",166,26,20,"N/A",212,3.2242352735066461E-2,0.12558139534883722]
[455,null,8,"Jones, MS - Wayne, MS","MS: Wayne County (28153)","MS: Wayne County (28153)","28153","  Wayne  ",{"$f":"ROWS($L$2:L1592)","v":1591},{"$f":"IF(L1592=WORKSHEET!$B$1,I1592,\"\")","v":""},"","MISSISSIPPI","Wayne County",44,"*","*","N/A",55,3.2242352735066461E-2,6.3122923588039864E-2]
[484,null,8,"Oktibbeha, MS - Winston, MS","MS: Webster County (28155)","MS: Webster County (28155)","28155","  Webster  ",{"$f":"ROWS($L$2:L1593)","v":1592},{"$f":"IF(L1593=WORKSHEET!$B$1,I1593,\"\")","v":""},"","MISSISSIPPI","Webster County",19,"*","*","N/A",24,3.2242352735066461E-2,6.1674008810572688E-2]
[525,null,8,"Wilkinson, MS","MS: Wilkinson County (28157)","MS: Wilkinson County (28157)","28157","  Wilkinson  ",{"$f":"ROWS($L$2:L1594)","v":1593},{"$f":"IF(L1594=WORKSHEET!$B$1,I1594,\"\")","v":""},"","MISSISSIPPI","Wilkinson County",17,"N/A","*","N/A",24,3.2242352735066461E-2,0]
[484,null,8,"Oktibbeha, MS - Winston, MS","MS: Winston County (28159)","MS: Winston County (28159)","28159","  Winston  ",{"$f":"ROWS($L$2:L1595)","v":1594},{"$f":"IF(L1595=WORKSHEET!$B$1,I1595,\"\")","v":""},"","MISSISSIPPI","Winston County",67,{"$f":"+R1595-N1595-P1595","v":5},13,"*",85,3.2242352735066461E-2,6.1674008810572688E-2]
[459,null,8,"Lafayette, MS - Calhoun, MS","MS: Yalobusha County (28161)","MS: Yalobusha County (28161)","28161","  Yalobusha  ",{"$f":"ROWS($L$2:L1596)","v":1595},{"$f":"IF(L1596=WORKSHEET!$B$1,I1596,\"\")","v":""},"","MISSISSIPPI","Yalobusha County",36,{"$f":"+R1596-N1596-P1596","v":3},12,"N/A",51,3.2242352735066461E-2,6.9930069930069935E-2]
[533,null,8,"Yazoo, MS","MS: Yazoo County (28163)","MS: Yazoo County (28163)","28163","  Yazoo  ",{"$f":"ROWS($L$2:L1597)","v":1596},{"$f":"IF(L1597=WORKSHEET!$B$1,I1597,\"\")","v":""},"","MISSISSIPPI","Yazoo County",77,{"$f":"+R1597-N1597-P1597","v":5},13,"N/A",95,3.2242352735066461E-2,6.097560975609756E-2]
[742,null,16,"Silver Bow, MT - Deer Lodge, MT","MT: Beaverhead County (30001)","MT: Beaverhead County (30001)","30001","Beaverhead  ",{"$f":"ROWS($L$2:L1598)","v":1597},{"$f":"IF(L1598=WORKSHEET!$B$1,I1598,\"\")","v":""},"","MONTANA","Beaverhead County","*","N/A","*","N/A","*",3.5616674152133203E-2,2.4390243902439025E-2]
[691,null,16,"Yellowstone (Billings), MT - Big Horn, MT","MT: Big Horn County (30003)","MT: Big Horn County (30003)","30003","  Big Horn  ",{"$f":"ROWS($L$2:L1599)","v":1598},{"$f":"IF(L1599=WORKSHEET!$B$1,I1599,\"\")","v":""},"","MONTANA","Big Horn County",46,"*","*","N/A",60,3.5616674152133203E-2,0.10309278350515463]
[712,null,16,"Hill, MT - Blaine, MT","MT: Blaine County (30005)","MT: Blaine County (30005)","30005","  Blaine  ",{"$f":"ROWS($L$2:L1600)","v":1599},{"$f":"IF(L1600=WORKSHEET!$B$1,I1600,\"\")","v":""},"","MONTANA","Blaine County","*","*","*","N/A",14,3.5616674152133203E-2,0.29032258064516131]
[721,null,16,"Lewis and Clark, MT - Jefferson, MT","MT: Broadwater County (30007)","MT: Broadwater County (30007)","30007","  Broadwater  ",{"$f":"ROWS($L$2:L1601)","v":1600},{"$f":"IF(L1601=WORKSHEET!$B$1,I1601,\"\")","v":""},"","MONTANA","Broadwater County","*","*","*","N/A","*",3.5616674152133203E-2,0.16949152542372881]
[691,null,16,"Yellowstone (Billings), MT - Big Horn, MT","MT: Carbon County (30009)","MT: Carbon County (30009)","30009","  Carbon  ",{"$f":"ROWS($L$2:L1602)","v":1601},{"$f":"IF(L1602=WORKSHEET!$B$1,I1602,\"\")","v":""},"","MONTANA","Carbon County","*","N/A","*","N/A","*",3.5616674152133203E-2,0.10309278350515463]
[714,null,16,"Custer, MT - Fallon, MT","MT: Carter County (30011)","MT: Carter County (30011)","30011","  Carter  ",{"$f":"ROWS($L$2:L1603)","v":1602},{"$f":"IF(L1603=WORKSHEET!$B$1,I1603,\"\")","v":""},{"$f":"IFERROR(SMALL($J$2:$J$3142,I1603),\"\")","v":""},"MONTANA","Carter County","N/A","N/A","*","N/A","*",3.5616674152133203E-2,0.16666666666666666]
[692,null,16,"Cascade (Great Falls), MT - Glacier, MT","MT: Cascade County (30013)","MT: Cascade County (30013)","30013","  Cascade  ",{"$f":"ROWS($L$2:L1604)","v":1603},{"$f":"IF(L1604=WORKSHEET!$B$1,I1604,\"\")","v":""},"","MONTANA","Cascade County",69,17,46,"N/A",132,3.5616674152133203E-2,0.20714285714285716]
[692,null,16,"Cascade (Great Falls), MT - Glacier, MT","MT: Chouteau County (30015)","MT: Chouteau County (30015)","30015","  Chouteau  ",{"$f":"ROWS($L$2:L1605)","v":1604},{"$f":"IF(L1605=WORKSHEET!$B$1,I1605,\"\")","v":""},"","MONTANA","Chouteau County","*","N/A","*","N/A","*",3.5616674152133203E-2,0.20714285714285716]
[714,null,16,"Custer, MT - Fallon, MT","MT: Custer County (30017)","MT: Custer County (30017)","30017","  Custer  ",{"$f":"ROWS($L$2:L1606)","v":1605},{"$f":"IF(L1606=WORKSHEET!$B$1,I1606,\"\")","v":""},"","MONTANA","Custer County","*","N/A","*","N/A",11,3.5616674152133203E-2,0.16666666666666666]
[733,null,16,"Sheridan, MT - Daniels, MT","MT: Daniels County (30019)","MT: Daniels County (30019)","30019","  Daniels  ",{"$f":"ROWS($L$2:L1607)","v":1606},{"$f":"IF(L1607=WORKSHEET!$B$1,I1607,\"\")","v":""},"","MONTANA","Daniels County","N/A","N/A","*","N/A","*",3.5616674152133203E-2,0.1]
[767,null,16,"Richland, MT - Dawson, MT","MT: Dawson County (30021)","MT: Dawson County (30021)","30021","  Dawson  ",{"$f":"ROWS($L$2:L1608)","v":1607},{"$f":"IF(L1608=WORKSHEET!$B$1,I1608,\"\")","v":""},"","MONTANA","Dawson County","N/A","*","*","N/A","*",3.5616674152133203E-2,0.2]
[742,null,16,"Silver Bow, MT - Deer Lodge, MT","MT: Deer Lodge County (30023)","MT: Deer Lodge County (30023)","30023","  Deer Lodge  ",{"$f":"ROWS($L$2:L1609)","v":1608},{"$f":"IF(L1609=WORKSHEET!$B$1,I1609,\"\")","v":""},"","MONTANA","Deer Lodge County","*","N/A","*","N/A",11,3.5616674152133203E-2,2.4390243902439025E-2]
[714,null,16,"Custer, MT - Fallon, MT","MT: Fallon County (30025)","MT: Fallon County (30025)","30025","  Fallon  ",{"$f":"ROWS($L$2:L1610)","v":1609},{"$f":"IF(L1610=WORKSHEET!$B$1,I1610,\"\")","v":""},"","MONTANA","Fallon County","N/A","*","*","N/A","*",3.5616674152133203E-2,0.16666666666666666]
[810,null,16,"Fergus, MT - Petroleum, MT","MT: Fergus County (30027)","MT: Fergus County (30027)","30027","  Fergus  ",{"$f":"ROWS($L$2:L1611)","v":1610},{"$f":"IF(L1611=WORKSHEET!$B$1,I1611,\"\")","v":""},"","MONTANA","Fergus County","*","*","*","N/A",14,3.5616674152133203E-2,9.0909090909090912E-2]
[728,null,16,"Flathead, MT - Lincoln, MT","MT: Flathead County (30029)","MT: Flathead County (30029)","30029","  Flathead  ",{"$f":"ROWS($L$2:L1612)","v":1611},{"$f":"IF(L1612=WORKSHEET!$B$1,I1612,\"\")","v":""},"","MONTANA","Flathead County",60,{"$f":"+R1612-N1612-P1612","v":7},59,"N/A",126,3.5616674152133203E-2,0.11764705882352941]
[773,null,16,"Gallatin and Yellowstone National Park, MT - Madison, MT","MT: Gallatin County and Yellowstone National Park (30031)","MT: Gallatin County and Yellowstone National Park (30031)","30031","  Gallatin  ",{"$f":"ROWS($L$2:L1613)","v":1612},{"$f":"IF(L1613=WORKSHEET!$B$1,I1613,\"\")","v":""},"","MONTANA","Gallatin County",26,{"$f":"+R1613-N1613-P1613","v":6},42,"*",74,3.5616674152133203E-2,0.1891891891891892]
[714,null,16,"Custer, MT - Fallon, MT","MT: Garfield County (30033)","MT: Garfield County (30033)","30033","  Garfield  ",{"$f":"ROWS($L$2:L1614)","v":1613},{"$f":"IF(L1614=WORKSHEET!$B$1,I1614,\"\")","v":""},"","MONTANA","Garfield County","N/A","N/A","*","N/A","*",3.5616674152133203E-2,0.16666666666666666]
[692,null,16,"Cascade (Great Falls), MT - Glacier, MT","MT: Glacier County (30035)","MT: Glacier County (30035)","30035","  Glacier  ",{"$f":"ROWS($L$2:L1615)","v":1614},{"$f":"IF(L1615=WORKSHEET!$B$1,I1615,\"\")","v":""},"","MONTANA","Glacier County",29,{"$f":"+R1615-N1615-P1615","v":3},11,"N/A",43,3.5616674152133203E-2,0.20714285714285716]
[691,null,16,"Yellowstone (Billings), MT - Big Horn, MT","MT: Golden Valley County (30037)","MT: Golden Valley County (30037)","30037",null,{"$f":"ROWS($L$2:L1616)","v":1615},{"$f":"IF(L1616=WORKSHEET!$B$1,I1616,\"\")","v":""},"","MONTANA","Golden Valley County",null,null,null,null,null,3.5616674152133203E-2,0.10309278350515463]
[713,null,16,"Missoula, MT - Ravalli, MT","MT: Granite County (30039)","MT: Granite County (30039)","30039","  Granite  ",{"$f":"ROWS($L$2:L1617)","v":1616},{"$f":"IF(L1617=WORKSHEET!$B$1,I1617,\"\")","v":""},"","MONTANA","Granite County","N/A","N/A","*","N/A","*",3.5616674152133203E-2,0.14383561643835616]
[712,null,16,"Hill, MT - Blaine, MT","MT: Hill County (30041)","MT: Hill County (30041)","30041","  Hill  ",{"$f":"ROWS($L$2:L1618)","v":1617},{"$f":"IF(L1618=WORKSHEET!$B$1,I1618,\"\")","v":""},"","MONTANA","Hill County",11,{"$f":"+R1618-N1618-P1618","v":2},12,"N/A",25,3.5616674152133203E-2,0.29032258064516131]
[721,null,16,"Lewis and Clark, MT - Jefferson, MT","MT: Jefferson County (30043)","MT: Jefferson County (30043)","30043","  Jefferson  ",{"$f":"ROWS($L$2:L1619)","v":1618},{"$f":"IF(L1619=WORKSHEET!$B$1,I1619,\"\")","v":""},"","MONTANA","Jefferson County","*","N/A",11,"N/A",19,3.5616674152133203E-2,0.16949152542372881]
[692,null,16,"Cascade (Great Falls), MT - Glacier, MT","MT: Judith Basin County (30045)","MT: Judith Basin County (30045)","30045","  Judith Basin  ",{"$f":"ROWS($L$2:L1620)","v":1619},{"$f":"IF(L1620=WORKSHEET!$B$1,I1620,\"\")","v":""},"","MONTANA","Judith Basin County","N/A","*","*","N/A","*",3.5616674152133203E-2,0.20714285714285716]
[713,null,16,"Missoula, MT - Ravalli, MT","MT: Lake County (30047)","MT: Lake County (30047)","30047","  Lake  ",{"$f":"ROWS($L$2:L1621)","v":1620},{"$f":"IF(L1621=WORKSHEET!$B$1,I1621,\"\")","v":""},"","MONTANA","Lake County",28,{"$f":"+R1621-N1621-P1621","v":6},20,"N/A",54,3.5616674152133203E-2,0.14383561643835616]
[721,null,16,"Lewis and Clark, MT - Jefferson, MT","MT: Lewis and Clark County (30049)","MT: Lewis and Clark County (30049)","30049","  Lewis And Clark  ",{"$f":"ROWS($L$2:L1622)","v":1621},{"$f":"IF(L1622=WORKSHEET!$B$1,I1622,\"\")","v":""},"","MONTANA","Lewis and Clark County",39,{"$f":"+R1622-N1622-P1622","v":9},40,"N/A",88,3.5616674152133203E-2,0.16949152542372881]
[712,null,16,"Hill, MT - Blaine, MT","MT: Liberty County (30051)","MT: Liberty County (30051)","30051","  Liberty  ",{"$f":"ROWS($L$2:L1623)","v":1622},{"$f":"IF(L1623=WORKSHEET!$B$1,I1623,\"\")","v":""},"","MONTANA","Liberty County","*","N/A","*","N/A","*",3.5616674152133203E-2,0.29032258064516131]
[728,null,16,"Flathead, MT - Lincoln, MT","MT: Lincoln County (30053)","MT: Lincoln County (30053)","30053","  Lincoln  ",{"$f":"ROWS($L$2:L1624)","v":1623},{"$f":"IF(L1624=WORKSHEET!$B$1,I1624,\"\")","v":""},"","MONTANA","Lincoln County",15,{"$f":"+R1624-N1624-P1624","v":3},18,"N/A",36,3.5616674152133203E-2,0.11764705882352941]
[773,null,16,"Gallatin and Yellowstone National Park, MT - Madison, MT","MT: Madison County (30057)","MT: Madison County (30057)","30057","  Madison  ",{"$f":"ROWS($L$2:L1625)","v":1624},{"$f":"IF(L1625=WORKSHEET!$B$1,I1625,\"\")","v":""},"","MONTANA","Madison County","*","*","N/A","N/A","*",3.5616674152133203E-2,0.1891891891891892]
[767,null,16,"Richland, MT - Dawson, MT","MT: McCone County (30055)","MT: McCone County (30055)","30055","  Mccone  ",{"$f":"ROWS($L$2:L1626)","v":1625},{"$f":"IF(L1626=WORKSHEET!$B$1,I1626,\"\")","v":""},"","MONTANA","McCone County","N/A","*","*","N/A","*",3.5616674152133203E-2,0.2]
[778,null,16,"Wheatland, MT - Meagher, MT","MT: Meagher County (30059)","MT: Meagher County (30059)","30059","  Meagher  ",{"$f":"ROWS($L$2:L1627)","v":1626},{"$f":"IF(L1627=WORKSHEET!$B$1,I1627,\"\")","v":""},"","MONTANA","Meagher County","*","*","N/A","N/A","*",3.5616674152133203E-2,0.1]
[713,null,16,"Missoula, MT - Ravalli, MT","MT: Mineral County (30061)","MT: Mineral County (30061)","30061","  Mineral  ",{"$f":"ROWS($L$2:L1628)","v":1627},{"$f":"IF(L1628=WORKSHEET!$B$1,I1628,\"\")","v":""},"","MONTANA","Mineral County","*","*","*","N/A","*",3.5616674152133203E-2,0.14383561643835616]
[713,null,16,"Missoula, MT - Ravalli, MT","MT: Missoula County (30063)","MT: Missoula County (30063)","30063","  Missoula  ",{"$f":"ROWS($L$2:L1629)","v":1628},{"$f":"IF(L1629=WORKSHEET!$B$1,I1629,\"\")","v":""},"","MONTANA","Missoula County",65,{"$f":"+R1629-N1629-P1629","v":5},67,"N/A",137,3.5616674152133203E-2,0.14383561643835616]
[691,null,16,"Yellowstone (Billings), MT - Big Horn, MT","MT: Musselshell County (30065)","MT: Musselshell County (30065)","30065","  Musselshell  ",{"$f":"ROWS($L$2:L1630)","v":1629},{"$f":"IF(L1630=WORKSHEET!$B$1,I1630,\"\")","v":""},"","MONTANA","Musselshell County","*","N/A","*","N/A","*",3.5616674152133203E-2,0.10309278350515463]
[756,null,16,"Park, MT - Sweet Grass, MT","MT: Park County (30067)","MT: Park County (30067)","30067","  Park  ",{"$f":"ROWS($L$2:L1631)","v":1630},{"$f":"IF(L1631=WORKSHEET!$B$1,I1631,\"\")","v":""},"","MONTANA","Park County","*","*","*","N/A",17,3.5616674152133203E-2,0.15384615384615385]
[810,null,16,"Fergus, MT - Petroleum, MT","MT: Petroleum County (30069)","MT: Petroleum County (30069)","30069","  Petroleum  ",{"$f":"ROWS($L$2:L1632)","v":1631},{"$f":"IF(L1632=WORKSHEET!$B$1,I1632,\"\")","v":""},"","MONTANA","Petroleum County","*","N/A","N/A","N/A","*",3.5616674152133203E-2,9.0909090909090912E-2]
[712,null,16,"Hill, MT - Blaine, MT","MT: Phillips County (30071)","MT: Phillips County (30071)","30071","  Phillips  ",{"$f":"ROWS($L$2:L1633)","v":1632},{"$f":"IF(L1633=WORKSHEET!$B$1,I1633,\"\")","v":""},"","MONTANA","Phillips County","*","*","*","N/A","*",3.5616674152133203E-2,0.29032258064516131]
[692,null,16,"Cascade (Great Falls), MT - Glacier, MT","MT: Pondera County (30073)","MT: Pondera County (30073)","30073","  Pondera  ",{"$f":"ROWS($L$2:L1634)","v":1633},{"$f":"IF(L1634=WORKSHEET!$B$1,I1634,\"\")","v":""},"","MONTANA","Pondera County","*","*","*","N/A",13,3.5616674152133203E-2,0.20714285714285716]
[714,null,16,"Custer, MT - Fallon, MT","MT: Powder River County (30075)","MT: Powder River County (30075)","30075","  Powder River  ",{"$f":"ROWS($L$2:L1635)","v":1634},{"$f":"IF(L1635=WORKSHEET!$B$1,I1635,\"\")","v":""},"","MONTANA","Powder River County","N/A","N/A","*","N/A","*",3.5616674152133203E-2,0.16666666666666666]
[788,null,16,"Powell, MT","MT: Powell County (30077)","MT: Powell County (30077)","30077","  Powell  ",{"$f":"ROWS($L$2:L1636)","v":1635},{"$f":"IF(L1636=WORKSHEET!$B$1,I1636,\"\")","v":""},"","MONTANA","Powell County","*","*","*","N/A","*",3.5616674152133203E-2,0.125]
[714,null,16,"Custer, MT - Fallon, MT","MT: Prairie County (30079)","MT: Prairie County (30079)","30079",null,{"$f":"ROWS($L$2:L1637)","v":1636},{"$f":"IF(L1637=WORKSHEET!$B$1,I1637,\"\")","v":""},"","MONTANA","Prairie County",null,null,null,null,null,3.5616674152133203E-2,0.16666666666666666]
[713,null,16,"Missoula, MT - Ravalli, MT","MT: Ravalli County (30081)","MT: Ravalli County (30081)","30081","  Ravalli  ",{"$f":"ROWS($L$2:L1638)","v":1637},{"$f":"IF(L1638=WORKSHEET!$B$1,I1638,\"\")","v":""},"","MONTANA","Ravalli County",22,{"$f":"+R1638-N1638-P1638","v":7},24,"N/A",53,3.5616674152133203E-2,0.14383561643835616]
[767,null,16,"Richland, MT - Dawson, MT","MT: Richland County (30083)","MT: Richland County (30083)","30083","  Richland  ",{"$f":"ROWS($L$2:L1639)","v":1638},{"$f":"IF(L1639=WORKSHEET!$B$1,I1639,\"\")","v":""},"","MONTANA","Richland County","*","*","*","N/A","*",3.5616674152133203E-2,0.2]
[779,null,16,"Roosevelt, MT - Valley, MT","MT: Roosevelt County (30085)","MT: Roosevelt County (30085)","30085","  Roosevelt  ",{"$f":"ROWS($L$2:L1640)","v":1639},{"$f":"IF(L1640=WORKSHEET!$B$1,I1640,\"\")","v":""},"","MONTANA","Roosevelt County",29,"N/A","*","N/A",32,3.5616674152133203E-2,2.7777777777777776E-2]
[691,null,16,"Yellowstone (Billings), MT - Big Horn, MT","MT: Rosebud County (30087)","MT: Rosebud County (30087)","30087","  Rosebud  ",{"$f":"ROWS($L$2:L1641)","v":1640},{"$f":"IF(L1641=WORKSHEET!$B$1,I1641,\"\")","v":""},"","MONTANA","Rosebud County",21,"*","*","N/A",33,3.5616674152133203E-2,0.10309278350515463]
[713,null,16,"Missoula, MT - Ravalli, MT","MT: Sanders County (30089)","MT: Sanders County (30089)","30089","  Sanders  ",{"$f":"ROWS($L$2:L1642)","v":1641},{"$f":"IF(L1642=WORKSHEET!$B$1,I1642,\"\")","v":""},"","MONTANA","Sanders County","*","*","*","N/A",15,3.5616674152133203E-2,0.14383561643835616]
[733,null,16,"Sheridan, MT - Daniels, MT","MT: Sheridan County (30091)","MT: Sheridan County (30091)","30091","  Sheridan  ",{"$f":"ROWS($L$2:L1643)","v":1642},{"$f":"IF(L1643=WORKSHEET!$B$1,I1643,\"\")","v":""},"","MONTANA","Sheridan County","*","*","*","N/A","*",3.5616674152133203E-2,0.1]
[742,null,16,"Silver Bow, MT - Deer Lodge, MT","MT: Silver Bow County (30093)","MT: Silver Bow County (30093)","30093","  Silver Bow  ",{"$f":"ROWS($L$2:L1644)","v":1643},{"$f":"IF(L1644=WORKSHEET!$B$1,I1644,\"\")","v":""},"","MONTANA","Silver Bow County",31,{"$f":"+R1644-N1644-P1644","v":1},13,"N/A",45,3.5616674152133203E-2,2.4390243902439025E-2]
[691,null,16,"Yellowstone (Billings), MT - Big Horn, MT","MT: Stillwater County (30095)","MT: Stillwater County (30095)","30095","  Stillwater  ",{"$f":"ROWS($L$2:L1645)","v":1644},{"$f":"IF(L1645=WORKSHEET!$B$1,I1645,\"\")","v":""},"","MONTANA","Stillwater County","*","*","*","N/A",11,3.5616674152133203E-2,0.10309278350515463]
[756,null,16,"Park, MT - Sweet Grass, MT","MT: Sweet Grass County (30097)","MT: Sweet Grass County (30097)","30097","  Sweet Grass  ",{"$f":"ROWS($L$2:L1646)","v":1645},{"$f":"IF(L1646=WORKSHEET!$B$1,I1646,\"\")","v":""},"","MONTANA","Sweet Grass County","*","N/A","*","N/A","*",3.5616674152133203E-2,0.15384615384615385]
[692,null,16,"Cascade (Great Falls), MT - Glacier, MT","MT: Teton County (30099)","MT: Teton County (30099)","30099","  Teton  ",{"$f":"ROWS($L$2:L1647)","v":1646},{"$f":"IF(L1647=WORKSHEET!$B$1,I1647,\"\")","v":""},"","MONTANA","Teton County","*","*","*","N/A","*",3.5616674152133203E-2,0.20714285714285716]
[692,null,16,"Cascade (Great Falls), MT - Glacier, MT","MT: Toole County (30101)","MT: Toole County (30101)","30101","  Toole  ",{"$f":"ROWS($L$2:L1648)","v":1647},{"$f":"IF(L1648=WORKSHEET!$B$1,I1648,\"\")","v":""},"","MONTANA","Toole County","N/A","*","*","N/A","*",3.5616674152133203E-2,0.20714285714285716]
[691,null,16,"Yellowstone (Billings), MT - Big Horn, MT","MT: Treasure County (30103)","MT: Treasure County (30103)","30103","  Treasure  ",{"$f":"ROWS($L$2:L1649)","v":1648},{"$f":"IF(L1649=WORKSHEET!$B$1,I1649,\"\")","v":""},"","MONTANA","Treasure County","*","N/A","N/A","N/A","*",3.5616674152133203E-2,0.10309278350515463]
[779,null,16,"Roosevelt, MT - Valley, MT","MT: Valley County (30105)","MT: Valley County (30105)","30105","  Valley  ",{"$f":"ROWS($L$2:L1650)","v":1649},{"$f":"IF(L1650=WORKSHEET!$B$1,I1650,\"\")","v":""},"","MONTANA","Valley County","*","*","*","N/A",15,3.5616674152133203E-2,2.7777777777777776E-2]
[778,null,16,"Wheatland, MT - Meagher, MT","MT: Wheatland County (30107)","MT: Wheatland County (30107)","30107","  Wheatland  ",{"$f":"ROWS($L$2:L1651)","v":1650},{"$f":"IF(L1651=WORKSHEET!$B$1,I1651,\"\")","v":""},"","MONTANA","Wheatland County","N/A","*","N/A","N/A","*",3.5616674152133203E-2,0.1]
[767,null,16,"Richland, MT - Dawson, MT","MT: Wibaux County (30109)","MT: Wibaux County (30109)","30109","  Wibaux  ",{"$f":"ROWS($L$2:L1652)","v":1651},{"$f":"IF(L1652=WORKSHEET!$B$1,I1652,\"\")","v":""},"","MONTANA","Wibaux County","N/A","*","*","N/A","*",3.5616674152133203E-2,0.2]
[691,null,16,"Yellowstone (Billings), MT - Big Horn, MT","MT: Yellowstone County (30111)","MT: Yellowstone County (30111)","30111","  Yellowstone  ",{"$f":"ROWS($L$2:L1653)","v":1652},{"$f":"IF(L1653=WORKSHEET!$B$1,I1653,\"\")","v":""},"","MONTANA","Yellowstone County",95,12,100,"*",209,3.5616674152133203E-2,0.10309278350515463]
[267,null,6,"Alamance, NC","NC: Alamance County (37001)","NC: Alamance County (37001)","37001","Alamance  ",{"$f":"ROWS($L$2:L1654)","v":1653},{"$f":"IF(L1654=WORKSHEET!$B$1,I1654,\"\")","v":""},"","NORTH CAROLINA","Alamance County",295,33,85,"N/A",413,3.316512684006382E-2,0.10060975609756098]
[192,null,6,"Iredell (Statesville), NC - Alexander, NC","NC: Alexander County (37003)","NC: Alexander County (37003)","37003","  Alexander  ",{"$f":"ROWS($L$2:L1655)","v":1654},{"$f":"IF(L1655=WORKSHEET!$B$1,I1655,\"\")","v":""},"","NORTH CAROLINA","Alexander County",36,{"$f":"+R1655-N1655-P1655","v":3},19,"N/A",58,3.316512684006382E-2,0.17898832684824903]
[73,null,6,"Alleghany, NC","NC: Alleghany County (37005)","NC: Alleghany County (37005)","37005","  Alleghany  ",{"$f":"ROWS($L$2:L1656)","v":1655},{"$f":"IF(L1656=WORKSHEET!$B$1,I1656,\"\")","v":""},"","NORTH CAROLINA","Alleghany County","*","*","*","N/A",15,3.316512684006382E-2,0.15068493150684931]
[167,null,6,"Mecklenburg (Charlotte), NC - Union, NC","NC: Anson County (37007)","NC: Anson County (37007)","37007","  Anson  ",{"$f":"ROWS($L$2:L1657)","v":1656},{"$f":"IF(L1657=WORKSHEET!$B$1,I1657,\"\")","v":""},"","NORTH CAROLINA","Anson County",76,{"$f":"+R1657-N1657-P1657","v":5},20,"N/A",101,3.316512684006382E-2,7.6767676767676762E-2]
[194,null,6,"Watauga, NC - Ashe, NC","NC: Ashe County (37009)","NC: Ashe County (37009)","37009","  Ashe  ",{"$f":"ROWS($L$2:L1658)","v":1657},{"$f":"IF(L1658=WORKSHEET!$B$1,I1658,\"\")","v":""},"","NORTH CAROLINA","Ashe County",14,{"$f":"+R1658-N1658-P1658","v":9},12,"N/A",35,3.316512684006382E-2,0.23170731707317074]
[240,null,6,"Yancey, NC - Avery, NC","NC: Avery County (37011)","NC: Avery County (37011)","37011","  Avery  ",{"$f":"ROWS($L$2:L1659)","v":1658},{"$f":"IF(L1659=WORKSHEET!$B$1,I1659,\"\")","v":""},"","NORTH CAROLINA","Avery County","*","*",12,"N/A",19,3.316512684006382E-2,0.10714285714285714]
[195,null,6,"Pitt, NC - Beaufort, NC","NC: Beaufort County (37013)","NC: Beaufort County (37013)","37013","  Beaufort  ",{"$f":"ROWS($L$2:L1660)","v":1659},{"$f":"IF(L1660=WORKSHEET!$B$1,I1660,\"\")","v":""},"","NORTH CAROLINA","Beaufort County",112,12,40,"*",166,3.316512684006382E-2,0.10980966325036604]
[243,null,6,"Hertford, NC - Bertie, NC","NC: Bertie County (37015)","NC: Bertie County (37015)","37015","  Bertie  ",{"$f":"ROWS($L$2:L1661)","v":1660},{"$f":"IF(L1661=WORKSHEET!$B$1,I1661,\"\")","v":""},"","NORTH CAROLINA","Bertie County",52,{"$f":"+R1661-N1661-P1661","v":8},21,"N/A",81,3.316512684006382E-2,0.1650943396226415]
[207,null,6,"Robeson, NC - Columbus, NC","NC: Bladen County (37017)","NC: Bladen County (37017)","37017","  Bladen  ",{"$f":"ROWS($L$2:L1662)","v":1661},{"$f":"IF(L1662=WORKSHEET!$B$1,I1662,\"\")","v":""},"","NORTH CAROLINA","Bladen County",82,11,17,"N/A",110,3.316512684006382E-2,7.5187969924812026E-2]
[168,null,6,"New Hanover (Wilmington), NC - Brunswick, NC","NC: Brunswick County (37019)","NC: Brunswick County (37019)","37019","  Brunswick  ",{"$f":"ROWS($L$2:L1663)","v":1662},{"$f":"IF(L1663=WORKSHEET!$B$1,I1663,\"\")","v":""},"","NORTH CAROLINA","Brunswick County",113,19,52,"*",185,3.316512684006382E-2,0.14599999999999999]
[225,null,6,"Buncombe (Asheville), NC - Henderson, NC","NC: Buncombe County (37021)","NC: Buncombe County (37021)","37021","  Buncombe  ",{"$f":"ROWS($L$2:L1664)","v":1663},{"$f":"IF(L1664=WORKSHEET!$B$1,I1664,\"\")","v":""},"","NORTH CAROLINA","Buncombe County",213,37,138,"*",390,3.316512684006382E-2,0.17473684210526316]
[229,null,6,"Catawba (Hickory), NC - Burke, NC","NC: Burke County (37023)","NC: Burke County (37023)","37023","  Burke  ",{"$f":"ROWS($L$2:L1665)","v":1664},{"$f":"IF(L1665=WORKSHEET!$B$1,I1665,\"\")","v":""},"","NORTH CAROLINA","Burke County",103,13,56,"*",173,3.316512684006382E-2,9.5334685598377281E-2]
[235,null,6,"Cabarrus (Concord), NC - Rowan, NC","NC: Cabarrus County (37025)","NC: Cabarrus County (37025)","37025","  Cabarrus  ",{"$f":"ROWS($L$2:L1666)","v":1665},{"$f":"IF(L1666=WORKSHEET!$B$1,I1666,\"\")","v":""},"","NORTH CAROLINA","Cabarrus County",190,42,88,"*",321,3.316512684006382E-2,0.17567567567567569]
[229,null,6,"Catawba (Hickory), NC - Burke, NC","NC: Caldwell County (37027)","NC: Caldwell County (37027)","37027","  Caldwell  ",{"$f":"ROWS($L$2:L1667)","v":1666},{"$f":"IF(L1667=WORKSHEET!$B$1,I1667,\"\")","v":""},{"$f":"IFERROR(SMALL($J$2:$J$3142,I1667),\"\")","v":""},"NORTH CAROLINA","Caldwell County",119,{"$f":"+R1667-N1667-P1667","v":8},42,"N/A",169,3.316512684006382E-2,9.5334685598377281E-2]
[264,null,6,"Pasquotank, NC - Dare, NC","NC: Camden County (37029)","NC: Camden County (37029)","37029","  Camden  ",{"$f":"ROWS($L$2:L1668)","v":1667},{"$f":"IF(L1668=WORKSHEET!$B$1,I1668,\"\")","v":""},"","NORTH CAROLINA","Camden County","*","*",13,"N/A",28,3.316512684006382E-2,0.20930232558139536]
[242,null,6,"Onslow, NC - Craven, NC","NC: Carteret County (37031)","NC: Carteret County (37031)","37031","  Carteret  ",{"$f":"ROWS($L$2:L1669)","v":1668},{"$f":"IF(L1669=WORKSHEET!$B$1,I1669,\"\")","v":""},"","NORTH CAROLINA","Carteret County",59,{"$f":"+R1669-N1669-P1669","v":4},31,"N/A",94,3.316512684006382E-2,9.4377510040160636E-2]
[132,null,6,"Caswell, NC","NC: Caswell County (37033)","NC: Caswell County (37033)","37033","  Caswell  ",{"$f":"ROWS($L$2:L1670)","v":1669},{"$f":"IF(L1670=WORKSHEET!$B$1,I1670,\"\")","v":""},"","NORTH CAROLINA","Caswell County",48,"*","*","N/A",60,3.316512684006382E-2,6.8126520681265207E-2]
[229,null,6,"Catawba (Hickory), NC - Burke, NC","NC: Catawba County (37035)","NC: Catawba County (37035)","37035","  Catawba  ",{"$f":"ROWS($L$2:L1671)","v":1670},{"$f":"IF(L1671=WORKSHEET!$B$1,I1671,\"\")","v":""},"","NORTH CAROLINA","Catawba County",224,26,123,"*",374,3.316512684006382E-2,9.5334685598377281E-2]
[203,null,6,"Orange (Chapel Hill), NC - Harnett, NC","NC: Chatham County (37037)","NC: Chatham County (37037)","37037","  Chatham  ",{"$f":"ROWS($L$2:L1672)","v":1671},{"$f":"IF(L1672=WORKSHEET!$B$1,I1672,\"\")","v":""},"","NORTH CAROLINA","Chatham County",83,{"$f":"+R1672-N1672-P1672","v":5},22,"N/A",110,3.316512684006382E-2,9.2896174863387984E-2]
[258,null,6,"Cherokee, NC - Clay, NC","NC: Cherokee County (37039)","NC: Cherokee County (37039)","37039","  Cherokee  ",{"$f":"ROWS($L$2:L1673)","v":1672},{"$f":"IF(L1673=WORKSHEET!$B$1,I1673,\"\")","v":""},"","NORTH CAROLINA","Cherokee County",27,"*",14,"N/A",46,3.316512684006382E-2,0.18604651162790697]
[243,null,6,"Hertford, NC - Bertie, NC","NC: Chowan County (37041)","NC: Chowan County (37041)","37041","  Chowan  ",{"$f":"ROWS($L$2:L1674)","v":1673},{"$f":"IF(L1674=WORKSHEET!$B$1,I1674,\"\")","v":""},"","NORTH CAROLINA","Chowan County",28,"*","*","N/A",44,3.316512684006382E-2,0.1650943396226415]
[258,null,6,"Cherokee, NC - Clay, NC","NC: Clay County (37043)","NC: Clay County (37043)","37043","  Clay  ",{"$f":"ROWS($L$2:L1675)","v":1674},{"$f":"IF(L1675=WORKSHEET!$B$1,I1675,\"\")","v":""},"","NORTH CAROLINA","Clay County","*","*","*","N/A",13,3.316512684006382E-2,0.18604651162790697]
[218,null,6,"Gaston (Gastonia), NC - Cleveland, NC","NC: Cleveland County (37045)","NC: Cleveland County (37045)","37045","  Cleveland  ",{"$f":"ROWS($L$2:L1676)","v":1675},{"$f":"IF(L1676=WORKSHEET!$B$1,I1676,\"\")","v":""},"","NORTH CAROLINA","Cleveland County",213,20,84,"N/A",317,3.316512684006382E-2,8.2914572864321606E-2]
[207,null,6,"Robeson, NC - Columbus, NC","NC: Columbus County (37047)","NC: Columbus County (37047)","37047","  Columbus  ",{"$f":"ROWS($L$2:L1677)","v":1676},{"$f":"IF(L1677=WORKSHEET!$B$1,I1677,\"\")","v":""},"","NORTH CAROLINA","Columbus County",118,{"$f":"+R1677-N1677-P1677","v":11},39,"*",168,3.316512684006382E-2,7.5187969924812026E-2]
[242,null,6,"Onslow, NC - Craven, NC","NC: Craven County (37049)","NC: Craven County (37049)","37049","  Craven  ",{"$f":"ROWS($L$2:L1678)","v":1677},{"$f":"IF(L1678=WORKSHEET!$B$1,I1678,\"\")","v":""},"","NORTH CAROLINA","Craven County",187,11,89,"*",289,3.316512684006382E-2,9.4377510040160636E-2]
[262,null,6,"Cumberland (Fayetteville), NC - Sampson, NC","NC: Cumberland County (37051)","NC: Cumberland County (37051)","37051","  Cumberland  ",{"$f":"ROWS($L$2:L1679)","v":1678},{"$f":"IF(L1679=WORKSHEET!$B$1,I1679,\"\")","v":""},"","NORTH CAROLINA","Cumberland County",701,60,188,"*",952,3.316512684006382E-2,8.0347448425624315E-2]
[6,null,6,"Currituck, NC","NC: Currituck County (37053)","NC: Currituck County (37053)","37053","  Currituck  ",{"$f":"ROWS($L$2:L1680)","v":1679},{"$f":"IF(L1680=WORKSHEET!$B$1,I1680,\"\")","v":""},"","NORTH CAROLINA","Currituck County",17,{"$f":"+R1680-N1680-P1680","v":7},11,"N/A",35,3.316512684006382E-2,9.2492741600995437E-2]
[264,null,6,"Pasquotank, NC - Dare, NC","NC: Dare County (37055)","NC: Dare County (37055)","37055","  Dare  ",{"$f":"ROWS($L$2:L1681)","v":1680},{"$f":"IF(L1681=WORKSHEET!$B$1,I1681,\"\")","v":""},"","NORTH CAROLINA","Dare County",20,{"$f":"+R1681-N1681-P1681","v":6},25,"N/A",51,3.316512684006382E-2,0.20930232558139536]
[186,null,6,"Guilford (Greensboro), NC - Davidson, NC","NC: Davidson County (37057)","NC: Davidson County (37057)","37057","  Davidson  ",{"$f":"ROWS($L$2:L1682)","v":1681},{"$f":"IF(L1682=WORKSHEET!$B$1,I1682,\"\")","v":""},"","NORTH CAROLINA","Davidson County",200,28,90,"N/A",318,3.316512684006382E-2,7.5063613231552168E-2]
[149,null,6,"Forsyth (Winston-Salem), NC - Surry, NC","NC: Davie County (37059)","NC: Davie County (37059)","37059","  Davie  ",{"$f":"ROWS($L$2:L1683)","v":1682},{"$f":"IF(L1683=WORKSHEET!$B$1,I1683,\"\")","v":""},"","NORTH CAROLINA","Davie County",44,14,21,"N/A",79,3.316512684006382E-2,0.13827433628318583]
[238,null,6,"Wayne, NC - Lenoir, NC","NC: Duplin County (37061)","NC: Duplin County (37061)","37061","  Duplin  ",{"$f":"ROWS($L$2:L1684)","v":1683},{"$f":"IF(L1684=WORKSHEET!$B$1,I1684,\"\")","v":""},"","NORTH CAROLINA","Duplin County",123,16,42,"N/A",181,3.316512684006382E-2,8.1447963800904979E-2]
[170,null,6,"Durham (Durham), NC - Granville, NC","NC: Durham County (37063)","NC: Durham County (37063)","37063","  Durham  ",{"$f":"ROWS($L$2:L1685)","v":1684},{"$f":"IF(L1685=WORKSHEET!$B$1,I1685,\"\")","v":""},"","NORTH CAROLINA","Durham County",566,39,191,"*",797,3.316512684006382E-2,6.569343065693431E-2]
[214,null,6,"Nash, NC - Halifax, NC","NC: Edgecombe County (37065)","NC: Edgecombe County (37065)","37065","  Edgecombe  ",{"$f":"ROWS($L$2:L1686)","v":1685},{"$f":"IF(L1686=WORKSHEET!$B$1,I1686,\"\")","v":""},"","NORTH CAROLINA","Edgecombe County",196,15,44,"N/A",255,3.316512684006382E-2,7.9613992762364291E-2]
[149,null,6,"Forsyth (Winston-Salem), NC - Surry, NC","NC: Forsyth County (37067)","NC: Forsyth County (37067)","37067","  Forsyth  ",{"$f":"ROWS($L$2:L1687)","v":1686},{"$f":"IF(L1687=WORKSHEET!$B$1,I1687,\"\")","v":""},"","NORTH CAROLINA","Forsyth County",564,77,311,"*",953,3.316512684006382E-2,0.13827433628318583]
[198,null,6,"Wake (Raleigh), NC - Johnston, NC","NC: Franklin County (37069)","NC: Franklin County (37069)","37069","  Franklin  ",{"$f":"ROWS($L$2:L1688)","v":1687},{"$f":"IF(L1688=WORKSHEET!$B$1,I1688,\"\")","v":""},"","NORTH CAROLINA","Franklin County",107,11,34,"N/A",152,3.316512684006382E-2,9.652309289050337E-2]
[218,null,6,"Gaston (Gastonia), NC - Cleveland, NC","NC: Gaston County (37071)","NC: Gaston County (37071)","37071","  Gaston  ",{"$f":"ROWS($L$2:L1689)","v":1688},{"$f":"IF(L1689=WORKSHEET!$B$1,I1689,\"\")","v":""},"","NORTH CAROLINA","Gaston County",343,19,108,"N/A",470,3.316512684006382E-2,8.2914572864321606E-2]
[243,null,6,"Hertford, NC - Bertie, NC","NC: Gates County (37073)","NC: Gates County (37073)","37073","  Gates  ",{"$f":"ROWS($L$2:L1690)","v":1689},{"$f":"IF(L1690=WORKSHEET!$B$1,I1690,\"\")","v":""},"","NORTH CAROLINA","Gates County",22,"*","*","N/A",30,3.316512684006382E-2,0.1650943396226415]
[209,null,6,"Jackson, NC - Macon, NC","NC: Graham County (37075)","NC: Graham County (37075)","37075","  Graham  ",{"$f":"ROWS($L$2:L1691)","v":1690},{"$f":"IF(L1691=WORKSHEET!$B$1,I1691,\"\")","v":""},"","NORTH CAROLINA","Graham County","*","*","*","N/A",19,3.316512684006382E-2,0.26428571428571429]
[170,null,6,"Durham (Durham), NC - Granville, NC","NC: Granville County (37077)","NC: Granville County (37077)","37077","  Granville  ",{"$f":"ROWS($L$2:L1692)","v":1691},{"$f":"IF(L1692=WORKSHEET!$B$1,I1692,\"\")","v":""},"","NORTH CAROLINA","Granville County",148,{"$f":"+R1692-N1692-P1692","v":8},36,"*",192,3.316512684006382E-2,6.569343065693431E-2]
[238,null,6,"Wayne, NC - Lenoir, NC","NC: Greene County (37079)","NC: Greene County (37079)","37079","  Greene  ",{"$f":"ROWS($L$2:L1693)","v":1692},{"$f":"IF(L1693=WORKSHEET!$B$1,I1693,\"\")","v":""},"","NORTH CAROLINA","Greene County",45,{"$f":"+R1693-N1693-P1693","v":2},17,"N/A",64,3.316512684006382E-2,8.1447963800904979E-2]
[186,null,6,"Guilford (Greensboro), NC - Davidson, NC","NC: Guilford County (37081)","NC: Guilford County (37081)","37081","  Guilford  ",{"$f":"ROWS($L$2:L1694)","v":1693},{"$f":"IF(L1694=WORKSHEET!$B$1,I1694,\"\")","v":""},"","NORTH CAROLINA","Guilford County",913,69,440,"*",1425,3.316512684006382E-2,7.5063613231552168E-2]
[214,null,6,"Nash, NC - Halifax, NC","NC: Halifax County (37083)","NC: Halifax County (37083)","37083","  Halifax  ",{"$f":"ROWS($L$2:L1695)","v":1694},{"$f":"IF(L1695=WORKSHEET!$B$1,I1695,\"\")","v":""},"","NORTH CAROLINA","Halifax County",227,17,45,"N/A",289,3.316512684006382E-2,7.9613992762364291E-2]
[203,null,6,"Orange (Chapel Hill), NC - Harnett, NC","NC: Harnett County (37085)","NC: Harnett County (37085)","37085","  Harnett  ",{"$f":"ROWS($L$2:L1696)","v":1695},{"$f":"IF(L1696=WORKSHEET!$B$1,I1696,\"\")","v":""},"","NORTH CAROLINA","Harnett County",156,13,31,"N/A",200,3.316512684006382E-2,9.2896174863387984E-2]
[225,null,6,"Buncombe (Asheville), NC - Henderson, NC","NC: Haywood County (37087)","NC: Haywood County (37087)","37087","  Haywood  ",{"$f":"ROWS($L$2:L1697)","v":1696},{"$f":"IF(L1697=WORKSHEET!$B$1,I1697,\"\")","v":""},"","NORTH CAROLINA","Haywood County",57,{"$f":"+R1697-N1697-P1697","v":8},38,"N/A",103,3.316512684006382E-2,0.17473684210526316]
[225,null,6,"Buncombe (Asheville), NC - Henderson, NC","NC: Henderson County (37089)","NC: Henderson County (37089)","37089","  Henderson  ",{"$f":"ROWS($L$2:L1698)","v":1697},{"$f":"IF(L1698=WORKSHEET!$B$1,I1698,\"\")","v":""},"","NORTH CAROLINA","Henderson County",86,23,47,"*",157,3.316512684006382E-2,0.17473684210526316]
[243,null,6,"Hertford, NC - Bertie, NC","NC: Hertford County (37091)","NC: Hertford County (37091)","37091","  Hertford  ",{"$f":"ROWS($L$2:L1699)","v":1698},{"$f":"IF(L1699=WORKSHEET!$B$1,I1699,\"\")","v":""},"","NORTH CAROLINA","Hertford County",75,17,26,"N/A",118,3.316512684006382E-2,0.1650943396226415]
[205,null,6,"Moore, NC - Richmond, NC","NC: Hoke County (37093)","NC: Hoke County (37093)","37093","  Hoke  ",{"$f":"ROWS($L$2:L1700)","v":1699},{"$f":"IF(L1700=WORKSHEET!$B$1,I1700,\"\")","v":""},"","NORTH CAROLINA","Hoke County",107,{"$f":"+R1700-N1700-P1700","v":6},18,"*",131,3.316512684006382E-2,6.8410462776659964E-2]
[195,null,6,"Pitt, NC - Beaufort, NC","NC: Hyde County (37095)","NC: Hyde County (37095)","37095","  Hyde  ",{"$f":"ROWS($L$2:L1701)","v":1700},{"$f":"IF(L1701=WORKSHEET!$B$1,I1701,\"\")","v":""},"","NORTH CAROLINA","Hyde County","*","*","*","N/A",12,3.316512684006382E-2,0.10980966325036604]
[192,null,6,"Iredell (Statesville), NC - Alexander, NC","NC: Iredell County (37097)","NC: Iredell County (37097)","37097","  Iredell  ",{"$f":"ROWS($L$2:L1702)","v":1701},{"$f":"IF(L1702=WORKSHEET!$B$1,I1702,\"\")","v":""},"","NORTH CAROLINA","Iredell County",175,43,94,"N/A",312,3.316512684006382E-2,0.17898832684824903]
[209,null,6,"Jackson, NC - Macon, NC","NC: Jackson County (37099)","NC: Jackson County (37099)","37099","  Jackson  ",{"$f":"ROWS($L$2:L1703)","v":1702},{"$f":"IF(L1703=WORKSHEET!$B$1,I1703,\"\")","v":""},"","NORTH CAROLINA","Jackson County",30,{"$f":"+R1703-N1703-P1703","v":9},14,"N/A",53,3.316512684006382E-2,0.26428571428571429]
[198,null,6,"Wake (Raleigh), NC - Johnston, NC","NC: Johnston County (37101)","NC: Johnston County (37101)","37101","  Johnston  ",{"$f":"ROWS($L$2:L1704)","v":1703},{"$f":"IF(L1704=WORKSHEET!$B$1,I1704,\"\")","v":""},"","NORTH CAROLINA","Johnston County",234,20,85,"*",341,3.316512684006382E-2,9.652309289050337E-2]
[242,null,6,"Onslow, NC - Craven, NC","NC: Jones County (37103)","NC: Jones County (37103)","37103","  Jones  ",{"$f":"ROWS($L$2:L1705)","v":1704},{"$f":"IF(L1705=WORKSHEET!$B$1,I1705,\"\")","v":""},"","NORTH CAROLINA","Jones County",32,"*","*","N/A",46,3.316512684006382E-2,9.4377510040160636E-2]
[203,null,6,"Orange (Chapel Hill), NC - Harnett, NC","NC: Lee County (37105)","NC: Lee County (37105)","37105","  Lee  ",{"$f":"ROWS($L$2:L1706)","v":1705},{"$f":"IF(L1706=WORKSHEET!$B$1,I1706,\"\")","v":""},"","NORTH CAROLINA","Lee County",137,16,32,"N/A",185,3.316512684006382E-2,9.2896174863387984E-2]
[238,null,6,"Wayne, NC - Lenoir, NC","NC: Lenoir County (37107)","NC: Lenoir County (37107)","37107","  Lenoir  ",{"$f":"ROWS($L$2:L1707)","v":1706},{"$f":"IF(L1707=WORKSHEET!$B$1,I1707,\"\")","v":""},"","NORTH CAROLINA","Lenoir County",172,16,45,"N/A",233,3.316512684006382E-2,8.1447963800904979E-2]
[218,null,6,"Gaston (Gastonia), NC - Cleveland, NC","NC: Lincoln County (37109)","NC: Lincoln County (37109)","37109","  Lincoln  ",{"$f":"ROWS($L$2:L1708)","v":1707},{"$f":"IF(L1708=WORKSHEET!$B$1,I1708,\"\")","v":""},"","NORTH CAROLINA","Lincoln County",82,{"$f":"+R1708-N1708-P1708","v":10},48,"N/A",140,3.316512684006382E-2,8.2914572864321606E-2]
[209,null,6,"Jackson, NC - Macon, NC","NC: Macon County (37113)","NC: Macon County (37113)","37113","  Macon  ",{"$f":"ROWS($L$2:L1709)","v":1708},{"$f":"IF(L1709=WORKSHEET!$B$1,I1709,\"\")","v":""},"","NORTH CAROLINA","Macon County",23,{"$f":"+R1709-N1709-P1709","v":10},14,"*",47,3.316512684006382E-2,0.26428571428571429]
[225,null,6,"Buncombe (Asheville), NC - Henderson, NC","NC: Madison County (37115)","NC: Madison County (37115)","37115","  Madison  ",{"$f":"ROWS($L$2:L1710)","v":1709},{"$f":"IF(L1710=WORKSHEET!$B$1,I1710,\"\")","v":""},"","NORTH CAROLINA","Madison County",14,{"$f":"+R1710-N1710-P1710","v":5},12,"N/A",31,3.316512684006382E-2,0.17473684210526316]
[195,null,6,"Pitt, NC - Beaufort, NC","NC: Martin County (37117)","NC: Martin County (37117)","37117","  Martin  ",{"$f":"ROWS($L$2:L1711)","v":1710},{"$f":"IF(L1711=WORKSHEET!$B$1,I1711,\"\")","v":""},"","NORTH CAROLINA","Martin County",85,{"$f":"+R1711-N1711-P1711","v":10},29,"N/A",124,3.316512684006382E-2,0.10980966325036604]
[261,null,6,"McDowell, NC","NC: McDowell County (37111)","NC: McDowell County (37111)","37111","  Mc Dowell  ",{"$f":"ROWS($L$2:L1712)","v":1711},{"$f":"IF(L1712=WORKSHEET!$B$1,I1712,\"\")","v":""},"","NORTH CAROLINA","McDowell County",48,11,35,"N/A",94,3.316512684006382E-2,0.1864406779661017]
[167,null,6,"Mecklenburg (Charlotte), NC - Union, NC","NC: Mecklenburg County (37119)","NC: Mecklenburg County (37119)","37119","  Mecklenburg  ",{"$f":"ROWS($L$2:L1713)","v":1712},{"$f":"IF(L1713=WORKSHEET!$B$1,I1713,\"\")","v":""},"","NORTH CAROLINA","Mecklenburg County",1537,117,598,"*",2258,3.316512684006382E-2,7.6767676767676762E-2]
[240,null,6,"Yancey, NC - Avery, NC","NC: Mitchell County (37121)","NC: Mitchell County (37121)","37121","  Mitchell  ",{"$f":"ROWS($L$2:L1714)","v":1713},{"$f":"IF(L1714=WORKSHEET!$B$1,I1714,\"\")","v":""},"","NORTH CAROLINA","Mitchell County","*","N/A","*","N/A",19,3.316512684006382E-2,0.10714285714285714]
[205,null,6,"Moore, NC - Richmond, NC","NC: Montgomery County (37123)","NC: Montgomery County (37123)","37123","  Montgomery  ",{"$f":"ROWS($L$2:L1715)","v":1714},{"$f":"IF(L1715=WORKSHEET!$B$1,I1715,\"\")","v":""},"","NORTH CAROLINA","Montgomery County",63,{"$f":"+R1715-N1715-P1715","v":2},15,"N/A",80,3.316512684006382E-2,6.8410462776659964E-2]
[205,null,6,"Moore, NC - Richmond, NC","NC: Moore County (37125)","NC: Moore County (37125)","37125","  Moore  ",{"$f":"ROWS($L$2:L1716)","v":1715},{"$f":"IF(L1716=WORKSHEET!$B$1,I1716,\"\")","v":""},"","NORTH CAROLINA","Moore County",151,11,66,"N/A",228,3.316512684006382E-2,6.8410462776659964E-2]
[214,null,6,"Nash, NC - Halifax, NC","NC: Nash County (37127)","NC: Nash County (37127)","37127","  Nash  ",{"$f":"ROWS($L$2:L1717)","v":1716},{"$f":"IF(L1717=WORKSHEET!$B$1,I1717,\"\")","v":""},"","NORTH CAROLINA","Nash County",263,26,91,"*",383,3.316512684006382E-2,7.9613992762364291E-2]
[168,null,6,"New Hanover (Wilmington), NC - Brunswick, NC","NC: New Hanover County (37129)","NC: New Hanover County (37129)","37129","  New Hanover  ",{"$f":"ROWS($L$2:L1718)","v":1717},{"$f":"IF(L1718=WORKSHEET!$B$1,I1718,\"\")","v":""},"","NORTH CAROLINA","New Hanover County",229,42,109,"*",382,3.316512684006382E-2,0.14599999999999999]
[214,null,6,"Nash, NC - Halifax, NC","NC: Northampton County (37131)","NC: Northampton County (37131)","37131","  Northampton  ",{"$f":"ROWS($L$2:L1719)","v":1718},{"$f":"IF(L1719=WORKSHEET!$B$1,I1719,\"\")","v":""},"","NORTH CAROLINA","Northampton County",77,"*","*","N/A",93,3.316512684006382E-2,7.9613992762364291E-2]
[242,null,6,"Onslow, NC - Craven, NC","NC: Onslow County (37133)","NC: Onslow County (37133)","37133","  Onslow  ",{"$f":"ROWS($L$2:L1720)","v":1719},{"$f":"IF(L1720=WORKSHEET!$B$1,I1720,\"\")","v":""},"","NORTH CAROLINA","Onslow County",148,28,75,"N/A",251,3.316512684006382E-2,9.4377510040160636E-2]
[203,null,6,"Orange (Chapel Hill), NC - Harnett, NC","NC: Orange County (37135)","NC: Orange County (37135)","37135","  Orange  ",{"$f":"ROWS($L$2:L1721)","v":1720},{"$f":"IF(L1721=WORKSHEET!$B$1,I1721,\"\")","v":""},"","NORTH CAROLINA","Orange County",122,17,51,"N/A",190,3.316512684006382E-2,9.2896174863387984E-2]
[242,null,6,"Onslow, NC - Craven, NC","NC: Pamlico County (37137)","NC: Pamlico County (37137)","37137","  Pamlico  ",{"$f":"ROWS($L$2:L1722)","v":1721},{"$f":"IF(L1722=WORKSHEET!$B$1,I1722,\"\")","v":""},"","NORTH CAROLINA","Pamlico County",25,"N/A","*","N/A",28,3.316512684006382E-2,9.4377510040160636E-2]
[264,null,6,"Pasquotank, NC - Dare, NC","NC: Pasquotank County (37139)","NC: Pasquotank County (37139)","37139","  Pasquotank  ",{"$f":"ROWS($L$2:L1723)","v":1722},{"$f":"IF(L1723=WORKSHEET!$B$1,I1723,\"\")","v":""},"","NORTH CAROLINA","Pasquotank County",83,20,29,"*",133,3.316512684006382E-2,0.20930232558139536]
[168,null,6,"New Hanover (Wilmington), NC - Brunswick, NC","NC: Pender County (37141)","NC: Pender County (37141)","37141","  Pender  ",{"$f":"ROWS($L$2:L1724)","v":1723},{"$f":"IF(L1724=WORKSHEET!$B$1,I1724,\"\")","v":""},"","NORTH CAROLINA","Pender County",85,12,28,"N/A",125,3.316512684006382E-2,0.14599999999999999]
[264,null,6,"Pasquotank, NC - Dare, NC","NC: Perquimans County (37143)","NC: Perquimans County (37143)","37143","  Perquimans  ",{"$f":"ROWS($L$2:L1725)","v":1724},{"$f":"IF(L1725=WORKSHEET!$B$1,I1725,\"\")","v":""},"","NORTH CAROLINA","Perquimans County",23,"*","*","N/A",35,3.316512684006382E-2,0.20930232558139536]
[170,null,6,"Durham (Durham), NC - Granville, NC","NC: Person County (37145)","NC: Person County (37145)","37145","  Person  ",{"$f":"ROWS($L$2:L1726)","v":1725},{"$f":"IF(L1726=WORKSHEET!$B$1,I1726,\"\")","v":""},"","NORTH CAROLINA","Person County",95,{"$f":"+R1726-N1726-P1726","v":10},19,"N/A",124,3.316512684006382E-2,6.569343065693431E-2]
[195,null,6,"Pitt, NC - Beaufort, NC","NC: Pitt County (37147)","NC: Pitt County (37147)","37147","  Pitt  ",{"$f":"ROWS($L$2:L1727)","v":1726},{"$f":"IF(L1727=WORKSHEET!$B$1,I1727,\"\")","v":""},"","NORTH CAROLINA","Pitt County",364,48,149,"*",562,3.316512684006382E-2,0.10980966325036604]
[191,null,6,"Polk, NC","NC: Polk County (37149)","NC: Polk County (37149)","37149","  Polk  ",{"$f":"ROWS($L$2:L1728)","v":1727},{"$f":"IF(L1728=WORKSHEET!$B$1,I1728,\"\")","v":""},"","NORTH CAROLINA","Polk County",13,"*","*","N/A",24,3.316512684006382E-2,0.14382632293080055]
[186,null,6,"Guilford (Greensboro), NC - Davidson, NC","NC: Randolph County (37151)","NC: Randolph County (37151)","37151","  Randolph  ",{"$f":"ROWS($L$2:L1729)","v":1728},{"$f":"IF(L1729=WORKSHEET!$B$1,I1729,\"\")","v":""},"","NORTH CAROLINA","Randolph County",157,13,79,"N/A",249,3.316512684006382E-2,7.5063613231552168E-2]
[205,null,6,"Moore, NC - Richmond, NC","NC: Richmond County (37153)","NC: Richmond County (37153)","37153","  Richmond  ",{"$f":"ROWS($L$2:L1730)","v":1729},{"$f":"IF(L1730=WORKSHEET!$B$1,I1730,\"\")","v":""},"","NORTH CAROLINA","Richmond County",142,16,20,"*",179,3.316512684006382E-2,6.8410462776659964E-2]
[207,null,6,"Robeson, NC - Columbus, NC","NC: Robeson County (37155)","NC: Robeson County (37155)","37155","  Robeson  ",{"$f":"ROWS($L$2:L1731)","v":1730},{"$f":"IF(L1731=WORKSHEET!$B$1,I1731,\"\")","v":""},{"$f":"IFERROR(SMALL($J$2:$J$3142,I1731),\"\")","v":""},"NORTH CAROLINA","Robeson County",436,22,87,"*",548,3.316512684006382E-2,7.5187969924812026E-2]
[186,null,6,"Guilford (Greensboro), NC - Davidson, NC","NC: Rockingham County (37157)","NC: Rockingham County (37157)","37157","  Rockingham  ",{"$f":"ROWS($L$2:L1732)","v":1731},{"$f":"IF(L1732=WORKSHEET!$B$1,I1732,\"\")","v":""},"","NORTH CAROLINA","Rockingham County",184,{"$f":"+R1732-N1732-P1732","v":10},65,"*",259,3.316512684006382E-2,7.5063613231552168E-2]
[235,null,6,"Cabarrus (Concord), NC - Rowan, NC","NC: Rowan County (37159)","NC: Rowan County (37159)","37159","  Rowan  ",{"$f":"ROWS($L$2:L1733)","v":1732},{"$f":"IF(L1733=WORKSHEET!$B$1,I1733,\"\")","v":""},"","NORTH CAROLINA","Rowan County",161,42,85,"*",289,3.316512684006382E-2,0.17567567567567569]
[218,null,6,"Gaston (Gastonia), NC - Cleveland, NC","NC: Rutherford County (37161)","NC: Rutherford County (37161)","37161","  Rutherford  ",{"$f":"ROWS($L$2:L1734)","v":1733},{"$f":"IF(L1734=WORKSHEET!$B$1,I1734,\"\")","v":""},"","NORTH CAROLINA","Rutherford County",92,17,27,"N/A",136,3.316512684006382E-2,8.2914572864321606E-2]
[262,null,6,"Cumberland (Fayetteville), NC - Sampson, NC","NC: Sampson County (37163)","NC: Sampson County (37163)","37163","  Sampson  ",{"$f":"ROWS($L$2:L1735)","v":1734},{"$f":"IF(L1735=WORKSHEET!$B$1,I1735,\"\")","v":""},"","NORTH CAROLINA","Sampson County",146,14,22,"*",183,3.316512684006382E-2,8.0347448425624315E-2]
[207,null,6,"Robeson, NC - Columbus, NC","NC: Scotland County (37165)","NC: Scotland County (37165)","37165","  Scotland  ",{"$f":"ROWS($L$2:L1736)","v":1735},{"$f":"IF(L1736=WORKSHEET!$B$1,I1736,\"\")","v":""},"","NORTH CAROLINA","Scotland County",102,17,13,"N/A",132,3.316512684006382E-2,7.5187969924812026E-2]
[235,null,6,"Cabarrus (Concord), NC - Rowan, NC","NC: Stanly County (37167)","NC: Stanly County (37167)","37167","  Stanly  ",{"$f":"ROWS($L$2:L1737)","v":1736},{"$f":"IF(L1737=WORKSHEET!$B$1,I1737,\"\")","v":""},"","NORTH CAROLINA","Stanly County",76,{"$f":"+R1737-N1737-P1737","v":8},34,"*",118,3.316512684006382E-2,0.17567567567567569]
[149,null,6,"Forsyth (Winston-Salem), NC - Surry, NC","NC: Stokes County (37169)","NC: Stokes County (37169)","37169","  Stokes  ",{"$f":"ROWS($L$2:L1738)","v":1737},{"$f":"IF(L1738=WORKSHEET!$B$1,I1738,\"\")","v":""},"","NORTH CAROLINA","Stokes County",49,13,28,"N/A",90,3.316512684006382E-2,0.13827433628318583]
[149,null,6,"Forsyth (Winston-Salem), NC - Surry, NC","NC: Surry County (37171)","NC: Surry County (37171)","37171","  Surry  ",{"$f":"ROWS($L$2:L1739)","v":1738},{"$f":"IF(L1739=WORKSHEET!$B$1,I1739,\"\")","v":""},"","NORTH CAROLINA","Surry County",83,13,59,"*",157,3.316512684006382E-2,0.13827433628318583]
[209,null,6,"Jackson, NC - Macon, NC","NC: Swain County (37173)","NC: Swain County (37173)","37173","  Swain  ",{"$f":"ROWS($L$2:L1740)","v":1739},{"$f":"IF(L1740=WORKSHEET!$B$1,I1740,\"\")","v":""},"","NORTH CAROLINA","Swain County",40,14,{"$f":"+R1740-N1740-O1740","v":9},"N/A",63,3.316512684006382E-2,0.26428571428571429]
[225,null,6,"Buncombe (Asheville), NC - Henderson, NC","NC: Transylvania County (37175)","NC: Transylvania County (37175)","37175","  Transylvania  ",{"$f":"ROWS($L$2:L1741)","v":1740},{"$f":"IF(L1741=WORKSHEET!$B$1,I1741,\"\")","v":""},"","NORTH CAROLINA","Transylvania County",22,{"$f":"+R1741-N1741-P1741","v":10},15,"N/A",47,3.316512684006382E-2,0.17473684210526316]
[195,null,6,"Pitt, NC - Beaufort, NC","NC: Tyrrell County (37177)","NC: Tyrrell County (37177)","37177","  Tyrrell  ",{"$f":"ROWS($L$2:L1742)","v":1741},{"$f":"IF(L1742=WORKSHEET!$B$1,I1742,\"\")","v":""},"","NORTH CAROLINA","Tyrrell County","*","*","*","N/A","*",3.316512684006382E-2,0.10980966325036604]
[167,null,6,"Mecklenburg (Charlotte), NC - Union, NC","NC: Union County (37179)","NC: Union County (37179)","37179","  Union  ",{"$f":"ROWS($L$2:L1743)","v":1742},{"$f":"IF(L1743=WORKSHEET!$B$1,I1743,\"\")","v":""},"","NORTH CAROLINA","Union County",215,30,96,"*",343,3.316512684006382E-2,7.6767676767676762E-2]
[170,null,6,"Durham (Durham), NC - Granville, NC","NC: Vance County (37181)","NC: Vance County (37181)","37181","  Vance  ",{"$f":"ROWS($L$2:L1744)","v":1743},{"$f":"IF(L1744=WORKSHEET!$B$1,I1744,\"\")","v":""},"","NORTH CAROLINA","Vance County",157,14,34,"N/A",205,3.316512684006382E-2,6.5693430656934296E-2]
[198,null,6,"Wake (Raleigh), NC - Johnston, NC","NC: Wake County (37183)","NC: Wake County (37183)","37183","  Wake  ",{"$f":"ROWS($L$2:L1745)","v":1744},{"$f":"IF(L1745=WORKSHEET!$B$1,I1745,\"\")","v":""},"","NORTH CAROLINA","Wake County",1169,129,561,"*",1860,3.316512684006382E-2,9.652309289050337E-2]
[170,null,6,"Durham (Durham), NC - Granville, NC","NC: Warren County (37185)","NC: Warren County (37185)","37185","  Warren  ",{"$f":"ROWS($L$2:L1746)","v":1745},{"$f":"IF(L1746=WORKSHEET!$B$1,I1746,\"\")","v":""},"","NORTH CAROLINA","Warren County",58,{"$f":"+R1746-N1746-P1746","v":2},11,"N/A",71,3.316512684006382E-2,6.5693430656934296E-2]
[195,null,6,"Pitt, NC - Beaufort, NC","NC: Washington County (37187)","NC: Washington County (37187)","37187","  Washington  ",{"$f":"ROWS($L$2:L1747)","v":1746},{"$f":"IF(L1747=WORKSHEET!$B$1,I1747,\"\")","v":""},"","NORTH CAROLINA","Washington County",34,{"$f":"+R1747-N1747-P1747","v":1},22,"N/A",57,3.316512684006382E-2,0.10980966325036604]
[194,null,6,"Watauga, NC - Ashe, NC","NC: Watauga County (37189)","NC: Watauga County (37189)","37189","  Watauga  ",{"$f":"ROWS($L$2:L1748)","v":1747},{"$f":"IF(L1748=WORKSHEET!$B$1,I1748,\"\")","v":""},"","NORTH CAROLINA","Watauga County",28,{"$f":"+R1748-N1748-P1748","v":8},19,"N/A",55,3.316512684006382E-2,0.23170731707317074]
[238,null,6,"Wayne, NC - Lenoir, NC","NC: Wayne County (37191)","NC: Wayne County (37191)","37191","  Wayne  ",{"$f":"ROWS($L$2:L1749)","v":1748},{"$f":"IF(L1749=WORKSHEET!$B$1,I1749,\"\")","v":""},"","NORTH CAROLINA","Wayne County",269,20,72,"*",362,3.316512684006382E-2,8.1447963800904979E-2]
[256,null,6,"Wilkes, NC","NC: Wilkes County (37193)","NC: Wilkes County (37193)","37193","  Wilkes  ",{"$f":"ROWS($L$2:L1750)","v":1749},{"$f":"IF(L1750=WORKSHEET!$B$1,I1750,\"\")","v":""},"","NORTH CAROLINA","Wilkes County",62,13,28,"*",104,3.316512684006382E-2,0.17333333333333334]
[198,null,6,"Wake (Raleigh), NC - Johnston, NC","NC: Wilson County (37195)","NC: Wilson County (37195)","37195","  Wilson  ",{"$f":"ROWS($L$2:L1751)","v":1750},{"$f":"IF(L1751=WORKSHEET!$B$1,I1751,\"\")","v":""},"","NORTH CAROLINA","Wilson County",231,26,74,"N/A",331,3.316512684006382E-2,9.652309289050337E-2]
[149,null,6,"Forsyth (Winston-Salem), NC - Surry, NC","NC: Yadkin County (37197)","NC: Yadkin County (37197)","37197","  Yadkin  ",{"$f":"ROWS($L$2:L1752)","v":1751},{"$f":"IF(L1752=WORKSHEET!$B$1,I1752,\"\")","v":""},"","NORTH CAROLINA","Yadkin County",39,{"$f":"+R1752-N1752-P1752","v":8},27,"N/A",74,3.316512684006382E-2,0.13827433628318583]
[240,null,6,"Yancey, NC - Avery, NC","NC: Yancey County (37199)","NC: Yancey County (37199)","37199","  Yancey  ",{"$f":"ROWS($L$2:L1753)","v":1752},{"$f":"IF(L1753=WORKSHEET!$B$1,I1753,\"\")","v":""},"","NORTH CAROLINA","Yancey County","*","*",14,"N/A",26,3.316512684006382E-2,0.10714285714285714]
[640,null,11,"Bowman, ND - Hettinger, ND","ND: Adams County (38001)","ND: Adams County (38001)","38001","Adams  ",{"$f":"ROWS($L$2:L1754)","v":1753},{"$f":"IF(L1754=WORKSHEET!$B$1,I1754,\"\")","v":""},"","NORTH DAKOTA","Adams County","*","N/A","*","N/A","*",1.8426754284955972E-2,0]
[940,547,11,"Cass (Fargo), ND - Richland, ND","ND: Barnes County (38003)","ND: Barnes County (38003)","38003","  Barnes  ",{"$f":"ROWS($L$2:L1755)","v":1754},{"$f":"IF(L1755=WORKSHEET!$B$1,I1755,\"\")","v":""},"","NORTH DAKOTA","Barnes County","*","*","*","N/A",15,1.8426754284955972E-2,0.20317460317460301]
[655,null,11,"Ramsey, ND - Benson, ND","ND: Benson County (38005)","ND: Benson County (38005)","38005","  Benson  ",{"$f":"ROWS($L$2:L1756)","v":1755},{"$f":"IF(L1756=WORKSHEET!$B$1,I1756,\"\")","v":""},"","NORTH DAKOTA","Benson County",18,"*","*","N/A",26,1.8426754284955972E-2,0.28205128205128205]
[605,null,11,"Stark, ND - Dunn, ND","ND: Billings County (38007)","ND: Billings County (38007)","38007","  Billings  ",{"$f":"ROWS($L$2:L1757)","v":1756},{"$f":"IF(L1757=WORKSHEET!$B$1,I1757,\"\")","v":""},"","NORTH DAKOTA","Billings County","*","N/A","N/A","N/A","*",1.8426754284955972E-2,4.1666666666666664E-2]
[550,null,11,"Ward, ND - Bottineau, ND","ND: Bottineau County (38009)","ND: Bottineau County (38009)","38009","  Bottineau  ",{"$f":"ROWS($L$2:L1758)","v":1757},{"$f":"IF(L1758=WORKSHEET!$B$1,I1758,\"\")","v":""},"","NORTH DAKOTA","Bottineau County","*","N/A","*","N/A",12,1.8426754284955972E-2,3.4482758620689703E-2]
[640,null,11,"Bowman, ND - Hettinger, ND","ND: Bowman County (38011)","ND: Bowman County (38011)","38011","  Bowman  ",{"$f":"ROWS($L$2:L1759)","v":1758},{"$f":"IF(L1759=WORKSHEET!$B$1,I1759,\"\")","v":""},"","NORTH DAKOTA","Bowman County","*","N/A","*","N/A","*",1.8426754284955972E-2,0]
[550,null,11,"Ward, ND - Bottineau, ND","ND: Burke County (38013)","ND: Burke County (38013)","38013","  Burke  ",{"$f":"ROWS($L$2:L1760)","v":1759},{"$f":"IF(L1760=WORKSHEET!$B$1,I1760,\"\")","v":""},"","NORTH DAKOTA","Burke County","N/A","N/A","*","N/A","*",1.8426754284955972E-2,3.4482758620689655E-2]
[543,null,11,"Burleigh (Bismarck), ND - Morton, ND","ND: Burleigh County (38015)","ND: Burleigh County (38015)","38015","  Burleigh  ",{"$f":"ROWS($L$2:L1761)","v":1760},{"$f":"IF(L1761=WORKSHEET!$B$1,I1761,\"\")","v":""},"","NORTH DAKOTA","Burleigh County",88,{"$f":"+R1761-N1761-P1761","v":6},76,"*",170,1.8426754284955972E-2,4.712041884816754E-2]
[940,547,11,"Cass (Fargo), ND - Richland, ND","ND: Cass County (38017)","ND: Cass County (38017)","38017","  Cass  ",{"$f":"ROWS($L$2:L1762)","v":1761},{"$f":"IF(L1762=WORKSHEET!$B$1,I1762,\"\")","v":""},"","NORTH DAKOTA","Cass County",114,29,105,"N/A",248,1.8426754284955972E-2,0.20317460317460317]
[949,584,11,"Grand Forks (Grand Forks), ND - Walsh, ND","ND: Cavalier County (38019)","ND: Cavalier County (38019)","38019","  Cavalier  ",{"$f":"ROWS($L$2:L1763)","v":1762},{"$f":"IF(L1763=WORKSHEET!$B$1,I1763,\"\")","v":""},"","NORTH DAKOTA","Cavalier County","*","N/A","*","N/A","*",1.8426754284955972E-2,0.12878787878787878]
[680,null,11,"Dickey, ND - LaMoure, ND","ND: Dickey County (38021)","ND: Dickey County (38021)","38021","  Dickey  ",{"$f":"ROWS($L$2:L1764)","v":1763},{"$f":"IF(L1764=WORKSHEET!$B$1,I1764,\"\")","v":""},"","NORTH DAKOTA","Dickey County","*","*","*","N/A",12,1.8426754284955972E-2,9.0909090909090912E-2]
[579,null,11,"Williams, ND - McKenzie, ND","ND: Divide County (38023)","ND: Divide County (38023)","38023","  Divide  ",{"$f":"ROWS($L$2:L1765)","v":1764},{"$f":"IF(L1765=WORKSHEET!$B$1,I1765,\"\")","v":""},"","NORTH DAKOTA","Divide County","N/A","N/A","*","N/A","*",1.8426754284955972E-2,4.1666666666666664E-2]
[605,null,11,"Stark, ND - Dunn, ND","ND: Dunn County (38025)","ND: Dunn County (38025)","38025","  Dunn  ",{"$f":"ROWS($L$2:L1766)","v":1765},{"$f":"IF(L1766=WORKSHEET!$B$1,I1766,\"\")","v":""},"","NORTH DAKOTA","Dunn County","*","N/A","*","N/A","*",1.8426754284955972E-2,4.1666666666666664E-2]
[655,null,11,"Ramsey, ND - Benson, ND","ND: Eddy County (38027)","ND: Eddy County (38027)","38027","  Eddy  ",{"$f":"ROWS($L$2:L1767)","v":1766},{"$f":"IF(L1767=WORKSHEET!$B$1,I1767,\"\")","v":""},"","NORTH DAKOTA","Eddy County","*","*","*","N/A","*",1.8426754284955972E-2,0.28205128205128205]
[543,null,11,"Burleigh (Bismarck), ND - Morton, ND","ND: Emmons County (38029)","ND: Emmons County (38029)","38029","  Emmons  ",{"$f":"ROWS($L$2:L1768)","v":1767},{"$f":"IF(L1768=WORKSHEET!$B$1,I1768,\"\")","v":""},"","NORTH DAKOTA","Emmons County","*","*","*","N/A","*",1.8426754284955972E-2,4.712041884816754E-2]
[632,null,11,"Stutsman, ND - Wells, ND","ND: Foster County (38031)","ND: Foster County (38031)","38031","  Foster  ",{"$f":"ROWS($L$2:L1769)","v":1768},{"$f":"IF(L1769=WORKSHEET!$B$1,I1769,\"\")","v":""},"","NORTH DAKOTA","Foster County","*","N/A","*","N/A","*",1.8426754284955972E-2,0.14705882352941177]
[605,null,11,"Stark, ND - Dunn, ND","ND: Golden Valley County (38033)","ND: Golden Valley County (38033)","38033","  Golden Valley  ",{"$f":"ROWS($L$2:L1770)","v":1769},{"$f":"IF(L1770=WORKSHEET!$B$1,I1770,\"\")","v":""},"","NORTH DAKOTA","Golden Valley County","N/A","N/A","*","N/A","*",1.8426754284955972E-2,4.1666666666666664E-2]
[949,584,11,"Grand Forks (Grand Forks), ND - Walsh, ND","ND: Grand Forks County (38035)","ND: Grand Forks County (38035)","38035","  Grand Forks  ",{"$f":"ROWS($L$2:L1771)","v":1770},{"$f":"IF(L1771=WORKSHEET!$B$1,I1771,\"\")","v":""},"","NORTH DAKOTA","Grand Forks County",58,{"$f":"+R1771-N1771-P1771","v":8},43,"N/A",109,1.8426754284955972E-2,0.12878787878787878]
[670,null,11,"Grant, ND","ND: Grant County (38037)","ND: Grant County (38037)","38037","  Grant  ",{"$f":"ROWS($L$2:L1772)","v":1771},{"$f":"IF(L1772=WORKSHEET!$B$1,I1772,\"\")","v":""},"","NORTH DAKOTA","Grant County","*","N/A","N/A","N/A","*",1.8426754284955972E-2,0]
[940,547,11,"Cass (Fargo), ND - Richland, ND","ND: Griggs County (38039)","ND: Griggs County (38039)","38039","  Griggs  ",{"$f":"ROWS($L$2:L1773)","v":1772},{"$f":"IF(L1773=WORKSHEET!$B$1,I1773,\"\")","v":""},"","NORTH DAKOTA","Griggs County","N/A","*","*","N/A","*",1.8426754284955972E-2,0.20317460317460317]
[640,null,11,"Bowman, ND - Hettinger, ND","ND: Hettinger County (38041)","ND: Hettinger County (38041)","38041","  Hettinger  ",{"$f":"ROWS($L$2:L1774)","v":1773},{"$f":"IF(L1774=WORKSHEET!$B$1,I1774,\"\")","v":""},"","NORTH DAKOTA","Hettinger County","N/A","N/A","*","N/A","*",1.8426754284955972E-2,0]
[543,null,11,"Burleigh (Bismarck), ND - Morton, ND","ND: Kidder County (38043)","ND: Kidder County (38043)","38043","  Kidder  ",{"$f":"ROWS($L$2:L1775)","v":1774},{"$f":"IF(L1775=WORKSHEET!$B$1,I1775,\"\")","v":""},"","NORTH DAKOTA","Kidder County","*","N/A","*","N/A","*",1.8426754284955972E-2,4.712041884816754E-2]
[680,null,11,"Dickey, ND - LaMoure, ND","ND: LaMoure County (38045)","ND: LaMoure County (38045)","38045","  La Moure  ",{"$f":"ROWS($L$2:L1776)","v":1775},{"$f":"IF(L1776=WORKSHEET!$B$1,I1776,\"\")","v":""},"","NORTH DAKOTA","LaMoure County","*","N/A","*","N/A","*",1.8426754284955972E-2,9.0909090909090912E-2]
[684,null,11,"McIntosh, ND - Logan, ND","ND: Logan County (38047)","ND: Logan County (38047)","38047","  Logan  ",{"$f":"ROWS($L$2:L1777)","v":1776},{"$f":"IF(L1777=WORKSHEET!$B$1,I1777,\"\")","v":""},"","NORTH DAKOTA","Logan County","*","N/A","*","N/A","*",1.8426754284955972E-2,9.0909090909090912E-2]
[550,null,11,"Ward, ND - Bottineau, ND","ND: McHenry County (38049)","ND: McHenry County (38049)","38049","  Mchenry  ",{"$f":"ROWS($L$2:L1778)","v":1777},{"$f":"IF(L1778=WORKSHEET!$B$1,I1778,\"\")","v":""},"","NORTH DAKOTA","McHenry County","*","N/A","*","N/A","*",1.8426754284955972E-2,3.4482758620689655E-2]
[684,null,11,"McIntosh, ND - Logan, ND","ND: McIntosh County (38051)","ND: McIntosh County (38051)","38051","  Mcintosh  ",{"$f":"ROWS($L$2:L1779)","v":1778},{"$f":"IF(L1779=WORKSHEET!$B$1,I1779,\"\")","v":""},"","NORTH DAKOTA","McIntosh County","*","*","*","N/A","*",1.8426754284955972E-2,9.0909090909090912E-2]
[579,null,11,"Williams, ND - McKenzie, ND","ND: McKenzie County (38053)","ND: McKenzie County (38053)","38053","  Mckenzie  ",{"$f":"ROWS($L$2:L1780)","v":1779},{"$f":"IF(L1780=WORKSHEET!$B$1,I1780,\"\")","v":""},"","NORTH DAKOTA","McKenzie County","*","*","*","N/A",11,1.8426754284955972E-2,4.1666666666666664E-2]
[543,null,11,"Burleigh (Bismarck), ND - Morton, ND","ND: McLean County (38055)","ND: McLean County (38055)","38055","  Mclean  ",{"$f":"ROWS($L$2:L1781)","v":1780},{"$f":"IF(L1781=WORKSHEET!$B$1,I1781,\"\")","v":""},"","NORTH DAKOTA","McLean County",16,"N/A","*","N/A",24,1.8426754284955972E-2,4.712041884816754E-2]
[543,null,11,"Burleigh (Bismarck), ND - Morton, ND","ND: Mercer County (38057)","ND: Mercer County (38057)","38057","  Mercer  ",{"$f":"ROWS($L$2:L1782)","v":1781},{"$f":"IF(L1782=WORKSHEET!$B$1,I1782,\"\")","v":""},"","NORTH DAKOTA","Mercer County","*","*","*","N/A",17,1.8426754284955972E-2,4.712041884816754E-2]
[543,null,11,"Burleigh (Bismarck), ND - Morton, ND","ND: Morton County (38059)","ND: Morton County (38059)","38059","  Morton  ",{"$f":"ROWS($L$2:L1783)","v":1782},{"$f":"IF(L1783=WORKSHEET!$B$1,I1783,\"\")","v":""},"","NORTH DAKOTA","Morton County",40,{"$f":"+R1783-N1783-P1783","v":1},31,"N/A",72,1.8426754284955972E-2,4.712041884816754E-2]
[550,null,11,"Ward, ND - Bottineau, ND","ND: Mountrail County (38061)","ND: Mountrail County (38061)","38061","  Mountrail  ",{"$f":"ROWS($L$2:L1784)","v":1783},{"$f":"IF(L1784=WORKSHEET!$B$1,I1784,\"\")","v":""},"","NORTH DAKOTA","Mountrail County","*","*","*","N/A",19,1.8426754284955972E-2,3.4482758620689655E-2]
[949,584,11,"Grand Forks (Grand Forks), ND - Walsh, ND","ND: Nelson County (38063)","ND: Nelson County (38063)","38063","  Nelson  ",{"$f":"ROWS($L$2:L1785)","v":1784},{"$f":"IF(L1785=WORKSHEET!$B$1,I1785,\"\")","v":""},"","NORTH DAKOTA","Nelson County","*","*","N/A","N/A","*",1.8426754284955972E-2,0.12878787878787878]
[543,null,11,"Burleigh (Bismarck), ND - Morton, ND","ND: Oliver County (38065)","ND: Oliver County (38065)","38065","  Oliver  ",{"$f":"ROWS($L$2:L1786)","v":1785},{"$f":"IF(L1786=WORKSHEET!$B$1,I1786,\"\")","v":""},"","NORTH DAKOTA","Oliver County","*","N/A","*","N/A","*",1.8426754284955972E-2,4.712041884816754E-2]
[949,584,11,"Grand Forks (Grand Forks), ND - Walsh, ND","ND: Pembina County (38067)","ND: Pembina County (38067)","38067","  Pembina  ",{"$f":"ROWS($L$2:L1787)","v":1786},{"$f":"IF(L1787=WORKSHEET!$B$1,I1787,\"\")","v":""},"","NORTH DAKOTA","Pembina County","*","N/A","*","N/A","*",1.8426754284955972E-2,0.12878787878787878]
[638,null,11,"Rolette, ND - Pierce, ND","ND: Pierce County (38069)","ND: Pierce County (38069)","38069","  Pierce  ",{"$f":"ROWS($L$2:L1788)","v":1787},{"$f":"IF(L1788=WORKSHEET!$B$1,I1788,\"\")","v":""},"","NORTH DAKOTA","Pierce County","*","*","*","N/A","*",1.8426754284955972E-2,6.6666666666666666E-2]
[655,null,11,"Ramsey, ND - Benson, ND","ND: Ramsey County (38071)","ND: Ramsey County (38071)","38071","  Ramsey  ",{"$f":"ROWS($L$2:L1789)","v":1788},{"$f":"IF(L1789=WORKSHEET!$B$1,I1789,\"\")","v":""},"","NORTH DAKOTA","Ramsey County","*","*","*","*",20,1.8426754284955972E-2,0.28205128205128205]
[940,547,11,"Cass (Fargo), ND - Richland, ND","ND: Ransom County (38073)","ND: Ransom County (38073)","38073","  Ransom  ",{"$f":"ROWS($L$2:L1790)","v":1789},{"$f":"IF(L1790=WORKSHEET!$B$1,I1790,\"\")","v":""},"","NORTH DAKOTA","Ransom County","*","*","*","N/A","*",1.8426754284955972E-2,0.20317460317460317]
[550,null,11,"Ward, ND - Bottineau, ND","ND: Renville County (38075)","ND: Renville County (38075)","38075","  Renville  ",{"$f":"ROWS($L$2:L1791)","v":1790},{"$f":"IF(L1791=WORKSHEET!$B$1,I1791,\"\")","v":""},"","NORTH DAKOTA","Renville County","*","N/A","*","N/A","*",1.8426754284955972E-2,3.4482758620689655E-2]
[940,547,11,"Cass (Fargo), ND - Richland, ND","ND: Richland County (38077)","ND: Richland County (38077)","38077","  Richland  ",{"$f":"ROWS($L$2:L1792)","v":1791},{"$f":"IF(L1792=WORKSHEET!$B$1,I1792,\"\")","v":""},"","NORTH DAKOTA","Richland County","*","*","*","N/A",21,1.8426754284955972E-2,0.20317460317460317]
[638,null,11,"Rolette, ND - Pierce, ND","ND: Rolette County (38079)","ND: Rolette County (38079)","38079","  Rolette  ",{"$f":"ROWS($L$2:L1793)","v":1792},{"$f":"IF(L1793=WORKSHEET!$B$1,I1793,\"\")","v":""},"","NORTH DAKOTA","Rolette County",21,{"$f":"+R1793-N1793-P1793","v":1},22,"N/A",44,1.8426754284955972E-2,6.6666666666666666E-2]
[940,547,11,"Cass (Fargo), ND - Richland, ND","ND: Sargent County (38081)","ND: Sargent County (38081)","38081","  Sargent  ",{"$f":"ROWS($L$2:L1794)","v":1793},{"$f":"IF(L1794=WORKSHEET!$B$1,I1794,\"\")","v":""},"","NORTH DAKOTA","Sargent County","*","*","*","N/A","*",1.8426754284955972E-2,0.20317460317460317]
[543,null,11,"Burleigh (Bismarck), ND - Morton, ND","ND: Sheridan County (38083)","ND: Sheridan County (38083)","38083",null,{"$f":"ROWS($L$2:L1795)","v":1794},{"$f":"IF(L1795=WORKSHEET!$B$1,I1795,\"\")","v":""},{"$f":"IFERROR(SMALL($J$2:$J$3142,I1795),\"\")","v":""},"NORTH DAKOTA","Sheridan County",null,null,null,null,null,1.8426754284955972E-2,4.712041884816754E-2]
[543,null,11,"Burleigh (Bismarck), ND - Morton, ND","ND: Sioux County (38085)","ND: Sioux County (38085)","38085","  Sioux  ",{"$f":"ROWS($L$2:L1796)","v":1795},{"$f":"IF(L1796=WORKSHEET!$B$1,I1796,\"\")","v":""},"","NORTH DAKOTA","Sioux County",20,"N/A","*","N/A",24,1.8426754284955972E-2,4.712041884816754E-2]
[640,null,11,"Bowman, ND - Hettinger, ND","ND: Slope County (38087)","ND: Slope County (38087)","38087","  Stark  ",{"$f":"ROWS($L$2:L1797)","v":1796},{"$f":"IF(L1797=WORKSHEET!$B$1,I1797,\"\")","v":""},"","NORTH DAKOTA","Slope County",18,{"$f":"+R1797-N1797-P1797","v":1},17,"N/A",36,1.8426754284955972E-2,0]
[605,null,11,"Stark, ND - Dunn, ND","ND: Stark County (38089)","ND: Stark County (38089)","38089","Stark  ",{"$f":"ROWS($L$2:L1798)","v":1797},{"$f":"IF(L1798=WORKSHEET!$B$1,I1798,\"\")","v":""},"","NORTH DAKOTA","Stark County",18,"*",17,"N/A",36,1.8426754284955972E-2,4.1666666666666664E-2]
[940,547,11,"Cass (Fargo), ND - Richland, ND","ND: Steele County (38091)","ND: Steele County (38091)","38091","  Steele  ",{"$f":"ROWS($L$2:L1799)","v":1798},{"$f":"IF(L1799=WORKSHEET!$B$1,I1799,\"\")","v":""},"","NORTH DAKOTA","Steele County","*","N/A","*","N/A","*",1.8426754284955972E-2,0.20317460317460317]
[632,null,11,"Stutsman, ND - Wells, ND","ND: Stutsman County (38093)","ND: Stutsman County (38093)","38093","  Stutsman  ",{"$f":"ROWS($L$2:L1800)","v":1799},{"$f":"IF(L1800=WORKSHEET!$B$1,I1800,\"\")","v":""},"","NORTH DAKOTA","Stutsman County",25,{"$f":"+R1800-N1800-P1800","v":5},21,"N/A",51,1.8426754284955972E-2,0.14705882352941177]
[638,null,11,"Rolette, ND - Pierce, ND","ND: Towner County (38095)","ND: Towner County (38095)","38095","  Towner  ",{"$f":"ROWS($L$2:L1801)","v":1800},{"$f":"IF(L1801=WORKSHEET!$B$1,I1801,\"\")","v":""},"","NORTH DAKOTA","Towner County","*","N/A","*","N/A","*",1.8426754284955972E-2,6.6666666666666666E-2]
[940,547,11,"Cass (Fargo), ND - Richland, ND","ND: Traill County (38097)","ND: Traill County (38097)","38097","  Traill  ",{"$f":"ROWS($L$2:L1802)","v":1801},{"$f":"IF(L1802=WORKSHEET!$B$1,I1802,\"\")","v":""},"","NORTH DAKOTA","Traill County","*","*","*","N/A",11,1.8426754284955972E-2,0.20317460317460317]
[949,584,11,"Grand Forks (Grand Forks), ND - Walsh, ND","ND: Walsh County (38099)","ND: Walsh County (38099)","38099","  Walsh  ",{"$f":"ROWS($L$2:L1803)","v":1802},{"$f":"IF(L1803=WORKSHEET!$B$1,I1803,\"\")","v":""},"","NORTH DAKOTA","Walsh County","*","*","*","N/A",21,1.8426754284955972E-2,0.12878787878787878]
[550,null,11,"Ward, ND - Bottineau, ND","ND: Ward County (38101)","ND: Ward County (38101)","38101","  Ward  ",{"$f":"ROWS($L$2:L1804)","v":1803},{"$f":"IF(L1804=WORKSHEET!$B$1,I1804,\"\")","v":""},"","NORTH DAKOTA","Ward County",40,{"$f":"+R1804-N1804-P1804","v":1},46,"N/A",87,1.8426754284955972E-2,3.4482758620689655E-2]
[632,null,11,"Stutsman, ND - Wells, ND","ND: Wells County (38103)","ND: Wells County (38103)","38103","  Wells  ",{"$f":"ROWS($L$2:L1805)","v":1804},{"$f":"IF(L1805=WORKSHEET!$B$1,I1805,\"\")","v":""},"","NORTH DAKOTA","Wells County","*","N/A","*","N/A","*",1.8426754284955972E-2,0.14705882352941177]
[579,null,11,"Williams, ND - McKenzie, ND","ND: Williams County (38105)","ND: Williams County (38105)","38105","  Williams  ",{"$f":"ROWS($L$2:L1806)","v":1805},{"$f":"IF(L1806=WORKSHEET!$B$1,I1806,\"\")","v":""},"","NORTH DAKOTA","Williams County",17,{"$f":"+R1806-N1806-P1806","v":0},14,"N/A",31,1.8426754284955972E-2,4.1666666666666664E-2]
[564,null,12,"Adams, NE - Clay, NE","NE: Adams County (31001)","NE: Adams County (31001)","31001"," Adams  ",{"$f":"ROWS($L$2:L1807)","v":1806},{"$f":"IF(L1807=WORKSHEET!$B$1,I1807,\"\")","v":""},"","NEBRASKA","Adams County",20,{"$f":"+R1807-N1807-P1807","v":4},14,"*",38,1.8657129718217477E-2,0.21212121212121213]
[577,null,12,"Madison, NE - Wayne, NE","NE: Antelope County (31003)","NE: Antelope County (31003)","31003","  Antelope  ",{"$f":"ROWS($L$2:L1808)","v":1807},{"$f":"IF(L1808=WORKSHEET!$B$1,I1808,\"\")","v":""},"","NEBRASKA","Antelope County","*","N/A","*","N/A","*",1.8657129718217477E-2,8.6956521739130432E-2]
[593,null,12,"Lincoln, NE - Keith, NE","NE: Arthur County (31005)","NE: Arthur County (31005)","31005","  Arthur  ",{"$f":"ROWS($L$2:L1809)","v":1808},{"$f":"IF(L1809=WORKSHEET!$B$1,I1809,\"\")","v":""},"","NEBRASKA","Arthur County","N/A","N/A","*","N/A","*",1.8657129718217477E-2,0.2]
[580,null,12,"Scotts Bluff, NE - Box Butte, NE","NE: Banner County (31007)","NE: Banner County (31007)","31007",null,{"$f":"ROWS($L$2:L1810)","v":1809},{"$f":"IF(L1810=WORKSHEET!$B$1,I1810,\"\")","v":""},"","NEBRASKA","Banner County",null,null,null,null,null,1.8657129718217477E-2,8.98876404494382E-2]
[594,null,12,"Custer, NE - Valley, NE","NE: Blaine County (31009)","NE: Blaine County (31009)","31009",null,{"$f":"ROWS($L$2:L1811)","v":1810},{"$f":"IF(L1811=WORKSHEET!$B$1,I1811,\"\")","v":""},"","NEBRASKA","Blaine County",null,null,null,null,null,1.8657129718217477E-2,0.2857142857142857]
[651,null,12,"Platte, NE - Boone, NE","NE: Boone County (31011)","NE: Boone County (31011)","31011","  Boone  ",{"$f":"ROWS($L$2:L1812)","v":1811},{"$f":"IF(L1812=WORKSHEET!$B$1,I1812,\"\")","v":""},"","NEBRASKA","Boone County","*","N/A","*","N/A","*",1.8657129718217477E-2,6.4516129032258063E-2]
[580,null,12,"Scotts Bluff, NE - Box Butte, NE","NE: Box Butte County (31013)","NE: Box Butte County (31013)","31013","  Box Butte  ",{"$f":"ROWS($L$2:L1813)","v":1812},{"$f":"IF(L1813=WORKSHEET!$B$1,I1813,\"\")","v":""},"","NEBRASKA","Box Butte County",14,"N/A","*","N/A",20,1.8657129718217477E-2,8.98876404494382E-2]
[595,null,12,"Boyd, NE","NE: Boyd County (31015)","NE: Boyd County (31015)","31015","  Boyd  ",{"$f":"ROWS($L$2:L1814)","v":1813},{"$f":"IF(L1814=WORKSHEET!$B$1,I1814,\"\")","v":""},"","NEBRASKA","Boyd County","*","N/A","*","N/A","*",1.8657129718217477E-2,3.2786885245901641E-2]
[559,null,12,"Holt, NE - Brown, NE","NE: Brown County (31017)","NE: Brown County (31017)","31017","  Brown  ",{"$f":"ROWS($L$2:L1815)","v":1814},{"$f":"IF(L1815=WORKSHEET!$B$1,I1815,\"\")","v":""},"","NEBRASKA","Brown County","*","*","*","N/A","*",1.8657129718217477E-2,9.0909090909090912E-2]
[570,null,12,"Buffalo, NE - Dawson, NE","NE: Buffalo County (31019)","NE: Buffalo County (31019)","31019","  Buffalo  ",{"$f":"ROWS($L$2:L1816)","v":1815},{"$f":"IF(L1816=WORKSHEET!$B$1,I1816,\"\")","v":""},"","NEBRASKA","Buffalo County",34,{"$f":"+R1816-N1816-P1816","v":8},19,"N/A",61,1.8657129718217477E-2,0.18518518518518517]
[542,null,12,"Douglas (Omaha), NE - Sarpy, NE","NE: Burt County (31021)","NE: Burt County (31021)","31021","  Burt  ",{"$f":"ROWS($L$2:L1817)","v":1816},{"$f":"IF(L1817=WORKSHEET!$B$1,I1817,\"\")","v":""},"","NEBRASKA","Burt County","*","*","*","N/A",15,1.8657129718217477E-2,9.1245376078914919E-2]
[561,null,12,"Lancaster (Lincoln), NE - Gage, NE","NE: Butler County (31023)","NE: Butler County (31023)","31023","  Butler  ",{"$f":"ROWS($L$2:L1818)","v":1817},{"$f":"IF(L1818=WORKSHEET!$B$1,I1818,\"\")","v":""},"","NEBRASKA","Butler County","*","*","*","N/A",14,1.8657129718217477E-2,0.12367491166077739]
[542,null,12,"Douglas (Omaha), NE - Sarpy, NE","NE: Cass County (31025)","NE: Cass County (31025)","31025","  Cass  ",{"$f":"ROWS($L$2:L1819)","v":1818},{"$f":"IF(L1819=WORKSHEET!$B$1,I1819,\"\")","v":""},"","NEBRASKA","Cass County",17,{"$f":"+R1819-N1819-P1819","v":1},20,"N/A",38,1.8657129718217477E-2,9.1245376078914919E-2]
[578,null,12,"Cedar, NE - Knox, NE","NE: Cedar County (31027)","NE: Cedar County (31027)","31027","  Cedar  ",{"$f":"ROWS($L$2:L1820)","v":1819},{"$f":"IF(L1820=WORKSHEET!$B$1,I1820,\"\")","v":""},"","NEBRASKA","Cedar County","*","*","*","N/A",16,1.8657129718217477E-2,9.0909090909090912E-2]
[654,null,12,"Chase, NE - Dundy, NE","NE: Chase County (31029)","NE: Chase County (31029)","31029","  Chase  ",{"$f":"ROWS($L$2:L1821)","v":1820},{"$f":"IF(L1821=WORKSHEET!$B$1,I1821,\"\")","v":""},"","NEBRASKA","Chase County","*","*","*","N/A","*",1.8657129718217477E-2,0.14285714285714285]
[668,null,12,"Cherry, NE","NE: Cherry County (31031)","NE: Cherry County (31031)","31031","  Cherry  ",{"$f":"ROWS($L$2:L1822)","v":1821},{"$f":"IF(L1822=WORKSHEET!$B$1,I1822,\"\")","v":""},"","NEBRASKA","Cherry County","*","*","*","N/A",11,1.8657129718217477E-2,0.1]
[741,null,12,"Cheyenne, NE - Kimball, NE","NE: Cheyenne County (31033)","NE: Cheyenne County (31033)","31033","  Cheyenne  ",{"$f":"ROWS($L$2:L1823)","v":1822},{"$f":"IF(L1823=WORKSHEET!$B$1,I1823,\"\")","v":""},"","NEBRASKA","Cheyenne County","*","*","*","N/A",11,1.8657129718217477E-2,8.1632653061224483E-2]
[564,null,12,"Adams, NE - Clay, NE","NE: Clay County (31035)","NE: Clay County (31035)","31035","  Clay  ",{"$f":"ROWS($L$2:L1824)","v":1823},{"$f":"IF(L1824=WORKSHEET!$B$1,I1824,\"\")","v":""},"","NEBRASKA","Clay County","*","N/A","*","N/A","*",1.8657129718217477E-2,0.21212121212121213]
[542,null,12,"Douglas (Omaha), NE - Sarpy, NE","NE: Colfax County (31037)","NE: Colfax County (31037)","31037","  Colfax  ",{"$f":"ROWS($L$2:L1825)","v":1824},{"$f":"IF(L1825=WORKSHEET!$B$1,I1825,\"\")","v":""},"","NEBRASKA","Colfax County","*","N/A","*","N/A","*",1.8657129718217477E-2,9.1245376078914919E-2]
[542,null,12,"Douglas (Omaha), NE - Sarpy, NE","NE: Cuming County (31039)","NE: Cuming County (31039)","31039","  Cuming  ",{"$f":"ROWS($L$2:L1826)","v":1825},{"$f":"IF(L1826=WORKSHEET!$B$1,I1826,\"\")","v":""},"","NEBRASKA","Cuming County","*","*","*","N/A",12,1.8657129718217477E-2,9.1245376078914919E-2]
[594,null,12,"Custer, NE - Valley, NE","NE: Custer County (31041)","NE: Custer County (31041)","31041","  Custer  ",{"$f":"ROWS($L$2:L1827)","v":1826},{"$f":"IF(L1827=WORKSHEET!$B$1,I1827,\"\")","v":""},"","NEBRASKA","Custer County","*","*","*","N/A",17,1.8657129718217477E-2,0.2857142857142857]
[942,560,12,"Dakota, NE - Thurston, NE","NE: Dakota County (31043)","NE: Dakota County (31043)","31043","  Dakota  ",{"$f":"ROWS($L$2:L1828)","v":1827},{"$f":"IF(L1828=WORKSHEET!$B$1,I1828,\"\")","v":""},"","NEBRASKA","Dakota County",26,"N/A","*","N/A",35,1.8657129718217477E-2,6.0836501901140684E-2]
[623,null,12,"Dawes, NE - Sheridan, NE","NE: Dawes County (31045)","NE: Dawes County (31045)","31045","  Dawes  ",{"$f":"ROWS($L$2:L1829)","v":1828},{"$f":"IF(L1829=WORKSHEET!$B$1,I1829,\"\")","v":""},"","NEBRASKA","Dawes County","*","N/A","*","N/A",13,1.8657129718217477E-2,4.8543689320388349E-2]
[570,null,12,"Buffalo, NE - Dawson, NE","NE: Dawson County (31047)","NE: Dawson County (31047)","31047","  Dawson  ",{"$f":"ROWS($L$2:L1830)","v":1829},{"$f":"IF(L1830=WORKSHEET!$B$1,I1830,\"\")","v":""},"","NEBRASKA","Dawson County",20,{"$f":"+R1830-N1830-P1830","v":5},12,"N/A",37,1.8657129718217477E-2,0.18518518518518517]
[741,null,12,"Cheyenne, NE - Kimball, NE","NE: Deuel County (31049)","NE: Deuel County (31049)","31049","  Deuel  ",{"$f":"ROWS($L$2:L1831)","v":1830},{"$f":"IF(L1831=WORKSHEET!$B$1,I1831,\"\")","v":""},"","NEBRASKA","Deuel County","*","*","*","N/A","*",1.8657129718217477E-2,8.1632653061224483E-2]
[942,560,12,"Dakota, NE - Thurston, NE","NE: Dixon County (31051)","NE: Dixon County (31051)","31051","  Dixon  ",{"$f":"ROWS($L$2:L1832)","v":1831},{"$f":"IF(L1832=WORKSHEET!$B$1,I1832,\"\")","v":""},"","NEBRASKA","Dixon County","*","N/A","*","N/A",14,1.8657129718217477E-2,6.0836501901140684E-2]
[542,null,12,"Douglas (Omaha), NE - Sarpy, NE","NE: Dodge County (31053)","NE: Dodge County (31053)","31053","  Dodge  ",{"$f":"ROWS($L$2:L1833)","v":1832},{"$f":"IF(L1833=WORKSHEET!$B$1,I1833,\"\")","v":""},"","NEBRASKA","Dodge County",25,{"$f":"+R1833-N1833-P1833","v":2},27,"N/A",54,1.8657129718217477E-2,9.1245376078914919E-2]
[542,null,12,"Douglas (Omaha), NE - Sarpy, NE","NE: Douglas County (31055)","NE: Douglas County (31055)","31055","  Douglas  ",{"$f":"ROWS($L$2:L1834)","v":1833},{"$f":"IF(L1834=WORKSHEET!$B$1,I1834,\"\")","v":""},"","NEBRASKA","Douglas County",574,58,452,"*",1090,1.8657129718217477E-2,9.1245376078914919E-2]
[654,null,12,"Chase, NE - Dundy, NE","NE: Dundy County (31057)","NE: Dundy County (31057)","31057","  Dundy  ",{"$f":"ROWS($L$2:L1835)","v":1834},{"$f":"IF(L1835=WORKSHEET!$B$1,I1835,\"\")","v":""},"","NEBRASKA","Dundy County","*","N/A","*","N/A","*",1.8657129718217477E-2,0.14285714285714285]
[658,null,12,"Fillmore, NE - Thayer, NE","NE: Fillmore County (31059)","NE: Fillmore County (31059)","31059","  Fillmore  ",{"$f":"ROWS($L$2:L1836)","v":1835},{"$f":"IF(L1836=WORKSHEET!$B$1,I1836,\"\")","v":""},"","NEBRASKA","Fillmore County","*","*","*","N/A","*",1.8657129718217477E-2,0.125]
[570,null,12,"Buffalo, NE - Dawson, NE","NE: Franklin County (31061)","NE: Franklin County (31061)","31061","  Franklin  ",{"$f":"ROWS($L$2:L1837)","v":1836},{"$f":"IF(L1837=WORKSHEET!$B$1,I1837,\"\")","v":""},"","NEBRASKA","Franklin County","*","*","*","N/A",12,1.8657129718217477E-2,0.18518518518518517]
[570,null,12,"Buffalo, NE - Dawson, NE","NE: Frontier County (31063)","NE: Frontier County (31063)","31063","  Frontier  ",{"$f":"ROWS($L$2:L1838)","v":1837},{"$f":"IF(L1838=WORKSHEET!$B$1,I1838,\"\")","v":""},"","NEBRASKA","Frontier County","N/A","N/A","*","N/A","*",1.8657129718217477E-2,0.18518518518518517]
[616,null,12,"Phelps, NE - Furnas, NE","NE: Furnas County (31065)","NE: Furnas County (31065)","31065","  Furnas  ",{"$f":"ROWS($L$2:L1839)","v":1838},{"$f":"IF(L1839=WORKSHEET!$B$1,I1839,\"\")","v":""},"","NEBRASKA","Furnas County","*","*","*","N/A","*",1.8657129718217477E-2,0.16666666666666666]
[561,null,12,"Lancaster (Lincoln), NE - Gage, NE","NE: Gage County (31067)","NE: Gage County (31067)","31067","  Gage  ",{"$f":"ROWS($L$2:L1840)","v":1839},{"$f":"IF(L1840=WORKSHEET!$B$1,I1840,\"\")","v":""},"","NEBRASKA","Gage County",17,{"$f":"+R1840-N1840-P1840","v":2},17,"N/A",36,1.8657129718217477E-2,0.12367491166077739]
[580,null,12,"Scotts Bluff, NE - Box Butte, NE","NE: Garden County (31069)","NE: Garden County (31069)","31069","  Garden  ",{"$f":"ROWS($L$2:L1841)","v":1840},{"$f":"IF(L1841=WORKSHEET!$B$1,I1841,\"\")","v":""},"","NEBRASKA","Garden County","*","*","*","N/A","*",1.8657129718217477E-2,8.98876404494382E-2]
[594,null,12,"Custer, NE - Valley, NE","NE: Garfield County (31071)","NE: Garfield County (31071)","31071","  Garfield  ",{"$f":"ROWS($L$2:L1842)","v":1841},{"$f":"IF(L1842=WORKSHEET!$B$1,I1842,\"\")","v":""},"","NEBRASKA","Garfield County","*","N/A","*","N/A","*",1.8657129718217477E-2,0.2857142857142857]
[570,null,12,"Buffalo, NE - Dawson, NE","NE: Gosper County (31073)","NE: Gosper County (31073)","31073","  Gosper  ",{"$f":"ROWS($L$2:L1843)","v":1842},{"$f":"IF(L1843=WORKSHEET!$B$1,I1843,\"\")","v":""},"","NEBRASKA","Gosper County","*","*","*","N/A","*",1.8657129718217477E-2,0.18518518518518517]
[580,null,12,"Scotts Bluff, NE - Box Butte, NE","NE: Grant County (31075)","NE: Grant County (31075)","31075","  Grant  ",{"$f":"ROWS($L$2:L1844)","v":1843},{"$f":"IF(L1844=WORKSHEET!$B$1,I1844,\"\")","v":""},"","NEBRASKA","Grant County","N/A","*","*","N/A","*",1.8657129718217477E-2,8.98876404494382E-2]
[555,null,12,"Hall, NE - Hamilton, NE","NE: Greeley County (31077)","NE: Greeley County (31077)","31077","  Greeley  ",{"$f":"ROWS($L$2:L1845)","v":1844},{"$f":"IF(L1845=WORKSHEET!$B$1,I1845,\"\")","v":""},"","NEBRASKA","Greeley County","*","N/A","*","N/A","*",1.8657129718217477E-2,4.0540540540540543E-2]
[555,null,12,"Hall, NE - Hamilton, NE","NE: Hall County (31079)","NE: Hall County (31079)","31079","  Hall  ",{"$f":"ROWS($L$2:L1846)","v":1845},{"$f":"IF(L1846=WORKSHEET!$B$1,I1846,\"\")","v":""},"","NEBRASKA","Hall County",56,{"$f":"+R1846-N1846-P1846","v":2},56,"N/A",114,1.8657129718217477E-2,4.0540540540540543E-2]
[555,null,12,"Hall, NE - Hamilton, NE","NE: Hamilton County (31081)","NE: Hamilton County (31081)","31081","  Hamilton  ",{"$f":"ROWS($L$2:L1847)","v":1846},{"$f":"IF(L1847=WORKSHEET!$B$1,I1847,\"\")","v":""},"","NEBRASKA","Hamilton County","*","N/A",17,"N/A",22,1.8657129718217477E-2,4.0540540540540543E-2]
[616,null,12,"Phelps, NE - Furnas, NE","NE: Harlan County (31083)","NE: Harlan County (31083)","31083","  Harlan  ",{"$f":"ROWS($L$2:L1848)","v":1847},{"$f":"IF(L1848=WORKSHEET!$B$1,I1848,\"\")","v":""},"","NEBRASKA","Harlan County","*","*","*","N/A","*",1.8657129718217477E-2,0.16666666666666666]
[654,null,12,"Chase, NE - Dundy, NE","NE: Hayes County (31085)","NE: Hayes County (31085)","31085",null,{"$f":"ROWS($L$2:L1849)","v":1848},{"$f":"IF(L1849=WORKSHEET!$B$1,I1849,\"\")","v":""},"","NEBRASKA","Hayes County",null,null,null,null,null,1.8657129718217477E-2,0.14285714285714285]
[955,613,12,"Red Willow, NE - Hitchcock, NE","NE: Hitchcock County (31087)","NE: Hitchcock County (31087)","31087","  Hitchcock  ",{"$f":"ROWS($L$2:L1850)","v":1849},{"$f":"IF(L1850=WORKSHEET!$B$1,I1850,\"\")","v":""},"","NEBRASKA","Hitchcock County","*","N/A","*","N/A","*",1.8657129718217477E-2,0.27272727272727271]
[559,null,12,"Holt, NE - Brown, NE","NE: Holt County (31089)","NE: Holt County (31089)","31089","  Holt  ",{"$f":"ROWS($L$2:L1851)","v":1850},{"$f":"IF(L1851=WORKSHEET!$B$1,I1851,\"\")","v":""},"","NEBRASKA","Holt County","*","N/A","*","N/A",16,1.8657129718217477E-2,9.0909090909090912E-2]
[593,null,12,"Lincoln, NE - Keith, NE","NE: Hooker County (31091)","NE: Hooker County (31091)","31091","  Hooker  ",{"$f":"ROWS($L$2:L1852)","v":1851},{"$f":"IF(L1852=WORKSHEET!$B$1,I1852,\"\")","v":""},"","NEBRASKA","Hooker County","*","N/A","N/A","N/A","*",1.8657129718217477E-2,0.2]
[555,null,12,"Hall, NE - Hamilton, NE","NE: Howard County (31093)","NE: Howard County (31093)","31093","  Howard  ",{"$f":"ROWS($L$2:L1853)","v":1852},{"$f":"IF(L1853=WORKSHEET!$B$1,I1853,\"\")","v":""},"","NEBRASKA","Howard County","*","*","*","N/A",14,1.8657129718217477E-2,4.0540540540540543E-2]
[561,null,12,"Lancaster (Lincoln), NE - Gage, NE","NE: Jefferson County (31095)","NE: Jefferson County (31095)","31095","  Jefferson  ",{"$f":"ROWS($L$2:L1854)","v":1853},{"$f":"IF(L1854=WORKSHEET!$B$1,I1854,\"\")","v":""},"","NEBRASKA","Jefferson County","*","*","*","N/A",18,1.8657129718217477E-2,0.12367491166077739]
[660,null,12,"Otoe, NE - Johnson, NE","NE: Johnson County (31097)","NE: Johnson County (31097)","31097","  Johnson  ",{"$f":"ROWS($L$2:L1855)","v":1854},{"$f":"IF(L1855=WORKSHEET!$B$1,I1855,\"\")","v":""},"","NEBRASKA","Johnson County","*","*","N/A","N/A","*",1.8657129718217477E-2,0.16666666666666666]
[570,null,12,"Buffalo, NE - Dawson, NE","NE: Kearney County (31099)","NE: Kearney County (31099)","31099","  Kearney  ",{"$f":"ROWS($L$2:L1856)","v":1855},{"$f":"IF(L1856=WORKSHEET!$B$1,I1856,\"\")","v":""},"","NEBRASKA","Kearney County","*","N/A","*","N/A",12,1.8657129718217477E-2,0.18518518518518517]
[593,null,12,"Lincoln, NE - Keith, NE","NE: Keith County (31101)","NE: Keith County (31101)","31101","  Keith  ",{"$f":"ROWS($L$2:L1857)","v":1856},{"$f":"IF(L1857=WORKSHEET!$B$1,I1857,\"\")","v":""},"","NEBRASKA","Keith County","*","*","*","N/A",19,1.8657129718217477E-2,0.2]
[559,null,12,"Holt, NE - Brown, NE","NE: Keya Paha County (31103)","NE: Keya Paha County (31103)","31103",null,{"$f":"ROWS($L$2:L1858)","v":1857},{"$f":"IF(L1858=WORKSHEET!$B$1,I1858,\"\")","v":""},"","NEBRASKA","Keya Paha County",null,null,null,null,null,1.8657129718217477E-2,9.0909090909090912E-2]
[741,null,12,"Cheyenne, NE - Kimball, NE","NE: Kimball County (31105)","NE: Kimball County (31105)","31105","  Kimball  ",{"$f":"ROWS($L$2:L1859)","v":1858},{"$f":"IF(L1859=WORKSHEET!$B$1,I1859,\"\")","v":""},{"$f":"IFERROR(SMALL($J$2:$J$3142,I1859),\"\")","v":""},"NEBRASKA","Kimball County","*","N/A","*","N/A","*",1.8657129718217477E-2,8.1632653061224483E-2]
[578,null,12,"Cedar, NE - Knox, NE","NE: Knox County (31107)","NE: Knox County (31107)","31107","  Knox  ",{"$f":"ROWS($L$2:L1860)","v":1859},{"$f":"IF(L1860=WORKSHEET!$B$1,I1860,\"\")","v":""},"","NEBRASKA","Knox County","*","N/A","*","N/A",20,1.8657129718217477E-2,9.0909090909090912E-2]
[561,null,12,"Lancaster (Lincoln), NE - Gage, NE","NE: Lancaster County (31109)","NE: Lancaster County (31109)","31109","  Lancaster  ",{"$f":"ROWS($L$2:L1861)","v":1860},{"$f":"IF(L1861=WORKSHEET!$B$1,I1861,\"\")","v":""},"","NEBRASKA","Lancaster County",205,26,185,"N/A",416,1.8657129718217477E-2,0.12367491166077739]
[593,null,12,"Lincoln, NE - Keith, NE","NE: Lincoln County (31111)","NE: Lincoln County (31111)","31111","  Lincoln  ",{"$f":"ROWS($L$2:L1862)","v":1861},{"$f":"IF(L1862=WORKSHEET!$B$1,I1862,\"\")","v":""},"","NEBRASKA","Lincoln County",24,{"$f":"+R1862-N1862-P1862","v":4},25,"N/A",53,1.8657129718217477E-2,0.2]
[594,null,12,"Custer, NE - Valley, NE","NE: Logan County (31113)","NE: Logan County (31113)","31113",null,{"$f":"ROWS($L$2:L1863)","v":1862},{"$f":"IF(L1863=WORKSHEET!$B$1,I1863,\"\")","v":""},"","NEBRASKA","Logan County",null,null,null,null,null,1.8657129718217477E-2,0.2857142857142857]
[594,null,12,"Custer, NE - Valley, NE","NE: Loup County (31115)","NE: Loup County (31115)","31115",null,{"$f":"ROWS($L$2:L1864)","v":1863},{"$f":"IF(L1864=WORKSHEET!$B$1,I1864,\"\")","v":""},"","NEBRASKA","Loup County",null,null,null,null,null,1.8657129718217477E-2,0.2857142857142857]
[577,null,12,"Madison, NE - Wayne, NE","NE: Madison County (31119)","NE: Madison County (31119)","31119","  Madison  ",{"$f":"ROWS($L$2:L1865)","v":1864},{"$f":"IF(L1865=WORKSHEET!$B$1,I1865,\"\")","v":""},"","NEBRASKA","Madison County",28,{"$f":"+R1865-N1865-P1865","v":2},33,"*",63,1.8657129718217477E-2,8.6956521739130432E-2]
[593,null,12,"Lincoln, NE - Keith, NE","NE: McPherson County (31117)","NE: McPherson County (31117)","31117",null,{"$f":"ROWS($L$2:L1866)","v":1865},{"$f":"IF(L1866=WORKSHEET!$B$1,I1866,\"\")","v":""},"","NEBRASKA","McPherson County",null,null,null,null,null,1.8657129718217477E-2,0.2]
[555,null,12,"Hall, NE - Hamilton, NE","NE: Merrick County (31121)","NE: Merrick County (31121)","31121","  Merrick  ",{"$f":"ROWS($L$2:L1867)","v":1866},{"$f":"IF(L1867=WORKSHEET!$B$1,I1867,\"\")","v":""},"","NEBRASKA","Merrick County","*","N/A","*","N/A","*",1.8657129718217477E-2,4.0540540540540543E-2]
[580,null,12,"Scotts Bluff, NE - Box Butte, NE","NE: Morrill County (31123)","NE: Morrill County (31123)","31123","  Morrill  ",{"$f":"ROWS($L$2:L1868)","v":1867},{"$f":"IF(L1868=WORKSHEET!$B$1,I1868,\"\")","v":""},"","NEBRASKA","Morrill County","*","N/A","*","N/A","*",1.8657129718217477E-2,8.98876404494382E-2]
[651,null,12,"Platte, NE - Boone, NE","NE: Nance County (31125)","NE: Nance County (31125)","31125","  Nance  ",{"$f":"ROWS($L$2:L1869)","v":1868},{"$f":"IF(L1869=WORKSHEET!$B$1,I1869,\"\")","v":""},"","NEBRASKA","Nance County","*","N/A","*","N/A","*",1.8657129718217477E-2,6.4516129032258063E-2]
[687,null,12,"Nemaha, NE","NE: Nemaha County (31127)","NE: Nemaha County (31127)","31127","  Nemaha  ",{"$f":"ROWS($L$2:L1870)","v":1869},{"$f":"IF(L1870=WORKSHEET!$B$1,I1870,\"\")","v":""},"","NEBRASKA","Nemaha County","*","*","*","N/A",12,1.8657129718217477E-2,9.0909090909090912E-2]
[564,null,12,"Adams, NE - Clay, NE","NE: Nuckolls County (31129)","NE: Nuckolls County (31129)","31129","  Nuckolls  ",{"$f":"ROWS($L$2:L1871)","v":1870},{"$f":"IF(L1871=WORKSHEET!$B$1,I1871,\"\")","v":""},"","NEBRASKA","Nuckolls County","*","*","*","*",12,1.8657129718217477E-2,0.21212121212121213]
[660,null,12,"Otoe, NE - Johnson, NE","NE: Otoe County (31131)","NE: Otoe County (31131)","31131","  Otoe  ",{"$f":"ROWS($L$2:L1872)","v":1871},{"$f":"IF(L1872=WORKSHEET!$B$1,I1872,\"\")","v":""},"","NEBRASKA","Otoe County","*","*","*","N/A",17,1.8657129718217477E-2,0.16666666666666666]
[628,null,12,"Richardson, NE - Pawnee, NE","NE: Pawnee County (31133)","NE: Pawnee County (31133)","31133","  Pawnee  ",{"$f":"ROWS($L$2:L1873)","v":1872},{"$f":"IF(L1873=WORKSHEET!$B$1,I1873,\"\")","v":""},"","NEBRASKA","Pawnee County","*","N/A","N/A","N/A","*",1.8657129718217477E-2,9.0909090909090912E-2]
[593,null,12,"Lincoln, NE - Keith, NE","NE: Perkins County (31135)","NE: Perkins County (31135)","31135","  Perkins  ",{"$f":"ROWS($L$2:L1874)","v":1873},{"$f":"IF(L1874=WORKSHEET!$B$1,I1874,\"\")","v":""},"","NEBRASKA","Perkins County","*","N/A","*","N/A","*",1.8657129718217477E-2,0.2]
[616,null,12,"Phelps, NE - Furnas, NE","NE: Phelps County (31137)","NE: Phelps County (31137)","31137","  Phelps  ",{"$f":"ROWS($L$2:L1875)","v":1874},{"$f":"IF(L1875=WORKSHEET!$B$1,I1875,\"\")","v":""},"","NEBRASKA","Phelps County","*","*","*","N/A",11,1.8657129718217477E-2,0.16666666666666666]
[577,null,12,"Madison, NE - Wayne, NE","NE: Pierce County (31139)","NE: Pierce County (31139)","31139","  Pierce  ",{"$f":"ROWS($L$2:L1876)","v":1875},{"$f":"IF(L1876=WORKSHEET!$B$1,I1876,\"\")","v":""},"","NEBRASKA","Pierce County","*","*","*","N/A","*",1.8657129718217477E-2,8.6956521739130432E-2]
[651,null,12,"Platte, NE - Boone, NE","NE: Platte County (31141)","NE: Platte County (31141)","31141","  Platte  ",{"$f":"ROWS($L$2:L1877)","v":1876},{"$f":"IF(L1877=WORKSHEET!$B$1,I1877,\"\")","v":""},"","NEBRASKA","Platte County",24,{"$f":"+R1877-N1877-P1877","v":2},29,"N/A",55,1.8657129718217477E-2,6.4516129032258063E-2]
[611,null,12,"York, NE - Polk, NE","NE: Polk County (31143)","NE: Polk County (31143)","31143","  Polk  ",{"$f":"ROWS($L$2:L1878)","v":1877},{"$f":"IF(L1878=WORKSHEET!$B$1,I1878,\"\")","v":""},"","NEBRASKA","Polk County","*","N/A","*","N/A","*",1.8657129718217477E-2,0.27272727272727271]
[955,613,12,"Red Willow, NE - Hitchcock, NE","NE: Red Willow County (31145)","NE: Red Willow County (31145)","31145","  Red Willow  ",{"$f":"ROWS($L$2:L1879)","v":1878},{"$f":"IF(L1879=WORKSHEET!$B$1,I1879,\"\")","v":""},"","NEBRASKA","Red Willow County","*","*","*","N/A",23,1.8657129718217477E-2,0.27272727272727271]
[628,null,12,"Richardson, NE - Pawnee, NE","NE: Richardson County (31147)","NE: Richardson County (31147)","31147","  Richardson  ",{"$f":"ROWS($L$2:L1880)","v":1879},{"$f":"IF(L1880=WORKSHEET!$B$1,I1880,\"\")","v":""},"","NEBRASKA","Richardson County","*","*","*","N/A",16,1.8657129718217477E-2,9.0909090909090912E-2]
[559,null,12,"Holt, NE - Brown, NE","NE: Rock County (31149)","NE: Rock County (31149)","31149","  Rock  ",{"$f":"ROWS($L$2:L1881)","v":1880},{"$f":"IF(L1881=WORKSHEET!$B$1,I1881,\"\")","v":""},"","NEBRASKA","Rock County","*","N/A","N/A","N/A","*",1.8657129718217477E-2,9.0909090909090912E-2]
[561,null,12,"Lancaster (Lincoln), NE - Gage, NE","NE: Saline County (31151)","NE: Saline County (31151)","31151","  Saline  ",{"$f":"ROWS($L$2:L1882)","v":1881},{"$f":"IF(L1882=WORKSHEET!$B$1,I1882,\"\")","v":""},"","NEBRASKA","Saline County",11,"*","*","N/A",21,1.8657129718217477E-2,0.12367491166077739]
[542,null,12,"Douglas (Omaha), NE - Sarpy, NE","NE: Sarpy County (31153)","NE: Sarpy County (31153)","31153","  Sarpy  ",{"$f":"ROWS($L$2:L1883)","v":1882},{"$f":"IF(L1883=WORKSHEET!$B$1,I1883,\"\")","v":""},"","NEBRASKA","Sarpy County",86,{"$f":"+R1883-N1883-P1883","v":9},104,"*",199,1.8657129718217477E-2,9.1245376078914919E-2]
[542,null,12,"Douglas (Omaha), NE - Sarpy, NE","NE: Saunders County (31155)","NE: Saunders County (31155)","31155","  Saunders  ",{"$f":"ROWS($L$2:L1884)","v":1883},{"$f":"IF(L1884=WORKSHEET!$B$1,I1884,\"\")","v":""},"","NEBRASKA","Saunders County",13,"*","*","N/A",23,1.8657129718217477E-2,9.1245376078914919E-2]
[580,null,12,"Scotts Bluff, NE - Box Butte, NE","NE: Scotts Bluff County (31157)","NE: Scotts Bluff County (31157)","31157","  Scott Bluff  ",{"$f":"ROWS($L$2:L1885)","v":1884},{"$f":"IF(L1885=WORKSHEET!$B$1,I1885,\"\")","v":""},"","NEBRASKA","Scotts Bluff County",53,{"$f":"+R1885-N1885-P1885","v":3},33,"N/A",89,1.8657129718217477E-2,8.98876404494382E-2]
[561,null,12,"Lancaster (Lincoln), NE - Gage, NE","NE: Seward County (31159)","NE: Seward County (31159)","31159","  Seward  ",{"$f":"ROWS($L$2:L1886)","v":1885},{"$f":"IF(L1886=WORKSHEET!$B$1,I1886,\"\")","v":""},"","NEBRASKA","Seward County","*","*","*","N/A","*",1.8657129718217477E-2,0.12367491166077739]
[623,null,12,"Dawes, NE - Sheridan, NE","NE: Sheridan County (31161)","NE: Sheridan County (31161)","31161","  Sheridan  ",{"$f":"ROWS($L$2:L1887)","v":1886},{"$f":"IF(L1887=WORKSHEET!$B$1,I1887,\"\")","v":""},"","NEBRASKA","Sheridan County","*","N/A","*","N/A","*",1.8657129718217477E-2,4.8543689320388349E-2]
[570,null,12,"Buffalo, NE - Dawson, NE","NE: Sherman County (31163)","NE: Sherman County (31163)","31163",null,{"$f":"ROWS($L$2:L1888)","v":1887},{"$f":"IF(L1888=WORKSHEET!$B$1,I1888,\"\")","v":""},"","NEBRASKA","Sherman County",null,null,null,null,null,1.8657129718217477E-2,0.18518518518518517]
[623,null,12,"Dawes, NE - Sheridan, NE","NE: Sioux County (31165)","NE: Sioux County (31165)","31165",null,{"$f":"ROWS($L$2:L1889)","v":1888},{"$f":"IF(L1889=WORKSHEET!$B$1,I1889,\"\")","v":""},"","NEBRASKA","Sioux County",null,null,null,null,null,1.8657129718217477E-2,4.8543689320388349E-2]
[577,null,12,"Madison, NE - Wayne, NE","NE: Stanton County (31167)","NE: Stanton County (31167)","31167","  Stanton  ",{"$f":"ROWS($L$2:L1890)","v":1889},{"$f":"IF(L1890=WORKSHEET!$B$1,I1890,\"\")","v":""},"","NEBRASKA","Stanton County","N/A","N/A","*","N/A","*",1.8657129718217477E-2,8.6956521739130432E-2]
[658,null,12,"Fillmore, NE - Thayer, NE","NE: Thayer County (31169)","NE: Thayer County (31169)","31169","  Thayer  ",{"$f":"ROWS($L$2:L1891)","v":1890},{"$f":"IF(L1891=WORKSHEET!$B$1,I1891,\"\")","v":""},"","NEBRASKA","Thayer County","*","*","*","N/A","*",1.8657129718217477E-2,0.125]
[594,null,12,"Custer, NE - Valley, NE","NE: Thomas County (31171)","NE: Thomas County (31171)","31171","  Thomas  ",{"$f":"ROWS($L$2:L1892)","v":1891},{"$f":"IF(L1892=WORKSHEET!$B$1,I1892,\"\")","v":""},"","NEBRASKA","Thomas County","N/A","N/A","*","N/A","*",1.8657129718217477E-2,0.2857142857142857]
[942,560,12,"Dakota, NE - Thurston, NE","NE: Thurston County (31173)","NE: Thurston County (31173)","31173","  Thurston  ",{"$f":"ROWS($L$2:L1893)","v":1892},{"$f":"IF(L1893=WORKSHEET!$B$1,I1893,\"\")","v":""},"","NEBRASKA","Thurston County",44,"N/A","*","N/A",49,1.8657129718217477E-2,6.0836501901140684E-2]
[594,null,12,"Custer, NE - Valley, NE","NE: Valley County (31175)","NE: Valley County (31175)","31175","  Valley  ",{"$f":"ROWS($L$2:L1894)","v":1893},{"$f":"IF(L1894=WORKSHEET!$B$1,I1894,\"\")","v":""},"","NEBRASKA","Valley County","*","*","*","N/A","*",1.8657129718217477E-2,0.2857142857142857]
[542,null,12,"Douglas (Omaha), NE - Sarpy, NE","NE: Washington County (31177)","NE: Washington County (31177)","31177","  Washington  ",{"$f":"ROWS($L$2:L1895)","v":1894},{"$f":"IF(L1895=WORKSHEET!$B$1,I1895,\"\")","v":""},"","NEBRASKA","Washington County","*","*",17,"N/A",27,1.8657129718217477E-2,9.1245376078914919E-2]
[577,null,12,"Madison, NE - Wayne, NE","NE: Wayne County (31179)","NE: Wayne County (31179)","31179","  Wayne  ",{"$f":"ROWS($L$2:L1896)","v":1895},{"$f":"IF(L1896=WORKSHEET!$B$1,I1896,\"\")","v":""},"","NEBRASKA","Wayne County","*","*","*","N/A","*",1.8657129718217477E-2,8.6956521739130432E-2]
[564,null,12,"Adams, NE - Clay, NE","NE: Webster County (31181)","NE: Webster County (31181)","31181","  Webster  ",{"$f":"ROWS($L$2:L1897)","v":1896},{"$f":"IF(L1897=WORKSHEET!$B$1,I1897,\"\")","v":""},"","NEBRASKA","Webster County","N/A","N/A","*","N/A","*",1.8657129718217477E-2,0.21212121212121213]
[594,null,12,"Custer, NE - Valley, NE","NE: Wheeler County (31183)","NE: Wheeler County (31183)","31183",null,{"$f":"ROWS($L$2:L1898)","v":1897},{"$f":"IF(L1898=WORKSHEET!$B$1,I1898,\"\")","v":""},"","NEBRASKA","Wheeler County",null,null,null,null,null,1.8657129718217477E-2,0.2857142857142857]
[611,null,12,"York, NE - Polk, NE","NE: York County (31185)","NE: York County (31185)","31185","  York  ",{"$f":"ROWS($L$2:L1899)","v":1898},{"$f":"IF(L1899=WORKSHEET!$B$1,I1899,\"\")","v":""},"","NEBRASKA","York County",11,"*","*","N/A",25,1.8657129718217477E-2,0.27272727272727271]
[91,null,1,"Hillsborough (Manchester), NH - Merrimack, NH","NH: Belknap County (33001)","NH: Belknap County (33001)","33001","Belknap  ",{"$f":"ROWS($L$2:L1900)","v":1899},{"$f":"IF(L1900=WORKSHEET!$B$1,I1900,\"\")","v":""},"","NEW HAMPSHIRE","Belknap County",37,{"$f":"+R1900-N1900-P1900","v":5},42,"*",84,2.1156934020173799E-2,0.11555555555555555]
[91,null,1,"Hillsborough (Manchester), NH - Merrimack, NH","NH: Carroll County (33003)","NH: Carroll County (33003)","33003","  Carroll  ",{"$f":"ROWS($L$2:L1901)","v":1900},{"$f":"IF(L1901=WORKSHEET!$B$1,I1901,\"\")","v":""},"","NEW HAMPSHIRE","Carroll County",37,{"$f":"+R1901-N1901-P1901","v":6},31,"*",74,2.1156934020173799E-2,0.11555555555555555]
[90,null,1,"Cheshire, NH","NH: Cheshire County (33005)","NH: Cheshire County (33005)","33005","  Cheshire  ",{"$f":"ROWS($L$2:L1902)","v":1901},{"$f":"IF(L1902=WORKSHEET!$B$1,I1902,\"\")","v":""},"","NEW HAMPSHIRE","Cheshire County",45,{"$f":"+R1902-N1902-P1902","v":7},51,"N/A",103,2.1156934020173799E-2,0.11428571428571428]
[138,null,1,"Coos, NH","NH: Coos County (33007)","NH: Coos County (33007)","33007","  Coos  ",{"$f":"ROWS($L$2:L1903)","v":1902},{"$f":"IF(L1903=WORKSHEET!$B$1,I1903,\"\")","v":""},"","NEW HAMPSHIRE","Coos County",22,{"$f":"+R1903-N1903-P1903","v":2},35,"N/A",59,2.1156934020173799E-2,0.10344827586206896]
[15,null,1,"Grafton, NH - Sullivan, NH","NH: Grafton County (33009)","NH: Grafton County (33009)","33009","  Grafton  ",{"$f":"ROWS($L$2:L1904)","v":1903},{"$f":"IF(L1904=WORKSHEET!$B$1,I1904,\"\")","v":""},"","NEW HAMPSHIRE","Grafton County",50,{"$f":"+R1904-N1904-P1904","v":1},51,"N/A",102,2.1156934020173799E-2,6.3953488372093026E-2]
[91,null,1,"Hillsborough (Manchester), NH - Merrimack, NH","NH: Hillsborough County (33011)","NH: Hillsborough County (33011)","33011","  Hillsborough  ",{"$f":"ROWS($L$2:L1905)","v":1904},{"$f":"IF(L1905=WORKSHEET!$B$1,I1905,\"\")","v":""},"","NEW HAMPSHIRE","Hillsborough County",251,37,238,"N/A",526,2.1156934020173799E-2,0.11555555555555555]
[91,null,1,"Hillsborough (Manchester), NH - Merrimack, NH","NH: Merrimack County (33013)","NH: Merrimack County (33013)","33013","  Merrimack  ",{"$f":"ROWS($L$2:L1906)","v":1905},{"$f":"IF(L1906=WORKSHEET!$B$1,I1906,\"\")","v":""},"","NEW HAMPSHIRE","Merrimack County",73,{"$f":"+R1906-N1906-P1906","v":7},78,"N/A",158,2.1156934020173799E-2,0.11555555555555555]
[874,74,1,"Rockingham, NH","NH: Rockingham County (33015)","NH: Rockingham County (33015)","33015","  Rockingham  ",{"$f":"ROWS($L$2:L1907)","v":1906},{"$f":"IF(L1907=WORKSHEET!$B$1,I1907,\"\")","v":""},"","NEW HAMPSHIRE","Rockingham County",173,19,176,"*",369,2.1156934020173799E-2,7.7526987242394499E-2]
[879,98,1,"Strafford (Rochester), NH","NH: Strafford County (33017)","NH: Strafford County (33017)","33017","  Strafford  ",{"$f":"ROWS($L$2:L1908)","v":1907},{"$f":"IF(L1908=WORKSHEET!$B$1,I1908,\"\")","v":""},"","NEW HAMPSHIRE","Strafford County",99,11,70,"N/A",180,2.1156934020173799E-2,0.12941176470588237]
[15,null,1,"Grafton, NH - Sullivan, NH","NH: Sullivan County (33019)","NH: Sullivan County (33019)","33019","  Sullivan  ",{"$f":"ROWS($L$2:L1909)","v":1908},{"$f":"IF(L1909=WORKSHEET!$B$1,I1909,\"\")","v":""},"","NEW HAMPSHIRE","Sullivan County",24,{"$f":"+R1909-N1909-P1909","v":1},23,"N/A",48,2.1156934020173799E-2,6.3953488372093026E-2]
[64,null,3,"Atlantic (Atlantic City), NJ - Cape May, NJ","NJ: Atlantic County (34001)","NJ: Atlantic County (34001)","34001","Atlantic  ",{"$f":"ROWS($L$2:L1910)","v":1909},{"$f":"IF(L1910=WORKSHEET!$B$1,I1910,\"\")","v":""},"","NEW JERSEY","Atlantic County",543,31,181,"*",757,2.8497947146101158E-2,6.043956043956044E-2]
[36,null,3,"Bergen, NJ - Hudson (Jersey City), NJ","NJ: Bergen County (34003)","NJ: Bergen County (34003)","34003","  Bergen  ",{"$f":"ROWS($L$2:L1911)","v":1910},{"$f":"IF(L1911=WORKSHEET!$B$1,I1911,\"\")","v":""},"","NEW JERSEY","Bergen County",1035,75,664,"*",1775,2.8497947146101158E-2,5.5093256814921089E-2]
[23,null,3,"Camden (Camden), NJ - Burlington, NJ","NJ: Burlington County (34005)","NJ: Burlington County (34005)","34005","  Burlington  ",{"$f":"ROWS($L$2:L1912)","v":1911},{"$f":"IF(L1912=WORKSHEET!$B$1,I1912,\"\")","v":""},"","NEW JERSEY","Burlington County",610,69,315,"N/A",994,2.8497947146101158E-2,7.7868852459016397E-2]
[23,null,3,"Camden (Camden), NJ - Burlington, NJ","NJ: Camden County (34007)","NJ: Camden County (34007)","34007","  Camden  ",{"$f":"ROWS($L$2:L1913)","v":1912},{"$f":"IF(L1913=WORKSHEET!$B$1,I1913,\"\")","v":""},"","NEW JERSEY","Camden County",969,73,422,"*",1468,2.8497947146101158E-2,7.7868852459016397E-2]
[64,null,3,"Atlantic (Atlantic City), NJ - Cape May, NJ","NJ: Cape May County (34009)","NJ: Cape May County (34009)","34009","  Cape May  ",{"$f":"ROWS($L$2:L1914)","v":1913},{"$f":"IF(L1914=WORKSHEET!$B$1,I1914,\"\")","v":""},"","NEW JERSEY","Cape May County",141,13,54,"*",210,2.8497947146101158E-2,6.043956043956044E-2]
[127,127,3,"Cumberland, NJ","NJ: Cumberland County (34011)","NJ: Cumberland County (34011)","34011","  Cumberland  ",{"$f":"ROWS($L$2:L1915)","v":1914},{"$f":"IF(L1915=WORKSHEET!$B$1,I1915,\"\")","v":""},"","NEW JERSEY","Cumberland County",309,34,114,"*",459,2.8497947146101158E-2,9.9125364431486881E-2]
[66,null,3,"Essex (Newark), NJ - Middlesex, NJ","NJ: Essex County (34013)","NJ: Essex County (34013)","34013","  Essex  ",{"$f":"ROWS($L$2:L1916)","v":1915},{"$f":"IF(L1916=WORKSHEET!$B$1,I1916,\"\")","v":""},"","NEW JERSEY","Essex County",2022,69,638,"*",2735,2.8497947146101158E-2,5.9381898454746139E-2]
[23,null,3,"Camden (Camden), NJ - Burlington, NJ","NJ: Gloucester County (34015)","NJ: Gloucester County (34015)","34015","  Gloucester  ",{"$f":"ROWS($L$2:L1917)","v":1916},{"$f":"IF(L1917=WORKSHEET!$B$1,I1917,\"\")","v":""},"","NEW JERSEY","Gloucester County",329,22,207,"*",559,2.8497947146101158E-2,7.7868852459016397E-2]
[36,null,3,"Bergen, NJ - Hudson (Jersey City), NJ","NJ: Hudson County (34017)","NJ: Hudson County (34017)","34017","  Hudson  ",{"$f":"ROWS($L$2:L1918)","v":1917},{"$f":"IF(L1918=WORKSHEET!$B$1,I1918,\"\")","v":""},"","NEW JERSEY","Hudson County",1015,48,441,"*",1510,2.8497947146101158E-2,5.5093256814921089E-2]
[93,null,3,"Hunterdon, NJ - Warren (Phillipsburg), NJ","NJ: Hunterdon County (34019)","NJ: Hunterdon County (34019)","34019","  Hunterdon  ",{"$f":"ROWS($L$2:L1919)","v":1918},{"$f":"IF(L1919=WORKSHEET!$B$1,I1919,\"\")","v":""},"","NEW JERSEY","Hunterdon County",53,12,69,"N/A",134,2.8497947146101158E-2,0.1317365269461078]
[126,null,3,"Mercer, NJ","NJ: Mercer County (34021)","NJ: Mercer County (34021)","34021","  Mercer  ",{"$f":"ROWS($L$2:L1920)","v":1919},{"$f":"IF(L1920=WORKSHEET!$B$1,I1920,\"\")","v":""},"","NEW JERSEY","Mercer County",614,48,242,"*",906,2.8497947146101158E-2,7.2507552870090641E-2]
[66,null,3,"Essex (Newark), NJ - Middlesex, NJ","NJ: Middlesex County (34023)","NJ: Middlesex County (34023)","34023","  Middlesex  ",{"$f":"ROWS($L$2:L1921)","v":1920},{"$f":"IF(L1921=WORKSHEET!$B$1,I1921,\"\")","v":""},"","NEW JERSEY","Middlesex County",991,120,607,"*",1721,2.8497947146101158E-2,5.9381898454746139E-2]
[108,null,3,"Monmouth, NJ - Ocean (Brick Township), NJ","NJ: Monmouth County (34025)","NJ: Monmouth County (34025)","34025","  Monmouth  ",{"$f":"ROWS($L$2:L1922)","v":1921},{"$f":"IF(L1922=WORKSHEET!$B$1,I1922,\"\")","v":""},"","NEW JERSEY","Monmouth County",823,85,460,"*",1369,2.8497947146101158E-2,9.3553907586993723E-2]
[87,null,3,"Morris (Parsippany-Troy Hills Township), NJ - Sussex, NJ","NJ: Morris County (34027)","NJ: Morris County (34027)","34027","  Morris  ",{"$f":"ROWS($L$2:L1923)","v":1922},{"$f":"IF(L1923=WORKSHEET!$B$1,I1923,\"\")","v":""},{"$f":"IFERROR(SMALL($J$2:$J$3142,I1923),\"\")","v":""},"NEW JERSEY","Morris County",448,26,298,"*",774,2.8497947146101158E-2,7.0261437908496732E-2]
[108,null,3,"Monmouth, NJ - Ocean (Brick Township), NJ","NJ: Ocean County (34029)","NJ: Ocean County (34029)","34029","  Ocean  ",{"$f":"ROWS($L$2:L1924)","v":1923},{"$f":"IF(L1924=WORKSHEET!$B$1,I1924,\"\")","v":""},"","NEW JERSEY","Ocean County",766,79,417,"*",1263,2.8497947146101158E-2,9.3553907586993723E-2]
[36,null,3,"Bergen, NJ - Hudson (Jersey City), NJ","NJ: Passaic County (34031)","NJ: Passaic County (34031)","34031","  Passaic  ",{"$f":"ROWS($L$2:L1925)","v":1924},{"$f":"IF(L1925=WORKSHEET!$B$1,I1925,\"\")","v":""},"","NEW JERSEY","Passaic County",876,51,382,"N/A",1309,2.8497947146101158E-2,5.5093256814921089E-2]
[23,null,3,"Camden (Camden), NJ - Burlington, NJ","NJ: Salem County (34033)","NJ: Salem County (34033)","34033","  Salem  ",{"$f":"ROWS($L$2:L1926)","v":1925},{"$f":"IF(L1926=WORKSHEET!$B$1,I1926,\"\")","v":""},"","NEW JERSEY","Salem County",117,{"$f":"+R1926-N1926-P1926","v":7},43,"N/A",167,2.8497947146101158E-2,7.7868852459016397E-2]
[66,null,3,"Essex (Newark), NJ - Middlesex, NJ","NJ: Somerset County (34035)","NJ: Somerset County (34035)","34035","  Somerset  ",{"$f":"ROWS($L$2:L1927)","v":1926},{"$f":"IF(L1927=WORKSHEET!$B$1,I1927,\"\")","v":""},"","NEW JERSEY","Somerset County",285,47,213,"N/A",545,2.8497947146101158E-2,5.9381898454746139E-2]
[87,null,3,"Morris (Parsippany-Troy Hills Township), NJ - Sussex, NJ","NJ: Sussex County (34037)","NJ: Sussex County (34037)","34037","  Sussex  ",{"$f":"ROWS($L$2:L1928)","v":1927},{"$f":"IF(L1928=WORKSHEET!$B$1,I1928,\"\")","v":""},"","NEW JERSEY","Sussex County",121,17,92,"*",231,2.8497947146101158E-2,7.0261437908496732E-2]
[66,null,3,"Essex (Newark), NJ - Middlesex, NJ","NJ: Union County (34039)","NJ: Union County (34039)","34039","  Union  ",{"$f":"ROWS($L$2:L1929)","v":1928},{"$f":"IF(L1929=WORKSHEET!$B$1,I1929,\"\")","v":""},"","NEW JERSEY","Union County",963,33,382,"*",1380,2.8497947146101158E-2,5.9381898454746139E-2]
[93,null,3,"Hunterdon, NJ - Warren (Phillipsburg), NJ","NJ: Warren County (34041)","NJ: Warren County (34041)","34041","  Warren  ",{"$f":"ROWS($L$2:L1930)","v":1929},{"$f":"IF(L1930=WORKSHEET!$B$1,I1930,\"\")","v":""},"","NEW JERSEY","Warren County",92,{"$f":"+R1930-N1930-P1930","v":10},71,"N/A",173,2.8497947146101158E-2,0.1317365269461078]
[693,null,15,"Bernalillo (Albuquerque), NM - Sandoval, NM","NM: Bernalillo County (35001)","NM: Bernalillo County (35001)","35001"," Bernalillo  ",{"$f":"ROWS($L$2:L1931)","v":1930},{"$f":"IF(L1931=WORKSHEET!$B$1,I1931,\"\")","v":""},"","NEW MEXICO","Bernalillo County",715,87,445,"*",1250,3.5873498773931679E-2,0.10820895522388059]
[793,null,15,"Grant, NM - Hidalgo, NM","NM: Catron County (35003)","NM: Catron County (35003)","35003","  Catron  ",{"$f":"ROWS($L$2:L1932)","v":1931},{"$f":"IF(L1932=WORKSHEET!$B$1,I1932,\"\")","v":""},"","NEW MEXICO","Catron County","*","*","*","N/A","*",3.5873498773931679E-2,0.28000000000000003]
[772,null,15,"Chaves, NM - Eddy, NM","NM: Chaves County (35005)","NM: Chaves County (35005)","35005","  Chaves  ",{"$f":"ROWS($L$2:L1933)","v":1932},{"$f":"IF(L1933=WORKSHEET!$B$1,I1933,\"\")","v":""},"","NEW MEXICO","Chaves County",103,17,40,"*",161,3.5873498773931679E-2,0.14356435643564355]
[693,null,15,"Bernalillo (Albuquerque), NM - Sandoval, NM","NM: Cibola County (35006) - 1982+","NM: Cibola County (35006) - 1982+","35006","  Cibola  ",{"$f":"ROWS($L$2:L1934)","v":1933},{"$f":"IF(L1934=WORKSHEET!$B$1,I1934,\"\")","v":""},"","NEW MEXICO","Cibola County",105,{"$f":"+R1934-N1934-P1934","v":9},31,"N/A",145,3.5873498773931679E-2,0.10820895522388059]
[963,704,15,"Colfax, NM","NM: Colfax County (35007)","NM: Colfax County (35007)","35007","  Colfax  ",{"$f":"ROWS($L$2:L1935)","v":1934},{"$f":"IF(L1935=WORKSHEET!$B$1,I1935,\"\")","v":""},"","NEW MEXICO","Colfax County",16,"N/A","*","N/A",25,3.5873498773931679E-2,9.7826086956521743E-2]
[725,null,15,"Curry, NM - Roosevelt, NM","NM: Curry County (35009)","NM: Curry County (35009)","35009","  Curry  ",{"$f":"ROWS($L$2:L1936)","v":1935},{"$f":"IF(L1936=WORKSHEET!$B$1,I1936,\"\")","v":""},"","NEW MEXICO","Curry County",57,13,23,"N/A",93,3.5873498773931679E-2,0.24271844660194175]
[725,null,15,"Curry, NM - Roosevelt, NM","NM: De Baca County (35011)","NM: De Baca County (35011)","35011","  De Baca  ",{"$f":"ROWS($L$2:L1937)","v":1936},{"$f":"IF(L1937=WORKSHEET!$B$1,I1937,\"\")","v":""},"","NEW MEXICO","De Baca County","*","*","N/A","N/A","*",3.5873498773931679E-2,0.24271844660194175]
[732,null,15,"Dona Ana (Las Cruces), NM - Luna, NM","NM: Dona Ana County (35013)","NM: Dona Ana County (35013)","35013","  Dona Ana  ",{"$f":"ROWS($L$2:L1938)","v":1937},{"$f":"IF(L1938=WORKSHEET!$B$1,I1938,\"\")","v":""},"","NEW MEXICO","Dona Ana County",335,35,111,"*",483,3.5873498773931679E-2,9.6774193548387094E-2]
[772,null,15,"Chaves, NM - Eddy, NM","NM: Eddy County (35015)","NM: Eddy County (35015)","35015","  Eddy  ",{"$f":"ROWS($L$2:L1939)","v":1938},{"$f":"IF(L1939=WORKSHEET!$B$1,I1939,\"\")","v":""},"","NEW MEXICO","Eddy County",70,12,24,"*",107,3.5873498773931679E-2,0.14356435643564355]
[793,null,15,"Grant, NM - Hidalgo, NM","NM: Grant County (35017)","NM: Grant County (35017)","35017","  Grant  ",{"$f":"ROWS($L$2:L1940)","v":1939},{"$f":"IF(L1940=WORKSHEET!$B$1,I1940,\"\")","v":""},"","NEW MEXICO","Grant County",28,12,19,"N/A",59,3.5873498773931679E-2,0.28000000000000003]
[801,null,15,"San Miguel, NM - Mora, NM","NM: Guadalupe County (35019)","NM: Guadalupe County (35019)","35019","  Guadalupe  ",{"$f":"ROWS($L$2:L1941)","v":1940},{"$f":"IF(L1941=WORKSHEET!$B$1,I1941,\"\")","v":""},"","NEW MEXICO","Guadalupe County","*","*","*","N/A",11,3.5873498773931679E-2,0.17647058823529413]
[801,null,15,"San Miguel, NM - Mora, NM","NM: Harding County (35021)","NM: Harding County (35021)","35021","  Harding  ",{"$f":"ROWS($L$2:L1942)","v":1941},{"$f":"IF(L1942=WORKSHEET!$B$1,I1942,\"\")","v":""},"","NEW MEXICO","Harding County","N/A","N/A","*","N/A","*",3.5873498773931679E-2,0.17647058823529413]
[793,null,15,"Grant, NM - Hidalgo, NM","NM: Hidalgo County (35023)","NM: Hidalgo County (35023)","35023","  Hidalgo  ",{"$f":"ROWS($L$2:L1943)","v":1942},{"$f":"IF(L1943=WORKSHEET!$B$1,I1943,\"\")","v":""},"","NEW MEXICO","Hidalgo County","*","N/A","*","N/A","*",3.5873498773931679E-2,0.28000000000000003]
[508,null,15,"Lea, NM","NM: Lea County (35025)","NM: Lea County (35025)","35025","  Lea  ",{"$f":"ROWS($L$2:L1944)","v":1943},{"$f":"IF(L1944=WORKSHEET!$B$1,I1944,\"\")","v":""},"","NEW MEXICO","Lea County",103,22,43,"N/A",168,3.5873498773931679E-2,0.19653179190751446]
[769,null,15,"Otero, NM - Lincoln, NM","NM: Lincoln County (35027)","NM: Lincoln County (35027)","35027","  Lincoln  ",{"$f":"ROWS($L$2:L1945)","v":1944},{"$f":"IF(L1945=WORKSHEET!$B$1,I1945,\"\")","v":""},"","NEW MEXICO","Lincoln County","*","*","*","N/A",22,3.5873498773931679E-2,0.18666666666666668]
[724,null,15,"Santa Fe (Santa Fe), NM - Rio Arriba, NM","NM: Los Alamos County (35028)","NM: Los Alamos County (35028)","35028","  Los Alamos  ",{"$f":"ROWS($L$2:L1946)","v":1945},{"$f":"IF(L1946=WORKSHEET!$B$1,I1946,\"\")","v":""},"","NEW MEXICO","Los Alamos County","*","N/A","*","N/A",12,3.5873498773931679E-2,0.16412213740458015]
[732,null,15,"Dona Ana (Las Cruces), NM - Luna, NM","NM: Luna County (35029)","NM: Luna County (35029)","35029","Luna  ",{"$f":"ROWS($L$2:L1947)","v":1946},{"$f":"IF(L1947=WORKSHEET!$B$1,I1947,\"\")","v":""},"","NEW MEXICO","Luna County",48,"*",13,"N/A",66,3.5873498773931679E-2,9.6774193548387094E-2]
[974,765,15,"McKinley, NM","NM: McKinley County (35031)","NM: McKinley County (35031)","35031","  Mckinley  ",{"$f":"ROWS($L$2:L1948)","v":1947},{"$f":"IF(L1948=WORKSHEET!$B$1,I1948,\"\")","v":""},"","NEW MEXICO","McKinley County",334,32,71,"*",438,3.5873498773931679E-2,9.0443686006825938E-2]
[801,null,15,"San Miguel, NM - Mora, NM","NM: Mora County (35033)","NM: Mora County (35033)","35033","  Mora  ",{"$f":"ROWS($L$2:L1949)","v":1948},{"$f":"IF(L1949=WORKSHEET!$B$1,I1949,\"\")","v":""},"","NEW MEXICO","Mora County","*","N/A","*","N/A","*",3.5873498773931679E-2,0.17647058823529413]
[769,null,15,"Otero, NM - Lincoln, NM","NM: Otero County (35035)","NM: Otero County (35035)","35035","  Otero  ",{"$f":"ROWS($L$2:L1950)","v":1949},{"$f":"IF(L1950=WORKSHEET!$B$1,I1950,\"\")","v":""},"","NEW MEXICO","Otero County",52,{"$f":"+R1950-N1950-P1950","v":8},20,"N/A",80,3.5873498773931679E-2,0.18666666666666668]
[725,null,15,"Curry, NM - Roosevelt, NM","NM: Quay County (35037)","NM: Quay County (35037)","35037","  Quay  ",{"$f":"ROWS($L$2:L1951)","v":1950},{"$f":"IF(L1951=WORKSHEET!$B$1,I1951,\"\")","v":""},"","NEW MEXICO","Quay County","*","*","*","N/A","*",3.5873498773931679E-2,0.24271844660194175]
[724,null,15,"Santa Fe (Santa Fe), NM - Rio Arriba, NM","NM: Rio Arriba County (35039)","NM: Rio Arriba County (35039)","35039","  Rio Arriba  ",{"$f":"ROWS($L$2:L1952)","v":1951},{"$f":"IF(L1952=WORKSHEET!$B$1,I1952,\"\")","v":""},"","NEW MEXICO","Rio Arriba County",74,{"$f":"+R1952-N1952-P1952","v":8},27,"*",109,3.5873498773931679E-2,0.16412213740458015]
[725,null,15,"Curry, NM - Roosevelt, NM","NM: Roosevelt County (35041)","NM: Roosevelt County (35041)","35041","  Roosevelt  ",{"$f":"ROWS($L$2:L1953)","v":1952},{"$f":"IF(L1953=WORKSHEET!$B$1,I1953,\"\")","v":""},"","NEW MEXICO","Roosevelt County",13,{"$f":"+R1953-N1953-P1953","v":10},11,"N/A",34,3.5873498773931679E-2,0.24271844660194175]
[986,740,15,"San Juan, NM","NM: San Juan County (35045)","NM: San Juan County (35045)","35045","  San Juan  ",{"$f":"ROWS($L$2:L1954)","v":1953},{"$f":"IF(L1954=WORKSHEET!$B$1,I1954,\"\")","v":""},"","NEW MEXICO","San Juan County",282,26,95,"N/A",403,3.5873498773931679E-2,0.11010362694300518]
[801,null,15,"San Miguel, NM - Mora, NM","NM: San Miguel County (35047)","NM: San Miguel County (35047)","35047","  San Miguel  ",{"$f":"ROWS($L$2:L1955)","v":1954},{"$f":"IF(L1955=WORKSHEET!$B$1,I1955,\"\")","v":""},"","NEW MEXICO","San Miguel County",35,{"$f":"+R1955-N1955-P1955","v":5},20,"N/A",60,3.5873498773931679E-2,0.17647058823529413]
[693,null,15,"Bernalillo (Albuquerque), NM - Sandoval, NM","NM: Sandoval County (35043)","NM: Sandoval County (35043)","35043","  Sandoval  ",{"$f":"ROWS($L$2:L1956)","v":1955},{"$f":"IF(L1956=WORKSHEET!$B$1,I1956,\"\")","v":""},"","NEW MEXICO","Sandoval County",227,25,77,"*",330,3.5873498773931679E-2,0.10820895522388059]
[724,null,15,"Santa Fe (Santa Fe), NM - Rio Arriba, NM","NM: Santa Fe County (35049)","NM: Santa Fe County (35049)","35049","  Santa Fe  ",{"$f":"ROWS($L$2:L1957)","v":1956},{"$f":"IF(L1957=WORKSHEET!$B$1,I1957,\"\")","v":""},"","NEW MEXICO","Santa Fe County",108,34,93,"*",237,3.5873498773931679E-2,0.16412213740458015]
[732,null,15,"Dona Ana (Las Cruces), NM - Luna, NM","NM: Sierra County (35051)","NM: Sierra County (35051)","35051","  Sierra  ",{"$f":"ROWS($L$2:L1958)","v":1957},{"$f":"IF(L1958=WORKSHEET!$B$1,I1958,\"\")","v":""},"","NEW MEXICO","Sierra County","*","*","*","N/A",17,3.5873498773931679E-2,9.6774193548387094E-2]
[693,null,15,"Bernalillo (Albuquerque), NM - Sandoval, NM","NM: Socorro County (35053)","NM: Socorro County (35053)","35053","  Socorro  ",{"$f":"ROWS($L$2:L1959)","v":1958},{"$f":"IF(L1959=WORKSHEET!$B$1,I1959,\"\")","v":""},"","NEW MEXICO","Socorro County",31,{"$f":"+R1959-N1959-P1959","v":5},11,"*",47,3.5873498773931679E-2,0.10820895522388059]
[724,null,15,"Santa Fe (Santa Fe), NM - Rio Arriba, NM","NM: Taos County (35055)","NM: Taos County (35055)","35055","  Taos  ",{"$f":"ROWS($L$2:L1960)","v":1959},{"$f":"IF(L1960=WORKSHEET!$B$1,I1960,\"\")","v":""},"","NEW MEXICO","Taos County",34,{"$f":"+R1960-N1960-P1960","v":3},23,"*",60,3.5873498773931679E-2,0.16412213740458015]
[693,null,15,"Bernalillo (Albuquerque), NM - Sandoval, NM","NM: Torrance County (35057)","NM: Torrance County (35057)","35057","  Torrance  ",{"$f":"ROWS($L$2:L1961)","v":1960},{"$f":"IF(L1961=WORKSHEET!$B$1,I1961,\"\")","v":""},"","NEW MEXICO","Torrance County",11,"*","*","N/A",20,3.5873498773931679E-2,0.10820895522388059]
[814,null,15,"Union, NM","NM: Union County (35059)","NM: Union County (35059)","35059","  Union  ",{"$f":"ROWS($L$2:L1962)","v":1961},{"$f":"IF(L1962=WORKSHEET!$B$1,I1962,\"\")","v":""},"","NEW MEXICO","Union County","*","*","*","N/A","*",3.5873498773931679E-2,0.1111111111111111]
[693,null,15,"Bernalillo (Albuquerque), NM - Sandoval, NM","NM: Valencia County (35061) - 1982+","NM: Valencia County (35061) - 1982+","35061","  Valencia  ",{"$f":"ROWS($L$2:L1963)","v":1962},{"$f":"IF(L1963=WORKSHEET!$B$1,I1963,\"\")","v":""},"","NEW MEXICO","Valencia County",106,18,47,"*",172,3.5873498773931679E-2,0.10820895522388059]
[962,701,15,"Washoe (Reno), NV - Carson City, NV","NV: Carson City (32510)","NV: Carson City (32510)","32510"," Carson City  ",{"$f":"ROWS($L$2:L1964)","v":1963},{"$f":"IF(L1964=WORKSHEET!$B$1,I1964,\"\")","v":""},"","NEVADA","Carson City",86,{"$f":"+R1964-N1964-P1964","v":8},33,"*",127,3.5873498773931679E-2,0.11040609137055837]
[962,701,15,"Washoe (Reno), NV - Carson City, NV","NV: Churchill County (32001)","NV: Churchill County (32001)","32001","  Churchill  ",{"$f":"ROWS($L$2:L1965)","v":1964},{"$f":"IF(L1965=WORKSHEET!$B$1,I1965,\"\")","v":""},"","NEVADA","Churchill County",37,{"$f":"+R1965-N1965-P1965","v":9},17,"*",63,3.5873498773931679E-2,0.11040609137055837]
[707,null,15,"Clark (Las Vegas), NV - Nye, NV","NV: Clark County (32003)","NV: Clark County (32003)","32003","  Clark  ",{"$f":"ROWS($L$2:L1966)","v":1965},{"$f":"IF(L1966=WORKSHEET!$B$1,I1966,\"\")","v":""},"","NEVADA","Clark County",2967,289,1009,"*",4275,3.5873498773931679E-2,9.5537757437070936E-2]
[962,701,15,"Washoe (Reno), NV - Carson City, NV","NV: Douglas County (32005)","NV: Douglas County (32005)","32005","  Douglas  ",{"$f":"ROWS($L$2:L1967)","v":1966},{"$f":"IF(L1967=WORKSHEET!$B$1,I1967,\"\")","v":""},"","NEVADA","Douglas County",36,{"$f":"+R1967-N1967-P1967","v":5},28,"N/A",69,3.5873498773931679E-2,0.11040609137055837]
[720,null,15,"Elko, NV - Lander, NV","NV: Elko County (32007)","NV: Elko County (32007)","32007","  Elko  ",{"$f":"ROWS($L$2:L1968)","v":1967},{"$f":"IF(L1968=WORKSHEET!$B$1,I1968,\"\")","v":""},"","NEVADA","Elko County",25,19,28,"N/A",72,3.5873498773931679E-2,0.43478260869565216]
[707,null,15,"Clark (Las Vegas), NV - Nye, NV","NV: Esmeralda County (32009)","NV: Esmeralda County (32009)","32009","  Esmeralda  ",{"$f":"ROWS($L$2:L1969)","v":1968},{"$f":"IF(L1969=WORKSHEET!$B$1,I1969,\"\")","v":""},"","NEVADA","Esmeralda County","*","N/A","N/A","N/A","*",3.5873498773931679E-2,9.5537757437070936E-2]
[720,null,15,"Elko, NV - Lander, NV","NV: Eureka County (32011)","NV: Eureka County (32011)","32011","  Eureka  ",{"$f":"ROWS($L$2:L1970)","v":1969},{"$f":"IF(L1970=WORKSHEET!$B$1,I1970,\"\")","v":""},"","NEVADA","Eureka County","N/A","*","*","N/A","*",3.5873498773931679E-2,0.43478260869565216]
[962,701,15,"Washoe (Reno), NV - Carson City, NV","NV: Humboldt County (32013)","NV: Humboldt County (32013)","32013","  Humboldt  ",{"$f":"ROWS($L$2:L1971)","v":1970},{"$f":"IF(L1971=WORKSHEET!$B$1,I1971,\"\")","v":""},"","NEVADA","Humboldt County",20,"*","*","N/A",30,3.5873498773931679E-2,0.11040609137055837]
[720,null,15,"Elko, NV - Lander, NV","NV: Lander County (32015)","NV: Lander County (32015)","32015","  Lander  ",{"$f":"ROWS($L$2:L1972)","v":1971},{"$f":"IF(L1972=WORKSHEET!$B$1,I1972,\"\")","v":""},"","NEVADA","Lander County","*","N/A","*","N/A","*",3.5873498773931679E-2,0.43478260869565216]
[707,null,15,"Clark (Las Vegas), NV - Nye, NV","NV: Lincoln County (32017)","NV: Lincoln County (32017)","32017","  Lincoln  ",{"$f":"ROWS($L$2:L1973)","v":1972},{"$f":"IF(L1973=WORKSHEET!$B$1,I1973,\"\")","v":""},"","NEVADA","Lincoln County",14,"N/A","*","N/A",18,3.5873498773931679E-2,9.5537757437070936E-2]
[962,701,15,"Washoe (Reno), NV - Carson City, NV","NV: Lyon County (32019)","NV: Lyon County (32019)","32019","  Lyon  ",{"$f":"ROWS($L$2:L1974)","v":1973},{"$f":"IF(L1974=WORKSHEET!$B$1,I1974,\"\")","v":""},"","NEVADA","Lyon County",44,14,25,"*",84,3.5873498773931679E-2,0.11040609137055837]
[962,701,15,"Washoe (Reno), NV - Carson City, NV","NV: Mineral County (32021)","NV: Mineral County (32021)","32021","  Mineral  ",{"$f":"ROWS($L$2:L1975)","v":1974},{"$f":"IF(L1975=WORKSHEET!$B$1,I1975,\"\")","v":""},"","NEVADA","Mineral County","*","N/A","*","N/A","*",3.5873498773931679E-2,0.11040609137055837]
[707,null,15,"Clark (Las Vegas), NV - Nye, NV","NV: Nye County (32023)","NV: Nye County (32023)","32023","  Nye  ",{"$f":"ROWS($L$2:L1976)","v":1975},{"$f":"IF(L1976=WORKSHEET!$B$1,I1976,\"\")","v":""},"","NEVADA","Nye County",55,13,21,"N/A",89,3.5873498773931679E-2,9.5537757437070936E-2]
[962,701,15,"Washoe (Reno), NV - Carson City, NV","NV: Pershing County (32027)","NV: Pershing County (32027)","32027","  Pershing  ",{"$f":"ROWS($L$2:L1977)","v":1976},{"$f":"IF(L1977=WORKSHEET!$B$1,I1977,\"\")","v":""},"","NEVADA","Pershing County","*","N/A","*","N/A","*",3.5873498773931679E-2,0.11040609137055837]
[962,701,15,"Washoe (Reno), NV - Carson City, NV","NV: Storey County (32029)","NV: Storey County (32029)","32029",null,{"$f":"ROWS($L$2:L1978)","v":1977},{"$f":"IF(L1978=WORKSHEET!$B$1,I1978,\"\")","v":""},"","NEVADA","Storey County",null,null,null,null,null,3.5873498773931679E-2,0.11040609137055837]
[962,701,15,"Washoe (Reno), NV - Carson City, NV","NV: Washoe County (32031)","NV: Washoe County (32031)","32031","  Washoe  ",{"$f":"ROWS($L$2:L1979)","v":1978},{"$f":"IF(L1979=WORKSHEET!$B$1,I1979,\"\")","v":""},"","NEVADA","Washoe County",464,52,214,"*",731,3.5873498773931679E-2,0.11040609137055837]
[805,null,15,"White Pine, NV","NV: White Pine County (32033)","NV: White Pine County (32033)","32033","  White Pine  ",{"$f":"ROWS($L$2:L1980)","v":1979},{"$f":"IF(L1980=WORKSHEET!$B$1,I1980,\"\")","v":""},"","NEVADA","White Pine County","*","*","N/A","N/A","*",3.5873498773931679E-2,0.1]
[10,null,2,"Albany (Albany), NY - Rensselaer, NY","NY: Albany County (36001)","NY: Albany County (36001)","36001","  Albany  ",{"$f":"ROWS($L$2:L1981)","v":1980},{"$f":"IF(L1981=WORKSHEET!$B$1,I1981,\"\")","v":""},"","NEW YORK","Albany County",431,29,162,"*",623,2.7087312433191818E-2,6.9930069930069894E-2]
[35,null,2,"Cattaraugus, NY - Allegany, NY","NY: Allegany County (36003)","NY: Allegany County (36003)","36003","  Allegany  ",{"$f":"ROWS($L$2:L1982)","v":1981},{"$f":"IF(L1982=WORKSHEET!$B$1,I1982,\"\")","v":""},"","NEW YORK","Allegany County",30,{"$f":"+R1982-N1982-P1982","v":3},27,"N/A",60,2.7087312433191818E-2,8.6538461538461536E-2]
[94,null,2,"Kings (New York), NY - Queens, NY","NY: Bronx County (36005) - 1980+","NY: Bronx County (36005) - 1980+","36005","  Bronx  ",{"$f":"ROWS($L$2:L1983)","v":1982},{"$f":"IF(L1983=WORKSHEET!$B$1,I1983,\"\")","v":""},"","NEW YORK","Bronx County",3303,112,1462,"*",4885,2.7087312433191818E-2,3.0546724019699521E-2]
[19,null,2,"Broome (Binghamton), NY - Tioga, NY","NY: Broome County (36007)","NY: Broome County (36007)","36007","  Broome  ",{"$f":"ROWS($L$2:L1984)","v":1983},{"$f":"IF(L1984=WORKSHEET!$B$1,I1984,\"\")","v":""},"","NEW YORK","Broome County",198,55,83,"*",337,2.7087312433191818E-2,0.20812182741116753]
[35,null,2,"Cattaraugus, NY - Allegany, NY","NY: Cattaraugus County (36009)","NY: Cattaraugus County (36009)","36009","  Cattaraugus  ",{"$f":"ROWS($L$2:L1985)","v":1984},{"$f":"IF(L1985=WORKSHEET!$B$1,I1985,\"\")","v":""},"","NEW YORK","Cattaraugus County",85,{"$f":"+R1985-N1985-P1985","v":10},48,"N/A",143,2.7087312433191818E-2,8.6538461538461536E-2]
[56,null,2,"Onondaga (Syracuse), NY - Oswego, NY","NY: Cayuga County (36011)","NY: Cayuga County (36011)","36011","  Cayuga  ",{"$f":"ROWS($L$2:L1986)","v":1985},{"$f":"IF(L1986=WORKSHEET!$B$1,I1986,\"\")","v":""},"","NEW YORK","Cayuga County",59,{"$f":"+R1986-N1986-P1986","v":12},47,"*",118,2.7087312433191818E-2,8.5106382978723402E-2]
[106,null,2,"Chautauqua, NY","NY: Chautauqua County (36013)","NY: Chautauqua County (36013)","36013","  Chautauqua  ",{"$f":"ROWS($L$2:L1987)","v":1986},{"$f":"IF(L1987=WORKSHEET!$B$1,I1987,\"\")","v":""},{"$f":"IFERROR(SMALL($J$2:$J$3142,I1987),\"\")","v":""},"NEW YORK","Chautauqua County",146,21,94,"N/A",261,2.7087312433191818E-2,0.16282894736842105]
[65,null,2,"Steuben, NY - Chemung (Elmira), NY","NY: Chemung County (36015)","NY: Chemung County (36015)","36015","  Chemung  ",{"$f":"ROWS($L$2:L1988)","v":1987},{"$f":"IF(L1988=WORKSHEET!$B$1,I1988,\"\")","v":""},"","NEW YORK","Chemung County",104,{"$f":"+R1988-N1988-P1988","v":5},51,"N/A",160,2.7087312433191818E-2,8.8372093023255813E-2]
[58,null,2,"Otsego, NY - Chenango, NY","NY: Chenango County (36017)","NY: Chenango County (36017)","36017","  Chenango  ",{"$f":"ROWS($L$2:L1989)","v":1988},{"$f":"IF(L1989=WORKSHEET!$B$1,I1989,\"\")","v":""},"","NEW YORK","Chenango County",46,11,24,"N/A",81,2.7087312433191818E-2,0.17258883248730963]
[81,null,2,"Clinton, NY - Franklin, NY","NY: Clinton County (36019)","NY: Clinton County (36019)","36019","  Clinton  ",{"$f":"ROWS($L$2:L1990)","v":1989},{"$f":"IF(L1990=WORKSHEET!$B$1,I1990,\"\")","v":""},"","NEW YORK","Clinton County",91,{"$f":"+R1990-N1990-P1990","v":3},39,"N/A",133,2.7087312433191818E-2,5.1643192488262914E-2]
[881,112,2,"Columbia, NY - Greene, NY","NY: Columbia County (36021)","NY: Columbia County (36021)","36021","  Columbia  ",{"$f":"ROWS($L$2:L1991)","v":1990},{"$f":"IF(L1991=WORKSHEET!$B$1,I1991,\"\")","v":""},"","NEW YORK","Columbia County",74,{"$f":"+R1991-N1991-P1991","v":8},34,"N/A",116,2.7087312433191818E-2,0.11986301369863013]
[105,null,2,"Tompkins, NY - Cortland, NY","NY: Cortland County (36023)","NY: Cortland County (36023)","36023","  Cortland  ",{"$f":"ROWS($L$2:L1992)","v":1991},{"$f":"IF(L1992=WORKSHEET!$B$1,I1992,\"\")","v":""},"","NEW YORK","Cortland County",32,{"$f":"+R1992-N1992-P1992","v":8},20,"N/A",60,2.7087312433191818E-2,0.20754716981132076]
[58,null,2,"Otsego, NY - Chenango, NY","NY: Delaware County (36025)","NY: Delaware County (36025)","36025","  Delaware  ",{"$f":"ROWS($L$2:L1993)","v":1992},{"$f":"IF(L1993=WORKSHEET!$B$1,I1993,\"\")","v":""},"","NEW YORK","Delaware County",33,"*",25,"*",67,2.7087312433191818E-2,0.17258883248730963]
[41,null,2,"Westchester (Yonkers), NY - Dutchess, NY","NY: Dutchess County (36027)","NY: Dutchess County (36027)","36027","  Dutchess  ",{"$f":"ROWS($L$2:L1994)","v":1993},{"$f":"IF(L1994=WORKSHEET!$B$1,I1994,\"\")","v":""},"","NEW YORK","Dutchess County",326,52,146,"N/A",524,2.7087312433191818E-2,6.0496380558428126E-2]
[54,null,2,"Erie (Buffalo), NY - Monroe, NY","NY: Erie County (36029)","NY: Erie County (36029)","36029","  Erie  ",{"$f":"ROWS($L$2:L1995)","v":1994},{"$f":"IF(L1995=WORKSHEET!$B$1,I1995,\"\")","v":""},"","NEW YORK","Erie County",1189,101,696,"*",1989,2.7087312433191818E-2,8.7658227848101261E-2]
[81,null,2,"Clinton, NY - Franklin, NY","NY: Essex County (36031)","NY: Essex County (36031)","36031","  Essex  ",{"$f":"ROWS($L$2:L1996)","v":1995},{"$f":"IF(L1996=WORKSHEET!$B$1,I1996,\"\")","v":""},"","NEW YORK","Essex County",48,{"$f":"+R1996-N1996-P1996","v":5},23,"*",76,2.7087312433191818E-2,5.1643192488262914E-2]
[81,null,2,"Clinton, NY - Franklin, NY","NY: Franklin County (36033)","NY: Franklin County (36033)","36033","  Franklin  ",{"$f":"ROWS($L$2:L1997)","v":1996},{"$f":"IF(L1997=WORKSHEET!$B$1,I1997,\"\")","v":""},"","NEW YORK","Franklin County",63,{"$f":"+R1997-N1997-P1997","v":3},31,"N/A",97,2.7087312433191818E-2,5.1643192488262914E-2]
[76,null,2,"Fulton, NY - Montgomery (Amsterdam), NY","NY: Fulton County (36035)","NY: Fulton County (36035)","36035","  Fulton  ",{"$f":"ROWS($L$2:L1998)","v":1997},{"$f":"IF(L1998=WORKSHEET!$B$1,I1998,\"\")","v":""},"","NEW YORK","Fulton County",46,{"$f":"+R1998-N1998-P1998","v":10},14,"N/A",70,2.7087312433191818E-2,0.18382352941176472]
[54,null,2,"Erie (Buffalo), NY - Monroe, NY","NY: Genesee County (36037)","NY: Genesee County (36037)","36037","  Genesee  ",{"$f":"ROWS($L$2:L1999)","v":1998},{"$f":"IF(L1999=WORKSHEET!$B$1,I1999,\"\")","v":""},"","NEW YORK","Genesee County",72,{"$f":"+R1999-N1999-P1999","v":6},31,"*",109,2.7087312433191818E-2,8.7658227848101261E-2]
[881,112,2,"Columbia, NY - Greene, NY","NY: Greene County (36039)","NY: Greene County (36039)","36039","  Greene  ",{"$f":"ROWS($L$2:L2000)","v":1999},{"$f":"IF(L2000=WORKSHEET!$B$1,I2000,\"\")","v":""},"","NEW YORK","Greene County",54,{"$f":"+R2000-N2000-P2000","v":10},22,"N/A",86,2.7087312433191818E-2,0.11986301369863013]
[88,null,2,"Saratoga, NY - Schenectady (Schenectady), NY","NY: Hamilton County (36041)","NY: Hamilton County (36041)","36041","  Hamilton  ",{"$f":"ROWS($L$2:L2001)","v":2000},{"$f":"IF(L2001=WORKSHEET!$B$1,I2001,\"\")","v":""},"","NEW YORK","Hamilton County","*","*","*","N/A",14,2.7087312433191818E-2,0.10179640718562874]
[59,null,2,"Oneida (Utica), NY - Madison, NY","NY: Herkimer County (36043)","NY: Herkimer County (36043)","36043","  Herkimer  ",{"$f":"ROWS($L$2:L2002)","v":2001},{"$f":"IF(L2002=WORKSHEET!$B$1,I2002,\"\")","v":""},"","NEW YORK","Herkimer County",66,{"$f":"+R2002-N2002-P2002","v":8},24,"N/A",98,2.7087312433191818E-2,5.7259713701431493E-2]
[80,null,2,"St. Lawrence, NY - Jefferson, NY","NY: Jefferson County (36045)","NY: Jefferson County (36045)","36045","  Jefferson  ",{"$f":"ROWS($L$2:L2003)","v":2002},{"$f":"IF(L2003=WORKSHEET!$B$1,I2003,\"\")","v":""},"","NEW YORK","Jefferson County",103,17,61,"N/A",181,2.7087312433191818E-2,0.1198501872659176]
[94,null,2,"Kings (New York), NY - Queens, NY","NY: Kings County (36047) - 1980+","NY: Kings County (36047) - 1980+","36047","  Kings  ",{"$f":"ROWS($L$2:L2004)","v":2003},{"$f":"IF(L2004=WORKSHEET!$B$1,I2004,\"\")","v":""},"","NEW YORK","Kings County",5125,111,1684,"*",6928,2.7087312433191818E-2,3.0546724019699521E-2]
[80,null,2,"St. Lawrence, NY - Jefferson, NY","NY: Lewis County (36049)","NY: Lewis County (36049)","36049","  Lewis  ",{"$f":"ROWS($L$2:L2005)","v":2004},{"$f":"IF(L2005=WORKSHEET!$B$1,I2005,\"\")","v":""},"","NEW YORK","Lewis County",20,{"$f":"+R2005-N2005-P2005","v":3},12,"N/A",35,2.7087312433191818E-2,0.1198501872659176]
[54,null,2,"Erie (Buffalo), NY - Monroe, NY","NY: Livingston County (36051)","NY: Livingston County (36051)","36051","  Livingston  ",{"$f":"ROWS($L$2:L2006)","v":2005},{"$f":"IF(L2006=WORKSHEET!$B$1,I2006,\"\")","v":""},"","NEW YORK","Livingston County",60,{"$f":"+R2006-N2006-P2006","v":4},38,"N/A",102,2.7087312433191818E-2,8.7658227848101261E-2]
[59,null,2,"Oneida (Utica), NY - Madison, NY","NY: Madison County (36053)","NY: Madison County (36053)","36053","  Madison  ",{"$f":"ROWS($L$2:L2007)","v":2006},{"$f":"IF(L2007=WORKSHEET!$B$1,I2007,\"\")","v":""},"","NEW YORK","Madison County",54,{"$f":"+R2007-N2007-P2007","v":4},30,"N/A",88,2.7087312433191818E-2,5.7259713701431493E-2]
[54,null,2,"Erie (Buffalo), NY - Monroe, NY","NY: Monroe County (36055)","NY: Monroe County (36055)","36055","  Monroe  ",{"$f":"ROWS($L$2:L2008)","v":2007},{"$f":"IF(L2008=WORKSHEET!$B$1,I2008,\"\")","v":""},"","NEW YORK","Monroe County",1219,137,501,"*",1859,2.7087312433191818E-2,8.7658227848101261E-2]
[76,null,2,"Fulton, NY - Montgomery (Amsterdam), NY","NY: Montgomery County (36057)","NY: Montgomery County (36057)","36057","  Montgomery  ",{"$f":"ROWS($L$2:L2009)","v":2008},{"$f":"IF(L2009=WORKSHEET!$B$1,I2009,\"\")","v":""},"","NEW YORK","Montgomery County",65,15,16,"N/A",96,2.7087312433191818E-2,0.18382352941176472]
[83,null,2,"Suffolk, NY - Nassau, NY","NY: Nassau County (36059)","NY: Nassau County (36059)","36059","  Nassau  ",{"$f":"ROWS($L$2:L2010)","v":2009},{"$f":"IF(L2010=WORKSHEET!$B$1,I2010,\"\")","v":""},"","NEW YORK","Nassau County",1796,82,1020,"*",2905,2.7087312433191818E-2,4.2108050847457626E-2]
[94,null,2,"Kings (New York), NY - Queens, NY","NY: New York County (36061) - 1980+","NY: New York County (36061) - 1980+","36061","  New York  ",{"$f":"ROWS($L$2:L2011)","v":2010},{"$f":"IF(L2011=WORKSHEET!$B$1,I2011,\"\")","v":""},"","NEW YORK","New York County",2307,80,1193,"*",3584,2.7087312433191818E-2,3.0546724019699521E-2]
[54,null,2,"Erie (Buffalo), NY - Monroe, NY","NY: Niagara County (36063)","NY: Niagara County (36063)","36063","  Niagara  ",{"$f":"ROWS($L$2:L2012)","v":2011},{"$f":"IF(L2012=WORKSHEET!$B$1,I2012,\"\")","v":""},"","NEW YORK","Niagara County",284,17,176,"N/A",477,2.7087312433191818E-2,8.7658227848101261E-2]
[59,null,2,"Oneida (Utica), NY - Madison, NY","NY: Oneida County (36065)","NY: Oneida County (36065)","36065","  Oneida  ",{"$f":"ROWS($L$2:L2013)","v":2012},{"$f":"IF(L2013=WORKSHEET!$B$1,I2013,\"\")","v":""},"","NEW YORK","Oneida County",341,16,133,"*",492,2.7087312433191818E-2,5.7259713701431493E-2]
[56,null,2,"Onondaga (Syracuse), NY - Oswego, NY","NY: Onondaga County (36067)","NY: Onondaga County (36067)","36067","  Onondaga  ",{"$f":"ROWS($L$2:L2014)","v":2013},{"$f":"IF(L2014=WORKSHEET!$B$1,I2014,\"\")","v":""},"","NEW YORK","Onondaga County",568,49,247,"*",867,2.7087312433191818E-2,8.5106382978723402E-2]
[21,null,2,"Ontario (Geneva), NY - Wayne, NY","NY: Ontario County (36069)","NY: Ontario County (36069)","36069","  Ontario  ",{"$f":"ROWS($L$2:L2015)","v":2014},{"$f":"IF(L2015=WORKSHEET!$B$1,I2015,\"\")","v":""},"","NEW YORK","Ontario County",94,{"$f":"+R2015-N2015-P2015","v":6},56,"*",156,2.7087312433191818E-2,9.8360655737704916E-2]
[86,null,2,"Orange (Newburgh), NY - Sullivan, NY","NY: Orange County (36071)","NY: Orange County (36071)","36071","  Orange  ",{"$f":"ROWS($L$2:L2016)","v":2015},{"$f":"IF(L2016=WORKSHEET!$B$1,I2016,\"\")","v":""},"","NEW YORK","Orange County",405,34,220,"N/A",659,2.7087312433191818E-2,9.9656357388316158E-2]
[54,null,2,"Erie (Buffalo), NY - Monroe, NY","NY: Orleans County (36073)","NY: Orleans County (36073)","36073","  Orleans  ",{"$f":"ROWS($L$2:L2017)","v":2016},{"$f":"IF(L2017=WORKSHEET!$B$1,I2017,\"\")","v":""},"","NEW YORK","Orleans County",41,{"$f":"+R2017-N2017-P2017","v":6},13,"N/A",60,2.7087312433191818E-2,8.7658227848101261E-2]
[56,null,2,"Onondaga (Syracuse), NY - Oswego, NY","NY: Oswego County (36075)","NY: Oswego County (36075)","36075","  Oswego  ",{"$f":"ROWS($L$2:L2018)","v":2017},{"$f":"IF(L2018=WORKSHEET!$B$1,I2018,\"\")","v":""},"","NEW YORK","Oswego County",104,{"$f":"+R2018-N2018-P2018","v":10},66,"*",180,2.7087312433191818E-2,8.5106382978723402E-2]
[58,null,2,"Otsego, NY - Chenango, NY","NY: Otsego County (36077)","NY: Otsego County (36077)","36077","  Otsego  ",{"$f":"ROWS($L$2:L2019)","v":2018},{"$f":"IF(L2019=WORKSHEET!$B$1,I2019,\"\")","v":""},"","NEW YORK","Otsego County",51,{"$f":"+R2019-N2019-P2019","v":9},33,"N/A",93,2.7087312433191818E-2,0.17258883248730963]
[41,null,2,"Westchester (Yonkers), NY - Dutchess, NY","NY: Putnam County (36079)","NY: Putnam County (36079)","36079","  Putnam  ",{"$f":"ROWS($L$2:L2020)","v":2019},{"$f":"IF(L2020=WORKSHEET!$B$1,I2020,\"\")","v":""},"","NEW YORK","Putnam County",54,{"$f":"+R2020-N2020-P2020","v":3},50,"N/A",107,2.7087312433191818E-2,6.0496380558428126E-2]
[94,null,2,"Kings (New York), NY - Queens, NY","NY: Queens County (36081) - 1980+","NY: Queens County (36081) - 1980+","36081","  Queens  ",{"$f":"ROWS($L$2:L2021)","v":2020},{"$f":"IF(L2021=WORKSHEET!$B$1,I2021,\"\")","v":""},"","NEW YORK","Queens County",4083,169,1594,"*",5853,2.7087312433191818E-2,3.0546724019699521E-2]
[10,null,2,"Albany (Albany), NY - Rensselaer, NY","NY: Rensselaer County (36083)","NY: Rensselaer County (36083)","36083","  Rensselaer  ",{"$f":"ROWS($L$2:L2022)","v":2021},{"$f":"IF(L2022=WORKSHEET!$B$1,I2022,\"\")","v":""},"","NEW YORK","Rensselaer County",206,20,89,"N/A",315,2.7087312433191818E-2,6.9930069930069935E-2]
[94,null,2,"Kings (New York), NY - Queens, NY","NY: Richmond County (36085) - 1980+","NY: Richmond County (36085) - 1980+","36085","  Richmond  ",{"$f":"ROWS($L$2:L2023)","v":2022},{"$f":"IF(L2023=WORKSHEET!$B$1,I2023,\"\")","v":""},"","NEW YORK","Richmond County",733,18,364,"N/A",1115,2.7087312433191818E-2,3.0546724019699521E-2]
[865,36,2,"Rockland, NY","NY: Rockland County (36087)","NY: Rockland County (36087)","36087","  Rockland  ",{"$f":"ROWS($L$2:L2024)","v":2023},{"$f":"IF(L2024=WORKSHEET!$B$1,I2024,\"\")","v":""},"","NEW YORK","Rockland County",367,18,255,"*",642,2.7087312433191818E-2,5.5093256814921089E-2]
[88,null,2,"Saratoga, NY - Schenectady (Schenectady), NY","NY: Saratoga County (36091)","NY: Saratoga County (36091)","36091","  Saratoga  ",{"$f":"ROWS($L$2:L2025)","v":2024},{"$f":"IF(L2025=WORKSHEET!$B$1,I2025,\"\")","v":""},"","NEW YORK","Saratoga County",204,14,85,"*",304,2.7087312433191818E-2,0.10179640718562874]
[88,null,2,"Saratoga, NY - Schenectady (Schenectady), NY","NY: Schenectady County (36093)","NY: Schenectady County (36093)","36093","  Schenectady  ",{"$f":"ROWS($L$2:L2026)","v":2025},{"$f":"IF(L2026=WORKSHEET!$B$1,I2026,\"\")","v":""},"","NEW YORK","Schenectady County",232,29,94,"*",358,2.7087312433191818E-2,0.10179640718562874]
[58,null,2,"Otsego, NY - Chenango, NY","NY: Schoharie County (36095)","NY: Schoharie County (36095)","36095","  Schoharie  ",{"$f":"ROWS($L$2:L2027)","v":2026},{"$f":"IF(L2027=WORKSHEET!$B$1,I2027,\"\")","v":""},"","NEW YORK","Schoharie County",33,{"$f":"+R2027-N2027-P2027","v":6},11,"N/A",50,2.7087312433191818E-2,0.17258883248730963]
[65,null,2,"Steuben, NY - Chemung (Elmira), NY","NY: Schuyler County (36097)","NY: Schuyler County (36097)","36097","  Schuyler  ",{"$f":"ROWS($L$2:L2028)","v":2027},{"$f":"IF(L2028=WORKSHEET!$B$1,I2028,\"\")","v":""},"","NEW YORK","Schuyler County",17,"*","*","N/A",27,2.7087312433191818E-2,8.8372093023255813E-2]
[21,null,2,"Ontario (Geneva), NY - Wayne, NY","NY: Seneca County (36099)","NY: Seneca County (36099)","36099","  Seneca  ",{"$f":"ROWS($L$2:L2029)","v":2028},{"$f":"IF(L2029=WORKSHEET!$B$1,I2029,\"\")","v":""},"","NEW YORK","Seneca County",22,{"$f":"+R2029-N2029-P2029","v":3},13,"N/A",38,2.7087312433191818E-2,9.8360655737704916E-2]
[80,null,2,"St. Lawrence, NY - Jefferson, NY","NY: St. Lawrence County (36089)","NY: St. Lawrence County (36089)","36089","  St. Lawrence  ",{"$f":"ROWS($L$2:L2030)","v":2029},{"$f":"IF(L2030=WORKSHEET!$B$1,I2030,\"\")","v":""},"","NEW YORK","St. Lawrence County",112,12,65,"N/A",189,2.7087312433191818E-2,0.1198501872659176]
[65,null,2,"Steuben, NY - Chemung (Elmira), NY","NY: Steuben County (36101)","NY: Steuben County (36101)","36101","  Steuben  ",{"$f":"ROWS($L$2:L2031)","v":2030},{"$f":"IF(L2031=WORKSHEET!$B$1,I2031,\"\")","v":""},"","NEW YORK","Steuben County",75,{"$f":"+R2031-N2031-P2031","v":10},56,"N/A",141,2.7087312433191818E-2,8.8372093023255813E-2]
[83,null,2,"Suffolk, NY - Nassau, NY","NY: Suffolk County (36103)","NY: Suffolk County (36103)","36103","  Suffolk  ",{"$f":"ROWS($L$2:L2032)","v":2031},{"$f":"IF(L2032=WORKSHEET!$B$1,I2032,\"\")","v":""},"","NEW YORK","Suffolk County",1821,77,1113,"*",3019,2.7087312433191818E-2,4.2108050847457626E-2]
[86,null,2,"Orange (Newburgh), NY - Sullivan, NY","NY: Sullivan County (36105)","NY: Sullivan County (36105)","36105","  Sullivan  ",{"$f":"ROWS($L$2:L2033)","v":2032},{"$f":"IF(L2033=WORKSHEET!$B$1,I2033,\"\")","v":""},"","NEW YORK","Sullivan County",72,15,36,"N/A",123,2.7087312433191818E-2,9.9656357388316158E-2]
[19,null,2,"Broome (Binghamton), NY - Tioga, NY","NY: Tioga County (36107)","NY: Tioga County (36107)","36107","  Tioga  ",{"$f":"ROWS($L$2:L2034)","v":2033},{"$f":"IF(L2034=WORKSHEET!$B$1,I2034,\"\")","v":""},"","NEW YORK","Tioga County",24,15,26,"N/A",65,2.7087312433191818E-2,0.20812182741116753]
[105,null,2,"Tompkins, NY - Cortland, NY","NY: Tompkins County (36109)","NY: Tompkins County (36109)","36109","  Tompkins  ",{"$f":"ROWS($L$2:L2035)","v":2034},{"$f":"IF(L2035=WORKSHEET!$B$1,I2035,\"\")","v":""},"","NEW YORK","Tompkins County",52,14,29,"*",96,2.7087312433191818E-2,0.20754716981132076]
[41,null,2,"Westchester (Yonkers), NY - Dutchess, NY","NY: Ulster County (36111)","NY: Ulster County (36111)","36111","  Ulster  ",{"$f":"ROWS($L$2:L2036)","v":2035},{"$f":"IF(L2036=WORKSHEET!$B$1,I2036,\"\")","v":""},"","NEW YORK","Ulster County",174,13,90,"*",279,2.7087312433191818E-2,6.0496380558428126E-2]
[88,null,2,"Saratoga, NY - Schenectady (Schenectady), NY","NY: Warren County (36113)","NY: Warren County (36113)","36113","  Warren  ",{"$f":"ROWS($L$2:L2037)","v":2036},{"$f":"IF(L2037=WORKSHEET!$B$1,I2037,\"\")","v":""},"","NEW YORK","Warren County",94,{"$f":"+R2037-N2037-P2037","v":9},27,"N/A",130,2.7087312433191818E-2,0.10179640718562874]
[88,null,2,"Saratoga, NY - Schenectady (Schenectady), NY","NY: Washington County (36115)","NY: Washington County (36115)","36115","  Washington  ",{"$f":"ROWS($L$2:L2038)","v":2037},{"$f":"IF(L2038=WORKSHEET!$B$1,I2038,\"\")","v":""},"","NEW YORK","Washington County",63,12,21,"N/A",96,2.7087312433191818E-2,0.10179640718562874]
[21,null,2,"Ontario (Geneva), NY - Wayne, NY","NY: Wayne County (36117)","NY: Wayne County (36117)","36117","  Wayne  ",{"$f":"ROWS($L$2:L2039)","v":2038},{"$f":"IF(L2039=WORKSHEET!$B$1,I2039,\"\")","v":""},"","NEW YORK","Wayne County",143,20,49,"*",214,2.7087312433191818E-2,9.8360655737704916E-2]
[41,null,2,"Westchester (Yonkers), NY - Dutchess, NY","NY: Westchester County (36119)","NY: Westchester County (36119)","36119","  Westchester  ",{"$f":"ROWS($L$2:L2040)","v":2039},{"$f":"IF(L2040=WORKSHEET!$B$1,I2040,\"\")","v":""},"","NEW YORK","Westchester County",1263,49,682,"*",1997,2.7087312433191818E-2,6.0496380558428126E-2]
[54,null,2,"Erie (Buffalo), NY - Monroe, NY","NY: Wyoming County (36121)","NY: Wyoming County (36121)","36121","  Wyoming  ",{"$f":"ROWS($L$2:L2041)","v":2040},{"$f":"IF(L2041=WORKSHEET!$B$1,I2041,\"\")","v":""},"","NEW YORK","Wyoming County",18,{"$f":"+R2041-N2041-P2041","v":7},18,"N/A",43,2.7087312433191818E-2,8.7658227848101261E-2]
[21,null,2,"Ontario (Geneva), NY - Wayne, NY","NY: Yates County (36123)","NY: Yates County (36123)","36123","Yates  ",{"$f":"ROWS($L$2:L2042)","v":2041},{"$f":"IF(L2042=WORKSHEET!$B$1,I2042,\"\")","v":""},"","NEW YORK","Yates County",16,"*","*","N/A",28,2.7087312433191818E-2,9.8360655737704916E-2]
[901,270,9,"Hamilton (Cincinnati), OH - Butler, OH","OH: Adams County (39001)","OH: Adams County (39001)","39001","Adams  ",{"$f":"ROWS($L$2:L2043)","v":2042},{"$f":"IF(L2043=WORKSHEET!$B$1,I2043,\"\")","v":""},"","OHIO","Adams County",34,{"$f":"+R2043-N2043-P2043","v":7},12,"N/A",53,2.6132791095279894E-2,9.9131693198263385E-2]
[292,null,9,"Allen (Lima), OH - Auglaize, OH","OH: Allen County (39003)","OH: Allen County (39003)","39003","  Allen  ",{"$f":"ROWS($L$2:L2044)","v":2043},{"$f":"IF(L2044=WORKSHEET!$B$1,I2044,\"\")","v":""},"","OHIO","Allen County",110,40,77,"*",228,2.6132791095279894E-2,0.3032258064516129]
[369,null,9,"Richland (Mansfield), OH - Ashland, OH","OH: Ashland County (39005)","OH: Ashland County (39005)","39005","  Ashland  ",{"$f":"ROWS($L$2:L2045)","v":2044},{"$f":"IF(L2045=WORKSHEET!$B$1,I2045,\"\")","v":""},"","OHIO","Ashland County",55,"*",26,"N/A",85,2.6132791095279894E-2,5.3030303030303032E-2]
[288,null,9,"Cuyahoga (Cleveland), OH - Lake, OH","OH: Ashtabula County (39007)","OH: Ashtabula County (39007)","39007","  Ashtabula  ",{"$f":"ROWS($L$2:L2046)","v":2045},{"$f":"IF(L2046=WORKSHEET!$B$1,I2046,\"\")","v":""},"","OHIO","Ashtabula County",164,24,64,"*",253,2.6132791095279894E-2,5.2418265333693599E-2]
[368,null,9,"Fairfield (Lancaster), OH - Athens, OH","OH: Athens County (39009)","OH: Athens County (39009)","39009","  Athens  ",{"$f":"ROWS($L$2:L2047)","v":2046},{"$f":"IF(L2047=WORKSHEET!$B$1,I2047,\"\")","v":""},"","OHIO","Athens County",57,{"$f":"+R2047-N2047-P2047","v":9},24,"N/A",90,2.6132791095279894E-2,0.12236286919831224]
[292,null,9,"Allen (Lima), OH - Auglaize, OH","OH: Auglaize County (39011)","OH: Auglaize County (39011)","39011","  Auglaize  ",{"$f":"ROWS($L$2:L2048)","v":2047},{"$f":"IF(L2048=WORKSHEET!$B$1,I2048,\"\")","v":""},"","OHIO","Auglaize County",25,16,34,"N/A",75,2.6132791095279894E-2,0.3032258064516129]
[24,null,9,"Belmont, OH - Monroe, OH","OH: Belmont County (39013)","OH: Belmont County (39013)","39013","  Belmont  ",{"$f":"ROWS($L$2:L2049)","v":2048},{"$f":"IF(L2049=WORKSHEET!$B$1,I2049,\"\")","v":""},"","OHIO","Belmont County",75,{"$f":"+R2049-N2049-P2049","v":7},38,"N/A",120,2.6132791095279894E-2,0.10945273631840796]
[901,270,9,"Hamilton (Cincinnati), OH - Butler, OH","OH: Brown County (39015)","OH: Brown County (39015)","39015","  Brown  ",{"$f":"ROWS($L$2:L2050)","v":2049},{"$f":"IF(L2050=WORKSHEET!$B$1,I2050,\"\")","v":""},"","OHIO","Brown County",50,{"$f":"+R2050-N2050-P2050","v":7},18,"N/A",75,2.6132791095279894E-2,9.9131693198263385E-2]
[901,270,9,"Hamilton (Cincinnati), OH - Butler, OH","OH: Butler County (39017)","OH: Butler County (39017)","39017","  Butler  ",{"$f":"ROWS($L$2:L2051)","v":2050},{"$f":"IF(L2051=WORKSHEET!$B$1,I2051,\"\")","v":""},{"$f":"IFERROR(SMALL($J$2:$J$3142,I2051),\"\")","v":""},"OHIO","Butler County",409,40,217,"*",668,2.6132791095279894E-2,9.9131693198263385E-2]
[347,null,9,"Stark (Canton), OH - Wayne, OH","OH: Carroll County (39019)","OH: Carroll County (39019)","39019","  Carroll  ",{"$f":"ROWS($L$2:L2052)","v":2051},{"$f":"IF(L2052=WORKSHEET!$B$1,I2052,\"\")","v":""},"","OHIO","Carroll County",16,{"$f":"+R2052-N2052-P2052","v":4},11,"N/A",31,2.6132791095279894E-2,0.11786600496277916]
[346,null,9,"Clark (Springfield), OH - Champaign, OH","OH: Champaign County (39021)","OH: Champaign County (39021)","39021","  Champaign  ",{"$f":"ROWS($L$2:L2053)","v":2052},{"$f":"IF(L2053=WORKSHEET!$B$1,I2053,\"\")","v":""},"","OHIO","Champaign County",29,{"$f":"+R2053-N2053-P2053","v":2},19,"N/A",50,2.6132791095279894E-2,0.14583333333333334]
[346,null,9,"Clark (Springfield), OH - Champaign, OH","OH: Clark County (39023)","OH: Clark County (39023)","39023","  Clark  ",{"$f":"ROWS($L$2:L2054)","v":2053},{"$f":"IF(L2054=WORKSHEET!$B$1,I2054,\"\")","v":""},"","OHIO","Clark County",176,33,74,"*",284,2.6132791095279894E-2,0.14583333333333334]
[901,270,9,"Hamilton (Cincinnati), OH - Butler, OH","OH: Clermont County (39025)","OH: Clermont County (39025)","39025","  Clermont  ",{"$f":"ROWS($L$2:L2055)","v":2054},{"$f":"IF(L2055=WORKSHEET!$B$1,I2055,\"\")","v":""},"","OHIO","Clermont County",188,19,121,"*",329,2.6132791095279894E-2,9.9131693198263385E-2]
[372,null,9,"Highland, OH - Clinton, OH","OH: Clinton County (39027)","OH: Clinton County (39027)","39027","  Clinton  ",{"$f":"ROWS($L$2:L2056)","v":2055},{"$f":"IF(L2056=WORKSHEET!$B$1,I2056,\"\")","v":""},"","OHIO","Clinton County",50,20,30,"*",101,2.6132791095279894E-2,0.26984126984126983]
[380,null,9,"Columbiana, OH","OH: Columbiana County (39029)","OH: Columbiana County (39029)","39029","  Columbiana  ",{"$f":"ROWS($L$2:L2057)","v":2056},{"$f":"IF(L2057=WORKSHEET!$B$1,I2057,\"\")","v":""},"","OHIO","Columbiana County",128,26,63,"*",220,2.6132791095279894E-2,0.16115702479338842]
[377,null,9,"Muskingum, OH - Guernsey, OH","OH: Coshocton County (39031)","OH: Coshocton County (39031)","39031","  Coshocton  ",{"$f":"ROWS($L$2:L2058)","v":2057},{"$f":"IF(L2058=WORKSHEET!$B$1,I2058,\"\")","v":""},"","OHIO","Coshocton County",41,{"$f":"+R2058-N2058-P2058","v":1},16,"N/A",58,2.6132791095279894E-2,0.12110726643598616]
[354,null,9,"Marion, OH - Crawford, OH","OH: Crawford County (39033)","OH: Crawford County (39033)","39033","  Crawford  ",{"$f":"ROWS($L$2:L2059)","v":2058},{"$f":"IF(L2059=WORKSHEET!$B$1,I2059,\"\")","v":""},"","OHIO","Crawford County",55,{"$f":"+R2059-N2059-P2059","v":3},33,"N/A",91,2.6132791095279894E-2,9.5419847328244281E-2]
[288,null,9,"Cuyahoga (Cleveland), OH - Lake, OH","OH: Cuyahoga County (39035)","OH: Cuyahoga County (39035)","39035","  Cuyahoga  ",{"$f":"ROWS($L$2:L2060)","v":2059},{"$f":"IF(L2060=WORKSHEET!$B$1,I2060,\"\")","v":""},"","OHIO","Cuyahoga County",3029,145,982,"*",4165,2.6132791095279894E-2,5.2418265333693599E-2]
[295,null,9,"Montgomery (Dayton), OH - Greene, OH","OH: Darke County (39037)","OH: Darke County (39037)","39037","  Darke  ",{"$f":"ROWS($L$2:L2061)","v":2060},{"$f":"IF(L2061=WORKSHEET!$B$1,I2061,\"\")","v":""},"","OHIO","Darke County",36,{"$f":"+R2061-N2061-P2061","v":8},26,"N/A",70,2.6132791095279894E-2,0.11526717557251909]
[356,null,9,"Defiance, OH - Williams, OH","OH: Defiance County (39039)","OH: Defiance County (39039)","39039","  Defiance  ",{"$f":"ROWS($L$2:L2062)","v":2061},{"$f":"IF(L2062=WORKSHEET!$B$1,I2062,\"\")","v":""},"","OHIO","Defiance County",59,{"$f":"+R2062-N2062-P2062","v":6},23,"N/A",88,2.6132791095279894E-2,0.1111111111111111]
[281,null,9,"Franklin (Columbus), OH - Delaware, OH","OH: Delaware County (39041)","OH: Delaware County (39041)","39041","  Delaware  ",{"$f":"ROWS($L$2:L2063)","v":2062},{"$f":"IF(L2063=WORKSHEET!$B$1,I2063,\"\")","v":""},"","OHIO","Delaware County",90,13,87,"*",191,2.6132791095279894E-2,7.4037993180711151E-2]
[366,null,9,"Lorain (Lorain), OH - Erie, OH","OH: Erie County (39043)","OH: Erie County (39043)","39043","  Erie  ",{"$f":"ROWS($L$2:L2064)","v":2063},{"$f":"IF(L2064=WORKSHEET!$B$1,I2064,\"\")","v":""},"","OHIO","Erie County",148,13,49,"N/A",210,2.6132791095279894E-2,8.1578947368421056E-2]
[368,null,9,"Fairfield (Lancaster), OH - Athens, OH","OH: Fairfield County (39045)","OH: Fairfield County (39045)","39045","  Fairfield  ",{"$f":"ROWS($L$2:L2065)","v":2064},{"$f":"IF(L2065=WORKSHEET!$B$1,I2065,\"\")","v":""},"","OHIO","Fairfield County",110,17,87,"N/A",214,2.6132791095279894E-2,0.12236286919831224]
[281,null,9,"Franklin (Columbus), OH - Delaware, OH","OH: Fayette County (39047)","OH: Fayette County (39047)","39047","  Fayette  ",{"$f":"ROWS($L$2:L2066)","v":2065},{"$f":"IF(L2066=WORKSHEET!$B$1,I2066,\"\")","v":""},"","OHIO","Fayette County",29,{"$f":"+R2066-N2066-P2066","v":3},11,"N/A",43,2.6132791095279894E-2,7.4037993180711151E-2]
[281,null,9,"Franklin (Columbus), OH - Delaware, OH","OH: Franklin County (39049)","OH: Franklin County (39049)","39049","  Franklin  ",{"$f":"ROWS($L$2:L2067)","v":2066},{"$f":"IF(L2067=WORKSHEET!$B$1,I2067,\"\")","v":""},"","OHIO","Franklin County",1682,126,790,"*",2603,2.6132791095279894E-2,7.4037993180711151E-2]
[903,276,9,"Lucas (Toledo), OH - Wood, OH","OH: Fulton County (39051)","OH: Fulton County (39051)","39051","  Fulton  ",{"$f":"ROWS($L$2:L2068)","v":2067},{"$f":"IF(L2068=WORKSHEET!$B$1,I2068,\"\")","v":""},"","OHIO","Fulton County",58,{"$f":"+R2068-N2068-P2068","v":7},23,"N/A",88,2.6132791095279894E-2,7.922912205567452E-2]
[283,null,9,"Jackson, OH - Gallia, OH","OH: Gallia County (39053)","OH: Gallia County (39053)","39053","  Gallia  ",{"$f":"ROWS($L$2:L2069)","v":2068},{"$f":"IF(L2069=WORKSHEET!$B$1,I2069,\"\")","v":""},"","OHIO","Gallia County",48,{"$f":"+R2069-N2069-P2069","v":8},12,"N/A",68,2.6132791095279894E-2,9.8684210526315791E-2]
[288,null,9,"Cuyahoga (Cleveland), OH - Lake, OH","OH: Geauga County (39055)","OH: Geauga County (39055)","39055","  Geauga  ",{"$f":"ROWS($L$2:L2070)","v":2069},{"$f":"IF(L2070=WORKSHEET!$B$1,I2070,\"\")","v":""},"","OHIO","Geauga County",60,{"$f":"+R2070-N2070-P2070","v":9},54,"*",123,2.6132791095279894E-2,5.2418265333693599E-2]
[295,null,9,"Montgomery (Dayton), OH - Greene, OH","OH: Greene County (39057)","OH: Greene County (39057)","39057","  Greene  ",{"$f":"ROWS($L$2:L2071)","v":2070},{"$f":"IF(L2071=WORKSHEET!$B$1,I2071,\"\")","v":""},"","OHIO","Greene County",122,24,95,"N/A",241,2.6132791095279894E-2,0.11526717557251909]
[377,null,9,"Muskingum, OH - Guernsey, OH","OH: Guernsey County (39059)","OH: Guernsey County (39059)","39059","  Guernsey  ",{"$f":"ROWS($L$2:L2072)","v":2071},{"$f":"IF(L2072=WORKSHEET!$B$1,I2072,\"\")","v":""},"","OHIO","Guernsey County",45,{"$f":"+R2072-N2072-P2072","v":6},18,"N/A",69,2.6132791095279894E-2,0.12110726643598616]
[901,270,9,"Hamilton (Cincinnati), OH - Butler, OH","OH: Hamilton County (39061)","OH: Hamilton County (39061)","39061","  Hamilton  ",{"$f":"ROWS($L$2:L2073)","v":2072},{"$f":"IF(L2073=WORKSHEET!$B$1,I2073,\"\")","v":""},"","OHIO","Hamilton County",1648,176,565,"*",2398,2.6132791095279894E-2,9.9131693198263385E-2]
[386,null,9,"Hancock, OH - Seneca, OH","OH: Hancock County (39063)","OH: Hancock County (39063)","39063","  Hancock  ",{"$f":"ROWS($L$2:L2074)","v":2073},{"$f":"IF(L2074=WORKSHEET!$B$1,I2074,\"\")","v":""},"","OHIO","Hancock County",99,{"$f":"+R2074-N2074-P2074","v":5},46,"N/A",150,2.6132791095279894E-2,7.650273224043716E-2]
[292,null,9,"Allen (Lima), OH - Auglaize, OH","OH: Hardin County (39065)","OH: Hardin County (39065)","39065","  Hardin  ",{"$f":"ROWS($L$2:L2075)","v":2074},{"$f":"IF(L2075=WORKSHEET!$B$1,I2075,\"\")","v":""},"","OHIO","Hardin County",26,12,24,"N/A",62,2.6132791095279894E-2,0.3032258064516129]
[360,null,9,"Jefferson (Steubenville), OH - Harrison, OH","OH: Harrison County (39067)","OH: Harrison County (39067)","39067","  Harrison  ",{"$f":"ROWS($L$2:L2076)","v":2075},{"$f":"IF(L2076=WORKSHEET!$B$1,I2076,\"\")","v":""},"","OHIO","Harrison County",13,"*","*","N/A",26,2.6132791095279894E-2,0.13333333333333333]
[356,null,9,"Defiance, OH - Williams, OH","OH: Henry County (39069)","OH: Henry County (39069)","39069","  Henry  ",{"$f":"ROWS($L$2:L2077)","v":2076},{"$f":"IF(L2077=WORKSHEET!$B$1,I2077,\"\")","v":""},"","OHIO","Henry County",27,{"$f":"+R2077-N2077-P2077","v":6},16,"N/A",49,2.6132791095279894E-2,0.1111111111111111]
[372,null,9,"Highland, OH - Clinton, OH","OH: Highland County (39071)","OH: Highland County (39071)","39071","  Highland  ",{"$f":"ROWS($L$2:L2078)","v":2077},{"$f":"IF(L2078=WORKSHEET!$B$1,I2078,\"\")","v":""},"","OHIO","Highland County",42,14,24,"N/A",80,2.6132791095279894E-2,0.26984126984126983]
[368,null,9,"Fairfield (Lancaster), OH - Athens, OH","OH: Hocking County (39073)","OH: Hocking County (39073)","39073","  Hocking  ",{"$f":"ROWS($L$2:L2079)","v":2078},{"$f":"IF(L2079=WORKSHEET!$B$1,I2079,\"\")","v":""},"","OHIO","Hocking County",24,{"$f":"+R2079-N2079-P2079","v":2},11,"N/A",37,2.6132791095279894E-2,0.12236286919831224]
[347,null,9,"Stark (Canton), OH - Wayne, OH","OH: Holmes County (39075)","OH: Holmes County (39075)","39075","  Holmes  ",{"$f":"ROWS($L$2:L2080)","v":2079},{"$f":"IF(L2080=WORKSHEET!$B$1,I2080,\"\")","v":""},"","OHIO","Holmes County",13,"*","*","N/A",25,2.6132791095279894E-2,0.11786600496277916]
[366,null,9,"Lorain (Lorain), OH - Erie, OH","OH: Huron County (39077)","OH: Huron County (39077)","39077","  Huron  ",{"$f":"ROWS($L$2:L2081)","v":2080},{"$f":"IF(L2081=WORKSHEET!$B$1,I2081,\"\")","v":""},"","OHIO","Huron County",85,{"$f":"+R2081-N2081-P2081","v":3},44,"N/A",132,2.6132791095279894E-2,8.1578947368421056E-2]
[283,null,9,"Jackson, OH - Gallia, OH","OH: Jackson County (39079)","OH: Jackson County (39079)","39079","  Jackson  ",{"$f":"ROWS($L$2:L2082)","v":2081},{"$f":"IF(L2082=WORKSHEET!$B$1,I2082,\"\")","v":""},"","OHIO","Jackson County",33,{"$f":"+R2082-N2082-P2082","v":3},14,"N/A",50,2.6132791095279894E-2,9.8684210526315791E-2]
[360,null,9,"Jefferson (Steubenville), OH - Harrison, OH","OH: Jefferson County (39081)","OH: Jefferson County (39081)","39081","  Jefferson  ",{"$f":"ROWS($L$2:L2083)","v":2082},{"$f":"IF(L2083=WORKSHEET!$B$1,I2083,\"\")","v":""},"","OHIO","Jefferson County",117,16,29,"*",163,2.6132791095279894E-2,0.13333333333333333]
[388,null,9,"Licking (Newark), OH - Knox, OH","OH: Knox County (39083)","OH: Knox County (39083)","39083","  Knox  ",{"$f":"ROWS($L$2:L2084)","v":2083},{"$f":"IF(L2084=WORKSHEET!$B$1,I2084,\"\")","v":""},"","OHIO","Knox County",50,{"$f":"+R2084-N2084-P2084","v":9},35,"N/A",94,2.6132791095279894E-2,0.152]
[288,null,9,"Cuyahoga (Cleveland), OH - Lake, OH","OH: Lake County (39085)","OH: Lake County (39085)","39085","  Lake  ",{"$f":"ROWS($L$2:L2085)","v":2084},{"$f":"IF(L2085=WORKSHEET!$B$1,I2085,\"\")","v":""},"","OHIO","Lake County",254,17,157,"*",433,2.6132791095279894E-2,5.2418265333693599E-2]
[980,46,9,"Lawrence, OH","OH: Lawrence County (39087)","OH: Lawrence County (39087)","39087","  Lawrence  ",{"$f":"ROWS($L$2:L2086)","v":2085},{"$f":"IF(L2086=WORKSHEET!$B$1,I2086,\"\")","v":""},"","OHIO","Lawrence County",117,{"$f":"+R2086-N2086-P2086","v":4},36,"N/A",157,2.6132791095279894E-2,8.24561403508772E-2]
[388,null,9,"Licking (Newark), OH - Knox, OH","OH: Licking County (39089)","OH: Licking County (39089)","39089","  Licking  ",{"$f":"ROWS($L$2:L2087)","v":2086},{"$f":"IF(L2087=WORKSHEET!$B$1,I2087,\"\")","v":""},"","OHIO","Licking County",162,29,80,"*",272,2.6132791095279894E-2,0.152]
[398,null,9,"Logan, OH","OH: Logan County (39091)","OH: Logan County (39091)","39091","  Logan  ",{"$f":"ROWS($L$2:L2088)","v":2087},{"$f":"IF(L2088=WORKSHEET!$B$1,I2088,\"\")","v":""},"","OHIO","Logan County",49,11,35,"*",96,2.6132791095279894E-2,0.18333333333333332]
[366,null,9,"Lorain (Lorain), OH - Erie, OH","OH: Lorain County (39093)","OH: Lorain County (39093)","39093","  Lorain  ",{"$f":"ROWS($L$2:L2089)","v":2088},{"$f":"IF(L2089=WORKSHEET!$B$1,I2089,\"\")","v":""},"","OHIO","Lorain County",378,40,204,"*",623,2.6132791095279894E-2,8.1578947368421056E-2]
[903,276,9,"Lucas (Toledo), OH - Wood, OH","OH: Lucas County (39095)","OH: Lucas County (39095)","39095","  Lucas  ",{"$f":"ROWS($L$2:L2090)","v":2089},{"$f":"IF(L2090=WORKSHEET!$B$1,I2090,\"\")","v":""},"","OHIO","Lucas County",863,56,298,"*",1225,2.6132791095279894E-2,7.922912205567452E-2]
[281,null,9,"Franklin (Columbus), OH - Delaware, OH","OH: Madison County (39097)","OH: Madison County (39097)","39097","  Madison  ",{"$f":"ROWS($L$2:L2091)","v":2090},{"$f":"IF(L2091=WORKSHEET!$B$1,I2091,\"\")","v":""},"","OHIO","Madison County",36,{"$f":"+R2091-N2091-P2091","v":4},26,"N/A",66,2.6132791095279894E-2,7.4037993180711151E-2]
[345,null,9,"Mahoning (Youngstown), OH - Trumbull, OH","OH: Mahoning County (39099)","OH: Mahoning County (39099)","39099","  Mahoning  ",{"$f":"ROWS($L$2:L2092)","v":2091},{"$f":"IF(L2092=WORKSHEET!$B$1,I2092,\"\")","v":""},"","OHIO","Mahoning County",459,49,142,"*",654,2.6132791095279894E-2,8.800773694390715E-2]
[354,null,9,"Marion, OH - Crawford, OH","OH: Marion County (39101)","OH: Marion County (39101)","39101","  Marion  ",{"$f":"ROWS($L$2:L2093)","v":2092},{"$f":"IF(L2093=WORKSHEET!$B$1,I2093,\"\")","v":""},"","OHIO","Marion County",95,{"$f":"+R2093-N2093-P2093","v":6},42,"N/A",143,2.6132791095279894E-2,9.5419847328244281E-2]
[352,null,9,"Summit (Akron), OH - Portage, OH","OH: Medina County (39103)","OH: Medina County (39103)","39103","  Medina  ",{"$f":"ROWS($L$2:L2094)","v":2093},{"$f":"IF(L2094=WORKSHEET!$B$1,I2094,\"\")","v":""},"","OHIO","Medina County",116,19,98,"*",234,2.6132791095279894E-2,0.10078878177037687]
[283,null,9,"Jackson, OH - Gallia, OH","OH: Meigs County (39105)","OH: Meigs County (39105)","39105","  Meigs  ",{"$f":"ROWS($L$2:L2095)","v":2094},{"$f":"IF(L2095=WORKSHEET!$B$1,I2095,\"\")","v":""},"","OHIO","Meigs County",25,"*","*","N/A",36,2.6132791095279894E-2,9.8684210526315791E-2]
[292,null,9,"Allen (Lima), OH - Auglaize, OH","OH: Mercer County (39107)","OH: Mercer County (39107)","39107","  Mercer  ",{"$f":"ROWS($L$2:L2096)","v":2095},{"$f":"IF(L2096=WORKSHEET!$B$1,I2096,\"\")","v":""},"","OHIO","Mercer County",17,14,27,"N/A",58,2.6132791095279894E-2,0.3032258064516129]
[376,null,9,"Miami (Piqua), OH - Shelby, OH","OH: Miami County (39109)","OH: Miami County (39109)","39109","  Miami  ",{"$f":"ROWS($L$2:L2097)","v":2096},{"$f":"IF(L2097=WORKSHEET!$B$1,I2097,\"\")","v":""},"","OHIO","Miami County",84,{"$f":"+R2097-N2097-P2097","v":7},63,"N/A",154,2.6132791095279894E-2,0.12142857142857143]
[24,null,9,"Belmont, OH - Monroe, OH","OH: Monroe County (39111)","OH: Monroe County (39111)","39111","  Monroe  ",{"$f":"ROWS($L$2:L2098)","v":2097},{"$f":"IF(L2098=WORKSHEET!$B$1,I2098,\"\")","v":""},"","OHIO","Monroe County",11,{"$f":"+R2098-N2098-P2098","v":1},12,"N/A",24,2.6132791095279894E-2,0.10945273631840796]
[295,null,9,"Montgomery (Dayton), OH - Greene, OH","OH: Montgomery County (39113)","OH: Montgomery County (39113)","39113","  Montgomery  ",{"$f":"ROWS($L$2:L2099)","v":2098},{"$f":"IF(L2099=WORKSHEET!$B$1,I2099,\"\")","v":""},"","OHIO","Montgomery County",950,107,382,"*",1443,2.6132791095279894E-2,0.11526717557251909]
[377,null,9,"Muskingum, OH - Guernsey, OH","OH: Morgan County (39115)","OH: Morgan County (39115)","39115","  Morgan  ",{"$f":"ROWS($L$2:L2100)","v":2099},{"$f":"IF(L2100=WORKSHEET!$B$1,I2100,\"\")","v":""},"","OHIO","Morgan County","*","*","*","N/A",19,2.6132791095279894E-2,0.12110726643598616]
[354,null,9,"Marion, OH - Crawford, OH","OH: Morrow County (39117)","OH: Morrow County (39117)","39117","  Morrow  ",{"$f":"ROWS($L$2:L2101)","v":2100},{"$f":"IF(L2101=WORKSHEET!$B$1,I2101,\"\")","v":""},"","OHIO","Morrow County",29,{"$f":"+R2101-N2101-P2101","v":5},20,"N/A",54,2.6132791095279894E-2,9.5419847328244281E-2]
[377,null,9,"Muskingum, OH - Guernsey, OH","OH: Muskingum County (39119)","OH: Muskingum County (39119)","39119","  Muskingum  ",{"$f":"ROWS($L$2:L2102)","v":2101},{"$f":"IF(L2102=WORKSHEET!$B$1,I2102,\"\")","v":""},"","OHIO","Muskingum County",110,16,45,"N/A",171,2.6132791095279894E-2,0.12110726643598616]
[377,null,9,"Muskingum, OH - Guernsey, OH","OH: Noble County (39121)","OH: Noble County (39121)","39121","  Noble  ",{"$f":"ROWS($L$2:L2103)","v":2102},{"$f":"IF(L2103=WORKSHEET!$B$1,I2103,\"\")","v":""},"","OHIO","Noble County","*","N/A","*","N/A",17,2.6132791095279894E-2,0.12110726643598616]
[903,276,9,"Lucas (Toledo), OH - Wood, OH","OH: Ottawa County (39123)","OH: Ottawa County (39123)","39123","  Ottawa  ",{"$f":"ROWS($L$2:L2104)","v":2103},{"$f":"IF(L2104=WORKSHEET!$B$1,I2104,\"\")","v":""},"","OHIO","Ottawa County",71,{"$f":"+R2104-N2104-P2104","v":10},27,"N/A",108,2.6132791095279894E-2,7.922912205567452E-2]
[356,null,9,"Defiance, OH - Williams, OH","OH: Paulding County (39125)","OH: Paulding County (39125)","39125","  Paulding  ",{"$f":"ROWS($L$2:L2105)","v":2104},{"$f":"IF(L2105=WORKSHEET!$B$1,I2105,\"\")","v":""},"","OHIO","Paulding County",19,{"$f":"+R2105-N2105-P2105","v":1},19,"N/A",39,2.6132791095279894E-2,0.1111111111111111]
[377,null,9,"Muskingum, OH - Guernsey, OH","OH: Perry County (39127)","OH: Perry County (39127)","39127","  Perry  ",{"$f":"ROWS($L$2:L2106)","v":2105},{"$f":"IF(L2106=WORKSHEET!$B$1,I2106,\"\")","v":""},"","OHIO","Perry County",39,{"$f":"+R2106-N2106-P2106","v":10},29,"*",78,2.6132791095279894E-2,0.12110726643598616]
[281,null,9,"Franklin (Columbus), OH - Delaware, OH","OH: Pickaway County (39129)","OH: Pickaway County (39129)","39129","  Pickaway  ",{"$f":"ROWS($L$2:L2107)","v":2106},{"$f":"IF(L2107=WORKSHEET!$B$1,I2107,\"\")","v":""},"","OHIO","Pickaway County",64,{"$f":"+R2107-N2107-P2107","v":7},29,"*",100,2.6132791095279894E-2,7.4037993180711151E-2]
[916,337,9,"Scioto, OH - Ross, OH","OH: Pike County (39131)","OH: Pike County (39131)","39131","  Pike  ",{"$f":"ROWS($L$2:L2108)","v":2107},{"$f":"IF(L2108=WORKSHEET!$B$1,I2108,\"\")","v":""},"","OHIO","Pike County",34,{"$f":"+R2108-N2108-P2108","v":2},20,"N/A",56,2.6132791095279894E-2,9.1240875912408759E-2]
[352,null,9,"Summit (Akron), OH - Portage, OH","OH: Portage County (39133)","OH: Portage County (39133)","39133","  Portage  ",{"$f":"ROWS($L$2:L2109)","v":2108},{"$f":"IF(L2109=WORKSHEET!$B$1,I2109,\"\")","v":""},"","OHIO","Portage County",156,15,88,"N/A",259,2.6132791095279894E-2,0.10078878177037687]
[295,null,9,"Montgomery (Dayton), OH - Greene, OH","OH: Preble County (39135)","OH: Preble County (39135)","39135","  Preble  ",{"$f":"ROWS($L$2:L2110)","v":2109},{"$f":"IF(L2110=WORKSHEET!$B$1,I2110,\"\")","v":""},"","OHIO","Preble County",51,12,30,"N/A",93,2.6132791095279894E-2,0.11526717557251909]
[292,null,9,"Allen (Lima), OH - Auglaize, OH","OH: Putnam County (39137)","OH: Putnam County (39137)","39137","  Putnam  ",{"$f":"ROWS($L$2:L2111)","v":2110},{"$f":"IF(L2111=WORKSHEET!$B$1,I2111,\"\")","v":""},"","OHIO","Putnam County",25,{"$f":"+R2111-N2111-P2111","v":7},34,"N/A",66,2.6132791095279894E-2,0.3032258064516129]
[369,null,9,"Richland (Mansfield), OH - Ashland, OH","OH: Richland County (39139)","OH: Richland County (39139)","39139","  Richland  ",{"$f":"ROWS($L$2:L2112)","v":2111},{"$f":"IF(L2112=WORKSHEET!$B$1,I2112,\"\")","v":""},"","OHIO","Richland County",195,{"$f":"+R2112-N2112-P2112","v":10},83,"N/A",288,2.6132791095279894E-2,5.3030303030303032E-2]
[916,337,9,"Scioto, OH - Ross, OH","OH: Ross County (39141)","OH: Ross County (39141)","39141","  Ross  ",{"$f":"ROWS($L$2:L2113)","v":2112},{"$f":"IF(L2113=WORKSHEET!$B$1,I2113,\"\")","v":""},"","OHIO","Ross County",85,{"$f":"+R2113-N2113-P2113","v":8},42,"N/A",135,2.6132791095279894E-2,9.1240875912408759E-2]
[366,null,9,"Lorain (Lorain), OH - Erie, OH","OH: Sandusky County (39143)","OH: Sandusky County (39143)","39143","  Sandusky  ",{"$f":"ROWS($L$2:L2114)","v":2113},{"$f":"IF(L2114=WORKSHEET!$B$1,I2114,\"\")","v":""},"","OHIO","Sandusky County",87,{"$f":"+R2114-N2114-P2114","v":6},29,"N/A",122,2.6132791095279894E-2,8.1578947368421056E-2]
[916,337,9,"Scioto, OH - Ross, OH","OH: Scioto County (39145)","OH: Scioto County (39145)","39145","  Scioto  ",{"$f":"ROWS($L$2:L2115)","v":2114},{"$f":"IF(L2115=WORKSHEET!$B$1,I2115,\"\")","v":""},{"$f":"IFERROR(SMALL($J$2:$J$3142,I2115),\"\")","v":""},"OHIO","Scioto County",113,13,36,"*",163,2.6132791095279894E-2,9.1240875912408759E-2]
[386,null,9,"Hancock, OH - Seneca, OH","OH: Seneca County (39147)","OH: Seneca County (39147)","39147","  Seneca  ",{"$f":"ROWS($L$2:L2116)","v":2115},{"$f":"IF(L2116=WORKSHEET!$B$1,I2116,\"\")","v":""},"","OHIO","Seneca County",70,{"$f":"+R2116-N2116-P2116","v":9},33,"N/A",112,2.6132791095279894E-2,7.650273224043716E-2]
[376,null,9,"Miami (Piqua), OH - Shelby, OH","OH: Shelby County (39149)","OH: Shelby County (39149)","39149","  Shelby  ",{"$f":"ROWS($L$2:L2117)","v":2116},{"$f":"IF(L2117=WORKSHEET!$B$1,I2117,\"\")","v":""},"","OHIO","Shelby County",39,{"$f":"+R2117-N2117-P2117","v":12},27,"*",78,2.6132791095279894E-2,0.12142857142857143]
[347,null,9,"Stark (Canton), OH - Wayne, OH","OH: Stark County (39151)","OH: Stark County (39151)","39151","  Stark  ",{"$f":"ROWS($L$2:L2118)","v":2117},{"$f":"IF(L2118=WORKSHEET!$B$1,I2118,\"\")","v":""},"","OHIO","Stark County",475,59,200,"*",736,2.6132791095279894E-2,0.11786600496277916]
[352,null,9,"Summit (Akron), OH - Portage, OH","OH: Summit County (39153)","OH: Summit County (39153)","39153","  Summit  ",{"$f":"ROWS($L$2:L2119)","v":2118},{"$f":"IF(L2119=WORKSHEET!$B$1,I2119,\"\")","v":""},"","OHIO","Summit County",754,81,324,"*",1164,2.6132791095279894E-2,0.10078878177037687]
[345,null,9,"Mahoning (Youngstown), OH - Trumbull, OH","OH: Trumbull County (39155)","OH: Trumbull County (39155)","39155","  Trumbull  ",{"$f":"ROWS($L$2:L2120)","v":2119},{"$f":"IF(L2120=WORKSHEET!$B$1,I2120,\"\")","v":""},"","OHIO","Trumbull County",345,34,124,"*",504,2.6132791095279894E-2,8.800773694390715E-2]
[347,null,9,"Stark (Canton), OH - Wayne, OH","OH: Tuscarawas County (39157)","OH: Tuscarawas County (39157)","39157","  Tuscarawas  ",{"$f":"ROWS($L$2:L2121)","v":2120},{"$f":"IF(L2121=WORKSHEET!$B$1,I2121,\"\")","v":""},"","OHIO","Tuscarawas County",105,21,49,"N/A",175,2.6132791095279894E-2,0.11786600496277916]
[354,null,9,"Marion, OH - Crawford, OH","OH: Union County (39159)","OH: Union County (39159)","39159","  Union  ",{"$f":"ROWS($L$2:L2122)","v":2121},{"$f":"IF(L2122=WORKSHEET!$B$1,I2122,\"\")","v":""},"","OHIO","Union County",28,{"$f":"+R2122-N2122-P2122","v":5},20,"N/A",53,2.6132791095279894E-2,9.5419847328244281E-2]
[292,null,9,"Allen (Lima), OH - Auglaize, OH","OH: Van Wert County (39161)","OH: Van Wert County (39161)","39161","  Van Wert  ",{"$f":"ROWS($L$2:L2123)","v":2122},{"$f":"IF(L2123=WORKSHEET!$B$1,I2123,\"\")","v":""},"","OHIO","Van Wert County",13,{"$f":"+R2123-N2123-P2123","v":5},20,"N/A",38,2.6132791095279894E-2,0.3032258064516129]
[368,null,9,"Fairfield (Lancaster), OH - Athens, OH","OH: Vinton County (39163)","OH: Vinton County (39163)","39163","  Vinton  ",{"$f":"ROWS($L$2:L2124)","v":2123},{"$f":"IF(L2124=WORKSHEET!$B$1,I2124,\"\")","v":""},"","OHIO","Vinton County",17,"*","*","*",25,2.6132791095279894E-2,0.12236286919831224]
[901,270,9,"Hamilton (Cincinnati), OH - Butler, OH","OH: Warren County (39165)","OH: Warren County (39165)","39165","  Warren  ",{"$f":"ROWS($L$2:L2125)","v":2124},{"$f":"IF(L2125=WORKSHEET!$B$1,I2125,\"\")","v":""},"","OHIO","Warren County",147,21,102,"*",271,2.6132791095279894E-2,9.9131693198263385E-2]
[34,null,9,"Washington, OH","OH: Washington County (39167)","OH: Washington County (39167)","39167","  Washington  ",{"$f":"ROWS($L$2:L2126)","v":2125},{"$f":"IF(L2126=WORKSHEET!$B$1,I2126,\"\")","v":""},"","OHIO","Washington County",63,{"$f":"+R2126-N2126-P2126","v":10},37,"N/A",110,2.6132791095279894E-2,0.164874551971326]
[347,null,9,"Stark (Canton), OH - Wayne, OH","OH: Wayne County (39169)","OH: Wayne County (39169)","39169","  Wayne  ",{"$f":"ROWS($L$2:L2127)","v":2126},{"$f":"IF(L2127=WORKSHEET!$B$1,I2127,\"\")","v":""},"","OHIO","Wayne County",102,{"$f":"+R2127-N2127-P2127","v":9},74,"N/A",185,2.6132791095279894E-2,0.11786600496277916]
[356,null,9,"Defiance, OH - Williams, OH","OH: Williams County (39171)","OH: Williams County (39171)","39171","  Williams  ",{"$f":"ROWS($L$2:L2128)","v":2127},{"$f":"IF(L2128=WORKSHEET!$B$1,I2128,\"\")","v":""},"","OHIO","Williams County",31,{"$f":"+R2128-N2128-P2128","v":6},24,"*",61,2.6132791095279894E-2,0.1111111111111111]
[903,276,9,"Lucas (Toledo), OH - Wood, OH","OH: Wood County (39173)","OH: Wood County (39173)","39173","  Wood  ",{"$f":"ROWS($L$2:L2129)","v":2128},{"$f":"IF(L2129=WORKSHEET!$B$1,I2129,\"\")","v":""},"","OHIO","Wood County",142,21,80,"N/A",243,2.6132791095279894E-2,7.922912205567452E-2]
[354,null,9,"Marion, OH - Crawford, OH","OH: Wyandot County (39175)","OH: Wyandot County (39175)","39175","  Wyandot  ",{"$f":"ROWS($L$2:L2130)","v":2129},{"$f":"IF(L2130=WORKSHEET!$B$1,I2130,\"\")","v":""},"","OHIO","Wyandot County",30,"*","*","N/A",45,2.6132791095279894E-2,9.5419847328244281E-2]
[445,null,13,"Muskogee, OK - Wagoner, OK","OK: Adair County (40001)","OK: Adair County (40001)","40001","Adair  ",{"$f":"ROWS($L$2:L2131)","v":2130},{"$f":"IF(L2131=WORKSHEET!$B$1,I2131,\"\")","v":""},"","OKLAHOMA","Adair County",79,"*","*","N/A",89,3.0345406699707339E-2,8.2159624413145546E-2]
[429,null,13,"Garfield (Enid), OK - Kingfisher, OK","OK: Alfalfa County (40003)","OK: Alfalfa County (40003)","40003","  Alfalfa  ",{"$f":"ROWS($L$2:L2132)","v":2131},{"$f":"IF(L2132=WORKSHEET!$B$1,I2132,\"\")","v":""},"","OKLAHOMA","Alfalfa County","N/A","*","*","N/A","*",3.0345406699707339E-2,0.23966942148760331]
[436,null,13,"Bryan, OK - Atoka, OK","OK: Atoka County (40005)","OK: Atoka County (40005)","40005","  Atoka  ",{"$f":"ROWS($L$2:L2133)","v":2132},{"$f":"IF(L2133=WORKSHEET!$B$1,I2133,\"\")","v":""},"","OKLAHOMA","Atoka County",17,"*","*","N/A",22,3.0345406699707339E-2,6.0897435897435896E-2]
[535,null,13,"Beaver, OK","OK: Beaver County (40007)","OK: Beaver County (40007)","40007","  Beaver  ",{"$f":"ROWS($L$2:L2134)","v":2133},{"$f":"IF(L2134=WORKSHEET!$B$1,I2134,\"\")","v":""},"","OKLAHOMA","Beaver County","*","N/A","*","N/A","*",3.0345406699707339E-2,0]
[440,null,13,"Beckham, OK - Roger Mills, OK","OK: Beckham County (40009)","OK: Beckham County (40009)","40009","  Beckham  ",{"$f":"ROWS($L$2:L2135)","v":2134},{"$f":"IF(L2135=WORKSHEET!$B$1,I2135,\"\")","v":""},"","OKLAHOMA","Beckham County",15,{"$f":"+R2135-N2135-P2135","v":3},12,"*",30,3.0345406699707339E-2,0.15]
[429,null,13,"Garfield (Enid), OK - Kingfisher, OK","OK: Blaine County (40011)","OK: Blaine County (40011)","40011","  Blaine  ",{"$f":"ROWS($L$2:L2136)","v":2135},{"$f":"IF(L2136=WORKSHEET!$B$1,I2136,\"\")","v":""},"","OKLAHOMA","Blaine County",15,"*","*","N/A",28,3.0345406699707339E-2,0.23966942148760331]
[436,null,13,"Bryan, OK - Atoka, OK","OK: Bryan County (40013)","OK: Bryan County (40013)","40013","  Bryan  ",{"$f":"ROWS($L$2:L2137)","v":2136},{"$f":"IF(L2137=WORKSHEET!$B$1,I2137,\"\")","v":""},"","OKLAHOMA","Bryan County",62,{"$f":"+R2137-N2137-P2137","v":5},15,"*",82,3.0345406699707339E-2,6.0897435897435896E-2]
[476,null,13,"Grady, OK - Caddo, OK","OK: Caddo County (40015)","OK: Caddo County (40015)","40015","  Caddo  ",{"$f":"ROWS($L$2:L2138)","v":2137},{"$f":"IF(L2138=WORKSHEET!$B$1,I2138,\"\")","v":""},"","OKLAHOMA","Caddo County",63,{"$f":"+R2138-N2138-P2138","v":7},18,"N/A",88,3.0345406699707339E-2,8.4033613445378158E-2]
[417,null,13,"Oklahoma (Oklahoma City), OK - Canadian, OK","OK: Canadian County (40017)","OK: Canadian County (40017)","40017","  Canadian  ",{"$f":"ROWS($L$2:L2139)","v":2138},{"$f":"IF(L2139=WORKSHEET!$B$1,I2139,\"\")","v":""},"","OKLAHOMA","Canadian County",88,14,64,"*",167,3.0345406699707339E-2,0.12625923438549361]
[474,null,13,"Carter, OK - Marshall, OK","OK: Carter County (40019)","OK: Carter County (40019)","40019","  Carter  ",{"$f":"ROWS($L$2:L2140)","v":2139},{"$f":"IF(L2140=WORKSHEET!$B$1,I2140,\"\")","v":""},"","OKLAHOMA","Carter County",65,{"$f":"+R2140-N2140-P2140","v":8},24,"N/A",97,3.0345406699707339E-2,0.11023622047244094]
[445,null,13,"Muskogee, OK - Wagoner, OK","OK: Cherokee County (40021)","OK: Cherokee County (40021)","40021","  Cherokee  ",{"$f":"ROWS($L$2:L2141)","v":2140},{"$f":"IF(L2141=WORKSHEET!$B$1,I2141,\"\")","v":""},"","OKLAHOMA","Cherokee County",82,{"$f":"+R2141-N2141-P2141","v":5},30,"N/A",117,3.0345406699707339E-2,8.2159624413145546E-2]
[438,null,13,"Choctaw, OK","OK: Choctaw County (40023)","OK: Choctaw County (40023)","40023","  Choctaw  ",{"$f":"ROWS($L$2:L2142)","v":2141},{"$f":"IF(L2142=WORKSHEET!$B$1,I2142,\"\")","v":""},"","OKLAHOMA","Choctaw County",19,{"$f":"+R2142-N2142-P2142","v":2},13,"N/A",34,3.0345406699707339E-2,0.1206896551724138]
[951,587,13,"Texas, OK - Cimarron, OK","OK: Cimarron County (40025)","OK: Cimarron County (40025)","40025","  Cimarron  ",{"$f":"ROWS($L$2:L2143)","v":2142},{"$f":"IF(L2143=WORKSHEET!$B$1,I2143,\"\")","v":""},"","OKLAHOMA","Cimarron County","*","*","N/A","N/A","*",3.0345406699707339E-2,0.36956521739130432]
[430,null,13,"Cleveland (Norman), OK - McClain, OK","OK: Cleveland County (40027)","OK: Cleveland County (40027)","40027","  Cleveland  ",{"$f":"ROWS($L$2:L2144)","v":2143},{"$f":"IF(L2144=WORKSHEET!$B$1,I2144,\"\")","v":""},"","OKLAHOMA","Cleveland County",161,33,134,"N/A",328,3.0345406699707339E-2,0.17857142857142858]
[478,null,13,"Pontotoc, OK - Seminole, OK","OK: Coal County (40029)","OK: Coal County (40029)","40029","  Coal  ",{"$f":"ROWS($L$2:L2145)","v":2144},{"$f":"IF(L2145=WORKSHEET!$B$1,I2145,\"\")","v":""},"","OKLAHOMA","Coal County","*","*","*","N/A","*",3.0345406699707339E-2,0.13836477987421383]
[493,null,13,"Comanche (Lawton), OK - Kiowa, OK","OK: Comanche County (40031)","OK: Comanche County (40031)","40031","  Comanche  ",{"$f":"ROWS($L$2:L2146)","v":2145},{"$f":"IF(L2146=WORKSHEET!$B$1,I2146,\"\")","v":""},"","OKLAHOMA","Comanche County",172,{"$f":"+R2146-N2146-P2146","v":11},31,"*",214,3.0345406699707339E-2,5.7522123893805309E-2]
[493,null,13,"Comanche (Lawton), OK - Kiowa, OK","OK: Cotton County (40033)","OK: Cotton County (40033)","40033","  Cotton  ",{"$f":"ROWS($L$2:L2147)","v":2146},{"$f":"IF(L2147=WORKSHEET!$B$1,I2147,\"\")","v":""},"","OKLAHOMA","Cotton County",11,"N/A","N/A","N/A",11,3.0345406699707339E-2,5.7522123893805309E-2]
[414,null,13,"Tulsa (Tulsa), OK - Rogers, OK","OK: Craig County (40035)","OK: Craig County (40035)","40035","  Craig  ",{"$f":"ROWS($L$2:L2148)","v":2147},{"$f":"IF(L2148=WORKSHEET!$B$1,I2148,\"\")","v":""},"","OKLAHOMA","Craig County",23,"*","*","N/A",32,3.0345406699707339E-2,0.125]
[414,null,13,"Tulsa (Tulsa), OK - Rogers, OK","OK: Creek County (40037)","OK: Creek County (40037)","40037","  Creek  ",{"$f":"ROWS($L$2:L2149)","v":2148},{"$f":"IF(L2149=WORKSHEET!$B$1,I2149,\"\")","v":""},"","OKLAHOMA","Creek County",72,20,40,"*",135,3.0345406699707339E-2,0.125]
[475,null,13,"Custer, OK - Washita, OK","OK: Custer County (40039)","OK: Custer County (40039)","40039","  Custer  ",{"$f":"ROWS($L$2:L2150)","v":2149},{"$f":"IF(L2150=WORKSHEET!$B$1,I2150,\"\")","v":""},"","OKLAHOMA","Custer County",30,{"$f":"+R2150-N2150-P2150","v":8},20,"*",58,3.0345406699707339E-2,0.2]
[932,446,13,"Delaware, OK","OK: Delaware County (40041)","OK: Delaware County (40041)","40041","  Delaware  ",{"$f":"ROWS($L$2:L2151)","v":2150},{"$f":"IF(L2151=WORKSHEET!$B$1,I2151,\"\")","v":""},"","OKLAHOMA","Delaware County",63,{"$f":"+R2151-N2151-P2151","v":10},13,"N/A",86,3.0345406699707339E-2,0.15917602996254682]
[469,null,13,"Woodward, OK - Dewey, OK","OK: Dewey County (40043)","OK: Dewey County (40043)","40043","  Dewey  ",{"$f":"ROWS($L$2:L2152)","v":2151},{"$f":"IF(L2152=WORKSHEET!$B$1,I2152,\"\")","v":""},"","OKLAHOMA","Dewey County","*","*","*","N/A","*",3.0345406699707339E-2,0.13333333333333333]
[469,null,13,"Woodward, OK - Dewey, OK","OK: Ellis County (40045)","OK: Ellis County (40045)","40045","  Ellis  ",{"$f":"ROWS($L$2:L2153)","v":2152},{"$f":"IF(L2153=WORKSHEET!$B$1,I2153,\"\")","v":""},"","OKLAHOMA","Ellis County","*","N/A","*","N/A","*",3.0345406699707339E-2,0.13333333333333333]
[429,null,13,"Garfield (Enid), OK - Kingfisher, OK","OK: Garfield County (40047)","OK: Garfield County (40047)","40047","  Garfield  ",{"$f":"ROWS($L$2:L2154)","v":2153},{"$f":"IF(L2154=WORKSHEET!$B$1,I2154,\"\")","v":""},"","OKLAHOMA","Garfield County",49,11,26,"N/A",86,3.0345406699707339E-2,0.23966942148760331]
[430,null,13,"Cleveland (Norman), OK - McClain, OK","OK: Garvin County (40049)","OK: Garvin County (40049)","40049","  Garvin  ",{"$f":"ROWS($L$2:L2155)","v":2154},{"$f":"IF(L2155=WORKSHEET!$B$1,I2155,\"\")","v":""},"","OKLAHOMA","Garvin County",25,{"$f":"+R2155-N2155-P2155","v":4},20,"N/A",49,3.0345406699707339E-2,0.17857142857142858]
[476,null,13,"Grady, OK - Caddo, OK","OK: Grady County (40051)","OK: Grady County (40051)","40051","  Grady  ",{"$f":"ROWS($L$2:L2156)","v":2155},{"$f":"IF(L2156=WORKSHEET!$B$1,I2156,\"\")","v":""},"","OKLAHOMA","Grady County",46,{"$f":"+R2156-N2156-P2156","v":3},30,"N/A",79,3.0345406699707339E-2,8.4033613445378158E-2]
[429,null,13,"Garfield (Enid), OK - Kingfisher, OK","OK: Grant County (40053)","OK: Grant County (40053)","40053","  Grant  ",{"$f":"ROWS($L$2:L2157)","v":2156},{"$f":"IF(L2157=WORKSHEET!$B$1,I2157,\"\")","v":""},"","OKLAHOMA","Grant County","*","*","*","N/A","*",3.0345406699707339E-2,0.23966942148760331]
[483,null,13,"Jackson, OK - Greer, OK","OK: Greer County (40055)","OK: Greer County (40055)","40055","  Greer  ",{"$f":"ROWS($L$2:L2158)","v":2157},{"$f":"IF(L2158=WORKSHEET!$B$1,I2158,\"\")","v":""},"","OKLAHOMA","Greer County","*","N/A","*","N/A",11,3.0345406699707339E-2,5.5555555555555552E-2]
[483,null,13,"Jackson, OK - Greer, OK","OK: Harmon County (40057)","OK: Harmon County (40057)","40057","  Harmon  ",{"$f":"ROWS($L$2:L2159)","v":2158},{"$f":"IF(L2159=WORKSHEET!$B$1,I2159,\"\")","v":""},"","OKLAHOMA","Harmon County","*","N/A","N/A","N/A","*",3.0345406699707339E-2,5.5555555555555552E-2]
[469,null,13,"Woodward, OK - Dewey, OK","OK: Harper County (40059)","OK: Harper County (40059)","40059","  Harper  ",{"$f":"ROWS($L$2:L2160)","v":2159},{"$f":"IF(L2160=WORKSHEET!$B$1,I2160,\"\")","v":""},"","OKLAHOMA","Harper County","*","N/A","*","N/A","*",3.0345406699707339E-2,0.13333333333333333]
[927,421,13,"Le Flore, OK - Sequoyah, OK","OK: Haskell County (40061)","OK: Haskell County (40061)","40061","  Haskell  ",{"$f":"ROWS($L$2:L2161)","v":2160},{"$f":"IF(L2161=WORKSHEET!$B$1,I2161,\"\")","v":""},"","OKLAHOMA","Haskell County","*","*","*","N/A",21,3.0345406699707339E-2,0.19346733668341701]
[478,null,13,"Pontotoc, OK - Seminole, OK","OK: Hughes County (40063)","OK: Hughes County (40063)","40063","  Hughes  ",{"$f":"ROWS($L$2:L2162)","v":2161},{"$f":"IF(L2162=WORKSHEET!$B$1,I2162,\"\")","v":""},"","OKLAHOMA","Hughes County",30,"*","*","N/A",41,3.0345406699707339E-2,0.13836477987421383]
[483,null,13,"Jackson, OK - Greer, OK","OK: Jackson County (40065)","OK: Jackson County (40065)","40065","  Jackson  ",{"$f":"ROWS($L$2:L2163)","v":2162},{"$f":"IF(L2163=WORKSHEET!$B$1,I2163,\"\")","v":""},"","OKLAHOMA","Jackson County",41,"*","*","N/A",54,3.0345406699707339E-2,5.5555555555555552E-2]
[497,null,13,"Stephens, OK - Jefferson, OK","OK: Jefferson County (40067)","OK: Jefferson County (40067)","40067","  Jefferson  ",{"$f":"ROWS($L$2:L2164)","v":2163},{"$f":"IF(L2164=WORKSHEET!$B$1,I2164,\"\")","v":""},"","OKLAHOMA","Jefferson County","*","N/A","*","N/A",13,3.0345406699707339E-2,0.17241379310344829]
[474,null,13,"Carter, OK - Marshall, OK","OK: Johnston County (40069)","OK: Johnston County (40069)","40069","  Johnston  ",{"$f":"ROWS($L$2:L2165)","v":2164},{"$f":"IF(L2165=WORKSHEET!$B$1,I2165,\"\")","v":""},"","OKLAHOMA","Johnston County",15,"*","*","*",29,3.0345406699707339E-2,0.11023622047244094]
[515,null,13,"Kay (Ponca City), OK - Osage, OK","OK: Kay County (40071)","OK: Kay County (40071)","40071","  Kay  ",{"$f":"ROWS($L$2:L2166)","v":2165},{"$f":"IF(L2166=WORKSHEET!$B$1,I2166,\"\")","v":""},"","OKLAHOMA","Kay County",60,{"$f":"+R2166-N2166-P2166","v":9},31,"N/A",100,3.0345406699707339E-2,0.125]
[429,null,13,"Garfield (Enid), OK - Kingfisher, OK","OK: Kingfisher County (40073)","OK: Kingfisher County (40073)","40073","  Kingfisher  ",{"$f":"ROWS($L$2:L2167)","v":2166},{"$f":"IF(L2167=WORKSHEET!$B$1,I2167,\"\")","v":""},"","OKLAHOMA","Kingfisher County",18,"*","*","N/A",28,3.0345406699707339E-2,0.23966942148760331]
[493,null,13,"Comanche (Lawton), OK - Kiowa, OK","OK: Kiowa County (40075)","OK: Kiowa County (40075)","40075","  Kiowa  ",{"$f":"ROWS($L$2:L2168)","v":2167},{"$f":"IF(L2168=WORKSHEET!$B$1,I2168,\"\")","v":""},"","OKLAHOMA","Kiowa County",18,"*","*","N/A",21,3.0345406699707339E-2,5.7522123893805309E-2]
[466,null,13,"Pittsburg, OK - Pushmataha, OK","OK: Latimer County (40077)","OK: Latimer County (40077)","40077","  Latimer  ",{"$f":"ROWS($L$2:L2169)","v":2168},{"$f":"IF(L2169=WORKSHEET!$B$1,I2169,\"\")","v":""},"","OKLAHOMA","Latimer County","*","N/A","*","*",13,3.0345406699707339E-2,0.10377358490566038]
[927,421,13,"Le Flore, OK - Sequoyah, OK","OK: Le Flore County (40079)","OK: Le Flore County (40079)","40079","  Le Flore  ",{"$f":"ROWS($L$2:L2170)","v":2169},{"$f":"IF(L2170=WORKSHEET!$B$1,I2170,\"\")","v":""},"","OKLAHOMA","Le Flore County",45,13,17,"N/A",75,3.0345406699707339E-2,0.19346733668341709]
[417,null,13,"Oklahoma (Oklahoma City), OK - Canadian, OK","OK: Lincoln County (40081)","OK: Lincoln County (40081)","40081","  Lincoln  ",{"$f":"ROWS($L$2:L2171)","v":2170},{"$f":"IF(L2171=WORKSHEET!$B$1,I2171,\"\")","v":""},"","OKLAHOMA","Lincoln County",37,{"$f":"+R2171-N2171-P2171","v":7},15,"N/A",59,3.0345406699707339E-2,0.12625923438549361]
[417,null,13,"Oklahoma (Oklahoma City), OK - Canadian, OK","OK: Logan County (40083)","OK: Logan County (40083)","40083","  Logan  ",{"$f":"ROWS($L$2:L2172)","v":2171},{"$f":"IF(L2172=WORKSHEET!$B$1,I2172,\"\")","v":""},"","OKLAHOMA","Logan County",37,{"$f":"+R2172-N2172-P2172","v":7},17,"N/A",61,3.0345406699707339E-2,0.12625923438549361]
[474,null,13,"Carter, OK - Marshall, OK","OK: Love County (40085)","OK: Love County (40085)","40085","  Love  ",{"$f":"ROWS($L$2:L2173)","v":2172},{"$f":"IF(L2173=WORKSHEET!$B$1,I2173,\"\")","v":""},"","OKLAHOMA","Love County","*","*","*","N/A",13,3.0345406699707339E-2,0.11023622047244094]
[429,null,13,"Garfield (Enid), OK - Kingfisher, OK","OK: Major County (40093)","OK: Major County (40093)","40093","  Major  ",{"$f":"ROWS($L$2:L2174)","v":2173},{"$f":"IF(L2174=WORKSHEET!$B$1,I2174,\"\")","v":""},"","OKLAHOMA","Major County","*","*","*","N/A",13,3.0345406699707339E-2,0.23966942148760331]
[474,null,13,"Carter, OK - Marshall, OK","OK: Marshall County (40095)","OK: Marshall County (40095)","40095","  Marshall  ",{"$f":"ROWS($L$2:L2175)","v":2174},{"$f":"IF(L2175=WORKSHEET!$B$1,I2175,\"\")","v":""},"","OKLAHOMA","Marshall County",23,"*","*","N/A",29,3.0345406699707339E-2,0.11023622047244094]
[414,null,13,"Tulsa (Tulsa), OK - Rogers, OK","OK: Mayes County (40097)","OK: Mayes County (40097)","40097","  Mayes  ",{"$f":"ROWS($L$2:L2176)","v":2175},{"$f":"IF(L2176=WORKSHEET!$B$1,I2176,\"\")","v":""},"","OKLAHOMA","Mayes County",59,{"$f":"+R2176-N2176-P2176","v":9},20,"*",88,3.0345406699707339E-2,0.125]
[430,null,13,"Cleveland (Norman), OK - McClain, OK","OK: McClain County (40087)","OK: McClain County (40087)","40087","  Mcclain  ",{"$f":"ROWS($L$2:L2177)","v":2176},{"$f":"IF(L2177=WORKSHEET!$B$1,I2177,\"\")","v":""},"","OKLAHOMA","McClain County",23,{"$f":"+R2177-N2177-P2177","v":8},24,"N/A",55,3.0345406699707339E-2,0.17857142857142858]
[983,404,13,"McCurtain, OK","OK: McCurtain County (40089)","OK: McCurtain County (40089)","40089","  Mccurtain  ",{"$f":"ROWS($L$2:L2178)","v":2177},{"$f":"IF(L2178=WORKSHEET!$B$1,I2178,\"\")","v":""},"","OKLAHOMA","McCurtain County",58,22,15,"N/A",95,3.0345406699707339E-2,0.18181818181818182]
[445,null,13,"Muskogee, OK - Wagoner, OK","OK: McIntosh County (40091)","OK: McIntosh County (40091)","40091","  Mcintosh  ",{"$f":"ROWS($L$2:L2179)","v":2178},{"$f":"IF(L2179=WORKSHEET!$B$1,I2179,\"\")","v":""},{"$f":"IFERROR(SMALL($J$2:$J$3142,I2179),\"\")","v":""},"OKLAHOMA","McIntosh County",45,"*","*","*",57,3.0345406699707339E-2,8.2159624413145546E-2]
[430,null,13,"Cleveland (Norman), OK - McClain, OK","OK: Murray County (40099)","OK: Murray County (40099)","40099","  Murray  ",{"$f":"ROWS($L$2:L2180)","v":2179},{"$f":"IF(L2180=WORKSHEET!$B$1,I2180,\"\")","v":""},"","OKLAHOMA","Murray County",21,"*","*","*",37,3.0345406699707339E-2,0.17857142857142858]
[445,null,13,"Muskogee, OK - Wagoner, OK","OK: Muskogee County (40101)","OK: Muskogee County (40101)","40101","  Muskogee  ",{"$f":"ROWS($L$2:L2181)","v":2180},{"$f":"IF(L2181=WORKSHEET!$B$1,I2181,\"\")","v":""},"","OKLAHOMA","Muskogee County",132,17,32,"*",184,3.0345406699707339E-2,8.2159624413145546E-2]
[472,null,13,"Payne, OK - Pawnee, OK","OK: Noble County (40103)","OK: Noble County (40103)","40103","  Noble  ",{"$f":"ROWS($L$2:L2182)","v":2181},{"$f":"IF(L2182=WORKSHEET!$B$1,I2182,\"\")","v":""},"","OKLAHOMA","Noble County",12,"*","*","N/A",20,3.0345406699707339E-2,0.17204301075268819]
[933,451,13,"Washington, OK - Nowata, OK","OK: Nowata County (40105)","OK: Nowata County (40105)","40105","  Nowata  ",{"$f":"ROWS($L$2:L2183)","v":2182},{"$f":"IF(L2183=WORKSHEET!$B$1,I2183,\"\")","v":""},"","OKLAHOMA","Nowata County","*","*","*","N/A",15,3.0345406699707339E-2,0.13533834586466165]
[529,null,13,"Okmulgee, OK - Okfuskee, OK","OK: Okfuskee County (40107)","OK: Okfuskee County (40107)","40107","  Okfuskee  ",{"$f":"ROWS($L$2:L2184)","v":2183},{"$f":"IF(L2184=WORKSHEET!$B$1,I2184,\"\")","v":""},"","OKLAHOMA","Okfuskee County",18,"*","*","*",23,3.0345406699707339E-2,7.6923076923076927E-2]
[417,null,13,"Oklahoma (Oklahoma City), OK - Canadian, OK","OK: Oklahoma County (40109)","OK: Oklahoma County (40109)","40109","  Oklahoma  ",{"$f":"ROWS($L$2:L2185)","v":2184},{"$f":"IF(L2185=WORKSHEET!$B$1,I2185,\"\")","v":""},"","OKLAHOMA","Oklahoma County",1039,143,505,"*",1693,3.0345406699707339E-2,0.12625923438549361]
[529,null,13,"Okmulgee, OK - Okfuskee, OK","OK: Okmulgee County (40111)","OK: Okmulgee County (40111)","40111","  Okmulgee  ",{"$f":"ROWS($L$2:L2186)","v":2185},{"$f":"IF(L2186=WORKSHEET!$B$1,I2186,\"\")","v":""},"","OKLAHOMA","Okmulgee County",66,{"$f":"+R2186-N2186-P2186","v":4},15,"N/A",85,3.0345406699707339E-2,7.6923076923076927E-2]
[515,null,13,"Kay (Ponca City), OK - Osage, OK","OK: Osage County (40113)","OK: Osage County (40113)","40113","  Osage  ",{"$f":"ROWS($L$2:L2187)","v":2186},{"$f":"IF(L2187=WORKSHEET!$B$1,I2187,\"\")","v":""},"","OKLAHOMA","Osage County",17,{"$f":"+R2187-N2187-P2187","v":3},14,"*",34,3.0345406699707339E-2,0.125]
[414,null,13,"Tulsa (Tulsa), OK - Rogers, OK","OK: Ottawa County (40115)","OK: Ottawa County (40115)","40115","  Ottawa  ",{"$f":"ROWS($L$2:L2188)","v":2187},{"$f":"IF(L2188=WORKSHEET!$B$1,I2188,\"\")","v":""},"","OKLAHOMA","Ottawa County",34,17,14,"N/A",65,3.0345406699707339E-2,0.125]
[472,null,13,"Payne, OK - Pawnee, OK","OK: Pawnee County (40117)","OK: Pawnee County (40117)","40117","  Pawnee  ",{"$f":"ROWS($L$2:L2189)","v":2188},{"$f":"IF(L2189=WORKSHEET!$B$1,I2189,\"\")","v":""},"","OKLAHOMA","Pawnee County",15,"*","*","N/A",28,3.0345406699707339E-2,0.17204301075268819]
[472,null,13,"Payne, OK - Pawnee, OK","OK: Payne County (40119)","OK: Payne County (40119)","40119","  Payne  ",{"$f":"ROWS($L$2:L2190)","v":2189},{"$f":"IF(L2190=WORKSHEET!$B$1,I2190,\"\")","v":""},"","OKLAHOMA","Payne County",50,{"$f":"+R2190-N2190-P2190","v":9},22,"*",81,3.0345406699707339E-2,0.17204301075268819]
[466,null,13,"Pittsburg, OK - Pushmataha, OK","OK: Pittsburg County (40121)","OK: Pittsburg County (40121)","40121","  Pittsburg  ",{"$f":"ROWS($L$2:L2191)","v":2190},{"$f":"IF(L2191=WORKSHEET!$B$1,I2191,\"\")","v":""},"","OKLAHOMA","Pittsburg County",74,{"$f":"+R2191-N2191-P2191","v":10},18,"N/A",102,3.0345406699707339E-2,0.10377358490566038]
[478,null,13,"Pontotoc, OK - Seminole, OK","OK: Pontotoc County (40123)","OK: Pontotoc County (40123)","40123","  Pontotoc  ",{"$f":"ROWS($L$2:L2192)","v":2191},{"$f":"IF(L2192=WORKSHEET!$B$1,I2192,\"\")","v":""},"","OKLAHOMA","Pontotoc County",57,{"$f":"+R2192-N2192-P2192","v":9},24,"N/A",90,3.0345406699707339E-2,0.13836477987421383]
[417,null,13,"Oklahoma (Oklahoma City), OK - Canadian, OK","OK: Pottawatomie County (40125)","OK: Pottawatomie County (40125)","40125","  Pottawatomie  ",{"$f":"ROWS($L$2:L2193)","v":2192},{"$f":"IF(L2193=WORKSHEET!$B$1,I2193,\"\")","v":""},"","OKLAHOMA","Pottawatomie County",100,17,39,"N/A",156,3.0345406699707339E-2,0.12625923438549361]
[466,null,13,"Pittsburg, OK - Pushmataha, OK","OK: Pushmataha County (40127)","OK: Pushmataha County (40127)","40127","  Pushmataha  ",{"$f":"ROWS($L$2:L2194)","v":2193},{"$f":"IF(L2194=WORKSHEET!$B$1,I2194,\"\")","v":""},"","OKLAHOMA","Pushmataha County",15,"*","*","N/A",17,3.0345406699707339E-2,0.10377358490566038]
[440,null,13,"Beckham, OK - Roger Mills, OK","OK: Roger Mills County (40129)","OK: Roger Mills County (40129)","40129","  Roger Mills  ",{"$f":"ROWS($L$2:L2195)","v":2194},{"$f":"IF(L2195=WORKSHEET!$B$1,I2195,\"\")","v":""},"","OKLAHOMA","Roger Mills County","*","N/A","*","N/A","*",3.0345406699707339E-2,0.15]
[414,null,13,"Tulsa (Tulsa), OK - Rogers, OK","OK: Rogers County (40131)","OK: Rogers County (40131)","40131","  Rogers  ",{"$f":"ROWS($L$2:L2196)","v":2195},{"$f":"IF(L2196=WORKSHEET!$B$1,I2196,\"\")","v":""},"","OKLAHOMA","Rogers County",91,12,40,"N/A",143,3.0345406699707339E-2,0.125]
[478,null,13,"Pontotoc, OK - Seminole, OK","OK: Seminole County (40133)","OK: Seminole County (40133)","40133","  Seminole  ",{"$f":"ROWS($L$2:L2197)","v":2196},{"$f":"IF(L2197=WORKSHEET!$B$1,I2197,\"\")","v":""},"","OKLAHOMA","Seminole County",45,{"$f":"+R2197-N2197-P2197","v":10},14,"*",69,3.0345406699707339E-2,0.13836477987421383]
[927,421,13,"Le Flore, OK - Sequoyah, OK","OK: Sequoyah County (40135)","OK: Sequoyah County (40135)","40135","  Sequoyah  ",{"$f":"ROWS($L$2:L2198)","v":2197},{"$f":"IF(L2198=WORKSHEET!$B$1,I2198,\"\")","v":""},"","OKLAHOMA","Sequoyah County",55,12,29,"N/A",96,3.0345406699707339E-2,0.19346733668341709]
[497,null,13,"Stephens, OK - Jefferson, OK","OK: Stephens County (40137)","OK: Stephens County (40137)","40137","  Stephens  ",{"$f":"ROWS($L$2:L2199)","v":2198},{"$f":"IF(L2199=WORKSHEET!$B$1,I2199,\"\")","v":""},"","OKLAHOMA","Stephens County",40,{"$f":"+R2199-N2199-P2199","v":10},33,"N/A",83,3.0345406699707339E-2,0.17241379310344829]
[951,587,13,"Texas, OK - Cimarron, OK","OK: Texas County (40139)","OK: Texas County (40139)","40139","  Texas  ",{"$f":"ROWS($L$2:L2200)","v":2199},{"$f":"IF(L2200=WORKSHEET!$B$1,I2200,\"\")","v":""},"","OKLAHOMA","Texas County","*","*","*","N/A",15,3.0345406699707339E-2,0.36956521739130432]
[493,null,13,"Comanche (Lawton), OK - Kiowa, OK","OK: Tillman County (40141)","OK: Tillman County (40141)","40141","  Tillman  ",{"$f":"ROWS($L$2:L2201)","v":2200},{"$f":"IF(L2201=WORKSHEET!$B$1,I2201,\"\")","v":""},"","OKLAHOMA","Tillman County",12,"*","*","N/A",18,3.0345406699707339E-2,5.7522123893805309E-2]
[414,null,13,"Tulsa (Tulsa), OK - Rogers, OK","OK: Tulsa County (40143)","OK: Tulsa County (40143)","40143","  Tulsa  ",{"$f":"ROWS($L$2:L2202)","v":2201},{"$f":"IF(L2202=WORKSHEET!$B$1,I2202,\"\")","v":""},"","OKLAHOMA","Tulsa County",855,102,375,"*",1335,3.0345406699707339E-2,0.125]
[445,null,13,"Muskogee, OK - Wagoner, OK","OK: Wagoner County (40145)","OK: Wagoner County (40145)","40145","  Wagoner  ",{"$f":"ROWS($L$2:L2203)","v":2202},{"$f":"IF(L2203=WORKSHEET!$B$1,I2203,\"\")","v":""},"","OKLAHOMA","Wagoner County",53,{"$f":"+R2203-N2203-P2203","v":9},22,"N/A",84,3.0345406699707339E-2,8.2159624413145546E-2]
[933,451,13,"Washington, OK - Nowata, OK","OK: Washington County (40147)","OK: Washington County (40147)","40147","  Washington  ",{"$f":"ROWS($L$2:L2204)","v":2203},{"$f":"IF(L2204=WORKSHEET!$B$1,I2204,\"\")","v":""},"","OKLAHOMA","Washington County",54,{"$f":"+R2204-N2204-P2204","v":9},20,"N/A",83,3.0345406699707339E-2,0.13533834586466165]
[475,null,13,"Custer, OK - Washita, OK","OK: Washita County (40149)","OK: Washita County (40149)","40149","  Washita  ",{"$f":"ROWS($L$2:L2205)","v":2204},{"$f":"IF(L2205=WORKSHEET!$B$1,I2205,\"\")","v":""},"","OKLAHOMA","Washita County","*","*","*","N/A",17,3.0345406699707339E-2,0.2]
[429,null,13,"Garfield (Enid), OK - Kingfisher, OK","OK: Woods County (40151)","OK: Woods County (40151)","40151","  Woods  ",{"$f":"ROWS($L$2:L2206)","v":2205},{"$f":"IF(L2206=WORKSHEET!$B$1,I2206,\"\")","v":""},"","OKLAHOMA","Woods County","*","N/A","*","N/A","*",3.0345406699707339E-2,0.23966942148760331]
[469,null,13,"Woodward, OK - Dewey, OK","OK: Woodward County (40153)","OK: Woodward County (40153)","40153","  Woodward  ",{"$f":"ROWS($L$2:L2207)","v":2206},{"$f":"IF(L2207=WORKSHEET!$B$1,I2207,\"\")","v":""},"","OKLAHOMA","Woodward County",12,{"$f":"+R2207-N2207-P2207","v":2},14,"N/A",28,3.0345406699707339E-2,0.13333333333333333]
[759,null,16,"Union, OR - Baker, OR","OR: Baker County (41001)","OR: Baker County (41001)","41001","Baker  ",{"$f":"ROWS($L$2:L2208)","v":2207},{"$f":"IF(L2208=WORKSHEET!$B$1,I2208,\"\")","v":""},"","OREGON","Baker County","*","*","*","N/A",15,3.5616674152133203E-2,0.38235294117647056]
[727,null,16,"Linn, OR - Benton, OR","OR: Benton County (41003)","OR: Benton County (41003)","41003","  Benton  ",{"$f":"ROWS($L$2:L2209)","v":2208},{"$f":"IF(L2209=WORKSHEET!$B$1,I2209,\"\")","v":""},"","OREGON","Benton County",27,{"$f":"+R2209-N2209-P2209","v":9},30,"N/A",66,3.5616674152133203E-2,0.11538461538461539]
[689,null,16,"Multnomah (Portland), OR - Washington, OR","OR: Clackamas County (41005)","OR: Clackamas County (41005)","41005","  Clackamas  ",{"$f":"ROWS($L$2:L2210)","v":2209},{"$f":"IF(L2210=WORKSHEET!$B$1,I2210,\"\")","v":""},"","OREGON","Clackamas County",325,41,244,"*",611,3.5616674152133203E-2,0.10108303249097472]
[689,null,16,"Multnomah (Portland), OR - Washington, OR","OR: Clatsop County (41007)","OR: Clatsop County (41007)","41007","  Clatsop  ",{"$f":"ROWS($L$2:L2211)","v":2210},{"$f":"IF(L2211=WORKSHEET!$B$1,I2211,\"\")","v":""},"","OREGON","Clatsop County",38,{"$f":"+R2211-N2211-P2211","v":4},12,"N/A",54,3.5616674152133203E-2,0.10108303249097472]
[689,null,16,"Multnomah (Portland), OR - Washington, OR","OR: Columbia County (41009)","OR: Columbia County (41009)","41009","  Columbia  ",{"$f":"ROWS($L$2:L2212)","v":2211},{"$f":"IF(L2212=WORKSHEET!$B$1,I2212,\"\")","v":""},"","OREGON","Columbia County",48,{"$f":"+R2212-N2212-P2212","v":5},35,"*",88,3.5616674152133203E-2,0.10108303249097472]
[969,738,16,"Coos, OR - Curry, OR","OR: Coos County (41011)","OR: Coos County (41011)","41011","  Coos  ",{"$f":"ROWS($L$2:L2213)","v":2212},{"$f":"IF(L2213=WORKSHEET!$B$1,I2213,\"\")","v":""},"","OREGON","Coos County",92,{"$f":"+R2213-N2213-P2213","v":8},28,"N/A",128,3.5616674152133203E-2,0.101449275362319]
[719,null,16,"Deschutes, OR - Crook, OR","OR: Crook County (41013)","OR: Crook County (41013)","41013","  Crook  ",{"$f":"ROWS($L$2:L2214)","v":2213},{"$f":"IF(L2214=WORKSHEET!$B$1,I2214,\"\")","v":""},"","OREGON","Crook County",20,"*","*","N/A",35,3.5616674152133203E-2,0.21962616822429906]
[969,738,16,"Coos, OR - Curry, OR","OR: Curry County (41015)","OR: Curry County (41015)","41015","  Curry  ",{"$f":"ROWS($L$2:L2215)","v":2214},{"$f":"IF(L2215=WORKSHEET!$B$1,I2215,\"\")","v":""},"","OREGON","Curry County",11,{"$f":"+R2215-N2215-P2215","v":2},12,"N/A",25,3.5616674152133203E-2,0.10144927536231885]
[719,null,16,"Deschutes, OR - Crook, OR","OR: Deschutes County (41017)","OR: Deschutes County (41017)","41017","  Deschutes  ",{"$f":"ROWS($L$2:L2216)","v":2215},{"$f":"IF(L2216=WORKSHEET!$B$1,I2216,\"\")","v":""},"","OREGON","Deschutes County",106,29,76,"*",212,3.5616674152133203E-2,0.21962616822429906]
[782,null,16,"Lane (Eugene), OR - Douglas, OR","OR: Douglas County (41019)","OR: Douglas County (41019)","41019","  Douglas  ",{"$f":"ROWS($L$2:L2217)","v":2216},{"$f":"IF(L2217=WORKSHEET!$B$1,I2217,\"\")","v":""},"","OREGON","Douglas County",112,14,44,"*",171,3.5616674152133203E-2,0.1101123595505618]
[748,null,16,"Wasco, OR - Hood River, OR","OR: Gilliam County (41021)","OR: Gilliam County (41021)","41021",null,{"$f":"ROWS($L$2:L2218)","v":2217},{"$f":"IF(L2218=WORKSHEET!$B$1,I2218,\"\")","v":""},"","OREGON","Gilliam County",null,null,null,null,null,3.5616674152133203E-2,7.4626865671641784E-2]
[806,null,16,"Grant, OR","OR: Grant County (41023)","OR: Grant County (41023)","41023","  Grant  ",{"$f":"ROWS($L$2:L2219)","v":2218},{"$f":"IF(L2219=WORKSHEET!$B$1,I2219,\"\")","v":""},"","OREGON","Grant County","N/A","N/A","*","N/A","*",3.5616674152133203E-2,0]
[719,null,16,"Deschutes, OR - Crook, OR","OR: Harney County (41025)","OR: Harney County (41025)","41025","  Harney  ",{"$f":"ROWS($L$2:L2220)","v":2219},{"$f":"IF(L2220=WORKSHEET!$B$1,I2220,\"\")","v":""},"","OREGON","Harney County","*","*","*","N/A","*",3.5616674152133203E-2,0.21962616822429906]
[748,null,16,"Wasco, OR - Hood River, OR","OR: Hood River County (41027)","OR: Hood River County (41027)","41027","  Hood River  ",{"$f":"ROWS($L$2:L2221)","v":2220},{"$f":"IF(L2221=WORKSHEET!$B$1,I2221,\"\")","v":""},"","OREGON","Hood River County",18,{"$f":"+R2221-N2221-P2221","v":1},18,"N/A",37,3.5616674152133203E-2,7.4626865671641784E-2]
[973,752,16,"Jackson (Medford), OR - Josephine, OR","OR: Jackson County (41029)","OR: Jackson County (41029)","41029","  Jackson  ",{"$f":"ROWS($L$2:L2222)","v":2221},{"$f":"IF(L2222=WORKSHEET!$B$1,I2222,\"\")","v":""},"","OREGON","Jackson County",193,22,99,"N/A",314,3.5616674152133203E-2,0.11343283582089553]
[719,null,16,"Deschutes, OR - Crook, OR","OR: Jefferson County (41031)","OR: Jefferson County (41031)","41031","  Jefferson  ",{"$f":"ROWS($L$2:L2223)","v":2222},{"$f":"IF(L2223=WORKSHEET!$B$1,I2223,\"\")","v":""},"","OREGON","Jefferson County",37,"*","*","N/A",53,3.5616674152133203E-2,0.21962616822429906]
[973,752,16,"Jackson (Medford), OR - Josephine, OR","OR: Josephine County (41033)","OR: Josephine County (41033)","41033","  Josephine  ",{"$f":"ROWS($L$2:L2224)","v":2223},{"$f":"IF(L2224=WORKSHEET!$B$1,I2224,\"\")","v":""},"","OREGON","Josephine County",77,{"$f":"+R2224-N2224-P2224","v":6},40,"N/A",123,3.5616674152133203E-2,0.11343283582089553]
[743,null,16,"Klamath, OR - Lake, OR","OR: Klamath County (41035)","OR: Klamath County (41035)","41035","  Klamath  ",{"$f":"ROWS($L$2:L2225)","v":2224},{"$f":"IF(L2225=WORKSHEET!$B$1,I2225,\"\")","v":""},"","OREGON","Klamath County",56,{"$f":"+R2225-N2225-P2225","v":12},35,"*",103,3.5616674152133203E-2,0.19178082191780821]
[743,null,16,"Klamath, OR - Lake, OR","OR: Lake County (41037)","OR: Lake County (41037)","41037","  Lake  ",{"$f":"ROWS($L$2:L2226)","v":2225},{"$f":"IF(L2226=WORKSHEET!$B$1,I2226,\"\")","v":""},"","OREGON","Lake County","*","*","*","N/A","*",3.5616674152133203E-2,0.19178082191780821]
[782,null,16,"Lane (Eugene), OR - Douglas, OR","OR: Lane County (41039)","OR: Lane County (41039)","41039","  Lane  ",{"$f":"ROWS($L$2:L2227)","v":2226},{"$f":"IF(L2227=WORKSHEET!$B$1,I2227,\"\")","v":""},"","OREGON","Lane County",284,35,169,"N/A",488,3.5616674152133203E-2,0.1101123595505618]
[783,null,16,"Lincoln, OR - Tillamook, OR","OR: Lincoln County (41041)","OR: Lincoln County (41041)","41041","  Lincoln  ",{"$f":"ROWS($L$2:L2228)","v":2227},{"$f":"IF(L2228=WORKSHEET!$B$1,I2228,\"\")","v":""},"","OREGON","Lincoln County",50,15,15,"N/A",80,3.5616674152133203E-2,0.24731182795698925]
[727,null,16,"Linn, OR - Benton, OR","OR: Linn County (41043)","OR: Linn County (41043)","41043","  Linn  ",{"$f":"ROWS($L$2:L2229)","v":2228},{"$f":"IF(L2229=WORKSHEET!$B$1,I2229,\"\")","v":""},"","OREGON","Linn County",134,12,67,"*",214,3.5616674152133203E-2,0.11538461538461539]
[968,729,16,"Malheur, OR","OR: Malheur County (41045)","OR: Malheur County (41045)","41045","  Malheur  ",{"$f":"ROWS($L$2:L2230)","v":2229},{"$f":"IF(L2230=WORKSHEET!$B$1,I2230,\"\")","v":""},"","OREGON","Malheur County",36,{"$f":"+R2230-N2230-P2230","v":7},15,"N/A",58,3.5616674152133203E-2,0.25641025641025639]
[705,null,16,"Marion (Salem), OR - Yamhill, OR","OR: Marion County (41047)","OR: Marion County (41047)","41047","  Marion  ",{"$f":"ROWS($L$2:L2231)","v":2230},{"$f":"IF(L2231=WORKSHEET!$B$1,I2231,\"\")","v":""},"","OREGON","Marion County",403,59,166,"*",633,3.5616674152133203E-2,0.13193403298350825]
[717,null,16,"Umatilla, OR - Morrow, OR","OR: Morrow County (41049)","OR: Morrow County (41049)","41049","  Morrow  ",{"$f":"ROWS($L$2:L2232)","v":2231},{"$f":"IF(L2232=WORKSHEET!$B$1,I2232,\"\")","v":""},"","OREGON","Morrow County","*","*","*","N/A",15,3.5616674152133203E-2,0.22754491017964071]
[689,null,16,"Multnomah (Portland), OR - Washington, OR","OR: Multnomah County (41051)","OR: Multnomah County (41051)","41051","  Multnomah  ",{"$f":"ROWS($L$2:L2233)","v":2232},{"$f":"IF(L2233=WORKSHEET!$B$1,I2233,\"\")","v":""},"","OREGON","Multnomah County",829,67,506,"*",1403,3.5616674152133203E-2,0.10108303249097472]
[705,null,16,"Marion (Salem), OR - Yamhill, OR","OR: Polk County (41053)","OR: Polk County (41053)","41053","  Polk  ",{"$f":"ROWS($L$2:L2234)","v":2233},{"$f":"IF(L2234=WORKSHEET!$B$1,I2234,\"\")","v":""},"","OREGON","Polk County",68,16,47,"N/A",131,3.5616674152133203E-2,0.13193403298350825]
[748,null,16,"Wasco, OR - Hood River, OR","OR: Sherman County (41055)","OR: Sherman County (41055)","41055","  Sherman  ",{"$f":"ROWS($L$2:L2235)","v":2234},{"$f":"IF(L2235=WORKSHEET!$B$1,I2235,\"\")","v":""},"","OREGON","Sherman County","*","N/A","*","N/A","*",3.5616674152133203E-2,7.4626865671641784E-2]
[783,null,16,"Lincoln, OR - Tillamook, OR","OR: Tillamook County (41057)","OR: Tillamook County (41057)","41057","  Tillamook  ",{"$f":"ROWS($L$2:L2236)","v":2235},{"$f":"IF(L2236=WORKSHEET!$B$1,I2236,\"\")","v":""},"","OREGON","Tillamook County",20,{"$f":"+R2236-N2236-P2236","v":8},11,"N/A",39,3.5616674152133203E-2,0.24731182795698925]
[717,null,16,"Umatilla, OR - Morrow, OR","OR: Umatilla County (41059)","OR: Umatilla County (41059)","41059","  Umatilla  ",{"$f":"ROWS($L$2:L2237)","v":2236},{"$f":"IF(L2237=WORKSHEET!$B$1,I2237,\"\")","v":""},"","OREGON","Umatilla County",68,18,56,"N/A",142,3.5616674152133203E-2,0.22754491017964071]
[759,null,16,"Union, OR - Baker, OR","OR: Union County (41061)","OR: Union County (41061)","41061","  Union  ",{"$f":"ROWS($L$2:L2238)","v":2237},{"$f":"IF(L2238=WORKSHEET!$B$1,I2238,\"\")","v":""},"","OREGON","Union County",16,{"$f":"+R2238-N2238-P2238","v":6},15,"N/A",37,3.5616674152133203E-2,0.38235294117647056]
[759,null,16,"Union, OR - Baker, OR","OR: Wallowa County (41063)","OR: Wallowa County (41063)","41063","  Wallowa  ",{"$f":"ROWS($L$2:L2239)","v":2238},{"$f":"IF(L2239=WORKSHEET!$B$1,I2239,\"\")","v":""},"","OREGON","Wallowa County","*","*","*","N/A","*",3.5616674152133203E-2,0.38235294117647056]
[748,null,16,"Wasco, OR - Hood River, OR","OR: Wasco County (41065)","OR: Wasco County (41065)","41065","  Wasco  ",{"$f":"ROWS($L$2:L2240)","v":2239},{"$f":"IF(L2240=WORKSHEET!$B$1,I2240,\"\")","v":""},"","OREGON","Wasco County",23,{"$f":"+R2240-N2240-P2240","v":2},13,"N/A",38,3.5616674152133203E-2,7.4626865671641784E-2]
[689,null,16,"Multnomah (Portland), OR - Washington, OR","OR: Washington County (41067)","OR: Washington County (41067)","41067","  Washington  ",{"$f":"ROWS($L$2:L2241)","v":2240},{"$f":"IF(L2241=WORKSHEET!$B$1,I2241,\"\")","v":""},"","OREGON","Washington County",493,66,329,"*",889,3.5616674152133203E-2,0.10108303249097472]
[719,null,16,"Deschutes, OR - Crook, OR","OR: Wheeler County (41069)","OR: Wheeler County (41069)","41069",null,{"$f":"ROWS($L$2:L2242)","v":2241},{"$f":"IF(L2242=WORKSHEET!$B$1,I2242,\"\")","v":""},"","OREGON","Wheeler County",null,null,null,null,null,3.5616674152133203E-2,0.21962616822429906]
[705,null,16,"Marion (Salem), OR - Yamhill, OR","OR: Yamhill County (41071)","OR: Yamhill County (41071)","41071","  Yamhill  ",{"$f":"ROWS($L$2:L2243)","v":2242},{"$f":"IF(L2243=WORKSHEET!$B$1,I2243,\"\")","v":""},{"$f":"IFERROR(SMALL($J$2:$J$3142,I2243),\"\")","v":""},"OREGON","Yamhill County",108,13,56,"N/A",177,3.5616674152133203E-2,0.13193403298350825]
[868,48,4,"York (York), PA - Adams, PA","PA: Adams County (42001)","PA: Adams County (42001)","42001","Adams  ",{"$f":"ROWS($L$2:L2244)","v":2243},{"$f":"IF(L2244=WORKSHEET!$B$1,I2244,\"\")","v":""},"","PENNSYLVANIA","Adams County",86,{"$f":"+R2244-N2244-P2244","v":8},80,"N/A",174,2.0498597240547433E-2,0.12387096774193548]
[42,null,4,"Allegheny (Pittsburgh), PA - Westmoreland, PA","PA: Allegheny County (42003)","PA: Allegheny County (42003)","42003","  Allegheny  ",{"$f":"ROWS($L$2:L2245)","v":2244},{"$f":"IF(L2245=WORKSHEET!$B$1,I2245,\"\")","v":""},"","PENNSYLVANIA","Allegheny County",1837,130,945,15,2927,2.0498597240547433E-2,6.9362261669953976E-2]
[42,null,4,"Allegheny (Pittsburgh), PA - Westmoreland, PA","PA: Armstrong County (42005)","PA: Armstrong County (42005)","42005","  Armstrong  ",{"$f":"ROWS($L$2:L2246)","v":2245},{"$f":"IF(L2246=WORKSHEET!$B$1,I2246,\"\")","v":""},"","PENNSYLVANIA","Armstrong County",100,{"$f":"+R2246-N2246-P2246","v":6},40,"*",146,2.0498597240547433E-2,6.9362261669953976E-2]
[42,null,4,"Allegheny (Pittsburgh), PA - Westmoreland, PA","PA: Beaver County (42007)","PA: Beaver County (42007)","42007","  Beaver  ",{"$f":"ROWS($L$2:L2247)","v":2246},{"$f":"IF(L2247=WORKSHEET!$B$1,I2247,\"\")","v":""},"","PENNSYLVANIA","Beaver County",246,16,122,"N/A",384,2.0498597240547433E-2,6.9362261669953976E-2]
[57,null,4,"Cambria, PA - Blair (Altoona), PA","PA: Bedford County (42009)","PA: Bedford County (42009)","42009","  Bedford  ",{"$f":"ROWS($L$2:L2248)","v":2247},{"$f":"IF(L2248=WORKSHEET!$B$1,I2248,\"\")","v":""},"","PENNSYLVANIA","Bedford County",52,17,43,"N/A",112,2.0498597240547433E-2,0.16304347826086957]
[139,null,4,"Berks, PA","PA: Berks County (42011)","PA: Berks County (42011)","42011","  Berks  ",{"$f":"ROWS($L$2:L2249)","v":2248},{"$f":"IF(L2249=WORKSHEET!$B$1,I2249,\"\")","v":""},"","PENNSYLVANIA","Berks County",424,58,210,"*",694,2.0498597240547433E-2,0.12033195020746888]
[57,null,4,"Cambria, PA - Blair (Altoona), PA","PA: Blair County (42013)","PA: Blair County (42013)","42013","  Blair  ",{"$f":"ROWS($L$2:L2250)","v":2249},{"$f":"IF(L2250=WORKSHEET!$B$1,I2250,\"\")","v":""},"","PENNSYLVANIA","Blair County",165,18,68,"N/A",251,2.0498597240547433E-2,0.16304347826086957]
[858,19,4,"Bradford, PA - Susquehanna, PA","PA: Bradford County (42015)","PA: Bradford County (42015)","42015","  Bradford  ",{"$f":"ROWS($L$2:L2251)","v":2250},{"$f":"IF(L2251=WORKSHEET!$B$1,I2251,\"\")","v":""},"","PENNSYLVANIA","Bradford County",48,{"$f":"+R2251-N2251-P2251","v":4},34,"N/A",86,2.0498597240547433E-2,0.20812182741116753]
[28,null,4,"Philadelphia (Philadelphia), PA - Montgomery, PA","PA: Bucks County (42017)","PA: Bucks County (42017)","42017","  Bucks  ",{"$f":"ROWS($L$2:L2252)","v":2251},{"$f":"IF(L2252=WORKSHEET!$B$1,I2252,\"\")","v":""},"","PENNSYLVANIA","Bucks County",532,44,427,"*",1008,2.0498597240547433E-2,6.6235632183908044E-2]
[42,null,4,"Allegheny (Pittsburgh), PA - Westmoreland, PA","PA: Butler County (42019)","PA: Butler County (42019)","42019","  Butler  ",{"$f":"ROWS($L$2:L2253)","v":2252},{"$f":"IF(L2253=WORKSHEET!$B$1,I2253,\"\")","v":""},"","PENNSYLVANIA","Butler County",121,14,120,"N/A",255,2.0498597240547433E-2,6.9362261669953976E-2]
[57,null,4,"Cambria, PA - Blair (Altoona), PA","PA: Cambria County (42021)","PA: Cambria County (42021)","42021","  Cambria  ",{"$f":"ROWS($L$2:L2254)","v":2253},{"$f":"IF(L2254=WORKSHEET!$B$1,I2254,\"\")","v":""},"","PENNSYLVANIA","Cambria County",181,42,106,"*",330,2.0498597240547433E-2,0.16304347826086957]
[864,35,4,"Mc Kean, PA - Potter, PA","PA: Cameron County (42023)","PA: Cameron County (42023)","42023","  Cameron  ",{"$f":"ROWS($L$2:L2255)","v":2254},{"$f":"IF(L2255=WORKSHEET!$B$1,I2255,\"\")","v":""},"","PENNSYLVANIA","Cameron County","*","N/A","N/A","N/A","*",2.0498597240547433E-2,8.6538461538461536E-2]
[84,null,4,"Lehigh (Allentown), PA - Northampton, PA","PA: Carbon County (42025)","PA: Carbon County (42025)","42025","  Carbon  ",{"$f":"ROWS($L$2:L2256)","v":2255},{"$f":"IF(L2256=WORKSHEET!$B$1,I2256,\"\")","v":""},"","PENNSYLVANIA","Carbon County",66,{"$f":"+R2256-N2256-P2256","v":8},45,"*",119,2.0498597240547433E-2,8.4367245657568243E-2]
[26,null,4,"Centre (State College), PA - Clearfield, PA","PA: Centre County (42027)","PA: Centre County (42027)","42027","  Centre  ",{"$f":"ROWS($L$2:L2257)","v":2256},{"$f":"IF(L2257=WORKSHEET!$B$1,I2257,\"\")","v":""},"","PENNSYLVANIA","Centre County",98,{"$f":"+R2257-N2257-P2257","v":13},48,"*",159,2.0498597240547433E-2,7.6923076923076927E-2]
[28,null,4,"Philadelphia (Philadelphia), PA - Montgomery, PA","PA: Chester County (42029)","PA: Chester County (42029)","42029","  Chester  ",{"$f":"ROWS($L$2:L2258)","v":2257},{"$f":"IF(L2258=WORKSHEET!$B$1,I2258,\"\")","v":""},"","PENNSYLVANIA","Chester County",357,65,266,"N/A",688,2.0498597240547433E-2,6.6235632183908044E-2]
[52,null,4,"Venango, PA - Clarion, PA","PA: Clarion County (42031)","PA: Clarion County (42031)","42031","  Clarion  ",{"$f":"ROWS($L$2:L2259)","v":2258},{"$f":"IF(L2259=WORKSHEET!$B$1,I2259,\"\")","v":""},"","PENNSYLVANIA","Clarion County",39,"*",26,"N/A",66,2.0498597240547433E-2,0.11320754716981132]
[26,null,4,"Centre (State College), PA - Clearfield, PA","PA: Clearfield County (42033)","PA: Clearfield County (42033)","42033","  Clearfield  ",{"$f":"ROWS($L$2:L2260)","v":2259},{"$f":"IF(L2260=WORKSHEET!$B$1,I2260,\"\")","v":""},"","PENNSYLVANIA","Clearfield County",121,12,66,"*",201,2.0498597240547433E-2,7.6923076923076927E-2]
[44,null,4,"Lycoming (Williamsport), PA - Clinton, PA","PA: Clinton County (42035)","PA: Clinton County (42035)","42035","  Clinton  ",{"$f":"ROWS($L$2:L2261)","v":2260},{"$f":"IF(L2261=WORKSHEET!$B$1,I2261,\"\")","v":""},"","PENNSYLVANIA","Clinton County",37,{"$f":"+R2261-N2261-P2261","v":5},24,"N/A",66,2.0498597240547433E-2,0.16763005780346821]
[78,null,4,"Luzerne (Wilkes-Barre), PA - Columbia, PA","PA: Columbia County (42037)","PA: Columbia County (42037)","42037","  Columbia  ",{"$f":"ROWS($L$2:L2262)","v":2261},{"$f":"IF(L2262=WORKSHEET!$B$1,I2262,\"\")","v":""},"","PENNSYLVANIA","Columbia County",82,{"$f":"+R2262-N2262-P2262","v":5},40,"*",127,2.0498597240547433E-2,4.3478260869565216E-2]
[117,null,4,"Crawford, PA","PA: Crawford County (42039)","PA: Crawford County (42039)","42039","  Crawford  ",{"$f":"ROWS($L$2:L2263)","v":2262},{"$f":"IF(L2263=WORKSHEET!$B$1,I2263,\"\")","v":""},"","PENNSYLVANIA","Crawford County",95,17,38,"*",151,2.0498597240547433E-2,0.15178571428571427]
[43,null,4,"Dauphin (Harrisburg), PA - Cumberland, PA","PA: Cumberland County (42041)","PA: Cumberland County (42041)","42041","  Cumberland  ",{"$f":"ROWS($L$2:L2264)","v":2263},{"$f":"IF(L2264=WORKSHEET!$B$1,I2264,\"\")","v":""},"","PENNSYLVANIA","Cumberland County",234,41,144,"*",420,2.0498597240547433E-2,0.12994923857868021]
[43,null,4,"Dauphin (Harrisburg), PA - Cumberland, PA","PA: Dauphin County (42043)","PA: Dauphin County (42043)","42043","  Dauphin  ",{"$f":"ROWS($L$2:L2265)","v":2264},{"$f":"IF(L2265=WORKSHEET!$B$1,I2265,\"\")","v":""},"","PENNSYLVANIA","Dauphin County",427,49,178,"*",658,2.0498597240547433E-2,0.12994923857868021]
[28,null,4,"Philadelphia (Philadelphia), PA - Montgomery, PA","PA: Delaware County (42045)","PA: Delaware County (42045)","42045","  Delaware  ",{"$f":"ROWS($L$2:L2266)","v":2265},{"$f":"IF(L2266=WORKSHEET!$B$1,I2266,\"\")","v":""},"","PENNSYLVANIA","Delaware County",778,81,401,"*",1266,2.0498597240547433E-2,6.6235632183908044E-2]
[125,null,4,"Elk, PA","PA: Elk County (42047)","PA: Elk County (42047)","42047","  Elk  ",{"$f":"ROWS($L$2:L2267)","v":2266},{"$f":"IF(L2267=WORKSHEET!$B$1,I2267,\"\")","v":""},"","PENNSYLVANIA","Elk County",47,{"$f":"+R2267-N2267-P2267","v":2},15,"N/A",64,2.0498597240547433E-2,4.0816326530612242E-2]
[880,106,4,"Erie (Erie), PA - Warren, PA","PA: Erie County (42049)","PA: Erie County (42049)","42049","  Erie  ",{"$f":"ROWS($L$2:L2268)","v":2267},{"$f":"IF(L2268=WORKSHEET!$B$1,I2268,\"\")","v":""},"","PENNSYLVANIA","Erie County",329,71,139,"*",542,2.0498597240547433E-2,0.16282894736842105]
[100,null,4,"Washington, PA - Fayette, PA","PA: Fayette County (42051)","PA: Fayette County (42051)","42051","  Fayette  ",{"$f":"ROWS($L$2:L2269)","v":2268},{"$f":"IF(L2269=WORKSHEET!$B$1,I2269,\"\")","v":""},"","PENNSYLVANIA","Fayette County",215,22,92,"*",331,2.0498597240547433E-2,9.0753424657534207E-2]
[52,null,4,"Venango, PA - Clarion, PA","PA: Forest County (42053)","PA: Forest County (42053)","42053","  Forest  ",{"$f":"ROWS($L$2:L2270)","v":2269},{"$f":"IF(L2270=WORKSHEET!$B$1,I2270,\"\")","v":""},"","PENNSYLVANIA","Forest County","*","*","*","N/A","*",2.0498597240547433E-2,0.11320754716981132]
[872,72,4,"Franklin, PA - Fulton, PA","PA: Franklin County (42055)","PA: Franklin County (42055)","42055","  Franklin  ",{"$f":"ROWS($L$2:L2271)","v":2270},{"$f":"IF(L2271=WORKSHEET!$B$1,I2271,\"\")","v":""},"","PENNSYLVANIA","Franklin County",148,17,84,"N/A",249,2.0498597240547433E-2,0.12365591397849462]
[872,72,4,"Franklin, PA - Fulton, PA","PA: Fulton County (42057)","PA: Fulton County (42057)","42057","  Fulton  ",{"$f":"ROWS($L$2:L2272)","v":2271},{"$f":"IF(L2272=WORKSHEET!$B$1,I2272,\"\")","v":""},"","PENNSYLVANIA","Fulton County",18,"*","*","N/A",31,2.0498597240547433E-2,0.12365591397849462]
[100,null,4,"Washington, PA - Fayette, PA","PA: Greene County (42059)","PA: Greene County (42059)","42059","  Greene  ",{"$f":"ROWS($L$2:L2273)","v":2272},{"$f":"IF(L2273=WORKSHEET!$B$1,I2273,\"\")","v":""},"","PENNSYLVANIA","Greene County",50,{"$f":"+R2273-N2273-P2273","v":7},14,"*",71,2.0498597240547433E-2,9.0753424657534248E-2]
[110,null,4,"Mifflin, PA - Huntingdon, PA","PA: Huntingdon County (42061)","PA: Huntingdon County (42061)","42061","  Huntingdon  ",{"$f":"ROWS($L$2:L2274)","v":2273},{"$f":"IF(L2274=WORKSHEET!$B$1,I2274,\"\")","v":""},"","PENNSYLVANIA","Huntingdon County",64,{"$f":"+R2274-N2274-P2274","v":4},26,"N/A",94,2.0498597240547433E-2,6.2857142857142861E-2]
[42,null,4,"Allegheny (Pittsburgh), PA - Westmoreland, PA","PA: Indiana County (42063)","PA: Indiana County (42063)","42063","  Indiana  ",{"$f":"ROWS($L$2:L2275)","v":2274},{"$f":"IF(L2275=WORKSHEET!$B$1,I2275,\"\")","v":""},"","PENNSYLVANIA","Indiana County",98,{"$f":"+R2275-N2275-P2275","v":9},48,"*",155,2.0498597240547433E-2,6.9362261669953976E-2]
[26,null,4,"Centre (State College), PA - Clearfield, PA","PA: Jefferson County (42065)","PA: Jefferson County (42065)","42065","  Jefferson  ",{"$f":"ROWS($L$2:L2276)","v":2275},{"$f":"IF(L2276=WORKSHEET!$B$1,I2276,\"\")","v":""},"","PENNSYLVANIA","Jefferson County",57,{"$f":"+R2276-N2276-P2276","v":3},41,"*",101,2.0498597240547433E-2,7.6923076923076927E-2]
[110,null,4,"Mifflin, PA - Huntingdon, PA","PA: Juniata County (42067)","PA: Juniata County (42067)","42067","  Juniata  ",{"$f":"ROWS($L$2:L2277)","v":2276},{"$f":"IF(L2277=WORKSHEET!$B$1,I2277,\"\")","v":""},"","PENNSYLVANIA","Juniata County",31,"*","*","N/A",43,2.0498597240547433E-2,6.2857142857142861E-2]
[47,null,4,"Lackawanna (Scranton), PA - Wayne, PA","PA: Lackawanna County (42069)","PA: Lackawanna County (42069)","42069","  Lackawanna  ",{"$f":"ROWS($L$2:L2278)","v":2277},{"$f":"IF(L2278=WORKSHEET!$B$1,I2278,\"\")","v":""},"","PENNSYLVANIA","Lackawanna County",238,39,121,"*",403,2.0498597240547433E-2,0.15727002967359049]
[140,null,4,"Lancaster, PA","PA: Lancaster County (42071)","PA: Lancaster County (42071)","42071","  Lancaster  ",{"$f":"ROWS($L$2:L2279)","v":2278},{"$f":"IF(L2279=WORKSHEET!$B$1,I2279,\"\")","v":""},"","PENNSYLVANIA","Lancaster County",477,99,290,"*",870,2.0498597240547433E-2,0.171875]
[129,null,4,"Lawrence, PA","PA: Lawrence County (42073)","PA: Lawrence County (42073)","42073","  Lawrence  ",{"$f":"ROWS($L$2:L2280)","v":2279},{"$f":"IF(L2280=WORKSHEET!$B$1,I2280,\"\")","v":""},"","PENNSYLVANIA","Lawrence County",158,11,60,"*",231,2.0498597240547433E-2,6.5088757396449703E-2]
[43,null,4,"Dauphin (Harrisburg), PA - Cumberland, PA","PA: Lebanon County (42075)","PA: Lebanon County (42075)","42075","  Lebanon  ",{"$f":"ROWS($L$2:L2281)","v":2280},{"$f":"IF(L2281=WORKSHEET!$B$1,I2281,\"\")","v":""},"","PENNSYLVANIA","Lebanon County",149,26,86,"*",263,2.0498597240547433E-2,0.12994923857868021]
[84,null,4,"Lehigh (Allentown), PA - Northampton, PA","PA: Lehigh County (42077)","PA: Lehigh County (42077)","42077","  Lehigh  ",{"$f":"ROWS($L$2:L2282)","v":2281},{"$f":"IF(L2282=WORKSHEET!$B$1,I2282,\"\")","v":""},"","PENNSYLVANIA","Lehigh County",428,33,254,"*",719,2.0498597240547433E-2,8.4367245657568243E-2]
[78,null,4,"Luzerne (Wilkes-Barre), PA - Columbia, PA","PA: Luzerne County (42079)","PA: Luzerne County (42079)","42079","  Luzerne  ",{"$f":"ROWS($L$2:L2283)","v":2282},{"$f":"IF(L2283=WORKSHEET!$B$1,I2283,\"\")","v":""},"","PENNSYLVANIA","Luzerne County",348,12,214,"*",575,2.0498597240547433E-2,4.3478260869565216E-2]
[44,null,4,"Lycoming (Williamsport), PA - Clinton, PA","PA: Lycoming County (42081)","PA: Lycoming County (42081)","42081","  Lycoming  ",{"$f":"ROWS($L$2:L2284)","v":2283},{"$f":"IF(L2284=WORKSHEET!$B$1,I2284,\"\")","v":""},"","PENNSYLVANIA","Lycoming County",107,24,77,"*",209,2.0498597240547433E-2,0.16763005780346821]
[864,35,4,"Mc Kean, PA - Potter, PA","PA: Mc Kean County (42083)","PA: Mc Kean County (42083)","42083","  Mc Kean  ",{"$f":"ROWS($L$2:L2285)","v":2284},{"$f":"IF(L2285=WORKSHEET!$B$1,I2285,\"\")","v":""},"","PENNSYLVANIA","Mc Kean County",54,{"$f":"+R2285-N2285-P2285","v":5},30,"N/A",89,2.0498597240547433E-2,8.6538461538461536E-2]
[918,345,4,"Mercer, PA","PA: Mercer County (42085)","PA: Mercer County (42085)","42085","  Mercer  ",{"$f":"ROWS($L$2:L2286)","v":2285},{"$f":"IF(L2286=WORKSHEET!$B$1,I2286,\"\")","v":""},"","PENNSYLVANIA","Mercer County",139,{"$f":"+R2286-N2286-P2286","v":10},76,"*",225,2.0498597240547433E-2,8.800773694390715E-2]
[110,null,4,"Mifflin, PA - Huntingdon, PA","PA: Mifflin County (42087)","PA: Mifflin County (42087)","42087","  Mifflin  ",{"$f":"ROWS($L$2:L2287)","v":2286},{"$f":"IF(L2287=WORKSHEET!$B$1,I2287,\"\")","v":""},"","PENNSYLVANIA","Mifflin County",69,{"$f":"+R2287-N2287-P2287","v":5},28,"*",102,2.0498597240547433E-2,6.2857142857142861E-2]
[84,null,4,"Lehigh (Allentown), PA - Northampton, PA","PA: Monroe County (42089)","PA: Monroe County (42089)","42089","  Monroe  ",{"$f":"ROWS($L$2:L2288)","v":2287},{"$f":"IF(L2288=WORKSHEET!$B$1,I2288,\"\")","v":""},"","PENNSYLVANIA","Monroe County",211,22,115,"N/A",348,2.0498597240547433E-2,8.4367245657568243E-2]
[28,null,4,"Philadelphia (Philadelphia), PA - Montgomery, PA","PA: Montgomery County (42091)","PA: Montgomery County (42091)","42091","  Montgomery  ",{"$f":"ROWS($L$2:L2289)","v":2288},{"$f":"IF(L2289=WORKSHEET!$B$1,I2289,\"\")","v":""},"","PENNSYLVANIA","Montgomery County",809,58,564,"*",1435,2.0498597240547433E-2,6.6235632183908044E-2]
[8,null,4,"Schuylkill, PA - Northumberland, PA","PA: Montour County (42093)","PA: Montour County (42093)","42093","  Montour  ",{"$f":"ROWS($L$2:L2290)","v":2289},{"$f":"IF(L2290=WORKSHEET!$B$1,I2290,\"\")","v":""},"","PENNSYLVANIA","Montour County",27,{"$f":"+R2290-N2290-P2290","v":4},19,"N/A",50,2.0498597240547433E-2,0.15815085158150852]
[84,null,4,"Lehigh (Allentown), PA - Northampton, PA","PA: Northampton County (42095)","PA: Northampton County (42095)","42095","  Northampton  ",{"$f":"ROWS($L$2:L2291)","v":2290},{"$f":"IF(L2291=WORKSHEET!$B$1,I2291,\"\")","v":""},"","PENNSYLVANIA","Northampton County",402,40,238,"*",683,2.0498597240547433E-2,8.4367245657568243E-2]
[8,null,4,"Schuylkill, PA - Northumberland, PA","PA: Northumberland County (42097)","PA: Northumberland County (42097)","42097","  Northumberlnd  ",{"$f":"ROWS($L$2:L2292)","v":2291},{"$f":"IF(L2292=WORKSHEET!$B$1,I2292,\"\")","v":""},"","PENNSYLVANIA","Northumberland County",109,14,57,"N/A",180,2.0498597240547433E-2,0.15815085158150852]
[43,null,4,"Dauphin (Harrisburg), PA - Cumberland, PA","PA: Perry County (42099)","PA: Perry County (42099)","42099","  Perry  ",{"$f":"ROWS($L$2:L2293)","v":2292},{"$f":"IF(L2293=WORKSHEET!$B$1,I2293,\"\")","v":""},"","PENNSYLVANIA","Perry County",47,12,28,"N/A",87,2.0498597240547433E-2,0.12994923857868021]
[28,null,4,"Philadelphia (Philadelphia), PA - Montgomery, PA","PA: Philadelphia County (42101)","PA: Philadelphia County (42101)","42101","  Philadelphia  ",{"$f":"ROWS($L$2:L2294)","v":2293},{"$f":"IF(L2294=WORKSHEET!$B$1,I2294,\"\")","v":""},"","PENNSYLVANIA","Philadelphia County",4023,213,1549,"*",5790,2.0498597240547433E-2,6.6235632183908044E-2]
[876,86,4,"Pike, PA","PA: Pike County (42103)","PA: Pike County (42103)","42103","  Pike  ",{"$f":"ROWS($L$2:L2295)","v":2294},{"$f":"IF(L2295=WORKSHEET!$B$1,I2295,\"\")","v":""},"","PENNSYLVANIA","Pike County",47,{"$f":"+R2295-N2295-P2295","v":9},32,"N/A",88,2.0498597240547433E-2,9.9656357388316158E-2]
[864,35,4,"Mc Kean, PA - Potter, PA","PA: Potter County (42105)","PA: Potter County (42105)","42105","  Potter  ",{"$f":"ROWS($L$2:L2296)","v":2295},{"$f":"IF(L2296=WORKSHEET!$B$1,I2296,\"\")","v":""},"","PENNSYLVANIA","Potter County",11,{"$f":"+R2296-N2296-P2296","v":0},11,"N/A",22,2.0498597240547433E-2,8.6538461538461536E-2]
[8,null,4,"Schuylkill, PA - Northumberland, PA","PA: Schuylkill County (42107)","PA: Schuylkill County (42107)","42107","  Schuylkill  ",{"$f":"ROWS($L$2:L2297)","v":2296},{"$f":"IF(L2297=WORKSHEET!$B$1,I2297,\"\")","v":""},"","PENNSYLVANIA","Schuylkill County",149,37,92,"*",282,2.0498597240547433E-2,0.15815085158150852]
[8,null,4,"Schuylkill, PA - Northumberland, PA","PA: Snyder County (42109)","PA: Snyder County (42109)","42109","  Snyder  ",{"$f":"ROWS($L$2:L2298)","v":2297},{"$f":"IF(L2298=WORKSHEET!$B$1,I2298,\"\")","v":""},"","PENNSYLVANIA","Snyder County",33,{"$f":"+R2298-N2298-P2298","v":8},28,"N/A",69,2.0498597240547433E-2,0.15815085158150852]
[57,null,4,"Cambria, PA - Blair (Altoona), PA","PA: Somerset County (42111)","PA: Somerset County (42111)","42111","  Somerset  ",{"$f":"ROWS($L$2:L2299)","v":2298},{"$f":"IF(L2299=WORKSHEET!$B$1,I2299,\"\")","v":""},"","PENNSYLVANIA","Somerset County",64,13,46,"N/A",123,2.0498597240547433E-2,0.16304347826086957]
[858,19,4,"Bradford, PA - Susquehanna, PA","PA: Sullivan County (42113)","PA: Sullivan County (42113)","42113","  Sullivan  ",{"$f":"ROWS($L$2:L2300)","v":2299},{"$f":"IF(L2300=WORKSHEET!$B$1,I2300,\"\")","v":""},"","PENNSYLVANIA","Sullivan County","*","*","*","N/A","*",2.0498597240547433E-2,0.20812182741116753]
[858,19,4,"Bradford, PA - Susquehanna, PA","PA: Susquehanna County (42115)","PA: Susquehanna County (42115)","42115","  Susquehanna  ",{"$f":"ROWS($L$2:L2301)","v":2300},{"$f":"IF(L2301=WORKSHEET!$B$1,I2301,\"\")","v":""},"","PENNSYLVANIA","Susquehanna County",39,{"$f":"+R2301-N2301-P2301","v":7},18,"N/A",64,2.0498597240547433E-2,0.20812182741116753]
[128,null,4,"Tioga, PA","PA: Tioga County (42117)","PA: Tioga County (42117)","42117","  Tioga  ",{"$f":"ROWS($L$2:L2302)","v":2301},{"$f":"IF(L2302=WORKSHEET!$B$1,I2302,\"\")","v":""},"","PENNSYLVANIA","Tioga County",37,{"$f":"+R2302-N2302-P2302","v":5},16,"N/A",58,2.0498597240547433E-2,0.11904761904761904]
[8,null,4,"Schuylkill, PA - Northumberland, PA","PA: Union County (42119)","PA: Union County (42119)","42119","  Union  ",{"$f":"ROWS($L$2:L2303)","v":2302},{"$f":"IF(L2303=WORKSHEET!$B$1,I2303,\"\")","v":""},"","PENNSYLVANIA","Union County",28,{"$f":"+R2303-N2303-P2303","v":2},21,"N/A",51,2.0498597240547433E-2,0.15815085158150852]
[52,null,4,"Venango, PA - Clarion, PA","PA: Venango County (42121)","PA: Venango County (42121)","42121","  Venango  ",{"$f":"ROWS($L$2:L2304)","v":2303},{"$f":"IF(L2304=WORKSHEET!$B$1,I2304,\"\")","v":""},"","PENNSYLVANIA","Venango County",49,{"$f":"+R2304-N2304-P2304","v":11},29,"*",89,2.0498597240547433E-2,0.11320754716981132]
[880,106,4,"Erie (Erie), PA - Warren, PA","PA: Warren County (42123)","PA: Warren County (42123)","42123","  Warren  ",{"$f":"ROWS($L$2:L2305)","v":2304},{"$f":"IF(L2305=WORKSHEET!$B$1,I2305,\"\")","v":""},"","PENNSYLVANIA","Warren County",34,{"$f":"+R2305-N2305-P2305","v":7},23,"N/A",64,2.0498597240547433E-2,0.16282894736842105]
[100,null,4,"Washington, PA - Fayette, PA","PA: Washington County (42125)","PA: Washington County (42125)","42125","  Washington  ",{"$f":"ROWS($L$2:L2306)","v":2305},{"$f":"IF(L2306=WORKSHEET!$B$1,I2306,\"\")","v":""},"","PENNSYLVANIA","Washington County",266,25,165,"*",457,2.0498597240547433E-2,9.0753424657534248E-2]
[47,null,4,"Lackawanna (Scranton), PA - Wayne, PA","PA: Wayne County (42127)","PA: Wayne County (42127)","42127","  Wayne  ",{"$f":"ROWS($L$2:L2307)","v":2306},{"$f":"IF(L2307=WORKSHEET!$B$1,I2307,\"\")","v":""},{"$f":"IFERROR(SMALL($J$2:$J$3142,I2307),\"\")","v":""},"PENNSYLVANIA","Wayne County",46,14,50,"*",111,2.0498597240547433E-2,0.15727002967359049]
[42,null,4,"Allegheny (Pittsburgh), PA - Westmoreland, PA","PA: Westmoreland County (42129)","PA: Westmoreland County (42129)","42129","  Westmoreland  ",{"$f":"ROWS($L$2:L2308)","v":2307},{"$f":"IF(L2308=WORKSHEET!$B$1,I2308,\"\")","v":""},"","PENNSYLVANIA","Westmoreland County",429,38,285,"*",753,2.0498597240547433E-2,6.9362261669953976E-2]
[78,null,4,"Luzerne (Wilkes-Barre), PA - Columbia, PA","PA: Wyoming County (42131)","PA: Wyoming County (42131)","42131","  Wyoming  ",{"$f":"ROWS($L$2:L2309)","v":2308},{"$f":"IF(L2309=WORKSHEET!$B$1,I2309,\"\")","v":""},"","PENNSYLVANIA","Wyoming County",32,{"$f":"+R2309-N2309-P2309","v":5},22,"N/A",59,2.0498597240547433E-2,4.3478260869565216E-2]
[868,48,4,"York (York), PA - Adams, PA","PA: York County (42133)","PA: York County (42133)","42133","  York  ",{"$f":"ROWS($L$2:L2310)","v":2309},{"$f":"IF(L2310=WORKSHEET!$B$1,I2310,\"\")","v":""},"","PENNSYLVANIA","York County",404,57,275,"*",740,2.0498597240547433E-2,0.12387096774193548]
[859,20,1,"Providence (Providence), RI - Kent, RI","RI: Bristol County (44001)","RI: Bristol County (44001)","44001","Bristol  ",{"$f":"ROWS($L$2:L2311)","v":2310},{"$f":"IF(L2311=WORKSHEET!$B$1,I2311,\"\")","v":""},"","RHODE ISLAND","Bristol County",33,{"$f":"+R2311-N2311-P2311","v":1},26,"N/A",60,2.1156934020173799E-2,6.5977742448330684E-2]
[859,20,1,"Providence (Providence), RI - Kent, RI","RI: Kent County (44003)","RI: Kent County (44003)","44003","  Kent  ",{"$f":"ROWS($L$2:L2312)","v":2311},{"$f":"IF(L2312=WORKSHEET!$B$1,I2312,\"\")","v":""},"","RHODE ISLAND","Kent County",160,{"$f":"+R2312-N2312-P2312","v":10},105,"N/A",275,2.1156934020173799E-2,6.5977742448330684E-2]
[871,68,1,"Newport, RI","RI: Newport County (44005)","RI: Newport County (44005)","44005","  Newport  ",{"$f":"ROWS($L$2:L2313)","v":2312},{"$f":"IF(L2313=WORKSHEET!$B$1,I2313,\"\")","v":""},"","RHODE ISLAND","Newport County",70,{"$f":"+R2313-N2313-P2313","v":4},32,"N/A",106,2.1156934020173799E-2,7.2485207100591711E-2]
[859,20,1,"Providence (Providence), RI - Kent, RI","RI: Providence County (44007)","RI: Providence County (44007)","44007","  Providence  ",{"$f":"ROWS($L$2:L2314)","v":2313},{"$f":"IF(L2314=WORKSHEET!$B$1,I2314,\"\")","v":""},"","RHODE ISLAND","Providence County",692,31,398,"*",1123,2.1156934020173799E-2,6.5977742448330684E-2]
[859,20,1,"Providence (Providence), RI - Kent, RI","RI: Washington County (44009)","RI: Washington County (44009)","44009","  Washington  ",{"$f":"ROWS($L$2:L2315)","v":2314},{"$f":"IF(L2315=WORKSHEET!$B$1,I2315,\"\")","v":""},"","RHODE ISLAND","Washington County",80,{"$f":"+R2315-N2315-P2315","v":6},71,"*",157,2.1156934020173799E-2,6.5977742448330684E-2]
[187,null,6,"Laurens, SC - Greenwood, SC","SC: Abbeville County (45001)","SC: Abbeville County (45001)","45001","Abbeville  ",{"$f":"ROWS($L$2:L2316)","v":2315},{"$f":"IF(L2316=WORKSHEET!$B$1,I2316,\"\")","v":""},"","SOUTH CAROLINA","Abbeville County",47,{"$f":"+R2316-N2316-P2316","v":9},18,"N/A",74,3.316512684006382E-2,0.13394919168591224]
[889,152,6,"Aiken, SC - Edgefield, SC","SC: Aiken County (45003)","SC: Aiken County (45003)","45003","  Aiken  ",{"$f":"ROWS($L$2:L2317)","v":2316},{"$f":"IF(L2317=WORKSHEET!$B$1,I2317,\"\")","v":""},"","SOUTH CAROLINA","Aiken County",292,61,82,"*",436,3.316512684006382E-2,9.9939061547836688E-2]
[176,null,6,"Orangeburg, SC - Bamberg, SC","SC: Allendale County (45005)","SC: Allendale County (45005)","45005","  Allendale  ",{"$f":"ROWS($L$2:L2318)","v":2317},{"$f":"IF(L2318=WORKSHEET!$B$1,I2318,\"\")","v":""},"","SOUTH CAROLINA","Allendale County",63,"*","*","*",76,3.316512684006382E-2,8.8122605363984668E-2]
[182,null,6,"Greenville (Greenville), SC - Anderson, SC","SC: Anderson County (45007)","SC: Anderson County (45007)","45007","  Anderson  ",{"$f":"ROWS($L$2:L2319)","v":2318},{"$f":"IF(L2319=WORKSHEET!$B$1,I2319,\"\")","v":""},"","SOUTH CAROLINA","Anderson County",239,29,97,"N/A",365,3.316512684006382E-2,0.15203252032520326]
[176,null,6,"Orangeburg, SC - Bamberg, SC","SC: Bamberg County (45009)","SC: Bamberg County (45009)","45009","  Bamberg  ",{"$f":"ROWS($L$2:L2320)","v":2319},{"$f":"IF(L2320=WORKSHEET!$B$1,I2320,\"\")","v":""},"","SOUTH CAROLINA","Bamberg County",63,{"$f":"+R2320-N2320-P2320","v":2},12,"N/A",77,3.316512684006382E-2,8.8122605363984668E-2]
[889,152,6,"Aiken, SC - Edgefield, SC","SC: Barnwell County (45011)","SC: Barnwell County (45011)","45011","  Barnwell  ",{"$f":"ROWS($L$2:L2321)","v":2320},{"$f":"IF(L2321=WORKSHEET!$B$1,I2321,\"\")","v":""},"","SOUTH CAROLINA","Barnwell County",65,11,19,"N/A",95,3.316512684006382E-2,9.9939061547836688E-2]
[886,143,6,"Beaufort, SC - Jasper, SC","SC: Beaufort County (45013)","SC: Beaufort County (45013)","45013","  Beaufort  ",{"$f":"ROWS($L$2:L2322)","v":2321},{"$f":"IF(L2322=WORKSHEET!$B$1,I2322,\"\")","v":""},"","SOUTH CAROLINA","Beaufort County",200,21,96,"*",320,3.316512684006382E-2,0.117395029991431]
[212,null,6,"Charleston (Charleston), SC - Berkeley, SC","SC: Berkeley County (45015)","SC: Berkeley County (45015)","45015","  Berkeley  ",{"$f":"ROWS($L$2:L2323)","v":2322},{"$f":"IF(L2323=WORKSHEET!$B$1,I2323,\"\")","v":""},"","SOUTH CAROLINA","Berkeley County",242,40,121,"*",404,3.316512684006382E-2,0.12126984126984126]
[176,null,6,"Orangeburg, SC - Bamberg, SC","SC: Calhoun County (45017)","SC: Calhoun County (45017)","45017","  Calhoun  ",{"$f":"ROWS($L$2:L2324)","v":2323},{"$f":"IF(L2324=WORKSHEET!$B$1,I2324,\"\")","v":""},"","SOUTH CAROLINA","Calhoun County",34,"*","*","N/A",44,3.316512684006382E-2,8.8122605363984668E-2]
[212,null,6,"Charleston (Charleston), SC - Berkeley, SC","SC: Charleston County (45019)","SC: Charleston County (45019)","45019","  Charleston  ",{"$f":"ROWS($L$2:L2325)","v":2324},{"$f":"IF(L2325=WORKSHEET!$B$1,I2325,\"\")","v":""},"","SOUTH CAROLINA","Charleston County",756,82,329,"*",1168,3.316512684006382E-2,0.12126984126984126]
[898,191,6,"Spartanburg (Spartanburg), SC - Cherokee, SC","SC: Cherokee County (45021)","SC: Cherokee County (45021)","45021","  Cherokee  ",{"$f":"ROWS($L$2:L2326)","v":2325},{"$f":"IF(L2326=WORKSHEET!$B$1,I2326,\"\")","v":""},"","SOUTH CAROLINA","Cherokee County",111,22,20,"N/A",153,3.316512684006382E-2,0.143826322930801]
[244,null,6,"York (Rock Hill), SC - Chester, SC","SC: Chester County (45023)","SC: Chester County (45023)","45023","  Chester  ",{"$f":"ROWS($L$2:L2327)","v":2326},{"$f":"IF(L2327=WORKSHEET!$B$1,I2327,\"\")","v":""},"","SOUTH CAROLINA","Chester County",82,{"$f":"+R2327-N2327-P2327","v":9},17,"*",108,3.316512684006382E-2,7.1428571428571425E-2]
[184,null,6,"Florence (Florence), SC - Darlington, SC","SC: Chesterfield County (45025)","SC: Chesterfield County (45025)","45025","  Chesterfield  ",{"$f":"ROWS($L$2:L2328)","v":2327},{"$f":"IF(L2328=WORKSHEET!$B$1,I2328,\"\")","v":""},"","SOUTH CAROLINA","Chesterfield County",124,{"$f":"+R2328-N2328-P2328","v":3},29,"N/A",156,3.316512684006382E-2,6.9508804448563485E-2]
[196,null,6,"Sumter, SC - Clarendon, SC","SC: Clarendon County (45027)","SC: Clarendon County (45027)","45027","  Clarendon  ",{"$f":"ROWS($L$2:L2329)","v":2328},{"$f":"IF(L2329=WORKSHEET!$B$1,I2329,\"\")","v":""},"","SOUTH CAROLINA","Clarendon County",87,{"$f":"+R2329-N2329-P2329","v":10},24,"N/A",121,3.316512684006382E-2,8.0912863070539423E-2]
[212,null,6,"Charleston (Charleston), SC - Berkeley, SC","SC: Colleton County (45029)","SC: Colleton County (45029)","45029","  Colleton  ",{"$f":"ROWS($L$2:L2330)","v":2329},{"$f":"IF(L2330=WORKSHEET!$B$1,I2330,\"\")","v":""},"","SOUTH CAROLINA","Colleton County",126,18,25,"*",170,3.316512684006382E-2,0.12126984126984126]
[184,null,6,"Florence (Florence), SC - Darlington, SC","SC: Darlington County (45031)","SC: Darlington County (45031)","45031","  Darlington  ",{"$f":"ROWS($L$2:L2331)","v":2330},{"$f":"IF(L2331=WORKSHEET!$B$1,I2331,\"\")","v":""},"","SOUTH CAROLINA","Darlington County",194,22,32,"*",249,3.316512684006382E-2,6.9508804448563485E-2]
[199,null,6,"Marion, SC - Dillon, SC","SC: Dillon County (45033)","SC: Dillon County (45033)","45033","  Dillon  ",{"$f":"ROWS($L$2:L2332)","v":2331},{"$f":"IF(L2332=WORKSHEET!$B$1,I2332,\"\")","v":""},"","SOUTH CAROLINA","Dillon County",91,{"$f":"+R2332-N2332-P2332","v":10},18,"N/A",119,3.316512684006382E-2,9.9585062240663894E-2]
[212,null,6,"Charleston (Charleston), SC - Berkeley, SC","SC: Dorchester County (45035)","SC: Dorchester County (45035)","45035","  Dorchester  ",{"$f":"ROWS($L$2:L2333)","v":2332},{"$f":"IF(L2333=WORKSHEET!$B$1,I2333,\"\")","v":""},"","SOUTH CAROLINA","Dorchester County",187,37,102,"*",327,3.316512684006382E-2,0.12126984126984126]
[889,152,6,"Aiken, SC - Edgefield, SC","SC: Edgefield County (45037)","SC: Edgefield County (45037)","45037","  Edgefield  ",{"$f":"ROWS($L$2:L2334)","v":2333},{"$f":"IF(L2334=WORKSHEET!$B$1,I2334,\"\")","v":""},"","SOUTH CAROLINA","Edgefield County",47,"*","*","N/A",65,3.316512684006382E-2,9.9939061547836688E-2]
[160,null,6,"Richland (Columbia), SC - Lexington, SC","SC: Fairfield County (45039)","SC: Fairfield County (45039)","45039","  Fairfield  ",{"$f":"ROWS($L$2:L2335)","v":2334},{"$f":"IF(L2335=WORKSHEET!$B$1,I2335,\"\")","v":""},"","SOUTH CAROLINA","Fairfield County",62,{"$f":"+R2335-N2335-P2335","v":6},32,"*",100,3.316512684006382E-2,0.10110041265474554]
[184,null,6,"Florence (Florence), SC - Darlington, SC","SC: Florence County (45041)","SC: Florence County (45041)","45041","  Florence  ",{"$f":"ROWS($L$2:L2336)","v":2335},{"$f":"IF(L2336=WORKSHEET!$B$1,I2336,\"\")","v":""},"","SOUTH CAROLINA","Florence County",426,36,80,"*",545,3.316512684006382E-2,6.9508804448563485E-2]
[246,null,6,"Horry, SC - Georgetown, SC","SC: Georgetown County (45043)","SC: Georgetown County (45043)","45043","  Georgetown  ",{"$f":"ROWS($L$2:L2337)","v":2336},{"$f":"IF(L2337=WORKSHEET!$B$1,I2337,\"\")","v":""},"","SOUTH CAROLINA","Georgetown County",179,11,66,"N/A",256,3.316512684006382E-2,7.131782945736434E-2]
[182,null,6,"Greenville (Greenville), SC - Anderson, SC","SC: Greenville County (45045)","SC: Greenville County (45045)","45045","  Greenville  ",{"$f":"ROWS($L$2:L2338)","v":2337},{"$f":"IF(L2338=WORKSHEET!$B$1,I2338,\"\")","v":""},"","SOUTH CAROLINA","Greenville County",621,114,233,"*",970,3.316512684006382E-2,0.15203252032520326]
[187,null,6,"Laurens, SC - Greenwood, SC","SC: Greenwood County (45047)","SC: Greenwood County (45047)","45047","  Greenwood  ",{"$f":"ROWS($L$2:L2339)","v":2338},{"$f":"IF(L2339=WORKSHEET!$B$1,I2339,\"\")","v":""},"","SOUTH CAROLINA","Greenwood County",130,21,47,"N/A",198,3.316512684006382E-2,0.13394919168591224]
[212,null,6,"Charleston (Charleston), SC - Berkeley, SC","SC: Hampton County (45049)","SC: Hampton County (45049)","45049","  Hampton  ",{"$f":"ROWS($L$2:L2340)","v":2339},{"$f":"IF(L2340=WORKSHEET!$B$1,I2340,\"\")","v":""},"","SOUTH CAROLINA","Hampton County",73,14,18,"*",106,3.316512684006382E-2,0.12126984126984126]
[246,null,6,"Horry, SC - Georgetown, SC","SC: Horry County (45051)","SC: Horry County (45051)","45051","  Horry  ",{"$f":"ROWS($L$2:L2341)","v":2340},{"$f":"IF(L2341=WORKSHEET!$B$1,I2341,\"\")","v":""},"","SOUTH CAROLINA","Horry County",420,35,176,"*",636,3.316512684006382E-2,7.131782945736434E-2]
[886,143,6,"Beaufort, SC - Jasper, SC","SC: Jasper County (45053)","SC: Jasper County (45053)","45053","  Jasper  ",{"$f":"ROWS($L$2:L2342)","v":2341},{"$f":"IF(L2342=WORKSHEET!$B$1,I2342,\"\")","v":""},"","SOUTH CAROLINA","Jasper County",66,{"$f":"+R2342-N2342-P2342","v":8},21,"N/A",95,3.316512684006382E-2,0.11739502999143102]
[249,null,6,"Lancaster, SC - Kershaw, SC","SC: Kershaw County (45055)","SC: Kershaw County (45055)","45055","  Kershaw  ",{"$f":"ROWS($L$2:L2343)","v":2342},{"$f":"IF(L2343=WORKSHEET!$B$1,I2343,\"\")","v":""},"","SOUTH CAROLINA","Kershaw County",131,18,43,"N/A",192,3.316512684006382E-2,0.11929824561403508]
[249,null,6,"Lancaster, SC - Kershaw, SC","SC: Lancaster County (45057)","SC: Lancaster County (45057)","45057","  Lancaster  ",{"$f":"ROWS($L$2:L2344)","v":2343},{"$f":"IF(L2344=WORKSHEET!$B$1,I2344,\"\")","v":""},"","SOUTH CAROLINA","Lancaster County",120,16,22,"*",159,3.316512684006382E-2,0.11929824561403508]
[187,null,6,"Laurens, SC - Greenwood, SC","SC: Laurens County (45059)","SC: Laurens County (45059)","45059","  Laurens  ",{"$f":"ROWS($L$2:L2345)","v":2344},{"$f":"IF(L2345=WORKSHEET!$B$1,I2345,\"\")","v":""},"","SOUTH CAROLINA","Laurens County",127,15,34,"N/A",176,3.316512684006382E-2,0.13394919168591224]
[196,null,6,"Sumter, SC - Clarendon, SC","SC: Lee County (45061)","SC: Lee County (45061)","45061","  Lee  ",{"$f":"ROWS($L$2:L2346)","v":2345},{"$f":"IF(L2346=WORKSHEET!$B$1,I2346,\"\")","v":""},"","SOUTH CAROLINA","Lee County",66,{"$f":"+R2346-N2346-P2346","v":7},12,"N/A",85,3.316512684006382E-2,8.0912863070539423E-2]
[160,null,6,"Richland (Columbia), SC - Lexington, SC","SC: Lexington County (45063)","SC: Lexington County (45063)","45063","  Lexington  ",{"$f":"ROWS($L$2:L2347)","v":2346},{"$f":"IF(L2347=WORKSHEET!$B$1,I2347,\"\")","v":""},"","SOUTH CAROLINA","Lexington County",321,52,163,"*",538,3.316512684006382E-2,0.10110041265474554]
[199,null,6,"Marion, SC - Dillon, SC","SC: Marion County (45067)","SC: Marion County (45067)","45067","  Marion  ",{"$f":"ROWS($L$2:L2348)","v":2347},{"$f":"IF(L2348=WORKSHEET!$B$1,I2348,\"\")","v":""},"","SOUTH CAROLINA","Marion County",126,14,"*","*",151,3.316512684006382E-2,9.9585062240663894E-2]
[184,null,6,"Florence (Florence), SC - Darlington, SC","SC: Marlboro County (45069)","SC: Marlboro County (45069)","45069","  Marlboro  ",{"$f":"ROWS($L$2:L2349)","v":2348},{"$f":"IF(L2349=WORKSHEET!$B$1,I2349,\"\")","v":""},"","SOUTH CAROLINA","Marlboro County",110,{"$f":"+R2349-N2349-P2349","v":9},22,"N/A",141,3.316512684006382E-2,6.9508804448563485E-2]
[187,null,6,"Laurens, SC - Greenwood, SC","SC: McCormick County (45065)","SC: McCormick County (45065)","45065","  Mccormick  ",{"$f":"ROWS($L$2:L2350)","v":2349},{"$f":"IF(L2350=WORKSHEET!$B$1,I2350,\"\")","v":""},"","SOUTH CAROLINA","McCormick County",22,"*","*","N/A",37,3.316512684006382E-2,0.13394919168591224]
[160,null,6,"Richland (Columbia), SC - Lexington, SC","SC: Newberry County (45071)","SC: Newberry County (45071)","45071","  Newberry  ",{"$f":"ROWS($L$2:L2351)","v":2350},{"$f":"IF(L2351=WORKSHEET!$B$1,I2351,\"\")","v":""},"","SOUTH CAROLINA","Newberry County",90,11,30,"N/A",131,3.316512684006382E-2,0.10110041265474554]
[182,null,6,"Greenville (Greenville), SC - Anderson, SC","SC: Oconee County (45073)","SC: Oconee County (45073)","45073","  Oconee  ",{"$f":"ROWS($L$2:L2352)","v":2351},{"$f":"IF(L2352=WORKSHEET!$B$1,I2352,\"\")","v":""},"","SOUTH CAROLINA","Oconee County",86,{"$f":"+R2352-N2352-P2352","v":10},34,"*",130,3.316512684006382E-2,0.15203252032520326]
[176,null,6,"Orangeburg, SC - Bamberg, SC","SC: Orangeburg County (45075)","SC: Orangeburg County (45075)","45075","  Orangeburg  ",{"$f":"ROWS($L$2:L2353)","v":2352},{"$f":"IF(L2353=WORKSHEET!$B$1,I2353,\"\")","v":""},"","SOUTH CAROLINA","Orangeburg County",316,39,68,"N/A",423,3.316512684006382E-2,8.8122605363984668E-2]
[182,null,6,"Greenville (Greenville), SC - Anderson, SC","SC: Pickens County (45077)","SC: Pickens County (45077)","45077","  Pickens  ",{"$f":"ROWS($L$2:L2354)","v":2353},{"$f":"IF(L2354=WORKSHEET!$B$1,I2354,\"\")","v":""},"","SOUTH CAROLINA","Pickens County",97,35,54,"N/A",186,3.316512684006382E-2,0.15203252032520326]
[160,null,6,"Richland (Columbia), SC - Lexington, SC","SC: Richland County (45079)","SC: Richland County (45079)","45079","  Richland  ",{"$f":"ROWS($L$2:L2355)","v":2354},{"$f":"IF(L2355=WORKSHEET!$B$1,I2355,\"\")","v":""},"","SOUTH CAROLINA","Richland County",834,79,264,"*",1178,3.316512684006382E-2,0.10110041265474554]
[187,null,6,"Laurens, SC - Greenwood, SC","SC: Saluda County (45081)","SC: Saluda County (45081)","45081","  Saluda  ",{"$f":"ROWS($L$2:L2356)","v":2355},{"$f":"IF(L2356=WORKSHEET!$B$1,I2356,\"\")","v":""},"","SOUTH CAROLINA","Saluda County",49,"*","*","N/A",58,3.316512684006382E-2,0.13394919168591224]
[898,191,6,"Spartanburg (Spartanburg), SC - Cherokee, SC","SC: Spartanburg County (45083)","SC: Spartanburg County (45083)","45083","  Spartanburg  ",{"$f":"ROWS($L$2:L2357)","v":2356},{"$f":"IF(L2357=WORKSHEET!$B$1,I2357,\"\")","v":""},"","SOUTH CAROLINA","Spartanburg County",442,69,122,"*",635,3.316512684006382E-2,0.143826322930801]
[196,null,6,"Sumter, SC - Clarendon, SC","SC: Sumter County (45085)","SC: Sumter County (45085)","45085","  Sumter  ",{"$f":"ROWS($L$2:L2358)","v":2357},{"$f":"IF(L2358=WORKSHEET!$B$1,I2358,\"\")","v":""},"","SOUTH CAROLINA","Sumter County",290,22,76,"*",390,3.316512684006382E-2,8.0912863070539423E-2]
[898,191,6,"Spartanburg (Spartanburg), SC - Cherokee, SC","SC: Union County (45087)","SC: Union County (45087)","45087","  Union  ",{"$f":"ROWS($L$2:L2359)","v":2358},{"$f":"IF(L2359=WORKSHEET!$B$1,I2359,\"\")","v":""},"","SOUTH CAROLINA","Union County",65,{"$f":"+R2359-N2359-P2359","v":9},23,"N/A",97,3.316512684006382E-2,0.143826322930801]
[184,null,6,"Florence (Florence), SC - Darlington, SC","SC: Williamsburg County (45089)","SC: Williamsburg County (45089)","45089","  Williamsburg  ",{"$f":"ROWS($L$2:L2360)","v":2359},{"$f":"IF(L2360=WORKSHEET!$B$1,I2360,\"\")","v":""},"","SOUTH CAROLINA","Williamsburg County",150,{"$f":"+R2360-N2360-P2360","v":5},15,"N/A",170,3.316512684006382E-2,6.9508804448563485E-2]
[244,null,6,"York (Rock Hill), SC - Chester, SC","SC: York County (45091)","SC: York County (45091)","45091","  York  ",{"$f":"ROWS($L$2:L2361)","v":2360},{"$f":"IF(L2361=WORKSHEET!$B$1,I2361,\"\")","v":""},"","SOUTH CAROLINA","York County",308,22,135,"*",467,3.316512684006382E-2,7.1428571428571425E-2]
[615,null,11,"Davison, SD - Charles Mix, SD","SD: Aurora County (46003)","SD: Aurora County (46003)","46003","Aurora  ",{"$f":"ROWS($L$2:L2362)","v":2361},{"$f":"IF(L2362=WORKSHEET!$B$1,I2362,\"\")","v":""},"","SOUTH DAKOTA","Aurora County","N/A","N/A","*","N/A","*",1.8426754284955972E-2,0.10227272727272728]
[600,null,11,"Beadle, SD - Hand, SD","SD: Beadle County (46005)","SD: Beadle County (46005)","46005","  Beadle  ",{"$f":"ROWS($L$2:L2363)","v":2362},{"$f":"IF(L2363=WORKSHEET!$B$1,I2363,\"\")","v":""},"","SOUTH DAKOTA","Beadle County",16,{"$f":"+R2363-N2363-P2363","v":0},16,"N/A",32,1.8426754284955972E-2,0.15]
[957,600,11,"Shannon, SD - Bennett, SD","SD: Bennett County (46007)","SD: Bennett County (46007)","46007","  Bennett  ",{"$f":"ROWS($L$2:L2364)","v":2363},{"$f":"IF(L2364=WORKSHEET!$B$1,I2364,\"\")","v":""},"","SOUTH DAKOTA","Bennett County","*","*","*","*",12,1.8426754284955972E-2,0.15]
[947,578,11,"Yankton, SD - Clay, SD","SD: Bon Homme County (46009)","SD: Bon Homme County (46009)","46009","  Bon Homme  ",{"$f":"ROWS($L$2:L2365)","v":2364},{"$f":"IF(L2365=WORKSHEET!$B$1,I2365,\"\")","v":""},"","SOUTH DAKOTA","Bon Homme County","*","N/A","*","N/A","*",1.8426754284955972E-2,9.0909090909090912E-2]
[610,null,11,"Brookings, SD - Kingsbury, SD","SD: Brookings County (46011)","SD: Brookings County (46011)","46011","  Brookings  ",{"$f":"ROWS($L$2:L2366)","v":2365},{"$f":"IF(L2366=WORKSHEET!$B$1,I2366,\"\")","v":""},"","SOUTH DAKOTA","Brookings County",12,{"$f":"+R2366-N2366-P2366","v":2},21,"N/A",35,1.8426754284955972E-2,0.1111111111111111]
[572,null,11,"Brown, SD - Spink, SD","SD: Brown County (46013)","SD: Brown County (46013)","46013","  Brown  ",{"$f":"ROWS($L$2:L2367)","v":2366},{"$f":"IF(L2367=WORKSHEET!$B$1,I2367,\"\")","v":""},"","SOUTH DAKOTA","Brown County",36,{"$f":"+R2367-N2367-P2367","v":5},26,"N/A",67,1.8426754284955972E-2,0.1206896551724138]
[615,null,11,"Davison, SD - Charles Mix, SD","SD: Brule County (46015)","SD: Brule County (46015)","46015","  Brule  ",{"$f":"ROWS($L$2:L2368)","v":2367},{"$f":"IF(L2368=WORKSHEET!$B$1,I2368,\"\")","v":""},"","SOUTH DAKOTA","Brule County","*","*","*","N/A",18,1.8426754284955972E-2,0.10227272727272728]
[615,null,11,"Davison, SD - Charles Mix, SD","SD: Buffalo County (46017)","SD: Buffalo County (46017)","46017","  Buffalo  ",{"$f":"ROWS($L$2:L2369)","v":2368},{"$f":"IF(L2369=WORKSHEET!$B$1,I2369,\"\")","v":""},"","SOUTH DAKOTA","Buffalo County",15,"*","*","N/A",20,1.8426754284955972E-2,0.10227272727272728]
[558,null,11,"Pennington (Rapid City), SD - Meade, SD","SD: Butte County (46019)","SD: Butte County (46019)","46019","  Butte  ",{"$f":"ROWS($L$2:L2370)","v":2369},{"$f":"IF(L2370=WORKSHEET!$B$1,I2370,\"\")","v":""},"","SOUTH DAKOTA","Butte County","*","N/A","*","N/A",14,1.8426754284955972E-2,4.790419161676647E-2]
[648,null,11,"Dewey, SD - Walworth, SD","SD: Campbell County (46021)","SD: Campbell County (46021)","46021","  Campbell  ",{"$f":"ROWS($L$2:L2371)","v":2370},{"$f":"IF(L2371=WORKSHEET!$B$1,I2371,\"\")","v":""},{"$f":"IFERROR(SMALL($J$2:$J$3142,I2371),\"\")","v":""},"SOUTH DAKOTA","Campbell County","*","N/A","*","N/A","*",1.8426754284955972E-2,2.8985507246376812E-2]
[615,null,11,"Davison, SD - Charles Mix, SD","SD: Charles Mix County (46023)","SD: Charles Mix County (46023)","46023","  Charles Mix  ",{"$f":"ROWS($L$2:L2372)","v":2371},{"$f":"IF(L2372=WORKSHEET!$B$1,I2372,\"\")","v":""},"","SOUTH DAKOTA","Charles Mix County",16,"*","*","*",30,1.8426754284955972E-2,0.10227272727272728]
[568,null,11,"Codington, SD - Grant, SD","SD: Clark County (46025)","SD: Clark County (46025)","46025","  Clark  ",{"$f":"ROWS($L$2:L2373)","v":2372},{"$f":"IF(L2373=WORKSHEET!$B$1,I2373,\"\")","v":""},"","SOUTH DAKOTA","Clark County","*","*","*","N/A","*",1.8426754284955972E-2,0.12820512820512819]
[947,578,11,"Yankton, SD - Clay, SD","SD: Clay County (46027)","SD: Clay County (46027)","46027","  Clay  ",{"$f":"ROWS($L$2:L2374)","v":2373},{"$f":"IF(L2374=WORKSHEET!$B$1,I2374,\"\")","v":""},"","SOUTH DAKOTA","Clay County","*","N/A","*","N/A",13,1.8426754284955972E-2,9.0909090909090912E-2]
[568,null,11,"Codington, SD - Grant, SD","SD: Codington County (46029)","SD: Codington County (46029)","46029","  Codington  ",{"$f":"ROWS($L$2:L2375)","v":2374},{"$f":"IF(L2375=WORKSHEET!$B$1,I2375,\"\")","v":""},"","SOUTH DAKOTA","Codington County",23,{"$f":"+R2375-N2375-P2375","v":2},23,"N/A",48,1.8426754284955972E-2,0.12820512820512819]
[648,null,11,"Dewey, SD - Walworth, SD","SD: Corson County (46031)","SD: Corson County (46031)","46031","  Corson  ",{"$f":"ROWS($L$2:L2376)","v":2375},{"$f":"IF(L2376=WORKSHEET!$B$1,I2376,\"\")","v":""},"","SOUTH DAKOTA","Corson County",18,"*","*","N/A",20,1.8426754284955972E-2,2.8985507246376812E-2]
[558,null,11,"Pennington (Rapid City), SD - Meade, SD","SD: Custer County (46033)","SD: Custer County (46033)","46033","  Custer  ",{"$f":"ROWS($L$2:L2377)","v":2376},{"$f":"IF(L2377=WORKSHEET!$B$1,I2377,\"\")","v":""},"","SOUTH DAKOTA","Custer County","*","N/A","*","N/A","*",1.8426754284955972E-2,4.790419161676647E-2]
[615,null,11,"Davison, SD - Charles Mix, SD","SD: Davison County (46035)","SD: Davison County (46035)","46035","  Davison  ",{"$f":"ROWS($L$2:L2378)","v":2377},{"$f":"IF(L2378=WORKSHEET!$B$1,I2378,\"\")","v":""},"","SOUTH DAKOTA","Davison County",31,{"$f":"+R2378-N2378-P2378","v":1},17,"N/A",49,1.8426754284955972E-2,0.10227272727272728]
[572,null,11,"Brown, SD - Spink, SD","SD: Day County (46037)","SD: Day County (46037)","46037","  Day  ",{"$f":"ROWS($L$2:L2379)","v":2378},{"$f":"IF(L2379=WORKSHEET!$B$1,I2379,\"\")","v":""},"","SOUTH DAKOTA","Day County","*","*","*","N/A",16,1.8426754284955972E-2,0.1206896551724138]
[568,null,11,"Codington, SD - Grant, SD","SD: Deuel County (46039)","SD: Deuel County (46039)","46039","  Deuel  ",{"$f":"ROWS($L$2:L2380)","v":2379},{"$f":"IF(L2380=WORKSHEET!$B$1,I2380,\"\")","v":""},"","SOUTH DAKOTA","Deuel County","*","*","*","N/A","*",1.8426754284955972E-2,0.12820512820512819]
[648,null,11,"Dewey, SD - Walworth, SD","SD: Dewey County (46041)","SD: Dewey County (46041)","46041","  Dewey  ",{"$f":"ROWS($L$2:L2381)","v":2380},{"$f":"IF(L2381=WORKSHEET!$B$1,I2381,\"\")","v":""},"","SOUTH DAKOTA","Dewey County",40,"*","*","N/A",48,1.8426754284955972E-2,2.8985507246376812E-2]
[615,null,11,"Davison, SD - Charles Mix, SD","SD: Douglas County (46043)","SD: Douglas County (46043)","46043","  Douglas  ",{"$f":"ROWS($L$2:L2382)","v":2381},{"$f":"IF(L2382=WORKSHEET!$B$1,I2382,\"\")","v":""},"","SOUTH DAKOTA","Douglas County","N/A","N/A","*","N/A","*",1.8426754284955972E-2,0.10227272727272728]
[572,null,11,"Brown, SD - Spink, SD","SD: Edmunds County (46045)","SD: Edmunds County (46045)","46045","  Edmunds  ",{"$f":"ROWS($L$2:L2383)","v":2382},{"$f":"IF(L2383=WORKSHEET!$B$1,I2383,\"\")","v":""},"","SOUTH DAKOTA","Edmunds County","N/A","N/A","*","N/A","*",1.8426754284955972E-2,0.1206896551724138]
[558,null,11,"Pennington (Rapid City), SD - Meade, SD","SD: Fall River County (46047)","SD: Fall River County (46047)","46047","  Fall River  ",{"$f":"ROWS($L$2:L2384)","v":2383},{"$f":"IF(L2384=WORKSHEET!$B$1,I2384,\"\")","v":""},"","SOUTH DAKOTA","Fall River County","*","N/A","*","N/A",15,1.8426754284955972E-2,4.790419161676647E-2]
[572,null,11,"Brown, SD - Spink, SD","SD: Faulk County (46049)","SD: Faulk County (46049)","46049","  Faulk  ",{"$f":"ROWS($L$2:L2385)","v":2384},{"$f":"IF(L2385=WORKSHEET!$B$1,I2385,\"\")","v":""},"","SOUTH DAKOTA","Faulk County","N/A","N/A","*","N/A","*",1.8426754284955972E-2,0.1206896551724138]
[568,null,11,"Codington, SD - Grant, SD","SD: Grant County (46051)","SD: Grant County (46051)","46051","  Grant  ",{"$f":"ROWS($L$2:L2386)","v":2385},{"$f":"IF(L2386=WORKSHEET!$B$1,I2386,\"\")","v":""},"","SOUTH DAKOTA","Grant County","*","N/A","*","N/A",12,1.8426754284955972E-2,0.12820512820512819]
[954,595,11,"Todd, SD - Tripp, SD","SD: Gregory County (46053)","SD: Gregory County (46053)","46053","  Gregory  ",{"$f":"ROWS($L$2:L2387)","v":2386},{"$f":"IF(L2387=WORKSHEET!$B$1,I2387,\"\")","v":""},"","SOUTH DAKOTA","Gregory County","*","*","*","N/A",13,1.8426754284955972E-2,3.2786885245901641E-2]
[629,null,11,"Hughes, SD - Stanley, SD","SD: Haakon County (46055)","SD: Haakon County (46055)","46055","  Haakon  ",{"$f":"ROWS($L$2:L2388)","v":2387},{"$f":"IF(L2388=WORKSHEET!$B$1,I2388,\"\")","v":""},"","SOUTH DAKOTA","Haakon County","*","N/A","*","N/A","*",1.8426754284955972E-2,3.4482758620689655E-2]
[568,null,11,"Codington, SD - Grant, SD","SD: Hamlin County (46057)","SD: Hamlin County (46057)","46057","  Hamlin  ",{"$f":"ROWS($L$2:L2389)","v":2388},{"$f":"IF(L2389=WORKSHEET!$B$1,I2389,\"\")","v":""},"","SOUTH DAKOTA","Hamlin County","*","*","*","N/A","*",1.8426754284955972E-2,0.12820512820512819]
[600,null,11,"Beadle, SD - Hand, SD","SD: Hand County (46059)","SD: Hand County (46059)","46059","  Hand  ",{"$f":"ROWS($L$2:L2390)","v":2389},{"$f":"IF(L2390=WORKSHEET!$B$1,I2390,\"\")","v":""},"","SOUTH DAKOTA","Hand County","N/A","*","*","N/A","*",1.8426754284955972E-2,0.15]
[615,null,11,"Davison, SD - Charles Mix, SD","SD: Hanson County (46061)","SD: Hanson County (46061)","46061","  Hanson  ",{"$f":"ROWS($L$2:L2391)","v":2390},{"$f":"IF(L2391=WORKSHEET!$B$1,I2391,\"\")","v":""},"","SOUTH DAKOTA","Hanson County","*","N/A","*","N/A","*",1.8426754284955972E-2,0.10227272727272728]
[959,640,11,"Perkins, SD - Harding, SD","SD: Harding County (46063)","SD: Harding County (46063)","46063","  Harding  ",{"$f":"ROWS($L$2:L2392)","v":2391},{"$f":"IF(L2392=WORKSHEET!$B$1,I2392,\"\")","v":""},"","SOUTH DAKOTA","Harding County","N/A","N/A","*","N/A","*",1.8426754284955972E-2,0]
[629,null,11,"Hughes, SD - Stanley, SD","SD: Hughes County (46065)","SD: Hughes County (46065)","46065","  Hughes  ",{"$f":"ROWS($L$2:L2393)","v":2392},{"$f":"IF(L2393=WORKSHEET!$B$1,I2393,\"\")","v":""},"","SOUTH DAKOTA","Hughes County",13,"*","*","N/A",24,1.8426754284955972E-2,3.4482758620689655E-2]
[947,578,11,"Yankton, SD - Clay, SD","SD: Hutchinson County (46067)","SD: Hutchinson County (46067)","46067","  Hutchinson  ",{"$f":"ROWS($L$2:L2394)","v":2393},{"$f":"IF(L2394=WORKSHEET!$B$1,I2394,\"\")","v":""},"","SOUTH DAKOTA","Hutchinson County","*","N/A","*","N/A","*",1.8426754284955972E-2,9.0909090909090912E-2]
[600,null,11,"Beadle, SD - Hand, SD","SD: Hyde County (46069)","SD: Hyde County (46069)","46069","  Hyde  ",{"$f":"ROWS($L$2:L2395)","v":2394},{"$f":"IF(L2395=WORKSHEET!$B$1,I2395,\"\")","v":""},"","SOUTH DAKOTA","Hyde County","*","*","*","N/A","*",1.8426754284955972E-2,0.15]
[558,null,11,"Pennington (Rapid City), SD - Meade, SD","SD: Jackson County (46071)","SD: Jackson County (46071)","46071","  Jackson  ",{"$f":"ROWS($L$2:L2396)","v":2395},{"$f":"IF(L2396=WORKSHEET!$B$1,I2396,\"\")","v":""},"","SOUTH DAKOTA","Jackson County","*","*","*","N/A",14,1.8426754284955972E-2,4.790419161676647E-2]
[600,null,11,"Beadle, SD - Hand, SD","SD: Jerauld County (46073)","SD: Jerauld County (46073)","46073","  Jerauld  ",{"$f":"ROWS($L$2:L2397)","v":2396},{"$f":"IF(L2397=WORKSHEET!$B$1,I2397,\"\")","v":""},"","SOUTH DAKOTA","Jerauld County","N/A","*","N/A","N/A","*",1.8426754284955972E-2,0.15]
[629,null,11,"Hughes, SD - Stanley, SD","SD: Jones County (46075)","SD: Jones County (46075)","46075","  Jones  ",{"$f":"ROWS($L$2:L2398)","v":2397},{"$f":"IF(L2398=WORKSHEET!$B$1,I2398,\"\")","v":""},"","SOUTH DAKOTA","Jones County","*","N/A","N/A","N/A","*",1.8426754284955972E-2,3.4482758620689655E-2]
[610,null,11,"Brookings, SD - Kingsbury, SD","SD: Kingsbury County (46077)","SD: Kingsbury County (46077)","46077","  Kingsbury  ",{"$f":"ROWS($L$2:L2399)","v":2398},{"$f":"IF(L2399=WORKSHEET!$B$1,I2399,\"\")","v":""},"","SOUTH DAKOTA","Kingsbury County","*","N/A","*","N/A","*",1.8426754284955972E-2,0.1111111111111111]
[939,544,11,"Minnehaha (Sioux Falls), SD - Lincoln, SD","SD: Lake County (46079)","SD: Lake County (46079)","46079","  Lake  ",{"$f":"ROWS($L$2:L2400)","v":2399},{"$f":"IF(L2400=WORKSHEET!$B$1,I2400,\"\")","v":""},"","SOUTH DAKOTA","Lake County","*","*","*","N/A",15,1.8426754284955972E-2,0.19008264462809918]
[586,null,11,"Lawrence, SD","SD: Lawrence County (46081)","SD: Lawrence County (46081)","46081","  Lawrence  ",{"$f":"ROWS($L$2:L2401)","v":2400},{"$f":"IF(L2401=WORKSHEET!$B$1,I2401,\"\")","v":""},"","SOUTH DAKOTA","Lawrence County",17,{"$f":"+R2401-N2401-P2401","v":1},15,"N/A",33,1.8426754284955972E-2,2.1739130434782608E-2]
[939,544,11,"Minnehaha (Sioux Falls), SD - Lincoln, SD","SD: Lincoln County (46083)","SD: Lincoln County (46083)","46083","  Lincoln  ",{"$f":"ROWS($L$2:L2402)","v":2401},{"$f":"IF(L2402=WORKSHEET!$B$1,I2402,\"\")","v":""},"","SOUTH DAKOTA","Lincoln County",12,{"$f":"+R2402-N2402-P2402","v":3},21,"N/A",36,1.8426754284955972E-2,0.19008264462809918]
[615,null,11,"Davison, SD - Charles Mix, SD","SD: Lyman County (46085)","SD: Lyman County (46085)","46085","  Lyman  ",{"$f":"ROWS($L$2:L2403)","v":2402},{"$f":"IF(L2403=WORKSHEET!$B$1,I2403,\"\")","v":""},"","SOUTH DAKOTA","Lyman County","*","*","*","N/A",15,1.8426754284955972E-2,0.10227272727272728]
[572,null,11,"Brown, SD - Spink, SD","SD: Marshall County (46091)","SD: Marshall County (46091)","46091","  Marshall  ",{"$f":"ROWS($L$2:L2404)","v":2403},{"$f":"IF(L2404=WORKSHEET!$B$1,I2404,\"\")","v":""},"","SOUTH DAKOTA","Marshall County","*","N/A","*","N/A","*",1.8426754284955972E-2,0.1206896551724138]
[939,544,11,"Minnehaha (Sioux Falls), SD - Lincoln, SD","SD: McCook County (46087)","SD: McCook County (46087)","46087","  Mc Cook  ",{"$f":"ROWS($L$2:L2405)","v":2404},{"$f":"IF(L2405=WORKSHEET!$B$1,I2405,\"\")","v":""},"","SOUTH DAKOTA","McCook County","*","*","*","N/A","*",1.8426754284955972E-2,0.19008264462809918]
[572,null,11,"Brown, SD - Spink, SD","SD: McPherson County (46089)","SD: McPherson County (46089)","46089","  Mc Pherson  ",{"$f":"ROWS($L$2:L2406)","v":2405},{"$f":"IF(L2406=WORKSHEET!$B$1,I2406,\"\")","v":""},"","SOUTH DAKOTA","McPherson County","N/A","N/A","*","N/A","*",1.8426754284955972E-2,0.1206896551724138]
[558,null,11,"Pennington (Rapid City), SD - Meade, SD","SD: Meade County (46093)","SD: Meade County (46093)","46093","  Meade  ",{"$f":"ROWS($L$2:L2407)","v":2406},{"$f":"IF(L2407=WORKSHEET!$B$1,I2407,\"\")","v":""},"","SOUTH DAKOTA","Meade County",13,{"$f":"+R2407-N2407-P2407","v":2},16,"N/A",31,1.8426754284955972E-2,4.790419161676647E-2]
[954,595,11,"Todd, SD - Tripp, SD","SD: Mellette County (46095)","SD: Mellette County (46095)","46095","  Mellette  ",{"$f":"ROWS($L$2:L2408)","v":2407},{"$f":"IF(L2408=WORKSHEET!$B$1,I2408,\"\")","v":""},"","SOUTH DAKOTA","Mellette County","*","N/A","*","N/A","*",1.8426754284955972E-2,3.2786885245901641E-2]
[939,544,11,"Minnehaha (Sioux Falls), SD - Lincoln, SD","SD: Miner County (46097)","SD: Miner County (46097)","46097","  Miner  ",{"$f":"ROWS($L$2:L2409)","v":2408},{"$f":"IF(L2409=WORKSHEET!$B$1,I2409,\"\")","v":""},"","SOUTH DAKOTA","Miner County","*","N/A","*","N/A","*",1.8426754284955972E-2,0.19008264462809918]
[939,544,11,"Minnehaha (Sioux Falls), SD - Lincoln, SD","SD: Minnehaha County (46099)","SD: Minnehaha County (46099)","46099","  Minnehaha  ",{"$f":"ROWS($L$2:L2410)","v":2409},{"$f":"IF(L2410=WORKSHEET!$B$1,I2410,\"\")","v":""},"","SOUTH DAKOTA","Minnehaha County",126,28,142,"*",297,1.8426754284955972E-2,0.19008264462809918]
[939,544,11,"Minnehaha (Sioux Falls), SD - Lincoln, SD","SD: Moody County (46101)","SD: Moody County (46101)","46101","  Moody  ",{"$f":"ROWS($L$2:L2411)","v":2410},{"$f":"IF(L2411=WORKSHEET!$B$1,I2411,\"\")","v":""},"","SOUTH DAKOTA","Moody County","*","N/A","*","N/A",14,1.8426754284955972E-2,0.19008264462809918]
[558,null,11,"Pennington (Rapid City), SD - Meade, SD","SD: Pennington County (46103)","SD: Pennington County (46103)","46103","  Pennington  ",{"$f":"ROWS($L$2:L2412)","v":2411},{"$f":"IF(L2412=WORKSHEET!$B$1,I2412,\"\")","v":""},"","SOUTH DAKOTA","Pennington County",115,{"$f":"+R2412-N2412-P2412","v":5},81,"N/A",201,1.8426754284955972E-2,4.790419161676647E-2]
[959,640,11,"Perkins, SD - Harding, SD","SD: Perkins County (46105)","SD: Perkins County (46105)","46105","  Perkins  ",{"$f":"ROWS($L$2:L2413)","v":2412},{"$f":"IF(L2413=WORKSHEET!$B$1,I2413,\"\")","v":""},"","SOUTH DAKOTA","Perkins County","N/A","N/A","*","N/A","*",1.8426754284955972E-2,0]
[648,null,11,"Dewey, SD - Walworth, SD","SD: Potter County (46107)","SD: Potter County (46107)","46107","  Potter  ",{"$f":"ROWS($L$2:L2414)","v":2413},{"$f":"IF(L2414=WORKSHEET!$B$1,I2414,\"\")","v":""},"","SOUTH DAKOTA","Potter County","*","N/A","*","N/A","*",1.8426754284955972E-2,2.8985507246376812E-2]
[952,590,11,"Roberts, SD","SD: Roberts County (46109)","SD: Roberts County (46109)","46109","  Roberts  ",{"$f":"ROWS($L$2:L2415)","v":2414},{"$f":"IF(L2415=WORKSHEET!$B$1,I2415,\"\")","v":""},"","SOUTH DAKOTA","Roberts County",18,"*","*","N/A",28,1.8426754284955972E-2,8.8235294117647065E-2]
[615,null,11,"Davison, SD - Charles Mix, SD","SD: Sanborn County (46111)","SD: Sanborn County (46111)","46111","  Sanborn  ",{"$f":"ROWS($L$2:L2416)","v":2415},{"$f":"IF(L2416=WORKSHEET!$B$1,I2416,\"\")","v":""},"","SOUTH DAKOTA","Sanborn County","*","N/A","*","N/A","*",1.8426754284955972E-2,0.10227272727272728]
[957,623,11,"Shannon, SD - Bennett, SD","SD: Shannon County (46113)","SD: Shannon County (46113)","46113","  Shannon  ",{"$f":"ROWS($L$2:L2417)","v":2416},{"$f":"IF(L2417=WORKSHEET!$B$1,I2417,\"\")","v":""},"","SOUTH DAKOTA","Shannon County",79,{"$f":"+R2417-N2417-P2417","v":3},20,"N/A",102,1.8426754284955972E-2,4.8543689320388349E-2]
[572,null,11,"Brown, SD - Spink, SD","SD: Spink County (46115)","SD: Spink County (46115)","46115","  Spink  ",{"$f":"ROWS($L$2:L2418)","v":2417},{"$f":"IF(L2418=WORKSHEET!$B$1,I2418,\"\")","v":""},"","SOUTH DAKOTA","Spink County","*","N/A","*","N/A","*",1.8426754284955972E-2,0.1206896551724138]
[629,null,11,"Hughes, SD - Stanley, SD","SD: Stanley County (46117)","SD: Stanley County (46117)","46117","  Stanley  ",{"$f":"ROWS($L$2:L2419)","v":2418},{"$f":"IF(L2419=WORKSHEET!$B$1,I2419,\"\")","v":""},"","SOUTH DAKOTA","Stanley County","*","N/A","*","N/A","*",1.8426754284955972E-2,3.4482758620689655E-2]
[629,null,11,"Hughes, SD - Stanley, SD","SD: Sully County (46119)","SD: Sully County (46119)","46119","  Sully  ",{"$f":"ROWS($L$2:L2420)","v":2419},{"$f":"IF(L2420=WORKSHEET!$B$1,I2420,\"\")","v":""},"","SOUTH DAKOTA","Sully County","*","N/A","*","N/A","*",1.8426754284955972E-2,3.4482758620689655E-2]
[954,595,11,"Todd, SD - Tripp, SD","SD: Todd County (46121)","SD: Todd County (46121)","46121","  Todd  ",{"$f":"ROWS($L$2:L2421)","v":2420},{"$f":"IF(L2421=WORKSHEET!$B$1,I2421,\"\")","v":""},"","SOUTH DAKOTA","Todd County",40,"N/A","*","N/A",49,1.8426754284955972E-2,3.2786885245901641E-2]
[954,595,11,"Todd, SD - Tripp, SD","SD: Tripp County (46123)","SD: Tripp County (46123)","46123","  Tripp  ",{"$f":"ROWS($L$2:L2422)","v":2421},{"$f":"IF(L2422=WORKSHEET!$B$1,I2422,\"\")","v":""},"","SOUTH DAKOTA","Tripp County","*","N/A","*","N/A","*",1.8426754284955972E-2,3.2786885245901641E-2]
[939,544,11,"Minnehaha (Sioux Falls), SD - Lincoln, SD","SD: Turner County (46125)","SD: Turner County (46125)","46125","  Turner  ",{"$f":"ROWS($L$2:L2423)","v":2422},{"$f":"IF(L2423=WORKSHEET!$B$1,I2423,\"\")","v":""},"","SOUTH DAKOTA","Turner County","*","*","*","N/A",13,1.8426754284955972E-2,0.19008264462809918]
[939,544,11,"Minnehaha (Sioux Falls), SD - Lincoln, SD","SD: Union County (46127)","SD: Union County (46127)","46127","  Union  ",{"$f":"ROWS($L$2:L2424)","v":2423},{"$f":"IF(L2424=WORKSHEET!$B$1,I2424,\"\")","v":""},"","SOUTH DAKOTA","Union County","*","*",14,"*",28,1.8426754284955972E-2,0.19008264462809918]
[648,null,11,"Dewey, SD - Walworth, SD","SD: Walworth County (46129)","SD: Walworth County (46129)","46129","  Walworth  ",{"$f":"ROWS($L$2:L2425)","v":2424},{"$f":"IF(L2425=WORKSHEET!$B$1,I2425,\"\")","v":""},"","SOUTH DAKOTA","Walworth County","*","N/A","*","N/A","*",1.8426754284955972E-2,2.8985507246376812E-2]
[947,578,11,"Yankton, SD - Clay, SD","SD: Yankton County (46135)","SD: Yankton County (46135)","46135","  Yankton  ",{"$f":"ROWS($L$2:L2426)","v":2425},{"$f":"IF(L2426=WORKSHEET!$B$1,I2426,\"\")","v":""},"","SOUTH DAKOTA","Yankton County",15,{"$f":"+R2426-N2426-P2426","v":3},22,"N/A",40,1.8426754284955972E-2,9.0909090909090912E-2]
[629,null,11,"Hughes, SD - Stanley, SD","SD: Ziebach County (46137)","SD: Ziebach County (46137)","46137","  Ziebach  ",{"$f":"ROWS($L$2:L2427)","v":2426},{"$f":"IF(L2427=WORKSHEET!$B$1,I2427,\"\")","v":""},"","SOUTH DAKOTA","Ziebach County","*","N/A","*","N/A","*",1.8426754284955972E-2,3.4482758620689655E-2]
[226,null,8,"Anderson (Oak Ridge), TN - Roane, TN","TN: Anderson County (47001)","TN: Anderson County (47001)","47001","  Anderson  ",{"$f":"ROWS($L$2:L2428)","v":2427},{"$f":"IF(L2428=WORKSHEET!$B$1,I2428,\"\")","v":""},"","TENNESSEE","Anderson County",83,11,42,"N/A",136,3.2242352735066461E-2,8.8815789473684209E-2]
[260,null,8,"Bedford, TN","TN: Bedford County (47003)","TN: Bedford County (47003)","47003","  Bedford  ",{"$f":"ROWS($L$2:L2429)","v":2428},{"$f":"IF(L2429=WORKSHEET!$B$1,I2429,\"\")","v":""},"","TENNESSEE","Bedford County",60,12,33,"N/A",105,3.2242352735066461E-2,0.16666666666666666]
[882,115,8,"Henry, TN - Carroll, TN","TN: Benton County (47005)","TN: Benton County (47005)","47005","  Benton  ",{"$f":"ROWS($L$2:L2430)","v":2429},{"$f":"IF(L2430=WORKSHEET!$B$1,I2430,\"\")","v":""},"","TENNESSEE","Benton County",18,"*","*","N/A",31,3.2242352735066461E-2,9.7402597402597407E-2]
[223,null,8,"Cumberland, TN - Fentress, TN","TN: Bledsoe County (47007)","TN: Bledsoe County (47007)","47007","  Bledsoe  ",{"$f":"ROWS($L$2:L2431)","v":2430},{"$f":"IF(L2431=WORKSHEET!$B$1,I2431,\"\")","v":""},"","TENNESSEE","Bledsoe County","*","N/A","*","N/A",13,3.2242352735066461E-2,0.15189873417721519]
[147,null,8,"Knox (Knoxville), TN - Blount, TN","TN: Blount County (47009)","TN: Blount County (47009)","47009","  Blount  ",{"$f":"ROWS($L$2:L2432)","v":2431},{"$f":"IF(L2432=WORKSHEET!$B$1,I2432,\"\")","v":""},"","TENNESSEE","Blount County",156,22,73,"N/A",251,3.2242352735066461E-2,9.8022355975924333E-2]
[895,173,8,"Bradley, TN - Polk, TN","TN: Bradley County (47011)","TN: Bradley County (47011)","47011","  Bradley  ",{"$f":"ROWS($L$2:L2433)","v":2432},{"$f":"IF(L2433=WORKSHEET!$B$1,I2433,\"\")","v":""},"","TENNESSEE","Bradley County",130,{"$f":"+R2433-N2433-P2433","v":5},45,"N/A",180,3.2242352735066461E-2,9.0909090909090898E-2]
[226,null,8,"Anderson (Oak Ridge), TN - Roane, TN","TN: Campbell County (47013)","TN: Campbell County (47013)","47013","  Campbell  ",{"$f":"ROWS($L$2:L2434)","v":2433},{"$f":"IF(L2434=WORKSHEET!$B$1,I2434,\"\")","v":""},"","TENNESSEE","Campbell County",54,{"$f":"+R2434-N2434-P2434","v":1},22,"N/A",77,3.2242352735066461E-2,8.8815789473684209E-2]
[211,null,8,"Rutherford (Murfreesboro), TN - Warren, TN","TN: Cannon County (47015)","TN: Cannon County (47015)","47015","  Cannon  ",{"$f":"ROWS($L$2:L2435)","v":2434},{"$f":"IF(L2435=WORKSHEET!$B$1,I2435,\"\")","v":""},{"$f":"IFERROR(SMALL($J$2:$J$3142,I2435),\"\")","v":""},"TENNESSEE","Cannon County","*","*","*","N/A",22,3.2242352735066461E-2,0.16083916083916083]
[882,115,8,"Henry, TN - Carroll, TN","TN: Carroll County (47017)","TN: Carroll County (47017)","47017","  Carroll  ",{"$f":"ROWS($L$2:L2436)","v":2435},{"$f":"IF(L2436=WORKSHEET!$B$1,I2436,\"\")","v":""},"","TENNESSEE","Carroll County",47,{"$f":"+R2436-N2436-P2436","v":5},21,"N/A",73,3.2242352735066461E-2,9.7402597402597407E-2]
[169,null,8,"Washington (Johnson City), TN - Carter, TN","TN: Carter County (47019)","TN: Carter County (47019)","47019","  Carter  ",{"$f":"ROWS($L$2:L2437)","v":2436},{"$f":"IF(L2437=WORKSHEET!$B$1,I2437,\"\")","v":""},"","TENNESSEE","Carter County",42,{"$f":"+R2437-N2437-P2437","v":9},37,"N/A",88,3.2242352735066461E-2,0.17582417582417584]
[148,null,8,"Davidson (Nashville-Davidson), TN - Williamson, TN","TN: Cheatham County (47021)","TN: Cheatham County (47021)","47021","  Cheatham  ",{"$f":"ROWS($L$2:L2438)","v":2437},{"$f":"IF(L2438=WORKSHEET!$B$1,I2438,\"\")","v":""},"","TENNESSEE","Cheatham County",32,{"$f":"+R2438-N2438-P2438","v":8},17,"N/A",57,3.2242352735066461E-2,0.12084805653710247]
[188,null,8,"Madison (Jackson), TN - Gibson, TN","TN: Chester County (47023)","TN: Chester County (47023)","47023","  Chester  ",{"$f":"ROWS($L$2:L2439)","v":2438},{"$f":"IF(L2439=WORKSHEET!$B$1,I2439,\"\")","v":""},"","TENNESSEE","Chester County",22,"N/A","*","N/A",29,3.2242352735066461E-2,7.7881619937694699E-2]
[878,96,8,"Claiborne, TN","TN: Claiborne County (47025)","TN: Claiborne County (47025)","47025","  Claiborne  ",{"$f":"ROWS($L$2:L2440)","v":2439},{"$f":"IF(L2440=WORKSHEET!$B$1,I2440,\"\")","v":""},"","TENNESSEE","Claiborne County",41,{"$f":"+R2440-N2440-P2440","v":6},14,"N/A",61,3.2242352735066461E-2,0.15322580645161291]
[215,null,8,"Putnam, TN - White, TN","TN: Clay County (47027)","TN: Clay County (47027)","47027","  Clay  ",{"$f":"ROWS($L$2:L2441)","v":2440},{"$f":"IF(L2441=WORKSHEET!$B$1,I2441,\"\")","v":""},"","TENNESSEE","Clay County","*","N/A","*","N/A",14,3.2242352735066461E-2,0.23841059602649006]
[252,null,8,"Greene, TN - Cocke, TN","TN: Cocke County (47029)","TN: Cocke County (47029)","47029","  Cocke  ",{"$f":"ROWS($L$2:L2442)","v":2441},{"$f":"IF(L2442=WORKSHEET!$B$1,I2442,\"\")","v":""},"","TENNESSEE","Cocke County",47,{"$f":"+R2442-N2442-P2442","v":2},15,"*",64,3.2242352735066461E-2,8.943089430894309E-2]
[239,null,8,"Coffee, TN - Franklin, TN","TN: Coffee County (47031)","TN: Coffee County (47031)","47031","  Coffee  ",{"$f":"ROWS($L$2:L2443)","v":2442},{"$f":"IF(L2443=WORKSHEET!$B$1,I2443,\"\")","v":""},"","TENNESSEE","Coffee County",72,{"$f":"+R2443-N2443-P2443","v":9},43,"N/A",124,3.2242352735066461E-2,0.10191082802547771]
[188,null,8,"Madison (Jackson), TN - Gibson, TN","TN: Crockett County (47033)","TN: Crockett County (47033)","47033","  Crockett  ",{"$f":"ROWS($L$2:L2444)","v":2443},{"$f":"IF(L2444=WORKSHEET!$B$1,I2444,\"\")","v":""},"","TENNESSEE","Crockett County",30,{"$f":"+R2444-N2444-P2444","v":6},16,"N/A",52,3.2242352735066461E-2,7.7881619937694699E-2]
[223,null,8,"Cumberland, TN - Fentress, TN","TN: Cumberland County (47035)","TN: Cumberland County (47035)","47035","  Cumberland  ",{"$f":"ROWS($L$2:L2445)","v":2444},{"$f":"IF(L2445=WORKSHEET!$B$1,I2445,\"\")","v":""},"","TENNESSEE","Cumberland County",47,{"$f":"+R2445-N2445-P2445","v":10},31,"N/A",88,3.2242352735066461E-2,0.15189873417721519]
[148,null,8,"Davidson (Nashville-Davidson), TN - Williamson, TN","TN: Davidson County (47037)","TN: Davidson County (47037)","47037","  Davidson  ",{"$f":"ROWS($L$2:L2446)","v":2445},{"$f":"IF(L2446=WORKSHEET!$B$1,I2446,\"\")","v":""},"","TENNESSEE","Davidson County",974,108,416,"*",1499,3.2242352735066461E-2,0.12084805653710247]
[188,null,8,"Madison (Jackson), TN - Gibson, TN","TN: Decatur County (47039)","TN: Decatur County (47039)","47039","  De Kalb  ",{"$f":"ROWS($L$2:L2447)","v":2446},{"$f":"IF(L2447=WORKSHEET!$B$1,I2447,\"\")","v":""},"","TENNESSEE","Decatur County","*","*","*","N/A",23,3.2242352735066461E-2,7.7881619937694699E-2]
[211,null,8,"Rutherford (Murfreesboro), TN - Warren, TN","TN: DeKalb County (47041)","TN: DeKalb County (47041)","47041","  Decatur  ",{"$f":"ROWS($L$2:L2448)","v":2447},{"$f":"IF(L2448=WORKSHEET!$B$1,I2448,\"\")","v":""},"","TENNESSEE","DeKalb County",15,"*","*","N/A",25,3.2242352735066461E-2,0.16083916083916083]
[148,null,8,"Davidson (Nashville-Davidson), TN - Williamson, TN","TN: Dickson County (47043)","TN: Dickson County (47043)","47043","  Dickson  ",{"$f":"ROWS($L$2:L2449)","v":2448},{"$f":"IF(L2449=WORKSHEET!$B$1,I2449,\"\")","v":""},"","TENNESSEE","Dickson County",52,{"$f":"+R2449-N2449-P2449","v":6},30,"N/A",88,3.2242352735066461E-2,0.12084805653710247]
[248,null,8,"Dyer, TN - Lauderdale, TN","TN: Dyer County (47045)","TN: Dyer County (47045)","47045","  Dyer  ",{"$f":"ROWS($L$2:L2450)","v":2449},{"$f":"IF(L2450=WORKSHEET!$B$1,I2450,\"\")","v":""},"","TENNESSEE","Dyer County",56,9,17,"*",82,3.2242352735066461E-2,9.3959731543624164E-2]
[887,146,8,"Shelby (Memphis), TN - Tipton, TN","TN: Fayette County (47047)","TN: Fayette County (47047)","47047","  Fayette  ",{"$f":"ROWS($L$2:L2451)","v":2450},{"$f":"IF(L2451=WORKSHEET!$B$1,I2451,\"\")","v":""},"","TENNESSEE","Fayette County",70,6,20,"N/A",96,3.2242352735066461E-2,0.10306845003933911]
[223,null,8,"Cumberland, TN - Fentress, TN","TN: Fentress County (47049)","TN: Fentress County (47049)","47049","  Fentress  ",{"$f":"ROWS($L$2:L2452)","v":2451},{"$f":"IF(L2452=WORKSHEET!$B$1,I2452,\"\")","v":""},"","TENNESSEE","Fentress County",13,2,17,"N/A",32,3.2242352735066461E-2,0.15189873417721519]
[239,null,8,"Coffee, TN - Franklin, TN","TN: Franklin County (47051)","TN: Franklin County (47051)","47051","  Franklin  ",{"$f":"ROWS($L$2:L2453)","v":2452},{"$f":"IF(L2453=WORKSHEET!$B$1,I2453,\"\")","v":""},"","TENNESSEE","Franklin County",56,6,29,"N/A",91,3.2242352735066461E-2,0.10191082802547771]
[188,null,8,"Madison (Jackson), TN - Gibson, TN","TN: Gibson County (47053)","TN: Gibson County (47053)","47053","  Gibson  ",{"$f":"ROWS($L$2:L2454)","v":2453},{"$f":"IF(L2454=WORKSHEET!$B$1,I2454,\"\")","v":""},"","TENNESSEE","Gibson County",100,9,28,"N/A",137,3.2242352735066461E-2,7.7881619937694699E-2]
[208,null,8,"Maury, TN - Giles, TN","TN: Giles County (47055)","TN: Giles County (47055)","47055","  Giles  ",{"$f":"ROWS($L$2:L2455)","v":2454},{"$f":"IF(L2455=WORKSHEET!$B$1,I2455,\"\")","v":""},"","TENNESSEE","Giles County",44,7,23,"*",74,3.2242352735066461E-2,0.11481481481481481]
[217,null,8,"Hamblen (Morristown), TN - Jefferson, TN","TN: Grainger County (47057)","TN: Grainger County (47057)","47057","  Grainger  ",{"$f":"ROWS($L$2:L2456)","v":2455},{"$f":"IF(L2456=WORKSHEET!$B$1,I2456,\"\")","v":""},"","TENNESSEE","Grainger County",22,"*","*","N/A",34,3.2242352735066461E-2,9.8445595854922283E-2]
[252,null,8,"Greene, TN - Cocke, TN","TN: Greene County (47059)","TN: Greene County (47059)","47059","  Greene  ",{"$f":"ROWS($L$2:L2457)","v":2456},{"$f":"IF(L2457=WORKSHEET!$B$1,I2457,\"\")","v":""},"","TENNESSEE","Greene County",65,{"$f":"+R2457-N2457-P2457","v":10},45,"N/A",120,3.2242352735066461E-2,8.943089430894309E-2]
[239,null,8,"Coffee, TN - Franklin, TN","TN: Grundy County (47061)","TN: Grundy County (47061)","47061","  Grundy  ",{"$f":"ROWS($L$2:L2458)","v":2457},{"$f":"IF(L2458=WORKSHEET!$B$1,I2458,\"\")","v":""},"","TENNESSEE","Grundy County",11,"*","*","*",19,3.2242352735066461E-2,0.10191082802547771]
[217,null,8,"Hamblen (Morristown), TN - Jefferson, TN","TN: Hamblen County (47063)","TN: Hamblen County (47063)","47063","  Hamblen  ",{"$f":"ROWS($L$2:L2459)","v":2458},{"$f":"IF(L2459=WORKSHEET!$B$1,I2459,\"\")","v":""},"","TENNESSEE","Hamblen County",72,{"$f":"+R2459-N2459-P2459","v":6},31,"N/A",109,3.2242352735066461E-2,9.8445595854922283E-2]
[885,141,8,"Hamilton (Chattanooga), TN - Marion, TN","TN: Hamilton County (47065)","TN: Hamilton County (47065)","47065","  Hamilton  ",{"$f":"ROWS($L$2:L2460)","v":2459},{"$f":"IF(L2460=WORKSHEET!$B$1,I2460,\"\")","v":""},"","TENNESSEE","Hamilton County",621,36,192,"*",852,3.2242352735066461E-2,5.6541019955654102E-2]
[217,217,8,"Hamblen (Morristown), TN - Jefferson, TN","TN: Hancock County (47067)","TN: Hancock County (47067)","47067","  Hancock  ",{"$f":"ROWS($L$2:L2461)","v":2460},{"$f":"IF(L2461=WORKSHEET!$B$1,I2461,\"\")","v":""},"","TENNESSEE","Hancock County","*","N/A","N/A","N/A","*",3.2242352735066461E-2,9.8445595854922283E-2]
[188,null,8,"Madison (Jackson), TN - Gibson, TN","TN: Hardeman County (47069)","TN: Hardeman County (47069)","47069","  Hardeman  ",{"$f":"ROWS($L$2:L2462)","v":2461},{"$f":"IF(L2462=WORKSHEET!$B$1,I2462,\"\")","v":""},"","TENNESSEE","Hardeman County",70,{"$f":"+R2462-N2462-P2462","v":7},17,"N/A",94,3.2242352735066461E-2,7.7881619937694699E-2]
[245,null,8,"Hardin, TN - McNairy, TN","TN: Hardin County (47071)","TN: Hardin County (47071)","47071","  Hardin  ",{"$f":"ROWS($L$2:L2463)","v":2462},{"$f":"IF(L2463=WORKSHEET!$B$1,I2463,\"\")","v":""},"","TENNESSEE","Hardin County",19,4,18,"N/A",41,3.2242352735066461E-2,0.109375]
[151,null,8,"Sullivan (Kingsport), TN - Hawkins, TN","TN: Hawkins County (47073)","TN: Hawkins County (47073)","47073","  Hawkins  ",{"$f":"ROWS($L$2:L2464)","v":2463},{"$f":"IF(L2464=WORKSHEET!$B$1,I2464,\"\")","v":""},"","TENNESSEE","Hawkins County",49,10,22,"N/A",81,3.2242352735066461E-2,0.13227513227513227]
[188,null,8,"Madison (Jackson), TN - Gibson, TN","TN: Haywood County (47075)","TN: Haywood County (47075)","47075","  Haywood  ",{"$f":"ROWS($L$2:L2465)","v":2464},{"$f":"IF(L2465=WORKSHEET!$B$1,I2465,\"\")","v":""},"","TENNESSEE","Haywood County",87,5,24,"*",116,3.2242352735066461E-2,7.7881619937694699E-2]
[188,null,8,"Madison (Jackson), TN - Gibson, TN","TN: Henderson County (47077)","TN: Henderson County (47077)","47077","  Henderson  ",{"$f":"ROWS($L$2:L2466)","v":2465},{"$f":"IF(L2466=WORKSHEET!$B$1,I2466,\"\")","v":""},"","TENNESSEE","Henderson County",47,4,21,"N/A",72,3.2242352735066461E-2,7.7881619937694699E-2]
[882,148,8,"Henry, TN - Carroll, TN","TN: Henry County (47079)","TN: Henry County (47079)","47079","  Henry  ",{"$f":"ROWS($L$2:L2467)","v":2466},{"$f":"IF(L2467=WORKSHEET!$B$1,I2467,\"\")","v":""},"","TENNESSEE","Henry County",44,1,19,"N/A",64,3.2242352735066461E-2,0.12084805653710247]
[148,null,8,"Davidson (Nashville-Davidson), TN - Williamson, TN","TN: Hickman County (47081)","TN: Hickman County (47081)","47081","  Hickman  ",{"$f":"ROWS($L$2:L2468)","v":2467},{"$f":"IF(L2468=WORKSHEET!$B$1,I2468,\"\")","v":""},"","TENNESSEE","Hickman County",22,5,16,"N/A",43,3.2242352735066461E-2,0.12084805653710247]
[234,null,8,"Montgomery (Clarksville), TN - Stewart, TN","TN: Houston County (47083)","TN: Houston County (47083)","47083","  Houston  ",{"$f":"ROWS($L$2:L2469)","v":2468},{"$f":"IF(L2469=WORKSHEET!$B$1,I2469,\"\")","v":""},"","TENNESSEE","Houston County","*","N/A","*","N/A",11,3.2242352735066461E-2,0.1652542372881356]
[148,null,8,"Davidson (Nashville-Davidson), TN - Williamson, TN","TN: Humphreys County (47085)","TN: Humphreys County (47085)","47085","  Humphreys  ",{"$f":"ROWS($L$2:L2470)","v":2469},{"$f":"IF(L2470=WORKSHEET!$B$1,I2470,\"\")","v":""},"","TENNESSEE","Humphreys County",17,{"$f":"+R2470-N2470-P2470","v":8},11,"N/A",36,3.2242352735066461E-2,0.12084805653710247]
[215,null,8,"Putnam, TN - White, TN","TN: Jackson County (47087)","TN: Jackson County (47087)","47087","  Jackson  ",{"$f":"ROWS($L$2:L2471)","v":2470},{"$f":"IF(L2471=WORKSHEET!$B$1,I2471,\"\")","v":""},"","TENNESSEE","Jackson County","*","*","*","N/A",13,3.2242352735066461E-2,0.23841059602649006]
[217,null,8,"Hamblen (Morristown), TN - Jefferson, TN","TN: Jefferson County (47089)","TN: Jefferson County (47089)","47089","  Jefferson  ",{"$f":"ROWS($L$2:L2472)","v":2471},{"$f":"IF(L2472=WORKSHEET!$B$1,I2472,\"\")","v":""},"","TENNESSEE","Jefferson County",77,11,24,"*",113,3.2242352735066461E-2,9.8445595854922283E-2]
[899,194,8,"Johnson, TN","TN: Johnson County (47091)","TN: Johnson County (47091)","47091","  Johnson  ",{"$f":"ROWS($L$2:L2473)","v":2472},{"$f":"IF(L2473=WORKSHEET!$B$1,I2473,\"\")","v":""},"","TENNESSEE","Johnson County",21,"*","*","N/A",32,3.2242352735066461E-2,0.23170731707317074]
[147,null,8,"Knox (Knoxville), TN - Blount, TN","TN: Knox County (47093)","TN: Knox County (47093)","47093","  Knox  ",{"$f":"ROWS($L$2:L2474)","v":2473},{"$f":"IF(L2474=WORKSHEET!$B$1,I2474,\"\")","v":""},"","TENNESSEE","Knox County",557,50,195,"*",803,3.2242352735066461E-2,9.8022355975924333E-2]
[248,null,8,"Dyer, TN - Lauderdale, TN","TN: Lake County (47095)","TN: Lake County (47095)","47095","  Lake  ",{"$f":"ROWS($L$2:L2475)","v":2474},{"$f":"IF(L2475=WORKSHEET!$B$1,I2475,\"\")","v":""},"","TENNESSEE","Lake County",18,"*","*","N/A",22,3.2242352735066461E-2,9.3959731543624164E-2]
[248,null,8,"Dyer, TN - Lauderdale, TN","TN: Lauderdale County (47097)","TN: Lauderdale County (47097)","47097","  Lauderdale  ",{"$f":"ROWS($L$2:L2476)","v":2475},{"$f":"IF(L2476=WORKSHEET!$B$1,I2476,\"\")","v":""},"","TENNESSEE","Lauderdale County",61,"*","*","N/A",76,3.2242352735066461E-2,9.3959731543624164E-2]
[232,null,8,"Lawrence, TN - Wayne, TN","TN: Lawrence County (47099)","TN: Lawrence County (47099)","47099","  Lawrence  ",{"$f":"ROWS($L$2:L2477)","v":2476},{"$f":"IF(L2477=WORKSHEET!$B$1,I2477,\"\")","v":""},"","TENNESSEE","Lawrence County",36,{"$f":"+R2477-N2477-P2477","v":5},34,"N/A",75,3.2242352735066461E-2,0.16393442622950818]
[208,null,8,"Maury, TN - Giles, TN","TN: Lewis County (47101)","TN: Lewis County (47101)","47101","  Lewis  ",{"$f":"ROWS($L$2:L2478)","v":2477},{"$f":"IF(L2478=WORKSHEET!$B$1,I2478,\"\")","v":""},"","TENNESSEE","Lewis County",11,"*","*","N/A",18,3.2242352735066461E-2,0.11481481481481481]
[900,147,8,"Lincoln, TN","TN: Lincoln County (47103)","TN: Lincoln County (47103)","47103","  Lincoln  ",{"$f":"ROWS($L$2:L2479)","v":2478},{"$f":"IF(L2479=WORKSHEET!$B$1,I2479,\"\")","v":""},"","TENNESSEE","Lincoln County",35,{"$f":"+R2479-N2479-P2479","v":8},29,"N/A",72,3.2242352735066461E-2,9.8022355975924333E-2]
[147,null,8,"Knox (Knoxville), TN - Blount, TN","TN: Loudon County (47105)","TN: Loudon County (47105)","47105","  Loudon  ",{"$f":"ROWS($L$2:L2480)","v":2479},{"$f":"IF(L2480=WORKSHEET!$B$1,I2480,\"\")","v":""},"","TENNESSEE","Loudon County",76,{"$f":"+R2480-N2480-P2480","v":8},23,"N/A",107,3.2242352735066461E-2,9.8022355975924333E-2]
[231,null,8,"Sumner (Hendersonville), TN - Wilson, TN","TN: Macon County (47111)","TN: Macon County (47111)","47111","  Macon  ",{"$f":"ROWS($L$2:L2481)","v":2480},{"$f":"IF(L2481=WORKSHEET!$B$1,I2481,\"\")","v":""},"","TENNESSEE","Macon County",12,"*","*","N/A",23,3.2242352735066461E-2,0.17847025495750707]
[188,null,8,"Madison (Jackson), TN - Gibson, TN","TN: Madison County (47113)","TN: Madison County (47113)","47113","  Madison  ",{"$f":"ROWS($L$2:L2482)","v":2481},{"$f":"IF(L2482=WORKSHEET!$B$1,I2482,\"\")","v":""},"","TENNESSEE","Madison County",221,17,70,"N/A",308,3.2242352735066461E-2,7.7881619937694699E-2]
[885,208,8,"Hamilton (Chattanooga), TN - Marion, TN","TN: Marion County (47115)","TN: Marion County (47115)","47115","  Marion  ",{"$f":"ROWS($L$2:L2483)","v":2482},{"$f":"IF(L2483=WORKSHEET!$B$1,I2483,\"\")","v":""},"","TENNESSEE","Marion County",43,"*","*","N/A",51,3.2242352735066461E-2,0.11481481481481481]
[208,null,8,"Maury, TN - Giles, TN","TN: Marshall County (47117)","TN: Marshall County (47117)","47117","  Marshall  ",{"$f":"ROWS($L$2:L2484)","v":2483},{"$f":"IF(L2484=WORKSHEET!$B$1,I2484,\"\")","v":""},"","TENNESSEE","Marshall County",42,{"$f":"+R2484-N2484-P2484","v":5},15,"*",62,3.2242352735066461E-2,0.11481481481481481]
[208,null,8,"Maury, TN - Giles, TN","TN: Maury County (47119)","TN: Maury County (47119)","47119","  Maury  ",{"$f":"ROWS($L$2:L2485)","v":2484},{"$f":"IF(L2485=WORKSHEET!$B$1,I2485,\"\")","v":""},"","TENNESSEE","Maury County",142,18,61,"*",222,3.2242352735066461E-2,0.11481481481481481]
[147,null,8,"Knox (Knoxville), TN - Blount, TN","TN: McMinn County (47107)","TN: McMinn County (47107)","47107","  Mc Minn  ",{"$f":"ROWS($L$2:L2486)","v":2485},{"$f":"IF(L2486=WORKSHEET!$B$1,I2486,\"\")","v":""},"","TENNESSEE","McMinn County",73,{"$f":"+R2486-N2486-P2486","v":2},27,"N/A",102,3.2242352735066461E-2,9.8022355975924333E-2]
[245,null,8,"Hardin, TN - McNairy, TN","TN: McNairy County (47109)","TN: McNairy County (47109)","47109","  Mc Nairy  ",{"$f":"ROWS($L$2:L2487)","v":2486},{"$f":"IF(L2487=WORKSHEET!$B$1,I2487,\"\")","v":""},"","TENNESSEE","McNairy County",38,{"$f":"+R2487-N2487-P2487","v":3},20,"*",61,3.2242352735066461E-2,0.109375]
[147,null,8,"Knox (Knoxville), TN - Blount, TN","TN: Meigs County (47121)","TN: Meigs County (47121)","47121","  Meigs  ",{"$f":"ROWS($L$2:L2488)","v":2487},{"$f":"IF(L2488=WORKSHEET!$B$1,I2488,\"\")","v":""},"","TENNESSEE","Meigs County",20,"N/A","*","*",24,3.2242352735066461E-2,9.8022355975924333E-2]
[147,null,8,"Knox (Knoxville), TN - Blount, TN","TN: Monroe County (47123)","TN: Monroe County (47123)","47123","  Monroe  ",{"$f":"ROWS($L$2:L2489)","v":2488},{"$f":"IF(L2489=WORKSHEET!$B$1,I2489,\"\")","v":""},"","TENNESSEE","Monroe County",57,13,15,"N/A",85,3.2242352735066461E-2,9.8022355975924333E-2]
[234,null,8,"Montgomery (Clarksville), TN - Stewart, TN","TN: Montgomery County (47125)","TN: Montgomery County (47125)","47125","  Montgomery  ",{"$f":"ROWS($L$2:L2490)","v":2489},{"$f":"IF(L2490=WORKSHEET!$B$1,I2490,\"\")","v":""},"","TENNESSEE","Montgomery County",182,35,77,"N/A",294,3.2242352735066461E-2,0.1652542372881356]
[239,null,8,"Coffee, TN - Franklin, TN","TN: Moore County (47127)","TN: Moore County (47127)","47127","  Moore  ",{"$f":"ROWS($L$2:L2491)","v":2490},{"$f":"IF(L2491=WORKSHEET!$B$1,I2491,\"\")","v":""},"","TENNESSEE","Moore County","*","N/A","*","N/A","*",3.2242352735066461E-2,0.10191082802547771]
[226,null,8,"Anderson (Oak Ridge), TN - Roane, TN","TN: Morgan County (47129)","TN: Morgan County (47129)","47129","  Morgan  ",{"$f":"ROWS($L$2:L2492)","v":2491},{"$f":"IF(L2492=WORKSHEET!$B$1,I2492,\"\")","v":""},"","TENNESSEE","Morgan County",21,"*","*","N/A",28,3.2242352735066461E-2,8.8815789473684209E-2]
[897,181,8,"Weakley, TN - Obion, TN","TN: Obion County (47131)","TN: Obion County (47131)","47131","  Obion  ",{"$f":"ROWS($L$2:L2493)","v":2492},{"$f":"IF(L2493=WORKSHEET!$B$1,I2493,\"\")","v":""},"","TENNESSEE","Obion County",64,{"$f":"+R2493-N2493-P2493","v":5},25,"N/A",94,3.2242352735066461E-2,8.5714285714285715E-2]
[215,null,8,"Putnam, TN - White, TN","TN: Overton County (47133)","TN: Overton County (47133)","47133","  Overton  ",{"$f":"ROWS($L$2:L2494)","v":2493},{"$f":"IF(L2494=WORKSHEET!$B$1,I2494,\"\")","v":""},"","TENNESSEE","Overton County",15,{"$f":"+R2494-N2494-P2494","v":2},11,"N/A",28,3.2242352735066461E-2,0.23841059602649006]
[232,null,8,"Lawrence, TN - Wayne, TN","TN: Perry County (47135)","TN: Perry County (47135)","47135","  Perry  ",{"$f":"ROWS($L$2:L2495)","v":2494},{"$f":"IF(L2495=WORKSHEET!$B$1,I2495,\"\")","v":""},"","TENNESSEE","Perry County","*","*","*","N/A","*",3.2242352735066461E-2,0.16393442622950818]
[215,null,8,"Putnam, TN - White, TN","TN: Pickett County (47137)","TN: Pickett County (47137)","47137","  Pickett  ",{"$f":"ROWS($L$2:L2496)","v":2495},{"$f":"IF(L2496=WORKSHEET!$B$1,I2496,\"\")","v":""},"","TENNESSEE","Pickett County","*","*","*","N/A","*",3.2242352735066461E-2,0.23841059602649006]
[895,173,8,"Bradley, TN - Polk, TN","TN: Polk County (47139)","TN: Polk County (47139)","47139","  Polk  ",{"$f":"ROWS($L$2:L2497)","v":2496},{"$f":"IF(L2497=WORKSHEET!$B$1,I2497,\"\")","v":""},"","TENNESSEE","Polk County",19,"*","*","N/A",29,3.2242352735066461E-2,9.0909090909090912E-2]
[215,null,8,"Putnam, TN - White, TN","TN: Putnam County (47141)","TN: Putnam County (47141)","47141","  Putnam  ",{"$f":"ROWS($L$2:L2498)","v":2497},{"$f":"IF(L2498=WORKSHEET!$B$1,I2498,\"\")","v":""},"","TENNESSEE","Putnam County",68,17,36,"N/A",121,3.2242352735066461E-2,0.23841059602649006]
[226,null,8,"Anderson (Oak Ridge), TN - Roane, TN","TN: Rhea County (47143)","TN: Rhea County (47143)","47143","  Rhea  ",{"$f":"ROWS($L$2:L2499)","v":2498},{"$f":"IF(L2499=WORKSHEET!$B$1,I2499,\"\")","v":""},{"$f":"IFERROR(SMALL($J$2:$J$3142,I2499),\"\")","v":""},"TENNESSEE","Rhea County",46,{"$f":"+R2499-N2499-P2499","v":5},17,"N/A",68,3.2242352735066461E-2,8.8815789473684209E-2]
[226,null,8,"Anderson (Oak Ridge), TN - Roane, TN","TN: Roane County (47145)","TN: Roane County (47145)","47145","  Roane  ",{"$f":"ROWS($L$2:L2500)","v":2499},{"$f":"IF(L2500=WORKSHEET!$B$1,I2500,\"\")","v":""},"","TENNESSEE","Roane County",73,{"$f":"+R2500-N2500-P2500","v":8},23,"N/A",104,3.2242352735066461E-2,8.8815789473684209E-2]
[148,null,8,"Davidson (Nashville-Davidson), TN - Williamson, TN","TN: Robertson County (47147)","TN: Robertson County (47147)","47147","  Robertson  ",{"$f":"ROWS($L$2:L2501)","v":2500},{"$f":"IF(L2501=WORKSHEET!$B$1,I2501,\"\")","v":""},"","TENNESSEE","Robertson County",69,17,35,"N/A",121,3.2242352735066461E-2,0.12084805653710247]
[211,null,8,"Rutherford (Murfreesboro), TN - Warren, TN","TN: Rutherford County (47149)","TN: Rutherford County (47149)","47149","  Rutherford  ",{"$f":"ROWS($L$2:L2502)","v":2501},{"$f":"IF(L2502=WORKSHEET!$B$1,I2502,\"\")","v":""},"","TENNESSEE","Rutherford County",283,48,165,"N/A",496,3.2242352735066461E-2,0.16083916083916083]
[263,null,8,"Scott, TN","TN: Scott County (47151)","TN: Scott County (47151)","47151","  Scott  ",{"$f":"ROWS($L$2:L2503)","v":2502},{"$f":"IF(L2503=WORKSHEET!$B$1,I2503,\"\")","v":""},"","TENNESSEE","Scott County",15,"*","*","N/A",26,3.2242352735066461E-2,0.16666666666666666]
[885,141,8,"Hamilton (Chattanooga), TN - Marion, TN","TN: Sequatchie County (47153)","TN: Sequatchie County (47153)","47153","  Sequatchie  ",{"$f":"ROWS($L$2:L2504)","v":2503},{"$f":"IF(L2504=WORKSHEET!$B$1,I2504,\"\")","v":""},"","TENNESSEE","Sequatchie County",17,"*","*","N/A",26,3.2242352735066461E-2,5.6541019955654102E-2]
[147,null,8,"Knox (Knoxville), TN - Blount, TN","TN: Sevier County (47155)","TN: Sevier County (47155)","47155","  Sevier  ",{"$f":"ROWS($L$2:L2505)","v":2504},{"$f":"IF(L2505=WORKSHEET!$B$1,I2505,\"\")","v":""},"","TENNESSEE","Sevier County",92,17,37,"*",147,3.2242352735066461E-2,9.8022355975924333E-2]
[887,146,8,"Shelby (Memphis), TN - Tipton, TN","TN: Shelby County (47157)","TN: Shelby County (47157)","47157","  Shelby  ",{"$f":"ROWS($L$2:L2506)","v":2505},{"$f":"IF(L2506=WORKSHEET!$B$1,I2506,\"\")","v":""},"","TENNESSEE","Shelby County",2645,297,741,"*",3689,3.2242352735066461E-2,0.10306845003933911]
[231,null,8,"Sumner (Hendersonville), TN - Wilson, TN","TN: Smith County (47159)","TN: Smith County (47159)","47159","  Smith  ",{"$f":"ROWS($L$2:L2507)","v":2506},{"$f":"IF(L2507=WORKSHEET!$B$1,I2507,\"\")","v":""},"","TENNESSEE","Smith County",25,"*","*","N/A",38,3.2242352735066461E-2,0.17847025495750707]
[234,null,8,"Montgomery (Clarksville), TN - Stewart, TN","TN: Stewart County (47161)","TN: Stewart County (47161)","47161","  Stewart  ",{"$f":"ROWS($L$2:L2508)","v":2507},{"$f":"IF(L2508=WORKSHEET!$B$1,I2508,\"\")","v":""},"","TENNESSEE","Stewart County","*","*","*","N/A",14,3.2242352735066461E-2,0.1652542372881356]
[151,null,8,"Sullivan (Kingsport), TN - Hawkins, TN","TN: Sullivan County (47163)","TN: Sullivan County (47163)","47163","  Sullivan  ",{"$f":"ROWS($L$2:L2509)","v":2508},{"$f":"IF(L2509=WORKSHEET!$B$1,I2509,\"\")","v":""},"","TENNESSEE","Sullivan County",133,24,86,"*",244,3.2242352735066461E-2,0.13227513227513227]
[231,null,8,"Sumner (Hendersonville), TN - Wilson, TN","TN: Sumner County (47165)","TN: Sumner County (47165)","47165","  Sumner  ",{"$f":"ROWS($L$2:L2510)","v":2509},{"$f":"IF(L2510=WORKSHEET!$B$1,I2510,\"\")","v":""},"","TENNESSEE","Sumner County",134,28,93,"*",257,3.2242352735066461E-2,0.17847025495750707]
[887,146,8,"Shelby (Memphis), TN - Tipton, TN","TN: Tipton County (47167)","TN: Tipton County (47167)","47167","  Tipton  ",{"$f":"ROWS($L$2:L2511)","v":2510},{"$f":"IF(L2511=WORKSHEET!$B$1,I2511,\"\")","v":""},"","TENNESSEE","Tipton County",101,16,32,"*",150,3.2242352735066461E-2,0.10306845003933911]
[231,null,8,"Sumner (Hendersonville), TN - Wilson, TN","TN: Trousdale County (47169)","TN: Trousdale County (47169)","47169","  Trousdale  ",{"$f":"ROWS($L$2:L2512)","v":2511},{"$f":"IF(L2512=WORKSHEET!$B$1,I2512,\"\")","v":""},"","TENNESSEE","Trousdale County","*","*","*","N/A",11,3.2242352735066461E-2,0.17847025495750707]
[169,null,8,"Washington (Johnson City), TN - Carter, TN","TN: Unicoi County (47171)","TN: Unicoi County (47171)","47171","  Unicoi  ",{"$f":"ROWS($L$2:L2513)","v":2512},{"$f":"IF(L2513=WORKSHEET!$B$1,I2513,\"\")","v":""},"","TENNESSEE","Unicoi County",12,"*","*","N/A",20,3.2242352735066461E-2,0.17582417582417584]
[147,null,8,"Knox (Knoxville), TN - Blount, TN","TN: Union County (47173)","TN: Union County (47173)","47173","  Union  ",{"$f":"ROWS($L$2:L2514)","v":2513},{"$f":"IF(L2514=WORKSHEET!$B$1,I2514,\"\")","v":""},"","TENNESSEE","Union County",18,"*","*","N/A",27,3.2242352735066461E-2,9.8022355975924333E-2]
[211,null,8,"Rutherford (Murfreesboro), TN - Warren, TN","TN: Van Buren County (47175)","TN: Van Buren County (47175)","47175","  Van Buren  ",{"$f":"ROWS($L$2:L2515)","v":2514},{"$f":"IF(L2515=WORKSHEET!$B$1,I2515,\"\")","v":""},"","TENNESSEE","Van Buren County","*","N/A","N/A","N/A","*",3.2242352735066461E-2,0.16083916083916083]
[211,null,8,"Rutherford (Murfreesboro), TN - Warren, TN","TN: Warren County (47177)","TN: Warren County (47177)","47177","  Warren  ",{"$f":"ROWS($L$2:L2516)","v":2515},{"$f":"IF(L2516=WORKSHEET!$B$1,I2516,\"\")","v":""},"","TENNESSEE","Warren County",47,15,20,"N/A",82,3.2242352735066461E-2,0.16083916083916083]
[169,null,8,"Washington (Johnson City), TN - Carter, TN","TN: Washington County (47179)","TN: Washington County (47179)","47179","  Washington  ",{"$f":"ROWS($L$2:L2517)","v":2516},{"$f":"IF(L2517=WORKSHEET!$B$1,I2517,\"\")","v":""},"","TENNESSEE","Washington County",96,21,54,"N/A",171,3.2242352735066461E-2,0.17582417582417584]
[232,null,8,"Lawrence, TN - Wayne, TN","TN: Wayne County (47181)","TN: Wayne County (47181)","47181","  Wayne  ",{"$f":"ROWS($L$2:L2518)","v":2517},{"$f":"IF(L2518=WORKSHEET!$B$1,I2518,\"\")","v":""},"","TENNESSEE","Wayne County",13,"*","*","N/A",21,3.2242352735066461E-2,0.16393442622950818]
[897,181,8,"Weakley, TN - Obion, TN","TN: Weakley County (47183)","TN: Weakley County (47183)","47183","  Weakley  ",{"$f":"ROWS($L$2:L2519)","v":2518},{"$f":"IF(L2519=WORKSHEET!$B$1,I2519,\"\")","v":""},"","TENNESSEE","Weakley County",47,{"$f":"+R2519-N2519-P2519","v":5},13,"N/A",65,3.2242352735066461E-2,8.5714285714285715E-2]
[215,null,8,"Putnam, TN - White, TN","TN: White County (47185)","TN: White County (47185)","47185","  White  ",{"$f":"ROWS($L$2:L2520)","v":2519},{"$f":"IF(L2520=WORKSHEET!$B$1,I2520,\"\")","v":""},"","TENNESSEE","White County",16,11,16,"*",44,3.2242352735066461E-2,0.23841059602649006]
[148,null,8,"Davidson (Nashville-Davidson), TN - Williamson, TN","TN: Williamson County (47187)","TN: Williamson County (47187)","47187","  Williamson  ",{"$f":"ROWS($L$2:L2521)","v":2520},{"$f":"IF(L2521=WORKSHEET!$B$1,I2521,\"\")","v":""},"","TENNESSEE","Williamson County",78,19,88,"*",187,3.2242352735066461E-2,0.12084805653710247]
[231,null,8,"Sumner (Hendersonville), TN - Wilson, TN","TN: Wilson County (47189)","TN: Wilson County (47189)","47189","  Wilson  ",{"$f":"ROWS($L$2:L2522)","v":2521},{"$f":"IF(L2522=WORKSHEET!$B$1,I2522,\"\")","v":""},"","TENNESSEE","Wilson County",111,26,86,"N/A",223,3.2242352735066461E-2,0.17847025495750707]
[509,null,14,"Anderson, TX - Cherokee, TX","TX: Anderson County (48001)","TX: Anderson County (48001)","48001","Anderson  ",{"$f":"ROWS($L$2:L2523)","v":2522},{"$f":"IF(L2523=WORKSHEET!$B$1,I2523,\"\")","v":""},"","TEXAS","Anderson County",74,16,37,"N/A",127,4.3016179331590909E-2,0.11790393013100436]
[937,508,14,"Gaines, TX - Andrews, TX","TX: Andrews County (48003)","TX: Andrews County (48003)","48003","  Andrews  ",{"$f":"ROWS($L$2:L2524)","v":2523},{"$f":"IF(L2524=WORKSHEET!$B$1,I2524,\"\")","v":""},"","TEXAS","Andrews County",18,"*","*","N/A",27,4.3016179331590909E-2,0.19653179190751446]
[449,null,14,"Angelina, TX - Walker, TX","TX: Angelina County (48005)","TX: Angelina County (48005)","48005","  Angelina  ",{"$f":"ROWS($L$2:L2525)","v":2524},{"$f":"IF(L2525=WORKSHEET!$B$1,I2525,\"\")","v":""},"","TEXAS","Angelina County",166,23,52,"N/A",241,4.3016179331590909E-2,0.12853470437017994]
[437,null,14,"Nueces (Corpus Christi), TX - San Patricio, TX","TX: Aransas County (48007)","TX: Aransas County (48007)","48007","  Aransas  ",{"$f":"ROWS($L$2:L2526)","v":2525},{"$f":"IF(L2526=WORKSHEET!$B$1,I2526,\"\")","v":""},"","TEXAS","Aransas County",42,{"$f":"+R2526-N2526-P2526","v":3},14,"N/A",59,4.3016179331590909E-2,4.5665122435473195E-2]
[420,null,14,"Wichita (Wichita Falls), TX - Montague, TX","TX: Archer County (48009)","TX: Archer County (48009)","48009","  Archer  ",{"$f":"ROWS($L$2:L2527)","v":2526},{"$f":"IF(L2527=WORKSHEET!$B$1,I2527,\"\")","v":""},"","TEXAS","Archer County","*","N/A","*","N/A","*",4.3016179331590909E-2,6.4150943396226415E-2]
[405,null,14,"Potter (Amarillo), TX - Randall, TX","TX: Armstrong County (48011)","TX: Armstrong County (48011)","48011","  Armstrong  ",{"$f":"ROWS($L$2:L2528)","v":2527},{"$f":"IF(L2528=WORKSHEET!$B$1,I2528,\"\")","v":""},"","TEXAS","Armstrong County","*","N/A","N/A","N/A","*",4.3016179331590909E-2,0.20909090909090908]
[410,null,14,"Bexar (San Antonio), TX - Guadalupe, TX","TX: Atascosa County (48013)","TX: Atascosa County (48013)","48013","  Atascosa  ",{"$f":"ROWS($L$2:L2529)","v":2528},{"$f":"IF(L2529=WORKSHEET!$B$1,I2529,\"\")","v":""},"","TEXAS","Atascosa County",104,11,34,"*",150,4.3016179331590909E-2,7.8482018676733559E-2]
[408,null,14,"Harris (Houston), TX - Fort Bend, TX","TX: Austin County (48015)","TX: Austin County (48015)","48015","  Austin  ",{"$f":"ROWS($L$2:L2530)","v":2529},{"$f":"IF(L2530=WORKSHEET!$B$1,I2530,\"\")","v":""},"","TEXAS","Austin County",37,{"$f":"+R2530-N2530-P2530","v":5},12,"*",54,4.3016179331590909E-2,8.9030841401337463E-2]
[406,null,14,"Lubbock (Lubbock), TX - Hockley, TX","TX: Bailey County (48017)","TX: Bailey County (48017)","48017","  Bailey  ",{"$f":"ROWS($L$2:L2531)","v":2530},{"$f":"IF(L2531=WORKSHEET!$B$1,I2531,\"\")","v":""},"","TEXAS","Bailey County",11,"*","*","*",21,4.3016179331590909E-2,0.18]
[410,null,14,"Bexar (San Antonio), TX - Guadalupe, TX","TX: Bandera County (48019)","TX: Bandera County (48019)","48019","  Bandera  ",{"$f":"ROWS($L$2:L2532)","v":2531},{"$f":"IF(L2532=WORKSHEET!$B$1,I2532,\"\")","v":""},"","TEXAS","Bandera County",21,{"$f":"+R2532-N2532-P2532","v":4},17,"N/A",42,4.3016179331590909E-2,7.8482018676733559E-2]
[425,null,14,"Travis (Austin), TX - Williamson, TX","TX: Bastrop County (48021)","TX: Bastrop County (48021)","48021","  Bastrop  ",{"$f":"ROWS($L$2:L2533)","v":2532},{"$f":"IF(L2533=WORKSHEET!$B$1,I2533,\"\")","v":""},"","TEXAS","Bastrop County",116,{"$f":"+R2533-N2533-P2533","v":9},38,"N/A",163,4.3016179331590909E-2,9.5391211146838156E-2]
[420,null,14,"Wichita (Wichita Falls), TX - Montague, TX","TX: Baylor County (48023)","TX: Baylor County (48023)","48023","  Baylor  ",{"$f":"ROWS($L$2:L2534)","v":2533},{"$f":"IF(L2534=WORKSHEET!$B$1,I2534,\"\")","v":""},"","TEXAS","Baylor County","*","N/A","*","N/A","*",4.3016179331590909E-2,6.4150943396226415E-2]
[513,null,14,"Bee, TX - Karnes, TX","TX: Bee County (48025)","TX: Bee County (48025)","48025","  Bee  ",{"$f":"ROWS($L$2:L2535)","v":2534},{"$f":"IF(L2535=WORKSHEET!$B$1,I2535,\"\")","v":""},"","TEXAS","Bee County",64,12,30,"N/A",106,4.3016179331590909E-2,0.13761467889908258]
[452,null,14,"Bell (Killeen), TX - Coryell, TX","TX: Bell County (48027)","TX: Bell County (48027)","48027","  Bell  ",{"$f":"ROWS($L$2:L2536)","v":2535},{"$f":"IF(L2536=WORKSHEET!$B$1,I2536,\"\")","v":""},"","TEXAS","Bell County",426,36,169,"*",634,4.3016179331590909E-2,8.0858085808580851E-2]
[410,null,14,"Bexar (San Antonio), TX - Guadalupe, TX","TX: Bexar County (48029)","TX: Bexar County (48029)","48029","  Bexar  ",{"$f":"ROWS($L$2:L2537)","v":2536},{"$f":"IF(L2537=WORKSHEET!$B$1,I2537,\"\")","v":""},"","TEXAS","Bexar County",3955,330,1451,19,5755,4.3016179331590909E-2,7.8482018676733559E-2]
[506,null,14,"Kerr, TX - Gillespie, TX","TX: Blanco County (48031)","TX: Blanco County (48031)","48031","  Blanco  ",{"$f":"ROWS($L$2:L2538)","v":2537},{"$f":"IF(L2538=WORKSHEET!$B$1,I2538,\"\")","v":""},"","TEXAS","Blanco County",21,"*","*","N/A",30,4.3016179331590909E-2,0.20567375886524822]
[406,null,14,"Lubbock (Lubbock), TX - Hockley, TX","TX: Borden County (48033)","TX: Borden County (48033)","48033",null,{"$f":"ROWS($L$2:L2539)","v":2538},{"$f":"IF(L2539=WORKSHEET!$B$1,I2539,\"\")","v":""},"","TEXAS","Borden County",null,null,null,null,null,4.3016179331590909E-2,0.18]
[462,null,14,"McLennan (Waco), TX - Hill, TX","TX: Bosque County (48035)","TX: Bosque County (48035)","48035","  Bosque  ",{"$f":"ROWS($L$2:L2540)","v":2539},{"$f":"IF(L2540=WORKSHEET!$B$1,I2540,\"\")","v":""},"","TEXAS","Bosque County",25,"*","*","N/A",34,4.3016179331590909E-2,9.0643274853801165E-2]
[925,404,14,"Bowie (Texarkana), TX","TX: Bowie County (48037)","TX: Bowie County (48037)","48037","  Bowie  ",{"$f":"ROWS($L$2:L2541)","v":2540},{"$f":"IF(L2541=WORKSHEET!$B$1,I2541,\"\")","v":""},"","TEXAS","Bowie County",126,25,45,"*",197,4.3016179331590909E-2,0.18181818181818182]
[505,null,14,"Brazoria (Lake Jackson), TX - Wharton, TX","TX: Brazoria County (48039)","TX: Brazoria County (48039)","48039","  Brazoria  ",{"$f":"ROWS($L$2:L2542)","v":2541},{"$f":"IF(L2542=WORKSHEET!$B$1,I2542,\"\")","v":""},"","TEXAS","Brazoria County",457,49,174,"*",681,4.3016179331590909E-2,8.6614173228346455E-2]
[464,null,14,"Brazos (Bryan), TX - Washington, TX","TX: Brazos County (48041)","TX: Brazos County (48041)","48041","  Brazos  ",{"$f":"ROWS($L$2:L2543)","v":2542},{"$f":"IF(L2543=WORKSHEET!$B$1,I2543,\"\")","v":""},"","TEXAS","Brazos County",266,28,76,"N/A",370,4.3016179331590909E-2,0.11553030303030302]
[526,null,14,"Brewster, TX - Presidio, TX","TX: Brewster County (48043)","TX: Brewster County (48043)","48043","  Brewster  ",{"$f":"ROWS($L$2:L2544)","v":2543},{"$f":"IF(L2544=WORKSHEET!$B$1,I2544,\"\")","v":""},"","TEXAS","Brewster County","*","*","*","N/A",18,4.3016179331590909E-2,4.7619047619047616E-2]
[405,null,14,"Potter (Amarillo), TX - Randall, TX","TX: Briscoe County (48045)","TX: Briscoe County (48045)","48045",null,{"$f":"ROWS($L$2:L2545)","v":2544},{"$f":"IF(L2545=WORKSHEET!$B$1,I2545,\"\")","v":""},"","TEXAS","Briscoe County",null,null,null,null,null,4.3016179331590909E-2,0.20909090909090908]
[437,null,14,"Nueces (Corpus Christi), TX - San Patricio, TX","TX: Brooks County (48047)","TX: Brooks County (48047)","48047","  Brooks  ",{"$f":"ROWS($L$2:L2546)","v":2545},{"$f":"IF(L2546=WORKSHEET!$B$1,I2546,\"\")","v":""},"","TEXAS","Brooks County",34,"*","*","N/A",41,4.3016179331590909E-2,4.5665122435473195E-2]
[468,null,14,"Brown, TX - Coleman, TX","TX: Brown County (48049)","TX: Brown County (48049)","48049","  Brown  ",{"$f":"ROWS($L$2:L2547)","v":2546},{"$f":"IF(L2547=WORKSHEET!$B$1,I2547,\"\")","v":""},"","TEXAS","Brown County",47,{"$f":"+R2547-N2547-P2547","v":6},13,"N/A",66,4.3016179331590909E-2,0.10126582278481013]
[464,null,14,"Brazos (Bryan), TX - Washington, TX","TX: Burleson County (48051)","TX: Burleson County (48051)","48051","  Burleson  ",{"$f":"ROWS($L$2:L2548)","v":2547},{"$f":"IF(L2548=WORKSHEET!$B$1,I2548,\"\")","v":""},"","TEXAS","Burleson County",47,{"$f":"+R2548-N2548-P2548","v":{"$error":"#VALUE!"}},"*","N/A",62,4.3016179331590909E-2,0.11553030303030302]
[425,null,14,"Travis (Austin), TX - Williamson, TX","TX: Burnet County (48053)","TX: Burnet County (48053)","48053","  Burnet  ",{"$f":"ROWS($L$2:L2549)","v":2548},{"$f":"IF(L2549=WORKSHEET!$B$1,I2549,\"\")","v":""},"","TEXAS","Burnet County",45,{"$f":"+R2549-N2549-P2549","v":7},24,"N/A",76,4.3016179331590909E-2,9.5391211146838156E-2]
[510,null,14,"Hays (San Marcos), TX - Caldwell, TX","TX: Caldwell County (48055)","TX: Caldwell County (48055)","48055","  Caldwell  ",{"$f":"ROWS($L$2:L2550)","v":2549},{"$f":"IF(L2550=WORKSHEET!$B$1,I2550,\"\")","v":""},"","TEXAS","Caldwell County",80,{"$f":"+R2550-N2550-P2550","v":6},25,"N/A",111,4.3016179331590909E-2,8.4375000000000006E-2]
[433,null,14,"Victoria (Victoria), TX - Calhoun, TX","TX: Calhoun County (48057)","TX: Calhoun County (48057)","48057","  Calhoun  ",{"$f":"ROWS($L$2:L2551)","v":2550},{"$f":"IF(L2551=WORKSHEET!$B$1,I2551,\"\")","v":""},"","TEXAS","Calhoun County",38,"*","*","N/A",51,4.3016179331590909E-2,0.14039408866995073]
[428,null,14,"Taylor (Abilene), TX - Jones, TX","TX: Callahan County (48059)","TX: Callahan County (48059)","48059","  Callahan  ",{"$f":"ROWS($L$2:L2552)","v":2551},{"$f":"IF(L2552=WORKSHEET!$B$1,I2552,\"\")","v":""},"","TEXAS","Callahan County",19,"N/A","*","N/A",24,4.3016179331590909E-2,7.3099415204678359E-2]
[520,null,14,"Cameron (Brownsville), TX - Willacy, TX","TX: Cameron County (48061)","TX: Cameron County (48061)","48061","  Cameron  ",{"$f":"ROWS($L$2:L2553)","v":2552},{"$f":"IF(L2553=WORKSHEET!$B$1,I2553,\"\")","v":""},"","TEXAS","Cameron County",1107,52,193,"*",1357,4.3016179331590909E-2,4.5930701047542308E-2]
[465,null,14,"Titus, TX - Morris, TX","TX: Camp County (48063)","TX: Camp County (48063)","48063","  Camp  ",{"$f":"ROWS($L$2:L2554)","v":2553},{"$f":"IF(L2554=WORKSHEET!$B$1,I2554,\"\")","v":""},"","TEXAS","Camp County",23,"*","*","N/A",35,4.3016179331590909E-2,0.12977099236641221]
[405,null,14,"Potter (Amarillo), TX - Randall, TX","TX: Carson County (48065)","TX: Carson County (48065)","48065","  Carson  ",{"$f":"ROWS($L$2:L2555)","v":2554},{"$f":"IF(L2555=WORKSHEET!$B$1,I2555,\"\")","v":""},"","TEXAS","Carson County","*","*","*","N/A","*",4.3016179331590909E-2,0.20909090909090908]
[485,null,14,"Harrison (Marshall), TX - Cass, TX","TX: Cass County (48067)","TX: Cass County (48067)","48067","  Cass  ",{"$f":"ROWS($L$2:L2556)","v":2555},{"$f":"IF(L2556=WORKSHEET!$B$1,I2556,\"\")","v":""},"","TEXAS","Cass County",40,{"$f":"+R2556-N2556-P2556","v":7},12,"N/A",59,4.3016179331590909E-2,0.11290322580645161]
[481,null,14,"Hale, TX - Castro, TX","TX: Castro County (48069)","TX: Castro County (48069)","48069","  Castro  ",{"$f":"ROWS($L$2:L2557)","v":2556},{"$f":"IF(L2557=WORKSHEET!$B$1,I2557,\"\")","v":""},"","TEXAS","Castro County","*","*","*","N/A",14,4.3016179331590909E-2,0.13829787234042554]
[408,null,14,"Harris (Houston), TX - Fort Bend, TX","TX: Chambers County (48071)","TX: Chambers County (48071)","48071","  Chambers  ",{"$f":"ROWS($L$2:L2558)","v":2557},{"$f":"IF(L2558=WORKSHEET!$B$1,I2558,\"\")","v":""},"","TEXAS","Chambers County",29,"*","*","N/A",45,4.3016179331590909E-2,8.9030841401337463E-2]
[509,null,14,"Anderson, TX - Cherokee, TX","TX: Cherokee County (48073)","TX: Cherokee County (48073)","48073","  Cherokee  ",{"$f":"ROWS($L$2:L2559)","v":2558},{"$f":"IF(L2559=WORKSHEET!$B$1,I2559,\"\")","v":""},"","TEXAS","Cherokee County",83,{"$f":"+R2559-N2559-P2559","v":9},24,"N/A",116,4.3016179331590909E-2,0.11790393013100436]
[512,null,14,"Childress, TX - Hall, TX","TX: Childress County (48075)","TX: Childress County (48075)","48075","  Childress  ",{"$f":"ROWS($L$2:L2560)","v":2559},{"$f":"IF(L2560=WORKSHEET!$B$1,I2560,\"\")","v":""},"","TEXAS","Childress County","*","N/A","*","*",14,4.3016179331590909E-2,5.2631578947368418E-2]
[420,null,14,"Wichita (Wichita Falls), TX - Montague, TX","TX: Clay County (48077)","TX: Clay County (48077)","48077","  Clay  ",{"$f":"ROWS($L$2:L2561)","v":2560},{"$f":"IF(L2561=WORKSHEET!$B$1,I2561,\"\")","v":""},"","TEXAS","Clay County","*","*","*","N/A",12,4.3016179331590909E-2,6.4150943396226415E-2]
[406,null,14,"Lubbock (Lubbock), TX - Hockley, TX","TX: Cochran County (48079)","TX: Cochran County (48079)","48079","  Cochran  ",{"$f":"ROWS($L$2:L2562)","v":2561},{"$f":"IF(L2562=WORKSHEET!$B$1,I2562,\"\")","v":""},"","TEXAS","Cochran County","*","*","N/A","N/A","*",4.3016179331590909E-2,0.18]
[426,null,14,"Tom Green (San Angelo), TX - Runnels, TX","TX: Coke County (48081)","TX: Coke County (48081)","48081","  Coke  ",{"$f":"ROWS($L$2:L2563)","v":2562},{"$f":"IF(L2563=WORKSHEET!$B$1,I2563,\"\")","v":""},{"$f":"IFERROR(SMALL($J$2:$J$3142,I2563),\"\")","v":""},"TEXAS","Coke County","*","N/A","*","N/A","*",4.3016179331590909E-2,5.3497942386831275E-2]
[468,null,14,"Brown, TX - Coleman, TX","TX: Coleman County (48083)","TX: Coleman County (48083)","48083","  Coleman  ",{"$f":"ROWS($L$2:L2564)","v":2563},{"$f":"IF(L2564=WORKSHEET!$B$1,I2564,\"\")","v":""},"","TEXAS","Coleman County",15,"N/A","*","N/A",19,4.3016179331590909E-2,0.10126582278481013]
[453,null,14,"Dallas (Dallas), TX - Collin, TX","TX: Collin County (48085)","TX: Collin County (48085)","48085","  Collin  ",{"$f":"ROWS($L$2:L2565)","v":2564},{"$f":"IF(L2565=WORKSHEET!$B$1,I2565,\"\")","v":""},"","TEXAS","Collin County",665,74,390,"*",1132,4.3016179331590909E-2,7.1229913473423986E-2]
[524,null,14,"Collingsworth, TX","TX: Collingsworth County (48087)","TX: Collingsworth County (48087)","48087","  Collingsworth  ",{"$f":"ROWS($L$2:L2566)","v":2565},{"$f":"IF(L2566=WORKSHEET!$B$1,I2566,\"\")","v":""},"","TEXAS","Collingsworth County","N/A","N/A","*","N/A","*",4.3016179331590909E-2,0]
[490,null,14,"Fayette, TX - Colorado, TX","TX: Colorado County (48089)","TX: Colorado County (48089)","48089","  Colorado  ",{"$f":"ROWS($L$2:L2567)","v":2566},{"$f":"IF(L2567=WORKSHEET!$B$1,I2567,\"\")","v":""},"","TEXAS","Colorado County",43,{"$f":"+R2567-N2567-P2567","v":3},12,"N/A",58,4.3016179331590909E-2,7.6086956521739135E-2]
[517,null,14,"Comal, TX","TX: Comal County (48091)","TX: Comal County (48091)","48091","  Comal  ",{"$f":"ROWS($L$2:L2568)","v":2567},{"$f":"IF(L2568=WORKSHEET!$B$1,I2568,\"\")","v":""},"","TEXAS","Comal County",160,19,73,"N/A",252,4.3016179331590909E-2,0.10614525139664804]
[507,null,14,"Erath, TX - Comanche, TX","TX: Comanche County (48093)","TX: Comanche County (48093)","48093","  Comanche  ",{"$f":"ROWS($L$2:L2569)","v":2568},{"$f":"IF(L2569=WORKSHEET!$B$1,I2569,\"\")","v":""},"","TEXAS","Comanche County",21,"*","*","*",34,4.3016179331590909E-2,0.16393442622950818]
[426,null,14,"Tom Green (San Angelo), TX - Runnels, TX","TX: Concho County (48095)","TX: Concho County (48095)","48095","  Concho  ",{"$f":"ROWS($L$2:L2570)","v":2569},{"$f":"IF(L2570=WORKSHEET!$B$1,I2570,\"\")","v":""},"","TEXAS","Concho County","*","N/A","*","N/A",11,4.3016179331590909E-2,5.3497942386831275E-2]
[495,null,14,"Denton (Denton), TX - Wise, TX","TX: Cooke County (48097)","TX: Cooke County (48097)","48097","  Cooke  ",{"$f":"ROWS($L$2:L2571)","v":2570},{"$f":"IF(L2571=WORKSHEET!$B$1,I2571,\"\")","v":""},"","TEXAS","Cooke County",38,{"$f":"+R2571-N2571-P2571","v":5},16,"N/A",59,4.3016179331590909E-2,0.12006319115323855]
[452,null,14,"Bell (Killeen), TX - Coryell, TX","TX: Coryell County (48099)","TX: Coryell County (48099)","48099","  Coryell  ",{"$f":"ROWS($L$2:L2572)","v":2571},{"$f":"IF(L2572=WORKSHEET!$B$1,I2572,\"\")","v":""},"","TEXAS","Coryell County",51,{"$f":"+R2572-N2572-P2572","v":6},29,"N/A",86,4.3016179331590909E-2,8.0858085808580851E-2]
[512,null,14,"Childress, TX - Hall, TX","TX: Cottle County (48101)","TX: Cottle County (48101)","48101","  Cottle  ",{"$f":"ROWS($L$2:L2573)","v":2572},{"$f":"IF(L2573=WORKSHEET!$B$1,I2573,\"\")","v":""},"","TEXAS","Cottle County","*","*","N/A","N/A","*",4.3016179331590909E-2,5.2631578947368418E-2]
[444,null,14,"Ector (Odessa), TX - Reeves, TX","TX: Crane County (48103)","TX: Crane County (48103)","48103","  Crane  ",{"$f":"ROWS($L$2:L2574)","v":2573},{"$f":"IF(L2574=WORKSHEET!$B$1,I2574,\"\")","v":""},"","TEXAS","Crane County","*","*","N/A","N/A","*",4.3016179331590909E-2,0.10326086956521739]
[426,null,14,"Tom Green (San Angelo), TX - Runnels, TX","TX: Crockett County (48105)","TX: Crockett County (48105)","48105","  Crockett  ",{"$f":"ROWS($L$2:L2575)","v":2574},{"$f":"IF(L2575=WORKSHEET!$B$1,I2575,\"\")","v":""},"","TEXAS","Crockett County","*","*","*","N/A",12,4.3016179331590909E-2,5.3497942386831275E-2]
[406,null,14,"Lubbock (Lubbock), TX - Hockley, TX","TX: Crosby County (48107)","TX: Crosby County (48107)","48107","  Crosby  ",{"$f":"ROWS($L$2:L2576)","v":2575},{"$f":"IF(L2576=WORKSHEET!$B$1,I2576,\"\")","v":""},"","TEXAS","Crosby County",12,"*","*","N/A",18,4.3016179331590909E-2,0.18]
[415,null,14,"El Paso (El Paso), TX - Hudspeth, TX","TX: Culberson County (48109)","TX: Culberson County (48109)","48109","  Culberson  ",{"$f":"ROWS($L$2:L2577)","v":2576},{"$f":"IF(L2577=WORKSHEET!$B$1,I2577,\"\")","v":""},"","TEXAS","Culberson County","*","*","*","N/A","*",4.3016179331590909E-2,0.13710050949513664]
[405,null,14,"Potter (Amarillo), TX - Randall, TX","TX: Dallam County (48111)","TX: Dallam County (48111)","48111","  Dallam  ",{"$f":"ROWS($L$2:L2578)","v":2577},{"$f":"IF(L2578=WORKSHEET!$B$1,I2578,\"\")","v":""},"","TEXAS","Dallam County",12,"*","*","N/A",23,4.3016179331590909E-2,0.20909090909090908]
[453,null,14,"Dallas (Dallas), TX - Collin, TX","TX: Dallas County (48113)","TX: Dallas County (48113)","48113","  Dallas  ",{"$f":"ROWS($L$2:L2579)","v":2578},{"$f":"IF(L2579=WORKSHEET!$B$1,I2579,\"\")","v":""},"","TEXAS","Dallas County",4712,331,1748,18,6809,4.3016179331590909E-2,7.1229913473423986E-2]
[406,null,14,"Lubbock (Lubbock), TX - Hockley, TX","TX: Dawson County (48115)","TX: Dawson County (48115)","48115","  Dawson  ",{"$f":"ROWS($L$2:L2580)","v":2579},{"$f":"IF(L2580=WORKSHEET!$B$1,I2580,\"\")","v":""},"","TEXAS","Dawson County",25,"*","*","N/A",38,4.3016179331590909E-2,0.18]
[491,null,14,"Deaf Smith, TX - Parmer, TX","TX: Deaf Smith County (48117)","TX: Deaf Smith County (48117)","48117","  Deaf Smith  ",{"$f":"ROWS($L$2:L2581)","v":2580},{"$f":"IF(L2581=WORKSHEET!$B$1,I2581,\"\")","v":""},"","TEXAS","Deaf Smith County",37,16,"*","N/A",62,4.3016179331590909E-2,0.34722222222222221]
[931,438,14,"Lamar, TX - Red River, TX","TX: Delta County (48119)","TX: Delta County (48119)","48119","  Delta  ",{"$f":"ROWS($L$2:L2582)","v":2581},{"$f":"IF(L2582=WORKSHEET!$B$1,I2582,\"\")","v":""},"","TEXAS","Delta County","*","N/A","*","N/A","*",4.3016179331590909E-2,0.1206896551724138]
[495,null,14,"Denton (Denton), TX - Wise, TX","TX: Denton County (48121)","TX: Denton County (48121)","48121","  Denton  ",{"$f":"ROWS($L$2:L2583)","v":2582},{"$f":"IF(L2583=WORKSHEET!$B$1,I2583,\"\")","v":""},"","TEXAS","Denton County",448,69,274,"*",796,4.3016179331590909E-2,0.12006319115323855]
[433,null,14,"Victoria (Victoria), TX - Calhoun, TX","TX: DeWitt County (48123)","TX: DeWitt County (48123)","48123","  De Witt  ",{"$f":"ROWS($L$2:L2584)","v":2583},{"$f":"IF(L2584=WORKSHEET!$B$1,I2584,\"\")","v":""},"","TEXAS","DeWitt County",31,"*","*","N/A",43,4.3016179331590909E-2,0.14039408866995073]
[406,null,14,"Lubbock (Lubbock), TX - Hockley, TX","TX: Dickens County (48125)","TX: Dickens County (48125)","48125","  Dickens  ",{"$f":"ROWS($L$2:L2585)","v":2584},{"$f":"IF(L2585=WORKSHEET!$B$1,I2585,\"\")","v":""},"","TEXAS","Dickens County","*","N/A","N/A","N/A","*",4.3016179331590909E-2,0.18]
[531,null,14,"Dimmit, TX","TX: Dimmit County (48127)","TX: Dimmit County (48127)","48127","  Dimmit  ",{"$f":"ROWS($L$2:L2586)","v":2585},{"$f":"IF(L2586=WORKSHEET!$B$1,I2586,\"\")","v":""},"","TEXAS","Dimmit County",58,"*","*","N/A",71,4.3016179331590909E-2,4.9180327868852458E-2]
[405,null,14,"Potter (Amarillo), TX - Randall, TX","TX: Donley County (48129)","TX: Donley County (48129)","48129","  Donley  ",{"$f":"ROWS($L$2:L2587)","v":2586},{"$f":"IF(L2587=WORKSHEET!$B$1,I2587,\"\")","v":""},"","TEXAS","Donley County","*","*","N/A","N/A","*",4.3016179331590909E-2,0.20909090909090908]
[437,null,14,"Nueces (Corpus Christi), TX - San Patricio, TX","TX: Duval County (48131)","TX: Duval County (48131)","48131","  Duval  ",{"$f":"ROWS($L$2:L2588)","v":2587},{"$f":"IF(L2588=WORKSHEET!$B$1,I2588,\"\")","v":""},"","TEXAS","Duval County",32,"*","*","N/A",42,4.3016179331590909E-2,4.5665122435473195E-2]
[428,null,14,"Taylor (Abilene), TX - Jones, TX","TX: Eastland County (48133)","TX: Eastland County (48133)","48133","  Eastland  ",{"$f":"ROWS($L$2:L2589)","v":2588},{"$f":"IF(L2589=WORKSHEET!$B$1,I2589,\"\")","v":""},"","TEXAS","Eastland County",36,"*","*","N/A",44,4.3016179331590909E-2,7.3099415204678359E-2]
[444,null,14,"Ector (Odessa), TX - Reeves, TX","TX: Ector County (48135)","TX: Ector County (48135)","48135","  Ector  ",{"$f":"ROWS($L$2:L2590)","v":2589},{"$f":"IF(L2590=WORKSHEET!$B$1,I2590,\"\")","v":""},"","TEXAS","Ector County",270,31,77,"*",380,4.3016179331590909E-2,0.10326086956521739]
[506,null,14,"Kerr, TX - Gillespie, TX","TX: Edwards County (48137)","TX: Edwards County (48137)","48137","  Edwards  ",{"$f":"ROWS($L$2:L2591)","v":2590},{"$f":"IF(L2591=WORKSHEET!$B$1,I2591,\"\")","v":""},"","TEXAS","Edwards County","*","*","*","N/A","*",4.3016179331590909E-2,0.20567375886524822]
[415,null,14,"El Paso (El Paso), TX - Hudspeth, TX","TX: El Paso County (48141)","TX: El Paso County (48141)","48141","  El Paso  ",{"$f":"ROWS($L$2:L2592)","v":2591},{"$f":"IF(L2592=WORKSHEET!$B$1,I2592,\"\")","v":""},"","TEXAS","El Paso County",1856,293,435,"*",2585,4.3016179331590909E-2,0.13710050949513664]
[453,null,14,"Dallas (Dallas), TX - Collin, TX","TX: Ellis County (48139)","TX: Ellis County (48139)","48139","  Ellis  ",{"$f":"ROWS($L$2:L2593)","v":2592},{"$f":"IF(L2593=WORKSHEET!$B$1,I2593,\"\")","v":""},"","TEXAS","Ellis County",234,18,92,"*",345,4.3016179331590909E-2,7.1229913473423986E-2]
[507,null,14,"Erath, TX - Comanche, TX","TX: Erath County (48143)","TX: Erath County (48143)","48143","  Erath  ",{"$f":"ROWS($L$2:L2594)","v":2593},{"$f":"IF(L2594=WORKSHEET!$B$1,I2594,\"\")","v":""},"","TEXAS","Erath County",30,{"$f":"+R2594-N2594-P2594","v":6},13,"N/A",49,4.3016179331590909E-2,0.16393442622950818]
[462,null,14,"McLennan (Waco), TX - Hill, TX","TX: Falls County (48145)","TX: Falls County (48145)","48145","  Falls  ",{"$f":"ROWS($L$2:L2595)","v":2594},{"$f":"IF(L2595=WORKSHEET!$B$1,I2595,\"\")","v":""},"","TEXAS","Falls County",30,"N/A","*","N/A",37,4.3016179331590909E-2,5.5555555555555552E-2]
[930,436,14,"Grayson (Sherman), TX - Fannin, TX","TX: Fannin County (48147)","TX: Fannin County (48147)","48147","  Fannin  ",{"$f":"ROWS($L$2:L2596)","v":2595},{"$f":"IF(L2596=WORKSHEET!$B$1,I2596,\"\")","v":""},"","TEXAS","Fannin County",39,"*","*","N/A",51,4.3016179331590909E-2,6.0897435897435896E-2]
[490,null,14,"Fayette, TX - Colorado, TX","TX: Fayette County (48149)","TX: Fayette County (48149)","48149","  Fayette  ",{"$f":"ROWS($L$2:L2597)","v":2596},{"$f":"IF(L2597=WORKSHEET!$B$1,I2597,\"\")","v":""},"","TEXAS","Fayette County",42,{"$f":"+R2597-N2597-P2597","v":4},21,"N/A",67,4.3016179331590909E-2,7.6086956521739135E-2]
[503,null,14,"Nolan, TX - Mitchell, TX","TX: Fisher County (48151)","TX: Fisher County (48151)","48151","  Fisher  ",{"$f":"ROWS($L$2:L2598)","v":2597},{"$f":"IF(L2598=WORKSHEET!$B$1,I2598,\"\")","v":""},"","TEXAS","Fisher County","*","*","*","N/A","*",4.3016179331590909E-2,0.11538461538461539]
[481,null,14,"Hale, TX - Castro, TX","TX: Floyd County (48153)","TX: Floyd County (48153)","48153","  Floyd  ",{"$f":"ROWS($L$2:L2599)","v":2598},{"$f":"IF(L2599=WORKSHEET!$B$1,I2599,\"\")","v":""},"","TEXAS","Floyd County","*","*","*","N/A",17,4.3016179331590909E-2,0.13829787234042554]
[458,null,14,"Wilbarger, TX - Hardeman, TX","TX: Foard County (48155)","TX: Foard County (48155)","48155","  Foard  ",{"$f":"ROWS($L$2:L2600)","v":2599},{"$f":"IF(L2600=WORKSHEET!$B$1,I2600,\"\")","v":""},"","TEXAS","Foard County","*","N/A","*","N/A","*",4.3016179331590909E-2,0.1111111111111111]
[408,null,14,"Harris (Houston), TX - Fort Bend, TX","TX: Fort Bend County (48157)","TX: Fort Bend County (48157)","48157","  Fort Bend  ",{"$f":"ROWS($L$2:L2601)","v":2600},{"$f":"IF(L2601=WORKSHEET!$B$1,I2601,\"\")","v":""},"","TEXAS","Fort Bend County",769,83,304,"*",1158,4.3016179331590909E-2,8.9030841401337463E-2]
[465,null,14,"Titus, TX - Morris, TX","TX: Franklin County (48159)","TX: Franklin County (48159)","48159","  Franklin  ",{"$f":"ROWS($L$2:L2602)","v":2601},{"$f":"IF(L2602=WORKSHEET!$B$1,I2602,\"\")","v":""},"","TEXAS","Franklin County","*","*","*","N/A",15,4.3016179331590909E-2,0.12977099236641221]
[489,null,14,"Navarro, TX - Freestone, TX","TX: Freestone County (48161)","TX: Freestone County (48161)","48161","  Freestone  ",{"$f":"ROWS($L$2:L2603)","v":2602},{"$f":"IF(L2603=WORKSHEET!$B$1,I2603,\"\")","v":""},"","TEXAS","Freestone County",28,{"$f":"+R2603-N2603-P2603","v":1},13,"N/A",42,4.3016179331590909E-2,0.104]
[410,null,14,"Bexar (San Antonio), TX - Guadalupe, TX","TX: Frio County (48163)","TX: Frio County (48163)","48163","  Frio  ",{"$f":"ROWS($L$2:L2604)","v":2603},{"$f":"IF(L2604=WORKSHEET!$B$1,I2604,\"\")","v":""},"","TEXAS","Frio County",37,{"$f":"+R2604-N2604-P2604","v":10},14,"*",61,4.3016179331590909E-2,7.8482018676733559E-2]
[937,508,14,"Gaines, TX - Andrews, TX","TX: Gaines County (48165)","TX: Gaines County (48165)","48165","  Gaines  ",{"$f":"ROWS($L$2:L2605)","v":2604},{"$f":"IF(L2605=WORKSHEET!$B$1,I2605,\"\")","v":""},"","TEXAS","Gaines County",18,"*","N/A","N/A",25,4.3016179331590909E-2,0.19653179190751446]
[532,null,14,"Galveston, TX","TX: Galveston County (48167)","TX: Galveston County (48167)","48167","  Galveston  ",{"$f":"ROWS($L$2:L2606)","v":2605},{"$f":"IF(L2606=WORKSHEET!$B$1,I2606,\"\")","v":""},"","TEXAS","Galveston County",639,29,196,"*",869,4.3016179331590909E-2,4.3413173652694613E-2]
[406,null,14,"Lubbock (Lubbock), TX - Hockley, TX","TX: Garza County (48169)","TX: Garza County (48169)","48169","  Garza  ",{"$f":"ROWS($L$2:L2607)","v":2606},{"$f":"IF(L2607=WORKSHEET!$B$1,I2607,\"\")","v":""},"","TEXAS","Garza County","*","*","*","N/A",13,4.3016179331590909E-2,0.18]
[506,null,14,"Kerr, TX - Gillespie, TX","TX: Gillespie County (48171)","TX: Gillespie County (48171)","48171","  Gillespie  ",{"$f":"ROWS($L$2:L2608)","v":2607},{"$f":"IF(L2608=WORKSHEET!$B$1,I2608,\"\")","v":""},"","TEXAS","Gillespie County",13,{"$f":"+R2608-N2608-P2608","v":2},12,"N/A",27,4.3016179331590909E-2,0.20567375886524822]
[518,null,14,"Howard, TX - Glasscock, TX","TX: Glasscock County (48173)","TX: Glasscock County (48173)","48173","  Glasscock  ",{"$f":"ROWS($L$2:L2609)","v":2608},{"$f":"IF(L2609=WORKSHEET!$B$1,I2609,\"\")","v":""},"","TEXAS","Glasscock County","*","N/A","N/A","N/A","*",4.3016179331590909E-2,4.4444444444444446E-2]
[433,null,14,"Victoria (Victoria), TX - Calhoun, TX","TX: Goliad County (48175)","TX: Goliad County (48175)","48175","  Goliad  ",{"$f":"ROWS($L$2:L2610)","v":2609},{"$f":"IF(L2610=WORKSHEET!$B$1,I2610,\"\")","v":""},"","TEXAS","Goliad County",11,"*","*","N/A",16,4.3016179331590909E-2,0.14039408866995073]
[410,null,14,"Bexar (San Antonio), TX - Guadalupe, TX","TX: Gonzales County (48177)","TX: Gonzales County (48177)","48177","  Gonzales  ",{"$f":"ROWS($L$2:L2611)","v":2610},{"$f":"IF(L2611=WORKSHEET!$B$1,I2611,\"\")","v":""},"","TEXAS","Gonzales County",46,{"$f":"+R2611-N2611-P2611","v":3},16,"*",65,4.3016179331590909E-2,7.8482018676733559E-2]
[460,null,14,"Gray, TX - Wheeler, TX","TX: Gray County (48179)","TX: Gray County (48179)","48179","  Gray  ",{"$f":"ROWS($L$2:L2612)","v":2611},{"$f":"IF(L2612=WORKSHEET!$B$1,I2612,\"\")","v":""},"","TEXAS","Gray County",21,"*","*","N/A",35,4.3016179331590909E-2,0.21875]
[930,436,14,"Grayson (Sherman), TX - Fannin, TX","TX: Grayson County (48181)","TX: Grayson County (48181)","48181","  Grayson  ",{"$f":"ROWS($L$2:L2613)","v":2612},{"$f":"IF(L2613=WORKSHEET!$B$1,I2613,\"\")","v":""},"","TEXAS","Grayson County",175,11,54,"N/A",240,4.3016179331590909E-2,6.0897435897435896E-2]
[454,null,14,"Gregg (Longview), TX - Rusk, TX","TX: Gregg County (48183)","TX: Gregg County (48183)","48183","  Gregg  ",{"$f":"ROWS($L$2:L2614)","v":2613},{"$f":"IF(L2614=WORKSHEET!$B$1,I2614,\"\")","v":""},"","TEXAS","Gregg County",251,45,89,"*",387,4.3016179331590909E-2,0.16008316008316009]
[464,null,14,"Brazos (Bryan), TX - Washington, TX","TX: Grimes County (48185)","TX: Grimes County (48185)","48185","  Grimes  ",{"$f":"ROWS($L$2:L2615)","v":2614},{"$f":"IF(L2615=WORKSHEET!$B$1,I2615,\"\")","v":""},"","TEXAS","Grimes County",53,{"$f":"+R2615-N2615-P2615","v":6},16,"*",75,4.3016179331590909E-2,0.11553030303030302]
[410,null,14,"Bexar (San Antonio), TX - Guadalupe, TX","TX: Guadalupe County (48187)","TX: Guadalupe County (48187)","48187","  Guadalupe  ",{"$f":"ROWS($L$2:L2616)","v":2615},{"$f":"IF(L2616=WORKSHEET!$B$1,I2616,\"\")","v":""},"","TEXAS","Guadalupe County",218,14,84,"*",318,4.3016179331590909E-2,7.8482018676733559E-2]
[481,null,14,"Hale, TX - Castro, TX","TX: Hale County (48189)","TX: Hale County (48189)","48189","  Hale  ",{"$f":"ROWS($L$2:L2617)","v":2616},{"$f":"IF(L2617=WORKSHEET!$B$1,I2617,\"\")","v":""},"","TEXAS","Hale County",63,{"$f":"+R2617-N2617-P2617","v":8},21,"N/A",92,4.3016179331590909E-2,0.13829787234042554]
[512,null,14,"Childress, TX - Hall, TX","TX: Hall County (48191)","TX: Hall County (48191)","48191","  Hall  ",{"$f":"ROWS($L$2:L2618)","v":2617},{"$f":"IF(L2618=WORKSHEET!$B$1,I2618,\"\")","v":""},"","TEXAS","Hall County","*","*","*","N/A","*",4.3016179331590909E-2,5.2631578947368418E-2]
[462,null,14,"McLennan (Waco), TX - Hill, TX","TX: Hamilton County (48193)","TX: Hamilton County (48193)","48193","  Hamilton  ",{"$f":"ROWS($L$2:L2619)","v":2618},{"$f":"IF(L2619=WORKSHEET!$B$1,I2619,\"\")","v":""},"","TEXAS","Hamilton County","*","*","*","N/A",12,4.3016179331590909E-2,5.5555555555555552E-2]
[405,null,14,"Potter (Amarillo), TX - Randall, TX","TX: Hansford County (48195)","TX: Hansford County (48195)","48195","  Hansford  ",{"$f":"ROWS($L$2:L2620)","v":2619},{"$f":"IF(L2620=WORKSHEET!$B$1,I2620,\"\")","v":""},"","TEXAS","Hansford County","*","*","*","N/A",15,4.3016179331590909E-2,0.20909090909090908]
[458,null,14,"Wilbarger, TX - Hardeman, TX","TX: Hardeman County (48197)","TX: Hardeman County (48197)","48197","  Hardeman  ",{"$f":"ROWS($L$2:L2621)","v":2620},{"$f":"IF(L2621=WORKSHEET!$B$1,I2621,\"\")","v":""},"","TEXAS","Hardeman County","*","*","*","N/A","*",4.3016179331590909E-2,0.1111111111111111]
[413,null,14,"Jefferson (Beaumont), TX - Orange, TX","TX: Hardin County (48199)","TX: Hardin County (48199)","48199","  Hardin  ",{"$f":"ROWS($L$2:L2622)","v":2621},{"$f":"IF(L2622=WORKSHEET!$B$1,I2622,\"\")","v":""},"","TEXAS","Hardin County",57,{"$f":"+R2622-N2622-P2622","v":6},28,"N/A",91,4.3016179331590909E-2,0.10631229235880399]
[408,null,14,"Harris (Houston), TX - Fort Bend, TX","TX: Harris County (48201)","TX: Harris County (48201)","48201","  Harris  ",{"$f":"ROWS($L$2:L2623)","v":2622},{"$f":"IF(L2623=WORKSHEET!$B$1,I2623,\"\")","v":""},"","TEXAS","Harris County",7678,725,2459,27,10889,4.3016179331590909E-2,8.9030841401337463E-2]
[485,null,14,"Harrison (Marshall), TX - Cass, TX","TX: Harrison County (48203)","TX: Harrison County (48203)","48203","  Harrison  ",{"$f":"ROWS($L$2:L2624)","v":2623},{"$f":"IF(L2624=WORKSHEET!$B$1,I2624,\"\")","v":""},"","TEXAS","Harrison County",107,12,25,"N/A",144,4.3016179331590909E-2,0.11290322580645161]
[405,null,14,"Potter (Amarillo), TX - Randall, TX","TX: Hartley County (48205)","TX: Hartley County (48205)","48205",null,{"$f":"ROWS($L$2:L2625)","v":2624},{"$f":"IF(L2625=WORKSHEET!$B$1,I2625,\"\")","v":""},"","TEXAS","Hartley County",null,null,null,null,null,4.3016179331590909E-2,0.20909090909090908]
[428,null,14,"Taylor (Abilene), TX - Jones, TX","TX: Haskell County (48207)","TX: Haskell County (48207)","48207","  Haskell  ",{"$f":"ROWS($L$2:L2626)","v":2625},{"$f":"IF(L2626=WORKSHEET!$B$1,I2626,\"\")","v":""},"","TEXAS","Haskell County","*","*","*","N/A",11,4.3016179331590909E-2,7.3099415204678359E-2]
[510,null,14,"Hays (San Marcos), TX - Caldwell, TX","TX: Hays County (48209)","TX: Hays County (48209)","48209","  Hays  ",{"$f":"ROWS($L$2:L2627)","v":2626},{"$f":"IF(L2627=WORKSHEET!$B$1,I2627,\"\")","v":""},{"$f":"IFERROR(SMALL($J$2:$J$3142,I2627),\"\")","v":""},"TEXAS","Hays County",213,21,91,"*",326,4.3016179331590909E-2,8.4375000000000006E-2]
[460,null,14,"Gray, TX - Wheeler, TX","TX: Hemphill County (48211)","TX: Hemphill County (48211)","48211","  Hemphill  ",{"$f":"ROWS($L$2:L2628)","v":2627},{"$f":"IF(L2628=WORKSHEET!$B$1,I2628,\"\")","v":""},"","TEXAS","Hemphill County","N/A","N/A","*","N/A","*",4.3016179331590909E-2,0.21875]
[441,null,14,"Smith (Tyler), TX - Henderson, TX","TX: Henderson County (48213)","TX: Henderson County (48213)","48213","  Henderson  ",{"$f":"ROWS($L$2:L2629)","v":2628},{"$f":"IF(L2629=WORKSHEET!$B$1,I2629,\"\")","v":""},"","TEXAS","Henderson County",81,11,43,"N/A",135,4.3016179331590909E-2,0.12542372881355932]
[427,null,14,"Hidalgo (Mcallen), TX - Starr, TX","TX: Hidalgo County (48215)","TX: Hidalgo County (48215)","48215","  Hidalgo  ",{"$f":"ROWS($L$2:L2630)","v":2629},{"$f":"IF(L2630=WORKSHEET!$B$1,I2630,\"\")","v":""},"","TEXAS","Hidalgo County",1991,74,473,"*",2542,4.3016179331590909E-2,3.3783783783783786E-2]
[462,null,14,"McLennan (Waco), TX - Hill, TX","TX: Hill County (48217)","TX: Hill County (48217)","48217","  Hill  ",{"$f":"ROWS($L$2:L2631)","v":2630},{"$f":"IF(L2631=WORKSHEET!$B$1,I2631,\"\")","v":""},"","TEXAS","Hill County",51,{"$f":"+R2631-N2631-P2631","v":2},22,"N/A",75,4.3016179331590909E-2,5.5555555555555552E-2]
[406,null,14,"Lubbock (Lubbock), TX - Hockley, TX","TX: Hockley County (48219)","TX: Hockley County (48219)","48219","  Hockley  ",{"$f":"ROWS($L$2:L2632)","v":2631},{"$f":"IF(L2632=WORKSHEET!$B$1,I2632,\"\")","v":""},"","TEXAS","Hockley County",40,11,11,"N/A",62,4.3016179331590909E-2,0.18]
[434,null,14,"Tarrant (Fort Worth), TX - Johnson, TX","TX: Hood County (48221)","TX: Hood County (48221)","48221","  Hood  ",{"$f":"ROWS($L$2:L2633)","v":2632},{"$f":"IF(L2633=WORKSHEET!$B$1,I2633,\"\")","v":""},"","TEXAS","Hood County",56,{"$f":"+R2633-N2633-P2633","v":10},23,"N/A",89,4.3016179331590909E-2,7.0892410341951623E-2]
[453,null,14,"Dallas (Dallas), TX - Collin, TX","TX: Hopkins County (48223)","TX: Hopkins County (48223)","48223","  Hopkins  ",{"$f":"ROWS($L$2:L2634)","v":2633},{"$f":"IF(L2634=WORKSHEET!$B$1,I2634,\"\")","v":""},"","TEXAS","Hopkins County",39,{"$f":"+R2634-N2634-P2634","v":8},15,"N/A",62,4.3016179331590909E-2,7.1229913473423986E-2]
[509,null,14,"Anderson, TX - Cherokee, TX","TX: Houston County (48225)","TX: Houston County (48225)","48225","  Houston  ",{"$f":"ROWS($L$2:L2635)","v":2634},{"$f":"IF(L2635=WORKSHEET!$B$1,I2635,\"\")","v":""},"","TEXAS","Houston County",45,{"$f":"+R2635-N2635-P2635","v":2},13,"N/A",60,4.3016179331590909E-2,0.11790393013100436]
[518,null,14,"Howard, TX - Glasscock, TX","TX: Howard County (48227)","TX: Howard County (48227)","48227","  Howard  ",{"$f":"ROWS($L$2:L2636)","v":2635},{"$f":"IF(L2636=WORKSHEET!$B$1,I2636,\"\")","v":""},"","TEXAS","Howard County",42,"*","*","N/A",54,4.3016179331590909E-2,4.4444444444444446E-2]
[415,null,14,"El Paso (El Paso), TX - Hudspeth, TX","TX: Hudspeth County (48229)","TX: Hudspeth County (48229)","48229","  Hudspeth  ",{"$f":"ROWS($L$2:L2637)","v":2636},{"$f":"IF(L2637=WORKSHEET!$B$1,I2637,\"\")","v":""},"","TEXAS","Hudspeth County","*","*","N/A","N/A","*",4.3016179331590909E-2,0.13710050949513664]
[453,null,14,"Dallas (Dallas), TX - Collin, TX","TX: Hunt County (48231)","TX: Hunt County (48231)","48231","  Hunt  ",{"$f":"ROWS($L$2:L2638)","v":2637},{"$f":"IF(L2638=WORKSHEET!$B$1,I2638,\"\")","v":""},"","TEXAS","Hunt County",121,{"$f":"+R2638-N2638-P2638","v":6},37,"N/A",164,4.3016179331590909E-2,7.1229913473423986E-2]
[405,null,14,"Potter (Amarillo), TX - Randall, TX","TX: Hutchinson County (48233)","TX: Hutchinson County (48233)","48233","  Hutchinson  ",{"$f":"ROWS($L$2:L2639)","v":2638},{"$f":"IF(L2639=WORKSHEET!$B$1,I2639,\"\")","v":""},"","TEXAS","Hutchinson County",20,"*","*","*",37,4.3016179331590909E-2,0.20909090909090908]
[426,null,14,"Tom Green (San Angelo), TX - Runnels, TX","TX: Irion County (48235)","TX: Irion County (48235)","48235","  Irion  ",{"$f":"ROWS($L$2:L2640)","v":2639},{"$f":"IF(L2640=WORKSHEET!$B$1,I2640,\"\")","v":""},"","TEXAS","Irion County","*","N/A","*","N/A","*",4.3016179331590909E-2,5.3497942386831275E-2]
[479,null,14,"Palo Pinto, TX - Jack, TX","TX: Jack County (48237)","TX: Jack County (48237)","48237","  Jack  ",{"$f":"ROWS($L$2:L2641)","v":2640},{"$f":"IF(L2641=WORKSHEET!$B$1,I2641,\"\")","v":""},"","TEXAS","Jack County","*","N/A","*","N/A",12,4.3016179331590909E-2,5.5555555555555552E-2]
[433,null,14,"Victoria (Victoria), TX - Calhoun, TX","TX: Jackson County (48239)","TX: Jackson County (48239)","48239","  Jackson  ",{"$f":"ROWS($L$2:L2642)","v":2641},{"$f":"IF(L2642=WORKSHEET!$B$1,I2642,\"\")","v":""},"","TEXAS","Jackson County",21,{"$f":"+R2642-N2642-P2642","v":6},11,"N/A",38,4.3016179331590909E-2,0.14039408866995073]
[413,null,14,"Jefferson (Beaumont), TX - Orange, TX","TX: Jasper County (48241)","TX: Jasper County (48241)","48241","  Jasper  ",{"$f":"ROWS($L$2:L2643)","v":2642},{"$f":"IF(L2643=WORKSHEET!$B$1,I2643,\"\")","v":""},"","TEXAS","Jasper County",64,{"$f":"+R2643-N2643-P2643","v":8},17,"*",89,4.3016179331590909E-2,0.10631229235880399]
[526,null,14,"Brewster, TX - Presidio, TX","TX: Jeff Davis County (48243)","TX: Jeff Davis County (48243)","48243","  Jeff Davis  ",{"$f":"ROWS($L$2:L2644)","v":2643},{"$f":"IF(L2644=WORKSHEET!$B$1,I2644,\"\")","v":""},"","TEXAS","Jeff Davis County","*","N/A","N/A","N/A","*",4.3016179331590909E-2,4.7619047619047616E-2]
[413,null,14,"Jefferson (Beaumont), TX - Orange, TX","TX: Jefferson County (48245)","TX: Jefferson County (48245)","48245","  Jefferson  ",{"$f":"ROWS($L$2:L2645)","v":2644},{"$f":"IF(L2645=WORKSHEET!$B$1,I2645,\"\")","v":""},"","TEXAS","Jefferson County",523,62,137,"*",723,4.3016179331590909E-2,0.10631229235880399]
[538,null,14,"Webb (Laredo), TX - Zapata, TX","TX: Jim Hogg County (48247)","TX: Jim Hogg County (48247)","48247","  Jim Hogg  ",{"$f":"ROWS($L$2:L2646)","v":2645},{"$f":"IF(L2646=WORKSHEET!$B$1,I2646,\"\")","v":""},"","TEXAS","Jim Hogg County",13,"*","*","N/A",18,4.3016179331590909E-2,6.1696658097686374E-2]
[437,null,14,"Nueces (Corpus Christi), TX - San Patricio, TX","TX: Jim Wells County (48249)","TX: Jim Wells County (48249)","48249","  Jim Wells  ",{"$f":"ROWS($L$2:L2647)","v":2646},{"$f":"IF(L2647=WORKSHEET!$B$1,I2647,\"\")","v":""},"","TEXAS","Jim Wells County",122,{"$f":"+R2647-N2647-P2647","v":8},36,"N/A",166,4.3016179331590909E-2,4.5665122435473195E-2]
[434,null,14,"Tarrant (Fort Worth), TX - Johnson, TX","TX: Johnson County (48251)","TX: Johnson County (48251)","48251","  Johnson  ",{"$f":"ROWS($L$2:L2648)","v":2647},{"$f":"IF(L2648=WORKSHEET!$B$1,I2648,\"\")","v":""},"","TEXAS","Johnson County",248,15,86,"*",350,4.3016179331590909E-2,7.0892410341951623E-2]
[428,null,14,"Taylor (Abilene), TX - Jones, TX","TX: Jones County (48253)","TX: Jones County (48253)","48253","  Jones  ",{"$f":"ROWS($L$2:L2649)","v":2648},{"$f":"IF(L2649=WORKSHEET!$B$1,I2649,\"\")","v":""},"","TEXAS","Jones County",26,"*","*","N/A",37,4.3016179331590909E-2,7.3099415204678359E-2]
[513,null,14,"Bee, TX - Karnes, TX","TX: Karnes County (48255)","TX: Karnes County (48255)","48255","  Karnes  ",{"$f":"ROWS($L$2:L2650)","v":2649},{"$f":"IF(L2650=WORKSHEET!$B$1,I2650,\"\")","v":""},"","TEXAS","Karnes County",30,{"$f":"+R2650-N2650-P2650","v":4},12,"*",46,4.3016179331590909E-2,0.13761467889908258]
[453,null,14,"Dallas (Dallas), TX - Collin, TX","TX: Kaufman County (48257)","TX: Kaufman County (48257)","48257","  Kaufman  ",{"$f":"ROWS($L$2:L2651)","v":2650},{"$f":"IF(L2651=WORKSHEET!$B$1,I2651,\"\")","v":""},"","TEXAS","Kaufman County",170,16,71,"N/A",257,4.3016179331590909E-2,7.1229913473423986E-2]
[410,null,14,"Bexar (San Antonio), TX - Guadalupe, TX","TX: Kendall County (48259)","TX: Kendall County (48259)","48259","  Kendall  ",{"$f":"ROWS($L$2:L2652)","v":2651},{"$f":"IF(L2652=WORKSHEET!$B$1,I2652,\"\")","v":""},"","TEXAS","Kendall County",40,{"$f":"+R2652-N2652-P2652","v":5},36,"N/A",81,4.3016179331590909E-2,7.8482018676733559E-2]
[437,null,14,"Nueces (Corpus Christi), TX - San Patricio, TX","TX: Kenedy County (48261)","TX: Kenedy County (48261)","48261","  Kenedy  ",{"$f":"ROWS($L$2:L2653)","v":2652},{"$f":"IF(L2653=WORKSHEET!$B$1,I2653,\"\")","v":""},"","TEXAS","Kenedy County","*","N/A","N/A","N/A","*",4.3016179331590909E-2,4.5665122435473195E-2]
[428,null,14,"Taylor (Abilene), TX - Jones, TX","TX: Kent County (48263)","TX: Kent County (48263)","48263","  Kent  ",{"$f":"ROWS($L$2:L2654)","v":2653},{"$f":"IF(L2654=WORKSHEET!$B$1,I2654,\"\")","v":""},"","TEXAS","Kent County","*","N/A","N/A","N/A","*",4.3016179331590909E-2,7.3099415204678359E-2]
[506,null,14,"Kerr, TX - Gillespie, TX","TX: Kerr County (48265)","TX: Kerr County (48265)","48265","  Kerr  ",{"$f":"ROWS($L$2:L2655)","v":2654},{"$f":"IF(L2655=WORKSHEET!$B$1,I2655,\"\")","v":""},"","TEXAS","Kerr County",66,22,29,"*",118,4.3016179331590909E-2,0.20567375886524822]
[506,null,14,"Kerr, TX - Gillespie, TX","TX: Kimble County (48267)","TX: Kimble County (48267)","48267","  Kimble  ",{"$f":"ROWS($L$2:L2656)","v":2655},{"$f":"IF(L2656=WORKSHEET!$B$1,I2656,\"\")","v":""},"","TEXAS","Kimble County","*","N/A","N/A","N/A","*",4.3016179331590909E-2,0.20567375886524822]
[406,null,14,"Lubbock (Lubbock), TX - Hockley, TX","TX: King County (48269)","TX: King County (48269)","48269","  King  ",{"$f":"ROWS($L$2:L2657)","v":2656},{"$f":"IF(L2657=WORKSHEET!$B$1,I2657,\"\")","v":""},"","TEXAS","King County","*","N/A","N/A","N/A","*",4.3016179331590909E-2,0.18]
[516,null,14,"Maverick, TX - Val Verde, TX","TX: Kinney County (48271)","TX: Kinney County (48271)","48271","  Kinney  ",{"$f":"ROWS($L$2:L2658)","v":2657},{"$f":"IF(L2658=WORKSHEET!$B$1,I2658,\"\")","v":""},"","TEXAS","Kinney County","*","N/A","*","N/A","*",4.3016179331590909E-2,4.4345898004434593E-2]
[437,null,14,"Nueces (Corpus Christi), TX - San Patricio, TX","TX: Kleberg County (48273)","TX: Kleberg County (48273)","48273","  Kleberg  ",{"$f":"ROWS($L$2:L2659)","v":2658},{"$f":"IF(L2659=WORKSHEET!$B$1,I2659,\"\")","v":""},"","TEXAS","Kleberg County",76,{"$f":"+R2659-N2659-P2659","v":3},22,"N/A",101,4.3016179331590909E-2,4.5665122435473195E-2]
[420,null,14,"Wichita (Wichita Falls), TX - Montague, TX","TX: Knox County (48275)","TX: Knox County (48275)","48275","  Knox  ",{"$f":"ROWS($L$2:L2660)","v":2659},{"$f":"IF(L2660=WORKSHEET!$B$1,I2660,\"\")","v":""},"","TEXAS","Knox County","*","*","*","N/A","*",4.3016179331590909E-2,6.4150943396226415E-2]
[410,null,14,"Bexar (San Antonio), TX - Guadalupe, TX","TX: La Salle County (48283)","TX: La Salle County (48283)","48283","  La Salle  ",{"$f":"ROWS($L$2:L2661)","v":2660},{"$f":"IF(L2661=WORKSHEET!$B$1,I2661,\"\")","v":""},"","TEXAS","La Salle County",15,"*","*","*",24,4.3016179331590909E-2,7.8482018676733559E-2]
[931,438,14,"Lamar, TX - Red River, TX","TX: Lamar County (48277)","TX: Lamar County (48277)","48277","  Lamar  ",{"$f":"ROWS($L$2:L2662)","v":2661},{"$f":"IF(L2662=WORKSHEET!$B$1,I2662,\"\")","v":""},"","TEXAS","Lamar County",105,15,24,"*",146,4.3016179331590909E-2,0.1206896551724138]
[406,null,14,"Lubbock (Lubbock), TX - Hockley, TX","TX: Lamb County (48279)","TX: Lamb County (48279)","48279","  Lamb  ",{"$f":"ROWS($L$2:L2663)","v":2662},{"$f":"IF(L2663=WORKSHEET!$B$1,I2663,\"\")","v":""},"","TEXAS","Lamb County",26,"*","*","N/A",43,4.3016179331590909E-2,0.18]
[452,null,14,"Bell (Killeen), TX - Coryell, TX","TX: Lampasas County (48281)","TX: Lampasas County (48281)","48281","  Lampasas  ",{"$f":"ROWS($L$2:L2664)","v":2663},{"$f":"IF(L2664=WORKSHEET!$B$1,I2664,\"\")","v":""},"","TEXAS","Lampasas County",34,{"$f":"+R2664-N2664-P2664","v":3},18,"*",55,4.3016179331590909E-2,8.0858085808580851E-2]
[433,null,14,"Victoria (Victoria), TX - Calhoun, TX","TX: Lavaca County (48285)","TX: Lavaca County (48285)","48285","  Lavaca  ",{"$f":"ROWS($L$2:L2665)","v":2664},{"$f":"IF(L2665=WORKSHEET!$B$1,I2665,\"\")","v":""},"","TEXAS","Lavaca County",30,{"$f":"+R2665-N2665-P2665","v":7},14,"N/A",51,4.3016179331590909E-2,0.14039408866995073]
[425,null,14,"Travis (Austin), TX - Williamson, TX","TX: Lee County (48287)","TX: Lee County (48287)","48287","  Lee  ",{"$f":"ROWS($L$2:L2666)","v":2665},{"$f":"IF(L2666=WORKSHEET!$B$1,I2666,\"\")","v":""},"","TEXAS","Lee County",14,"*","*","N/A",29,4.3016179331590909E-2,9.5391211146838156E-2]
[501,null,14,"Leon, TX - Madison, TX","TX: Leon County (48289)","TX: Leon County (48289)","48289","  Leon  ",{"$f":"ROWS($L$2:L2667)","v":2666},{"$f":"IF(L2667=WORKSHEET!$B$1,I2667,\"\")","v":""},"","TEXAS","Leon County",32,{"$f":"+R2667-N2667-P2667","v":5},11,"N/A",48,4.3016179331590909E-2,0.10169491525423729]
[408,null,14,"Harris (Houston), TX - Fort Bend, TX","TX: Liberty County (48291)","TX: Liberty County (48291)","48291","  Liberty  ",{"$f":"ROWS($L$2:L2668)","v":2667},{"$f":"IF(L2668=WORKSHEET!$B$1,I2668,\"\")","v":""},"","TEXAS","Liberty County",121,13,37,"*",172,4.3016179331590909E-2,8.9030841401337463E-2]
[462,null,14,"McLennan (Waco), TX - Hill, TX","TX: Limestone County (48293)","TX: Limestone County (48293)","48293","  Limestone  ",{"$f":"ROWS($L$2:L2669)","v":2668},{"$f":"IF(L2669=WORKSHEET!$B$1,I2669,\"\")","v":""},"","TEXAS","Limestone County",38,"*",15,"N/A",56,4.3016179331590909E-2,5.5555555555555552E-2]
[935,469,14,"Lipscomb, TX","TX: Lipscomb County (48295)","TX: Lipscomb County (48295)","48295","  Lipscomb  ",{"$f":"ROWS($L$2:L2670)","v":2669},{"$f":"IF(L2670=WORKSHEET!$B$1,I2670,\"\")","v":""},"","TEXAS","Lipscomb County","*","*","*","N/A","*",4.3016179331590909E-2,0.13333333333333333]
[437,null,14,"Nueces (Corpus Christi), TX - San Patricio, TX","TX: Live Oak County (48297)","TX: Live Oak County (48297)","48297","  Live Oak  ",{"$f":"ROWS($L$2:L2671)","v":2670},{"$f":"IF(L2671=WORKSHEET!$B$1,I2671,\"\")","v":""},"","TEXAS","Live Oak County",13,"N/A","*","N/A",17,4.3016179331590909E-2,4.5665122435473195E-2]
[425,null,14,"Travis (Austin), TX - Williamson, TX","TX: Llano County (48299)","TX: Llano County (48299)","48299","  Llano  ",{"$f":"ROWS($L$2:L2672)","v":2671},{"$f":"IF(L2672=WORKSHEET!$B$1,I2672,\"\")","v":""},"","TEXAS","Llano County",16,{"$f":"+R2672-N2672-P2672","v":1},11,"N/A",28,4.3016179331590909E-2,9.5391211146838156E-2]
[415,null,14,"El Paso (El Paso), TX - Hudspeth, TX","TX: Loving County (48301)","TX: Loving County (48301)","48301",null,{"$f":"ROWS($L$2:L2673)","v":2672},{"$f":"IF(L2673=WORKSHEET!$B$1,I2673,\"\")","v":""},"","TEXAS","Loving County",null,null,null,null,null,4.3016179331590909E-2,0.13710050949513664]
[406,null,14,"Lubbock (Lubbock), TX - Hockley, TX","TX: Lubbock County (48303)","TX: Lubbock County (48303)","48303","  Lubbock  ",{"$f":"ROWS($L$2:L2674)","v":2673},{"$f":"IF(L2674=WORKSHEET!$B$1,I2674,\"\")","v":""},"","TEXAS","Lubbock County",436,84,147,"*",668,4.3016179331590909E-2,0.18]
[406,null,14,"Lubbock (Lubbock), TX - Hockley, TX","TX: Lynn County (48305)","TX: Lynn County (48305)","48305","  Lynn  ",{"$f":"ROWS($L$2:L2675)","v":2674},{"$f":"IF(L2675=WORKSHEET!$B$1,I2675,\"\")","v":""},"","TEXAS","Lynn County","*","*","*","N/A",11,4.3016179331590909E-2,0.18]
[501,null,14,"Leon, TX - Madison, TX","TX: Madison County (48313)","TX: Madison County (48313)","48313","  Madison  ",{"$f":"ROWS($L$2:L2676)","v":2675},{"$f":"IF(L2676=WORKSHEET!$B$1,I2676,\"\")","v":""},"","TEXAS","Madison County",21,"*","*","N/A",25,4.3016179331590909E-2,0.10169491525423729]
[485,null,14,"Harrison (Marshall), TX - Cass, TX","TX: Marion County (48315)","TX: Marion County (48315)","48315","  Marion  ",{"$f":"ROWS($L$2:L2677)","v":2676},{"$f":"IF(L2677=WORKSHEET!$B$1,I2677,\"\")","v":""},"","TEXAS","Marion County",18,"*","*","N/A",22,4.3016179331590909E-2,0.11290322580645161]
[492,null,14,"Midland (Midland), TX - Pecos, TX","TX: Martin County (48317)","TX: Martin County (48317)","48317","  Martin  ",{"$f":"ROWS($L$2:L2678)","v":2677},{"$f":"IF(L2678=WORKSHEET!$B$1,I2678,\"\")","v":""},"","TEXAS","Martin County",11,"*","*","N/A",14,4.3016179331590909E-2,6.7873303167420809E-2]
[506,null,14,"Kerr, TX - Gillespie, TX","TX: Mason County (48319)","TX: Mason County (48319)","48319","  Mason  ",{"$f":"ROWS($L$2:L2679)","v":2678},{"$f":"IF(L2679=WORKSHEET!$B$1,I2679,\"\")","v":""},"","TEXAS","Mason County","*","N/A","*","N/A","*",4.3016179331590909E-2,0.20567375886524822]
[505,null,14,"Brazoria (Lake Jackson), TX - Wharton, TX","TX: Matagorda County (48321)","TX: Matagorda County (48321)","48321","  Matagorda  ",{"$f":"ROWS($L$2:L2680)","v":2679},{"$f":"IF(L2680=WORKSHEET!$B$1,I2680,\"\")","v":""},"","TEXAS","Matagorda County",101,11,19,"N/A",131,4.3016179331590909E-2,8.6614173228346455E-2]
[516,null,14,"Maverick, TX - Val Verde, TX","TX: Maverick County (48323)","TX: Maverick County (48323)","48323","  Maverick  ",{"$f":"ROWS($L$2:L2681)","v":2680},{"$f":"IF(L2681=WORKSHEET!$B$1,I2681,\"\")","v":""},"","TEXAS","Maverick County",249,13,53,"N/A",315,4.3016179331590909E-2,4.4345898004434593E-2]
[426,null,14,"Tom Green (San Angelo), TX - Runnels, TX","TX: McCulloch County (48307)","TX: McCulloch County (48307)","48307","  Mc Culloch  ",{"$f":"ROWS($L$2:L2682)","v":2681},{"$f":"IF(L2682=WORKSHEET!$B$1,I2682,\"\")","v":""},"","TEXAS","McCulloch County",16,"N/A","*","N/A",21,4.3016179331590909E-2,5.3497942386831275E-2]
[462,null,14,"McLennan (Waco), TX - Hill, TX","TX: McLennan County (48309)","TX: McLennan County (48309)","48309","  Mc Lennan  ",{"$f":"ROWS($L$2:L2683)","v":2682},{"$f":"IF(L2683=WORKSHEET!$B$1,I2683,\"\")","v":""},"","TEXAS","McLennan County",394,23,143,"*",562,4.3016179331590909E-2,5.5555555555555552E-2]
[410,null,14,"Bexar (San Antonio), TX - Guadalupe, TX","TX: McMullen County (48311)","TX: McMullen County (48311)","48311","  Mc Mullen  ",{"$f":"ROWS($L$2:L2684)","v":2683},{"$f":"IF(L2684=WORKSHEET!$B$1,I2684,\"\")","v":""},"","TEXAS","McMullen County","*","N/A","N/A","N/A","*",4.3016179331590909E-2,7.8482018676733559E-2]
[410,null,14,"Bexar (San Antonio), TX - Guadalupe, TX","TX: Medina County (48325)","TX: Medina County (48325)","48325","  Medina  ",{"$f":"ROWS($L$2:L2685)","v":2684},{"$f":"IF(L2685=WORKSHEET!$B$1,I2685,\"\")","v":""},"","TEXAS","Medina County",91,{"$f":"+R2685-N2685-P2685","v":8},29,"N/A",128,4.3016179331590909E-2,7.8482018676733559E-2]
[426,null,14,"Tom Green (San Angelo), TX - Runnels, TX","TX: Menard County (48327)","TX: Menard County (48327)","48327","  Menard  ",{"$f":"ROWS($L$2:L2686)","v":2685},{"$f":"IF(L2686=WORKSHEET!$B$1,I2686,\"\")","v":""},"","TEXAS","Menard County","*","*","*","N/A","*",4.3016179331590909E-2,5.3497942386831275E-2]
[492,null,14,"Midland (Midland), TX - Pecos, TX","TX: Midland County (48329)","TX: Midland County (48329)","48329","  Midland  ",{"$f":"ROWS($L$2:L2687)","v":2686},{"$f":"IF(L2687=WORKSHEET!$B$1,I2687,\"\")","v":""},"","TEXAS","Midland County",165,{"$f":"+R2687-N2687-P2687","v":9},66,"N/A",240,4.3016179331590909E-2,6.7873303167420809E-2]
[452,null,14,"Bell (Killeen), TX - Coryell, TX","TX: Milam County (48331)","TX: Milam County (48331)","48331","  Milam  ",{"$f":"ROWS($L$2:L2688)","v":2687},{"$f":"IF(L2688=WORKSHEET!$B$1,I2688,\"\")","v":""},"","TEXAS","Milam County",46,"*","*","*",59,4.3016179331590909E-2,8.0858085808580851E-2]
[468,null,14,"Brown, TX - Coleman, TX","TX: Mills County (48333)","TX: Mills County (48333)","48333","  Mills  ",{"$f":"ROWS($L$2:L2689)","v":2688},{"$f":"IF(L2689=WORKSHEET!$B$1,I2689,\"\")","v":""},"","TEXAS","Mills County","*","*","*","N/A","*",4.3016179331590909E-2,0.10126582278481013]
[503,null,14,"Nolan, TX - Mitchell, TX","TX: Mitchell County (48335)","TX: Mitchell County (48335)","48335","  Mitchell  ",{"$f":"ROWS($L$2:L2690)","v":2689},{"$f":"IF(L2690=WORKSHEET!$B$1,I2690,\"\")","v":""},"","TEXAS","Mitchell County",15,"*","N/A","N/A",17,4.3016179331590909E-2,0.11538461538461539]
[420,null,14,"Wichita (Wichita Falls), TX - Montague, TX","TX: Montague County (48337)","TX: Montague County (48337)","48337","  Montague  ",{"$f":"ROWS($L$2:L2691)","v":2690},{"$f":"IF(L2691=WORKSHEET!$B$1,I2691,\"\")","v":""},{"$f":"IFERROR(SMALL($J$2:$J$3142,I2691),\"\")","v":""},"TEXAS","Montague County",31,{"$f":"+R2691-N2691-P2691","v":1},15,"N/A",47,4.3016179331590909E-2,6.4150943396226415E-2]
[408,null,14,"Harris (Houston), TX - Fort Bend, TX","TX: Montgomery County (48339)","TX: Montgomery County (48339)","48339","  Montgomery  ",{"$f":"ROWS($L$2:L2692)","v":2691},{"$f":"IF(L2692=WORKSHEET!$B$1,I2692,\"\")","v":""},"","TEXAS","Montgomery County",414,48,253,"*",716,4.3016179331590909E-2,8.9030841401337463E-2]
[405,null,14,"Potter (Amarillo), TX - Randall, TX","TX: Moore County (48341)","TX: Moore County (48341)","48341","  Moore  ",{"$f":"ROWS($L$2:L2693)","v":2692},{"$f":"IF(L2693=WORKSHEET!$B$1,I2693,\"\")","v":""},"","TEXAS","Moore County",24,"*","*","N/A",40,4.3016179331590909E-2,0.20909090909090908]
[465,null,14,"Titus, TX - Morris, TX","TX: Morris County (48343)","TX: Morris County (48343)","48343","  Morris  ",{"$f":"ROWS($L$2:L2694)","v":2693},{"$f":"IF(L2694=WORKSHEET!$B$1,I2694,\"\")","v":""},"","TEXAS","Morris County",27,{"$f":"+R2694-N2694-P2694","v":5},12,"N/A",44,4.3016179331590909E-2,0.12977099236641221]
[406,null,14,"Lubbock (Lubbock), TX - Hockley, TX","TX: Motley County (48345)","TX: Motley County (48345)","48345","  Motley  ",{"$f":"ROWS($L$2:L2695)","v":2694},{"$f":"IF(L2695=WORKSHEET!$B$1,I2695,\"\")","v":""},"","TEXAS","Motley County","N/A","*","*","N/A","*",4.3016179331590909E-2,0.18]
[447,null,14,"Nacogdoches, TX - Shelby, TX","TX: Nacogdoches County (48347)","TX: Nacogdoches County (48347)","48347","  Nacogdoches  ",{"$f":"ROWS($L$2:L2696)","v":2695},{"$f":"IF(L2696=WORKSHEET!$B$1,I2696,\"\")","v":""},"","TEXAS","Nacogdoches County",115,{"$f":"+R2696-N2696-P2696","v":9},29,"N/A",153,4.3016179331590909E-2,7.4999999999999997E-2]
[489,null,14,"Navarro, TX - Freestone, TX","TX: Navarro County (48349)","TX: Navarro County (48349)","48349","  Navarro  ",{"$f":"ROWS($L$2:L2697)","v":2696},{"$f":"IF(L2697=WORKSHEET!$B$1,I2697,\"\")","v":""},"","TEXAS","Navarro County",84,12,26,"N/A",122,4.3016179331590909E-2,0.104]
[413,null,14,"Jefferson (Beaumont), TX - Orange, TX","TX: Newton County (48351)","TX: Newton County (48351)","48351","  Newton  ",{"$f":"ROWS($L$2:L2698)","v":2697},{"$f":"IF(L2698=WORKSHEET!$B$1,I2698,\"\")","v":""},"","TEXAS","Newton County",29,"N/A","*","N/A",32,4.3016179331590909E-2,0.10631229235880399]
[503,null,14,"Nolan, TX - Mitchell, TX","TX: Nolan County (48353)","TX: Nolan County (48353)","48353","  Nolan  ",{"$f":"ROWS($L$2:L2699)","v":2698},{"$f":"IF(L2699=WORKSHEET!$B$1,I2699,\"\")","v":""},"","TEXAS","Nolan County",28,"*","*","N/A",35,4.3016179331590909E-2,0.11538461538461539]
[437,null,14,"Nueces (Corpus Christi), TX - San Patricio, TX","TX: Nueces County (48355)","TX: Nueces County (48355)","48355","  Nueces  ",{"$f":"ROWS($L$2:L2700)","v":2699},{"$f":"IF(L2700=WORKSHEET!$B$1,I2700,\"\")","v":""},"","TEXAS","Nueces County",929,38,265,"*",1238,4.3016179331590909E-2,4.5665122435473195E-2]
[405,null,14,"Potter (Amarillo), TX - Randall, TX","TX: Ochiltree County (48357)","TX: Ochiltree County (48357)","48357","  Ochiltree  ",{"$f":"ROWS($L$2:L2701)","v":2700},{"$f":"IF(L2701=WORKSHEET!$B$1,I2701,\"\")","v":""},"","TEXAS","Ochiltree County","*","*","*","*",14,4.3016179331590909E-2,0.20909090909090908]
[405,null,14,"Potter (Amarillo), TX - Randall, TX","TX: Oldham County (48359)","TX: Oldham County (48359)","48359","  Oldham  ",{"$f":"ROWS($L$2:L2702)","v":2701},{"$f":"IF(L2702=WORKSHEET!$B$1,I2702,\"\")","v":""},"","TEXAS","Oldham County","*","N/A","*","N/A","*",4.3016179331590909E-2,0.20909090909090908]
[413,null,14,"Jefferson (Beaumont), TX - Orange, TX","TX: Orange County (48361)","TX: Orange County (48361)","48361","  Orange  ",{"$f":"ROWS($L$2:L2703)","v":2702},{"$f":"IF(L2703=WORKSHEET!$B$1,I2703,\"\")","v":""},"","TEXAS","Orange County",110,16,25,"N/A",151,4.3016179331590909E-2,0.10631229235880399]
[479,null,14,"Palo Pinto, TX - Jack, TX","TX: Palo Pinto County (48363)","TX: Palo Pinto County (48363)","48363","  Palo Pinto  ",{"$f":"ROWS($L$2:L2704)","v":2703},{"$f":"IF(L2704=WORKSHEET!$B$1,I2704,\"\")","v":""},"","TEXAS","Palo Pinto County",43,"*","*","N/A",55,4.3016179331590909E-2,5.5555555555555552E-2]
[454,null,14,"Gregg (Longview), TX - Rusk, TX","TX: Panola County (48365)","TX: Panola County (48365)","48365","  Panola  ",{"$f":"ROWS($L$2:L2705)","v":2704},{"$f":"IF(L2705=WORKSHEET!$B$1,I2705,\"\")","v":""},"","TEXAS","Panola County",44,"*","*","N/A",62,4.3016179331590909E-2,0.16008316008316009]
[434,null,14,"Tarrant (Fort Worth), TX - Johnson, TX","TX: Parker County (48367)","TX: Parker County (48367)","48367","  Parker  ",{"$f":"ROWS($L$2:L2706)","v":2705},{"$f":"IF(L2706=WORKSHEET!$B$1,I2706,\"\")","v":""},"","TEXAS","Parker County",110,19,42,"N/A",171,4.3016179331590909E-2,7.0892410341951623E-2]
[491,null,14,"Deaf Smith, TX - Parmer, TX","TX: Parmer County (48369)","TX: Parmer County (48369)","48369","  Parmer  ",{"$f":"ROWS($L$2:L2707)","v":2706},{"$f":"IF(L2707=WORKSHEET!$B$1,I2707,\"\")","v":""},"","TEXAS","Parmer County","*","*","*","N/A",23,4.3016179331590909E-2,0.34722222222222221]
[492,null,14,"Midland (Midland), TX - Pecos, TX","TX: Pecos County (48371)","TX: Pecos County (48371)","48371","  Pecos  ",{"$f":"ROWS($L$2:L2708)","v":2707},{"$f":"IF(L2708=WORKSHEET!$B$1,I2708,\"\")","v":""},"","TEXAS","Pecos County",23,"*","*","N/A",35,4.3016179331590909E-2,6.7873303167420809E-2]
[449,null,14,"Angelina, TX - Walker, TX","TX: Polk County (48373)","TX: Polk County (48373)","48373","  Polk  ",{"$f":"ROWS($L$2:L2709)","v":2708},{"$f":"IF(L2709=WORKSHEET!$B$1,I2709,\"\")","v":""},"","TEXAS","Polk County",55,{"$f":"+R2709-N2709-P2709","v":6},26,"N/A",87,4.3016179331590909E-2,0.12853470437017994]
[405,null,14,"Potter (Amarillo), TX - Randall, TX","TX: Potter County (48375)","TX: Potter County (48375)","48375","  Potter  ",{"$f":"ROWS($L$2:L2710)","v":2709},{"$f":"IF(L2710=WORKSHEET!$B$1,I2710,\"\")","v":""},"","TEXAS","Potter County",206,51,85,"*",345,4.3016179331590909E-2,0.20909090909090908]
[526,null,14,"Brewster, TX - Presidio, TX","TX: Presidio County (48377)","TX: Presidio County (48377)","48377","  Presidio  ",{"$f":"ROWS($L$2:L2711)","v":2710},{"$f":"IF(L2711=WORKSHEET!$B$1,I2711,\"\")","v":""},"","TEXAS","Presidio County","*","*","*","N/A",12,4.3016179331590909E-2,4.7619047619047616E-2]
[453,null,14,"Dallas (Dallas), TX - Collin, TX","TX: Rains County (48379)","TX: Rains County (48379)","48379","  Rains  ",{"$f":"ROWS($L$2:L2712)","v":2711},{"$f":"IF(L2712=WORKSHEET!$B$1,I2712,\"\")","v":""},"","TEXAS","Rains County","*","*","*","N/A",13,4.3016179331590909E-2,7.1229913473423986E-2]
[405,null,14,"Potter (Amarillo), TX - Randall, TX","TX: Randall County (48381)","TX: Randall County (48381)","48381","  Randall  ",{"$f":"ROWS($L$2:L2713)","v":2712},{"$f":"IF(L2713=WORKSHEET!$B$1,I2713,\"\")","v":""},"","TEXAS","Randall County",51,15,40,"N/A",106,4.3016179331590909E-2,0.20909090909090908]
[426,null,14,"Tom Green (San Angelo), TX - Runnels, TX","TX: Reagan County (48383)","TX: Reagan County (48383)","48383","  Reagan  ",{"$f":"ROWS($L$2:L2714)","v":2713},{"$f":"IF(L2714=WORKSHEET!$B$1,I2714,\"\")","v":""},"","TEXAS","Reagan County","*","N/A","*","N/A","*",4.3016179331590909E-2,5.3497942386831275E-2]
[506,null,14,"Kerr, TX - Gillespie, TX","TX: Real County (48385)","TX: Real County (48385)","48385","  Real  ",{"$f":"ROWS($L$2:L2715)","v":2714},{"$f":"IF(L2715=WORKSHEET!$B$1,I2715,\"\")","v":""},"","TEXAS","Real County","*","*","*","N/A","*",4.3016179331590909E-2,0.20567375886524822]
[931,438,14,"Lamar, TX - Red River, TX","TX: Red River County (48387)","TX: Red River County (48387)","48387","  Red River  ",{"$f":"ROWS($L$2:L2716)","v":2715},{"$f":"IF(L2716=WORKSHEET!$B$1,I2716,\"\")","v":""},"","TEXAS","Red River County",21,"*","*","N/A",31,4.3016179331590909E-2,0.1206896551724138]
[444,null,14,"Ector (Odessa), TX - Reeves, TX","TX: Reeves County (48389)","TX: Reeves County (48389)","48389","  Reeves  ",{"$f":"ROWS($L$2:L2717)","v":2716},{"$f":"IF(L2717=WORKSHEET!$B$1,I2717,\"\")","v":""},"","TEXAS","Reeves County",32,"*","*","N/A",39,4.3016179331590909E-2,0.10326086956521739]
[433,null,14,"Victoria (Victoria), TX - Calhoun, TX","TX: Refugio County (48391)","TX: Refugio County (48391)","48391","  Refugio  ",{"$f":"ROWS($L$2:L2718)","v":2717},{"$f":"IF(L2718=WORKSHEET!$B$1,I2718,\"\")","v":""},"","TEXAS","Refugio County",16,"*","*","N/A",26,4.3016179331590909E-2,0.14039408866995073]
[460,null,14,"Gray, TX - Wheeler, TX","TX: Roberts County (48393)","TX: Roberts County (48393)","48393",null,{"$f":"ROWS($L$2:L2719)","v":2718},{"$f":"IF(L2719=WORKSHEET!$B$1,I2719,\"\")","v":""},"","TEXAS","Roberts County",null,null,null,null,null,4.3016179331590909E-2,0.21875]
[464,null,14,"Brazos (Bryan), TX - Washington, TX","TX: Robertson County (48395)","TX: Robertson County (48395)","48395","  Robertson  ",{"$f":"ROWS($L$2:L2720)","v":2719},{"$f":"IF(L2720=WORKSHEET!$B$1,I2720,\"\")","v":""},"","TEXAS","Robertson County",37,{"$f":"+R2720-N2720-P2720","v":7},13,"N/A",57,4.3016179331590909E-2,0.11553030303030302]
[453,null,14,"Dallas (Dallas), TX - Collin, TX","TX: Rockwall County (48397)","TX: Rockwall County (48397)","48397","  Rockwall  ",{"$f":"ROWS($L$2:L2721)","v":2720},{"$f":"IF(L2721=WORKSHEET!$B$1,I2721,\"\")","v":""},"","TEXAS","Rockwall County",60,{"$f":"+R2721-N2721-P2721","v":7},36,"N/A",103,4.3016179331590909E-2,7.1229913473423986E-2]
[426,null,14,"Tom Green (San Angelo), TX - Runnels, TX","TX: Runnels County (48399)","TX: Runnels County (48399)","48399","  Runnels  ",{"$f":"ROWS($L$2:L2722)","v":2721},{"$f":"IF(L2722=WORKSHEET!$B$1,I2722,\"\")","v":""},"","TEXAS","Runnels County",16,"*","*","N/A",22,4.3016179331590909E-2,5.3497942386831275E-2]
[454,null,14,"Gregg (Longview), TX - Rusk, TX","TX: Rusk County (48401)","TX: Rusk County (48401)","48401","  Rusk  ",{"$f":"ROWS($L$2:L2723)","v":2722},{"$f":"IF(L2723=WORKSHEET!$B$1,I2723,\"\")","v":""},"","TEXAS","Rusk County",59,15,28,"N/A",102,4.3016179331590909E-2,0.16008316008316009]
[447,null,14,"Nacogdoches, TX - Shelby, TX","TX: Sabine County (48403)","TX: Sabine County (48403)","48403","  Sabine  ",{"$f":"ROWS($L$2:L2724)","v":2723},{"$f":"IF(L2724=WORKSHEET!$B$1,I2724,\"\")","v":""},"","TEXAS","Sabine County",14,"*","*","N/A",18,4.3016179331590909E-2,7.4999999999999997E-2]
[447,null,14,"Nacogdoches, TX - Shelby, TX","TX: San Augustine County (48405)","TX: San Augustine County (48405)","48405","  San Augustine  ",{"$f":"ROWS($L$2:L2725)","v":2724},{"$f":"IF(L2725=WORKSHEET!$B$1,I2725,\"\")","v":""},"","TEXAS","San Augustine County",16,"*","*","N/A",21,4.3016179331590909E-2,7.4999999999999997E-2]
[408,null,14,"Harris (Houston), TX - Fort Bend, TX","TX: San Jacinto County (48407)","TX: San Jacinto County (48407)","48407","  San Jacinto  ",{"$f":"ROWS($L$2:L2726)","v":2725},{"$f":"IF(L2726=WORKSHEET!$B$1,I2726,\"\")","v":""},"","TEXAS","San Jacinto County",25,"*","*","N/A",34,4.3016179331590909E-2,8.9030841401337463E-2]
[437,null,14,"Nueces (Corpus Christi), TX - San Patricio, TX","TX: San Patricio County (48409)","TX: San Patricio County (48409)","48409","  San Patricio  ",{"$f":"ROWS($L$2:L2727)","v":2726},{"$f":"IF(L2727=WORKSHEET!$B$1,I2727,\"\")","v":""},"","TEXAS","San Patricio County",190,12,56,"N/A",258,4.3016179331590909E-2,4.5665122435473195E-2]
[468,null,14,"Brown, TX - Coleman, TX","TX: San Saba County (48411)","TX: San Saba County (48411)","48411","  San Saba  ",{"$f":"ROWS($L$2:L2728)","v":2727},{"$f":"IF(L2728=WORKSHEET!$B$1,I2728,\"\")","v":""},"","TEXAS","San Saba County","*","*","*","N/A","*",4.3016179331590909E-2,0.10126582278481013]
[426,null,14,"Tom Green (San Angelo), TX - Runnels, TX","TX: Schleicher County (48413)","TX: Schleicher County (48413)","48413","  Schleicher  ",{"$f":"ROWS($L$2:L2729)","v":2728},{"$f":"IF(L2729=WORKSHEET!$B$1,I2729,\"\")","v":""},"","TEXAS","Schleicher County","*","N/A","*","N/A","*",4.3016179331590909E-2,5.3497942386831275E-2]
[519,null,14,"Scurry, TX","TX: Scurry County (48415)","TX: Scurry County (48415)","48415","  Scurry  ",{"$f":"ROWS($L$2:L2730)","v":2729},{"$f":"IF(L2730=WORKSHEET!$B$1,I2730,\"\")","v":""},"","TEXAS","Scurry County",18,"*","*","N/A",30,4.3016179331590909E-2,0.1]
[428,null,14,"Taylor (Abilene), TX - Jones, TX","TX: Shackelford County (48417)","TX: Shackelford County (48417)","48417","  Shackelford  ",{"$f":"ROWS($L$2:L2731)","v":2730},{"$f":"IF(L2731=WORKSHEET!$B$1,I2731,\"\")","v":""},"","TEXAS","Shackelford County","*","N/A","*","N/A","*",4.3016179331590909E-2,7.3099415204678359E-2]
[447,null,14,"Nacogdoches, TX - Shelby, TX","TX: Shelby County (48419)","TX: Shelby County (48419)","48419","  Shelby  ",{"$f":"ROWS($L$2:L2732)","v":2731},{"$f":"IF(L2732=WORKSHEET!$B$1,I2732,\"\")","v":""},"","TEXAS","Shelby County",40,"*","*","N/A",52,4.3016179331590909E-2,7.4999999999999997E-2]
[405,null,14,"Potter (Amarillo), TX - Randall, TX","TX: Sherman County (48421)","TX: Sherman County (48421)","48421","  Sherman  ",{"$f":"ROWS($L$2:L2733)","v":2732},{"$f":"IF(L2733=WORKSHEET!$B$1,I2733,\"\")","v":""},"","TEXAS","Sherman County","N/A","N/A","*","N/A","*",4.3016179331590909E-2,0.20909090909090908]
[441,null,14,"Smith (Tyler), TX - Henderson, TX","TX: Smith County (48423)","TX: Smith County (48423)","48423","  Smith  ",{"$f":"ROWS($L$2:L2734)","v":2733},{"$f":"IF(L2734=WORKSHEET!$B$1,I2734,\"\")","v":""},"","TEXAS","Smith County",322,44,151,"*",519,4.3016179331590909E-2,0.12542372881355932]
[434,null,14,"Tarrant (Fort Worth), TX - Johnson, TX","TX: Somervell County (48425)","TX: Somervell County (48425)","48425","  Somervell  ",{"$f":"ROWS($L$2:L2735)","v":2734},{"$f":"IF(L2735=WORKSHEET!$B$1,I2735,\"\")","v":""},"","TEXAS","Somervell County","*","*","*","N/A",14,4.3016179331590909E-2,7.0892410341951623E-2]
[427,null,14,"Hidalgo (Mcallen), TX - Starr, TX","TX: Starr County (48427)","TX: Starr County (48427)","48427","  Starr  ",{"$f":"ROWS($L$2:L2736)","v":2735},{"$f":"IF(L2736=WORKSHEET!$B$1,I2736,\"\")","v":""},"","TEXAS","Starr County",154,{"$f":"+R2736-N2736-P2736","v":1},30,"N/A",185,4.3016179331590909E-2,3.3783783783783786E-2]
[428,null,14,"Taylor (Abilene), TX - Jones, TX","TX: Stephens County (48429)","TX: Stephens County (48429)","48429","  Stephens  ",{"$f":"ROWS($L$2:L2737)","v":2736},{"$f":"IF(L2737=WORKSHEET!$B$1,I2737,\"\")","v":""},"","TEXAS","Stephens County",13,"*","*","N/A",24,4.3016179331590909E-2,7.3099415204678359E-2]
[426,null,14,"Tom Green (San Angelo), TX - Runnels, TX","TX: Sterling County (48431)","TX: Sterling County (48431)","48431","  Sterling  ",{"$f":"ROWS($L$2:L2738)","v":2737},{"$f":"IF(L2738=WORKSHEET!$B$1,I2738,\"\")","v":""},"","TEXAS","Sterling County","*","N/A","N/A","N/A","*",4.3016179331590909E-2,5.3497942386831275E-2]
[428,null,14,"Taylor (Abilene), TX - Jones, TX","TX: Stonewall County (48433)","TX: Stonewall County (48433)","48433","  Stonewall  ",{"$f":"ROWS($L$2:L2739)","v":2738},{"$f":"IF(L2739=WORKSHEET!$B$1,I2739,\"\")","v":""},"","TEXAS","Stonewall County","*","N/A","*","N/A","*",4.3016179331590909E-2,7.3099415204678359E-2]
[426,null,14,"Tom Green (San Angelo), TX - Runnels, TX","TX: Sutton County (48435)","TX: Sutton County (48435)","48435","  Sutton  ",{"$f":"ROWS($L$2:L2740)","v":2739},{"$f":"IF(L2740=WORKSHEET!$B$1,I2740,\"\")","v":""},"","TEXAS","Sutton County","*","N/A","*","N/A","*",4.3016179331590909E-2,5.3497942386831275E-2]
[405,null,14,"Potter (Amarillo), TX - Randall, TX","TX: Swisher County (48437)","TX: Swisher County (48437)","48437","  Swisher  ",{"$f":"ROWS($L$2:L2741)","v":2740},{"$f":"IF(L2741=WORKSHEET!$B$1,I2741,\"\")","v":""},"","TEXAS","Swisher County",11,"*","*","N/A",20,4.3016179331590909E-2,0.20909090909090908]
[434,null,14,"Tarrant (Fort Worth), TX - Johnson, TX","TX: Tarrant County (48439)","TX: Tarrant County (48439)","48439","  Tarrant  ",{"$f":"ROWS($L$2:L2742)","v":2741},{"$f":"IF(L2742=WORKSHEET!$B$1,I2742,\"\")","v":""},"","TEXAS","Tarrant County",2921,208,1013,"*",4148,4.3016179331590909E-2,7.0892410341951623E-2]
[428,null,14,"Taylor (Abilene), TX - Jones, TX","TX: Taylor County (48441)","TX: Taylor County (48441)","48441","  Taylor  ",{"$f":"ROWS($L$2:L2743)","v":2742},{"$f":"IF(L2743=WORKSHEET!$B$1,I2743,\"\")","v":""},"","TEXAS","Taylor County",210,14,52,"*",277,4.3016179331590909E-2,7.3099415204678359E-2]
[492,null,14,"Midland (Midland), TX - Pecos, TX","TX: Terrell County (48443)","TX: Terrell County (48443)","48443","  Terrell  ",{"$f":"ROWS($L$2:L2744)","v":2743},{"$f":"IF(L2744=WORKSHEET!$B$1,I2744,\"\")","v":""},"","TEXAS","Terrell County","*","*","N/A","N/A","*",4.3016179331590909E-2,6.7873303167420809E-2]
[514,null,14,"Terry, TX - Yoakum, TX","TX: Terry County (48445)","TX: Terry County (48445)","48445","  Terry  ",{"$f":"ROWS($L$2:L2745)","v":2744},{"$f":"IF(L2745=WORKSHEET!$B$1,I2745,\"\")","v":""},"","TEXAS","Terry County",19,"*","*","N/A",29,4.3016179331590909E-2,0.17948717948717949]
[420,null,14,"Wichita (Wichita Falls), TX - Montague, TX","TX: Throckmorton County (48447)","TX: Throckmorton County (48447)","48447","  Throckmorton  ",{"$f":"ROWS($L$2:L2746)","v":2745},{"$f":"IF(L2746=WORKSHEET!$B$1,I2746,\"\")","v":""},"","TEXAS","Throckmorton County","*","N/A","N/A","N/A","*",4.3016179331590909E-2,6.4150943396226415E-2]
[465,null,14,"Titus, TX - Morris, TX","TX: Titus County (48449)","TX: Titus County (48449)","48449","  Titus  ",{"$f":"ROWS($L$2:L2747)","v":2746},{"$f":"IF(L2747=WORKSHEET!$B$1,I2747,\"\")","v":""},"","TEXAS","Titus County",57,{"$f":"+R2747-N2747-P2747","v":6},16,"*",79,4.3016179331590909E-2,0.12977099236641221]
[426,null,14,"Tom Green (San Angelo), TX - Runnels, TX","TX: Tom Green County (48451)","TX: Tom Green County (48451)","48451","  Tom Green  ",{"$f":"ROWS($L$2:L2748)","v":2747},{"$f":"IF(L2748=WORKSHEET!$B$1,I2748,\"\")","v":""},"","TEXAS","Tom Green County",161,{"$f":"+R2748-N2748-P2748","v":10},71,"*",242,4.3016179331590909E-2,5.3497942386831275E-2]
[425,null,14,"Travis (Austin), TX - Williamson, TX","TX: Travis County (48453)","TX: Travis County (48453)","48453","  Travis  ",{"$f":"ROWS($L$2:L2749)","v":2748},{"$f":"IF(L2749=WORKSHEET!$B$1,I2749,\"\")","v":""},"","TEXAS","Travis County",1137,110,468,"*",1718,4.3016179331590909E-2,9.5391211146838156E-2]
[449,null,14,"Angelina, TX - Walker, TX","TX: Trinity County (48455)","TX: Trinity County (48455)","48455","  Trinity  ",{"$f":"ROWS($L$2:L2750)","v":2749},{"$f":"IF(L2750=WORKSHEET!$B$1,I2750,\"\")","v":""},"","TEXAS","Trinity County",21,"N/A","*","N/A",29,4.3016179331590909E-2,0.12853470437017994]
[413,null,14,"Jefferson (Beaumont), TX - Orange, TX","TX: Tyler County (48457)","TX: Tyler County (48457)","48457","  Tyler  ",{"$f":"ROWS($L$2:L2751)","v":2750},{"$f":"IF(L2751=WORKSHEET!$B$1,I2751,\"\")","v":""},"","TEXAS","Tyler County",24,"*","*","N/A",38,4.3016179331590909E-2,0.10631229235880399]
[454,null,14,"Gregg (Longview), TX - Rusk, TX","TX: Upshur County (48459)","TX: Upshur County (48459)","48459","  Upshur  ",{"$f":"ROWS($L$2:L2752)","v":2751},{"$f":"IF(L2752=WORKSHEET!$B$1,I2752,\"\")","v":""},"","TEXAS","Upshur County",50,{"$f":"+R2752-N2752-P2752","v":9},20,"N/A",79,4.3016179331590909E-2,0.16008316008316009]
[492,null,14,"Midland (Midland), TX - Pecos, TX","TX: Upton County (48461)","TX: Upton County (48461)","48461","  Upton  ",{"$f":"ROWS($L$2:L2753)","v":2752},{"$f":"IF(L2753=WORKSHEET!$B$1,I2753,\"\")","v":""},"","TEXAS","Upton County","*","*","*","N/A","*",4.3016179331590909E-2,6.7873303167420809E-2]
[536,null,14,"Uvalde, TX","TX: Uvalde County (48463)","TX: Uvalde County (48463)","48463","  Uvalde  ",{"$f":"ROWS($L$2:L2754)","v":2753},{"$f":"IF(L2754=WORKSHEET!$B$1,I2754,\"\")","v":""},"","TEXAS","Uvalde County",92,{"$f":"+R2754-N2754-P2754","v":4},20,"*",116,4.3016179331590909E-2,4.1666666666666664E-2]
[516,null,14,"Maverick, TX - Val Verde, TX","TX: Val Verde County (48465)","TX: Val Verde County (48465)","48465","  Val Verde  ",{"$f":"ROWS($L$2:L2755)","v":2754},{"$f":"IF(L2755=WORKSHEET!$B$1,I2755,\"\")","v":""},{"$f":"IFERROR(SMALL($J$2:$J$3142,I2755),\"\")","v":""},"TEXAS","Val Verde County",175,{"$f":"+R2755-N2755-P2755","v":8},34,"*",217,4.3016179331590909E-2,4.4345898004434593E-2]
[441,null,14,"Smith (Tyler), TX - Henderson, TX","TX: Van Zandt County (48467)","TX: Van Zandt County (48467)","48467","  Van Zandt  ",{"$f":"ROWS($L$2:L2756)","v":2755},{"$f":"IF(L2756=WORKSHEET!$B$1,I2756,\"\")","v":""},"","TEXAS","Van Zandt County",52,11,27,"N/A",90,4.3016179331590909E-2,0.12542372881355932]
[433,null,14,"Victoria (Victoria), TX - Calhoun, TX","TX: Victoria County (48469)","TX: Victoria County (48469)","48469","  Victoria  ",{"$f":"ROWS($L$2:L2757)","v":2756},{"$f":"IF(L2757=WORKSHEET!$B$1,I2757,\"\")","v":""},"","TEXAS","Victoria County",202,30,66,"*",299,4.3016179331590909E-2,0.14039408866995073]
[449,null,14,"Angelina, TX - Walker, TX","TX: Walker County (48471)","TX: Walker County (48471)","48471","  Walker  ",{"$f":"ROWS($L$2:L2758)","v":2757},{"$f":"IF(L2758=WORKSHEET!$B$1,I2758,\"\")","v":""},"","TEXAS","Walker County",97,21,21,"N/A",139,4.3016179331590909E-2,0.12853470437017994]
[408,null,14,"Harris (Houston), TX - Fort Bend, TX","TX: Waller County (48473)","TX: Waller County (48473)","48473","  Waller  ",{"$f":"ROWS($L$2:L2759)","v":2758},{"$f":"IF(L2759=WORKSHEET!$B$1,I2759,\"\")","v":""},"","TEXAS","Waller County",54,12,13,"N/A",79,4.3016179331590909E-2,8.9030841401337463E-2]
[444,null,14,"Ector (Odessa), TX - Reeves, TX","TX: Ward County (48475)","TX: Ward County (48475)","48475","  Ward  ",{"$f":"ROWS($L$2:L2760)","v":2759},{"$f":"IF(L2760=WORKSHEET!$B$1,I2760,\"\")","v":""},"","TEXAS","Ward County",18,"*","*","N/A",24,4.3016179331590909E-2,0.10326086956521739]
[464,null,14,"Brazos (Bryan), TX - Washington, TX","TX: Washington County (48477)","TX: Washington County (48477)","48477","  Washington  ",{"$f":"ROWS($L$2:L2761)","v":2760},{"$f":"IF(L2761=WORKSHEET!$B$1,I2761,\"\")","v":""},"","TEXAS","Washington County",64,14,22,"N/A",100,4.3016179331590909E-2,0.11553030303030302]
[538,null,14,"Webb (Laredo), TX - Zapata, TX","TX: Webb County (48479)","TX: Webb County (48479)","48479","  Webb  ",{"$f":"ROWS($L$2:L2762)","v":2761},{"$f":"IF(L2762=WORKSHEET!$B$1,I2762,\"\")","v":""},"","TEXAS","Webb County",688,43,173,"*",907,4.3016179331590909E-2,6.1696658097686374E-2]
[505,null,14,"Brazoria (Lake Jackson), TX - Wharton, TX","TX: Wharton County (48481)","TX: Wharton County (48481)","48481","  Wharton  ",{"$f":"ROWS($L$2:L2763)","v":2762},{"$f":"IF(L2763=WORKSHEET!$B$1,I2763,\"\")","v":""},"","TEXAS","Wharton County",138,{"$f":"+R2763-N2763-P2763","v":7},18,"*",163,4.3016179331590909E-2,8.6614173228346455E-2]
[460,null,14,"Gray, TX - Wheeler, TX","TX: Wheeler County (48483)","TX: Wheeler County (48483)","48483","  Wheeler  ",{"$f":"ROWS($L$2:L2764)","v":2763},{"$f":"IF(L2764=WORKSHEET!$B$1,I2764,\"\")","v":""},"","TEXAS","Wheeler County","*","*","*","N/A","*",4.3016179331590909E-2,0.21875]
[420,null,14,"Wichita (Wichita Falls), TX - Montague, TX","TX: Wichita County (48485)","TX: Wichita County (48485)","48485","  Wichita  ",{"$f":"ROWS($L$2:L2765)","v":2764},{"$f":"IF(L2765=WORKSHEET!$B$1,I2765,\"\")","v":""},"","TEXAS","Wichita County",172,{"$f":"+R2765-N2765-P2765","v":9},69,"N/A",250,4.3016179331590909E-2,6.4150943396226415E-2]
[458,null,14,"Wilbarger, TX - Hardeman, TX","TX: Wilbarger County (48487)","TX: Wilbarger County (48487)","48487","  Wilbarger  ",{"$f":"ROWS($L$2:L2766)","v":2765},{"$f":"IF(L2766=WORKSHEET!$B$1,I2766,\"\")","v":""},"","TEXAS","Wilbarger County",24,{"$f":"+R2766-N2766-P2766","v":3},14,"N/A",41,4.3016179331590909E-2,0.1111111111111111]
[520,null,14,"Cameron (Brownsville), TX - Willacy, TX","TX: Willacy County (48489)","TX: Willacy County (48489)","48489","  Willacy  ",{"$f":"ROWS($L$2:L2767)","v":2766},{"$f":"IF(L2767=WORKSHEET!$B$1,I2767,\"\")","v":""},"","TEXAS","Willacy County",77,"*","*","N/A",89,4.3016179331590909E-2,4.5930701047542308E-2]
[425,null,14,"Travis (Austin), TX - Williamson, TX","TX: Williamson County (48491)","TX: Williamson County (48491)","48491","  Williamson  ",{"$f":"ROWS($L$2:L2768)","v":2767},{"$f":"IF(L2768=WORKSHEET!$B$1,I2768,\"\")","v":""},"","TEXAS","Williamson County",360,44,217,"N/A",621,4.3016179331590909E-2,9.5391211146838156E-2]
[410,null,14,"Bexar (San Antonio), TX - Guadalupe, TX","TX: Wilson County (48493)","TX: Wilson County (48493)","48493","  Wilson  ",{"$f":"ROWS($L$2:L2769)","v":2768},{"$f":"IF(L2769=WORKSHEET!$B$1,I2769,\"\")","v":""},"","TEXAS","Wilson County",67,{"$f":"+R2769-N2769-P2769","v":4},28,"N/A",99,4.3016179331590909E-2,7.8482018676733559E-2]
[444,null,14,"Ector (Odessa), TX - Reeves, TX","TX: Winkler County (48495)","TX: Winkler County (48495)","48495","  Winkler  ",{"$f":"ROWS($L$2:L2770)","v":2769},{"$f":"IF(L2770=WORKSHEET!$B$1,I2770,\"\")","v":""},"","TEXAS","Winkler County","*","*","*","N/A",14,4.3016179331590909E-2,0.10326086956521739]
[495,null,14,"Denton (Denton), TX - Wise, TX","TX: Wise County (48497)","TX: Wise County (48497)","48497","  Wise  ",{"$f":"ROWS($L$2:L2771)","v":2770},{"$f":"IF(L2771=WORKSHEET!$B$1,I2771,\"\")","v":""},"","TEXAS","Wise County",71,{"$f":"+R2771-N2771-P2771","v":2},30,"N/A",103,4.3016179331590909E-2,0.12006319115323855]
[441,null,14,"Smith (Tyler), TX - Henderson, TX","TX: Wood County (48499)","TX: Wood County (48499)","48499","  Wood  ",{"$f":"ROWS($L$2:L2772)","v":2771},{"$f":"IF(L2772=WORKSHEET!$B$1,I2772,\"\")","v":""},"","TEXAS","Wood County",61,{"$f":"+R2772-N2772-P2772","v":8},21,"N/A",90,4.3016179331590909E-2,0.12542372881355932]
[514,null,14,"Terry, TX - Yoakum, TX","TX: Yoakum County (48501)","TX: Yoakum County (48501)","48501","  Yoakum  ",{"$f":"ROWS($L$2:L2773)","v":2772},{"$f":"IF(L2773=WORKSHEET!$B$1,I2773,\"\")","v":""},"","TEXAS","Yoakum County",13,"*","*","N/A",24,4.3016179331590909E-2,0.17948717948717949]
[420,null,14,"Wichita (Wichita Falls), TX - Montague, TX","TX: Young County (48503)","TX: Young County (48503)","48503","  Young  ",{"$f":"ROWS($L$2:L2774)","v":2773},{"$f":"IF(L2774=WORKSHEET!$B$1,I2774,\"\")","v":""},"","TEXAS","Young County",22,{"$f":"+R2774-N2774-P2774","v":3},11,"N/A",36,4.3016179331590909E-2,6.4150943396226415E-2]
[538,null,14,"Webb (Laredo), TX - Zapata, TX","TX: Zapata County (48505)","TX: Zapata County (48505)","48505","  Zapata  ",{"$f":"ROWS($L$2:L2775)","v":2774},{"$f":"IF(L2775=WORKSHEET!$B$1,I2775,\"\")","v":""},"","TEXAS","Zapata County",29,"*","*","N/A",40,4.3016179331590909E-2,6.1696658097686374E-2]
[410,null,14,"Bexar (San Antonio), TX - Guadalupe, TX","TX: Zavala County (48507)","TX: Zavala County (48507)","48507","  Zavala  ",{"$f":"ROWS($L$2:L2776)","v":2775},{"$f":"IF(L2776=WORKSHEET!$B$1,I2776,\"\")","v":""},"","TEXAS","Zavala County",43,{"$f":"+R2776-N2776-P2776","v":5},13,"*",61,4.3016179331590909E-2,7.8482018676733559E-2]
[755,null,15,"Iron, UT - Beaver, UT","UT: Beaver County (49001)","UT: Beaver County (49001)","49001","Beaver  ",{"$f":"ROWS($L$2:L2777)","v":2776},{"$f":"IF(L2777=WORKSHEET!$B$1,I2777,\"\")","v":""},"","UTAH","Beaver County","*","*","*","N/A",12,3.5873498773931679E-2,0.10810810810810811]
[744,null,15,"Davis, UT - Weber (Ogden), UT","UT: Box Elder County (49003)","UT: Box Elder County (49003)","49003","  Box Elder  ",{"$f":"ROWS($L$2:L2778)","v":2777},{"$f":"IF(L2778=WORKSHEET!$B$1,I2778,\"\")","v":""},"","UTAH","Box Elder County",28,{"$f":"+R2778-N2778-P2778","v":4},34,"*",66,3.5873498773931679E-2,0.16180371352785147]
[966,715,15,"Cache, UT","UT: Cache County (49005)","UT: Cache County (49005)","49005","  Cache  ",{"$f":"ROWS($L$2:L2779)","v":2778},{"$f":"IF(L2779=WORKSHEET!$B$1,I2779,\"\")","v":""},"","UTAH","Cache County",41,{"$f":"+R2779-N2779-P2779","v":3},58,"N/A",102,3.5873498773931679E-2,6.1224489795918366E-2]
[809,null,15,"Carbon, UT - Emery, UT","UT: Carbon County (49007)","UT: Carbon County (49007)","49007","  Carbon  ",{"$f":"ROWS($L$2:L2780)","v":2779},{"$f":"IF(L2780=WORKSHEET!$B$1,I2780,\"\")","v":""},"","UTAH","Carbon County",25,{"$f":"+R2780-N2780-P2780","v":0},13,"N/A",38,3.5873498773931679E-2,0]
[799,null,15,"Daggett, UT","UT: Daggett County (49009)","UT: Daggett County (49009)","49009","  Daggett  ",{"$f":"ROWS($L$2:L2781)","v":2780},{"$f":"IF(L2781=WORKSHEET!$B$1,I2781,\"\")","v":""},"","UTAH","Daggett County","*","N/A","N/A","N/A","*",3.5873498773931679E-2,0.13793103448275862]
[744,null,15,"Davis, UT - Weber (Ogden), UT","UT: Davis County (49011)","UT: Davis County (49011)","49011","  Davis  ",{"$f":"ROWS($L$2:L2782)","v":2781},{"$f":"IF(L2782=WORKSHEET!$B$1,I2782,\"\")","v":""},"","UTAH","Davis County",129,40,176,"*",347,3.5873498773931679E-2,0.16180371352785147]
[708,null,15,"Salt Lake (Salt Lake City), UT - Tooele, UT","UT: Duchesne County (49013)","UT: Duchesne County (49013)","49013","  Duchesne  ",{"$f":"ROWS($L$2:L2783)","v":2782},{"$f":"IF(L2783=WORKSHEET!$B$1,I2783,\"\")","v":""},"","UTAH","Duchesne County",12,"N/A","*","N/A",20,3.5873498773931679E-2,0.1121898597626753]
[809,null,15,"Carbon, UT - Emery, UT","UT: Emery County (49015)","UT: Emery County (49015)","49015","  Emery  ",{"$f":"ROWS($L$2:L2784)","v":2783},{"$f":"IF(L2784=WORKSHEET!$B$1,I2784,\"\")","v":""},"","UTAH","Emery County","*","N/A",11,"N/A",19,3.5873498773931679E-2,0]
[964,707,15,"Washington, UT - Kane, UT","UT: Garfield County (49017)","UT: Garfield County (49017)","49017","  Garfield  ",{"$f":"ROWS($L$2:L2785)","v":2784},{"$f":"IF(L2785=WORKSHEET!$B$1,I2785,\"\")","v":""},"","UTAH","Garfield County","N/A","N/A","*","N/A","*",3.5873498773931679E-2,9.5537757437070936E-2]
[965,711,15,"Grand, UT","UT: Grand County (49019)","UT: Grand County (49019)","49019","  Grand  ",{"$f":"ROWS($L$2:L2786)","v":2785},{"$f":"IF(L2786=WORKSHEET!$B$1,I2786,\"\")","v":""},"","UTAH","Grand County","*","*","*","N/A","*",3.5873498773931679E-2,0.24675324675324675]
[755,null,15,"Iron, UT - Beaver, UT","UT: Iron County (49021)","UT: Iron County (49021)","49021","  Iron  ",{"$f":"ROWS($L$2:L2787)","v":2786},{"$f":"IF(L2787=WORKSHEET!$B$1,I2787,\"\")","v":""},"","UTAH","Iron County",28,"*","*","N/A",40,3.5873498773931679E-2,0.10810810810810811]
[703,null,15,"Utah (Provo), UT - Sanpete, UT","UT: Juab County (49023)","UT: Juab County (49023)","49023","  Juab  ",{"$f":"ROWS($L$2:L2788)","v":2787},{"$f":"IF(L2788=WORKSHEET!$B$1,I2788,\"\")","v":""},"","UTAH","Juab County","*","*","*","N/A","*",3.5873498773931679E-2,6.7615658362989328E-2]
[964,707,15,"Washington, UT - Kane, UT","UT: Kane County (49025)","UT: Kane County (49025)","49025","  Kane  ",{"$f":"ROWS($L$2:L2789)","v":2788},{"$f":"IF(L2789=WORKSHEET!$B$1,I2789,\"\")","v":""},"","UTAH","Kane County","*","*","*","N/A","*",3.5873498773931679E-2,9.5537757437070936E-2]
[703,null,15,"Utah (Provo), UT - Sanpete, UT","UT: Millard County (49027)","UT: Millard County (49027)","49027","  Millard  ",{"$f":"ROWS($L$2:L2790)","v":2789},{"$f":"IF(L2790=WORKSHEET!$B$1,I2790,\"\")","v":""},"","UTAH","Millard County","*","*","*","N/A",18,3.5873498773931679E-2,6.7615658362989328E-2]
[744,null,15,"Davis, UT - Weber (Ogden), UT","UT: Morgan County (49029)","UT: Morgan County (49029)","49029","  Morgan  ",{"$f":"ROWS($L$2:L2791)","v":2790},{"$f":"IF(L2791=WORKSHEET!$B$1,I2791,\"\")","v":""},"","UTAH","Morgan County","*","N/A","*","N/A","*",3.5873498773931679E-2,0.16180371352785147]
[964,707,15,"Washington, UT - Kane, UT","UT: Piute County (49031)","UT: Piute County (49031)","49031","  Piute  ",{"$f":"ROWS($L$2:L2792)","v":2791},{"$f":"IF(L2792=WORKSHEET!$B$1,I2792,\"\")","v":""},"","UTAH","Piute County","*","N/A","N/A","N/A","*",3.5873498773931679E-2,9.5537757437070936E-2]
[744,null,15,"Davis, UT - Weber (Ogden), UT","UT: Rich County (49033)","UT: Rich County (49033)","49033","  Rich  ",{"$f":"ROWS($L$2:L2793)","v":2792},{"$f":"IF(L2793=WORKSHEET!$B$1,I2793,\"\")","v":""},"","UTAH","Rich County","*","*","*","N/A","*",3.5873498773931679E-2,0.16180371352785147]
[708,null,15,"Salt Lake (Salt Lake City), UT - Tooele, UT","UT: Salt Lake County (49035)","UT: Salt Lake County (49035)","49035","  Salt Lake  ",{"$f":"ROWS($L$2:L2794)","v":2793},{"$f":"IF(L2794=WORKSHEET!$B$1,I2794,\"\")","v":""},"","UTAH","Salt Lake County",703,96,712,"*",1513,3.5873498773931679E-2,0.1121898597626753]
[970,740,15,"San Juan, UT","UT: San Juan County (49037)","UT: San Juan County (49037)","49037","  San Juan  ",{"$f":"ROWS($L$2:L2795)","v":2794},{"$f":"IF(L2795=WORKSHEET!$B$1,I2795,\"\")","v":""},"","UTAH","San Juan County",42,{"$f":"+R2795-N2795-P2795","v":7},11,"N/A",60,3.5873498773931679E-2,0.11010362694300518]
[703,null,15,"Utah (Provo), UT - Sanpete, UT","UT: Sanpete County (49039)","UT: Sanpete County (49039)","49039","  Sanpete  ",{"$f":"ROWS($L$2:L2796)","v":2795},{"$f":"IF(L2796=WORKSHEET!$B$1,I2796,\"\")","v":""},"","UTAH","Sanpete County","*","*",11,"N/A",20,3.5873498773931679E-2,6.7615658362989328E-2]
[703,null,15,"Utah (Provo), UT - Sanpete, UT","UT: Sevier County (49041)","UT: Sevier County (49041)","49041","  Sevier  ",{"$f":"ROWS($L$2:L2797)","v":2796},{"$f":"IF(L2797=WORKSHEET!$B$1,I2797,\"\")","v":""},"","UTAH","Sevier County","*","N/A",16,"N/A",26,3.5873498773931679E-2,6.7615658362989328E-2]
[708,null,15,"Salt Lake (Salt Lake City), UT - Tooele, UT","UT: Summit County (49043)","UT: Summit County (49043)","49043","  Summit  ",{"$f":"ROWS($L$2:L2798)","v":2797},{"$f":"IF(L2798=WORKSHEET!$B$1,I2798,\"\")","v":""},"","UTAH","Summit County","*","*","*","N/A",14,3.5873498773931679E-2,0.1121898597626753]
[708,null,15,"Salt Lake (Salt Lake City), UT - Tooele, UT","UT: Tooele County (49045)","UT: Tooele County (49045)","49045","  Tooele  ",{"$f":"ROWS($L$2:L2799)","v":2798},{"$f":"IF(L2799=WORKSHEET!$B$1,I2799,\"\")","v":""},"","UTAH","Tooele County",37,{"$f":"+R2799-N2799-P2799","v":4},27,"N/A",68,3.5873498773931679E-2,0.1121898597626753]
[708,null,15,"Salt Lake (Salt Lake City), UT - Tooele, UT","UT: Uintah County (49047)","UT: Uintah County (49047)","49047","  Uintah  ",{"$f":"ROWS($L$2:L2800)","v":2799},{"$f":"IF(L2800=WORKSHEET!$B$1,I2800,\"\")","v":""},"","UTAH","Uintah County",57,{"$f":"+R2800-N2800-P2800","v":2},16,"N/A",75,3.5873498773931679E-2,0.1121898597626753]
[703,null,15,"Utah (Provo), UT - Sanpete, UT","UT: Utah County (49049)","UT: Utah County (49049)","49049","  Utah  ",{"$f":"ROWS($L$2:L2801)","v":2800},{"$f":"IF(L2801=WORKSHEET!$B$1,I2801,\"\")","v":""},"","UTAH","Utah County",234,12,290,"*",541,3.5873498773931679E-2,6.7615658362989328E-2]
[708,null,15,"Salt Lake (Salt Lake City), UT - Tooele, UT","UT: Wasatch County (49051)","UT: Wasatch County (49051)","49051","  Wasatch  ",{"$f":"ROWS($L$2:L2802)","v":2801},{"$f":"IF(L2802=WORKSHEET!$B$1,I2802,\"\")","v":""},"","UTAH","Wasatch County",11,{"$f":"+R2802-N2802-P2802","v":1},18,"N/A",30,3.5873498773931679E-2,0.1121898597626753]
[964,707,15,"Washington, UT - Kane, UT","UT: Washington County (49053)","UT: Washington County (49053)","49053","  Washington  ",{"$f":"ROWS($L$2:L2803)","v":2802},{"$f":"IF(L2803=WORKSHEET!$B$1,I2803,\"\")","v":""},"","UTAH","Washington County",120,31,92,"*",244,3.5873498773931679E-2,9.5537757437070936E-2]
[703,null,15,"Utah (Provo), UT - Sanpete, UT","UT: Wayne County (49055)","UT: Wayne County (49055)","49055","  Wayne  ",{"$f":"ROWS($L$2:L2804)","v":2803},{"$f":"IF(L2804=WORKSHEET!$B$1,I2804,\"\")","v":""},"","UTAH","Wayne County","N/A","*","N/A","N/A","*",3.5873498773931679E-2,6.7615658362989328E-2]
[744,null,15,"Davis, UT - Weber (Ogden), UT","UT: Weber County (49057)","UT: Weber County (49057)","49057","  Weber  ",{"$f":"ROWS($L$2:L2805)","v":2804},{"$f":"IF(L2805=WORKSHEET!$B$1,I2805,\"\")","v":""},"","UTAH","Weber County",153,17,151,"*",322,3.5873498773931679E-2,0.16180371352785147]
[137,null,5,"Accomack, VA - Northampton, VA","VA: Accomack County (51001)","VA: Accomack County (51001)","51001","Accomack  ",{"$f":"ROWS($L$2:L2806)","v":2805},{"$f":"IF(L2806=WORKSHEET!$B$1,I2806,\"\")","v":""},"","VIRGINIA","Accomack County",74,{"$f":"+R2806-N2806-P2806","v":4},33,"N/A",111,2.9657918208264081E-2,2.9411764705882353E-2]
[99,null,5,"Albemarle, VA - Charlottesville City, VA","VA: Albemarle County (51003)","VA: Albemarle County (51003)","51003","  Albemarle  ",{"$f":"ROWS($L$2:L2807)","v":2806},{"$f":"IF(L2807=WORKSHEET!$B$1,I2807,\"\")","v":""},"","VIRGINIA","Albemarle County",72,{"$f":"+R2807-N2807-P2807","v":7},28,"N/A",107,2.9657918208264081E-2,0.13076923076923078]
[69,null,5,"Fairfax, VA - Arlington, VA","VA: Alexandria City (51510) - 1980+","VA: Alexandria City (51510) - 1980+","51510","  Alexandria City  ",{"$f":"ROWS($L$2:L2808)","v":2807},{"$f":"IF(L2808=WORKSHEET!$B$1,I2808,\"\")","v":""},"","VIRGINIA","Alexandria City",171,16,96,"N/A",283,2.9657918208264081E-2,0.111875]
[30,null,5,"Alleghany Cnty & Clifton Forge Cty, VA - Covington City, VA","VA: Alleghany Cnty and Clifton Forge Cty (51005) - 1980+","VA: Alleghany Cnty and Clifton Forge Cty (51005) - 1980+","51005","  Alleghany  ",{"$f":"ROWS($L$2:L2809)","v":2808},{"$f":"IF(L2809=WORKSHEET!$B$1,I2809,\"\")","v":""},"","VIRGINIA","Alleghany County and Clifton Forge City",14,"*","N/A","N/A",17,2.9657918208264081E-2,0.23200000000000001]
[33,null,5,"Henrico (Richmond), VA - Chesterfield, VA","VA: Amelia County (51007)","VA: Amelia County (51007)","51007","  Amelia  ",{"$f":"ROWS($L$2:L2810)","v":2809},{"$f":"IF(L2810=WORKSHEET!$B$1,I2810,\"\")","v":""},"","VIRGINIA","Amelia County",18,{"$f":"+R2810-N2810-P2810","v":2},12,"*",32,2.9657918208264081E-2,0.11728395061728394]
[14,null,5,"Roanoke City, VA - Roanoke, VA","VA: Amherst County (51009)","VA: Amherst County (51009)","51009","  Amherst  ",{"$f":"ROWS($L$2:L2811)","v":2810},{"$f":"IF(L2811=WORKSHEET!$B$1,I2811,\"\")","v":""},"","VIRGINIA","Amherst County",70,{"$f":"+R2811-N2811-P2811","v":4},24,"*",98,2.9657918208264081E-2,5.9730250481695571E-2]
[14,null,5,"Roanoke City, VA - Roanoke, VA","VA: Appomattox County (51011)","VA: Appomattox County (51011)","51011","  Appomattox  ",{"$f":"ROWS($L$2:L2812)","v":2811},{"$f":"IF(L2812=WORKSHEET!$B$1,I2812,\"\")","v":""},"","VIRGINIA","Appomattox County",30,"*","*","N/A",36,2.9657918208264081E-2,5.9730250481695571E-2]
[69,null,5,"Fairfax, VA - Arlington, VA","VA: Arlington County (51013) - 1980+","VA: Arlington County (51013) - 1980+","51013","  Arlington  ",{"$f":"ROWS($L$2:L2813)","v":2812},{"$f":"IF(L2813=WORKSHEET!$B$1,I2813,\"\")","v":""},"","VIRGINIA","Arlington County",181,13,101,"N/A",295,2.9657918208264081E-2,0.111875]
[97,null,5,"Augusta, VA - Staunton City, VA","VA: Augusta County (51015)","VA: Augusta County (51015)","51015","  Augusta  ",{"$f":"ROWS($L$2:L2814)","v":2813},{"$f":"IF(L2814=WORKSHEET!$B$1,I2814,\"\")","v":""},"","VIRGINIA","Augusta County",48,{"$f":"+R2814-N2814-P2814","v":4},38,"N/A",90,2.9657918208264081E-2,6.8627450980392163E-2]
[30,null,5,"Alleghany Cnty & Clifton Forge Cty, VA - Covington City, VA","VA: Bath County (51017)","VA: Bath County (51017)","51017","  Bath  ",{"$f":"ROWS($L$2:L2815)","v":2814},{"$f":"IF(L2815=WORKSHEET!$B$1,I2815,\"\")","v":""},"","VIRGINIA","Bath County","*","*","*","N/A",14,2.9657918208264081E-2,0.23200000000000001]
[14,null,5,"Roanoke City, VA - Roanoke, VA","VA: Bedford City (51515) - 1980+","VA: Bedford City (51515) - 1980+","51515","  Bedford city  ",{"$f":"ROWS($L$2:L2816)","v":2815},{"$f":"IF(L2816=WORKSHEET!$B$1,I2816,\"\")","v":""},"","VIRGINIA","Bedford City",18,"*","*","N/A",27,2.9657918208264081E-2,5.9730250481695571E-2]
[14,null,5,"Roanoke City, VA - Roanoke, VA","VA: Bedford County (51019) - 1980+","VA: Bedford County (51019) - 1980+","51019","  Bedford  ",{"$f":"ROWS($L$2:L2817)","v":2816},{"$f":"IF(L2817=WORKSHEET!$B$1,I2817,\"\")","v":""},"","VIRGINIA","Bedford County",71,12,45,"*",129,2.9657918208264081E-2,5.9730250481695571E-2]
[39,null,5,"Tazewell, VA - Buchanan, VA","VA: Bland County (51021)","VA: Bland County (51021)","51021","  Bland  ",{"$f":"ROWS($L$2:L2818)","v":2817},{"$f":"IF(L2818=WORKSHEET!$B$1,I2818,\"\")","v":""},"","VIRGINIA","Bland County",11,"*","*","N/A",18,2.9657918208264081E-2,7.2649572649572655E-2]
[14,null,5,"Roanoke City, VA - Roanoke, VA","VA: Botetourt County (51023)","VA: Botetourt County (51023)","51023","  Botetourt  ",{"$f":"ROWS($L$2:L2819)","v":2818},{"$f":"IF(L2819=WORKSHEET!$B$1,I2819,\"\")","v":""},{"$f":"IFERROR(SMALL($J$2:$J$3142,I2819),\"\")","v":""},"VIRGINIA","Botetourt County",37,"*",14,"*",55,2.9657918208264081E-2,5.9730250481695571E-2]
[888,151,5,"Washington, VA - Smyth, VA","VA: Bristol City (51520)","VA: Bristol City (51520)","51520","  Bristol City  ",{"$f":"ROWS($L$2:L2820)","v":2819},{"$f":"IF(L2820=WORKSHEET!$B$1,I2820,\"\")","v":""},"","VIRGINIA","Bristol City",23,"*",15,"N/A",40,2.9657918208264081E-2,0.13227513227513227]
[130,null,5,"Brunswick, VA - Greensville, VA","VA: Brunswick County (51025)","VA: Brunswick County (51025)","51025","  Brunswick  ",{"$f":"ROWS($L$2:L2821)","v":2820},{"$f":"IF(L2821=WORKSHEET!$B$1,I2821,\"\")","v":""},"","VIRGINIA","Brunswick County",44,"*",18,"N/A",67,2.9657918208264081E-2,0.12195121951219512]
[39,null,5,"Tazewell, VA - Buchanan, VA","VA: Buchanan County (51027)","VA: Buchanan County (51027)","51027","  Buchanan  ",{"$f":"ROWS($L$2:L2822)","v":2821},{"$f":"IF(L2822=WORKSHEET!$B$1,I2822,\"\")","v":""},"","VIRGINIA","Buchanan County",18,"*",12,"N/A",33,2.9657918208264081E-2,7.2649572649572655E-2]
[99,null,5,"Albemarle, VA - Charlottesville City, VA","VA: Buckingham County (51029)","VA: Buckingham County (51029)","51029","  Buckingham  ",{"$f":"ROWS($L$2:L2823)","v":2822},{"$f":"IF(L2823=WORKSHEET!$B$1,I2823,\"\")","v":""},"","VIRGINIA","Buckingham County",16,"*",11,"N/A",29,2.9657918208264081E-2,0.13076923076923078]
[97,null,5,"Augusta, VA - Staunton City, VA","VA: Buena Vista City (51530)","VA: Buena Vista City (51530)","51530","  Buena Vista City  ",{"$f":"ROWS($L$2:L2824)","v":2823},{"$f":"IF(L2824=WORKSHEET!$B$1,I2824,\"\")","v":""},"","VIRGINIA","Buena Vista City","*","N/A","*","N/A",15,2.9657918208264081E-2,6.8627450980392163E-2]
[14,null,5,"Roanoke City, VA - Roanoke, VA","VA: Campbell County (51031)","VA: Campbell County (51031)","51031","  Campbell  ",{"$f":"ROWS($L$2:L2825)","v":2824},{"$f":"IF(L2825=WORKSHEET!$B$1,I2825,\"\")","v":""},"","VIRGINIA","Campbell County",106,"*",36,"N/A",143,2.9657918208264081E-2,5.9730250481695571E-2]
[135,null,5,"Stafford, VA - Spotsylvania, VA","VA: Caroline County (51033)","VA: Caroline County (51033)","51033","  Caroline  ",{"$f":"ROWS($L$2:L2826)","v":2825},{"$f":"IF(L2826=WORKSHEET!$B$1,I2826,\"\")","v":""},"","VIRGINIA","Caroline County",53,"*",21,"N/A",79,2.9657918208264081E-2,0.10860655737704918]
[873,73,5,"Carroll, VA - Grayson, VA","VA: Carroll County (51035)","VA: Carroll County (51035)","51035","Carroll  ",{"$f":"ROWS($L$2:L2827)","v":2826},{"$f":"IF(L2827=WORKSHEET!$B$1,I2827,\"\")","v":""},"","VIRGINIA","Carroll County",20,"*",13,"N/A",39,2.9657918208264081E-2,0.15068493150684931]
[33,null,5,"Henrico (Richmond), VA - Chesterfield, VA","VA: Charles City County (51036)","VA: Charles City County (51036)","51036","  Charles City  ",{"$f":"ROWS($L$2:L2828)","v":2827},{"$f":"IF(L2828=WORKSHEET!$B$1,I2828,\"\")","v":""},"","VIRGINIA","Charles City County",24,"*","*","N/A",36,2.9657918208264081E-2,0.11728395061728394]
[33,null,5,"Henrico (Richmond), VA - Chesterfield, VA","VA: Charlotte County (51037)","VA: Charlotte County (51037)","51037","  Charlotte  ",{"$f":"ROWS($L$2:L2829)","v":2828},{"$f":"IF(L2829=WORKSHEET!$B$1,I2829,\"\")","v":""},"","VIRGINIA","Charlotte County",30,{"$f":"+R2829-N2829-P2829","v":3},12,"N/A",45,2.9657918208264081E-2,0.11728395061728394]
[99,null,5,"Albemarle, VA - Charlottesville City, VA","VA: Charlottesville City (51540)","VA: Charlottesville City (51540)","51540","  Charlottesville City  ",{"$f":"ROWS($L$2:L2830)","v":2829},{"$f":"IF(L2830=WORKSHEET!$B$1,I2830,\"\")","v":""},"","VIRGINIA","Charlottesville City",96,13,43,"*",154,2.9657918208264081E-2,0.13076923076923078]
[853,6,5,"Virginia Beach City, VA - Norfolk City, VA","VA: Chesapeake City (51550)","VA: Chesapeake City (51550)","51550","  Chesapeake City  ",{"$f":"ROWS($L$2:L2831)","v":2830},{"$f":"IF(L2831=WORKSHEET!$B$1,I2831,\"\")","v":""},"","VIRGINIA","Chesapeake City",399,54,163,"*",619,2.9657918208264081E-2,0.11527904849039342]
[33,null,5,"Henrico (Richmond), VA - Chesterfield, VA","VA: Chesterfield County (51041)","VA: Chesterfield County (51041)","51041","  Chesterfield  ",{"$f":"ROWS($L$2:L2832)","v":2831},{"$f":"IF(L2832=WORKSHEET!$B$1,I2832,\"\")","v":""},"","VIRGINIA","Chesterfield County",290,76,193,"*",561,2.9657918208264081E-2,0.11728395061728394]
[25,null,5,"Frederick, VA - Shenandoah, VA","VA: Clarke County (51043)","VA: Clarke County (51043)","51043","  Clarke  ",{"$f":"ROWS($L$2:L2833)","v":2832},{"$f":"IF(L2833=WORKSHEET!$B$1,I2833,\"\")","v":""},"","VIRGINIA","Clarke County",17,"*","*","N/A",27,2.9657918208264081E-2,0.15461847389558234]
[33,null,5,"Henrico (Richmond), VA - Chesterfield, VA","VA: Colonial Heights City (51570)","VA: Colonial Heights City (51570)","51570","  Colonial Heights City  ",{"$f":"ROWS($L$2:L2834)","v":2833},{"$f":"IF(L2834=WORKSHEET!$B$1,I2834,\"\")","v":""},"","VIRGINIA","Colonial Heights City",34,{"$f":"+R2834-N2834-P2834","v":4},15,"N/A",53,2.9657918208264081E-2,0.11728395061728394]
[30,null,5,"Alleghany Cnty & Clifton Forge Cty, VA - Covington City, VA","VA: Covington City (51580) - 1980+","VA: Covington City (51580) - 1980+","51580","  Covington City  ",{"$f":"ROWS($L$2:L2835)","v":2834},{"$f":"IF(L2835=WORKSHEET!$B$1,I2835,\"\")","v":""},"","VIRGINIA","Covington City",15,{"$f":"+R2835-N2835-P2835","v":4},13,"N/A",32,2.9657918208264081E-2,0.23200000000000001]
[14,null,5,"Roanoke City, VA - Roanoke, VA","VA: Craig County (51045)","VA: Craig County (51045)","51045","  Craig  ",{"$f":"ROWS($L$2:L2836)","v":2835},{"$f":"IF(L2836=WORKSHEET!$B$1,I2836,\"\")","v":""},"","VIRGINIA","Craig County","*","*","*","N/A","*",2.9657918208264081E-2,5.9730250481695571E-2]
[99,null,5,"Albemarle, VA - Charlottesville City, VA","VA: Culpeper County (51047)","VA: Culpeper County (51047)","51047","  Culpeper  ",{"$f":"ROWS($L$2:L2837)","v":2836},{"$f":"IF(L2837=WORKSHEET!$B$1,I2837,\"\")","v":""},"","VIRGINIA","Culpeper County",65,11,23,"N/A",99,2.9657918208264081E-2,0.13076923076923078]
[33,null,5,"Henrico (Richmond), VA - Chesterfield, VA","VA: Cumberland County (51049)","VA: Cumberland County (51049)","51049","  Cumberland  ",{"$f":"ROWS($L$2:L2838)","v":2837},{"$f":"IF(L2838=WORKSHEET!$B$1,I2838,\"\")","v":""},"","VIRGINIA","Cumberland County",11,"*","*","N/A",16,2.9657918208264081E-2,0.11728395061728394]
[883,132,5,"Pittsylvania (Danville), VA - Danville City, VA","VA: Danville City (51590)","VA: Danville City (51590)","51590","  Danville City  ",{"$f":"ROWS($L$2:L2839)","v":2838},{"$f":"IF(L2839=WORKSHEET!$B$1,I2839,\"\")","v":""},"","VIRGINIA","Danville City",217,13,49,"*",280,2.9657918208264081E-2,6.8126520681265207E-2]
[55,null,5,"Wise, VA - Lee, VA","VA: Dickenson County (51051)","VA: Dickenson County (51051)","51051","  Dickenson  ",{"$f":"ROWS($L$2:L2840)","v":2839},{"$f":"IF(L2840=WORKSHEET!$B$1,I2840,\"\")","v":""},"","VIRGINIA","Dickenson County",15,"*","*","*",23,2.9657918208264081E-2,0.10227272727272728]
[77,null,5,"Petersburg City, VA - Prince George, VA","VA: Dinwiddie County (51053)","VA: Dinwiddie County (51053)","51053","  Dinwiddie  ",{"$f":"ROWS($L$2:L2841)","v":2840},{"$f":"IF(L2841=WORKSHEET!$B$1,I2841,\"\")","v":""},"","VIRGINIA","Dinwiddie County",38,{"$f":"+R2841-N2841-P2841","v":6},11,"N/A",55,2.9657918208264081E-2,9.7447795823665889E-2]
[130,null,5,"Brunswick, VA - Greensville, VA","VA: Emporia City (51595)","VA: Emporia City (51595)","51595","  Emporia City  ",{"$f":"ROWS($L$2:L2842)","v":2841},{"$f":"IF(L2842=WORKSHEET!$B$1,I2842,\"\")","v":""},"","VIRGINIA","Emporia City",21,"*","*","N/A",35,2.9657918208264081E-2,0.12195121951219512]
[33,null,5,"Henrico (Richmond), VA - Chesterfield, VA","VA: Essex County (51057)","VA: Essex County (51057)","51057","  Essex  ",{"$f":"ROWS($L$2:L2843)","v":2842},{"$f":"IF(L2843=WORKSHEET!$B$1,I2843,\"\")","v":""},"","VIRGINIA","Essex County",23,"N/A",15,"N/A",38,2.9657918208264081E-2,0.11728395061728394]
[69,null,5,"Fairfax, VA - Arlington, VA","VA: Fairfax City (51600) - 1980+","VA: Fairfax City (51600) - 1980+","51600","  Fairfax City  ",{"$f":"ROWS($L$2:L2844)","v":2843},{"$f":"IF(L2844=WORKSHEET!$B$1,I2844,\"\")","v":""},"","VIRGINIA","Fairfax City",68,14,46,"*",129,2.9657918208264081E-2,0.111875]
[69,null,5,"Fairfax, VA - Arlington, VA","VA: Fairfax County (51059) - 1980+","VA: Fairfax County (51059) - 1980+","51059","  Fairfax  ",{"$f":"ROWS($L$2:L2845)","v":2844},{"$f":"IF(L2845=WORKSHEET!$B$1,I2845,\"\")","v":""},"","VIRGINIA","Fairfax County",816,104,702,"*",1625,2.9657918208264081E-2,0.111875]
[69,null,5,"Fairfax, VA - Arlington, VA","VA: Falls Church City (51610) - 1980+","VA: Falls Church City (51610) - 1980+","51610","  Falls Church City  ",{"$f":"ROWS($L$2:L2846)","v":2845},{"$f":"IF(L2846=WORKSHEET!$B$1,I2846,\"\")","v":""},"","VIRGINIA","Falls Church City","*","*","*","N/A",15,2.9657918208264081E-2,0.111875]
[109,null,5,"Prince William (Dale City), VA - Fauquier, VA","VA: Fauquier County (51061)","VA: Fauquier County (51061)","51061","  Fauquier  ",{"$f":"ROWS($L$2:L2847)","v":2846},{"$f":"IF(L2847=WORKSHEET!$B$1,I2847,\"\")","v":""},"","VIRGINIA","Fauquier County",93,{"$f":"+R2847-N2847-P2847","v":9},37,"*",139,2.9657918208264081E-2,9.3314763231197778E-2]
[14,null,5,"Roanoke City, VA - Roanoke, VA","VA: Floyd County (51063)","VA: Floyd County (51063)","51063","  Floyd  ",{"$f":"ROWS($L$2:L2848)","v":2847},{"$f":"IF(L2848=WORKSHEET!$B$1,I2848,\"\")","v":""},"","VIRGINIA","Floyd County",11,"*","*","N/A",18,2.9657918208264081E-2,5.9730250481695571E-2]
[99,null,5,"Albemarle, VA - Charlottesville City, VA","VA: Fluvanna County (51065)","VA: Fluvanna County (51065)","51065","  Fluvanna  ",{"$f":"ROWS($L$2:L2849)","v":2848},{"$f":"IF(L2849=WORKSHEET!$B$1,I2849,\"\")","v":""},"","VIRGINIA","Fluvanna County",30,{"$f":"+R2849-N2849-P2849","v":7},12,"N/A",49,2.9657918208264081E-2,0.13076923076923078]
[853,6,5,"Virginia Beach City, VA - Norfolk City, VA","VA: Franklin City (51620)","VA: Franklin City (51620)","51620","  Franklin  ",{"$f":"ROWS($L$2:L2850)","v":2849},{"$f":"IF(L2850=WORKSHEET!$B$1,I2850,\"\")","v":""},"","VIRGINIA","Franklin City",52,{"$f":"+R2850-N2850-P2850","v":4},32,"N/A",88,2.9657918208264081E-2,9.2492741600995396E-2]
[14,null,5,"Roanoke City, VA - Roanoke, VA","VA: Franklin County (51067)","VA: Franklin County (51067)","51067","  Franklin City  ",{"$f":"ROWS($L$2:L2851)","v":2850},{"$f":"IF(L2851=WORKSHEET!$B$1,I2851,\"\")","v":""},"","VIRGINIA","Franklin County",43,{"$f":"+R2851-N2851-P2851","v":1},13,"N/A",57,2.9657918208264081E-2,5.9730250481695571E-2]
[25,null,5,"Frederick, VA - Shenandoah, VA","VA: Frederick County (51069)","VA: Frederick County (51069)","51069","  Frederick  ",{"$f":"ROWS($L$2:L2852)","v":2851},{"$f":"IF(L2852=WORKSHEET!$B$1,I2852,\"\")","v":""},"","VIRGINIA","Frederick County",48,{"$f":"+R2852-N2852-P2852","v":10},43,"N/A",101,2.9657918208264081E-2,0.15461847389558234]
[135,null,5,"Stafford, VA - Spotsylvania, VA","VA: Fredericksburg City (51630) - 1980+","VA: Fredericksburg City (51630) - 1980+","51630","  Fredericksburg City  ",{"$f":"ROWS($L$2:L2853)","v":2852},{"$f":"IF(L2853=WORKSHEET!$B$1,I2853,\"\")","v":""},"","VIRGINIA","Fredericksburg City",63,{"$f":"+R2853-N2853-P2853","v":3},25,"N/A",91,2.9657918208264081E-2,0.10860655737704918]
[873,73,5,"Carroll, VA - Grayson, VA","VA: Galax City (51640)","VA: Galax City (51640)","51640","  Galax City  ",{"$f":"ROWS($L$2:L2854)","v":2853},{"$f":"IF(L2854=WORKSHEET!$B$1,I2854,\"\")","v":""},"","VIRGINIA","Galax City",22,"*","*","*",35,2.9657918208264081E-2,0.15068493150684931]
[70,null,5,"Montgomery, VA - Pulaski, VA","VA: Giles County (51071)","VA: Giles County (51071)","51071","  Giles  ",{"$f":"ROWS($L$2:L2855)","v":2854},{"$f":"IF(L2855=WORKSHEET!$B$1,I2855,\"\")","v":""},"","VIRGINIA","Giles County",27,{"$f":"+R2855-N2855-P2855","v":5},12,"N/A",44,2.9657918208264081E-2,0.1641025641025641]
[5,null,5,"Newport News City, VA - Hampton City, VA","VA: Gloucester County (51073)","VA: Gloucester County (51073)","51073","  Gloucester  ",{"$f":"ROWS($L$2:L2856)","v":2855},{"$f":"IF(L2856=WORKSHEET!$B$1,I2856,\"\")","v":""},"","VIRGINIA","Gloucester County",38,{"$f":"+R2856-N2856-P2856","v":2},22,"N/A",62,2.9657918208264081E-2,7.7534791252485094E-2]
[33,null,5,"Henrico (Richmond), VA - Chesterfield, VA","VA: Goochland County (51075)","VA: Goochland County (51075)","51075","  Goochland  ",{"$f":"ROWS($L$2:L2857)","v":2856},{"$f":"IF(L2857=WORKSHEET!$B$1,I2857,\"\")","v":""},"","VIRGINIA","Goochland County",33,{"$f":"+R2857-N2857-P2857","v":9},22,"N/A",64,2.9657918208264081E-2,0.11728395061728394]
[873,73,5,"Carroll, VA - Grayson, VA","VA: Grayson County (51077)","VA: Grayson County (51077)","51077","  Grayson  ",{"$f":"ROWS($L$2:L2858)","v":2857},{"$f":"IF(L2858=WORKSHEET!$B$1,I2858,\"\")","v":""},"","VIRGINIA","Grayson County",12,"*","*","N/A",17,2.9657918208264081E-2,0.15068493150684931]
[99,null,5,"Albemarle, VA - Charlottesville City, VA","VA: Greene County (51079)","VA: Greene County (51079)","51079","  Greene  ",{"$f":"ROWS($L$2:L2859)","v":2858},{"$f":"IF(L2859=WORKSHEET!$B$1,I2859,\"\")","v":""},"","VIRGINIA","Greene County","*","*",11,"N/A",25,2.9657918208264081E-2,0.13076923076923078]
[130,null,5,"Brunswick, VA - Greensville, VA","VA: Greensville County (51081)","VA: Greensville County (51081)","51081","  Greensville  ",{"$f":"ROWS($L$2:L2860)","v":2859},{"$f":"IF(L2860=WORKSHEET!$B$1,I2860,\"\")","v":""},"","VIRGINIA","Greensville County",43,{"$f":"+R2860-N2860-P2860","v":4},17,"N/A",64,2.9657918208264081E-2,0.12195121951219512]
[71,null,5,"Halifax with South Boston City, VA - Mecklenburg, VA","VA: Halifax County with South Boston City (51083)","VA: Halifax County with South Boston City (51083)","51083","  Halifax  ",{"$f":"ROWS($L$2:L2861)","v":2860},{"$f":"IF(L2861=WORKSHEET!$B$1,I2861,\"\")","v":""},"","VIRGINIA","Halifax County with South Boston City",112,"*",37,"N/A",158,2.9657918208264081E-2,0.10833333333333334]
[5,null,5,"Newport News City, VA - Hampton City, VA","VA: Hampton City (51650)","VA: Hampton City (51650)","51650","  Hampton City  ",{"$f":"ROWS($L$2:L2862)","v":2861},{"$f":"IF(L2862=WORKSHEET!$B$1,I2862,\"\")","v":""},"","VIRGINIA","Hampton City",341,29,102,"*",473,2.9657918208264081E-2,7.7534791252485094E-2]
[33,null,5,"Henrico (Richmond), VA - Chesterfield, VA","VA: Hanover County (51085)","VA: Hanover County (51085)","51085","  Hanover  ",{"$f":"ROWS($L$2:L2863)","v":2862},{"$f":"IF(L2863=WORKSHEET!$B$1,I2863,\"\")","v":""},"","VIRGINIA","Hanover County",111,17,65,"N/A",193,2.9657918208264081E-2,0.11728395061728394]
[63,null,5,"Rockingham, VA - Harrisonburg City, VA","VA: Harrisonburg City (51660) - 1980+","VA: Harrisonburg City (51660) - 1980+","51660","  Harrisonburg City  ",{"$f":"ROWS($L$2:L2864)","v":2863},{"$f":"IF(L2864=WORKSHEET!$B$1,I2864,\"\")","v":""},"","VIRGINIA","Harrisonburg City",49,{"$f":"+R2864-N2864-P2864","v":8},20,"*",77,2.9657918208264081E-2,0.125]
[33,null,5,"Henrico (Richmond), VA - Chesterfield, VA","VA: Henrico County (51087)","VA: Henrico County (51087)","51087","  Henrico  ",{"$f":"ROWS($L$2:L2865)","v":2864},{"$f":"IF(L2865=WORKSHEET!$B$1,I2865,\"\")","v":""},"","VIRGINIA","Henrico County",366,36,175,"N/A",577,2.9657918208264081E-2,0.11728395061728394]
[79,null,5,"Henry, VA - Patrick, VA","VA: Henry County (51089) - 1980+","VA: Henry County (51089) - 1980+","51089","  Henry  ",{"$f":"ROWS($L$2:L2866)","v":2865},{"$f":"IF(L2866=WORKSHEET!$B$1,I2866,\"\")","v":""},"","VIRGINIA","Henry County",69,16,37,"N/A",122,2.9657918208264081E-2,0.15196078431372548]
[97,null,5,"Augusta, VA - Staunton City, VA","VA: Highland County (51091)","VA: Highland County (51091)","51091","  Highland  ",{"$f":"ROWS($L$2:L2867)","v":2866},{"$f":"IF(L2867=WORKSHEET!$B$1,I2867,\"\")","v":""},"","VIRGINIA","Highland County","*","*","*","N/A","*",2.9657918208264081E-2,6.8627450980392163E-2]
[77,null,5,"Petersburg City, VA - Prince George, VA","VA: Hopewell City (51670)","VA: Hopewell City (51670)","51670","  Hopewell City  ",{"$f":"ROWS($L$2:L2868)","v":2867},{"$f":"IF(L2868=WORKSHEET!$B$1,I2868,\"\")","v":""},"","VIRGINIA","Hopewell City",66,{"$f":"+R2868-N2868-P2868","v":6},15,"*",87,2.9657918208264081E-2,9.7447795823665889E-2]
[853,6,5,"Virginia Beach City, VA - Norfolk City, VA","VA: Isle of Wight County (51093)","VA: Isle of Wight County (51093)","51093","  Isle Of Wight  ",{"$f":"ROWS($L$2:L2869)","v":2868},{"$f":"IF(L2869=WORKSHEET!$B$1,I2869,\"\")","v":""},"","VIRGINIA","Isle of Wright County",56,{"$f":"+R2869-N2869-P2869","v":6},26,"N/A",88,2.9657918208264081E-2,9.2492741600995437E-2]
[5,null,5,"Newport News City, VA - Hampton City, VA","VA: James City County (51095) - 1982+","VA: James City County (51095) - 1982+","51095","  James City  ",{"$f":"ROWS($L$2:L2870)","v":2869},{"$f":"IF(L2870=WORKSHEET!$B$1,I2870,\"\")","v":""},"","VIRGINIA","James City County",64,{"$f":"+R2870-N2870-P2870","v":8},27,"N/A",99,2.9657918208264081E-2,7.7534791252485094E-2]
[33,null,5,"Henrico (Richmond), VA - Chesterfield, VA","VA: King and Queen County (51097)","VA: King and Queen County (51097)","51097","  King And Queen  ",{"$f":"ROWS($L$2:L2871)","v":2870},{"$f":"IF(L2871=WORKSHEET!$B$1,I2871,\"\")","v":""},"","VIRGINIA","King and Queen County",17,"N/A","*","N/A",22,2.9657918208264081E-2,0.11728395061728394]
[135,null,5,"Stafford, VA - Spotsylvania, VA","VA: King George County (51099)","VA: King George County (51099)","51099","  King George  ",{"$f":"ROWS($L$2:L2872)","v":2871},{"$f":"IF(L2872=WORKSHEET!$B$1,I2872,\"\")","v":""},"","VIRGINIA","King George County",41,{"$f":"+R2872-N2872-P2872","v":3},15,"N/A",59,2.9657918208264081E-2,0.10860655737704918]
[33,null,5,"Henrico (Richmond), VA - Chesterfield, VA","VA: King William County (51101)","VA: King William County (51101)","51101","  King William  ",{"$f":"ROWS($L$2:L2873)","v":2872},{"$f":"IF(L2873=WORKSHEET!$B$1,I2873,\"\")","v":""},"","VIRGINIA","King William County",27,{"$f":"+R2873-N2873-P2873","v":2},18,"N/A",47,2.9657918208264081E-2,0.11728395061728394]
[33,null,5,"Henrico (Richmond), VA - Chesterfield, VA","VA: Lancaster County (51103)","VA: Lancaster County (51103)","51103","  Lancaster  ",{"$f":"ROWS($L$2:L2874)","v":2873},{"$f":"IF(L2874=WORKSHEET!$B$1,I2874,\"\")","v":""},"","VIRGINIA","Lancaster County",17,{"$f":"+R2874-N2874-P2874","v":3},11,"N/A",31,2.9657918208264081E-2,0.11728395061728394]
[55,null,5,"Wise, VA - Lee, VA","VA: Lee County (51105)","VA: Lee County (51105)","51105","  Lee  ",{"$f":"ROWS($L$2:L2875)","v":2874},{"$f":"IF(L2875=WORKSHEET!$B$1,I2875,\"\")","v":""},"","VIRGINIA","Lee County",17,{"$f":"+R2875-N2875-P2875","v":2},12,"N/A",31,2.9657918208264081E-2,0.10227272727272728]
[97,null,5,"Augusta, VA - Staunton City, VA","VA: Lexington City (51678)","VA: Lexington City (51678)","51678","  Lexington City  ",{"$f":"ROWS($L$2:L2876)","v":2875},{"$f":"IF(L2876=WORKSHEET!$B$1,I2876,\"\")","v":""},"","VIRGINIA","Lexington City",26,"*","*","N/A",33,2.9657918208264081E-2,6.8627450980392163E-2]
[69,null,5,"Fairfax, VA - Arlington, VA","VA: Loudoun County (51107)","VA: Loudoun County (51107)","51107","  Loudoun  ",{"$f":"ROWS($L$2:L2877)","v":2876},{"$f":"IF(L2877=WORKSHEET!$B$1,I2877,\"\")","v":""},"","VIRGINIA","Loudoun County",177,31,164,"N/A",372,2.9657918208264081E-2,0.111875]
[99,null,5,"Albemarle, VA - Charlottesville City, VA","VA: Louisa County (51109)","VA: Louisa County (51109)","51109","  Louisa  ",{"$f":"ROWS($L$2:L2878)","v":2877},{"$f":"IF(L2878=WORKSHEET!$B$1,I2878,\"\")","v":""},"","VIRGINIA","Louisa County",51,{"$f":"+R2878-N2878-P2878","v":8},23,"N/A",82,2.9657918208264081E-2,0.13076923076923078]
[71,null,5,"Halifax with South Boston City, VA - Mecklenburg, VA","VA: Lunenburg County (51111)","VA: Lunenburg County (51111)","51111","  Lunenburg  ",{"$f":"ROWS($L$2:L2879)","v":2878},{"$f":"IF(L2879=WORKSHEET!$B$1,I2879,\"\")","v":""},"","VIRGINIA","Lunenburg County",22,"*","*","N/A",33,2.9657918208264081E-2,0.10833333333333334]
[14,null,5,"Roanoke City, VA - Roanoke, VA","VA: Lynchburg City (51680)","VA: Lynchburg City (51680)","51680","  Lynchburg City  ",{"$f":"ROWS($L$2:L2880)","v":2879},{"$f":"IF(L2880=WORKSHEET!$B$1,I2880,\"\")","v":""},"","VIRGINIA","Lynchburg City",205,{"$f":"+R2880-N2880-P2880","v":5},67,"*",277,2.9657918208264081E-2,5.9730250481695571E-2]
[99,null,5,"Albemarle, VA - Charlottesville City, VA","VA: Madison County (51113)","VA: Madison County (51113)","51113","  Madison  ",{"$f":"ROWS($L$2:L2881)","v":2880},{"$f":"IF(L2881=WORKSHEET!$B$1,I2881,\"\")","v":""},"","VIRGINIA","Madison County",14,"*","*","N/A",28,2.9657918208264081E-2,0.13076923076923078]
[109,null,5,"Prince William (Dale City), VA - Fauquier, VA","VA: Manassas City (51683) - 1982+","VA: Manassas City (51683) - 1982+","51683","  Manassas City  ",{"$f":"ROWS($L$2:L2882)","v":2881},{"$f":"IF(L2882=WORKSHEET!$B$1,I2882,\"\")","v":""},"","VIRGINIA","Manassas City",148,{"$f":"+R2882-N2882-P2882","v":8},65,"N/A",221,2.9657918208264081E-2,9.3314763231197778E-2]
[109,null,5,"Prince William (Dale City), VA - Fauquier, VA","VA: Manassas Park City (51685) - 1982+","VA: Manassas Park City (51685) - 1982+","51685",null,{"$f":"ROWS($L$2:L2883)","v":2882},{"$f":"IF(L2883=WORKSHEET!$B$1,I2883,\"\")","v":""},{"$f":"IFERROR(SMALL($J$2:$J$3142,I2883),\"\")","v":""},"VIRGINIA","Manassas Park City",null,null,null,null,null,2.9657918208264081E-2,9.3314763231197778E-2]
[79,null,5,"Henry, VA - Patrick, VA","VA: Martinsville City (51690) - 1980+","VA: Martinsville City (51690) - 1980+","51690","  Martinsville City  ",{"$f":"ROWS($L$2:L2884)","v":2883},{"$f":"IF(L2884=WORKSHEET!$B$1,I2884,\"\")","v":""},"","VIRGINIA","Martinsville City",83,12,18,"N/A",113,2.9657918208264081E-2,0.15196078431372548]
[5,null,5,"Newport News City, VA - Hampton City, VA","VA: Mathews County (51115)","VA: Mathews County (51115)","51115","  Mathews  ",{"$f":"ROWS($L$2:L2885)","v":2884},{"$f":"IF(L2885=WORKSHEET!$B$1,I2885,\"\")","v":""},"","VIRGINIA","Mathews County","*","*","*","N/A",14,2.9657918208264081E-2,7.7534791252485094E-2]
[71,null,5,"Halifax with South Boston City, VA - Mecklenburg, VA","VA: Mecklenburg County (51117)","VA: Mecklenburg County (51117)","51117","  Mecklenburg  ",{"$f":"ROWS($L$2:L2886)","v":2885},{"$f":"IF(L2886=WORKSHEET!$B$1,I2886,\"\")","v":""},"","VIRGINIA","Mecklenburg County",80,12,32,"*",125,2.9657918208264081E-2,0.10833333333333334]
[33,null,5,"Henrico (Richmond), VA - Chesterfield, VA","VA: Middlesex County (51119)","VA: Middlesex County (51119)","51119","  Middlesex  ",{"$f":"ROWS($L$2:L2887)","v":2886},{"$f":"IF(L2887=WORKSHEET!$B$1,I2887,\"\")","v":""},"","VIRGINIA","Middlesex County",27,{"$f":"+R2887-N2887-P2887","v":3},11,"N/A",41,2.9657918208264081E-2,0.11728395061728394]
[70,null,5,"Montgomery, VA - Pulaski, VA","VA: Montgomery County (51121)","VA: Montgomery County (51121)","51121","  Montgomery  ",{"$f":"ROWS($L$2:L2888)","v":2887},{"$f":"IF(L2888=WORKSHEET!$B$1,I2888,\"\")","v":""},"","VIRGINIA","Montgomery County",43,{"$f":"+R2888-N2888-P2888","v":6},37,"N/A",86,2.9657918208264081E-2,0.1641025641025641]
[99,null,5,"Albemarle, VA - Charlottesville City, VA","VA: Nelson County (51125)","VA: Nelson County (51125)","51125","  Nelson  ",{"$f":"ROWS($L$2:L2889)","v":2888},{"$f":"IF(L2889=WORKSHEET!$B$1,I2889,\"\")","v":""},"","VIRGINIA","Nelson County",28,{"$f":"+R2889-N2889-P2889","v":3},12,"N/A",43,2.9657918208264081E-2,0.13076923076923078]
[33,null,5,"Henrico (Richmond), VA - Chesterfield, VA","VA: New Kent County (51127)","VA: New Kent County (51127)","51127","  New Kent  ",{"$f":"ROWS($L$2:L2890)","v":2889},{"$f":"IF(L2890=WORKSHEET!$B$1,I2890,\"\")","v":""},"","VIRGINIA","New Kent County",24,{"$f":"+R2890-N2890-P2890","v":5},12,"N/A",41,2.9657918208264081E-2,0.11728395061728394]
[5,null,5,"Newport News City, VA - Hampton City, VA","VA: Newport News City (51700)","VA: Newport News City (51700)","51700","  Newport News City  ",{"$f":"ROWS($L$2:L2891)","v":2890},{"$f":"IF(L2891=WORKSHEET!$B$1,I2891,\"\")","v":""},"","VIRGINIA","Newport News City",391,28,125,"N/A",544,2.9657918208264081E-2,7.7534791252485094E-2]
[853,6,5,"Virginia Beach City, VA - Norfolk City, VA","VA: Norfolk City (51710)","VA: Norfolk City (51710)","51710","  Norfolk City  ",{"$f":"ROWS($L$2:L2892)","v":2891},{"$f":"IF(L2892=WORKSHEET!$B$1,I2892,\"\")","v":""},"","VIRGINIA","Norfolk City",579,35,160,"*",775,2.9657918208264081E-2,9.2492741600995437E-2]
[137,null,5,"Accomack, VA - Northampton, VA","VA: Northampton County (51131)","VA: Northampton County (51131)","51131","  Northampton  ",{"$f":"ROWS($L$2:L2893)","v":2892},{"$f":"IF(L2893=WORKSHEET!$B$1,I2893,\"\")","v":""},"","VIRGINIA","Northampton County",58,"N/A","*","N/A",66,2.9657918208264081E-2,2.9411764705882353E-2]
[33,null,5,"Henrico (Richmond), VA - Chesterfield, VA","VA: Northumberland County (51133)","VA: Northumberland County (51133)","51133","  Northumberlnd  ",{"$f":"ROWS($L$2:L2894)","v":2893},{"$f":"IF(L2894=WORKSHEET!$B$1,I2894,\"\")","v":""},"","VIRGINIA","Northumberland County",19,{"$f":"+R2894-N2894-P2894","v":5},13,"*",37,2.9657918208264081E-2,0.11728395061728394]
[55,null,5,"Wise, VA - Lee, VA","VA: Norton City (51720)","VA: Norton City (51720)","51720","  Norton City  ",{"$f":"ROWS($L$2:L2895)","v":2894},{"$f":"IF(L2895=WORKSHEET!$B$1,I2895,\"\")","v":""},"","VIRGINIA","Norton City","*","N/A","*","N/A",15,2.9657918208264081E-2,0.10227272727272728]
[33,null,5,"Henrico (Richmond), VA - Chesterfield, VA","VA: Nottoway County (51135)","VA: Nottoway County (51135)","51135","  Nottoway  ",{"$f":"ROWS($L$2:L2896)","v":2895},{"$f":"IF(L2896=WORKSHEET!$B$1,I2896,\"\")","v":""},"","VIRGINIA","Nottoway County",34,"*","*","N/A",50,2.9657918208264081E-2,0.11728395061728394]
[99,null,5,"Albemarle, VA - Charlottesville City, VA","VA: Orange County (51137)","VA: Orange County (51137)","51137","  Orange  ",{"$f":"ROWS($L$2:L2897)","v":2896},{"$f":"IF(L2897=WORKSHEET!$B$1,I2897,\"\")","v":""},"","VIRGINIA","Orange County",63,{"$f":"+R2897-N2897-P2897","v":9},31,"N/A",103,2.9657918208264081E-2,0.13076923076923078]
[63,null,5,"Rockingham, VA - Harrisonburg City, VA","VA: Page County (51139)","VA: Page County (51139)","51139","  Page  ",{"$f":"ROWS($L$2:L2898)","v":2897},{"$f":"IF(L2898=WORKSHEET!$B$1,I2898,\"\")","v":""},"","VIRGINIA","Page County",29,{"$f":"+R2898-N2898-P2898","v":2},13,"N/A",44,2.9657918208264081E-2,0.125]
[79,null,5,"Henry, VA - Patrick, VA","VA: Patrick County (51141)","VA: Patrick County (51141)","51141","  Patrick  ",{"$f":"ROWS($L$2:L2899)","v":2898},{"$f":"IF(L2899=WORKSHEET!$B$1,I2899,\"\")","v":""},"","VIRGINIA","Patrick County",21,{"$f":"+R2899-N2899-P2899","v":3},12,"N/A",36,2.9657918208264081E-2,0.15196078431372548]
[77,null,5,"Petersburg City, VA - Prince George, VA","VA: Petersburg City (51730)","VA: Petersburg City (51730)","51730","  Petersburg City  ",{"$f":"ROWS($L$2:L2900)","v":2899},{"$f":"IF(L2900=WORKSHEET!$B$1,I2900,\"\")","v":""},"","VIRGINIA","Petersburg City",186,18,43,"*",249,2.9657918208264081E-2,9.7447795823665889E-2]
[883,132,5,"Pittsylvania (Danville), VA - Danville City, VA","VA: Pittsylvania County (51143)","VA: Pittsylvania County (51143)","51143","  Pittsylvania  ",{"$f":"ROWS($L$2:L2901)","v":2900},{"$f":"IF(L2901=WORKSHEET!$B$1,I2901,\"\")","v":""},"","VIRGINIA","Pittsylvania County",118,{"$f":"+R2901-N2901-P2901","v":9},27,"N/A",154,2.9657918208264081E-2,6.8126520681265207E-2]
[5,null,5,"Newport News City, VA - Hampton City, VA","VA: Poquoson City (51735) - 1982+","VA: Poquoson City (51735) - 1982+","51735","  Poquoson  ",{"$f":"ROWS($L$2:L2902)","v":2901},{"$f":"IF(L2902=WORKSHEET!$B$1,I2902,\"\")","v":""},"","VIRGINIA","Poquoson City","*","N/A","*","N/A","*",2.9657918208264081E-2,7.7534791252485094E-2]
[853,6,5,"Virginia Beach City, VA - Norfolk City, VA","VA: Portsmouth City (51740)","VA: Portsmouth City (51740)","51740","  Portsmouth City  ",{"$f":"ROWS($L$2:L2903)","v":2902},{"$f":"IF(L2903=WORKSHEET!$B$1,I2903,\"\")","v":""},"","VIRGINIA","Portsmouth City",358,24,89,"*",472,2.9657918208264081E-2,9.2492741600995437E-2]
[33,null,5,"Henrico (Richmond), VA - Chesterfield, VA","VA: Powhatan County (51145)","VA: Powhatan County (51145)","51145","  Powhatan  ",{"$f":"ROWS($L$2:L2904)","v":2903},{"$f":"IF(L2904=WORKSHEET!$B$1,I2904,\"\")","v":""},"","VIRGINIA","Powhatan County",26,{"$f":"+R2904-N2904-P2904","v":4},15,"N/A",45,2.9657918208264081E-2,0.11728395061728394]
[33,null,5,"Henrico (Richmond), VA - Chesterfield, VA","VA: Prince Edward County (51147)","VA: Prince Edward County (51147)","51147","  Prince Edward  ",{"$f":"ROWS($L$2:L2905)","v":2904},{"$f":"IF(L2905=WORKSHEET!$B$1,I2905,\"\")","v":""},"","VIRGINIA","Prince Edward County",64,{"$f":"+R2905-N2905-P2905","v":1},17,"N/A",82,2.9657918208264081E-2,0.11728395061728394]
[77,null,5,"Petersburg City, VA - Prince George, VA","VA: Prince George County (51149)","VA: Prince George County (51149)","51149","  Prince George  ",{"$f":"ROWS($L$2:L2906)","v":2905},{"$f":"IF(L2906=WORKSHEET!$B$1,I2906,\"\")","v":""},"","VIRGINIA","Prince George County",32,{"$f":"+R2906-N2906-P2906","v":3},20,"N/A",55,2.9657918208264081E-2,9.7447795823665889E-2]
[109,null,5,"Prince William (Dale City), VA - Fauquier, VA","VA: Prince William County (51153) - 1982+","VA: Prince William County (51153) - 1982+","51153","  Prince William  ",{"$f":"ROWS($L$2:L2907)","v":2906},{"$f":"IF(L2907=WORKSHEET!$B$1,I2907,\"\")","v":""},"","VIRGINIA","Prince William County",410,52,247,"*",710,2.9657918208264081E-2,9.3314763231197778E-2]
[70,null,5,"Montgomery, VA - Pulaski, VA","VA: Pulaski County (51155)","VA: Pulaski County (51155)","51155","  Pulaski  ",{"$f":"ROWS($L$2:L2908)","v":2907},{"$f":"IF(L2908=WORKSHEET!$B$1,I2908,\"\")","v":""},"","VIRGINIA","Pulaski County",33,11,24,"N/A",68,2.9657918208264081E-2,0.1641025641025641]
[70,null,5,"Montgomery, VA - Pulaski, VA","VA: Radford City (51750)","VA: Radford City (51750)","51750","  Radford City  ",{"$f":"ROWS($L$2:L2909)","v":2908},{"$f":"IF(L2909=WORKSHEET!$B$1,I2909,\"\")","v":""},"","VIRGINIA","Radford City",18,"*","*","N/A",33,2.9657918208264081E-2,0.1641025641025641]
[99,null,5,"Albemarle, VA - Charlottesville City, VA","VA: Rappahannock County (51157)","VA: Rappahannock County (51157)","51157","  Rappahannock  ",{"$f":"ROWS($L$2:L2910)","v":2909},{"$f":"IF(L2910=WORKSHEET!$B$1,I2910,\"\")","v":""},"","VIRGINIA","Rappahannock County","*","N/A","*","N/A",11,2.9657918208264081E-2,0.13076923076923078]
[33,null,5,"Henrico (Richmond), VA - Chesterfield, VA","VA: Richmond City (51760)","VA: Richmond City (51760)","51760","  Richmond  ",{"$f":"ROWS($L$2:L2911)","v":2910},{"$f":"IF(L2911=WORKSHEET!$B$1,I2911,\"\")","v":""},"","VIRGINIA","Richmond City",21,"*","*","N/A",32,2.9657918208264081E-2,0.11728395061728394]
[33,null,5,"Henrico (Richmond), VA - Chesterfield, VA","VA: Richmond County (51159)","VA: Richmond County (51159)","51159","  Richmond City  ",{"$f":"ROWS($L$2:L2912)","v":2911},{"$f":"IF(L2912=WORKSHEET!$B$1,I2912,\"\")","v":""},"","VIRGINIA","Richmond County",759,83,267,"*",1112,2.9657918208264081E-2,0.11728395061728394]
[14,null,5,"Roanoke City, VA - Roanoke, VA","VA: Roanoke City (51770)","VA: Roanoke City (51770)","51770","  Roanoke City  ",{"$f":"ROWS($L$2:L2913)","v":2912},{"$f":"IF(L2913=WORKSHEET!$B$1,I2913,\"\")","v":""},"","VIRGINIA","Roanoke City",258,19,96,"N/A",373,2.9657918208264081E-2,5.9730250481695571E-2]
[14,null,5,"Roanoke City, VA - Roanoke, VA","VA: Roanoke County (51161)","VA: Roanoke County (51161)","51161","  Roanoke  ",{"$f":"ROWS($L$2:L2914)","v":2913},{"$f":"IF(L2914=WORKSHEET!$B$1,I2914,\"\")","v":""},"","VIRGINIA","Roanoke County",67,{"$f":"+R2914-N2914-P2914","v":8},35,"N/A",110,2.9657918208264081E-2,5.9730250481695571E-2]
[97,null,5,"Augusta, VA - Staunton City, VA","VA: Rockbridge County (51163)","VA: Rockbridge County (51163)","51163","  Rockbridge  ",{"$f":"ROWS($L$2:L2915)","v":2914},{"$f":"IF(L2915=WORKSHEET!$B$1,I2915,\"\")","v":""},"","VIRGINIA","Rockbridge County","*","*","*","*",17,2.9657918208264081E-2,6.8627450980392163E-2]
[63,null,5,"Rockingham, VA - Harrisonburg City, VA","VA: Rockingham County (51165) - 1980+","VA: Rockingham County (51165) - 1980+","51165","  Rockingham  ",{"$f":"ROWS($L$2:L2916)","v":2915},{"$f":"IF(L2916=WORKSHEET!$B$1,I2916,\"\")","v":""},"","VIRGINIA","Rockingham County",45,{"$f":"+R2916-N2916-P2916","v":9},30,"*",84,2.9657918208264081E-2,0.125]
[888,151,5,"Washington, VA - Smyth, VA","VA: Russell County (51167)","VA: Russell County (51167)","51167","Russell  ",{"$f":"ROWS($L$2:L2917)","v":2916},{"$f":"IF(L2917=WORKSHEET!$B$1,I2917,\"\")","v":""},"","VIRGINIA","Russell County",14,"*",17,"N/A",32,2.9657918208264081E-2,0.13227513227513227]
[14,null,5,"Roanoke City, VA - Roanoke, VA","VA: Salem City (51775)","VA: Salem City (51775)","51775","  Salem City  ",{"$f":"ROWS($L$2:L2918)","v":2917},{"$f":"IF(L2918=WORKSHEET!$B$1,I2918,\"\")","v":""},"","VIRGINIA","Salem City",48,{"$f":"+R2918-N2918-P2918","v":4},17,"*",69,2.9657918208264081E-2,5.9730250481695571E-2]
[888,151,5,"Washington, VA - Smyth, VA","VA: Scott County (51169)","VA: Scott County (51169)","51169","  Scott  ",{"$f":"ROWS($L$2:L2919)","v":2918},{"$f":"IF(L2919=WORKSHEET!$B$1,I2919,\"\")","v":""},"","VIRGINIA","Scott County",17,{"$f":"+R2919-N2919-P2919","v":4},11,"N/A",32,2.9657918208264081E-2,0.13227513227513227]
[25,null,5,"Frederick, VA - Shenandoah, VA","VA: Shenandoah County (51171)","VA: Shenandoah County (51171)","51171","  Shenandoah  ",{"$f":"ROWS($L$2:L2920)","v":2919},{"$f":"IF(L2920=WORKSHEET!$B$1,I2920,\"\")","v":""},"","VIRGINIA","Shenandoah County",33,{"$f":"+R2920-N2920-P2920","v":8},30,"N/A",71,2.9657918208264081E-2,0.15461847389558234]
[888,151,5,"Washington, VA - Smyth, VA","VA: Smyth County (51173)","VA: Smyth County (51173)","51173","  Smyth  ",{"$f":"ROWS($L$2:L2921)","v":2920},{"$f":"IF(L2921=WORKSHEET!$B$1,I2921,\"\")","v":""},"","VIRGINIA","Smyth County",32,{"$f":"+R2921-N2921-P2921","v":3},27,"N/A",62,2.9657918208264081E-2,0.13227513227513227]
[853,6,5,"Virginia Beach City, VA - Norfolk City, VA","VA: Southampton County (51175)","VA: Southampton County (51175)","51175","  Southampton  ",{"$f":"ROWS($L$2:L2922)","v":2921},{"$f":"IF(L2922=WORKSHEET!$B$1,I2922,\"\")","v":""},"","VIRGINIA","Southampton County",29,{"$f":"+R2922-N2922-P2922","v":2},16,"N/A",47,2.9657918208264081E-2,9.2492741600995437E-2]
[135,null,5,"Stafford, VA - Spotsylvania, VA","VA: Spotsylvania County (51177) - 1980+","VA: Spotsylvania County (51177) - 1980+","51177","Spotsylvania",{"$f":"ROWS($L$2:L2923)","v":2922},{"$f":"IF(L2923=WORKSHEET!$B$1,I2923,\"\")","v":""},"","VIRGINIA","Spotsylvania County",140,13,61,"*",215,2.9657918208264081E-2,0.10860655737704918]
[135,null,5,"Stafford, VA - Spotsylvania, VA","VA: Stafford County (51179) - 1980+","VA: Stafford County (51179) - 1980+","51179","  Stafford  ",{"$f":"ROWS($L$2:L2924)","v":2923},{"$f":"IF(L2924=WORKSHEET!$B$1,I2924,\"\")","v":""},"","VIRGINIA","Stafford County",138,29,91,"*",261,2.9657918208264081E-2,0.10860655737704918]
[97,null,5,"Augusta, VA - Staunton City, VA","VA: Staunton City (51790)","VA: Staunton City (51790)","51790","  Staunton City  ",{"$f":"ROWS($L$2:L2925)","v":2924},{"$f":"IF(L2925=WORKSHEET!$B$1,I2925,\"\")","v":""},"","VIRGINIA","Staunton City",50,{"$f":"+R2925-N2925-P2925","v":3},26,"N/A",79,2.9657918208264081E-2,6.8627450980392163E-2]
[853,6,5,"Virginia Beach City, VA - Norfolk City, VA","VA: Suffolk City (51800)","VA: Suffolk City (51800)","51800","  Suffolk City  ",{"$f":"ROWS($L$2:L2926)","v":2925},{"$f":"IF(L2926=WORKSHEET!$B$1,I2926,\"\")","v":""},"","VIRGINIA","Suffolk City",161,17,53,"N/A",231,2.9657918208264081E-2,9.2492741600995437E-2]
[77,null,5,"Petersburg City, VA - Prince George, VA","VA: Surry County (51181)","VA: Surry County (51181)","51181","  Surry  ",{"$f":"ROWS($L$2:L2927)","v":2926},{"$f":"IF(L2927=WORKSHEET!$B$1,I2927,\"\")","v":""},"","VIRGINIA","Surry County",19,"*","*","N/A",23,2.9657918208264081E-2,9.7447795823665889E-2]
[77,null,5,"Petersburg City, VA - Prince George, VA","VA: Sussex County (51183)","VA: Sussex County (51183)","51183","  Sussex  ",{"$f":"ROWS($L$2:L2928)","v":2927},{"$f":"IF(L2928=WORKSHEET!$B$1,I2928,\"\")","v":""},"","VIRGINIA","Sussex County",48,"*","*","*",64,2.9657918208264081E-2,9.7447795823665889E-2]
[39,null,5,"Tazewell, VA - Buchanan, VA","VA: Tazewell County (51185)","VA: Tazewell County (51185)","51185","  Tazewell  ",{"$f":"ROWS($L$2:L2929)","v":2928},{"$f":"IF(L2929=WORKSHEET!$B$1,I2929,\"\")","v":""},"","VIRGINIA","Tazewell County",60,{"$f":"+R2929-N2929-P2929","v":6},35,"*",101,2.9657918208264081E-2,7.2649572649572655E-2]
[853,6,5,"Virginia Beach City, VA - Norfolk City, VA","VA: Virginia Beach City (51810)","VA: Virginia Beach City (51810)","51810","  Virginia Beach City  ",{"$f":"ROWS($L$2:L2930)","v":2929},{"$f":"IF(L2930=WORKSHEET!$B$1,I2930,\"\")","v":""},"","VIRGINIA","Virginia Beach City",546,77,277,"N/A",900,2.9657918208264081E-2,9.2492741600995437E-2]
[25,null,5,"Frederick, VA - Shenandoah, VA","VA: Warren County (51187)","VA: Warren County (51187)","51187","  Warren  ",{"$f":"ROWS($L$2:L2931)","v":2930},{"$f":"IF(L2931=WORKSHEET!$B$1,I2931,\"\")","v":""},"","VIRGINIA","Warren County",38,11,24,"N/A",73,2.9657918208264081E-2,0.15461847389558234]
[888,151,5,"Washington, VA - Smyth, VA","VA: Washington County (51191)","VA: Washington County (51191)","51191","  Washington  ",{"$f":"ROWS($L$2:L2932)","v":2931},{"$f":"IF(L2932=WORKSHEET!$B$1,I2932,\"\")","v":""},"","VIRGINIA","Washington County",60,{"$f":"+R2932-N2932-P2932","v":7},23,"*",90,2.9657918208264081E-2,0.13227513227513227]
[97,null,5,"Augusta, VA - Staunton City, VA","VA: Waynesboro City (51820)","VA: Waynesboro City (51820)","51820","  Waynesboro City  ",{"$f":"ROWS($L$2:L2933)","v":2932},{"$f":"IF(L2933=WORKSHEET!$B$1,I2933,\"\")","v":""},"","VIRGINIA","Waynesboro City",46,{"$f":"+R2933-N2933-P2933","v":2},20,"N/A",68,2.9657918208264081E-2,6.8627450980392163E-2]
[33,null,5,"Henrico (Richmond), VA - Chesterfield, VA","VA: Westmoreland County (51193)","VA: Westmoreland County (51193)","51193","  Westmoreland  ",{"$f":"ROWS($L$2:L2934)","v":2933},{"$f":"IF(L2934=WORKSHEET!$B$1,I2934,\"\")","v":""},"","VIRGINIA","Westmoreland County",27,{"$f":"+R2934-N2934-P2934","v":2},12,"N/A",41,2.9657918208264081E-2,0.11728395061728394]
[5,null,5,"Newport News City, VA - Hampton City, VA","VA: Williamsburg City (51830) - 1982+","VA: Williamsburg City (51830) - 1982+","51830","  Williamsburg City  ",{"$f":"ROWS($L$2:L2935)","v":2934},{"$f":"IF(L2935=WORKSHEET!$B$1,I2935,\"\")","v":""},"","VIRGINIA","Williamsburg City",20,"*","*","N/A",26,2.9657918208264081E-2,7.7534791252485094E-2]
[25,null,5,"Frederick, VA - Shenandoah, VA","VA: Winchester City (51840)","VA: Winchester City (51840)","51840","  Winchester City  ",{"$f":"ROWS($L$2:L2936)","v":2935},{"$f":"IF(L2936=WORKSHEET!$B$1,I2936,\"\")","v":""},"","VIRGINIA","Winchester City",58,{"$f":"+R2936-N2936-P2936","v":9},17,"N/A",84,2.9657918208264081E-2,0.15461847389558234]
[55,null,5,"Wise, VA - Lee, VA","VA: Wise County (51195)","VA: Wise County (51195)","51195","  Wise  ",{"$f":"ROWS($L$2:L2937)","v":2936},{"$f":"IF(L2937=WORKSHEET!$B$1,I2937,\"\")","v":""},"","VIRGINIA","Wise County",38,5,18,"N/A",61,2.9657918208264081E-2,0.10227272727272728]
[70,null,5,"Montgomery, VA - Pulaski, VA","VA: Wythe County (51197)","VA: Wythe County (51197)","51197","  Wythe  ",{"$f":"ROWS($L$2:L2938)","v":2937},{"$f":"IF(L2938=WORKSHEET!$B$1,I2938,\"\")","v":""},"","VIRGINIA","Wythe County",42,5,20,"N/A",67,2.9657918208264081E-2,0.1641025641025641]
[5,null,5,"Newport News City, VA - Hampton City, VA","VA: York County (51199) - 1982+","VA: York County (51199) - 1982+","51199","  York  ",{"$f":"ROWS($L$2:L2939)","v":2938},{"$f":"IF(L2939=WORKSHEET!$B$1,I2939,\"\")","v":""},"","VIRGINIA","York County",61,7,41,"N/A",109,2.9657918208264081E-2,7.7534791252485094E-2]
[49,null,1,"Chittenden (Burlington), VT - Franklin, VT","VT: Addison County (50001)","VT: Addison County (50001)","50001","Addison  ",{"$f":"ROWS($L$2:L2940)","v":2939},{"$f":"IF(L2940=WORKSHEET!$B$1,I2940,\"\")","v":""},"","VERMONT","Addison County",16,1,29,"N/A",46,2.1156934020173799E-2,4.3795620437956206E-2]
[854,10,1,"Bennington, VT","VT: Bennington County (50003)","VT: Bennington County (50003)","50003","  Bennington  ",{"$f":"ROWS($L$2:L2941)","v":2940},{"$f":"IF(L2941=WORKSHEET!$B$1,I2941,\"\")","v":""},"","VERMONT","Bennington County",28,1,21,"N/A",50,2.1156934020173799E-2,6.9930069930069935E-2]
[103,null,1,"Caledonia, VT - Orleans, VT","VT: Caledonia County (50005)","VT: Caledonia County (50005)","50005","  Caledonia  ",{"$f":"ROWS($L$2:L2942)","v":2941},{"$f":"IF(L2942=WORKSHEET!$B$1,I2942,\"\")","v":""},"","VERMONT","Caledonia County",23,1,19,"N/A",43,2.1156934020173799E-2,0.16417910447761194]
[49,null,1,"Chittenden (Burlington), VT - Franklin, VT","VT: Chittenden County (50007)","VT: Chittenden County (50007)","50007","  Chittenden  ",{"$f":"ROWS($L$2:L2943)","v":2942},{"$f":"IF(L2943=WORKSHEET!$B$1,I2943,\"\")","v":""},"","VERMONT","Chittenden County",70,5,105,"N/A",180,2.1156934020173799E-2,4.3795620437956206E-2]
[884,138,1,"Essex, VT","VT: Essex County (50009)","VT: Essex County (50009)","50009","  Essex  ",{"$f":"ROWS($L$2:L2944)","v":2943},{"$f":"IF(L2944=WORKSHEET!$B$1,I2944,\"\")","v":""},"","VERMONT","Essex County","*","*","*","N/A","*",2.1156934020173799E-2,0.10344827586206896]
[49,null,1,"Chittenden (Burlington), VT - Franklin, VT","VT: Franklin County (50011)","VT: Franklin County (50011)","50011","  Franklin  ",{"$f":"ROWS($L$2:L2945)","v":2944},{"$f":"IF(L2945=WORKSHEET!$B$1,I2945,\"\")","v":""},"","VERMONT","Franklin County",41,{"$f":"+R2945-N2945-P2945","v":0},28,"N/A",69,2.1156934020173799E-2,4.3795620437956206E-2]
[49,null,1,"Chittenden (Burlington), VT - Franklin, VT","VT: Grand Isle County (50013)","VT: Grand Isle County (50013)","50013","  Grand Isle  ",{"$f":"ROWS($L$2:L2946)","v":2945},{"$f":"IF(L2946=WORKSHEET!$B$1,I2946,\"\")","v":""},"","VERMONT","Grand Isle County","*","N/A","*","N/A","*",2.1156934020173799E-2,4.3795620437956199E-2]
[103,null,1,"Caledonia, VT - Orleans, VT","VT: Lamoille County (50015)","VT: Lamoille County (50015)","50015","  Lamoille  ",{"$f":"ROWS($L$2:L2947)","v":2946},{"$f":"IF(L2947=WORKSHEET!$B$1,I2947,\"\")","v":""},{"$f":"IFERROR(SMALL($J$2:$J$3142,I2947),\"\")","v":""},"VERMONT","Lamoille County",12,{"$f":"+R2947-N2947-P2947","v":5},23,"*",40,2.1156934020173799E-2,0.16417910447761194]
[857,15,1,"Washington, VT - Windsor, VT","VT: Orange County (50017)","VT: Orange County (50017)","50017","Orange  ",{"$f":"ROWS($L$2:L2948)","v":2947},{"$f":"IF(L2948=WORKSHEET!$B$1,I2948,\"\")","v":""},"","VERMONT","Orange County",20,"*",24,"N/A",45,2.1156934020173799E-2,6.3953488372093026E-2]
[103,null,1,"Caledonia, VT - Orleans, VT","VT: Orleans County (50019)","VT: Orleans County (50019)","50019","  Orleans  ",{"$f":"ROWS($L$2:L2949)","v":2948},{"$f":"IF(L2949=WORKSHEET!$B$1,I2949,\"\")","v":""},"","VERMONT","Orleans County",21,6,20,"N/A",47,2.1156934020173799E-2,0.16417910447761194]
[122,null,1,"Rutland, VT","VT: Rutland County (50021)","VT: Rutland County (50021)","50021","  Rutland  ",{"$f":"ROWS($L$2:L2950)","v":2949},{"$f":"IF(L2950=WORKSHEET!$B$1,I2950,\"\")","v":""},"","VERMONT","Rutland County",47,0,49,"N/A",96,2.1156934020173799E-2,0]
[857,15,1,"Washington, VT - Windsor, VT","VT: Washington County (50023)","VT: Washington County (50023)","50023","  Washington  ",{"$f":"ROWS($L$2:L2951)","v":2950},{"$f":"IF(L2951=WORKSHEET!$B$1,I2951,\"\")","v":""},"","VERMONT","Washington County",32,8,33,"N/A",73,2.1156934020173799E-2,6.3953488372093026E-2]
[877,90,1,"Windham, VT","VT: Windham County (50025)","VT: Windham County (50025)","50025","  Windham  ",{"$f":"ROWS($L$2:L2952)","v":2951},{"$f":"IF(L2952=WORKSHEET!$B$1,I2952,\"\")","v":""},"","VERMONT","Windham County",17,1,20,"N/A",38,2.1156934020173799E-2,0.11428571428571428]
[857,15,1,"Washington, VT - Windsor, VT","VT: Windsor County (50027)","VT: Windsor County (50027)","50027","  Windsor  ",{"$f":"ROWS($L$2:L2953)","v":2952},{"$f":"IF(L2953=WORKSHEET!$B$1,I2953,\"\")","v":""},"","VERMONT","Windsor County",35,0,43,"N/A",78,2.1156934020173799E-2,6.3953488372092998E-2]
[698,null,16,"Spokane (Spokane), WA - Stevens, WA","WA: Adams County (53001)","WA: Adams County (53001)","53001","Adams  ",{"$f":"ROWS($L$2:L2954)","v":2953},{"$f":"IF(L2954=WORKSHEET!$B$1,I2954,\"\")","v":""},"","WASHINGTON","Adams County",16,"*","*","N/A",22,3.5616674152133203E-2,0.10372771474878444]
[961,694,16,"Asotin, WA - Garfield, WA","WA: Asotin County (53003)","WA: Asotin County (53003)","53003","  Asotin  ",{"$f":"ROWS($L$2:L2955)","v":2954},{"$f":"IF(L2955=WORKSHEET!$B$1,I2955,\"\")","v":""},"","WASHINGTON","Asotin County",26,{"$f":"+R2955-N2955-P2955","v":0},13,"N/A",39,3.5616674152133203E-2,0.13333333333333333]
[702,null,16,"Benton (Kennewick), WA - Franklin, WA","WA: Benton County (53005)","WA: Benton County (53005)","53005","  Benton  ",{"$f":"ROWS($L$2:L2956)","v":2955},{"$f":"IF(L2956=WORKSHEET!$B$1,I2956,\"\")","v":""},"","WASHINGTON","Benton County",162,{"$f":"+R2956-N2956-P2956","v":18},115,"N/A",295,3.5616674152133203E-2,9.9644128113879002E-2]
[747,null,16,"Grant, WA - Chelan, WA","WA: Chelan County (53007)","WA: Chelan County (53007)","53007","  Chelan  ",{"$f":"ROWS($L$2:L2957)","v":2956},{"$f":"IF(L2957=WORKSHEET!$B$1,I2957,\"\")","v":""},"","WASHINGTON","Chelan County",36,{"$f":"+R2957-N2957-P2957","v":8},48,"N/A",92,3.5616674152133203E-2,0.12028869286287089]
[785,null,16,"Clallam, WA - Jefferson, WA","WA: Clallam County (53009)","WA: Clallam County (53009)","53009","  Clallam  ",{"$f":"ROWS($L$2:L2958)","v":2957},{"$f":"IF(L2958=WORKSHEET!$B$1,I2958,\"\")","v":""},"","WASHINGTON","Clallam County",47,{"$f":"+R2958-N2958-P2958","v":13},49,"N/A",109,3.5616674152133203E-2,0.22784810126582278]
[960,689,16,"Clark, WA - Cowlitz, WA","WA: Clark County (53011)","WA: Clark County (53011)","53011","  Clark  ",{"$f":"ROWS($L$2:L2959)","v":2958},{"$f":"IF(L2959=WORKSHEET!$B$1,I2959,\"\")","v":""},"","WASHINGTON","Clark County",409,{"$f":"+R2959-N2959-P2959","v":49},257,"*",715,3.5616674152133203E-2,0.10108303249097472]
[967,717,16,"Walla Walla, WA - Columbia, WA","WA: Columbia County (53013)","WA: Columbia County (53013)","53013","  Columbia  ",{"$f":"ROWS($L$2:L2960)","v":2959},{"$f":"IF(L2960=WORKSHEET!$B$1,I2960,\"\")","v":""},"","WASHINGTON","Columbia County","*","*","*","*","*",3.5616674152133203E-2,0.22754491017964071]
[960,689,16,"Clark, WA - Cowlitz, WA","WA: Cowlitz County (53015)","WA: Cowlitz County (53015)","53015","  Cowlitz  ",{"$f":"ROWS($L$2:L2961)","v":2960},{"$f":"IF(L2961=WORKSHEET!$B$1,I2961,\"\")","v":""},"","WASHINGTON","Cowlitz County",97,24,45,"N/A",166,3.5616674152133203E-2,0.10108303249097472]
[747,null,16,"Grant, WA - Chelan, WA","WA: Douglas County (53017)","WA: Douglas County (53017)","53017","  Douglas  ",{"$f":"ROWS($L$2:L2962)","v":2961},{"$f":"IF(L2962=WORKSHEET!$B$1,I2962,\"\")","v":""},"","WASHINGTON","Douglas County",42,{"$f":"+R2962-N2962-P2962","v":9},25,"N/A",76,3.5616674152133203E-2,0.11155378486055777]
[698,null,16,"Spokane (Spokane), WA - Stevens, WA","WA: Ferry County (53019)","WA: Ferry County (53019)","53019","  Ferry  ",{"$f":"ROWS($L$2:L2963)","v":2962},{"$f":"IF(L2963=WORKSHEET!$B$1,I2963,\"\")","v":""},"","WASHINGTON","Ferry County","*","*","*","N/A","*",3.5616674152133203E-2,0.10372771474878444]
[702,null,16,"Benton (Kennewick), WA - Franklin, WA","WA: Franklin County (53021)","WA: Franklin County (53021)","53021","  Franklin  ",{"$f":"ROWS($L$2:L2964)","v":2963},{"$f":"IF(L2964=WORKSHEET!$B$1,I2964,\"\")","v":""},"","WASHINGTON","Franklin County",91,{"$f":"+R2964-N2964-P2964","v":11},38,"*",140,3.5616674152133203E-2,9.9644128113879002E-2]
[961,694,16,"Asotin, WA - Garfield, WA","WA: Garfield County (53023)","WA: Garfield County (53023)","53023","  Garfield  ",{"$f":"ROWS($L$2:L2965)","v":2964},{"$f":"IF(L2965=WORKSHEET!$B$1,I2965,\"\")","v":""},"","WASHINGTON","Garfield County","*","N/A","*","N/A","*",3.5616674152133203E-2,0.13333333333333333]
[747,null,16,"Grant, WA - Chelan, WA","WA: Grant County (53025)","WA: Grant County (53025)","53025","  Grant  ",{"$f":"ROWS($L$2:L2966)","v":2965},{"$f":"IF(L2966=WORKSHEET!$B$1,I2966,\"\")","v":""},"","WASHINGTON","Grant County",102,{"$f":"+R2966-N2966-P2966","v":10},44,"*",156,3.5616674152133203E-2,0.11155378486055777]
[758,null,16,"Thurston (Olympia), WA - Grays Harbor, WA","WA: Grays Harbor County (53027)","WA: Grays Harbor County (53027)","53027","  Grays Harbor  ",{"$f":"ROWS($L$2:L2967)","v":2966},{"$f":"IF(L2967=WORKSHEET!$B$1,I2967,\"\")","v":""},"","WASHINGTON","Grays Harbor County",85,{"$f":"+R2967-N2967-P2967","v":12},53,"*",150,3.5616674152133203E-2,0.10792951541850221]
[736,null,16,"King (Seattle), WA - Snohomish, WA","WA: Island County (53029)","WA: Island County (53029)","53029","  Island  ",{"$f":"ROWS($L$2:L2968)","v":2967},{"$f":"IF(L2968=WORKSHEET!$B$1,I2968,\"\")","v":""},"","WASHINGTON","Island County",57,18,46,"*",122,3.5616674152133203E-2,0.1407907425265188]
[785,null,16,"Clallam, WA - Jefferson, WA","WA: Jefferson County (53031)","WA: Jefferson County (53031)","53031","  Jefferson  ",{"$f":"ROWS($L$2:L2969)","v":2968},{"$f":"IF(L2969=WORKSHEET!$B$1,I2969,\"\")","v":""},"","WASHINGTON","Jefferson County",14,{"$f":"+R2969-N2969-P2969","v":5},16,"N/A",35,3.5616674152133203E-2,0.22784810126582278]
[736,null,16,"King (Seattle), WA - Snohomish, WA","WA: King County (53033)","WA: King County (53033)","53033","  King  ",{"$f":"ROWS($L$2:L2970)","v":2969},{"$f":"IF(L2970=WORKSHEET!$B$1,I2970,\"\")","v":""},"","WASHINGTON","King County",1698,264,1368,"*",3337,3.5616674152133203E-2,0.1407907425265188]
[736,null,16,"King (Seattle), WA - Snohomish, WA","WA: Kitsap County (53035)","WA: Kitsap County (53035)","53035","  Kitsap  ",{"$f":"ROWS($L$2:L2971)","v":2970},{"$f":"IF(L2971=WORKSHEET!$B$1,I2971,\"\")","v":""},"","WASHINGTON","Kitsap County",202,31,128,"*",362,3.5616674152133203E-2,0.1407907425265188]
[739,null,16,"Yakima (Yakima), WA - Kittitas, WA","WA: Kittitas County (53037)","WA: Kittitas County (53037)","53037","  Kittitas  ",{"$f":"ROWS($L$2:L2972)","v":2971},{"$f":"IF(L2972=WORKSHEET!$B$1,I2972,\"\")","v":""},"","WASHINGTON","Kittitas County",24,{"$f":"+R2972-N2972-P2972","v":4},19,"N/A",47,3.5616674152133203E-2,0.15362318840579711]
[972,748,16,"Klickitat, WA - Skamania, WA","WA: Klickitat County (53039)","WA: Klickitat County (53039)","53039","  Klickitat  ",{"$f":"ROWS($L$2:L2973)","v":2972},{"$f":"IF(L2973=WORKSHEET!$B$1,I2973,\"\")","v":""},"","WASHINGTON","Klickitat County",14,{"$f":"+R2973-N2973-P2973","v":1},11,"N/A",26,3.5616674152133203E-2,7.4626865671641784E-2]
[832,758,16,"Lewis, WA - Pacific, WA","WA: Lewis County (53041)","WA: Lewis County (53041)","53041","  Lewis  ",{"$f":"ROWS($L$2:L2974)","v":2973},{"$f":"IF(L2974=WORKSHEET!$B$1,I2974,\"\")","v":""},"","WASHINGTON","Lewis County",71,{"$f":"+R2974-N2974-P2974","v":2},56,"N/A",129,3.5616674152133203E-2,0.10792951541850221]
[698,null,16,"Spokane (Spokane), WA - Stevens, WA","WA: Lincoln County (53043)","WA: Lincoln County (53043)","53043","  Lincoln  ",{"$f":"ROWS($L$2:L2975)","v":2974},{"$f":"IF(L2975=WORKSHEET!$B$1,I2975,\"\")","v":""},"","WASHINGTON","Lincoln County","*","*","*","N/A",20,3.5616674152133203E-2,0.10372771474878444]
[758,null,16,"Thurston (Olympia), WA - Grays Harbor, WA","WA: Mason County (53045)","WA: Mason County (53045)","53045","  Mason  ",{"$f":"ROWS($L$2:L2976)","v":2975},{"$f":"IF(L2976=WORKSHEET!$B$1,I2976,\"\")","v":""},"","WASHINGTON","Mason County",46,{"$f":"+R2976-N2976-P2976","v":8},36,"N/A",90,3.5616674152133203E-2,0.10792951541850221]
[747,null,16,"Grant, WA - Chelan, WA","WA: Okanogan County (53047)","WA: Okanogan County (53047)","53047","  Okanogan  ",{"$f":"ROWS($L$2:L2977)","v":2976},{"$f":"IF(L2977=WORKSHEET!$B$1,I2977,\"\")","v":""},"","WASHINGTON","Okanogan County",43,{"$f":"+R2977-N2977-P2977","v":2},37,"N/A",82,3.5616674152133203E-2,0.11155378486055777]
[832,758,16,"Lewis, WA - Pacific, WA","WA: Pacific County (53049)","WA: Pacific County (53049)","53049","  Pacific  ",{"$f":"ROWS($L$2:L2978)","v":2977},{"$f":"IF(L2978=WORKSHEET!$B$1,I2978,\"\")","v":""},"","WASHINGTON","Pacific County",24,{"$f":"+R2978-N2978-P2978","v":4},18,"N/A",46,3.5616674152133203E-2,0.10792951541850221]
[698,null,16,"Spokane (Spokane), WA - Stevens, WA","WA: Pend Oreille County (53051)","WA: Pend Oreille County (53051)","53051","  Pend Oreille  ",{"$f":"ROWS($L$2:L2979)","v":2978},{"$f":"IF(L2979=WORKSHEET!$B$1,I2979,\"\")","v":""},"","WASHINGTON","Pend Oreille County",12,"*","*","N/A",24,3.5616674152133203E-2,0.10372771474878444]
[794,null,16,"Pierce, WA","WA: Pierce County (53053)","WA: Pierce County (53053)","53053","  Pierce  ",{"$f":"ROWS($L$2:L2980)","v":2979},{"$f":"IF(L2980=WORKSHEET!$B$1,I2980,\"\")","v":""},"","WASHINGTON","Pierce County",947,64,471,"*",1485,3.5616674152133203E-2,6.330365974282888E-2]
[736,null,16,"King (Seattle), WA - Snohomish, WA","WA: San Juan County (53055)","WA: San Juan County (53055)","53055","  San Juan  ",{"$f":"ROWS($L$2:L2981)","v":2980},{"$f":"IF(L2981=WORKSHEET!$B$1,I2981,\"\")","v":""},"","WASHINGTON","San Juan County","*","*","*","N/A","*",3.5616674152133203E-2,0.1407907425265188]
[736,null,16,"King (Seattle), WA - Snohomish, WA","WA: Skagit County (53057)","WA: Skagit County (53057)","53057","  Skagit  ",{"$f":"ROWS($L$2:L2982)","v":2981},{"$f":"IF(L2982=WORKSHEET!$B$1,I2982,\"\")","v":""},"","WASHINGTON","Skagit County",132,21,60,"N/A",213,3.5616674152133203E-2,0.1407907425265188]
[972,748,16,"Klickitat, WA - Skamania, WA","WA: Skamania County (53059)","WA: Skamania County (53059)","53059","  Skamania  ",{"$f":"ROWS($L$2:L2983)","v":2982},{"$f":"IF(L2983=WORKSHEET!$B$1,I2983,\"\")","v":""},"","WASHINGTON","Skamania County","*","*","*","N/A","*",3.5616674152133203E-2,7.4626865671641784E-2]
[736,null,16,"King (Seattle), WA - Snohomish, WA","WA: Snohomish County (53061)","WA: Snohomish County (53061)","53061","  Snohomish  ",{"$f":"ROWS($L$2:L2984)","v":2983},{"$f":"IF(L2984=WORKSHEET!$B$1,I2984,\"\")","v":""},"","WASHINGTON","Snohomish County",582,102,475,"*",1164,3.5616674152133203E-2,0.1407907425265188]
[698,null,16,"Spokane (Spokane), WA - Stevens, WA","WA: Spokane County (53063)","WA: Spokane County (53063)","53063","  Spokane  ",{"$f":"ROWS($L$2:L2985)","v":2984},{"$f":"IF(L2985=WORKSHEET!$B$1,I2985,\"\")","v":""},"","WASHINGTON","Spokane County",475,50,257,"*",786,3.5616674152133203E-2,0.10372771474878444]
[698,null,16,"Spokane (Spokane), WA - Stevens, WA","WA: Stevens County (53065)","WA: Stevens County (53065)","53065","  Stevens  ",{"$f":"ROWS($L$2:L2986)","v":2985},{"$f":"IF(L2986=WORKSHEET!$B$1,I2986,\"\")","v":""},"","WASHINGTON","Stevens County",33,{"$f":"+R2986-N2986-P2986","v":3},16,"*",52,3.5616674152133203E-2,0.10372771474878444]
[758,null,16,"Thurston (Olympia), WA - Grays Harbor, WA","WA: Thurston County (53067)","WA: Thurston County (53067)","53067","  Thurston  ",{"$f":"ROWS($L$2:L2987)","v":2986},{"$f":"IF(L2987=WORKSHEET!$B$1,I2987,\"\")","v":""},"","WASHINGTON","Thurston County",179,25,171,"*",376,3.5616674152133203E-2,0.10792951541850221]
[960,689,16,"Clark, WA - Cowlitz, WA","WA: Wahkiakum County (53069)","WA: Wahkiakum County (53069)","53069","  Wahkiakum  ",{"$f":"ROWS($L$2:L2988)","v":2987},{"$f":"IF(L2988=WORKSHEET!$B$1,I2988,\"\")","v":""},"","WASHINGTON","Wahkiakum County","*","N/A","*","N/A","*",3.5616674152133203E-2,0.10108303249097472]
[967,717,16,"Walla Walla, WA - Columbia, WA","WA: Walla Walla County (53071)","WA: Walla Walla County (53071)","53071","  Walla Walla  ",{"$f":"ROWS($L$2:L2989)","v":2988},{"$f":"IF(L2989=WORKSHEET!$B$1,I2989,\"\")","v":""},"","WASHINGTON","Walla Walla County",52,16,43,"*",112,3.5616674152133203E-2,0.22754491017964071]
[815,null,16,"Whatcom, WA","WA: Whatcom County (53073)","WA: Whatcom County (53073)","53073","  Whatcom  ",{"$f":"ROWS($L$2:L2990)","v":2989},{"$f":"IF(L2990=WORKSHEET!$B$1,I2990,\"\")","v":""},"","WASHINGTON","Whatcom County",114,13,119,"N/A",246,3.5616674152133203E-2,0.10236220472440945]
[976,784,16,"Whitman, WA","WA: Whitman County (53075)","WA: Whitman County (53075)","53075","  Whitman  ",{"$f":"ROWS($L$2:L2991)","v":2990},{"$f":"IF(L2991=WORKSHEET!$B$1,I2991,\"\")","v":""},"","WASHINGTON","Whitman County",12,{"$f":"+R2991-N2991-P2991","v":3},17,"N/A",32,3.5616674152133203E-2,0.11764705882352941]
[739,null,16,"Yakima (Yakima), WA - Kittitas, WA","WA: Yakima County (53077)","WA: Yakima County (53077)","53077","  Yakima  ",{"$f":"ROWS($L$2:L2992)","v":2991},{"$f":"IF(L2992=WORKSHEET!$B$1,I2992,\"\")","v":""},"","WASHINGTON","Yakima County",268,49,146,"N/A",463,3.5616674152133203E-2,0.15362318840579711]
[391,null,11,"Juneau, WI - Adams, WI","WI: Adams County (55001)","WI: Adams County (55001)","55001"," Adams  ",{"$f":"ROWS($L$2:L2993)","v":2992},{"$f":"IF(L2993=WORKSHEET!$B$1,I2993,\"\")","v":""},"","WISCONSIN","Adams County",12,"*","*","N/A",22,1.8426754284955972E-2,9.5238095238095233E-2]
[357,null,11,"Ashland, WI - Sawyer, WI","WI: Ashland County (55003)","WI: Ashland County (55003)","55003","  Ashland  ",{"$f":"ROWS($L$2:L2994)","v":2993},{"$f":"IF(L2994=WORKSHEET!$B$1,I2994,\"\")","v":""},"","WISCONSIN","Ashland County",17,{"$f":"+R2994-N2994-P2994","v":3},13,"N/A",33,1.8426754284955972E-2,9.5890410958904104E-2]
[374,null,11,"Barron, WI - Rusk, WI","WI: Barron County (55005)","WI: Barron County (55005)","55005","  Barron  ",{"$f":"ROWS($L$2:L2995)","v":2994},{"$f":"IF(L2995=WORKSHEET!$B$1,I2995,\"\")","v":""},"","WISCONSIN","Barron County",46,{"$f":"+R2995-N2995-P2995","v":1},45,"N/A",92,1.8426754284955972E-2,1.6666666666666666E-2]
[357,null,11,"Ashland, WI - Sawyer, WI","WI: Bayfield County (55007)","WI: Bayfield County (55007)","55007","  Bayfield  ",{"$f":"ROWS($L$2:L2996)","v":2995},{"$f":"IF(L2996=WORKSHEET!$B$1,I2996,\"\")","v":""},"","WISCONSIN","Bayfield County",15,{"$f":"+R2996-N2996-P2996","v":0},15,"N/A",30,1.8426754284955972E-2,9.5890410958904104E-2]
[278,null,11,"Brown (Green Bay), WI - Oconto, WI","WI: Brown County (55009)","WI: Brown County (55009)","55009","  Brown  ",{"$f":"ROWS($L$2:L2997)","v":2996},{"$f":"IF(L2997=WORKSHEET!$B$1,I2997,\"\")","v":""},"","WISCONSIN","Brown County",238,26,197,"N/A",461,1.8426754284955972E-2,0.119533527696793]
[298,null,11,"Eau Claire (Eau Claire), WI - Chippewa, WI","WI: Buffalo County (55011)","WI: Buffalo County (55011)","55011","  Buffalo  ",{"$f":"ROWS($L$2:L2998)","v":2997},{"$f":"IF(L2998=WORKSHEET!$B$1,I2998,\"\")","v":""},"","WISCONSIN","Buffalo County","*","N/A",14,"N/A",24,1.8426754284955972E-2,5.2845528455284556E-2]
[314,null,11,"Washburn, WI - Burnett, WI","WI: Burnett County (55013)","WI: Burnett County (55013)","55013","  Burnett  ",{"$f":"ROWS($L$2:L2999)","v":2998},{"$f":"IF(L2999=WORKSHEET!$B$1,I2999,\"\")","v":""},"","WISCONSIN","Burnett County",11,{"$f":"+R2999-N2999-P2999","v":1},15,"*",27,1.8426754284955972E-2,6.6666666666666666E-2]
[355,null,11,"Sheboygan (Sheboygan), WI - Manitowoc, WI","WI: Calumet County (55015)","WI: Calumet County (55015)","55015","  Calumet  ",{"$f":"ROWS($L$2:L3000)","v":2999},{"$f":"IF(L3000=WORKSHEET!$B$1,I3000,\"\")","v":""},"","WISCONSIN","Calumet County",22,1,27,"N/A",50,1.8426754284955972E-2,0.12571428571428572]
[298,null,11,"Eau Claire (Eau Claire), WI - Chippewa, WI","WI: Chippewa County (55017)","WI: Chippewa County (55017)","55017","  Chippewa  ",{"$f":"ROWS($L$2:L3001)","v":3000},{"$f":"IF(L3001=WORKSHEET!$B$1,I3001,\"\")","v":""},"","WISCONSIN","Chippewa County",58,1,51,"N/A",110,1.8426754284955972E-2,5.2845528455284556E-2]
[282,null,11,"Marathon (Wausau), WI - Wood, WI","WI: Clark County (55019)","WI: Clark County (55019)","55019","  Clark  ",{"$f":"ROWS($L$2:L3002)","v":3001},{"$f":"IF(L3002=WORKSHEET!$B$1,I3002,\"\")","v":""},"","WISCONSIN","Clark County",18,1,22,"N/A",41,1.8426754284955972E-2,7.3825503355704702E-2]
[301,null,11,"Dane (Madison), WI - Sauk, WI","WI: Columbia County (55021)","WI: Columbia County (55021)","55021","  Columbia  ",{"$f":"ROWS($L$2:L3003)","v":3002},{"$f":"IF(L3003=WORKSHEET!$B$1,I3003,\"\")","v":""},"","WISCONSIN","Columbia County",54,8,53,"*",115,1.8426754284955972E-2,8.5427135678391955E-2]
[919,350,11,"Crawford, WI","WI: Crawford County (55023)","WI: Crawford County (55023)","55023","  Crawford  ",{"$f":"ROWS($L$2:L3004)","v":3003},{"$f":"IF(L3004=WORKSHEET!$B$1,I3004,\"\")","v":""},"","WISCONSIN","Crawford County",12,1,18,"N/A",31,1.8426754284955972E-2,0.108108108108108]
[301,null,11,"Dane (Madison), WI - Sauk, WI","WI: Dane County (55025)","WI: Dane County (55025)","55025","  Dane  ",{"$f":"ROWS($L$2:L3005)","v":3004},{"$f":"IF(L3005=WORKSHEET!$B$1,I3005,\"\")","v":""},"","WISCONSIN","Dane County",347,35,389,"*",772,1.8426754284955972E-2,8.5427135678391955E-2]
[306,null,11,"Winnebago (Oshkosh), WI - Fond du Lac, WI","WI: Dodge County (55027)","WI: Dodge County (55027)","55027","  Dodge  ",{"$f":"ROWS($L$2:L3006)","v":3005},{"$f":"IF(L3006=WORKSHEET!$B$1,I3006,\"\")","v":""},"","WISCONSIN","Dodge County",72,{"$f":"+R3006-N3006-P3006","v":6},78,"N/A",156,1.8426754284955972E-2,7.8680203045685279E-2]
[278,null,11,"Brown (Green Bay), WI - Oconto, WI","WI: Door County (55029)","WI: Door County (55029)","55029","  Door  ",{"$f":"ROWS($L$2:L3007)","v":3006},{"$f":"IF(L3007=WORKSHEET!$B$1,I3007,\"\")","v":""},"","WISCONSIN","Door County",20,{"$f":"+R3007-N3007-P3007","v":6},17,"N/A",43,1.8426754284955972E-2,0.119533527696793]
[907,289,11,"Douglas, WI","WI: Douglas County (55031)","WI: Douglas County (55031)","55031","  Douglas  ",{"$f":"ROWS($L$2:L3008)","v":3007},{"$f":"IF(L3008=WORKSHEET!$B$1,I3008,\"\")","v":""},"","WISCONSIN","Douglas County",27,{"$f":"+R3008-N3008-P3008","v":3},37,"N/A",67,1.8426754284955972E-2,0.10563380281690141]
[298,null,11,"Eau Claire (Eau Claire), WI - Chippewa, WI","WI: Dunn County (55033)","WI: Dunn County (55033)","55033","  Dunn  ",{"$f":"ROWS($L$2:L3009)","v":3008},{"$f":"IF(L3009=WORKSHEET!$B$1,I3009,\"\")","v":""},"","WISCONSIN","Dunn County",38,{"$f":"+R3009-N3009-P3009","v":2},33,"N/A",73,1.8426754284955972E-2,5.2845528455284556E-2]
[298,null,11,"Eau Claire (Eau Claire), WI - Chippewa, WI","WI: Eau Claire County (55035)","WI: Eau Claire County (55035)","55035","  Eau Claire  ",{"$f":"ROWS($L$2:L3010)","v":3009},{"$f":"IF(L3010=WORKSHEET!$B$1,I3010,\"\")","v":""},"","WISCONSIN","Eau Claire County",120,{"$f":"+R3010-N3010-P3010","v":10},62,"*",192,1.8426754284955972E-2,5.2845528455284556E-2]
[912,315,11,"Marinette, WI - Florence, WI","WI: Florence County (55037)","WI: Florence County (55037)","55037","  Florence  ",{"$f":"ROWS($L$2:L3011)","v":3010},{"$f":"IF(L3011=WORKSHEET!$B$1,I3011,\"\")","v":""},{"$f":"IFERROR(SMALL($J$2:$J$3142,I3011),\"\")","v":""},"WISCONSIN","Florence County","*","*","*","N/A","*",1.8426754284955972E-2,0.13461538461538461]
[306,null,11,"Winnebago (Oshkosh), WI - Fond du Lac, WI","WI: Fond du Lac County (55039)","WI: Fond du Lac County (55039)","55039","  Fond Du Lac  ",{"$f":"ROWS($L$2:L3012)","v":3011},{"$f":"IF(L3012=WORKSHEET!$B$1,I3012,\"\")","v":""},"","WISCONSIN","Fond du Lac County",98,{"$f":"+R3012-N3012-P3012","v":5},67,"N/A",170,1.8426754284955972E-2,7.8680203045685279E-2]
[905,284,11,"Oneida, WI - Vilas, WI","WI: Forest County (55041)","WI: Forest County (55041)","55041","  Forest  ",{"$f":"ROWS($L$2:L3013)","v":3012},{"$f":"IF(L3013=WORKSHEET!$B$1,I3013,\"\")","v":""},"","WISCONSIN","Forest County",14,"*","*","N/A",25,1.8426754284955972E-2,0.12765957446808501]
[301,null,11,"Dane (Madison), WI - Sauk, WI","WI: Grant County (55043)","WI: Grant County (55043)","55043","  Grant  ",{"$f":"ROWS($L$2:L3014)","v":3013},{"$f":"IF(L3014=WORKSHEET!$B$1,I3014,\"\")","v":""},"","WISCONSIN","Grant County",37,{"$f":"+R3014-N3014-P3014","v":4},31,"N/A",72,1.8426754284955972E-2,8.5427135678391955E-2]
[326,null,11,"Rock (Janesville), WI - Green, WI","WI: Green County (55045)","WI: Green County (55045)","55045","  Green  ",{"$f":"ROWS($L$2:L3015)","v":3014},{"$f":"IF(L3015=WORKSHEET!$B$1,I3015,\"\")","v":""},"","WISCONSIN","Green County",23,{"$f":"+R3015-N3015-P3015","v":2},35,"N/A",60,1.8426754284955972E-2,0.11453744493392071]
[306,null,11,"Winnebago (Oshkosh), WI - Fond du Lac, WI","WI: Green Lake County (55047)","WI: Green Lake County (55047)","55047","  Green Lake  ",{"$f":"ROWS($L$2:L3016)","v":3015},{"$f":"IF(L3016=WORKSHEET!$B$1,I3016,\"\")","v":""},"","WISCONSIN","Green Lake County",21,{"$f":"+R3016-N3016-P3016","v":3},20,"N/A",44,1.8426754284955972E-2,7.8680203045685279E-2]
[301,null,11,"Dane (Madison), WI - Sauk, WI","WI: Iowa County (55049)","WI: Iowa County (55049)","55049","  Iowa  ",{"$f":"ROWS($L$2:L3017)","v":3016},{"$f":"IF(L3017=WORKSHEET!$B$1,I3017,\"\")","v":""},"","WISCONSIN","Iowa County",24,{"$f":"+R3017-N3017-P3017","v":2},17,"N/A",43,1.8426754284955972E-2,8.5427135678391955E-2]
[905,284,11,"Oneida, WI - Vilas, WI","WI: Iron County (55051)","WI: Iron County (55051)","55051","  Iron  ",{"$f":"ROWS($L$2:L3018)","v":3017},{"$f":"IF(L3018=WORKSHEET!$B$1,I3018,\"\")","v":""},"","WISCONSIN","Iron County","*","N/A","*","N/A","*",1.8426754284955972E-2,0.1276595744680851]
[399,null,11,"Jackson, WI","WI: Jackson County (55053)","WI: Jackson County (55053)","55053","  Jackson  ",{"$f":"ROWS($L$2:L3019)","v":3018},{"$f":"IF(L3019=WORKSHEET!$B$1,I3019,\"\")","v":""},"","WISCONSIN","Jackson County",24,{"$f":"+R3019-N3019-P3019","v":1},18,"N/A",43,1.8426754284955972E-2,0.04]
[387,null,11,"Walworth, WI - Jefferson, WI","WI: Jefferson County (55055)","WI: Jefferson County (55055)","55055","  Jefferson  ",{"$f":"ROWS($L$2:L3020)","v":3019},{"$f":"IF(L3020=WORKSHEET!$B$1,I3020,\"\")","v":""},"","WISCONSIN","Jefferson County",68,{"$f":"+R3020-N3020-P3020","v":9},48,"N/A",125,1.8426754284955972E-2,0.10119047619047619]
[391,null,11,"Juneau, WI - Adams, WI","WI: Juneau County (55057)","WI: Juneau County (55057)","55057","  Juneau  ",{"$f":"ROWS($L$2:L3021)","v":3020},{"$f":"IF(L3021=WORKSHEET!$B$1,I3021,\"\")","v":""},"","WISCONSIN","Juneau County",26,{"$f":"+R3021-N3021-P3021","v":3},29,"N/A",58,1.8426754284955972E-2,9.5238095238095233E-2]
[382,null,11,"Racine (Racine), WI - Kenosha, WI","WI: Kenosha County (55059)","WI: Kenosha County (55059)","55059","  Kenosha  ",{"$f":"ROWS($L$2:L3022)","v":3021},{"$f":"IF(L3022=WORKSHEET!$B$1,I3022,\"\")","v":""},"","WISCONSIN","Kenosha County",183,16,107,"*",307,1.8426754284955972E-2,0.1053639846743295]
[278,null,11,"Brown (Green Bay), WI - Oconto, WI","WI: Kewaunee County (55061)","WI: Kewaunee County (55061)","55061","  Kewaunee  ",{"$f":"ROWS($L$2:L3023)","v":3022},{"$f":"IF(L3023=WORKSHEET!$B$1,I3023,\"\")","v":""},"","WISCONSIN","Kewaunee County",14,{"$f":"+R3023-N3023-P3023","v":4},24,"N/A",42,1.8426754284955972E-2,0.119533527696793]
[908,290,11,"La Crosse (La Crosse), WI - Monroe, WI","WI: La Crosse County (55063)","WI: La Crosse County (55063)","55063","  La Crosse  ",{"$f":"ROWS($L$2:L3024)","v":3023},{"$f":"IF(L3024=WORKSHEET!$B$1,I3024,\"\")","v":""},"","WISCONSIN","La Crosse County",102,{"$f":"+R3024-N3024-P3024","v":9},76,"N/A",187,1.8426754284955972E-2,6.6666666666666666E-2]
[326,null,11,"Rock (Janesville), WI - Green, WI","WI: Lafayette County (55065)","WI: Lafayette County (55065)","55065","  Lafayette  ",{"$f":"ROWS($L$2:L3025)","v":3024},{"$f":"IF(L3025=WORKSHEET!$B$1,I3025,\"\")","v":""},"","WISCONSIN","Lafayette County","*","*","*","N/A",20,1.8426754284955972E-2,0.11453744493392071]
[379,null,11,"Shawano, WI - Langlade, WI","WI: Langlade County (55067)","WI: Langlade County (55067)","55067","  Langlade  ",{"$f":"ROWS($L$2:L3026)","v":3025},{"$f":"IF(L3026=WORKSHEET!$B$1,I3026,\"\")","v":""},"","WISCONSIN","Langlade County",23,{"$f":"+R3026-N3026-P3026","v":1},17,"N/A",41,1.8426754284955972E-2,0.1]
[282,null,11,"Marathon (Wausau), WI - Wood, WI","WI: Lincoln County (55069)","WI: Lincoln County (55069)","55069","  Lincoln  ",{"$f":"ROWS($L$2:L3027)","v":3026},{"$f":"IF(L3027=WORKSHEET!$B$1,I3027,\"\")","v":""},"","WISCONSIN","Lincoln County",21,1,23,"N/A",45,1.8426754284955972E-2,7.3825503355704702E-2]
[355,null,11,"Sheboygan (Sheboygan), WI - Manitowoc, WI","WI: Manitowoc County (55071)","WI: Manitowoc County (55071)","55071","  Manitowoc  ",{"$f":"ROWS($L$2:L3028)","v":3027},{"$f":"IF(L3028=WORKSHEET!$B$1,I3028,\"\")","v":""},"","WISCONSIN","Manitowoc County",50,11,61,"*",122,1.8426754284955972E-2,0.12571428571428572]
[282,null,11,"Marathon (Wausau), WI - Wood, WI","WI: Marathon County (55073)","WI: Marathon County (55073)","55073","  Marathon  ",{"$f":"ROWS($L$2:L3029)","v":3028},{"$f":"IF(L3029=WORKSHEET!$B$1,I3029,\"\")","v":""},"","WISCONSIN","Marathon County",122,8,108,"N/A",238,1.8426754284955972E-2,7.3825503355704702E-2]
[912,315,11,"Marinette, WI - Florence, WI","WI: Marinette County (55075)","WI: Marinette County (55075)","55075","  Marinette  ",{"$f":"ROWS($L$2:L3030)","v":3029},{"$f":"IF(L3030=WORKSHEET!$B$1,I3030,\"\")","v":""},"","WISCONSIN","Marinette County",39,10,40,"*",89,1.8426754284955972E-2,0.13461538461538461]
[301,null,11,"Dane (Madison), WI - Sauk, WI","WI: Marquette County (55077)","WI: Marquette County (55077)","55077","  Marquette  ",{"$f":"ROWS($L$2:L3031)","v":3030},{"$f":"IF(L3031=WORKSHEET!$B$1,I3031,\"\")","v":""},"","WISCONSIN","Marquette County",20,1,11,"N/A",32,1.8426754284955972E-2,8.5427135678391955E-2]
[379,null,11,"Shawano, WI - Langlade, WI","WI: Menominee County (55078)","WI: Menominee County (55078)","55078","  Menomonee  ",{"$f":"ROWS($L$2:L3032)","v":3031},{"$f":"IF(L3032=WORKSHEET!$B$1,I3032,\"\")","v":""},"","WISCONSIN","Menominee County",18,"*","*","N/A",25,1.8426754284955972E-2,0.1]
[280,null,11,"Milwaukee (Milwaukee), WI - Waukesha, WI","WI: Milwaukee County (55079)","WI: Milwaukee County (55079)","55079","  Milwaukee  ",{"$f":"ROWS($L$2:L3033)","v":3032},{"$f":"IF(L3033=WORKSHEET!$B$1,I3033,\"\")","v":""},"","WISCONSIN","Milwaukee County",1838,112,812,"*",2766,1.8426754284955972E-2,7.1544715447154475E-2]
[908,290,11,"La Crosse (La Crosse), WI - Monroe, WI","WI: Monroe County (55081)","WI: Monroe County (55081)","55081","  Monroe  ",{"$f":"ROWS($L$2:L3034)","v":3033},{"$f":"IF(L3034=WORKSHEET!$B$1,I3034,\"\")","v":""},"","WISCONSIN","Monroe County",47,{"$f":"+R3034-N3034-P3034","v":2},21,"N/A",70,1.8426754284955972E-2,6.6666666666666666E-2]
[278,null,11,"Brown (Green Bay), WI - Oconto, WI","WI: Oconto County (55083)","WI: Oconto County (55083)","55083","  Oconto  ",{"$f":"ROWS($L$2:L3035)","v":3034},{"$f":"IF(L3035=WORKSHEET!$B$1,I3035,\"\")","v":""},"","WISCONSIN","Oconto County",30,{"$f":"+R3035-N3035-P3035","v":5},31,"N/A",66,1.8426754284955972E-2,0.119533527696793]
[905,284,11,"Oneida, WI - Vilas, WI","WI: Oneida County (55085)","WI: Oneida County (55085)","55085","  Oneida  ",{"$f":"ROWS($L$2:L3036)","v":3035},{"$f":"IF(L3036=WORKSHEET!$B$1,I3036,\"\")","v":""},"","WISCONSIN","Oneida County",26,{"$f":"+R3036-N3036-P3036","v":2},21,"N/A",49,1.8426754284955972E-2,0.1276595744680851]
[344,null,11,"Outagamie (Appleton), WI - Waupaca, WI","WI: Outagamie County (55087)","WI: Outagamie County (55087)","55087","  Outagamie  ",{"$f":"ROWS($L$2:L3037)","v":3036},{"$f":"IF(L3037=WORKSHEET!$B$1,I3037,\"\")","v":""},"","WISCONSIN","Outagamie County",124,{"$f":"+R3037-N3037-P3037","v":9},152,"N/A",285,1.8426754284955972E-2,5.5555555555555552E-2]
[280,null,11,"Milwaukee (Milwaukee), WI - Waukesha, WI","WI: Ozaukee County (55089)","WI: Ozaukee County (55089)","55089","  Ozaukee  ",{"$f":"ROWS($L$2:L3038)","v":3037},{"$f":"IF(L3038=WORKSHEET!$B$1,I3038,\"\")","v":""},"","WISCONSIN","Ozaukee County",45,{"$f":"+R3038-N3038-P3038","v":10},60,"N/A",115,1.8426754284955972E-2,7.1544715447154475E-2]
[298,null,11,"Eau Claire (Eau Claire), WI - Chippewa, WI","WI: Pepin County (55091)","WI: Pepin County (55091)","55091","  Pepin  ",{"$f":"ROWS($L$2:L3039)","v":3038},{"$f":"IF(L3039=WORKSHEET!$B$1,I3039,\"\")","v":""},"","WISCONSIN","Pepin County","*","*",12,"N/A",20,1.8426754284955972E-2,5.2845528455284556E-2]
[923,370,11,"St. Croix, WI - Pierce, WI","WI: Pierce County (55093)","WI: Pierce County (55093)","55093","  Pierce  ",{"$f":"ROWS($L$2:L3040)","v":3039},{"$f":"IF(L3040=WORKSHEET!$B$1,I3040,\"\")","v":""},"","WISCONSIN","Pierce County",26,{"$f":"+R3040-N3040-P3040","v":0},29,"N/A",55,1.8426754284955972E-2,9.7345132743362831E-2]
[906,286,11,"Polk, WI","WI: Polk County (55095)","WI: Polk County (55095)","55095","  Polk  ",{"$f":"ROWS($L$2:L3041)","v":3040},{"$f":"IF(L3041=WORKSHEET!$B$1,I3041,\"\")","v":""},"","WISCONSIN","Polk County",36,{"$f":"+R3041-N3041-P3041","v":5},28,"N/A",69,1.8426754284955972E-2,8.850289495450786E-2]
[400,null,11,"Portage, WI","WI: Portage County (55097)","WI: Portage County (55097)","55097","  Portage  ",{"$f":"ROWS($L$2:L3042)","v":3041},{"$f":"IF(L3042=WORKSHEET!$B$1,I3042,\"\")","v":""},"","WISCONSIN","Portage County",47,{"$f":"+R3042-N3042-P3042","v":1},38,"N/A",86,1.8426754284955972E-2,2.0833333333333332E-2]
[357,null,11,"Ashland, WI - Sawyer, WI","WI: Price County (55099)","WI: Price County (55099)","55099","  Price  ",{"$f":"ROWS($L$2:L3043)","v":3042},{"$f":"IF(L3043=WORKSHEET!$B$1,I3043,\"\")","v":""},"","WISCONSIN","Price County","*","*",13,"N/A",20,1.8426754284955972E-2,9.5890410958904104E-2]
[382,null,11,"Racine (Racine), WI - Kenosha, WI","WI: Racine County (55101)","WI: Racine County (55101)","55101","  Racine  ",{"$f":"ROWS($L$2:L3044)","v":3043},{"$f":"IF(L3044=WORKSHEET!$B$1,I3044,\"\")","v":""},"","WISCONSIN","Racine County",284,39,169,"*",495,1.8426754284955972E-2,0.1053639846743295]
[301,null,11,"Dane (Madison), WI - Sauk, WI","WI: Richland County (55103)","WI: Richland County (55103)","55103","  Richland  ",{"$f":"ROWS($L$2:L3045)","v":3044},{"$f":"IF(L3045=WORKSHEET!$B$1,I3045,\"\")","v":""},"","WISCONSIN","Richland County",14,{"$f":"+R3045-N3045-P3045","v":0},12,"N/A",26,1.8426754284955972E-2,8.5427135678391955E-2]
[326,null,11,"Rock (Janesville), WI - Green, WI","WI: Rock County (55105)","WI: Rock County (55105)","55105","  Rock  ",{"$f":"ROWS($L$2:L3046)","v":3045},{"$f":"IF(L3046=WORKSHEET!$B$1,I3046,\"\")","v":""},"","WISCONSIN","Rock County",171,21,144,"*",338,1.8426754284955972E-2,0.11453744493392071]
[374,null,11,"Barron, WI - Rusk, WI","WI: Rusk County (55107)","WI: Rusk County (55107)","55107","  Rusk  ",{"$f":"ROWS($L$2:L3047)","v":3046},{"$f":"IF(L3047=WORKSHEET!$B$1,I3047,\"\")","v":""},"","WISCONSIN","Rusk County",13,{"$f":"+R3047-N3047-P3047","v":0},18,"N/A",31,1.8426754284955972E-2,1.6666666666666666E-2]
[301,null,11,"Dane (Madison), WI - Sauk, WI","WI: Sauk County (55111)","WI: Sauk County (55111)","55111","  Sauk  ",{"$f":"ROWS($L$2:L3048)","v":3047},{"$f":"IF(L3048=WORKSHEET!$B$1,I3048,\"\")","v":""},"","WISCONSIN","Sauk County",50,{"$f":"+R3048-N3048-P3048","v":2},52,"N/A",104,1.8426754284955972E-2,8.5427135678391955E-2]
[357,null,11,"Ashland, WI - Sawyer, WI","WI: Sawyer County (55113)","WI: Sawyer County (55113)","55113","  Sawyer  ",{"$f":"ROWS($L$2:L3049)","v":3048},{"$f":"IF(L3049=WORKSHEET!$B$1,I3049,\"\")","v":""},"","WISCONSIN","Sawyer County",28,{"$f":"+R3049-N3049-P3049","v":3},12,"N/A",43,1.8426754284955972E-2,9.5890410958904104E-2]
[379,null,11,"Shawano, WI - Langlade, WI","WI: Shawano County (55115)","WI: Shawano County (55115)","55115","  Shawano  ",{"$f":"ROWS($L$2:L3050)","v":3049},{"$f":"IF(L3050=WORKSHEET!$B$1,I3050,\"\")","v":""},"","WISCONSIN","Shawano County",40,{"$f":"+R3050-N3050-P3050","v":5},30,"N/A",75,1.8426754284955972E-2,0.1]
[355,null,11,"Sheboygan (Sheboygan), WI - Manitowoc, WI","WI: Sheboygan County (55117)","WI: Sheboygan County (55117)","55117","  Sheboygan  ",{"$f":"ROWS($L$2:L3051)","v":3050},{"$f":"IF(L3051=WORKSHEET!$B$1,I3051,\"\")","v":""},"","WISCONSIN","Sheboygan County",81,11,75,"N/A",167,1.8426754284955972E-2,0.12571428571428572]
[923,370,11,"St. Croix, WI - Pierce, WI","WI: St. Croix County (55109)","WI: St. Croix County (55109)","55109","  St. Croix  ",{"$f":"ROWS($L$2:L3052)","v":3051},{"$f":"IF(L3052=WORKSHEET!$B$1,I3052,\"\")","v":""},"","WISCONSIN","St. Croix County",45,{"$f":"+R3052-N3052-P3052","v":9},60,"N/A",114,1.8426754284955972E-2,9.7345132743362831E-2]
[282,null,11,"Marathon (Wausau), WI - Wood, WI","WI: Taylor County (55119)","WI: Taylor County (55119)","55119","  Taylor  ",{"$f":"ROWS($L$2:L3053)","v":3052},{"$f":"IF(L3053=WORKSHEET!$B$1,I3053,\"\")","v":""},"","WISCONSIN","Taylor County",23,1,12,"N/A",36,1.8426754284955972E-2,7.3825503355704702E-2]
[908,290,11,"La Crosse (La Crosse), WI - Monroe, WI","WI: Trempealeau County (55121)","WI: Trempealeau County (55121)","55121","  Trempealeau  ",{"$f":"ROWS($L$2:L3054)","v":3053},{"$f":"IF(L3054=WORKSHEET!$B$1,I3054,\"\")","v":""},"","WISCONSIN","Trempealeau County",23,1,24,"N/A",48,1.8426754284955972E-2,6.6666666666666666E-2]
[908,290,11,"La Crosse (La Crosse), WI - Monroe, WI","WI: Vernon County (55123)","WI: Vernon County (55123)","55123","  Vernon  ",{"$f":"ROWS($L$2:L3055)","v":3054},{"$f":"IF(L3055=WORKSHEET!$B$1,I3055,\"\")","v":""},"","WISCONSIN","Vernon County",28,5,23,"*",56,1.8426754284955972E-2,6.6666666666666666E-2]
[905,284,11,"Oneida, WI - Vilas, WI","WI: Vilas County (55125)","WI: Vilas County (55125)","55125","  Vilas  ",{"$f":"ROWS($L$2:L3056)","v":3055},{"$f":"IF(L3056=WORKSHEET!$B$1,I3056,\"\")","v":""},"","WISCONSIN","Vilas County",21,4,23,"N/A",48,1.8426754284955972E-2,0.1276595744680851]
[387,null,11,"Walworth, WI - Jefferson, WI","WI: Walworth County (55127)","WI: Walworth County (55127)","55127","  Walworth  ",{"$f":"ROWS($L$2:L3057)","v":3056},{"$f":"IF(L3057=WORKSHEET!$B$1,I3057,\"\")","v":""},"","WISCONSIN","Walworth County",83,9,65,"*",157,1.8426754284955972E-2,0.10119047619047619]
[314,null,11,"Washburn, WI - Burnett, WI","WI: Washburn County (55129)","WI: Washburn County (55129)","55129","  Washburn  ",{"$f":"ROWS($L$2:L3058)","v":3057},{"$f":"IF(L3058=WORKSHEET!$B$1,I3058,\"\")","v":""},"","WISCONSIN","Washburn County",17,1,23,"N/A",41,1.8426754284955972E-2,6.6666666666666666E-2]
[280,null,11,"Milwaukee (Milwaukee), WI - Waukesha, WI","WI: Washington County (55131)","WI: Washington County (55131)","55131","  Washington  ",{"$f":"ROWS($L$2:L3059)","v":3058},{"$f":"IF(L3059=WORKSHEET!$B$1,I3059,\"\")","v":""},"","WISCONSIN","Washington County",102,13,105,"*",221,1.8426754284955972E-2,7.1544715447154475E-2]
[280,null,11,"Milwaukee (Milwaukee), WI - Waukesha, WI","WI: Waukesha County (55133)","WI: Waukesha County (55133)","55133","  Waukesha  ",{"$f":"ROWS($L$2:L3060)","v":3059},{"$f":"IF(L3060=WORKSHEET!$B$1,I3060,\"\")","v":""},"","WISCONSIN","Waukesha County",299,41,290,"N/A",630,1.8426754284955972E-2,7.1544715447154475E-2]
[344,null,11,"Outagamie (Appleton), WI - Waupaca, WI","WI: Waupaca County (55135)","WI: Waupaca County (55135)","55135","  Waupaca  ",{"$f":"ROWS($L$2:L3061)","v":3060},{"$f":"IF(L3061=WORKSHEET!$B$1,I3061,\"\")","v":""},"","WISCONSIN","Waupaca County",63,{"$f":"+R3061-N3061-P3061","v":2},55,"*",120,1.8426754284955972E-2,5.5555555555555552E-2]
[306,null,11,"Winnebago (Oshkosh), WI - Fond du Lac, WI","WI: Waushara County (55137)","WI: Waushara County (55137)","55137","  Waushara  ",{"$f":"ROWS($L$2:L3062)","v":3061},{"$f":"IF(L3062=WORKSHEET!$B$1,I3062,\"\")","v":""},"","WISCONSIN","Waushara County",29,{"$f":"+R3062-N3062-P3062","v":1},16,"N/A",46,1.8426754284955972E-2,7.8680203045685279E-2]
[306,null,11,"Winnebago (Oshkosh), WI - Fond du Lac, WI","WI: Winnebago County (55139)","WI: Winnebago County (55139)","55139","  Winnebago  ",{"$f":"ROWS($L$2:L3063)","v":3062},{"$f":"IF(L3063=WORKSHEET!$B$1,I3063,\"\")","v":""},"","WISCONSIN","Winnebago County",143,16,123,"N/A",282,1.8426754284955972E-2,7.8680203045685279E-2]
[282,null,11,"Marathon (Wausau), WI - Wood, WI","WI: Wood County (55141)","WI: Wood County (55141)","55141","  Wood  ",{"$f":"ROWS($L$2:L3064)","v":3063},{"$f":"IF(L3064=WORKSHEET!$B$1,I3064,\"\")","v":""},"","WISCONSIN","Wood County",92,11,74,"*",179,1.8426754284955972E-2,7.3825503355704702E-2]
[50,null,5,"Randolph, WV - Barbour, WV","WV: Barbour County (54001)","WV: Barbour County (54001)","54001","Barbour  ",{"$f":"ROWS($L$2:L3065)","v":3064},{"$f":"IF(L3065=WORKSHEET!$B$1,I3065,\"\")","v":""},"","WEST VIRGINIA","Barbour County",14,"*","*","N/A",32,2.9657918208264081E-2,0.23880597014925373]
[861,25,5,"Berkeley, WV - Jefferson, WV","WV: Berkeley County (54003)","WV: Berkeley County (54003)","54003","  Berkeley  ",{"$f":"ROWS($L$2:L3066)","v":3065},{"$f":"IF(L3066=WORKSHEET!$B$1,I3066,\"\")","v":""},"","WEST VIRGINIA","Berkeley County",148,15,47,"*",211,2.9657918208264081E-2,0.154618473895582]
[7,null,5,"Kanawha (Charleston), WV - Putnam, WV","WV: Boone County (54005)","WV: Boone County (54005)","54005","  Boone  ",{"$f":"ROWS($L$2:L3067)","v":3066},{"$f":"IF(L3067=WORKSHEET!$B$1,I3067,\"\")","v":""},"","WEST VIRGINIA","Boone County",20,{"$f":"+R3067-N3067-P3067","v":7},13,"*",40,2.9657918208264081E-2,0.12606837606837606]
[92,null,5,"Harrison, WV - Upshur, WV","WV: Braxton County (54007)","WV: Braxton County (54007)","54007","  Braxton  ",{"$f":"ROWS($L$2:L3068)","v":3067},{"$f":"IF(L3068=WORKSHEET!$B$1,I3068,\"\")","v":""},"","WEST VIRGINIA","Braxton County",16,"*","*","N/A",23,2.9657918208264081E-2,0.125]
[924,380,5,"Hancock (Weirton), WV - Brooke, WV","WV: Brooke County (54009)","WV: Brooke County (54009)","54009","  Brooke  ",{"$f":"ROWS($L$2:L3069)","v":3068},{"$f":"IF(L3069=WORKSHEET!$B$1,I3069,\"\")","v":""},"","WEST VIRGINIA","Brooke County",27,{"$f":"+R3069-N3069-P3069","v":3},20,"N/A",50,2.9657918208264081E-2,0.16115702479338842]
[867,46,5,"Cabell (Huntington), WV - Wayne, WV","WV: Cabell County (54011)","WV: Cabell County (54011)","54011","  Cabell  ",{"$f":"ROWS($L$2:L3070)","v":3069},{"$f":"IF(L3070=WORKSHEET!$B$1,I3070,\"\")","v":""},"","WEST VIRGINIA","Cabell County",129,14,60,"N/A",203,2.9657918208264081E-2,8.24561403508772E-2]
[863,34,5,"Wood (Parkersburg), WV - Jackson, WV","WV: Calhoun County (54013)","WV: Calhoun County (54013)","54013","  Calhoun  ",{"$f":"ROWS($L$2:L3071)","v":3070},{"$f":"IF(L3071=WORKSHEET!$B$1,I3071,\"\")","v":""},"","WEST VIRGINIA","Calhoun County","*","*","*","N/A",13,2.9657918208264081E-2,0.16487455197132617]
[7,null,5,"Kanawha (Charleston), WV - Putnam, WV","WV: Clay County (54015)","WV: Clay County (54015)","54015","  Clay  ",{"$f":"ROWS($L$2:L3072)","v":3071},{"$f":"IF(L3072=WORKSHEET!$B$1,I3072,\"\")","v":""},"","WEST VIRGINIA","Clay County",16,"*","*","N/A",31,2.9657918208264081E-2,0.12606837606837606]
[92,null,5,"Harrison, WV - Upshur, WV","WV: Doddridge County (54017)","WV: Doddridge County (54017)","54017","  Doddridge  ",{"$f":"ROWS($L$2:L3073)","v":3072},{"$f":"IF(L3073=WORKSHEET!$B$1,I3073,\"\")","v":""},"","WEST VIRGINIA","Doddridge County","*","N/A","*","N/A","*",2.9657918208264081E-2,0.125]
[60,null,5,"Raleigh, WV - Fayette, WV","WV: Fayette County (54019)","WV: Fayette County (54019)","54019","  Fayette  ",{"$f":"ROWS($L$2:L3074)","v":3073},{"$f":"IF(L3074=WORKSHEET!$B$1,I3074,\"\")","v":""},"","WEST VIRGINIA","Fayette County",73,{"$f":"+R3074-N3074-P3074","v":7},32,"N/A",112,2.9657918208264081E-2,0.11811023622047244]
[92,null,5,"Harrison, WV - Upshur, WV","WV: Gilmer County (54021)","WV: Gilmer County (54021)","54021","  Gilmer  ",{"$f":"ROWS($L$2:L3075)","v":3074},{"$f":"IF(L3075=WORKSHEET!$B$1,I3075,\"\")","v":""},{"$f":"IFERROR(SMALL($J$2:$J$3142,I3075),\"\")","v":""},"WEST VIRGINIA","Gilmer County","*","*","*","N/A",11,2.9657918208264081E-2,0.125]
[851,1,5,"Mineral, WV - Hardy, WV","WV: Grant County (54023)","WV: Grant County (54023)","54023","  Grant  ",{"$f":"ROWS($L$2:L3076)","v":3075},{"$f":"IF(L3076=WORKSHEET!$B$1,I3076,\"\")","v":""},"","WEST VIRGINIA","Grant County",21,"*","*","N/A",29,2.9657918208264081E-2,7.6555023923444973E-2]
[862,30,5,"Greenbrier, WV - Monroe, WV","WV: Greenbrier County (54025)","WV: Greenbrier County (54025)","54025","  Greenbrier  ",{"$f":"ROWS($L$2:L3077)","v":3076},{"$f":"IF(L3077=WORKSHEET!$B$1,I3077,\"\")","v":""},"","WEST VIRGINIA","Greenbrier County",50,15,22,"*",91,2.9657918208264081E-2,0.23200000000000001]
[861,25,5,"Berkeley, WV - Jefferson, WV","WV: Hampshire County (54027)","WV: Hampshire County (54027)","54027","  Hampshire  ",{"$f":"ROWS($L$2:L3078)","v":3077},{"$f":"IF(L3078=WORKSHEET!$B$1,I3078,\"\")","v":""},"","WEST VIRGINIA","Hampshire County",12,"*","*","N/A",28,2.9657918208264081E-2,0.15461847389558234]
[924,380,5,"Hancock (Weirton), WV - Brooke, WV","WV: Hancock County (54029)","WV: Hancock County (54029)","54029","  Hancock  ",{"$f":"ROWS($L$2:L3079)","v":3078},{"$f":"IF(L3079=WORKSHEET!$B$1,I3079,\"\")","v":""},"","WEST VIRGINIA","Hancock County",48,{"$f":"+R3079-N3079-P3079","v":11},23,"*",82,2.9657918208264081E-2,0.16115702479338842]
[851,1,5,"Mineral, WV - Hardy, WV","WV: Hardy County (54031)","WV: Hardy County (54031)","54031","  Hardy  ",{"$f":"ROWS($L$2:L3080)","v":3079},{"$f":"IF(L3080=WORKSHEET!$B$1,I3080,\"\")","v":""},"","WEST VIRGINIA","Hardy County",16,"*","*","N/A",23,2.9657918208264081E-2,7.6555023923444973E-2]
[92,null,5,"Harrison, WV - Upshur, WV","WV: Harrison County (54033)","WV: Harrison County (54033)","54033","  Harrison  ",{"$f":"ROWS($L$2:L3081)","v":3080},{"$f":"IF(L3081=WORKSHEET!$B$1,I3081,\"\")","v":""},"","WEST VIRGINIA","Harrison County",84,{"$f":"+R3081-N3081-P3081","v":11},41,"*",136,2.9657918208264081E-2,0.125]
[863,34,5,"Wood (Parkersburg), WV - Jackson, WV","WV: Jackson County (54035)","WV: Jackson County (54035)","54035","  Jackson  ",{"$f":"ROWS($L$2:L3082)","v":3081},{"$f":"IF(L3082=WORKSHEET!$B$1,I3082,\"\")","v":""},"","WEST VIRGINIA","Jackson County",28,{"$f":"+R3082-N3082-P3082","v":2},16,"N/A",46,2.9657918208264081E-2,0.16487455197132617]
[861,25,5,"Berkeley, WV - Jefferson, WV","WV: Jefferson County (54037)","WV: Jefferson County (54037)","54037","  Jefferson  ",{"$f":"ROWS($L$2:L3083)","v":3082},{"$f":"IF(L3083=WORKSHEET!$B$1,I3083,\"\")","v":""},"","WEST VIRGINIA","Jefferson County",57,11,34,"*",103,2.9657918208264081E-2,0.15461847389558234]
[7,null,5,"Kanawha (Charleston), WV - Putnam, WV","WV: Kanawha County (54039)","WV: Kanawha County (54039)","54039","  Kanawha  ",{"$f":"ROWS($L$2:L3084)","v":3083},{"$f":"IF(L3084=WORKSHEET!$B$1,I3084,\"\")","v":""},"","WEST VIRGINIA","Kanawha County",268,36,109,"*",416,2.9657918208264081E-2,0.12606837606837606]
[92,null,5,"Harrison, WV - Upshur, WV","WV: Lewis County (54041)","WV: Lewis County (54041)","54041","  Lewis  ",{"$f":"ROWS($L$2:L3085)","v":3084},{"$f":"IF(L3085=WORKSHEET!$B$1,I3085,\"\")","v":""},"","WEST VIRGINIA","Lewis County",19,"*","*","N/A",28,2.9657918208264081E-2,0.125]
[867,46,5,"Cabell (Huntington), WV - Wayne, WV","WV: Lincoln County (54043)","WV: Lincoln County (54043)","54043","  Lincoln  ",{"$f":"ROWS($L$2:L3086)","v":3085},{"$f":"IF(L3086=WORKSHEET!$B$1,I3086,\"\")","v":""},"","WEST VIRGINIA","Lincoln County",31,"*","*","N/A",40,2.9657918208264081E-2,8.24561403508772E-2]
[856,13,5,"Logan, WV - Mingo, WV","WV: Logan County (54045)","WV: Logan County (54045)","54045","  Logan  ",{"$f":"ROWS($L$2:L3087)","v":3086},{"$f":"IF(L3087=WORKSHEET!$B$1,I3087,\"\")","v":""},"","WEST VIRGINIA","Logan County",54,{"$f":"+R3087-N3087-P3087","v":5},23,"N/A",82,2.9657918208264081E-2,0.143589743589744]
[31,null,5,"Monongalia, WV - Marion, WV","WV: Marion County (54049)","WV: Marion County (54049)","54049","  Marion  ",{"$f":"ROWS($L$2:L3088)","v":3087},{"$f":"IF(L3088=WORKSHEET!$B$1,I3088,\"\")","v":""},"","WEST VIRGINIA","Marion County",81,8,34,"N/A",123,2.9657918208264081E-2,0.11594202898550725]
[860,24,5,"Ohio (Wheeling), WV - Marshall, WV","WV: Marshall County (54051)","WV: Marshall County (54051)","54051","  Marshall  ",{"$f":"ROWS($L$2:L3089)","v":3088},{"$f":"IF(L3089=WORKSHEET!$B$1,I3089,\"\")","v":""},"","WEST VIRGINIA","Marshall County",23,6,12,"*",41,2.9657918208264081E-2,0.10945273631840796]
[904,283,5,"Mason, WV","WV: Mason County (54053)","WV: Mason County (54053)","54053","  Mason  ",{"$f":"ROWS($L$2:L3090)","v":3089},{"$f":"IF(L3090=WORKSHEET!$B$1,I3090,\"\")","v":""},"","WEST VIRGINIA","Mason County",31,4,15,"*",50,2.9657918208264081E-2,9.8684210526315805E-2]
[866,39,5,"Mercer, WV - McDowell, WV","WV: McDowell County (54047)","WV: McDowell County (54047)","54047","  Mc Dowell  ",{"$f":"ROWS($L$2:L3091)","v":3090},{"$f":"IF(L3091=WORKSHEET!$B$1,I3091,\"\")","v":""},"","WEST VIRGINIA","McDowell County",42,3,17,"N/A",62,2.9657918208264081E-2,7.2649572649572655E-2]
[866,39,5,"Mercer, WV - McDowell, WV","WV: Mercer County (54055)","WV: Mercer County (54055)","54055","  Mercer  ",{"$f":"ROWS($L$2:L3092)","v":3091},{"$f":"IF(L3092=WORKSHEET!$B$1,I3092,\"\")","v":""},"","WEST VIRGINIA","Mercer County",86,5,62,"N/A",153,2.9657918208264081E-2,7.2649572649572655E-2]
[851,1,5,"Mineral, WV - Hardy, WV","WV: Mineral County (54057)","WV: Mineral County (54057)","54057","  Mineral  ",{"$f":"ROWS($L$2:L3093)","v":3092},{"$f":"IF(L3093=WORKSHEET!$B$1,I3093,\"\")","v":""},"","WEST VIRGINIA","Mineral County",25,1,13,"N/A",39,2.9657918208264081E-2,7.6555023923444973E-2]
[856,13,5,"Logan, WV - Mingo, WV","WV: Mingo County (54059)","WV: Mingo County (54059)","54059","  Mingo  ",{"$f":"ROWS($L$2:L3094)","v":3093},{"$f":"IF(L3094=WORKSHEET!$B$1,I3094,\"\")","v":""},"","WEST VIRGINIA","Mingo County",28,11,20,"*",60,2.9657918208264081E-2,0.14358974358974358]
[31,null,5,"Monongalia, WV - Marion, WV","WV: Monongalia County (54061)","WV: Monongalia County (54061)","54061","  Monongalia  ",{"$f":"ROWS($L$2:L3095)","v":3094},{"$f":"IF(L3095=WORKSHEET!$B$1,I3095,\"\")","v":""},"","WEST VIRGINIA","Monongalia County",50,{"$f":"+R3095-N3095-P3095","v":5},37,"N/A",92,2.9657918208264081E-2,0.11594202898550725]
[862,30,5,"Greenbrier, WV - Monroe, WV","WV: Monroe County (54063)","WV: Monroe County (54063)","54063","  Monroe  ",{"$f":"ROWS($L$2:L3096)","v":3095},{"$f":"IF(L3096=WORKSHEET!$B$1,I3096,\"\")","v":""},"","WEST VIRGINIA","Monroe County",12,{"$f":"+R3096-N3096-P3096","v":3},13,"N/A",28,2.9657918208264081E-2,0.23200000000000001]
[861,25,5,"Berkeley, WV - Jefferson, WV","WV: Morgan County (54065)","WV: Morgan County (54065)","54065","  Morgan  ",{"$f":"ROWS($L$2:L3097)","v":3096},{"$f":"IF(L3097=WORKSHEET!$B$1,I3097,\"\")","v":""},"","WEST VIRGINIA","Morgan County","*","*","*","*",23,2.9657918208264081E-2,0.15461847389558234]
[7,null,5,"Kanawha (Charleston), WV - Putnam, WV","WV: Nicholas County (54067)","WV: Nicholas County (54067)","54067","  Nicholas  ",{"$f":"ROWS($L$2:L3098)","v":3097},{"$f":"IF(L3098=WORKSHEET!$B$1,I3098,\"\")","v":""},"","WEST VIRGINIA","Nicholas County",28,{"$f":"+R3098-N3098-P3098","v":5},18,"N/A",51,2.9657918208264081E-2,0.12606837606837606]
[860,24,5,"Ohio (Wheeling), WV - Marshall, WV","WV: Ohio County (54069)","WV: Ohio County (54069)","54069","  Ohio  ",{"$f":"ROWS($L$2:L3099)","v":3098},{"$f":"IF(L3099=WORKSHEET!$B$1,I3099,\"\")","v":""},"","WEST VIRGINIA","Ohio County",44,{"$f":"+R3099-N3099-P3099","v":6},22,"N/A",72,2.9657918208264081E-2,0.10945273631840796]
[870,63,5,"Pendleton, WV","WV: Pendleton County (54071)","WV: Pendleton County (54071)","54071","  Pendleton  ",{"$f":"ROWS($L$2:L3100)","v":3099},{"$f":"IF(L3100=WORKSHEET!$B$1,I3100,\"\")","v":""},"","WEST VIRGINIA","Pendleton County","*","*","*","N/A",11,2.9657918208264081E-2,0.125]
[863,34,5,"Wood (Parkersburg), WV - Jackson, WV","WV: Pleasants County (54073)","WV: Pleasants County (54073)","54073","  Pleasants  ",{"$f":"ROWS($L$2:L3101)","v":3100},{"$f":"IF(L3101=WORKSHEET!$B$1,I3101,\"\")","v":""},"","WEST VIRGINIA","Pleasants County","*","*","*","N/A",16,2.9657918208264081E-2,0.16487455197132617]
[50,null,5,"Randolph, WV - Barbour, WV","WV: Pocahontas County (54075)","WV: Pocahontas County (54075)","54075","  Pocahontas  ",{"$f":"ROWS($L$2:L3102)","v":3101},{"$f":"IF(L3102=WORKSHEET!$B$1,I3102,\"\")","v":""},"","WEST VIRGINIA","Pocahontas County","*","*","*","N/A","*",2.9657918208264081E-2,0.23880597014925373]
[31,null,5,"Monongalia, WV - Marion, WV","WV: Preston County (54077)","WV: Preston County (54077)","54077","  Preston  ",{"$f":"ROWS($L$2:L3103)","v":3102},{"$f":"IF(L3103=WORKSHEET!$B$1,I3103,\"\")","v":""},"","WEST VIRGINIA","Preston County",31,{"$f":"+R3103-N3103-P3103","v":9},16,"N/A",56,2.9657918208264081E-2,0.11594202898550725]
[7,null,5,"Kanawha (Charleston), WV - Putnam, WV","WV: Putnam County (54079)","WV: Putnam County (54079)","54079","  Putnam  ",{"$f":"ROWS($L$2:L3104)","v":3103},{"$f":"IF(L3104=WORKSHEET!$B$1,I3104,\"\")","v":""},"","WEST VIRGINIA","Putnam County",61,{"$f":"+R3104-N3104-P3104","v":4},39,"*",104,2.9657918208264081E-2,0.12606837606837606]
[60,null,5,"Raleigh, WV - Fayette, WV","WV: Raleigh County (54081)","WV: Raleigh County (54081)","54081","  Raleigh  ",{"$f":"ROWS($L$2:L3105)","v":3104},{"$f":"IF(L3105=WORKSHEET!$B$1,I3105,\"\")","v":""},"","WEST VIRGINIA","Raleigh County",110,17,56,"*",185,2.9657918208264081E-2,0.11811023622047244]
[50,null,5,"Randolph, WV - Barbour, WV","WV: Randolph County (54083)","WV: Randolph County (54083)","54083","  Randolph  ",{"$f":"ROWS($L$2:L3106)","v":3105},{"$f":"IF(L3106=WORKSHEET!$B$1,I3106,\"\")","v":""},"","WEST VIRGINIA","Randolph County",30,{"$f":"+R3106-N3106-P3106","v":6},16,"N/A",52,2.9657918208264081E-2,0.23880597014925373]
[863,34,5,"Wood (Parkersburg), WV - Jackson, WV","WV: Ritchie County (54085)","WV: Ritchie County (54085)","54085","  Ritchie  ",{"$f":"ROWS($L$2:L3107)","v":3106},{"$f":"IF(L3107=WORKSHEET!$B$1,I3107,\"\")","v":""},"","WEST VIRGINIA","Ritchie County","*","*","*","N/A",17,2.9657918208264081E-2,0.16487455197132617]
[863,34,5,"Wood (Parkersburg), WV - Jackson, WV","WV: Roane County (54087)","WV: Roane County (54087)","54087","  Roane  ",{"$f":"ROWS($L$2:L3108)","v":3107},{"$f":"IF(L3108=WORKSHEET!$B$1,I3108,\"\")","v":""},"","WEST VIRGINIA","Roane County",19,"*","*","N/A",33,2.9657918208264081E-2,0.16487455197132617]
[60,null,5,"Raleigh, WV - Fayette, WV","WV: Summers County (54089)","WV: Summers County (54089)","54089","  Summers  ",{"$f":"ROWS($L$2:L3109)","v":3108},{"$f":"IF(L3109=WORKSHEET!$B$1,I3109,\"\")","v":""},"","WEST VIRGINIA","Summers County",14,"*","*","N/A",24,2.9657918208264081E-2,0.11811023622047244]
[31,null,5,"Monongalia, WV - Marion, WV","WV: Taylor County (54091)","WV: Taylor County (54091)","54091","  Taylor  ",{"$f":"ROWS($L$2:L3110)","v":3109},{"$f":"IF(L3110=WORKSHEET!$B$1,I3110,\"\")","v":""},"","WEST VIRGINIA","Taylor County",21,"*","*","N/A",30,2.9657918208264081E-2,0.11594202898550725]
[50,null,5,"Randolph, WV - Barbour, WV","WV: Tucker County (54093)","WV: Tucker County (54093)","54093","  Tucker  ",{"$f":"ROWS($L$2:L3111)","v":3110},{"$f":"IF(L3111=WORKSHEET!$B$1,I3111,\"\")","v":""},"","WEST VIRGINIA","Tucker County","*","*","*","N/A","*",2.9657918208264081E-2,0.23880597014925373]
[860,24,5,"Ohio (Wheeling), WV - Marshall, WV","WV: Tyler County (54095)","WV: Tyler County (54095)","54095","  Tyler  ",{"$f":"ROWS($L$2:L3112)","v":3111},{"$f":"IF(L3112=WORKSHEET!$B$1,I3112,\"\")","v":""},"","WEST VIRGINIA","Tyler County","*","N/A","*","N/A","*",2.9657918208264081E-2,0.10945273631840796]
[92,null,5,"Harrison, WV - Upshur, WV","WV: Upshur County (54097)","WV: Upshur County (54097)","54097","  Upshur  ",{"$f":"ROWS($L$2:L3113)","v":3112},{"$f":"IF(L3113=WORKSHEET!$B$1,I3113,\"\")","v":""},"","WEST VIRGINIA","Upshur County",18,{"$f":"+R3113-N3113-P3113","v":4},13,"N/A",35,2.9657918208264081E-2,0.125]
[867,46,5,"Cabell (Huntington), WV - Wayne, WV","WV: Wayne County (54099)","WV: Wayne County (54099)","54099","  Wayne  ",{"$f":"ROWS($L$2:L3114)","v":3113},{"$f":"IF(L3114=WORKSHEET!$B$1,I3114,\"\")","v":""},"","WEST VIRGINIA","Wayne County",47,{"$f":"+R3114-N3114-P3114","v":7},24,"*",78,2.9657918208264081E-2,8.24561403508772E-2]
[7,null,5,"Kanawha (Charleston), WV - Putnam, WV","WV: Webster County (54101)","WV: Webster County (54101)","54101","  Webster  ",{"$f":"ROWS($L$2:L3115)","v":3114},{"$f":"IF(L3115=WORKSHEET!$B$1,I3115,\"\")","v":""},"","WEST VIRGINIA","Webster County",16,"*","*","N/A",28,2.9657918208264081E-2,0.12606837606837606]
[860,24,5,"Ohio (Wheeling), WV - Marshall, WV","WV: Wetzel County (54103)","WV: Wetzel County (54103)","54103","  Wetzel  ",{"$f":"ROWS($L$2:L3116)","v":3115},{"$f":"IF(L3116=WORKSHEET!$B$1,I3116,\"\")","v":""},"","WEST VIRGINIA","Wetzel County",19,"*","*","*",29,2.9657918208264081E-2,0.10945273631840796]
[863,34,5,"Wood (Parkersburg), WV - Jackson, WV","WV: Wirt County (54105)","WV: Wirt County (54105)","54105","  Wirt  ",{"$f":"ROWS($L$2:L3117)","v":3116},{"$f":"IF(L3117=WORKSHEET!$B$1,I3117,\"\")","v":""},"","WEST VIRGINIA","Wirt County","*","*","N/A","N/A","*",2.9657918208264081E-2,0.16487455197132617]
[863,34,5,"Wood (Parkersburg), WV - Jackson, WV","WV: Wood County (54107)","WV: Wood County (54107)","54107","  Wood  ",{"$f":"ROWS($L$2:L3118)","v":3117},{"$f":"IF(L3118=WORKSHEET!$B$1,I3118,\"\")","v":""},"","WEST VIRGINIA","Wood County",97,22,60,"N/A",179,2.9657918208264081E-2,0.16487455197132617]
[60,null,5,"Raleigh, WV - Fayette, WV","WV: Wyoming County (54109)","WV: Wyoming County (54109)","54109","  Wyoming  ",{"$f":"ROWS($L$2:L3119)","v":3118},{"$f":"IF(L3119=WORKSHEET!$B$1,I3119,\"\")","v":""},"","WEST VIRGINIA","Wyoming County",27,{"$f":"+R3119-N3119-P3119","v":4},11,"N/A",42,2.9657918208264081E-2,0.11811023622047244]
[975,771,15,"Albany, WY - Carbon, WY","WY: Albany County (56001)","WY: Albany County (56001)","56001","Albany  ",{"$f":"ROWS($L$2:L3120)","v":3119},{"$f":"IF(L3120=WORKSHEET!$B$1,I3120,\"\")","v":""},"","WYOMING","Albany County",14,{"$f":"+R3120-N3120-P3120","v":1},12,"N/A",27,3.5873498773931679E-2,0.20689655172413793]
[749,null,15,"Park, WY - Big Horn, WY","WY: Big Horn County (56003)","WY: Big Horn County (56003)","56003","  Big Horn  ",{"$f":"ROWS($L$2:L3121)","v":3120},{"$f":"IF(L3121=WORKSHEET!$B$1,I3121,\"\")","v":""},"","WYOMING","Big Horn County","*","N/A",12,"N/A",17,3.5873498773931679E-2,0.25]
[950,586,15,"Campbell, WY - Crook, WY","WY: Campbell County (56005)","WY: Campbell County (56005)","56005","  Campbell  ",{"$f":"ROWS($L$2:L3122)","v":3121},{"$f":"IF(L3122=WORKSHEET!$B$1,I3122,\"\")","v":""},"","WYOMING","Campbell County",24,{"$f":"+R3122-N3122-P3122","v":0},17,"N/A",41,3.5873498773931679E-2,2.1739130434782608E-2]
[975,771,15,"Albany, WY - Carbon, WY","WY: Carbon County (56007)","WY: Carbon County (56007)","56007","  Carbon  ",{"$f":"ROWS($L$2:L3123)","v":3122},{"$f":"IF(L3123=WORKSHEET!$B$1,I3123,\"\")","v":""},"","WYOMING","Carbon County","*","*","*","N/A",17,3.5873498773931679E-2,0.20689655172413793]
[726,null,15,"Natrona (Casper), WY - Converse, WY","WY: Converse County (56009)","WY: Converse County (56009)","56009","  Converse  ",{"$f":"ROWS($L$2:L3124)","v":3123},{"$f":"IF(L3124=WORKSHEET!$B$1,I3124,\"\")","v":""},"","WYOMING","Converse County","*","N/A","*","*","*",3.5873498773931679E-2,0.11267605633802817]
[950,586,15,"Campbell, WY - Crook, WY","WY: Crook County (56011)","WY: Crook County (56011)","56011","  Crook  ",{"$f":"ROWS($L$2:L3125)","v":3124},{"$f":"IF(L3125=WORKSHEET!$B$1,I3125,\"\")","v":""},"","WYOMING","Crook County","*","N/A","N/A","N/A","*",3.5873498773931679E-2,2.1739130434782608E-2]
[777,null,15,"Fremont, WY - Washakie, WY","WY: Fremont County (56013)","WY: Fremont County (56013)","56013","  Fremont  ",{"$f":"ROWS($L$2:L3126)","v":3125},{"$f":"IF(L3126=WORKSHEET!$B$1,I3126,\"\")","v":""},"","WYOMING","Fremont County",50,{"$f":"+R3126-N3126-P3126","v":2},22,"*",74,3.5873498773931679E-2,9.5238095238095233E-2]
[948,580,15,"Goshen, WY - Niobrara, WY","WY: Goshen County (56015)","WY: Goshen County (56015)","56015","  Goshen  ",{"$f":"ROWS($L$2:L3127)","v":3126},{"$f":"IF(L3127=WORKSHEET!$B$1,I3127,\"\")","v":""},"","WYOMING","Goshen County","*","*","*","N/A",16,3.5873498773931679E-2,8.98876404494382E-2]
[777,null,15,"Fremont, WY - Washakie, WY","WY: Hot Springs County (56017)","WY: Hot Springs County (56017)","56017","  Hot Springs  ",{"$f":"ROWS($L$2:L3128)","v":3127},{"$f":"IF(L3128=WORKSHEET!$B$1,I3128,\"\")","v":""},"","WYOMING","Hot Springs County","*","N/A","*","*","*",3.5873498773931679E-2,9.5238095238095233E-2]
[770,null,15,"Sheridan, WY - Johnson, WY","WY: Johnson County (56019)","WY: Johnson County (56019)","56019","  Johnson  ",{"$f":"ROWS($L$2:L3129)","v":3128},{"$f":"IF(L3129=WORKSHEET!$B$1,I3129,\"\")","v":""},"","WYOMING","Johnson County","*","N/A","*","N/A","*",3.5873498773931679E-2,0.11764705882352941]
[971,741,15,"Laramie (Cheyenne), WY","WY: Laramie County (56021)","WY: Laramie County (56021)","56021","  Laramie  ",{"$f":"ROWS($L$2:L3130)","v":3129},{"$f":"IF(L3130=WORKSHEET!$B$1,I3130,\"\")","v":""},"","WYOMING","Laramie County",84,{"$f":"+R3130-N3130-P3130","v":5},62,"N/A",151,3.5873498773931679E-2,8.1632653061224483E-2]
[775,null,15,"Teton, WY - Lincoln, WY","WY: Lincoln County (56023)","WY: Lincoln County (56023)","56023","  Lincoln  ",{"$f":"ROWS($L$2:L3131)","v":3130},{"$f":"IF(L3131=WORKSHEET!$B$1,I3131,\"\")","v":""},"","WYOMING","Lincoln County","*","*","*","N/A",15,3.5873498773931679E-2,0.16666666666666666]
[726,null,15,"Natrona (Casper), WY - Converse, WY","WY: Natrona County (56025)","WY: Natrona County (56025)","56025","  Natrona  ",{"$f":"ROWS($L$2:L3132)","v":3131},{"$f":"IF(L3132=WORKSHEET!$B$1,I3132,\"\")","v":""},"","WYOMING","Natrona County",59,{"$f":"+R3132-N3132-P3132","v":6},49,"*",114,3.5873498773931679E-2,0.11267605633802817]
[948,580,15,"Goshen, WY - Niobrara, WY","WY: Niobrara County (56027)","WY: Niobrara County (56027)","56027","  Niobrara  ",{"$f":"ROWS($L$2:L3133)","v":3132},{"$f":"IF(L3133=WORKSHEET!$B$1,I3133,\"\")","v":""},"","WYOMING","Niobrara County","N/A","*","N/A","N/A","*",3.5873498773931679E-2,8.98876404494382E-2]
[749,null,15,"Park, WY - Big Horn, WY","WY: Park County (56029)","WY: Park County (56029)","56029","  Park  ",{"$f":"ROWS($L$2:L3134)","v":3133},{"$f":"IF(L3134=WORKSHEET!$B$1,I3134,\"\")","v":""},"","WYOMING","Park County","*","*",25,"*",40,3.5873498773931679E-2,0.25]
[797,null,15,"Platte, WY","WY: Platte County (56031)","WY: Platte County (56031)","56031","  Platte  ",{"$f":"ROWS($L$2:L3135)","v":3134},{"$f":"IF(L3135=WORKSHEET!$B$1,I3135,\"\")","v":""},"","WYOMING","Platte County","*","*","*","N/A","*",3.5873498773931679E-2,0.1111111111111111]
[770,null,15,"Sheridan, WY - Johnson, WY","WY: Sheridan County (56033)","WY: Sheridan County (56033)","56033","  Sheridan  ",{"$f":"ROWS($L$2:L3136)","v":3135},{"$f":"IF(L3136=WORKSHEET!$B$1,I3136,\"\")","v":""},"","WYOMING","Sheridan County",12,{"$f":"+R3136-N3136-P3136","v":2},16,"*",30,3.5873498773931679E-2,0.11764705882352941]
[775,null,15,"Teton, WY - Lincoln, WY","WY: Sublette County (56035)","WY: Sublette County (56035)","56035","  Sublette  ",{"$f":"ROWS($L$2:L3137)","v":3136},{"$f":"IF(L3137=WORKSHEET!$B$1,I3137,\"\")","v":""},"","WYOMING","Sublette County","N/A","*","*","N/A","*",3.5873498773931679E-2,0.16666666666666666]
[977,799,15,"Sweetwater, WY","WY: Sweetwater County (56037)","WY: Sweetwater County (56037)","56037","  Sweetwater  ",{"$f":"ROWS($L$2:L3138)","v":3137},{"$f":"IF(L3138=WORKSHEET!$B$1,I3138,\"\")","v":""},"","WYOMING","Sweetwater County",24,{"$f":"+R3138-N3138-P3138","v":4},30,"N/A",58,3.5873498773931679E-2,0.13793103448275862]
[775,null,15,"Teton, WY - Lincoln, WY","WY: Teton County (56039)","WY: Teton County (56039)","56039","  Teton  ",{"$f":"ROWS($L$2:L3139)","v":3138},{"$f":"IF(L3139=WORKSHEET!$B$1,I3139,\"\")","v":""},{"$f":"IFERROR(SMALL($J$2:$J$3142,I3139),\"\")","v":""},"WYOMING","Teton County","*","*","*","N/A","*",3.5873498773931679E-2,0.16666666666666666]
[792,null,15,"Uinta, WY","WY: Uinta County (56041)","WY: Uinta County (56041)","56041","  Uinta  ",{"$f":"ROWS($L$2:L3140)","v":3139},{"$f":"IF(L3140=WORKSHEET!$B$1,I3140,\"\")","v":""},{"$f":"IFERROR(SMALL($J$2:$J$3142,I3140),\"\")","v":""},"WYOMING","Uinta County",11,{"$f":"+R3140-N3140-P3140","v":1},11,"N/A",23,3.5873498773931679E-2,8.3333333333333329E-2]
[777,null,15,"Fremont, WY - Washakie, WY","WY: Washakie County (56043)","WY: Washakie County (56043)","56043","  Washakie  ",{"$f":"ROWS($L$2:L3141)","v":3140},{"$f":"IF(L3141=WORKSHEET!$B$1,I3141,\"\")","v":""},{"$f":"IFERROR(SMALL($J$2:$J$3142,I3141),\"\")","v":""},"WYOMING","Washakie County","*","*","N/A","N/A","*",3.5873498773931679E-2,9.5238095238095233E-2]
[804,null,15,"Weston, WY","WY: Weston County (56045)","WY: Weston County (56045)","56045","  Weston  ",{"$f":"ROWS($L$2:L3142)","v":3141},{"$f":"IF(L3142=WORKSHEET!$B$1,I3142,\"\")","v":""},{"$f":"IFERROR(SMALL($J$2:$J$3142,I3142),\"\")","v":""},"WYOMING","Weston County","*","*","*","N/A","*",3.5873498773931679E-2,0.1111111111111111]
[null,null,null,null,null,null,null,"Total",null,null,null,null,null,{"$f":"SUM(N2:N3142)","v":433769},{"$f":"+R3143-N3143-P3143","v":57326},{"$f":"SUM(P2:P3142)","v":194753},{"$f":"SUM(Q2:Q3142)","v":283},{"$f":"SUM(R2:R3142)","v":685848}]
[null,null,null,null,null,null,null,null,null,null,null,null,null,{"$f":"+N3143/R3143","v":0.63245646265644861},{"$f":"+O3143/R3143","v":8.3584117763702739E-2},{"$f":"+P3143/R3143","v":0.2839594195798486}]
[null,null,null,null,null,null,null,"From Report",null,null,null,null,null,437527,null,null,null,690899]
[null,null,null,null,null,null,null,null,null,null,null,null,null,{"$f":"+N3145-N3143","v":3758},"  "," "," ",{"$f":"+R3145-R3143","v":5051}]
[null,null,null,null,null,null,null,null,null,null,null,null,null,{"$f":"+N3146/N3145","v":8.5891842103458758E-3}," "," "," ",{"$f":"+R3146/R3145","v":7.3107646703787386E-3}]

{"sheet":"Old HSA","index":1,"n_rows":3218,"n_cols":4,"rows_kept":3218,"cut":false,"hidden":true,"merged":[]}
["HSA #","Health Service Area Description","State-county","FIPS"]
[820,"Anchorage (Anchorage), AK - Matanuska-Susitna Borough, AK","AK: Aleutian Islands Census Area (02010) - 1990-1993","24001"]
[820,"Anchorage (Anchorage), AK - Matanuska-Susitna Borough, AK","AK: Aleutians East Borough (02013) - 1994+","24023"]
[820,"Anchorage (Anchorage), AK - Matanuska-Susitna Borough, AK","AK: Aleutians West Census Area (02016) - 1994+","54023"]
[820,"Anchorage (Anchorage), AK - Matanuska-Susitna Borough, AK","AK: Anchorage Municipality (02020) - 1990+","54031"]
[820,"Anchorage (Anchorage), AK - Matanuska-Susitna Borough, AK","AK: Bethel Census Area (02050) - 1990+","54057"]
[820,"Anchorage (Anchorage), AK - Matanuska-Susitna Borough, AK","AK: Bristol Bay Borough (02060) - 1990+","21015"]
[819,"Fairbanks North Star Borough, AK - Denali/Yukon-Koyukuk, AK","AK: Denali Borough (02068) - 1990+","21037"]
[820,"Anchorage (Anchorage), AK - Matanuska-Susitna Borough, AK","AK: Dillingham Census Area (02070) - 1994+","21077"]
[820,"Anchorage (Anchorage), AK - Matanuska-Susitna Borough, AK","AK: Dillingham/Lake and Peninsula (02910) - 1990-1993","21081"]
[819,"Fairbanks North Star Borough, AK - Denali/Yukon-Koyukuk, AK","AK: Fairbanks North Star Borough (02090) - 1990+","21117"]
[818,"Juneau City and Borough, AK - Sitka City and Borough, AK","AK: Haines Borough (02100) - 1990+","21191"]
[818,"Juneau City and Borough, AK - Sitka City and Borough, AK","AK: Juneau City and Borough (02110) - 1990+","10001"]
[820,"Anchorage (Anchorage), AK - Matanuska-Susitna Borough, AK","AK: Kenai Peninsula Borough (02122) - 1990+","10005"]
[817,"Ketchikan Gateway Borough, AK - Wrangell-Petersburg Cen, AK","AK: Ketchikan Gateway Borough (02130) - 1990+","24039"]
[820,"Anchorage (Anchorage), AK - Matanuska-Susitna Borough, AK","AK: Kodiak Island Borough (02150) - 1990+","24045"]
[820,"Anchorage (Anchorage), AK - Matanuska-Susitna Borough, AK","AK: Lake and Peninsula Borough (02164) - 1994+","24047"]
[820,"Anchorage (Anchorage), AK - Matanuska-Susitna Borough, AK","AK: Matanuska-Susitna Borough (02170) - 1990+","09003"]
[820,"Anchorage (Anchorage), AK - Matanuska-Susitna Borough, AK","AK: Nome Census Area (02180) - 1990+","09013"]
[820,"Anchorage (Anchorage), AK - Matanuska-Susitna Borough, AK","AK: North Slope Borough (02185) - 1990+","09015"]
[820,"Anchorage (Anchorage), AK - Matanuska-Susitna Borough, AK","AK: Northwest Arctic Borough (02188) - 1990+","51073"]
[817,"Ketchikan Gateway Borough, AK - Wrangell-Petersburg Cen, AK","AK: Prince of Wales-Outer Ketchikan Cen Ar (02201) - 1990+","51650"]
[818,"Juneau City and Borough, AK - Sitka City and Borough, AK","AK: Sitka City and Borough (02220) - 1990+","51095"]
[818,"Juneau City and Borough, AK - Sitka City and Borough, AK","AK: Skagway-Hoonah-Angoon Census Area (02232) - 1994+","51911"]
[818,"Juneau City and Borough, AK - Sitka City and Borough, AK","AK: Skagway-Yakutat-Angoon Census Ar (02231) - 1990-1993","51115"]
[819,"Fairbanks North Star Borough, AK - Denali/Yukon-Koyukuk, AK","AK: Southeast Fairbanks Census Area (02240) - 1990+","51700"]
[820,"Anchorage (Anchorage), AK - Matanuska-Susitna Borough, AK","AK: Valdez-Cordova Census Area (02261) - 1990+","51735"]
[820,"Anchorage (Anchorage), AK - Matanuska-Susitna Borough, AK","AK: Wade Hampton Census Area (02270) - 1990+","51830"]
[817,"Ketchikan Gateway Borough, AK - Wrangell-Petersburg Cen, AK","AK: Wrangell-Petersburg Census Area (02280) - 1990+","51199"]
[818,"Juneau City and Borough, AK - Sitka City and Borough, AK","AK: Yakutat City and Borough (02282) - 1994+","37053"]
[819,"Fairbanks North Star Borough, AK - Denali/Yukon-Koyukuk, AK","AK: Yukon-Koyukuk Census Area (02290) - 1990+","51550"]
[171,"Montgomery (Montgomery), AL - Autauga, AL","AL: Autauga County (01001)","51620"]
[161,"Mobile (Mobile), AL - Baldwin, AL","AL: Baldwin County (01003)","51093"]
[162,"Houston (Dothan), AL - Dale, AL","AL: Barbour County (01005)","51710"]
[150,"Jefferson (Birmingham), AL - Shelby, AL","AL: Bibb County (01007)","51740"]
[150,"Jefferson (Birmingham), AL - Shelby, AL","AL: Blount County (01009)","51175"]
[171,"Montgomery (Montgomery), AL - Autauga, AL","AL: Bullock County (01011)","51800"]
[259,"Butler, AL","AL: Butler County (01013)","51810"]
[177,"Calhoun (Anniston), AL - Carroll, GA","AL: Calhoun County (01015)","54005"]
[172,"Coweta, GA - Troup (La Grange), GA","AL: Chambers County (01017)","54015"]
[224,"Etowah (Gadsden), AL - Marshall, AL","AL: Cherokee County (01019)","54039"]
[150,"Jefferson (Birmingham), AL - Shelby, AL","AL: Chilton County (01021)","54067"]
[412,"Lauderdale, MS - Neshoba, MS","AL: Choctaw County (01023)","54079"]
[161,"Mobile (Mobile), AL - Baldwin, AL","AL: Clarke County (01025)","54101"]
[241,"Talladega, AL - Clay, AL","AL: Clay County (01027)","42093"]
[177,"Calhoun (Anniston), AL - Carroll, GA","AL: Cleburne County (01029)","42097"]
[162,"Houston (Dothan), AL - Dale, AL","AL: Coffee County (01031)","42107"]
[219,"Lauderdale (Florence), AL - Colbert, AL","AL: Colbert County (01033)","42109"]
[163,"Escambia (Pensacola), FL - Okaloosa, FL","AL: Conecuh County (01035)","42119"]
[241,"Talladega, AL - Clay, AL","AL: Coosa County (01037)","23005"]
[171,"Montgomery (Montgomery), AL - Autauga, AL","AL: Covington County (01039)","23013"]
[171,"Montgomery (Montgomery), AL - Autauga, AL","AL: Crenshaw County (01041)","23015"]
[150,"Jefferson (Birmingham), AL - Shelby, AL","AL: Cullman County (01043)","23023"]
[162,"Houston (Dothan), AL - Dale, AL","AL: Dale County (01045)","36001"]
[175,"Dallas, AL - Marengo, AL","AL: Dallas County (01047)","36083"]
[224,"Etowah (Gadsden), AL - Marshall, AL","AL: DeKalb County (01049)","50003"]
[179,"Lee (Auburn), AL - Elmore, AL","AL: Elmore County (01051)","21071"]
[163,"Escambia (Pensacola), FL - Okaloosa, FL","AL: Escambia County (01053)","21115"]
[224,"Etowah (Gadsden), AL - Marshall, AL","AL: Etowah County (01055)","21153"]
[247,"Marion, AL - Fayette, AL","AL: Fayette County (01057)","17087"]
[219,"Lauderdale (Florence), AL - Colbert, AL","AL: Franklin County (01059)","17127"]
[162,"Houston (Dothan), AL - Dale, AL","AL: Geneva County (01061)","21007"]
[156,"Tuscaloosa (Tuscaloosa), AL - Pickens, AL","AL: Greene County (01063)","21039"]
[156,"Tuscaloosa (Tuscaloosa), AL - Pickens, AL","AL: Hale County (01065)","21055"]
[162,"Houston (Dothan), AL - Dale, AL","AL: Henry County (01067)","21083"]
[162,"Houston (Dothan), AL - Dale, AL","AL: Houston County (01069)","21105"]
[210,"Madison (Huntsville), AL - Limestone, AL","AL: Jackson County (01071)","21139"]
[150,"Jefferson (Birmingham), AL - Shelby, AL","AL: Jefferson County (01073)","21143"]
[461,"Lowndes, MS - Clay, MS","AL: Lamar County (01075)","21157"]
[219,"Lauderdale (Florence), AL - Colbert, AL","AL: Lauderdale County (01077)","21145"]
[185,"Morgan (Decatur), AL - Lawrence, AL","AL: Lawrence County (01079)","21195"]
[179,"Lee (Auburn), AL - Elmore, AL","AL: Lee County (01081)","54045"]
[210,"Madison (Huntsville), AL - Limestone, AL","AL: Limestone County (01083)","54059"]
[171,"Montgomery (Montgomery), AL - Autauga, AL","AL: Lowndes County (01085)","51009"]
[179,"Lee (Auburn), AL - Elmore, AL","AL: Macon County (01087)","51011"]
[210,"Madison (Huntsville), AL - Limestone, AL","AL: Madison County (01089)","51515"]
[175,"Dallas, AL - Marengo, AL","AL: Marengo County (01091)","51917"]
[247,"Marion, AL - Fayette, AL","AL: Marion County (01093)","51019"]
[224,"Etowah (Gadsden), AL - Marshall, AL","AL: Marshall County (01095)","51023"]
[161,"Mobile (Mobile), AL - Baldwin, AL","AL: Mobile County (01097)","51031"]
[161,"Mobile (Mobile), AL - Baldwin, AL","AL: Monroe County (01099)","51045"]
[171,"Montgomery (Montgomery), AL - Autauga, AL","AL: Montgomery County (01101)","51063"]
[185,"Morgan (Decatur), AL - Lawrence, AL","AL: Morgan County (01103)","51067"]
[175,"Dallas, AL - Marengo, AL","AL: Perry County (01105)","51680"]
[156,"Tuscaloosa (Tuscaloosa), AL - Pickens, AL","AL: Pickens County (01107)","51770"]
[171,"Montgomery (Montgomery), AL - Autauga, AL","AL: Pike County (01109)","51161"]
[172,"Coweta, GA - Troup (La Grange), GA","AL: Randolph County (01111)","51775"]
[166,"Muscogee (Columbus), GA - Russell, AL","AL: Russell County (01113)","33009"]
[150,"Jefferson (Birmingham), AL - Shelby, AL","AL: Shelby County (01117)","33019"]
[150,"Jefferson (Birmingham), AL - Shelby, AL","AL: St. Clair County (01115)","50017"]
[412,"Lauderdale, MS - Neshoba, MS","AL: Sumter County (01119)","50023"]
[241,"Talladega, AL - Clay, AL","AL: Talladega County (01121)","50027"]
[179,"Lee (Auburn), AL - Elmore, AL","AL: Tallapoosa County (01123)","24003"]
[156,"Tuscaloosa (Tuscaloosa), AL - Pickens, AL","AL: Tuscaloosa County (01125)","24510"]
[150,"Jefferson (Birmingham), AL - Shelby, AL","AL: Walker County (01127)","24005"]
[161,"Mobile (Mobile), AL - Baldwin, AL","AL: Washington County (01129)","24009"]
[175,"Dallas, AL - Marengo, AL","AL: Wilcox County (01131)","24013"]
[219,"Lauderdale (Florence), AL - Colbert, AL","AL: Winston County (01133)","24027"]
[527,"Arkansas, AR - Monroe, AR","AR: Arkansas County (05001)","23009"]
[480,"Ashley, AR - Chicot, AR","AR: Ashley County (05003)","23019"]
[407,"Baxter, AR - Marion, AR","AR: Baxter County (05005)","23021"]
[446,"Washington (Fayetteville), AR - Benton, AR","AR: Benton County (05007)","23029"]
[494,"Boone, AR - Carroll, AR","AR: Boone County (05009)","21025"]
[473,"Jefferson (Pine Bluff), AR - Drew, AR","AR: Bradley County (05011)","21049"]
[486,"Union, AR - Columbia, AR","AR: Calhoun County (05013)","21067"]
[494,"Boone, AR - Carroll, AR","AR: Carroll County (05015)","21113"]
[480,"Ashley, AR - Chicot, AR","AR: Chicot County (05017)","21119"]
[448,"Garland, AR - Hot Spring, AR","AR: Clark County (05019)","21129"]
[571,"Craighead, AR - Greene, AR","AR: Clay County (05021)","21131"]
[457,"White, AR - Cleburne, AR","AR: Cleburne County (05023)","21189"]
[473,"Jefferson (Pine Bluff), AR - Drew, AR","AR: Cleveland County (05025)","21193"]
[486,"Union, AR - Columbia, AR","AR: Columbia County (05027)","21197"]
[432,"Pulaski (Little Rock), AR - Faulkner, AR","AR: Conway County (05029)","21209"]
[571,"Craighead, AR - Greene, AR","AR: Craighead County (05031)","21237"]
[421,"Sebastian (Fort Smith), AR - Crawford, AR","AR: Crawford County (05033)","21239"]
[499,"Crittenden (West Memphis), AR - St. Francis, AR","AR: Crittenden County (05035)","36007"]
[499,"Crittenden (West Memphis), AR - St. Francis, AR","AR: Cross County (05037)","36107"]
[496,"Ouachita, AR - Dallas, AR","AR: Dallas County (05039)","42015"]
[473,"Jefferson (Pine Bluff), AR - Drew, AR","AR: Desha County (05041)","42113"]
[473,"Jefferson (Pine Bluff), AR - Drew, AR","AR: Drew County (05043)","42115"]
[432,"Pulaski (Little Rock), AR - Faulkner, AR","AR: Faulkner County (05045)","09011"]
[421,"Sebastian (Fort Smith), AR - Crawford, AR","AR: Franklin County (05047)","44001"]
[574,"Howell, MO - Independence, AR","AR: Fulton County (05049)","44003"]
[448,"Garland, AR - Hot Spring, AR","AR: Garland County (05051)","44007"]
[432,"Pulaski (Little Rock), AR - Faulkner, AR","AR: Grant County (05053)","44009"]
[571,"Craighead, AR - Greene, AR","AR: Greene County (05055)","36069"]
[404,"Bowie (Texarkana), TX - Miller, AR","AR: Hempstead County (05057)","36099"]
[448,"Garland, AR - Hot Spring, AR","AR: Hot Spring County (05059)","36117"]
[404,"Bowie (Texarkana), TX - Miller, AR","AR: Howard County (05061)","36123"]
[574,"Howell, MO - Independence, AR","AR: Independence County (05063)","25001"]
[574,"Howell, MO - Independence, AR","AR: Izard County (05065)","25007"]
[521,"Jackson, AR","AR: Jackson County (05067)","25017"]
[473,"Jefferson (Pine Bluff), AR - Drew, AR","AR: Jefferson County (05069)","25019"]
[522,"Johnson, AR","AR: Johnson County (05071)","25021"]
[404,"Bowie (Texarkana), TX - Miller, AR","AR: Lafayette County (05073)","25023"]
[571,"Craighead, AR - Greene, AR","AR: Lawrence County (05075)","25025"]
[499,"Crittenden (West Memphis), AR - St. Francis, AR","AR: Lee County (05077)","34005"]
[473,"Jefferson (Pine Bluff), AR - Drew, AR","AR: Lincoln County (05079)","34007"]
[404,"Bowie (Texarkana), TX - Miller, AR","AR: Little River County (05081)","34015"]
[421,"Sebastian (Fort Smith), AR - Crawford, AR","AR: Logan County (05083)","34033"]
[432,"Pulaski (Little Rock), AR - Faulkner, AR","AR: Lonoke County (05085)","39013"]
[446,"Washington (Fayetteville), AR - Benton, AR","AR: Madison County (05087)","39111"]
[407,"Baxter, AR - Marion, AR","AR: Marion County (05089)","54051"]
[404,"Bowie (Texarkana), TX - Miller, AR","AR: Miller County (05091)","54069"]
[614,"Mississippi, AR - Pemiscot, MO","AR: Mississippi County (05093)","54095"]
[527,"Arkansas, AR - Monroe, AR","AR: Monroe County (05095)","54103"]
[448,"Garland, AR - Hot Spring, AR","AR: Montgomery County (05097)","51043"]
[404,"Bowie (Texarkana), TX - Miller, AR","AR: Nevada County (05099)","51069"]
[494,"Boone, AR - Carroll, AR","AR: Newton County (05101)","51171"]
[496,"Ouachita, AR - Dallas, AR","AR: Ouachita County (05103)","51187"]
[432,"Pulaski (Little Rock), AR - Faulkner, AR","AR: Perry County (05105)","51840"]
[537,"Phillips, AR","AR: Phillips County (05107)","54003"]
[448,"Garland, AR - Hot Spring, AR","AR: Pike County (05109)","54027"]
[571,"Craighead, AR - Greene, AR","AR: Poinsett County (05111)","54037"]
[534,"Polk, AR","AR: Polk County (05113)","54065"]
[442,"Pope, AR - Yell, AR","AR: Pope County (05115)","42027"]
[432,"Pulaski (Little Rock), AR - Faulkner, AR","AR: Prairie County (05117)","42033"]
[432,"Pulaski (Little Rock), AR - Faulkner, AR","AR: Pulaski County (05119)","42065"]
[571,"Craighead, AR - Greene, AR","AR: Randolph County (05121)","21021"]
[432,"Pulaski (Little Rock), AR - Faulkner, AR","AR: Saline County (05125)","21045"]
[421,"Sebastian (Fort Smith), AR - Crawford, AR","AR: Scott County (05127)","21079"]
[494,"Boone, AR - Carroll, AR","AR: Searcy County (05129)","21137"]
[421,"Sebastian (Fort Smith), AR - Crawford, AR","AR: Sebastian County (05131)","21167"]
[404,"Bowie (Texarkana), TX - Miller, AR","AR: Sevier County (05133)","42017"]
[574,"Howell, MO - Independence, AR","AR: Sharp County (05135)","42029"]
[499,"Crittenden (West Memphis), AR - St. Francis, AR","AR: St. Francis County (05123)","42045"]
[574,"Howell, MO - Independence, AR","AR: Stone County (05137)","42091"]
[486,"Union, AR - Columbia, AR","AR: Union County (05139)","42101"]
[432,"Pulaski (Little Rock), AR - Faulkner, AR","AR: Van Buren County (05141)","21003"]
[446,"Washington (Fayetteville), AR - Benton, AR","AR: Washington County (05143)","21031"]
[457,"White, AR - Cleburne, AR","AR: White County (05145)","21061"]
[457,"White, AR - Cleburne, AR","AR: Woodruff County (05147)","21141"]
[442,"Pope, AR - Yell, AR","AR: Yell County (05149)","21213"]
[765,"McKinley, NM - Apache, AZ","AZ: Apache County (04001)","21227"]
[700,"Pima (Tucson), AZ - Cochise, AZ","AZ: Cochise County (04003)","51005"]
[699,"Maricopa (Phoenix), AZ - Pinal, AZ","AZ: Coconino County (04005)","51916"]
[699,"Maricopa (Phoenix), AZ - Pinal, AZ","AZ: Gila County (04007)","51017"]
[700,"Pima (Tucson), AZ - Cochise, AZ","AZ: Graham County (04009)","51580"]
[700,"Pima (Tucson), AZ - Cochise, AZ","AZ: Greenlee County (04011)","54025"]
[787,"Yuma, AZ - La Paz, AZ","AZ: La Paz County (04012) - 1994+","54063"]
[787,"Yuma, AZ - La Paz, AZ","AZ: La Paz/Yuma (04910) - 1969-1993","54049"]
[699,"Maricopa (Phoenix), AZ - Pinal, AZ","AZ: Maricopa County (04013)","54061"]
[803,"Mohave, AZ","AZ: Mohave County (04015)","54077"]
[740,"San Juan, NM - Navajo, AZ","AZ: Navajo County (04017)","54091"]
[700,"Pima (Tucson), AZ - Cochise, AZ","AZ: Pima County (04019)","25013"]
[699,"Maricopa (Phoenix), AZ - Pinal, AZ","AZ: Pinal County (04021)","25015"]
[700,"Pima (Tucson), AZ - Cochise, AZ","AZ: Santa Cruz County (04023)","51007"]
[699,"Maricopa (Phoenix), AZ - Pinal, AZ","AZ: Yavapai County (04025)","51036"]
[787,"Yuma, AZ - La Paz, AZ","AZ: Yuma County (04027) - 1994+","51037"]
[766,"Alameda (Oakland), CA - Contra Costa, CA","CA: Alameda County (06001)","51041"]
[701,"Washoe (Reno), NV - Carson City, NV","CA: Alpine County (06003)","51570"]
[750,"San Joaquin (Stockton), CA - Calaveras, CA","CA: Amador County (06005)","51049"]
[697,"Butte (Chico), CA - Tehama, CA","CA: Butte County (06007)","51057"]
[750,"San Joaquin (Stockton), CA - Calaveras, CA","CA: Calaveras County (06009)","51075"]
[690,"Sutter (Yuba City), CA - Yuba, CA","CA: Colusa County (06011)","51085"]
[766,"Alameda (Oakland), CA - Contra Costa, CA","CA: Contra Costa County (06013)","51087"]
[738,"Coos, OR - Del Norte, CA","CA: Del Norte County (06015)","51097"]
[709,"Sacramento (Sacramento), CA - Placer, CA","CA: El Dorado County (06017)","51101"]
[718,"Fresno (Fresno), CA - Kings, CA","CA: Fresno County (06019)","51103"]
[697,"Butte (Chico), CA - Tehama, CA","CA: Glenn County (06021)","51119"]
[800,"Humboldt, CA","CA: Humboldt County (06023)","51127"]
[774,"San Diego (San Diego), CA - Imperial, CA","CA: Imperial County (06025)","51133"]
[816,"Inyo, CA - Mono, CA","CA: Inyo County (06027)","51135"]
[807,"Kern, CA","CA: Kern County (06029)","51145"]
[718,"Fresno (Fresno), CA - Kings, CA","CA: Kings County (06031)","51147"]
[746,"Solano (Vallejo), CA - Napa, CA","CA: Lake County (06033)","51760"]
[780,"Lassen, CA - Plumas, CA","CA: Lassen County (06035)","51159"]
[723,"Los Angeles (Los Angeles), CA - Orange, CA","CA: Los Angeles County (06037)","51193"]
[718,"Fresno (Fresno), CA - Kings, CA","CA: Madera County (06039)","39167"]
[764,"Sonoma (Santa Rosa), CA - Marin, CA","CA: Marin County (06041)","54013"]
[737,"Stanislaus (Modesto), CA - Merced, CA","CA: Mariposa County (06043)","54035"]
[811,"Mendocino, CA","CA: Mendocino County (06045)","54073"]
[737,"Stanislaus (Modesto), CA - Merced, CA","CA: Merced County (06047)","54085"]
[710,"Shasta (Redding), CA - Trinity, CA","CA: Modoc County (06049)","54087"]
[816,"Inyo, CA - Mono, CA","CA: Mono County (06051)","54105"]
[751,"Santa Clara (San Jose), CA - Monterey, CA","CA: Monterey County (06053)","54107"]
[746,"Solano (Vallejo), CA - Napa, CA","CA: Napa County (06055)","36003"]
[753,"Nevada, CA - Sierra, CA","CA: Nevada County (06057)","36009"]
[723,"Los Angeles (Los Angeles), CA - Orange, CA","CA: Orange County (06059)","42023"]
[709,"Sacramento (Sacramento), CA - Placer, CA","CA: Placer County (06061)","42083"]
[780,"Lassen, CA - Plumas, CA","CA: Plumas County (06063)","42105"]
[768,"San Bernardino, CA - Riverside (Riverside), CA","CA: Riverside County (06065)","34003"]
[709,"Sacramento (Sacramento), CA - Placer, CA","CA: Sacramento County (06067)","34017"]
[751,"Santa Clara (San Jose), CA - Monterey, CA","CA: San Benito County (06069)","34031"]
[768,"San Bernardino, CA - Riverside (Riverside), CA","CA: San Bernardino County (06071)","36087"]
[774,"San Diego (San Diego), CA - Imperial, CA","CA: San Diego County (06073)","21147"]
[757,"San Francisco (San Francisco), CA - San Mateo, CA","CA: San Francisco County (06075)","21199"]
[750,"San Joaquin (Stockton), CA - Calaveras, CA","CA: San Joaquin County (06077)","21231"]
[781,"Santa Barbara (Santa Barbara), CA - San Luis Obispo, CA","CA: San Luis Obispo County (06079)","23011"]
[757,"San Francisco (San Francisco), CA - San Mateo, CA","CA: San Mateo County (06081)","23025"]
[781,"Santa Barbara (Santa Barbara), CA - San Luis Obispo, CA","CA: Santa Barbara County (06083)","23027"]
[751,"Santa Clara (San Jose), CA - Monterey, CA","CA: Santa Clara County (06085)","51021"]
[802,"Santa Cruz, CA","CA: Santa Cruz County (06087)","51027"]
[710,"Shasta (Redding), CA - Trinity, CA","CA: Shasta County (06089)","51185"]
[753,"Nevada, CA - Sierra, CA","CA: Sierra County (06091)","54047"]
[752,"Jackson (Medford), OR - Josephine, OR","CA: Siskiyou County (06093)","54055"]
[746,"Solano (Vallejo), CA - Napa, CA","CA: Solano County (06095)","21101"]
[764,"Sonoma (Santa Rosa), CA - Marin, CA","CA: Sonoma County (06097)","21225"]
[737,"Stanislaus (Modesto), CA - Merced, CA","CA: Stanislaus County (06099)","36027"]
[690,"Sutter (Yuba City), CA - Yuba, CA","CA: Sutter County (06101)","36079"]
[697,"Butte (Chico), CA - Tehama, CA","CA: Tehama County (06103)","36111"]
[710,"Shasta (Redding), CA - Trinity, CA","CA: Trinity County (06105)","36119"]
[789,"Tulare, CA","CA: Tulare County (06107)","42003"]
[737,"Stanislaus (Modesto), CA - Merced, CA","CA: Tuolumne County (06109)","42005"]
[790,"Ventura, CA","CA: Ventura County (06111)","42007"]
[709,"Sacramento (Sacramento), CA - Placer, CA","CA: Yolo County (06113)","42019"]
[690,"Sutter (Yuba City), CA - Yuba, CA","CA: Yuba County (06115)","42063"]
[688,"Denver (Denver), CO - Jefferson, CO","CO: Adams before Broomfield (08911) - 1969-2001","42129"]
[688,"Denver (Denver), CO - Jefferson, CO","CO: Adams County (08001) - 2002+","42041"]
[731,"Alamosa, CO - Rio Grande, CO","CO: Alamosa County (08003)","42043"]
[688,"Denver (Denver), CO - Jefferson, CO","CO: Arapahoe County (08005)","42075"]
[740,"San Juan, NM - Navajo, AZ","CO: Archuleta County (08007)","42099"]
[562,"Grant, KS - Baca, CO","CO: Baca County (08009)","42035"]
[745,"Otero, CO - Prowers, CO","CO: Bent County (08011)","42081"]
[795,"Boulder, CO - Broomfield, CO","CO: Boulder before Broomfield (08912) - 1969-2001","21033"]
[795,"Boulder, CO - Broomfield, CO","CO: Boulder County (08013) - 2002+","21047"]
[795,"Boulder, CO - Broomfield, CO","CO: Broomfield County (08014) - 2002+","21107"]
[786,"Chaffee, CO - Lake, CO","CO: Chaffee County (08015)","21177"]
[754,"El Paso (Colorado Springs), CO - Teller, CO","CO: Cheyenne County (08017)","21219"]
[688,"Denver (Denver), CO - Jefferson, CO","CO: Clear Creek County (08019)","21221"]
[731,"Alamosa, CO - Rio Grande, CO","CO: Conejos County (08021)","21233"]
[731,"Alamosa, CO - Rio Grande, CO","CO: Costilla County (08023)","21019"]
[745,"Otero, CO - Prowers, CO","CO: Crowley County (08025)","21043"]
[812,"Fremont, CO - Custer, CO","CO: Custer County (08027)","21089"]
[761,"Montrose, CO - Delta, CO","CO: Delta County (08029)","21127"]
[688,"Denver (Denver), CO - Jefferson, CO","CO: Denver County (08031)","21159"]
[740,"San Juan, NM - Navajo, AZ","CO: Dolores County (08033)","39087"]
[688,"Denver (Denver), CO - Jefferson, CO","CO: Douglas County (08035)","54011"]
[711,"Mesa, CO - Garfield, CO","CO: Eagle County (08037)","54043"]
[754,"El Paso (Colorado Springs), CO - Teller, CO","CO: El Paso County (08041)","54099"]
[688,"Denver (Denver), CO - Jefferson, CO","CO: Elbert County (08039)","42069"]
[812,"Fremont, CO - Custer, CO","CO: Fremont County (08043)","42127"]
[711,"Mesa, CO - Garfield, CO","CO: Garfield County (08045)","24021"]
[688,"Denver (Denver), CO - Jefferson, CO","CO: Gilpin County (08047)","42001"]
[688,"Denver (Denver), CO - Jefferson, CO","CO: Grand County (08049)","42133"]
[761,"Montrose, CO - Delta, CO","CO: Gunnison County (08051)","50001"]
[761,"Montrose, CO - Delta, CO","CO: Hinsdale County (08053)","50007"]
[704,"Pueblo (Pueblo), CO - Las Animas, CO","CO: Huerfano County (08055)","50011"]
[771,"Albany, WY - Carbon, WY","CO: Jackson County (08057)","50013"]
[688,"Denver (Denver), CO - Jefferson, CO","CO: Jefferson before Broomfield (08913) - 1969-2001","54001"]
[688,"Denver (Denver), CO - Jefferson, CO","CO: Jefferson County (08059) - 2002+","54075"]
[745,"Otero, CO - Prowers, CO","CO: Kiowa County (08061)","54083"]
[754,"El Paso (Colorado Springs), CO - Teller, CO","CO: Kit Carson County (08063)","54093"]
[740,"San Juan, NM - Navajo, AZ","CO: La Plata County (08067)","21051"]
[786,"Chaffee, CO - Lake, CO","CO: Lake County (08065)","21121"]
[796,"Larimer, CO","CO: Larimer County (08069)","21125"]
[704,"Pueblo (Pueblo), CO - Las Animas, CO","CO: Las Animas County (08071)","21235"]
[754,"El Paso (Colorado Springs), CO - Teller, CO","CO: Lincoln County (08073)","42031"]
[763,"Logan, CO - Phillips, CO","CO: Logan County (08075)","42053"]
[711,"Mesa, CO - Garfield, CO","CO: Mesa County (08077)","42121"]
[731,"Alamosa, CO - Rio Grande, CO","CO: Mineral County (08079)","21009"]
[735,"Routt, CO - Moffat, CO","CO: Moffat County (08081)","21099"]
[740,"San Juan, NM - Navajo, AZ","CO: Montezuma County (08083)","21169"]
[761,"Montrose, CO - Delta, CO","CO: Montrose County (08085)","21171"]
[760,"Weld, CO - Morgan, CO","CO: Morgan County (08087)","36029"]
[745,"Otero, CO - Prowers, CO","CO: Otero County (08089)","36037"]
[761,"Montrose, CO - Delta, CO","CO: Ouray County (08091)","36051"]
[688,"Denver (Denver), CO - Jefferson, CO","CO: Park County (08093)","36055"]
[763,"Logan, CO - Phillips, CO","CO: Phillips County (08095)","36063"]
[711,"Mesa, CO - Garfield, CO","CO: Pitkin County (08097)","36073"]
[745,"Otero, CO - Prowers, CO","CO: Prowers County (08099)","36121"]
[704,"Pueblo (Pueblo), CO - Las Animas, CO","CO: Pueblo County (08101)","51051"]
[711,"Mesa, CO - Garfield, CO","CO: Rio Blanco County (08103)","51105"]
[731,"Alamosa, CO - Rio Grande, CO","CO: Rio Grande County (08105)","51720"]
[735,"Routt, CO - Moffat, CO","CO: Routt County (08107)","51195"]
[731,"Alamosa, CO - Rio Grande, CO","CO: Saguache County (08109)","36011"]
[740,"San Juan, NM - Navajo, AZ","CO: San Juan County (08111)","36067"]
[761,"Montrose, CO - Delta, CO","CO: San Miguel County (08113)","36075"]
[763,"Logan, CO - Phillips, CO","CO: Sedgwick County (08115)","42009"]
[688,"Denver (Denver), CO - Jefferson, CO","CO: Summit County (08117)","42013"]
[754,"El Paso (Colorado Springs), CO - Teller, CO","CO: Teller County (08119)","42021"]
[760,"Weld, CO - Morgan, CO","CO: Washington County (08121)","42111"]
[760,"Weld, CO - Morgan, CO","CO: Weld before Broomfield (08914) - 1969-2001","36017"]
[760,"Weld, CO - Morgan, CO","CO: Weld County (08123) - 2002+","36025"]
[760,"Weld, CO - Morgan, CO","CO: Yuma County (08125)","36077"]
[121,"Fairfield, CT","CT: Fairfield County (09001)","36095"]
[4,"Hartford (Hartford), CT - Tolland, CT","CT: Hartford County (09003)","36043"]
[85,"New Haven (New Haven), CT - Litchfield, CT","CT: Litchfield County (09005)","36053"]
[85,"New Haven (New Haven), CT - Litchfield, CT","CT: Middlesex County (09007)","36065"]
[85,"New Haven (New Haven), CT - Litchfield, CT","CT: New Haven County (09009)","54019"]
[20,"Providence (Providence), RI - New London, CT","CT: New London County (09011)","54081"]
[4,"Hartford (Hartford), CT - Tolland, CT","CT: Tolland County (09013)","54089"]
[4,"Hartford (Hartford), CT - Tolland, CT","CT: Windham County (09015)","54109"]
[61,"Montgomery, MD - Prince Georges, MD","DC: District of Columbia (11001)","11001"]
[3,"Sussex, DE - Kent, DE","DE: Kent County (10001)","24017"]
[75,"New Castle (Wilmington), DE - Harford, MD","DE: New Castle County (10003)","24031"]
[3,"Sussex, DE - Kent, DE","DE: Sussex County (10005)","24033"]
[159,"Alachua (Gainesville), FL - Columbia, FL","FL: Alachua County (12001)","24037"]
[158,"Duval (Jacksonville), FL - Clay, FL","FL: Baker County (12003)","21065"]
[155,"Bay (Panama City), FL - Jackson, FL","FL: Bay County (12005)","21109"]
[159,"Alachua (Gainesville), FL - Columbia, FL","FL: Bradford County (12007)","21151"]
[237,"Brevard (Palm Bay), FL - Indian River, FL","FL: Brevard County (12009)","21203"]
[200,"Miami-Dade (Miami), FL - Broward, FL","FL: Broward County (12011)","51660"]
[155,"Bay (Panama City), FL - Jackson, FL","FL: Calhoun County (12013)","51139"]
[213,"Sarasota (Sarasota), FL - Charlotte, FL","FL: Charlotte County (12015)","51165"]
[233,"Marion (Ocala), FL - Citrus, FL","FL: Citrus County (12017)","51914"]
[158,"Duval (Jacksonville), FL - Clay, FL","FL: Clay County (12019)","54071"]
[165,"Lee (Cape Coral), FL - Collier, FL","FL: Collier County (12021)","34001"]
[159,"Alachua (Gainesville), FL - Columbia, FL","FL: Columbia County (12023)","34009"]
[213,"Sarasota (Sarasota), FL - Charlotte, FL","FL: DeSoto County (12027)","36015"]
[159,"Alachua (Gainesville), FL - Columbia, FL","FL: Dixie County (12029)","36097"]
[158,"Duval (Jacksonville), FL - Clay, FL","FL: Duval County (12031)","36101"]
[163,"Escambia (Pensacola), FL - Okaloosa, FL","FL: Escambia County (12033)","34013"]
[142,"Orange (Orlando), FL - Volusia, FL","FL: Flagler County (12035)","34023"]
[183,"Leon (Tallahassee), FL - Gadsden, FL","FL: Franklin County (12037)","34035"]
[183,"Leon (Tallahassee), FL - Gadsden, FL","FL: Gadsden County (12039)","34039"]
[159,"Alachua (Gainesville), FL - Columbia, FL","FL: Gilchrist County (12041)","21063"]
[165,"Lee (Cape Coral), FL - Collier, FL","FL: Glades County (12043)","21165"]
[155,"Bay (Panama City), FL - Jackson, FL","FL: Gulf County (12045)","21175"]
[159,"Alachua (Gainesville), FL - Columbia, FL","FL: Hamilton County (12047)","21205"]
[202,"Polk (Lakeland), FL - Highlands, FL","FL: Hardee County (12049)","25005"]
[165,"Lee (Cape Coral), FL - Collier, FL","FL: Hendry County (12051)","44005"]
[227,"Hillsborough (Tampa), FL - Pinellas, FL","FL: Hernando County (12053)","51510"]
[202,"Polk (Lakeland), FL - Highlands, FL","FL: Highlands County (12055)","51918"]
[227,"Hillsborough (Tampa), FL - Pinellas, FL","FL: Hillsborough County (12057)","51013"]
[155,"Bay (Panama City), FL - Jackson, FL","FL: Holmes County (12059)","51600"]
[237,"Brevard (Palm Bay), FL - Indian River, FL","FL: Indian River County (12061)","51059"]
[155,"Bay (Panama City), FL - Jackson, FL","FL: Jackson County (12063)","51610"]
[183,"Leon (Tallahassee), FL - Gadsden, FL","FL: Jefferson County (12065)","51107"]
[159,"Alachua (Gainesville), FL - Columbia, FL","FL: Lafayette County (12067)","51071"]
[142,"Orange (Orlando), FL - Volusia, FL","FL: Lake County (12069)","51121"]
[165,"Lee (Cape Coral), FL - Collier, FL","FL: Lee County (12071)","51155"]
[183,"Leon (Tallahassee), FL - Gadsden, FL","FL: Leon County (12073)","51750"]
[159,"Alachua (Gainesville), FL - Columbia, FL","FL: Levy County (12075)","51197"]
[183,"Leon (Tallahassee), FL - Gadsden, FL","FL: Liberty County (12077)","51083"]
[183,"Leon (Tallahassee), FL - Gadsden, FL","FL: Madison County (12079)","51111"]
[266,"Manatee, FL","FL: Manatee County (12081)","51117"]
[233,"Marion (Ocala), FL - Citrus, FL","FL: Marion County (12083)","24043"]
[221,"Palm Beach (West Palm Beach), FL - St. Lucie, FL","FL: Martin County (12085)","42055"]
[200,"Miami-Dade (Miami), FL - Broward, FL","FL: Miami-Dade County (12086)","42057"]
[200,"Miami-Dade (Miami), FL - Broward, FL","FL: Monroe County (12087)","37005"]
[158,"Duval (Jacksonville), FL - Clay, FL","FL: Nassau County (12089)","51035"]
[163,"Escambia (Pensacola), FL - Okaloosa, FL","FL: Okaloosa County (12091)","51640"]
[221,"Palm Beach (West Palm Beach), FL - St. Lucie, FL","FL: Okeechobee County (12093)","51077"]
[142,"Orange (Orlando), FL - Volusia, FL","FL: Orange County (12095)","25009"]
[257,"Osceola, FL","FL: Osceola County (12097)","33015"]
[221,"Palm Beach (West Palm Beach), FL - St. Lucie, FL","FL: Palm Beach County (12099)","10003"]
[227,"Hillsborough (Tampa), FL - Pinellas, FL","FL: Pasco County (12101)","24015"]
[227,"Hillsborough (Tampa), FL - Pinellas, FL","FL: Pinellas County (12103)","24025"]
[202,"Polk (Lakeland), FL - Highlands, FL","FL: Polk County (12105)","36035"]
[251,"St. Johns (St. Augustine), FL - Putnam, FL","FL: Putnam County (12107)","36057"]
[163,"Escambia (Pensacola), FL - Okaloosa, FL","FL: Santa Rosa County (12113)","51053"]
[213,"Sarasota (Sarasota), FL - Charlotte, FL","FL: Sarasota County (12115)","51670"]
[142,"Orange (Orlando), FL - Volusia, FL","FL: Seminole County (12117)","51730"]
[251,"St. Johns (St. Augustine), FL - Putnam, FL","FL: St. Johns County (12109)","51149"]
[221,"Palm Beach (West Palm Beach), FL - St. Lucie, FL","FL: St. Lucie County (12111)","51181"]
[142,"Orange (Orlando), FL - Volusia, FL","FL: Sumter County (12119)","51183"]
[159,"Alachua (Gainesville), FL - Columbia, FL","FL: Suwannee County (12121)","42037"]
[183,"Leon (Tallahassee), FL - Gadsden, FL","FL: Taylor County (12123)","42079"]
[159,"Alachua (Gainesville), FL - Columbia, FL","FL: Union County (12125)","42131"]
[142,"Orange (Orlando), FL - Volusia, FL","FL: Volusia County (12127)","51089"]
[183,"Leon (Tallahassee), FL - Gadsden, FL","FL: Wakulla County (12129)","51913"]
[163,"Escambia (Pensacola), FL - Okaloosa, FL","FL: Walton County (12131)","51690"]
[155,"Bay (Panama City), FL - Jackson, FL","FL: Washington County (12133)","51141"]
[230,"Wayne, GA - Appling, GA","GA: Appling County (13001)","36045"]
[236,"Coffee, GA - Jeff Davis, GA","GA: Atkinson County (13003)","36049"]
[174,"Ware, GA - Pierce, GA","GA: Bacon County (13005)","36089"]
[144,"Dougherty (Albany), GA - Lee, GA","GA: Baker County (13007)","36019"]
[201,"Baldwin, GA - Putnam, GA","GA: Baldwin County (13009)","36031"]
[157,"Hall, GA - Habersham, GA","GA: Banks County (13011)","36033"]
[164,"Clarke (Athens), GA - Barrow, GA","GA: Barrow County (13013)","21001"]
[154,"Floyd, GA - Bartow, GA","GA: Bartow County (13015)","21087"]
[189,"Tift, GA - Ben Hill, GA","GA: Ben Hill County (13017)","21207"]
[180,"Lowndes, GA - Brooks, GA","GA: Berrien County (13019)","21217"]
[193,"Bibb (Macon), GA - Houston, GA","GA: Bibb County (13021)","36059"]
[193,"Bibb (Macon), GA - Houston, GA","GA: Bleckley County (13023)","36103"]
[158,"Duval (Jacksonville), FL - Clay, FL","GA: Brantley County (13025)","42025"]
[180,"Lowndes, GA - Brooks, GA","GA: Brooks County (13027)","42077"]
[143,"Chatham (Savannah), GA - Beaufort, SC","GA: Bryan County (13029)","42089"]
[222,"Bulloch, GA - Emanuel, GA","GA: Bulloch County (13031)","42095"]
[152,"Richmond (South Augusta), GA - Aiken, SC","GA: Burke County (13033)","09005"]
[204,"Spalding (Griffin), GA - Butts, GA","GA: Butts County (13035)","09007"]
[144,"Dougherty (Albany), GA - Lee, GA","GA: Calhoun County (13037)","09009"]
[158,"Duval (Jacksonville), FL - Clay, FL","GA: Camden County (13039)","36071"]
[222,"Bulloch, GA - Emanuel, GA","GA: Candler County (13043)","36105"]
[177,"Calhoun (Anniston), AL - Carroll, GA","GA: Carroll County (13045)","42103"]
[141,"Hamilton (Chattanooga), TN - Walker, GA","GA: Catoosa County (13047)","34027"]
[158,"Duval (Jacksonville), FL - Clay, FL","GA: Charlton County (13049)","34037"]
[143,"Chatham (Savannah), GA - Beaufort, SC","GA: Chatham County (13051)","36041"]
[166,"Muscogee (Columbus), GA - Russell, AL","GA: Chattahoochee County (13053)","36091"]
[154,"Floyd, GA - Bartow, GA","GA: Chattooga County (13055)","36093"]
[190,"Cobb (Marietta), GA - Cherokee, GA","GA: Cherokee County (13057)","36113"]
[164,"Clarke (Athens), GA - Barrow, GA","GA: Clarke County (13059)","36115"]
[144,"Dougherty (Albany), GA - Lee, GA","GA: Clay County (13061)","21027"]
[153,"Fulton (Atlanta), GA - DeKalb, GA","GA: Clayton County (13063)","21085"]
[174,"Ware, GA - Pierce, GA","GA: Clinch County (13065)","21093"]
[190,"Cobb (Marietta), GA - Cherokee, GA","GA: Cobb County (13067)","21123"]
[236,"Coffee, GA - Jeff Davis, GA","GA: Coffee County (13069)","21163"]
[254,"Colquitt, GA","GA: Colquitt County (13071)","33005"]
[152,"Richmond (South Augusta), GA - Aiken, SC","GA: Columbia County (13073)","50025"]
[180,"Lowndes, GA - Brooks, GA","GA: Cook County (13075)","33001"]
[172,"Coweta, GA - Troup (La Grange), GA","GA: Coweta County (13077)","33003"]
[193,"Bibb (Macon), GA - Houston, GA","GA: Crawford County (13079)","33011"]
[197,"Sumter, GA - Crisp, GA","GA: Crisp County (13081)","33013"]
[141,"Hamilton (Chattanooga), TN - Walker, GA","GA: Dade County (13083)","54007"]
[157,"Hall, GA - Habersham, GA","GA: Dawson County (13085)","54017"]
[228,"Decatur, GA - Seminole, GA","GA: Decatur County (13087)","54021"]
[153,"Fulton (Atlanta), GA - DeKalb, GA","GA: DeKalb County (13089)","54033"]
[206,"Laurens, GA - Toombs, GA","GA: Dodge County (13091)","54041"]
[197,"Sumter, GA - Crisp, GA","GA: Dooly County (13093)","54097"]
[144,"Dougherty (Albany), GA - Lee, GA","GA: Dougherty County (13095)","34019"]
[190,"Cobb (Marietta), GA - Cherokee, GA","GA: Douglas County (13097)","34041"]
[144,"Dougherty (Albany), GA - Lee, GA","GA: Early County (13099)","36005"]
[180,"Lowndes, GA - Brooks, GA","GA: Echols County (13101)","36047"]
[143,"Chatham (Savannah), GA - Beaufort, SC","GA: Effingham County (13103)","36910"]
[253,"Elbert, GA - Wilkes, GA","GA: Elbert County (13105)","36061"]
[222,"Bulloch, GA - Emanuel, GA","GA: Emanuel County (13107)","36081"]
[143,"Chatham (Savannah), GA - Beaufort, SC","GA: Evans County (13109)","36085"]
[173,"Bradley, TN - Gilmer, GA","GA: Fannin County (13111)","23001"]
[153,"Fulton (Atlanta), GA - DeKalb, GA","GA: Fayette County (13113)","23007"]
[154,"Floyd, GA - Bartow, GA","GA: Floyd County (13115)","23017"]
[153,"Fulton (Atlanta), GA - DeKalb, GA","GA: Forsyth County (13117)","21013"]
[216,"Stephens, GA - Hart, GA","GA: Franklin County (13119)","21095"]
[153,"Fulton (Atlanta), GA - DeKalb, GA","GA: Fulton County (13121)","47025"]
[173,"Bradley, TN - Gilmer, GA","GA: Gilmer County (13123)","51015"]
[152,"Richmond (South Augusta), GA - Aiken, SC","GA: Glascock County (13125)","51530"]
[158,"Duval (Jacksonville), FL - Clay, FL","GA: Glynn County (13127)","51091"]
[154,"Floyd, GA - Bartow, GA","GA: Gordon County (13129)","51678"]
[178,"Thomas, GA - Mitchell, GA","GA: Grady County (13131)","51163"]
[164,"Clarke (Athens), GA - Barrow, GA","GA: Greene County (13133)","51790"]
[153,"Fulton (Atlanta), GA - DeKalb, GA","GA: Gwinnett County (13135)","51820"]
[157,"Hall, GA - Habersham, GA","GA: Habersham County (13137)","23031"]
[157,"Hall, GA - Habersham, GA","GA: Hall County (13139)","33017"]
[201,"Baldwin, GA - Putnam, GA","GA: Hancock County (13141)","51003"]
[177,"Calhoun (Anniston), AL - Carroll, GA","GA: Haralson County (13143)","51029"]
[166,"Muscogee (Columbus), GA - Russell, AL","GA: Harris County (13145)","51540"]
[216,"Stephens, GA - Hart, GA","GA: Hart County (13147)","51047"]
[172,"Coweta, GA - Troup (La Grange), GA","GA: Heard County (13149)","51065"]
[153,"Fulton (Atlanta), GA - DeKalb, GA","GA: Henry County (13151)","51079"]
[193,"Bibb (Macon), GA - Houston, GA","GA: Houston County (13153)","51109"]
[189,"Tift, GA - Ben Hill, GA","GA: Irwin County (13155)","51113"]
[164,"Clarke (Athens), GA - Barrow, GA","GA: Jackson County (13157)","51125"]
[220,"Newton (Covington), GA - Jasper, GA","GA: Jasper County (13159)","51137"]
[236,"Coffee, GA - Jeff Davis, GA","GA: Jeff Davis County (13161)","51157"]
[250,"Washington, GA - Jefferson, GA","GA: Jefferson County (13163)","42051"]
[152,"Richmond (South Augusta), GA - Aiken, SC","GA: Jenkins County (13165)","42059"]
[206,"Laurens, GA - Toombs, GA","GA: Johnson County (13167)","42125"]
[193,"Bibb (Macon), GA - Houston, GA","GA: Jones County (13169)","25011"]
[269,"Upson, GA - Lamar, GA","GA: Lamar County (13171)","25027"]
[180,"Lowndes, GA - Brooks, GA","GA: Lanier County (13173)","21017"]
[206,"Laurens, GA - Toombs, GA","GA: Laurens County (13175)","21181"]
[144,"Dougherty (Albany), GA - Lee, GA","GA: Lee County (13177)","50005"]
[143,"Chatham (Savannah), GA - Beaufort, SC","GA: Liberty County (13179)","50015"]
[152,"Richmond (South Augusta), GA - Aiken, SC","GA: Lincoln County (13181)","50019"]
[143,"Chatham (Savannah), GA - Beaufort, SC","GA: Long County (13183)","21053"]
[180,"Lowndes, GA - Brooks, GA","GA: Lowndes County (13185)","21057"]
[157,"Hall, GA - Habersham, GA","GA: Lumpkin County (13187)","36023"]
[197,"Sumter, GA - Crisp, GA","GA: Macon County (13193)","36109"]
[164,"Clarke (Athens), GA - Barrow, GA","GA: Madison County (13195)","36013"]
[166,"Muscogee (Columbus), GA - Russell, AL","GA: Marion County (13197)","42049"]
[152,"Richmond (South Augusta), GA - Aiken, SC","GA: McDuffie County (13189)","42123"]
[158,"Duval (Jacksonville), FL - Clay, FL","GA: McIntosh County (13191)","24011"]
[172,"Coweta, GA - Troup (La Grange), GA","GA: Meriwether County (13199)","24019"]
[228,"Decatur, GA - Seminole, GA","GA: Miller County (13201)","24035"]
[178,"Thomas, GA - Mitchell, GA","GA: Mitchell County (13205)","24041"]
[193,"Bibb (Macon), GA - Houston, GA","GA: Monroe County (13207)","34025"]
[206,"Laurens, GA - Toombs, GA","GA: Montgomery County (13209)","34029"]
[164,"Clarke (Athens), GA - Barrow, GA","GA: Morgan County (13211)","51061"]
[145,"Whitfield, GA - Murray, GA","GA: Murray County (13213)","51683"]
[166,"Muscogee (Columbus), GA - Russell, AL","GA: Muscogee County (13215)","51685"]
[220,"Newton (Covington), GA - Jasper, GA","GA: Newton County (13217)","51153"]
[164,"Clarke (Athens), GA - Barrow, GA","GA: Oconee County (13219)","51910"]
[164,"Clarke (Athens), GA - Barrow, GA","GA: Oglethorpe County (13221)","42061"]
[190,"Cobb (Marietta), GA - Cherokee, GA","GA: Paulding County (13223)","42067"]
[193,"Bibb (Macon), GA - Houston, GA","GA: Peach County (13225)","42087"]
[190,"Cobb (Marietta), GA - Cherokee, GA","GA: Pickens County (13227)","25003"]
[174,"Ware, GA - Pierce, GA","GA: Pierce County (13229)","36021"]
[269,"Upson, GA - Lamar, GA","GA: Pike County (13231)","36039"]
[154,"Floyd, GA - Bartow, GA","GA: Polk County (13233)","21005"]
[193,"Bibb (Macon), GA - Houston, GA","GA: Pulaski County (13235)","21073"]
[201,"Baldwin, GA - Putnam, GA","GA: Putnam County (13237)","21187"]
[162,"Houston (Dothan), AL - Dale, AL","GA: Quitman County (13239)","21035"]
[268,"Rabun, GA","GA: Rabun County (13241)","47005"]
[144,"Dougherty (Albany), GA - Lee, GA","GA: Randolph County (13243)","47017"]
[152,"Richmond (South Augusta), GA - Aiken, SC","GA: Richmond County (13245)","47079"]
[153,"Fulton (Atlanta), GA - DeKalb, GA","GA: Rockdale County (13247)","21023"]
[166,"Muscogee (Columbus), GA - Russell, AL","GA: Schley County (13249)","21069"]
[222,"Bulloch, GA - Emanuel, GA","GA: Screven County (13251)","21161"]
[228,"Decatur, GA - Seminole, GA","GA: Seminole County (13253)","42039"]
[204,"Spalding (Griffin), GA - Butts, GA","GA: Spalding County (13255)","21097"]
[216,"Stephens, GA - Hart, GA","GA: Stephens County (13257)","21201"]
[166,"Muscogee (Columbus), GA - Russell, AL","GA: Stewart County (13259)","09001"]
[197,"Sumter, GA - Crisp, GA","GA: Sumter County (13261)","50021"]
[166,"Muscogee (Columbus), GA - Russell, AL","GA: Talbot County (13263)","21133"]
[152,"Richmond (South Augusta), GA - Aiken, SC","GA: Taliaferro County (13265)","24029"]
[143,"Chatham (Savannah), GA - Beaufort, SC","GA: Tattnall County (13267)","42047"]
[193,"Bibb (Macon), GA - Houston, GA","GA: Taylor County (13269)","34021"]
[206,"Laurens, GA - Toombs, GA","GA: Telfair County (13271)","34011"]
[144,"Dougherty (Albany), GA - Lee, GA","GA: Terrell County (13273)","42117"]
[178,"Thomas, GA - Mitchell, GA","GA: Thomas County (13275)","42073"]
[189,"Tift, GA - Ben Hill, GA","GA: Tift County (13277)","51025"]
[206,"Laurens, GA - Toombs, GA","GA: Toombs County (13279)","51595"]
[157,"Hall, GA - Habersham, GA","GA: Towns County (13281)","51081"]
[206,"Laurens, GA - Toombs, GA","GA: Treutlen County (13283)","21011"]
[172,"Coweta, GA - Troup (La Grange), GA","GA: Troup County (13285)","21173"]
[189,"Tift, GA - Ben Hill, GA","GA: Turner County (13287)","37033"]
[193,"Bibb (Macon), GA - Houston, GA","GA: Twiggs County (13289)","51590"]
[157,"Hall, GA - Habersham, GA","GA: Union County (13291)","51143"]
[269,"Upson, GA - Lamar, GA","GA: Upson County (13293)","51033"]
[141,"Hamilton (Chattanooga), TN - Walker, GA","GA: Walker County (13295)","51630"]
[153,"Fulton (Atlanta), GA - DeKalb, GA","GA: Walton County (13297)","51099"]
[174,"Ware, GA - Pierce, GA","GA: Ware County (13299)","51915"]
[152,"Richmond (South Augusta), GA - Aiken, SC","GA: Warren County (13301)","51177"]
[250,"Washington, GA - Jefferson, GA","GA: Washington County (13303)","51179"]
[230,"Wayne, GA - Appling, GA","GA: Wayne County (13305)","23003"]
[166,"Muscogee (Columbus), GA - Russell, AL","GA: Webster County (13307)","51001"]
[206,"Laurens, GA - Toombs, GA","GA: Wheeler County (13309)","51131"]
[157,"Hall, GA - Habersham, GA","GA: White County (13311)","33007"]
[145,"Whitfield, GA - Murray, GA","GA: Whitfield County (13313)","50009"]
[197,"Sumter, GA - Crisp, GA","GA: Wilcox County (13315)","42011"]
[253,"Elbert, GA - Wilkes, GA","GA: Wilkes County (13317)","42071"]
[193,"Bibb (Macon), GA - Houston, GA","GA: Wilkinson County (13319)","13047"]
[144,"Dougherty (Albany), GA - Lee, GA","GA: Worth County (13321)","13083"]
[823,"Hawaii, HI","HI: Hawaii County (15001)","13295"]
[821,"Honolulu (Honolulu), HI - Maui, HI","HI: Honolulu County (15003)","47065"]
[821,"Honolulu (Honolulu), HI - Maui, HI","HI: Kalawao County (15005)","47115"]
[822,"Kauai, HI","HI: Kauai County (15007)","47153"]
[821,"Honolulu (Honolulu), HI - Maui, HI","HI: Maui County (15009)","12035"]
[546,"Polk (Des Moines), IA - Dallas, IA","IA: Adair County (19001)","12069"]
[647,"Montgomery, IA - Adams, IA","IA: Adams County (19003)","12095"]
[290,"La Crosse (La Crosse), WI - Monroe, WI","IA: Allamakee County (19005)","12117"]
[649,"Appanoose, IA - Davis, IA","IA: Appanoose County (19007)","12119"]
[596,"Pottawattamie (Council Bluffs), IA - Harrison, IA","IA: Audubon County (19009)","12127"]
[545,"Linn (Cedar Rapids), IA - Johnson, IA","IA: Benton County (19011)","13029"]
[557,"Black Hawk (Waterloo), IA - Bremer, IA","IA: Black Hawk County (19013)","13051"]
[606,"Story, IA - Boone, IA","IA: Boone County (19015)","13103"]
[557,"Black Hawk (Waterloo), IA - Bremer, IA","IA: Bremer County (19017)","13109"]
[557,"Black Hawk (Waterloo), IA - Bremer, IA","IA: Buchanan County (19019)","13179"]
[560,"Woodbury (Sioux City), IA - Plymouth, IA","IA: Buena Vista County (19021)","13183"]
[557,"Black Hawk (Waterloo), IA - Bremer, IA","IA: Butler County (19023)","13267"]
[633,"Carroll, IA - Sac, IA","IA: Calhoun County (19025)","45013"]
[633,"Carroll, IA - Sac, IA","IA: Carroll County (19027)","45053"]
[596,"Pottawattamie (Council Bluffs), IA - Harrison, IA","IA: Cass County (19029)","13007"]
[545,"Linn (Cedar Rapids), IA - Johnson, IA","IA: Cedar County (19031)","13037"]
[556,"Cerro Gordo, IA - Kossuth, IA","IA: Cerro Gordo County (19033)","13061"]
[560,"Woodbury (Sioux City), IA - Plymouth, IA","IA: Cherokee County (19035)","13095"]
[634,"Floyd, IA - Chickasaw, IA","IA: Chickasaw County (19037)","13099"]
[546,"Polk (Des Moines), IA - Dallas, IA","IA: Clarke County (19039)","13177"]
[625,"Clay, IA - Dickinson, IA","IA: Clay County (19041)","13243"]
[350,"Clayton, IA - Delaware, IA","IA: Clayton County (19043)","13273"]
[361,"Whiteside, IL - Clinton, IA","IA: Clinton County (19045)","13321"]
[681,"Crawford, IA","IA: Crawford County (19047)","13213"]
[546,"Polk (Des Moines), IA - Dallas, IA","IA: Dallas County (19049)","13313"]
[649,"Appanoose, IA - Davis, IA","IA: Davis County (19051)","28009"]
[546,"Polk (Des Moines), IA - Dallas, IA","IA: Decatur County (19053)","28033"]
[350,"Clayton, IA - Delaware, IA","IA: Delaware County (19055)","28093"]
[340,"Des Moines, IA - Henry, IA","IA: Des Moines County (19057)","28107"]
[625,"Clay, IA - Dickinson, IA","IA: Dickinson County (19059)","28137"]
[302,"Dubuque (Dubuque), IA - Stephenson, IL","IA: Dubuque County (19061)","28143"]
[626,"Martin, MN - Emmet, IA","IA: Emmet County (19063)","47047"]
[557,"Black Hawk (Waterloo), IA - Bremer, IA","IA: Fayette County (19065)","47157"]
[634,"Floyd, IA - Chickasaw, IA","IA: Floyd County (19067)","47167"]
[556,"Cerro Gordo, IA - Kossuth, IA","IA: Franklin County (19069)","47009"]
[644,"Page, IA - Fremont, IA","IA: Fremont County (19071)","47093"]
[617,"Guthrie, IA - Greene, IA","IA: Greene County (19073)","47105"]
[557,"Black Hawk (Waterloo), IA - Bremer, IA","IA: Grundy County (19075)","47107"]
[617,"Guthrie, IA - Greene, IA","IA: Guthrie County (19077)","47121"]
[606,"Story, IA - Boone, IA","IA: Hamilton County (19079)","47123"]
[556,"Cerro Gordo, IA - Kossuth, IA","IA: Hancock County (19081)","47155"]
[606,"Story, IA - Boone, IA","IA: Hardin County (19083)","47173"]
[596,"Pottawattamie (Council Bluffs), IA - Harrison, IA","IA: Harrison County (19085)","47021"]
[340,"Des Moines, IA - Henry, IA","IA: Henry County (19087)","47037"]
[552,"Olmsted (Rochester), MN - Winona, MN","IA: Howard County (19089)","47043"]
[585,"Webster, IA - Humboldt, IA","IA: Humboldt County (19091)","47081"]
[560,"Woodbury (Sioux City), IA - Plymouth, IA","IA: Ida County (19093)","47085"]
[545,"Linn (Cedar Rapids), IA - Johnson, IA","IA: Iowa County (19095)","47147"]
[302,"Dubuque (Dubuque), IA - Stephenson, IL","IA: Jackson County (19097)","47187"]
[546,"Polk (Des Moines), IA - Dallas, IA","IA: Jasper County (19099)","37059"]
[589,"Wapello, IA - Mahaska, IA","IA: Jefferson County (19101)","37067"]
[545,"Linn (Cedar Rapids), IA - Johnson, IA","IA: Johnson County (19103)","37169"]
[545,"Linn (Cedar Rapids), IA - Johnson, IA","IA: Jones County (19105)","37171"]
[589,"Wapello, IA - Mahaska, IA","IA: Keokuk County (19107)","37197"]
[556,"Cerro Gordo, IA - Kossuth, IA","IA: Kossuth County (19109)","01007"]
[367,"Lee, IA - Hancock, IL","IA: Lee County (19111)","01009"]
[545,"Linn (Cedar Rapids), IA - Johnson, IA","IA: Linn County (19113)","01021"]
[545,"Linn (Cedar Rapids), IA - Johnson, IA","IA: Louisa County (19115)","01043"]
[645,"Lucas, IA - Wayne, IA","IA: Lucas County (19117)","01073"]
[544,"Minnehaha (Sioux Falls), SD - Lincoln, SD","IA: Lyon County (19119)","01117"]
[546,"Polk (Des Moines), IA - Dallas, IA","IA: Madison County (19121)","01115"]
[589,"Wapello, IA - Mahaska, IA","IA: Mahaska County (19123)","01127"]
[546,"Polk (Des Moines), IA - Dallas, IA","IA: Marion County (19125)","47073"]
[679,"Marshall, IA - Tama, IA","IA: Marshall County (19127)","47163"]
[596,"Pottawattamie (Council Bluffs), IA - Harrison, IA","IA: Mills County (19129)","51520"]
[665,"Mitchell, IA","IA: Mitchell County (19131)","51167"]
[560,"Woodbury (Sioux City), IA - Plymouth, IA","IA: Monona County (19133)","51169"]
[589,"Wapello, IA - Mahaska, IA","IA: Monroe County (19135)","51173"]
[647,"Montgomery, IA - Adams, IA","IA: Montgomery County (19137)","51191"]
[641,"Scott (Davenport), IA - Muscatine, IA","IA: Muscatine County (19139)","13033"]
[652,"OBrien, IA - Osceola, IA","IA: OBrien County (19141)","13073"]
[652,"OBrien, IA - Osceola, IA","IA: Osceola County (19143)","13125"]
[644,"Page, IA - Fremont, IA","IA: Page County (19145)","13165"]
[625,"Clay, IA - Dickinson, IA","IA: Palo Alto County (19147)","13181"]
[560,"Woodbury (Sioux City), IA - Plymouth, IA","IA: Plymouth County (19149)","13189"]
[585,"Webster, IA - Humboldt, IA","IA: Pocahontas County (19151)","13245"]
[546,"Polk (Des Moines), IA - Dallas, IA","IA: Polk County (19153)","13265"]
[596,"Pottawattamie (Council Bluffs), IA - Harrison, IA","IA: Pottawattamie County (19155)","13301"]
[686,"Poweshiek, IA","IA: Poweshiek County (19157)","45003"]
[546,"Polk (Des Moines), IA - Dallas, IA","IA: Ringgold County (19159)","45011"]
[633,"Carroll, IA - Sac, IA","IA: Sac County (19161)","45037"]
[641,"Scott (Davenport), IA - Muscatine, IA","IA: Scott County (19163)","13063"]
[596,"Pottawattamie (Council Bluffs), IA - Harrison, IA","IA: Shelby County (19165)","13089"]
[672,"Sioux, IA","IA: Sioux County (19167)","13113"]
[606,"Story, IA - Boone, IA","IA: Story County (19169)","13117"]
[679,"Marshall, IA - Tama, IA","IA: Tama County (19171)","13121"]
[644,"Page, IA - Fremont, IA","IA: Taylor County (19173)","13135"]
[546,"Polk (Des Moines), IA - Dallas, IA","IA: Union County (19175)","13151"]
[589,"Wapello, IA - Mahaska, IA","IA: Van Buren County (19177)","13247"]
[589,"Wapello, IA - Mahaska, IA","IA: Wapello County (19179)","13297"]
[546,"Polk (Des Moines), IA - Dallas, IA","IA: Warren County (19181)","13015"]
[545,"Linn (Cedar Rapids), IA - Johnson, IA","IA: Washington County (19183)","13055"]
[645,"Lucas, IA - Wayne, IA","IA: Wayne County (19185)","13115"]
[585,"Webster, IA - Humboldt, IA","IA: Webster County (19187)","13129"]
[556,"Cerro Gordo, IA - Kossuth, IA","IA: Winnebago County (19189)","13233"]
[395,"Winneshiek, IA","IA: Winneshiek County (19191)","12005"]
[560,"Woodbury (Sioux City), IA - Plymouth, IA","IA: Woodbury County (19193)","12013"]
[556,"Cerro Gordo, IA - Kossuth, IA","IA: Worth County (19195)","12045"]
[606,"Story, IA - Boone, IA","IA: Wright County (19197)","12059"]
[716,"Ada (Boise City), ID - Canyon, ID","ID: Ada County (16001)","12063"]
[729,"Malheur, OR - Payette, ID","ID: Adams County (16003)","12133"]
[696,"Bannock, ID - Bingham, ID","ID: Bannock County (16005)","01063"]
[715,"Cache, UT - Franklin, ID","ID: Bear Lake County (16007)","01065"]
[734,"Kootenai, ID - Bonner, ID","ID: Benewah County (16009)","01107"]
[696,"Bannock, ID - Bingham, ID","ID: Bingham County (16011)","01125"]
[808,"Blaine, ID - Camas, ID","ID: Blaine County (16013)","13011"]
[716,"Ada (Boise City), ID - Canyon, ID","ID: Boise County (16015)","13085"]
[734,"Kootenai, ID - Bonner, ID","ID: Bonner County (16017)","13137"]
[722,"Bonneville, ID - Madison, ID","ID: Bonneville County (16019)","13139"]
[734,"Kootenai, ID - Bonner, ID","ID: Boundary County (16021)","13187"]
[722,"Bonneville, ID - Madison, ID","ID: Butte County (16023)","13281"]
[808,"Blaine, ID - Camas, ID","ID: Camas County (16025)","13291"]
[716,"Ada (Boise City), ID - Canyon, ID","ID: Canyon County (16027)","13311"]
[696,"Bannock, ID - Bingham, ID","ID: Caribou County (16029)","12003"]
[730,"Cassia, ID - Minidoka, ID","ID: Cassia County (16031)","12019"]
[722,"Bonneville, ID - Madison, ID","ID: Clark County (16033)","12031"]
[694,"Nez Perce, ID - Asotin, WA","ID: Clearwater County (16035)","12089"]
[722,"Bonneville, ID - Madison, ID","ID: Custer County (16037)","13025"]
[716,"Ada (Boise City), ID - Canyon, ID","ID: Elmore County (16039)","13039"]
[715,"Cache, UT - Franklin, ID","ID: Franklin County (16041)","13049"]
[722,"Bonneville, ID - Madison, ID","ID: Fremont County (16043)","13127"]
[716,"Ada (Boise City), ID - Canyon, ID","ID: Gem County (16045)","13191"]
[695,"Twin Falls, ID - Jerome, ID","ID: Gooding County (16047)","12001"]
[694,"Nez Perce, ID - Asotin, WA","ID: Idaho County (16049)","12007"]
[722,"Bonneville, ID - Madison, ID","ID: Jefferson County (16051)","12023"]
[695,"Twin Falls, ID - Jerome, ID","ID: Jerome County (16053)","12029"]
[734,"Kootenai, ID - Bonner, ID","ID: Kootenai County (16055)","12041"]
[784,"Whitman, WA - Latah, ID","ID: Latah County (16057)","12047"]
[813,"Lemhi, ID","ID: Lemhi County (16059)","12067"]
[694,"Nez Perce, ID - Asotin, WA","ID: Lewis County (16061)","12075"]
[695,"Twin Falls, ID - Jerome, ID","ID: Lincoln County (16063)","12121"]
[722,"Bonneville, ID - Madison, ID","ID: Madison County (16065)","12125"]
[730,"Cassia, ID - Minidoka, ID","ID: Minidoka County (16067)","45039"]
[694,"Nez Perce, ID - Asotin, WA","ID: Nez Perce County (16069)","45063"]
[696,"Bannock, ID - Bingham, ID","ID: Oneida County (16071)","45071"]
[716,"Ada (Boise City), ID - Canyon, ID","ID: Owyhee County (16073)","45079"]
[729,"Malheur, OR - Payette, ID","ID: Payette County (16075)","01003"]
[696,"Bannock, ID - Bingham, ID","ID: Power County (16077)","01025"]
[734,"Kootenai, ID - Bonner, ID","ID: Shoshone County (16079)","01097"]
[722,"Bonneville, ID - Madison, ID","ID: Teton County (16081)","01099"]
[695,"Twin Falls, ID - Jerome, ID","ID: Twin Falls County (16083)","01129"]
[716,"Ada (Boise City), ID - Canyon, ID","ID: Valley County (16085)","01005"]
[729,"Malheur, OR - Payette, ID","ID: Washington County (16087)","01031"]
[353,"Adams, IL - Marion, MO","IL: Adams County (17001)","01045"]
[563,"Cape Girardeau, MO - Butler, MO","IL: Alexander County (17003)","01061"]
[299,"Madison (Alton), IL - Jersey, IL","IL: Bond County (17005)","01067"]
[291,"Winnebago (Rockford), IL - Ogle, IL","IL: Boone County (17007)","01069"]
[318,"Sangamon (Springfield), IL - Christian, IL","IL: Brown County (17009)","13239"]
[336,"La Salle, IL - Livingston, IL","IL: Bureau County (17011)","01035"]
[299,"Madison (Alton), IL - Jersey, IL","IL: Calhoun County (17013)","01053"]
[361,"Whiteside, IL - Clinton, IA","IL: Carroll County (17015)","12033"]
[318,"Sangamon (Springfield), IL - Christian, IL","IL: Cass County (17017)","12091"]
[279,"Champaign (Champaign), IL - Coles, IL","IL: Champaign County (17019)","12113"]
[318,"Sangamon (Springfield), IL - Christian, IL","IL: Christian County (17021)","12131"]
[311,"Vigo (Terre Haute), IN - Clay, IN","IL: Clark County (17023)","13013"]
[351,"Richland, IL - Clay, IL","IL: Clay County (17025)","13059"]
[325,"St. Clair (Belleville), IL - Clinton, IL","IL: Clinton County (17027)","13133"]
[279,"Champaign (Champaign), IL - Coles, IL","IL: Coles County (17029)","13157"]
[287,"Cook (Chicago), IL - DuPage, IL","IL: Cook County (17031)","13195"]
[310,"Knox, IN - Daviess, IN","IL: Crawford County (17033)","13211"]
[279,"Champaign (Champaign), IL - Coles, IL","IL: Cumberland County (17035)","13219"]
[338,"McLean (Bloomington), IL - Woodford, IL","IL: De Witt County (17039)","13221"]
[373,"Kane (Aurora), IL - DeKalb, IL","IL: DeKalb County (17037)","12021"]
[279,"Champaign (Champaign), IL - Coles, IL","IL: Douglas County (17041)","12043"]
[287,"Cook (Chicago), IL - DuPage, IL","IL: DuPage County (17043)","12051"]
[333,"Vermilion, IL - Edgar, IL","IL: Edgar County (17045)","12071"]
[351,"Richland, IL - Clay, IL","IL: Edwards County (17047)","01113"]
[363,"Effingham, IL - Fayette, IL","IL: Effingham County (17049)","13053"]
[363,"Effingham, IL - Fayette, IL","IL: Fayette County (17051)","13145"]
[279,"Champaign (Champaign), IL - Coles, IL","IL: Ford County (17053)","13197"]
[331,"Williamson, IL - Jackson, IL","IL: Franklin County (17055)","13215"]
[277,"Peoria (Peoria), IL - Tazewell, IL","IL: Fulton County (17057)","13249"]
[384,"Saline, IL - Gallatin, IL","IL: Gallatin County (17059)","13259"]
[319,"Morgan, IL - Greene, IL","IL: Greene County (17061)","13263"]
[303,"Will (Joliet), IL - Grundy, IL","IL: Grundy County (17063)","13307"]
[383,"White, IL - Hamilton, IL","IL: Hamilton County (17065)","37007"]
[367,"Lee, IA - Hancock, IL","IL: Hancock County (17067)","37119"]
[384,"Saline, IL - Gallatin, IL","IL: Hardin County (17069)","37179"]
[340,"Des Moines, IA - Henry, IA","IL: Henderson County (17071)","37019"]
[307,"Rock Island (Moline), IL - Henry, IL","IL: Henry County (17073)","37129"]
[343,"Kankakee (Kankakee), IL - Iroquois, IL","IL: Iroquois County (17075)","37141"]
[331,"Williamson, IL - Jackson, IL","IL: Jackson County (17077)","47019"]
[351,"Richland, IL - Clay, IL","IL: Jasper County (17079)","47171"]
[335,"Jefferson, IL - Wayne, IL","IL: Jefferson County (17081)","47179"]
[299,"Madison (Alton), IL - Jersey, IL","IL: Jersey County (17083)","37063"]
[302,"Dubuque (Dubuque), IA - Stephenson, IL","IL: Jo Daviess County (17085)","37077"]
[12,"McCracken, KY - Graves, KY","IL: Johnson County (17087)","37145"]
[373,"Kane (Aurora), IL - DeKalb, IL","IL: Kane County (17089)","37181"]
[343,"Kankakee (Kankakee), IL - Iroquois, IL","IL: Kankakee County (17091)","37185"]
[373,"Kane (Aurora), IL - DeKalb, IL","IL: Kendall County (17093)","01001"]
[324,"Knox, IL - Warren, IL","IL: Knox County (17095)","01011"]
[336,"La Salle, IL - Livingston, IL","IL: La Salle County (17099)","01039"]
[287,"Cook (Chicago), IL - DuPage, IL","IL: Lake County (17097)","01041"]
[310,"Knox, IN - Daviess, IN","IL: Lawrence County (17101)","01085"]
[291,"Winnebago (Rockford), IL - Ogle, IL","IL: Lee County (17103)","01101"]
[336,"La Salle, IL - Livingston, IL","IL: Livingston County (17105)","01109"]
[318,"Sangamon (Springfield), IL - Christian, IL","IL: Logan County (17107)","01017"]
[305,"Macon (Decatur), IL - Shelby, IL","IL: Macon County (17115)","01111"]
[334,"Macoupin, IL - Montgomery, IL","IL: Macoupin County (17117)","13077"]
[299,"Madison (Alton), IL - Jersey, IL","IL: Madison County (17119)","13149"]
[358,"Marion, IL - Washington, IL","IL: Marion County (17121)","13199"]
[277,"Peoria (Peoria), IL - Tazewell, IL","IL: Marshall County (17123)","13285"]
[277,"Peoria (Peoria), IL - Tazewell, IL","IL: Mason County (17125)","13111"]
[12,"McCracken, KY - Graves, KY","IL: Massac County (17127)","13123"]
[318,"Sangamon (Springfield), IL - Christian, IL","IL: McDonough County (17109)","47011"]
[287,"Cook (Chicago), IL - DuPage, IL","IL: McHenry County (17111)","47139"]
[338,"McLean (Bloomington), IL - Woodford, IL","IL: McLean County (17113)","13005"]
[318,"Sangamon (Springfield), IL - Christian, IL","IL: Menard County (17129)","13065"]
[307,"Rock Island (Moline), IL - Henry, IL","IL: Mercer County (17131)","13229"]
[325,"St. Clair (Belleville), IL - Clinton, IL","IL: Monroe County (17133)","13299"]
[334,"Macoupin, IL - Montgomery, IL","IL: Montgomery County (17135)","01047"]
[319,"Morgan, IL - Greene, IL","IL: Morgan County (17137)","01091"]
[305,"Macon (Decatur), IL - Shelby, IL","IL: Moultrie County (17139)","01105"]
[291,"Winnebago (Rockford), IL - Ogle, IL","IL: Ogle County (17141)","01131"]
[277,"Peoria (Peoria), IL - Tazewell, IL","IL: Peoria County (17143)","45005"]
[331,"Williamson, IL - Jackson, IL","IL: Perry County (17145)","45009"]
[305,"Macon (Decatur), IL - Shelby, IL","IL: Piatt County (17147)","45017"]
[353,"Adams, IL - Marion, MO","IL: Pike County (17149)","45075"]
[384,"Saline, IL - Gallatin, IL","IL: Pope County (17151)","01015"]
[563,"Cape Girardeau, MO - Butler, MO","IL: Pulaski County (17153)","01029"]
[336,"La Salle, IL - Livingston, IL","IL: Putnam County (17155)","13045"]
[325,"St. Clair (Belleville), IL - Clinton, IL","IL: Randolph County (17157)","13143"]
[351,"Richland, IL - Clay, IL","IL: Richland County (17159)","13131"]
[307,"Rock Island (Moline), IL - Henry, IL","IL: Rock Island County (17161)","13205"]
[384,"Saline, IL - Gallatin, IL","IL: Saline County (17165)","13275"]
[318,"Sangamon (Springfield), IL - Christian, IL","IL: Sangamon County (17167)","01051"]
[318,"Sangamon (Springfield), IL - Christian, IL","IL: Schuyler County (17169)","01081"]
[319,"Morgan, IL - Greene, IL","IL: Scott County (17171)","01087"]
[305,"Macon (Decatur), IL - Shelby, IL","IL: Shelby County (17173)","01123"]
[325,"St. Clair (Belleville), IL - Clinton, IL","IL: St. Clair County (17163)","13019"]
[307,"Rock Island (Moline), IL - Henry, IL","IL: Stark County (17175)","13027"]
[302,"Dubuque (Dubuque), IA - Stephenson, IL","IL: Stephenson County (17177)","13075"]
[277,"Peoria (Peoria), IL - Tazewell, IL","IL: Tazewell County (17179)","13101"]
[563,"Cape Girardeau, MO - Butler, MO","IL: Union County (17181)","13173"]
[333,"Vermilion, IL - Edgar, IL","IL: Vermilion County (17183)","13185"]
[273,"Vanderburgh (Evansville), IN - Warrick, IN","IL: Wabash County (17185)","21075"]
[324,"Knox, IL - Warren, IL","IL: Warren County (17187)","47131"]
[358,"Marion, IL - Washington, IL","IL: Washington County (17189)","47183"]
[335,"Jefferson, IL - Wayne, IL","IL: Wayne County (17191)","45007"]
[383,"White, IL - Hamilton, IL","IL: White County (17193)","45045"]
[361,"Whiteside, IL - Clinton, IA","IL: Whiteside County (17195)","45073"]
[303,"Will (Joliet), IL - Grundy, IL","IL: Will County (17197)","45077"]
[331,"Williamson, IL - Jackson, IL","IL: Williamson County (17199)","12037"]
[291,"Winnebago (Rockford), IL - Ogle, IL","IL: Winnebago County (17201)","12039"]
[338,"McLean (Bloomington), IL - Woodford, IL","IL: Woodford County (17203)","12065"]
[332,"Huntington, IN - Adams, IN","IN: Adams County (18001)","12073"]
[304,"Allen (Fort Wayne), IN - Noble, IN","IN: Allen County (18003)","12077"]
[313,"Bartholomew, IN - Jackson, IN","IN: Bartholomew County (18005)","12079"]
[300,"Tippecanoe (Lafayette), IN - Clinton, IN","IN: Benton County (18007)","12123"]
[323,"Delaware (Muncie), IN - Randolph, IN","IN: Blackford County (18009)","12129"]
[401,"Boone, IN","IN: Boone County (18011)","45025"]
[341,"Monroe (Bloomington), IN - Greene, IN","IN: Brown County (18013)","45031"]
[300,"Tippecanoe (Lafayette), IN - Clinton, IN","IN: Carroll County (18015)","45041"]
[364,"Howard (Kokomo), IN - Cass, IN","IN: Cass County (18017)","45069"]
[365,"Clark (Jeffersonville), IN - Scott, IN","IN: Clark County (18019)","45089"]
[311,"Vigo (Terre Haute), IN - Clay, IN","IN: Clay County (18021)","01079"]
[300,"Tippecanoe (Lafayette), IN - Clinton, IN","IN: Clinton County (18023)","01103"]
[339,"Floyd (New Albany), IN - Harrison, IN","IN: Crawford County (18025)","37057"]
[310,"Knox, IN - Daviess, IN","IN: Daviess County (18027)","37081"]
[304,"Allen (Fort Wayne), IN - Noble, IN","IN: De Kalb County (18033)","37151"]
[321,"Dearborn, IN - Jefferson (Madison), IN","IN: Dearborn County (18029)","37157"]
[313,"Bartholomew, IN - Jackson, IN","IN: Decatur County (18031)","45001"]
[323,"Delaware (Muncie), IN - Randolph, IN","IN: Delaware County (18035)","45047"]
[394,"Dubois, IN","IN: Dubois County (18037)","45059"]
[349,"Elkhart (Elkhart), IN - Kosciusko, IN","IN: Elkhart County (18039)","45065"]
[385,"Wayne, IN - Fayette, IN","IN: Fayette County (18041)","45081"]
[339,"Floyd (New Albany), IN - Harrison, IN","IN: Floyd County (18043)","47023"]
[333,"Vermilion, IL - Edgar, IL","IN: Fountain County (18045)","47033"]
[270,"Hamilton (Cincinnati), OH - Butler, OH","IN: Franklin County (18047)","47039"]
[312,"St. Joseph (South Bend), IN - Marshall, IN","IN: Fulton County (18049)","47053"]
[273,"Vanderburgh (Evansville), IN - Warrick, IN","IN: Gibson County (18051)","47069"]
[389,"Grant, IN - Miami, IN","IN: Grant County (18053)","47075"]
[341,"Monroe (Bloomington), IN - Greene, IN","IN: Greene County (18055)","47077"]
[390,"Hamilton, IN - Madison (Anderson), IN","IN: Hamilton County (18057)","47113"]
[362,"Hancock, IN - Henry (New Castle), IN","IN: Hancock County (18059)","13017"]
[339,"Floyd (New Albany), IN - Harrison, IN","IN: Harrison County (18061)","13155"]
[275,"Marion (Indianapolis), IN - Johnson, IN","IN: Hendricks County (18063)","13277"]
[362,"Hancock, IN - Henry (New Castle), IN","IN: Henry County (18065)","13287"]
[364,"Howard (Kokomo), IN - Cass, IN","IN: Howard County (18067)","13057"]
[332,"Huntington, IN - Adams, IN","IN: Huntington County (18069)","13067"]
[313,"Bartholomew, IN - Jackson, IN","IN: Jackson County (18071)","13097"]
[308,"Lake (Gary), IN - Porter, IN","IN: Jasper County (18073)","13223"]
[332,"Huntington, IN - Adams, IN","IN: Jay County (18075)","13227"]
[321,"Dearborn, IN - Jefferson (Madison), IN","IN: Jefferson County (18077)","37149"]
[313,"Bartholomew, IN - Jackson, IN","IN: Jennings County (18079)","45021"]
[275,"Marion (Indianapolis), IN - Johnson, IN","IN: Johnson County (18081)","45083"]
[310,"Knox, IN - Daviess, IN","IN: Knox County (18083)","45087"]
[349,"Elkhart (Elkhart), IN - Kosciusko, IN","IN: Kosciusko County (18085)","37003"]
[378,"La Porte, IN - Starke, IN","IN: La Porte County (18091)","37097"]
[304,"Allen (Fort Wayne), IN - Noble, IN","IN: LaGrange County (18087)","13021"]
[308,"Lake (Gary), IN - Porter, IN","IN: Lake County (18089)","13023"]
[329,"Lawrence, IN - Orange, IN","IN: Lawrence County (18093)","13079"]
[390,"Hamilton, IN - Madison (Anderson), IN","IN: Madison County (18095)","13153"]
[275,"Marion (Indianapolis), IN - Johnson, IN","IN: Marion County (18097)","13169"]
[312,"St. Joseph (South Bend), IN - Marshall, IN","IN: Marshall County (18099)","13207"]
[310,"Knox, IN - Daviess, IN","IN: Martin County (18101)","13225"]
[389,"Grant, IN - Miami, IN","IN: Miami County (18103)","13235"]
[341,"Monroe (Bloomington), IN - Greene, IN","IN: Monroe County (18105)","13269"]
[402,"Montgomery, IN","IN: Montgomery County (18107)","13289"]
[275,"Marion (Indianapolis), IN - Johnson, IN","IN: Morgan County (18109)","13319"]
[308,"Lake (Gary), IN - Porter, IN","IN: Newton County (18111)","37009"]
[304,"Allen (Fort Wayne), IN - Noble, IN","IN: Noble County (18113)","37189"]
[321,"Dearborn, IN - Jefferson (Madison), IN","IN: Ohio County (18115)","47091"]
[329,"Lawrence, IN - Orange, IN","IN: Orange County (18117)","37013"]
[341,"Monroe (Bloomington), IN - Greene, IN","IN: Owen County (18119)","37095"]
[311,"Vigo (Terre Haute), IN - Clay, IN","IN: Parke County (18121)","37117"]
[316,"Daviess (Owensboro), KY - Ohio, KY","IN: Perry County (18123)","37147"]
[310,"Knox, IN - Daviess, IN","IN: Pike County (18125)","37177"]
[308,"Lake (Gary), IN - Porter, IN","IN: Porter County (18127)","37187"]
[273,"Vanderburgh (Evansville), IN - Warrick, IN","IN: Posey County (18129)","45027"]
[312,"St. Joseph (South Bend), IN - Marshall, IN","IN: Pulaski County (18131)","45061"]
[275,"Marion (Indianapolis), IN - Johnson, IN","IN: Putnam County (18133)","45085"]
[323,"Delaware (Muncie), IN - Randolph, IN","IN: Randolph County (18135)","13081"]
[321,"Dearborn, IN - Jefferson (Madison), IN","IN: Ripley County (18137)","13093"]
[275,"Marion (Indianapolis), IN - Johnson, IN","IN: Rush County (18139)","13193"]
[365,"Clark (Jeffersonville), IN - Scott, IN","IN: Scott County (18143)","13261"]
[275,"Marion (Indianapolis), IN - Johnson, IN","IN: Shelby County (18145)","13315"]
[273,"Vanderburgh (Evansville), IN - Warrick, IN","IN: Spencer County (18147)","37069"]
[312,"St. Joseph (South Bend), IN - Marshall, IN","IN: St. Joseph County (18141)","37101"]
[378,"La Porte, IN - Starke, IN","IN: Starke County (18149)","37183"]
[304,"Allen (Fort Wayne), IN - Noble, IN","IN: Steuben County (18151)","37195"]
[311,"Vigo (Terre Haute), IN - Clay, IN","IN: Sullivan County (18153)","45033"]
[321,"Dearborn, IN - Jefferson (Madison), IN","IN: Switzerland County (18155)","45067"]
[300,"Tippecanoe (Lafayette), IN - Clinton, IN","IN: Tippecanoe County (18157)","12011"]
[364,"Howard (Kokomo), IN - Cass, IN","IN: Tipton County (18159)","12086"]
[385,"Wayne, IN - Fayette, IN","IN: Union County (18161)","12087"]
[273,"Vanderburgh (Evansville), IN - Warrick, IN","IN: Vanderburgh County (18163)","13009"]
[311,"Vigo (Terre Haute), IN - Clay, IN","IN: Vermillion County (18165)","13141"]
[311,"Vigo (Terre Haute), IN - Clay, IN","IN: Vigo County (18167)","13237"]
[389,"Grant, IN - Miami, IN","IN: Wabash County (18169)","12049"]
[333,"Vermilion, IL - Edgar, IL","IN: Warren County (18171)","12055"]
[273,"Vanderburgh (Evansville), IN - Warrick, IN","IN: Warrick County (18173)","12105"]
[339,"Floyd (New Albany), IN - Harrison, IN","IN: Washington County (18175)","37037"]
[385,"Wayne, IN - Fayette, IN","IN: Wayne County (18177)","37085"]
[332,"Huntington, IN - Adams, IN","IN: Wells County (18179)","37105"]
[300,"Tippecanoe (Lafayette), IN - Clinton, IN","IN: White County (18181)","37135"]
[304,"Allen (Fort Wayne), IN - Noble, IN","IN: Whitley County (18183)","13035"]
[601,"Labette, KS - Neosho, KS","KS: Allen County (20001)","13255"]
[624,"Johnson (Overland Park), KS - Douglas, KS","KS: Anderson County (20003)","37093"]
[671,"Atchison, KS","KS: Atchison County (20005)","37123"]
[669,"Barber, KS","KS: Barber County (20007)","37125"]
[583,"Barton, KS - Pawnee, KS","KS: Barton County (20009)","37153"]
[630,"Crawford, KS - Bourbon, KS","KS: Bourbon County (20011)","13091"]
[554,"Shawnee (Topeka), KS - Riley, KS","KS: Brown County (20013)","13167"]
[576,"Sedgwick (Wichita), KS - Butler, KS","KS: Butler County (20015)","13175"]
[567,"Lyon, KS - Coffey, KS","KS: Chase County (20017)","13209"]
[451,"Washington, OK - Montgomery, KS","KS: Chautauqua County (20019)","13271"]
[539,"Jasper (Joplin), MO - Newton, MO","KS: Cherokee County (20021)","13279"]
[636,"Cheyenne, KS - Rawlins, KS","KS: Cheyenne County (20023)","13283"]
[551,"Ford, KS - Gray, KS","KS: Clark County (20025)","13309"]
[662,"Clay, KS","KS: Clay County (20027)","37017"]
[642,"Cloud, KS - Republic, KS","KS: Cloud County (20029)","37047"]
[567,"Lyon, KS - Coffey, KS","KS: Coffey County (20031)","37155"]
[618,"Pratt, KS - Kiowa, KS","KS: Comanche County (20033)","37165"]
[576,"Sedgwick (Wichita), KS - Butler, KS","KS: Cowley County (20035)","47055"]
[630,"Crawford, KS - Bourbon, KS","KS: Crawford County (20037)","47101"]
[613,"Red Willow, NE - Decatur, KS","KS: Decatur County (20039)","47117"]
[650,"Geary, KS - Dickinson, KS","KS: Dickinson County (20041)","47119"]
[591,"Buchanan (St. Joseph), MO - Nodaway, MO","KS: Doniphan County (20043)","37075"]
[624,"Johnson (Overland Park), KS - Douglas, KS","KS: Douglas County (20045)","37099"]
[583,"Barton, KS - Pawnee, KS","KS: Edwards County (20047)","37113"]
[451,"Washington, OK - Montgomery, KS","KS: Elk County (20049)","37173"]
[565,"Ellis, KS - Rooks, KS","KS: Ellis County (20051)","01071"]
[569,"Saline, KS - Ellsworth, KS","KS: Ellsworth County (20053)","01083"]
[575,"Finney, KS - Scott, KS","KS: Finney County (20055)","01089"]
[551,"Ford, KS - Gray, KS","KS: Ford County (20057)","47103"]
[624,"Johnson (Overland Park), KS - Douglas, KS","KS: Franklin County (20059)","47015"]
[650,"Geary, KS - Dickinson, KS","KS: Geary County (20061)","47041"]
[565,"Ellis, KS - Rooks, KS","KS: Gove County (20063)","47149"]
[565,"Ellis, KS - Rooks, KS","KS: Graham County (20065)","47175"]
[562,"Grant, KS - Baca, CO","KS: Grant County (20067)","47177"]
[551,"Ford, KS - Gray, KS","KS: Gray County (20069)","45015"]
[643,"Wichita, KS - Greeley, KS","KS: Greeley County (20071)","45019"]
[567,"Lyon, KS - Coffey, KS","KS: Greenwood County (20073)","45029"]
[575,"Finney, KS - Scott, KS","KS: Hamilton County (20075)","45035"]
[661,"Kingman, KS - Harper, KS","KS: Harper County (20077)","45049"]
[576,"Sedgwick (Wichita), KS - Butler, KS","KS: Harvey County (20079)","12015"]
[575,"Finney, KS - Scott, KS","KS: Haskell County (20081)","12027"]
[551,"Ford, KS - Gray, KS","KS: Hodgeman County (20083)","12115"]
[554,"Shawnee (Topeka), KS - Riley, KS","KS: Jackson County (20085)","37065"]
[554,"Shawnee (Topeka), KS - Riley, KS","KS: Jefferson County (20087)","37083"]
[622,"Mitchell, KS - Osborne, KS","KS: Jewell County (20089)","37127"]
[624,"Johnson (Overland Park), KS - Douglas, KS","KS: Johnson County (20091)","37131"]
[575,"Finney, KS - Scott, KS","KS: Kearny County (20093)","47027"]
[661,"Kingman, KS - Harper, KS","KS: Kingman County (20095)","47087"]
[618,"Pratt, KS - Kiowa, KS","KS: Kiowa County (20097)","47133"]
[601,"Labette, KS - Neosho, KS","KS: Labette County (20099)","47137"]
[575,"Finney, KS - Scott, KS","KS: Lane County (20101)","47141"]
[621,"Wyandotte (Kansas City), KS - Leavenworth, KS","KS: Leavenworth County (20103)","47185"]
[569,"Saline, KS - Ellsworth, KS","KS: Lincoln County (20105)","13119"]
[630,"Crawford, KS - Bourbon, KS","KS: Linn County (20107)","13147"]
[565,"Ellis, KS - Rooks, KS","KS: Logan County (20109)","13257"]
[567,"Lyon, KS - Coffey, KS","KS: Lyon County (20111)","47057"]
[576,"Sedgwick (Wichita), KS - Butler, KS","KS: Marion County (20115)","47063"]
[635,"Marshall, KS - Washington, KS","KS: Marshall County (20117)","47067"]
[674,"McPherson, KS","KS: McPherson County (20113)","47089"]
[551,"Ford, KS - Gray, KS","KS: Meade County (20119)","37045"]
[624,"Johnson (Overland Park), KS - Douglas, KS","KS: Miami County (20121)","37071"]
[622,"Mitchell, KS - Osborne, KS","KS: Mitchell County (20123)","37109"]
[451,"Washington, OK - Montgomery, KS","KS: Montgomery County (20125)","37161"]
[650,"Geary, KS - Dickinson, KS","KS: Morris County (20127)","01033"]
[587,"Seward, KS - Texas, OK","KS: Morton County (20129)","01059"]
[554,"Shawnee (Topeka), KS - Riley, KS","KS: Nemaha County (20131)","01077"]
[601,"Labette, KS - Neosho, KS","KS: Neosho County (20133)","01133"]
[682,"Ness, KS","KS: Ness County (20135)","13159"]
[637,"Phillips, KS - Norton, KS","KS: Norton County (20137)","13217"]
[554,"Shawnee (Topeka), KS - Riley, KS","KS: Osage County (20139)","12085"]
[622,"Mitchell, KS - Osborne, KS","KS: Osborne County (20141)","12093"]
[569,"Saline, KS - Ellsworth, KS","KS: Ottawa County (20143)","12099"]
[583,"Barton, KS - Pawnee, KS","KS: Pawnee County (20145)","12111"]
[637,"Phillips, KS - Norton, KS","KS: Phillips County (20147)","13031"]
[554,"Shawnee (Topeka), KS - Riley, KS","KS: Pottawatomie County (20149)","13043"]
[618,"Pratt, KS - Kiowa, KS","KS: Pratt County (20151)","13107"]
[636,"Cheyenne, KS - Rawlins, KS","KS: Rawlins County (20153)","13251"]
[598,"Reno, KS - Rice, KS","KS: Reno County (20155)","47007"]
[642,"Cloud, KS - Republic, KS","KS: Republic County (20157)","47035"]
[598,"Reno, KS - Rice, KS","KS: Rice County (20159)","47049"]
[554,"Shawnee (Topeka), KS - Riley, KS","KS: Riley County (20161)","01019"]
[565,"Ellis, KS - Rooks, KS","KS: Rooks County (20163)","01049"]
[583,"Barton, KS - Pawnee, KS","KS: Rush County (20165)","01055"]
[667,"Russell, KS","KS: Russell County (20167)","01095"]
[569,"Saline, KS - Ellsworth, KS","KS: Saline County (20169)","37021"]
[575,"Finney, KS - Scott, KS","KS: Scott County (20171)","37087"]
[576,"Sedgwick (Wichita), KS - Butler, KS","KS: Sedgwick County (20173)","37089"]
[587,"Seward, KS - Texas, OK","KS: Seward County (20175)","37115"]
[554,"Shawnee (Topeka), KS - Riley, KS","KS: Shawnee County (20177)","37175"]
[613,"Red Willow, NE - Decatur, KS","KS: Sheridan County (20179)","47001"]
[659,"Thomas, KS - Sherman, KS","KS: Sherman County (20181)","47013"]
[637,"Phillips, KS - Norton, KS","KS: Smith County (20183)","47129"]
[598,"Reno, KS - Rice, KS","KS: Stafford County (20185)","47143"]
[562,"Grant, KS - Baca, CO","KS: Stanton County (20187)","47145"]
[664,"Stevens, KS","KS: Stevens County (20189)","12053"]
[576,"Sedgwick (Wichita), KS - Butler, KS","KS: Sumner County (20191)","12057"]
[659,"Thomas, KS - Sherman, KS","KS: Thomas County (20193)","12101"]
[565,"Ellis, KS - Rooks, KS","KS: Trego County (20195)","12103"]
[554,"Shawnee (Topeka), KS - Riley, KS","KS: Wabaunsee County (20197)","13087"]
[659,"Thomas, KS - Sherman, KS","KS: Wallace County (20199)","13201"]
[635,"Marshall, KS - Washington, KS","KS: Washington County (20201)","13253"]
[643,"Wichita, KS - Greeley, KS","KS: Wichita County (20203)","37023"]
[675,"Wilson, KS","KS: Wilson County (20205)","37027"]
[601,"Labette, KS - Neosho, KS","KS: Woodson County (20207)","37035"]
[621,"Wyandotte (Kansas City), KS - Leavenworth, KS","KS: Wyandotte County (20209)","13001"]
[82,"Taylor, KY - Adair, KY","KY: Adair County (21001)","13305"]
[29,"Warren, KY - Logan, KY","KY: Allen County (21003)","47111"]
[114,"Franklin, KY - Anderson, KY","KY: Anderson County (21005)","47159"]
[12,"McCracken, KY - Graves, KY","KY: Ballard County (21007)","47165"]
[53,"Barren, KY - Hart, KY","KY: Barren County (21009)","47169"]
[131,"Montgomery, KY - Bath, KY","KY: Bath County (21011)","47189"]
[96,"Harlan, KY - Bell, KY","KY: Bell County (21013)","47099"]
[2,"Kenton (Covington), KY - Campbell, KY","KY: Boone County (21015)","47135"]
[102,"Bourbon (Paris), KY - Nicholas, KY","KY: Bourbon County (21017)","47181"]
[46,"Cabell (Huntington), WV - Lawrence, OH","KY: Boyd County (21019)","12017"]
[27,"Boyle, KY - Lincoln, KY","KY: Boyle County (21021)","12083"]
[116,"Mason, KY - Fleming, KY","KY: Bracken County (21023)","47083"]
[18,"Fayette (Lexington-Fayette), KY - Jessamine, KY","KY: Breathitt County (21025)","47125"]
[89,"Hardin, KY - Meade, KY","KY: Breckinridge County (21027)","47161"]
[272,"Jefferson (Louisville), KY - Bullitt, KY","KY: Bullitt County (21029)","37025"]
[29,"Warren, KY - Logan, KY","KY: Butler County (21031)","37159"]
[45,"Christian (Hopkinsville), KY - Hopkins, KY","KY: Caldwell County (21033)","37167"]
[115,"Calloway, KY - Henry, TN","KY: Calloway County (21035)","13003"]
[2,"Kenton (Covington), KY - Campbell, KY","KY: Campbell County (21037)","13069"]
[12,"McCracken, KY - Graves, KY","KY: Carlisle County (21039)","13161"]
[321,"Dearborn, IN - Jefferson (Madison), IN","KY: Carroll County (21041)","12009"]
[46,"Cabell (Huntington), WV - Lawrence, OH","KY: Carter County (21043)","12061"]
[27,"Boyle, KY - Lincoln, KY","KY: Casey County (21045)","37061"]
[45,"Christian (Hopkinsville), KY - Hopkins, KY","KY: Christian County (21047)","37079"]
[18,"Fayette (Lexington-Fayette), KY - Jessamine, KY","KY: Clark County (21049)","37107"]
[51,"Laurel, KY - Whitley, KY","KY: Clay County (21051)","37191"]
[104,"Clinton, KY - Cumberland, KY","KY: Clinton County (21053)","47031"]
[12,"McCracken, KY - Graves, KY","KY: Crittenden County (21055)","47051"]
[104,"Clinton, KY - Cumberland, KY","KY: Cumberland County (21057)","47061"]
[316,"Daviess (Owensboro), KY - Ohio, KY","KY: Daviess County (21059)","47127"]
[29,"Warren, KY - Logan, KY","KY: Edmonson County (21061)","37011"]
[67,"Rowan, KY - Morgan, KY","KY: Elliott County (21063)","37121"]
[62,"Madison, KY - Rockcastle, KY","KY: Estill County (21065)","37199"]
[18,"Fayette (Lexington-Fayette), KY - Jessamine, KY","KY: Fayette County (21067)","01027"]
[116,"Mason, KY - Fleming, KY","KY: Fleming County (21069)","01037"]
[11,"Floyd, KY - Johnson, KY","KY: Floyd County (21071)","01121"]
[114,"Franklin, KY - Anderson, KY","KY: Franklin County (21073)","37031"]
[181,"Weakley, TN - Obion, TN","KY: Fulton County (21075)","37049"]
[2,"Kenton (Covington), KY - Campbell, KY","KY: Gallatin County (21077)","37103"]
[27,"Boyle, KY - Lincoln, KY","KY: Garrard County (21079)","37133"]
[2,"Kenton (Covington), KY - Campbell, KY","KY: Grant County (21081)","37137"]
[12,"McCracken, KY - Graves, KY","KY: Graves County (21083)","37015"]
[89,"Hardin, KY - Meade, KY","KY: Grayson County (21085)","37041"]
[82,"Taylor, KY - Adair, KY","KY: Green County (21087)","37073"]
[46,"Cabell (Huntington), WV - Lawrence, OH","KY: Greenup County (21089)","37091"]
[316,"Daviess (Owensboro), KY - Ohio, KY","KY: Hancock County (21091)","45023"]
[89,"Hardin, KY - Meade, KY","KY: Hardin County (21093)","45091"]
[96,"Harlan, KY - Bell, KY","KY: Harlan County (21095)","47071"]
[119,"Harrison, KY - Robertson, KY","KY: Harrison County (21097)","47109"]
[53,"Barren, KY - Hart, KY","KY: Hart County (21099)","45043"]
[40,"Henderson (Henderson), KY - Union, KY","KY: Henderson County (21101)","45051"]
[272,"Jefferson (Louisville), KY - Bullitt, KY","KY: Henry County (21103)","01057"]
[12,"McCracken, KY - Graves, KY","KY: Hickman County (21105)","01093"]
[45,"Christian (Hopkinsville), KY - Hopkins, KY","KY: Hopkins County (21107)","47045"]
[62,"Madison, KY - Rockcastle, KY","KY: Jackson County (21109)","47095"]
[272,"Jefferson (Louisville), KY - Bullitt, KY","KY: Jefferson County (21111)","47097"]
[18,"Fayette (Lexington-Fayette), KY - Jessamine, KY","KY: Jessamine County (21113)","45055"]
[11,"Floyd, KY - Johnson, KY","KY: Johnson County (21115)","45057"]
[2,"Kenton (Covington), KY - Campbell, KY","KY: Kenton County (21117)","13163"]
[18,"Fayette (Lexington-Fayette), KY - Jessamine, KY","KY: Knott County (21119)","13303"]
[51,"Laurel, KY - Whitley, KY","KY: Knox County (21121)","12107"]
[89,"Hardin, KY - Meade, KY","KY: Larue County (21123)","12109"]
[51,"Laurel, KY - Whitley, KY","KY: Laurel County (21125)","47029"]
[46,"Cabell (Huntington), WV - Lawrence, OH","KY: Lawrence County (21127)","47059"]
[18,"Fayette (Lexington-Fayette), KY - Jessamine, KY","KY: Lee County (21129)","13105"]
[18,"Fayette (Lexington-Fayette), KY - Jessamine, KY","KY: Leslie County (21131)","13317"]
[123,"Letcher, KY","KY: Letcher County (21133)","13071"]
[337,"Scioto, OH - Ross, OH","KY: Lewis County (21135)","37193"]
[27,"Boyle, KY - Lincoln, KY","KY: Lincoln County (21137)","12097"]
[12,"McCracken, KY - Graves, KY","KY: Livingston County (21139)","37039"]
[29,"Warren, KY - Logan, KY","KY: Logan County (21141)","37043"]
[12,"McCracken, KY - Graves, KY","KY: Lyon County (21143)","01013"]
[62,"Madison, KY - Rockcastle, KY","KY: Madison County (21151)","47003"]
[11,"Floyd, KY - Johnson, KY","KY: Magoffin County (21153)","37111"]
[272,"Jefferson (Louisville), KY - Bullitt, KY","KY: Marion County (21155)","37051"]
[12,"McCracken, KY - Graves, KY","KY: Marshall County (21157)","37163"]
[46,"Cabell (Huntington), WV - Lawrence, OH","KY: Martin County (21159)","47151"]
[116,"Mason, KY - Fleming, KY","KY: Mason County (21161)","37029"]
[12,"McCracken, KY - Graves, KY","KY: McCracken County (21145)","37055"]
[37,"Pulaski, KY - Wayne, KY","KY: McCreary County (21147)","37139"]
[316,"Daviess (Owensboro), KY - Ohio, KY","KY: McLean County (21149)","37143"]
[89,"Hardin, KY - Meade, KY","KY: Meade County (21163)","12081"]
[67,"Rowan, KY - Morgan, KY","KY: Menifee County (21165)","37001"]
[27,"Boyle, KY - Lincoln, KY","KY: Mercer County (21167)","13241"]
[53,"Barren, KY - Hart, KY","KY: Metcalfe County (21169)","13171"]
[53,"Barren, KY - Hart, KY","KY: Monroe County (21171)","13231"]
[131,"Montgomery, KY - Bath, KY","KY: Montgomery County (21173)","13293"]
[67,"Rowan, KY - Morgan, KY","KY: Morgan County (21175)","18047"]
[45,"Christian (Hopkinsville), KY - Hopkins, KY","KY: Muhlenberg County (21177)","39001"]
[272,"Jefferson (Louisville), KY - Bullitt, KY","KY: Nelson County (21179)","39015"]
[102,"Bourbon (Paris), KY - Nicholas, KY","KY: Nicholas County (21181)","39017"]
[316,"Daviess (Owensboro), KY - Ohio, KY","KY: Ohio County (21183)","39025"]
[272,"Jefferson (Louisville), KY - Bullitt, KY","KY: Oldham County (21185)","39061"]
[114,"Franklin, KY - Anderson, KY","KY: Owen County (21187)","39165"]
[18,"Fayette (Lexington-Fayette), KY - Jessamine, KY","KY: Owsley County (21189)","26009"]
[2,"Kenton (Covington), KY - Campbell, KY","KY: Pendleton County (21191)","26019"]
[18,"Fayette (Lexington-Fayette), KY - Jessamine, KY","KY: Perry County (21193)","26055"]
[13,"Pike, KY - Logan, WV","KY: Pike County (21195)","26079"]
[18,"Fayette (Lexington-Fayette), KY - Jessamine, KY","KY: Powell County (21197)","26089"]
[37,"Pulaski, KY - Wayne, KY","KY: Pulaski County (21199)","26101"]
[119,"Harrison, KY - Robertson, KY","KY: Robertson County (21201)","21029"]
[62,"Madison, KY - Rockcastle, KY","KY: Rockcastle County (21203)","21103"]
[67,"Rowan, KY - Morgan, KY","KY: Rowan County (21205)","21111"]
[82,"Taylor, KY - Adair, KY","KY: Russell County (21207)","21155"]
[18,"Fayette (Lexington-Fayette), KY - Jessamine, KY","KY: Scott County (21209)","21179"]
[272,"Jefferson (Louisville), KY - Bullitt, KY","KY: Shelby County (21211)","21185"]
[29,"Warren, KY - Logan, KY","KY: Simpson County (21213)","21211"]
[272,"Jefferson (Louisville), KY - Bullitt, KY","KY: Spencer County (21215)","21215"]
[82,"Taylor, KY - Adair, KY","KY: Taylor County (21217)","21229"]
[45,"Christian (Hopkinsville), KY - Hopkins, KY","KY: Todd County (21219)","17185"]
[45,"Christian (Hopkinsville), KY - Hopkins, KY","KY: Trigg County (21221)","18051"]
[321,"Dearborn, IN - Jefferson (Madison), IN","KY: Trimble County (21223)","18129"]
[40,"Henderson (Henderson), KY - Union, KY","KY: Union County (21225)","18147"]
[29,"Warren, KY - Logan, KY","KY: Warren County (21227)","18163"]
[272,"Jefferson (Louisville), KY - Bullitt, KY","KY: Washington County (21229)","18173"]
[37,"Pulaski, KY - Wayne, KY","KY: Wayne County (21231)","26093"]
[45,"Christian (Hopkinsville), KY - Hopkins, KY","KY: Webster County (21233)","26099"]
[51,"Laurel, KY - Whitley, KY","KY: Whitley County (21235)","26125"]
[18,"Fayette (Lexington-Fayette), KY - Jessamine, KY","KY: Wolfe County (21237)","26161"]
[18,"Fayette (Lexington-Fayette), KY - Jessamine, KY","KY: Woodford County (21239)","26163"]
[424,"Lafayette (Lafayette), LA - Iberia, LA","LA: Acadia Parish (22001)","18063"]
[450,"Rapides (Alexandria), LA - Avoyelles, LA","LA: Allen Parish (22003)","18081"]
[419,"East Baton Rouge (Baton Rouge), LA - Livingston, LA","LA: Ascension Parish (22005)","18097"]
[467,"Terrebonne (Houma), LA - Lafourche, LA","LA: Assumption Parish (22007)","18109"]
[450,"Rapides (Alexandria), LA - Avoyelles, LA","LA: Avoyelles Parish (22009)","18133"]
[470,"Calcasieu (Lake Charles), LA - Vernon, LA","LA: Beauregard Parish (22011)","18139"]
[439,"Lincoln, LA - Union, LA","LA: Bienville Parish (22013)","18145"]
[416,"Caddo (Shreveport), LA - Bossier, LA","LA: Bossier Parish (22015)","26115"]
[416,"Caddo (Shreveport), LA - Bossier, LA","LA: Caddo Parish (22017)","39051"]
[470,"Calcasieu (Lake Charles), LA - Vernon, LA","LA: Calcasieu Parish (22019)","39095"]
[443,"Ouachita (Monroe), LA - Morehouse, LA","LA: Caldwell Parish (22021)","39123"]
[470,"Calcasieu (Lake Charles), LA - Vernon, LA","LA: Cameron Parish (22023)","39173"]
[450,"Rapides (Alexandria), LA - Avoyelles, LA","LA: Catahoula Parish (22025)","17057"]
[523,"Claiborne, LA","LA: Claiborne Parish (22027)","17123"]
[435,"Adams, MS - Concordia, LA","LA: Concordia Parish (22029)","17125"]
[416,"Caddo (Shreveport), LA - Bossier, LA","LA: De Soto Parish (22031)","17143"]
[419,"East Baton Rouge (Baton Rouge), LA - Livingston, LA","LA: East Baton Rouge Parish (22033)","17179"]
[443,"Ouachita (Monroe), LA - Morehouse, LA","LA: East Carroll Parish (22035)","55009"]
[419,"East Baton Rouge (Baton Rouge), LA - Livingston, LA","LA: East Feliciana Parish (22037)","55029"]
[463,"St. Landry, LA - Evangeline, LA","LA: Evangeline Parish (22039)","55061"]
[443,"Ouachita (Monroe), LA - Morehouse, LA","LA: Franklin Parish (22041)","55083"]
[450,"Rapides (Alexandria), LA - Avoyelles, LA","LA: Grant Parish (22043)","17019"]
[424,"Lafayette (Lafayette), LA - Iberia, LA","LA: Iberia Parish (22045)","17029"]
[419,"East Baton Rouge (Baton Rouge), LA - Livingston, LA","LA: Iberville Parish (22047)","17035"]
[439,"Lincoln, LA - Union, LA","LA: Jackson Parish (22049)","17041"]
[470,"Calcasieu (Lake Charles), LA - Vernon, LA","LA: Jefferson Davis Parish (22053)","17053"]
[403,"Orleans (New Orleans), LA - Jefferson, LA","LA: Jefferson Parish (22051)","55079"]
[450,"Rapides (Alexandria), LA - Avoyelles, LA","LA: La Salle Parish (22059)","55089"]
[424,"Lafayette (Lafayette), LA - Iberia, LA","LA: Lafayette Parish (22055)","55131"]
[467,"Terrebonne (Houma), LA - Lafourche, LA","LA: Lafourche Parish (22057)","55133"]
[439,"Lincoln, LA - Union, LA","LA: Lincoln Parish (22061)","39041"]
[419,"East Baton Rouge (Baton Rouge), LA - Livingston, LA","LA: Livingston Parish (22063)","39047"]
[431,"Warren, MS - Madison, LA","LA: Madison Parish (22065)","39049"]
[443,"Ouachita (Monroe), LA - Morehouse, LA","LA: Morehouse Parish (22067)","39097"]
[416,"Caddo (Shreveport), LA - Bossier, LA","LA: Natchitoches Parish (22069)","39129"]
[403,"Orleans (New Orleans), LA - Jefferson, LA","LA: Orleans Parish (22071)","55019"]
[443,"Ouachita (Monroe), LA - Morehouse, LA","LA: Ouachita Parish (22073)","55069"]
[403,"Orleans (New Orleans), LA - Jefferson, LA","LA: Plaquemines Parish (22075)","55073"]
[419,"East Baton Rouge (Baton Rouge), LA - Livingston, LA","LA: Pointe Coupee Parish (22077)","55119"]
[450,"Rapides (Alexandria), LA - Avoyelles, LA","LA: Rapides Parish (22079)","55141"]
[416,"Caddo (Shreveport), LA - Bossier, LA","LA: Red River Parish (22081)","39053"]
[443,"Ouachita (Monroe), LA - Morehouse, LA","LA: Richland Parish (22083)","39079"]
[416,"Caddo (Shreveport), LA - Bossier, LA","LA: Sabine Parish (22085)","39105"]
[403,"Orleans (New Orleans), LA - Jefferson, LA","LA: St. Bernard Parish (22087)","54053"]
[403,"Orleans (New Orleans), LA - Jefferson, LA","LA: St. Charles Parish (22089)","26053"]
[423,"Tangipahoa, LA - St. Helena, LA","LA: St. Helena Parish (22091)","26131"]
[403,"Orleans (New Orleans), LA - Jefferson, LA","LA: St. James Parish (22093)","55041"]
[403,"Orleans (New Orleans), LA - Jefferson, LA","LA: St. John the Baptist Parish (22095)","55051"]
[463,"St. Landry, LA - Evangeline, LA","LA: St. Landry Parish (22097)","55085"]
[424,"Lafayette (Lafayette), LA - Iberia, LA","LA: St. Martin Parish (22099)","55125"]
[528,"St. Mary, LA","LA: St. Mary Parish (22101)","26037"]
[500,"St. Tammany (Slidell), LA - Pearl River, MS","LA: St. Tammany Parish (22103)","26045"]
[423,"Tangipahoa, LA - St. Helena, LA","LA: Tangipahoa Parish (22105)","26065"]
[435,"Adams, MS - Concordia, LA","LA: Tensas Parish (22107)","26155"]
[467,"Terrebonne (Houma), LA - Lafourche, LA","LA: Terrebonne Parish (22109)","27025"]
[439,"Lincoln, LA - Union, LA","LA: Union Parish (22111)","27037"]
[424,"Lafayette (Lafayette), LA - Iberia, LA","LA: Vermilion Parish (22113)","27123"]
[470,"Calcasieu (Lake Charles), LA - Vernon, LA","LA: Vernon Parish (22115)","27163"]
[500,"St. Tammany (Slidell), LA - Pearl River, MS","LA: Washington Parish (22117)","55095"]
[416,"Caddo (Shreveport), LA - Bossier, LA","LA: Webster Parish (22119)","17031"]
[419,"East Baton Rouge (Baton Rouge), LA - Livingston, LA","LA: West Baton Rouge Parish (22121)","17043"]
[443,"Ouachita (Monroe), LA - Morehouse, LA","LA: West Carroll Parish (22123)","17097"]
[419,"East Baton Rouge (Baton Rouge), LA - Livingston, LA","LA: West Feliciana Parish (22125)","17111"]
[530,"Winn, LA","LA: Winn Parish (22127)","39007"]
[22,"Middlesex, MA - Suffolk (Boston), MA","MA: Barnstable County (25001)","39035"]
[112,"Berkshire (Pittsfield), MA - Columbia, NY","MA: Berkshire County (25003)","39055"]
[68,"Bristol (New Bedford), MA - Newport, RI","MA: Bristol County (25005)","39085"]
[22,"Middlesex, MA - Suffolk (Boston), MA","MA: Dukes County (25007)","27017"]
[74,"Essex (Lynn), MA - Rockingham, NH","MA: Essex County (25009)","27031"]
[101,"Worcester (Worcester), MA - Franklin, MA","MA: Franklin County (25011)","27061"]
[32,"Hampden (Springfield), MA - Hampshire, MA","MA: Hampden County (25013)","27071"]
[32,"Hampden (Springfield), MA - Hampshire, MA","MA: Hampshire County (25015)","27075"]
[22,"Middlesex, MA - Suffolk (Boston), MA","MA: Middlesex County (25017)","27115"]
[22,"Middlesex, MA - Suffolk (Boston), MA","MA: Nantucket County (25019)","27137"]
[22,"Middlesex, MA - Suffolk (Boston), MA","MA: Norfolk County (25021)","55031"]
[22,"Middlesex, MA - Suffolk (Boston), MA","MA: Plymouth County (25023)","19005"]
[22,"Middlesex, MA - Suffolk (Boston), MA","MA: Suffolk County (25025)","27055"]
[101,"Worcester (Worcester), MA - Franklin, MA","MA: Worcester County (25027)","55063"]
[1,"Allegany (Cumberland), MD - Garrett, MD","MD: Allegany County (24001)","55081"]
[16,"Baltimore, MD - Baltimore City, MD","MD: Anne Arundel County (24003)","55121"]
[16,"Baltimore, MD - Baltimore City, MD","MD: Baltimore City (24510)","55123"]
[16,"Baltimore, MD - Baltimore City, MD","MD: Baltimore County (24005)","17007"]
[16,"Baltimore, MD - Baltimore City, MD","MD: Calvert County (24009)","17103"]
[107,"Queen Annes, MD - Talbot, MD","MD: Caroline County (24011)","17141"]
[16,"Baltimore, MD - Baltimore City, MD","MD: Carroll County (24013)","17201"]
[75,"New Castle (Wilmington), DE - Harford, MD","MD: Cecil County (24015)","39003"]
[61,"Montgomery, MD - Prince Georges, MD","MD: Charles County (24017)","39011"]
[107,"Queen Annes, MD - Talbot, MD","MD: Dorchester County (24019)","39065"]
[48,"York (York), PA - Frederick, MD","MD: Frederick County (24021)","39107"]
[1,"Allegany (Cumberland), MD - Garrett, MD","MD: Garrett County (24023)","39137"]
[75,"New Castle (Wilmington), DE - Harford, MD","MD: Harford County (24025)","39161"]
[16,"Baltimore, MD - Baltimore City, MD","MD: Howard County (24027)","26003"]
[124,"Kent, MD","MD: Kent County (24029)","26041"]
[61,"Montgomery, MD - Prince Georges, MD","MD: Montgomery County (24031)","26095"]
[61,"Montgomery, MD - Prince Georges, MD","MD: Prince Georges County (24033)","26103"]
[107,"Queen Annes, MD - Talbot, MD","MD: Queen Annes County (24035)","26153"]
[3,"Sussex, DE - Kent, DE","MD: Somerset County (24039)","26029"]
[61,"Montgomery, MD - Prince Georges, MD","MD: St. Marys County (24037)","26031"]
[107,"Queen Annes, MD - Talbot, MD","MD: Talbot County (24041)","26033"]
[72,"Washington (Hagerstown), MD - Franklin, PA","MD: Washington County (24043)","26047"]
[3,"Sussex, DE - Kent, DE","MD: Wicomico County (24045)","26097"]
[3,"Sussex, DE - Kent, DE","MD: Worcester County (24047)","39037"]
[95,"Androscoggin (Lewiston), ME - Oxford, ME","ME: Androscoggin County (23001)","39057"]
[136,"Aroostook, ME","ME: Aroostook County (23003)","39113"]
[9,"Cumberland (Portland), ME - Knox, ME","ME: Cumberland County (23005)","39135"]
[95,"Androscoggin (Lewiston), ME - Oxford, ME","ME: Franklin County (23007)","26105"]
[17,"Penobscot (Bangor), ME - Hancock, ME","ME: Hancock County (23009)","26121"]
[38,"Kennebec, ME - Somerset, ME","ME: Kennebec County (23011)","26123"]
[9,"Cumberland (Portland), ME - Knox, ME","ME: Knox County (23013)","26127"]
[9,"Cumberland (Portland), ME - Knox, ME","ME: Lincoln County (23015)","26151"]
[95,"Androscoggin (Lewiston), ME - Oxford, ME","ME: Oxford County (23017)","26147"]
[17,"Penobscot (Bangor), ME - Hancock, ME","ME: Penobscot County (23019)","55011"]
[17,"Penobscot (Bangor), ME - Hancock, ME","ME: Piscataquis County (23021)","55017"]
[9,"Cumberland (Portland), ME - Knox, ME","ME: Sagadahoc County (23023)","55033"]
[38,"Kennebec, ME - Somerset, ME","ME: Somerset County (23025)","55035"]
[38,"Kennebec, ME - Somerset, ME","ME: Waldo County (23027)","55091"]
[17,"Penobscot (Bangor), ME - Hancock, ME","ME: Washington County (23029)","17005"]
[98,"York, ME - Strafford (Rochester), NH","ME: York County (23031)","17013"]
[371,"Alpena, MI - Presque Isle, MI","MI: Alcona County (26001)","17083"]
[293,"Marquette, MI - Delta, MI","MI: Alger County (26003)","17119"]
[320,"Ottawa (Holland), MI - Allegan, MI","MI: Allegan County (26005)","18007"]
[371,"Alpena, MI - Presque Isle, MI","MI: Alpena County (26007)","18015"]
[271,"Grand Traverse, MI - Manistee, MI","MI: Antrim County (26009)","18023"]
[342,"Bay (Bay City), MI - Iosco, MI","MI: Arenac County (26011)","18157"]
[359,"Houghton, MI - Baraga, MI","MI: Baraga County (26013)","18181"]
[381,"Calhoun (Battle Creek), MI - Barry, MI","MI: Barry County (26015)","55021"]
[342,"Bay (Bay City), MI - Iosco, MI","MI: Bay County (26017)","55025"]
[271,"Grand Traverse, MI - Manistee, MI","MI: Benzie County (26019)","55043"]
[327,"Berrien (Benton Harbor), MI - Van Buren, MI","MI: Berrien County (26021)","55049"]
[375,"Jackson (Jackson), MI - Lenawee, MI","MI: Branch County (26023)","55077"]
[381,"Calhoun (Battle Creek), MI - Barry, MI","MI: Calhoun County (26025)","55103"]
[327,"Berrien (Benton Harbor), MI - Van Buren, MI","MI: Cass County (26027)","55111"]
[294,"Chippewa, MI - Emmet, MI","MI: Charlevoix County (26029)","19061"]
[294,"Chippewa, MI - Emmet, MI","MI: Cheboygan County (26031)","19097"]
[294,"Chippewa, MI - Emmet, MI","MI: Chippewa County (26033)","17085"]
[330,"Midland (Midland), MI - Isabella, MI","MI: Clare County (26035)","17177"]
[285,"Ingham (Lansing), MI - Eaton, MI","MI: Clinton County (26037)","17063"]
[392,"Roscommon, MI - Otsego, MI","MI: Crawford County (26039)","17197"]
[293,"Marquette, MI - Delta, MI","MI: Delta County (26041)","18003"]
[315,"Marinette, WI - Dickinson, MI","MI: Dickinson County (26043)","18033"]
[285,"Ingham (Lansing), MI - Eaton, MI","MI: Eaton County (26045)","18087"]
[294,"Chippewa, MI - Emmet, MI","MI: Emmet County (26047)","18113"]
[328,"Genesee (Flint), MI - Lapeer, MI","MI: Genesee County (26049)","18151"]
[330,"Midland (Midland), MI - Isabella, MI","MI: Gladwin County (26051)","18183"]
[284,"Oneida, WI - Vilas, WI","MI: Gogebic County (26053)","17115"]
[271,"Grand Traverse, MI - Manistee, MI","MI: Grand Traverse County (26055)","17139"]
[309,"Kent (Grand Rapids), MI - Ionia, MI","MI: Gratiot County (26057)","17147"]
[375,"Jackson (Jackson), MI - Lenawee, MI","MI: Hillsdale County (26059)","17173"]
[359,"Houghton, MI - Baraga, MI","MI: Houghton County (26061)","55027"]
[322,"Saginaw (Saginaw), MI - Tuscola, MI","MI: Huron County (26063)","55039"]
[285,"Ingham (Lansing), MI - Eaton, MI","MI: Ingham County (26065)","55047"]
[309,"Kent (Grand Rapids), MI - Ionia, MI","MI: Ionia County (26067)","55137"]
[342,"Bay (Bay City), MI - Iosco, MI","MI: Iosco County (26069)","55139"]
[315,"Marinette, WI - Dickinson, MI","MI: Iron County (26071)","17073"]
[330,"Midland (Midland), MI - Isabella, MI","MI: Isabella County (26073)","17131"]
[375,"Jackson (Jackson), MI - Lenawee, MI","MI: Jackson County (26075)","17161"]
[348,"Kalamazoo (Kalamazoo), MI - St. Joseph, MI","MI: Kalamazoo County (26077)","17175"]
[271,"Grand Traverse, MI - Manistee, MI","MI: Kalkaska County (26079)","18073"]
[309,"Kent (Grand Rapids), MI - Ionia, MI","MI: Kent County (26081)","18089"]
[359,"Houghton, MI - Baraga, MI","MI: Keweenaw County (26083)","18111"]
[317,"Wexford, MI - Osceola, MI","MI: Lake County (26085)","18127"]
[328,"Genesee (Flint), MI - Lapeer, MI","MI: Lapeer County (26087)","26057"]
[271,"Grand Traverse, MI - Manistee, MI","MI: Leelanau County (26089)","26067"]
[375,"Jackson (Jackson), MI - Lenawee, MI","MI: Lenawee County (26091)","26081"]
[274,"Wayne (Detroit), MI - Oakland, MI","MI: Livingston County (26093)","26107"]
[293,"Marquette, MI - Delta, MI","MI: Luce County (26095)","26117"]
[294,"Chippewa, MI - Emmet, MI","MI: Mackinac County (26097)","17033"]
[274,"Wayne (Detroit), MI - Oakland, MI","MI: Macomb County (26099)","17101"]
[271,"Grand Traverse, MI - Manistee, MI","MI: Manistee County (26101)","18027"]
[293,"Marquette, MI - Delta, MI","MI: Marquette County (26103)","18083"]
[296,"Muskegon (Muskegon), MI - Newaygo, MI","MI: Mason County (26105)","18101"]
[309,"Kent (Grand Rapids), MI - Ionia, MI","MI: Mecosta County (26107)","18125"]
[315,"Marinette, WI - Dickinson, MI","MI: Menominee County (26109)","17023"]
[330,"Midland (Midland), MI - Isabella, MI","MI: Midland County (26111)","18021"]
[317,"Wexford, MI - Osceola, MI","MI: Missaukee County (26113)","18121"]
[276,"Lucas (Toledo), OH - Monroe, MI","MI: Monroe County (26115)","18153"]
[309,"Kent (Grand Rapids), MI - Ionia, MI","MI: Montcalm County (26117)","18165"]
[371,"Alpena, MI - Presque Isle, MI","MI: Montmorency County (26119)","18167"]
[296,"Muskegon (Muskegon), MI - Newaygo, MI","MI: Muskegon County (26121)","18049"]
[296,"Muskegon (Muskegon), MI - Newaygo, MI","MI: Newaygo County (26123)","18099"]
[274,"Wayne (Detroit), MI - Oakland, MI","MI: Oakland County (26125)","18131"]
[296,"Muskegon (Muskegon), MI - Newaygo, MI","MI: Oceana County (26127)","18141"]
[342,"Bay (Bay City), MI - Iosco, MI","MI: Ogemaw County (26129)","18005"]
[284,"Oneida, WI - Vilas, WI","MI: Ontonagon County (26131)","18031"]
[317,"Wexford, MI - Osceola, MI","MI: Osceola County (26133)","18071"]
[342,"Bay (Bay City), MI - Iosco, MI","MI: Oscoda County (26135)","18079"]
[392,"Roscommon, MI - Otsego, MI","MI: Otsego County (26137)","55013"]
[320,"Ottawa (Holland), MI - Allegan, MI","MI: Ottawa County (26139)","55129"]
[371,"Alpena, MI - Presque Isle, MI","MI: Presque Isle County (26141)","26043"]
[392,"Roscommon, MI - Otsego, MI","MI: Roscommon County (26143)","26071"]
[322,"Saginaw (Saginaw), MI - Tuscola, MI","MI: Saginaw County (26145)","26109"]
[297,"St. Clair (Port Huron), MI - Sanilac, MI","MI: Sanilac County (26151)","55037"]
[293,"Marquette, MI - Delta, MI","MI: Schoolcraft County (26153)","55075"]
[285,"Ingham (Lansing), MI - Eaton, MI","MI: Shiawassee County (26155)","18123"]
[297,"St. Clair (Port Huron), MI - Sanilac, MI","MI: St. Clair County (26147)","21059"]
[348,"Kalamazoo (Kalamazoo), MI - St. Joseph, MI","MI: St. Joseph County (26149)","21091"]
[322,"Saginaw (Saginaw), MI - Tuscola, MI","MI: Tuscola County (26157)","21149"]
[327,"Berrien (Benton Harbor), MI - Van Buren, MI","MI: Van Buren County (26159)","21183"]
[274,"Wayne (Detroit), MI - Oakland, MI","MI: Washtenaw County (26161)","26085"]
[274,"Wayne (Detroit), MI - Oakland, MI","MI: Wayne County (26163)","26113"]
[317,"Wexford, MI - Osceola, MI","MI: Wexford County (26165)","26133"]
[612,"Crow Wing, MN - Cass, MN","MN: Aitkin County (27001)","26165"]
[540,"Hennepin (Minneapolis), MN - Anoka, MN","MN: Anoka County (27003)","17009"]
[547,"Cass (Fargo), ND - Clay, MN","MN: Becker County (27005)","17017"]
[597,"Beltrami, MN - Clearwater, MN","MN: Beltrami County (27007)","17021"]
[588,"Stearns (St. Cloud), MN - Benton, MN","MN: Benton County (27009)","17107"]
[590,"Roberts, SD - Big Stone, MN","MN: Big Stone County (27011)","17109"]
[573,"Blue Earth, MN - Nicollet, MN","MN: Blue Earth County (27013)","17129"]
[602,"Brown, MN - Renville, MN","MN: Brown County (27015)","17167"]
[289,"St. Louis (Duluth), MN - Itasca, MN","MN: Carlton County (27017)","17169"]
[540,"Hennepin (Minneapolis), MN - Anoka, MN","MN: Carver County (27019)","17061"]
[612,"Crow Wing, MN - Cass, MN","MN: Cass County (27021)","17137"]
[592,"Kandiyohi, MN - Chippewa, MN","MN: Chippewa County (27023)","17171"]
[286,"Ramsey (St. Paul), MN - Dakota, MN","MN: Chisago County (27025)","26005"]
[547,"Cass (Fargo), ND - Clay, MN","MN: Clay County (27027)","26139"]
[597,"Beltrami, MN - Clearwater, MN","MN: Clearwater County (27029)","18029"]
[289,"St. Louis (Duluth), MN - Itasca, MN","MN: Cook County (27031)","18077"]
[619,"Nobles, MN - Cottonwood, MN","MN: Cottonwood County (27033)","18115"]
[612,"Crow Wing, MN - Cass, MN","MN: Crow Wing County (27035)","18137"]
[286,"Ramsey (St. Paul), MN - Dakota, MN","MN: Dakota County (27037)","18155"]
[552,"Olmsted (Rochester), MN - Winona, MN","MN: Dodge County (27039)","21041"]
[608,"Douglas, MN - Pope, MN","MN: Douglas County (27041)","21223"]
[646,"Freeborn, MN - Faribault, MN","MN: Faribault County (27043)","26063"]
[552,"Olmsted (Rochester), MN - Winona, MN","MN: Fillmore County (27045)","26145"]
[646,"Freeborn, MN - Faribault, MN","MN: Freeborn County (27047)","26157"]
[370,"St. Croix, WI - Goodhue, MN","MN: Goodhue County (27049)","18009"]
[582,"Otter Tail, MN - Grant, MN","MN: Grant County (27051)","18035"]
[540,"Hennepin (Minneapolis), MN - Anoka, MN","MN: Hennepin County (27053)","18135"]
[290,"La Crosse (La Crosse), WI - Monroe, WI","MN: Houston County (27055)","17095"]
[612,"Crow Wing, MN - Cass, MN","MN: Hubbard County (27057)","17187"]
[603,"Isanti (Cambridge), MN - Mille Lacs, MN","MN: Isanti County (27059)","17027"]
[289,"St. Louis (Duluth), MN - Itasca, MN","MN: Itasca County (27061)","17133"]
[619,"Nobles, MN - Cottonwood, MN","MN: Jackson County (27063)","17157"]
[603,"Isanti (Cambridge), MN - Mille Lacs, MN","MN: Kanabec County (27065)","17163"]
[592,"Kandiyohi, MN - Chippewa, MN","MN: Kandiyohi County (27067)","55045"]
[604,"Pennington, MN - Marshall, MN","MN: Kittson County (27069)","55065"]
[289,"St. Louis (Duluth), MN - Itasca, MN","MN: Koochiching County (27071)","55105"]
[592,"Kandiyohi, MN - Chippewa, MN","MN: Lac qui Parle County (27073)","26021"]
[289,"St. Louis (Duluth), MN - Itasca, MN","MN: Lake County (27075)","26027"]
[631,"Roseau, MN - Lake of the Woods, MN","MN: Lake of the Woods County (27077)","26159"]
[540,"Hennepin (Minneapolis), MN - Anoka, MN","MN: Le Sueur County (27079)","26049"]
[609,"Lyon, MN - Lincoln, MN","MN: Lincoln County (27081)","26087"]
[609,"Lyon, MN - Lincoln, MN","MN: Lyon County (27083)","18093"]
[547,"Cass (Fargo), ND - Clay, MN","MN: Mahnomen County (27087)","18117"]
[604,"Pennington, MN - Marshall, MN","MN: Marshall County (27089)","26035"]
[626,"Martin, MN - Emmet, IA","MN: Martin County (27091)","26051"]
[540,"Hennepin (Minneapolis), MN - Anoka, MN","MN: McLeod County (27085)","26073"]
[588,"Stearns (St. Cloud), MN - Benton, MN","MN: Meeker County (27093)","26111"]
[603,"Isanti (Cambridge), MN - Mille Lacs, MN","MN: Mille Lacs County (27095)","17055"]
[588,"Stearns (St. Cloud), MN - Benton, MN","MN: Morrison County (27097)","17077"]
[552,"Olmsted (Rochester), MN - Winona, MN","MN: Mower County (27099)","17145"]
[619,"Nobles, MN - Cottonwood, MN","MN: Murray County (27101)","17199"]
[573,"Blue Earth, MN - Nicollet, MN","MN: Nicollet County (27103)","18001"]
[619,"Nobles, MN - Cottonwood, MN","MN: Nobles County (27105)","18069"]
[547,"Cass (Fargo), ND - Clay, MN","MN: Norman County (27107)","18075"]
[552,"Olmsted (Rochester), MN - Winona, MN","MN: Olmsted County (27109)","18179"]
[582,"Otter Tail, MN - Grant, MN","MN: Otter Tail County (27111)","17045"]
[604,"Pennington, MN - Marshall, MN","MN: Pennington County (27113)","17183"]
[289,"St. Louis (Duluth), MN - Itasca, MN","MN: Pine County (27115)","18045"]
[544,"Minnehaha (Sioux Falls), SD - Lincoln, SD","MN: Pipestone County (27117)","18171"]
[584,"Grand Forks (Grand Forks), ND - Polk, MN","MN: Polk County (27119)","17117"]
[608,"Douglas, MN - Pope, MN","MN: Pope County (27121)","17135"]
[286,"Ramsey (St. Paul), MN - Dakota, MN","MN: Ramsey County (27123)","17081"]
[604,"Pennington, MN - Marshall, MN","MN: Red Lake County (27125)","17191"]
[602,"Brown, MN - Renville, MN","MN: Redwood County (27127)","17011"]
[602,"Brown, MN - Renville, MN","MN: Renville County (27129)","17099"]
[396,"Rice, MN","MN: Rice County (27131)","17105"]
[544,"Minnehaha (Sioux Falls), SD - Lincoln, SD","MN: Rock County (27133)","17155"]
[631,"Roseau, MN - Lake of the Woods, MN","MN: Roseau County (27135)","21135"]
[540,"Hennepin (Minneapolis), MN - Anoka, MN","MN: Scott County (27139)","39131"]
[540,"Hennepin (Minneapolis), MN - Anoka, MN","MN: Sherburne County (27141)","39141"]
[540,"Hennepin (Minneapolis), MN - Anoka, MN","MN: Sibley County (27143)","39145"]
[289,"St. Louis (Duluth), MN - Itasca, MN","MN: St. Louis County (27137)","17039"]
[588,"Stearns (St. Cloud), MN - Benton, MN","MN: Stearns County (27145)","17113"]
[552,"Olmsted (Rochester), MN - Winona, MN","MN: Steele County (27147)","17203"]
[608,"Douglas, MN - Pope, MN","MN: Stevens County (27149)","18025"]
[592,"Kandiyohi, MN - Chippewa, MN","MN: Swift County (27151)","18043"]
[588,"Stearns (St. Cloud), MN - Benton, MN","MN: Todd County (27153)","18061"]
[590,"Roberts, SD - Big Stone, MN","MN: Traverse County (27155)","18175"]
[552,"Olmsted (Rochester), MN - Winona, MN","MN: Wabasha County (27157)","19057"]
[612,"Crow Wing, MN - Cass, MN","MN: Wadena County (27159)","19087"]
[573,"Blue Earth, MN - Nicollet, MN","MN: Waseca County (27161)","17071"]
[286,"Ramsey (St. Paul), MN - Dakota, MN","MN: Washington County (27163)","18013"]
[573,"Blue Earth, MN - Nicollet, MN","MN: Watonwan County (27165)","18055"]
[547,"Cass (Fargo), ND - Clay, MN","MN: Wilkin County (27167)","18105"]
[552,"Olmsted (Rochester), MN - Winona, MN","MN: Winona County (27169)","18119"]
[540,"Hennepin (Minneapolis), MN - Anoka, MN","MN: Wright County (27171)","26011"]
[592,"Kandiyohi, MN - Chippewa, MN","MN: Yellow Medicine County (27173)","26017"]
[566,"Adair, MO - Sullivan, MO","MO: Adair County (29001)","26069"]
[591,"Buchanan (St. Joseph), MO - Nodaway, MO","MO: Andrew County (29003)","26129"]
[678,"Atchison, MO - Holt, MO","MO: Atchison County (29005)","26135"]
[666,"Audrain, MO - Montgomery, MO","MO: Audrain County (29007)","17075"]
[549,"Greene (Springfield), MO - Christian, MO","MO: Barry County (29009)","17091"]
[539,"Jasper (Joplin), MO - Newton, MO","MO: Barton County (29011)","55087"]
[607,"Henry, MO - Bates, MO","MO: Bates County (29013)","55135"]
[656,"Pettis, MO - Saline, MO","MO: Benton County (29015)","39099"]
[563,"Cape Girardeau, MO - Butler, MO","MO: Bollinger County (29017)","39155"]
[553,"Boone (Columbia), MO - Randolph, MO","MO: Boone County (29019)","42085"]
[591,"Buchanan (St. Joseph), MO - Nodaway, MO","MO: Buchanan County (29021)","39021"]
[563,"Cape Girardeau, MO - Butler, MO","MO: Butler County (29023)","39023"]
[548,"Jackson (Kansas City), MO - Clay, MO","MO: Caldwell County (29025)","39019"]
[581,"Cole, MO - Callaway, MO","MO: Callaway County (29027)","39075"]
[685,"Camden, MO","MO: Camden County (29029)","39151"]
[563,"Cape Girardeau, MO - Butler, MO","MO: Cape Girardeau County (29031)","39157"]
[657,"Livingston, MO - Carroll, MO","MO: Carroll County (29033)","39169"]
[563,"Cape Girardeau, MO - Butler, MO","MO: Carter County (29035)","26077"]
[548,"Jackson (Kansas City), MO - Clay, MO","MO: Cass County (29037)","26149"]
[639,"Vernon, MO - Cedar, MO","MO: Cedar County (29039)","18039"]
[553,"Boone (Columbia), MO - Randolph, MO","MO: Chariton County (29041)","18085"]
[549,"Greene (Springfield), MO - Christian, MO","MO: Christian County (29043)","19043"]
[367,"Lee, IA - Hancock, IL","MO: Clark County (29045)","19055"]
[548,"Jackson (Kansas City), MO - Clay, MO","MO: Clay County (29047)","55023"]
[548,"Jackson (Kansas City), MO - Clay, MO","MO: Clinton County (29049)","17025"]
[581,"Cole, MO - Callaway, MO","MO: Cole County (29051)","17047"]
[553,"Boone (Columbia), MO - Randolph, MO","MO: Cooper County (29053)","17079"]
[581,"Cole, MO - Callaway, MO","MO: Crawford County (29055)","17159"]
[549,"Greene (Springfield), MO - Christian, MO","MO: Dade County (29057)","39103"]
[549,"Greene (Springfield), MO - Christian, MO","MO: Dallas County (29059)","39133"]
[548,"Jackson (Kansas City), MO - Clay, MO","MO: Daviess County (29061)","39153"]
[591,"Buchanan (St. Joseph), MO - Nodaway, MO","MO: DeKalb County (29063)","17001"]
[627,"Pulaski, MO - Phelps, MO","MO: Dent County (29065)","17149"]
[549,"Greene (Springfield), MO - Christian, MO","MO: Douglas County (29067)","29111"]
[571,"Craighead, AR - Greene, AR","MO: Dunklin County (29069)","29127"]
[541,"St. Louis, MO - St. Louis City, MO","MO: Franklin County (29071)","29163"]
[581,"Cole, MO - Callaway, MO","MO: Gasconade County (29073)","29173"]
[591,"Buchanan (St. Joseph), MO - Nodaway, MO","MO: Gentry County (29075)","39033"]
[549,"Greene (Springfield), MO - Christian, MO","MO: Greene County (29077)","39101"]
[683,"Grundy, MO - Mercer, MO","MO: Grundy County (29079)","39117"]
[591,"Buchanan (St. Joseph), MO - Nodaway, MO","MO: Harrison County (29081)","39159"]
[607,"Henry, MO - Bates, MO","MO: Henry County (29083)","39175"]
[549,"Greene (Springfield), MO - Christian, MO","MO: Hickory County (29085)","55015"]
[678,"Atchison, MO - Holt, MO","MO: Holt County (29087)","55071"]
[553,"Boone (Columbia), MO - Randolph, MO","MO: Howard County (29089)","55117"]
[574,"Howell, MO - Independence, AR","MO: Howell County (29091)","39039"]
[541,"St. Louis, MO - St. Louis City, MO","MO: Iron County (29093)","39069"]
[548,"Jackson (Kansas City), MO - Clay, MO","MO: Jackson County (29095)","39125"]
[539,"Jasper (Joplin), MO - Newton, MO","MO: Jasper County (29097)","39171"]
[541,"St. Louis, MO - St. Louis City, MO","MO: Jefferson County (29099)","55003"]
[548,"Jackson (Kansas City), MO - Clay, MO","MO: Johnson County (29101)","55007"]
[566,"Adair, MO - Sullivan, MO","MO: Knox County (29103)","55099"]
[549,"Greene (Springfield), MO - Christian, MO","MO: Laclede County (29105)","55113"]
[548,"Jackson (Kansas City), MO - Clay, MO","MO: Lafayette County (29107)","17121"]
[549,"Greene (Springfield), MO - Christian, MO","MO: Lawrence County (29109)","17189"]
[353,"Adams, IL - Marion, MO","MO: Lewis County (29111)","26013"]
[599,"St. Charles (St. Charles), MO - Lincoln, MO","MO: Lincoln County (29113)","26061"]
[673,"Linn, MO","MO: Linn County (29115)","26083"]
[657,"Livingston, MO - Carroll, MO","MO: Livingston County (29117)","39067"]
[553,"Boone (Columbia), MO - Randolph, MO","MO: Macon County (29121)","39081"]
[663,"Madison, MO","MO: Madison County (29123)","19045"]
[581,"Cole, MO - Callaway, MO","MO: Maries County (29125)","17015"]
[353,"Adams, IL - Marion, MO","MO: Marion County (29127)","17195"]
[539,"Jasper (Joplin), MO - Newton, MO","MO: McDonald County (29119)","18059"]
[683,"Grundy, MO - Mercer, MO","MO: Mercer County (29129)","18065"]
[581,"Cole, MO - Callaway, MO","MO: Miller County (29131)","17049"]
[563,"Cape Girardeau, MO - Butler, MO","MO: Mississippi County (29133)","17051"]
[581,"Cole, MO - Callaway, MO","MO: Moniteau County (29135)","18017"]
[666,"Audrain, MO - Montgomery, MO","MO: Monroe County (29137)","18067"]
[666,"Audrain, MO - Montgomery, MO","MO: Montgomery County (29139)","18159"]
[656,"Pettis, MO - Saline, MO","MO: Morgan County (29141)","18019"]
[563,"Cape Girardeau, MO - Butler, MO","MO: New Madrid County (29143)","18143"]
[539,"Jasper (Joplin), MO - Newton, MO","MO: Newton County (29145)","39043"]
[591,"Buchanan (St. Joseph), MO - Nodaway, MO","MO: Nodaway County (29147)","39077"]
[574,"Howell, MO - Independence, AR","MO: Oregon County (29149)","39093"]
[581,"Cole, MO - Callaway, MO","MO: Osage County (29151)","39143"]
[549,"Greene (Springfield), MO - Christian, MO","MO: Ozark County (29153)","19111"]
[614,"Mississippi, AR - Pemiscot, MO","MO: Pemiscot County (29155)","17067"]
[563,"Cape Girardeau, MO - Butler, MO","MO: Perry County (29157)","29045"]
[656,"Pettis, MO - Saline, MO","MO: Pettis County (29159)","39009"]
[627,"Pulaski, MO - Phelps, MO","MO: Phelps County (29161)","39045"]
[353,"Adams, IL - Marion, MO","MO: Pike County (29163)","39073"]
[548,"Jackson (Kansas City), MO - Clay, MO","MO: Platte County (29165)","39163"]
[549,"Greene (Springfield), MO - Christian, MO","MO: Polk County (29167)","39005"]
[627,"Pulaski, MO - Phelps, MO","MO: Pulaski County (29169)","39139"]
[566,"Adair, MO - Sullivan, MO","MO: Putnam County (29171)","27049"]
[353,"Adams, IL - Marion, MO","MO: Ralls County (29173)","55093"]
[553,"Boone (Columbia), MO - Randolph, MO","MO: Randolph County (29175)","55109"]
[548,"Jackson (Kansas City), MO - Clay, MO","MO: Ray County (29177)","26001"]
[627,"Pulaski, MO - Phelps, MO","MO: Reynolds County (29179)","26007"]
[563,"Cape Girardeau, MO - Butler, MO","MO: Ripley County (29181)","26119"]
[656,"Pettis, MO - Saline, MO","MO: Saline County (29195)","26141"]
[566,"Adair, MO - Sullivan, MO","MO: Schuyler County (29197)","39027"]
[566,"Adair, MO - Sullivan, MO","MO: Scotland County (29199)","39071"]
[563,"Cape Girardeau, MO - Butler, MO","MO: Scott County (29201)","17037"]
[574,"Howell, MO - Independence, AR","MO: Shannon County (29203)","17089"]
[553,"Boone (Columbia), MO - Randolph, MO","MO: Shelby County (29205)","17093"]
[599,"St. Charles (St. Charles), MO - Lincoln, MO","MO: St. Charles County (29183)","55005"]
[607,"Henry, MO - Bates, MO","MO: St. Clair County (29185)","55107"]
[541,"St. Louis, MO - St. Louis City, MO","MO: St. Francois County (29187)","26023"]
[541,"St. Louis, MO - St. Louis City, MO","MO: St. Genevieve County (29186)","26059"]
[541,"St. Louis, MO - St. Louis City, MO","MO: St. Louis City (29510)","26075"]
[541,"St. Louis, MO - St. Louis City, MO","MO: St. Louis County (29189)","26091"]
[563,"Cape Girardeau, MO - Butler, MO","MO: Stoddard County (29207)","39109"]
[549,"Greene (Springfield), MO - Christian, MO","MO: Stone County (29209)","39149"]
[566,"Adair, MO - Sullivan, MO","MO: Sullivan County (29211)","39031"]
[676,"Taney, MO","MO: Taney County (29213)","39059"]
[549,"Greene (Springfield), MO - Christian, MO","MO: Texas County (29215)","39115"]
[639,"Vernon, MO - Cedar, MO","MO: Vernon County (29217)","39119"]
[599,"St. Charles (St. Charles), MO - Lincoln, MO","MO: Warren County (29219)","39121"]
[541,"St. Louis, MO - St. Louis City, MO","MO: Washington County (29221)","39127"]
[563,"Cape Girardeau, MO - Butler, MO","MO: Wayne County (29223)","18091"]
[549,"Greene (Springfield), MO - Christian, MO","MO: Webster County (29225)","18149"]
[591,"Buchanan (St. Joseph), MO - Nodaway, MO","MO: Worth County (29227)","55067"]
[549,"Greene (Springfield), MO - Christian, MO","MO: Wright County (29229)","55078"]
[435,"Adams, MS - Concordia, LA","MS: Adams County (28001)","55115"]
[498,"Alcorn, MS - Tishomingo, MS","MS: Alcorn County (28003)","39029"]
[477,"Pike, MS - Marion, MS","MS: Amite County (28005)","54009"]
[411,"Hinds (Jackson), MS - Rankin, MS","MS: Attala County (28007)","54029"]
[146,"Shelby (Memphis), TN - DeSoto, MS","MS: Benton County (28009)","26015"]
[487,"Bolivar, MS - Leflore, MS","MS: Bolivar County (28011)","26025"]
[459,"Lafayette, MS - Calhoun, MS","MS: Calhoun County (28013)","55059"]
[502,"Grenada, MS - Montgomery, MS","MS: Carroll County (28015)","55101"]
[418,"Lee, MS - Monroe, MS","MS: Chickasaw County (28017)","17065"]
[484,"Oktibbeha, MS - Winston, MS","MS: Choctaw County (28019)","17193"]
[431,"Warren, MS - Madison, LA","MS: Claiborne County (28021)","17059"]
[412,"Lauderdale, MS - Neshoba, MS","MS: Clarke County (28023)","17069"]
[461,"Lowndes, MS - Clay, MS","MS: Clay County (28025)","17151"]
[422,"Coahoma, MS - Tallahatchie, MS","MS: Coahoma County (28027)","17165"]
[511,"Lincoln, MS - Copiah, MS","MS: Copiah County (28029)","18041"]
[409,"Forrest, MS - Lamar, MS","MS: Covington County (28031)","18161"]
[146,"Shelby (Memphis), TN - DeSoto, MS","MS: DeSoto County (28033)","18177"]
[409,"Forrest, MS - Lamar, MS","MS: Forrest County (28035)","39063"]
[435,"Adams, MS - Concordia, LA","MS: Franklin County (28037)","39147"]
[471,"Jackson (Pascagoula), MS - George, MS","MS: George County (28039)","55055"]
[409,"Forrest, MS - Lamar, MS","MS: Greene County (28041)","55127"]
[502,"Grenada, MS - Montgomery, MS","MS: Grenada County (28043)","39083"]
[456,"Harrison (Biloxi), MS - Hancock, MS","MS: Hancock County (28045)","39089"]
[456,"Harrison (Biloxi), MS - Hancock, MS","MS: Harrison County (28047)","18053"]
[411,"Hinds (Jackson), MS - Rankin, MS","MS: Hinds County (28049)","18103"]
[411,"Hinds (Jackson), MS - Rankin, MS","MS: Holmes County (28051)","18169"]
[487,"Bolivar, MS - Leflore, MS","MS: Humphreys County (28053)","18057"]
[488,"Washington, MS - Sharkey, MS","MS: Issaquena County (28055)","18095"]
[418,"Lee, MS - Monroe, MS","MS: Itawamba County (28057)","55001"]
[471,"Jackson (Pascagoula), MS - George, MS","MS: Jackson County (28059)","55057"]
[455,"Jones, MS - Wayne, MS","MS: Jasper County (28061)","26039"]
[435,"Adams, MS - Concordia, LA","MS: Jefferson County (28063)","26137"]
[504,"Jefferson Davis, MS - Lawrence, MS","MS: Jefferson Davis County (28065)","26143"]
[455,"Jones, MS - Wayne, MS","MS: Jones County (28067)","18037"]
[412,"Lauderdale, MS - Neshoba, MS","MS: Kemper County (28069)","19191"]
[459,"Lafayette, MS - Calhoun, MS","MS: Lafayette County (28071)","27131"]
[409,"Forrest, MS - Lamar, MS","MS: Lamar County (28073)","39091"]
[412,"Lauderdale, MS - Neshoba, MS","MS: Lauderdale County (28075)","55053"]
[504,"Jefferson Davis, MS - Lawrence, MS","MS: Lawrence County (28077)","55097"]
[411,"Hinds (Jackson), MS - Rankin, MS","MS: Leake County (28079)","18011"]
[418,"Lee, MS - Monroe, MS","MS: Lee County (28081)","18107"]
[487,"Bolivar, MS - Leflore, MS","MS: Leflore County (28083)","22051"]
[511,"Lincoln, MS - Copiah, MS","MS: Lincoln County (28085)","22071"]
[461,"Lowndes, MS - Clay, MS","MS: Lowndes County (28087)","22075"]
[411,"Hinds (Jackson), MS - Rankin, MS","MS: Madison County (28089)","22087"]
[477,"Pike, MS - Marion, MS","MS: Marion County (28091)","22089"]
[146,"Shelby (Memphis), TN - DeSoto, MS","MS: Marshall County (28093)","22093"]
[418,"Lee, MS - Monroe, MS","MS: Monroe County (28095)","22095"]
[502,"Grenada, MS - Montgomery, MS","MS: Montgomery County (28097)","05057"]
[412,"Lauderdale, MS - Neshoba, MS","MS: Neshoba County (28099)","05061"]
[412,"Lauderdale, MS - Neshoba, MS","MS: Newton County (28101)","05073"]
[461,"Lowndes, MS - Clay, MS","MS: Noxubee County (28103)","05081"]
[484,"Oktibbeha, MS - Winston, MS","MS: Oktibbeha County (28105)","05091"]
[146,"Shelby (Memphis), TN - DeSoto, MS","MS: Panola County (28107)","05099"]
[500,"St. Tammany (Slidell), LA - Pearl River, MS","MS: Pearl River County (28109)","05133"]
[409,"Forrest, MS - Lamar, MS","MS: Perry County (28111)","40089"]
[477,"Pike, MS - Marion, MS","MS: Pike County (28113)","48037"]
[482,"Pontotoc, MS - Union, MS","MS: Pontotoc County (28115)","48011"]
[418,"Lee, MS - Monroe, MS","MS: Prentiss County (28117)","48045"]
[422,"Coahoma, MS - Tallahatchie, MS","MS: Quitman County (28119)","48065"]
[411,"Hinds (Jackson), MS - Rankin, MS","MS: Rankin County (28121)","48111"]
[411,"Hinds (Jackson), MS - Rankin, MS","MS: Scott County (28123)","48129"]
[488,"Washington, MS - Sharkey, MS","MS: Sharkey County (28125)","48195"]
[411,"Hinds (Jackson), MS - Rankin, MS","MS: Simpson County (28127)","48205"]
[455,"Jones, MS - Wayne, MS","MS: Smith County (28129)","48233"]
[456,"Harrison (Biloxi), MS - Hancock, MS","MS: Stone County (28131)","48341"]
[487,"Bolivar, MS - Leflore, MS","MS: Sunflower County (28133)","48357"]
[422,"Coahoma, MS - Tallahatchie, MS","MS: Tallahatchie County (28135)","48359"]
[146,"Shelby (Memphis), TN - DeSoto, MS","MS: Tate County (28137)","48375"]
[482,"Pontotoc, MS - Union, MS","MS: Tippah County (28139)","48381"]
[498,"Alcorn, MS - Tishomingo, MS","MS: Tishomingo County (28141)","48421"]
[146,"Shelby (Memphis), TN - DeSoto, MS","MS: Tunica County (28143)","48437"]
[482,"Pontotoc, MS - Union, MS","MS: Union County (28145)","48017"]
[477,"Pike, MS - Marion, MS","MS: Walthall County (28147)","48033"]
[431,"Warren, MS - Madison, LA","MS: Warren County (28149)","48079"]
[488,"Washington, MS - Sharkey, MS","MS: Washington County (28151)","48107"]
[455,"Jones, MS - Wayne, MS","MS: Wayne County (28153)","48115"]
[484,"Oktibbeha, MS - Winston, MS","MS: Webster County (28155)","48125"]
[525,"Wilkinson, MS","MS: Wilkinson County (28157)","48169"]
[484,"Oktibbeha, MS - Winston, MS","MS: Winston County (28159)","48219"]
[459,"Lafayette, MS - Calhoun, MS","MS: Yalobusha County (28161)","48269"]
[533,"Yazoo, MS","MS: Yazoo County (28163)","48279"]
[742,"Silver Bow, MT - Deer Lodge, MT","MT: Beaverhead County (30001)","48303"]
[691,"Yellowstone (Billings), MT - Big Horn, MT","MT: Big Horn County (30003)","48305"]
[712,"Hill, MT - Blaine, MT","MT: Blaine County (30005)","48345"]
[721,"Lewis and Clark, MT - Jefferson, MT","MT: Broadwater County (30007)","05005"]
[691,"Yellowstone (Billings), MT - Big Horn, MT","MT: Carbon County (30009)","05089"]
[714,"Custer, MT - Fallon, MT","MT: Carter County (30011)","48015"]
[692,"Cascade (Great Falls), MT - Glacier, MT","MT: Cascade County (30013)","48071"]
[692,"Cascade (Great Falls), MT - Glacier, MT","MT: Chouteau County (30015)","48157"]
[714,"Custer, MT - Fallon, MT","MT: Custer County (30017)","48201"]
[733,"Sheridan, MT - Daniels, MT","MT: Daniels County (30019)","48291"]
[767,"Richland, MT - Dawson, MT","MT: Dawson County (30021)","48339"]
[742,"Silver Bow, MT - Deer Lodge, MT","MT: Deer Lodge County (30023)","48407"]
[714,"Custer, MT - Fallon, MT","MT: Fallon County (30025)","48473"]
[810,"Fergus, MT - Petroleum, MT","MT: Fergus County (30027)","28031"]
[728,"Flathead, MT - Lincoln, MT","MT: Flathead County (30029)","28035"]
[773,"Gallatin and Yellowstone National Park, MT - Madison, MT","MT: Gallatin County and Yellowstone National Park (30031)","28041"]
[714,"Custer, MT - Fallon, MT","MT: Garfield County (30033)","28073"]
[692,"Cascade (Great Falls), MT - Glacier, MT","MT: Glacier County (30035)","28111"]
[691,"Yellowstone (Billings), MT - Big Horn, MT","MT: Golden Valley County (30037)","48013"]
[713,"Missoula, MT - Ravalli, MT","MT: Granite County (30039)","48019"]
[712,"Hill, MT - Blaine, MT","MT: Hill County (30041)","48029"]
[721,"Lewis and Clark, MT - Jefferson, MT","MT: Jefferson County (30043)","48163"]
[692,"Cascade (Great Falls), MT - Glacier, MT","MT: Judith Basin County (30045)","48177"]
[713,"Missoula, MT - Ravalli, MT","MT: Lake County (30047)","48187"]
[721,"Lewis and Clark, MT - Jefferson, MT","MT: Lewis and Clark County (30049)","48259"]
[712,"Hill, MT - Blaine, MT","MT: Liberty County (30051)","48283"]
[728,"Flathead, MT - Lincoln, MT","MT: Lincoln County (30053)","48311"]
[773,"Gallatin and Yellowstone National Park, MT - Madison, MT","MT: Madison County (30057)","48325"]
[767,"Richland, MT - Dawson, MT","MT: McCone County (30055)","48493"]
[778,"Wheatland, MT - Meagher, MT","MT: Meagher County (30059)","48507"]
[713,"Missoula, MT - Ravalli, MT","MT: Mineral County (30061)","28007"]
[713,"Missoula, MT - Ravalli, MT","MT: Missoula County (30063)","28049"]
[691,"Yellowstone (Billings), MT - Big Horn, MT","MT: Musselshell County (30065)","28051"]
[756,"Park, MT - Sweet Grass, MT","MT: Park County (30067)","28079"]
[810,"Fergus, MT - Petroleum, MT","MT: Petroleum County (30069)","28089"]
[712,"Hill, MT - Blaine, MT","MT: Phillips County (30071)","28121"]
[692,"Cascade (Great Falls), MT - Glacier, MT","MT: Pondera County (30073)","28123"]
[714,"Custer, MT - Fallon, MT","MT: Powder River County (30075)","28127"]
[788,"Powell, MT","MT: Powell County (30077)","01023"]
[714,"Custer, MT - Fallon, MT","MT: Prairie County (30079)","01119"]
[713,"Missoula, MT - Ravalli, MT","MT: Ravalli County (30081)","28023"]
[767,"Richland, MT - Dawson, MT","MT: Richland County (30083)","28069"]
[779,"Roosevelt, MT - Valley, MT","MT: Roosevelt County (30085)","28075"]
[691,"Yellowstone (Billings), MT - Big Horn, MT","MT: Rosebud County (30087)","28099"]
[713,"Missoula, MT - Ravalli, MT","MT: Sanders County (30089)","28101"]
[733,"Sheridan, MT - Daniels, MT","MT: Sheridan County (30091)","48199"]
[742,"Silver Bow, MT - Deer Lodge, MT","MT: Silver Bow County (30093)","48241"]
[691,"Yellowstone (Billings), MT - Big Horn, MT","MT: Stillwater County (30095)","48245"]
[756,"Park, MT - Sweet Grass, MT","MT: Sweet Grass County (30097)","48351"]
[692,"Cascade (Great Falls), MT - Glacier, MT","MT: Teton County (30099)","48361"]
[692,"Cascade (Great Falls), MT - Glacier, MT","MT: Toole County (30101)","48457"]
[691,"Yellowstone (Billings), MT - Big Horn, MT","MT: Treasure County (30103)","40035"]
[779,"Roosevelt, MT - Valley, MT","MT: Valley County (30105)","40037"]
[778,"Wheatland, MT - Meagher, MT","MT: Wheatland County (30107)","40097"]
[767,"Richland, MT - Dawson, MT","MT: Wibaux County (30109)","40115"]
[691,"Yellowstone (Billings), MT - Big Horn, MT","MT: Yellowstone County (30111)","40131"]
[267,"Alamance, NC","NC: Alamance County (37001)","40143"]
[192,"Iredell (Statesville), NC - Alexander, NC","NC: Alexander County (37003)","48109"]
[73,"Carroll, VA - Grayson, VA","NC: Alleghany County (37005)","48141"]
[167,"Mecklenburg (Charlotte), NC - Union, NC","NC: Anson County (37007)","48229"]
[194,"Watauga, NC - Ashe, NC","NC: Ashe County (37009)","48301"]
[240,"Yancey, NC - Avery, NC","NC: Avery County (37011)","22015"]
[195,"Pitt, NC - Beaufort, NC","NC: Beaufort County (37013)","22017"]
[243,"Hertford, NC - Bertie, NC","NC: Bertie County (37015)","22031"]
[207,"Robeson, NC - Columbus, NC","NC: Bladen County (37017)","22069"]
[168,"New Hanover (Wilmington), NC - Brunswick, NC","NC: Brunswick County (37019)","22081"]
[225,"Buncombe (Asheville), NC - Henderson, NC","NC: Buncombe County (37021)","22085"]
[229,"Catawba (Hickory), NC - Burke, NC","NC: Burke County (37023)","22119"]
[235,"Cabarrus (Concord), NC - Rowan, NC","NC: Cabarrus County (37025)","40017"]
[229,"Catawba (Hickory), NC - Burke, NC","NC: Caldwell County (37027)","40081"]
[264,"Pasquotank, NC - Dare, NC","NC: Camden County (37029)","40083"]
[242,"Onslow, NC - Craven, NC","NC: Carteret County (37031)","40109"]
[132,"Pittsylvania (Danville), VA - Danville City, VA","NC: Caswell County (37033)","40125"]
[229,"Catawba (Hickory), NC - Burke, NC","NC: Catawba County (37035)","28017"]
[203,"Orange (Chapel Hill), NC - Harnett, NC","NC: Chatham County (37037)","28057"]
[258,"Cherokee, NC - Clay, NC","NC: Cherokee County (37039)","28081"]
[243,"Hertford, NC - Bertie, NC","NC: Chowan County (37041)","28095"]
[258,"Cherokee, NC - Clay, NC","NC: Clay County (37043)","28117"]
[218,"Gaston (Gastonia), NC - Cleveland, NC","NC: Cleveland County (37045)","22005"]
[207,"Robeson, NC - Columbus, NC","NC: Columbus County (37047)","22033"]
[242,"Onslow, NC - Craven, NC","NC: Craven County (37049)","22037"]
[262,"Cumberland (Fayetteville), NC - Sampson, NC","NC: Cumberland County (37051)","22047"]
[6,"Virginia Beach City, VA - Norfolk City, VA","NC: Currituck County (37053)","22063"]
[264,"Pasquotank, NC - Dare, NC","NC: Dare County (37055)","22077"]
[186,"Guilford (Greensboro), NC - Davidson, NC","NC: Davidson County (37057)","22121"]
[149,"Forsyth (Winston-Salem), NC - Surry, NC","NC: Davie County (37059)","22125"]
[238,"Wayne, NC - Lenoir, NC","NC: Duplin County (37061)","48009"]
[170,"Durham (Durham), NC - Granville, NC","NC: Durham County (37063)","48023"]
[214,"Nash, NC - Halifax, NC","NC: Edgecombe County (37065)","48077"]
[149,"Forsyth (Winston-Salem), NC - Surry, NC","NC: Forsyth County (37067)","48275"]
[198,"Wake (Raleigh), NC - Johnston, NC","NC: Franklin County (37069)","48337"]
[218,"Gaston (Gastonia), NC - Cleveland, NC","NC: Gaston County (37071)","48447"]
[243,"Hertford, NC - Bertie, NC","NC: Gates County (37073)","48485"]
[209,"Jackson, NC - Macon, NC","NC: Graham County (37075)","48503"]
[170,"Durham (Durham), NC - Granville, NC","NC: Granville County (37077)","05033"]
[238,"Wayne, NC - Lenoir, NC","NC: Greene County (37079)","05047"]
[186,"Guilford (Greensboro), NC - Davidson, NC","NC: Guilford County (37081)","05083"]
[214,"Nash, NC - Halifax, NC","NC: Halifax County (37083)","05127"]
[203,"Orange (Chapel Hill), NC - Harnett, NC","NC: Harnett County (37085)","05131"]
[225,"Buncombe (Asheville), NC - Henderson, NC","NC: Haywood County (37087)","40061"]
[225,"Buncombe (Asheville), NC - Henderson, NC","NC: Henderson County (37089)","40079"]
[243,"Hertford, NC - Bertie, NC","NC: Hertford County (37091)","40135"]
[205,"Moore, NC - Richmond, NC","NC: Hoke County (37093)","28027"]
[195,"Pitt, NC - Beaufort, NC","NC: Hyde County (37095)","28119"]
[192,"Iredell (Statesville), NC - Alexander, NC","NC: Iredell County (37097)","28135"]
[209,"Jackson, NC - Macon, NC","NC: Jackson County (37099)","22091"]
[198,"Wake (Raleigh), NC - Johnston, NC","NC: Johnston County (37101)","22105"]
[242,"Onslow, NC - Craven, NC","NC: Jones County (37103)","22001"]
[203,"Orange (Chapel Hill), NC - Harnett, NC","NC: Lee County (37105)","22045"]
[238,"Wayne, NC - Lenoir, NC","NC: Lenoir County (37107)","22055"]
[218,"Gaston (Gastonia), NC - Cleveland, NC","NC: Lincoln County (37109)","22099"]
[209,"Jackson, NC - Macon, NC","NC: Macon County (37113)","22113"]
[225,"Buncombe (Asheville), NC - Henderson, NC","NC: Madison County (37115)","48021"]
[195,"Pitt, NC - Beaufort, NC","NC: Martin County (37117)","48053"]
[261,"McDowell, NC","NC: McDowell County (37111)","48287"]
[167,"Mecklenburg (Charlotte), NC - Union, NC","NC: Mecklenburg County (37119)","48299"]
[240,"Yancey, NC - Avery, NC","NC: Mitchell County (37121)","48453"]
[205,"Moore, NC - Richmond, NC","NC: Montgomery County (37123)","48491"]
[205,"Moore, NC - Richmond, NC","NC: Moore County (37125)","48081"]
[214,"Nash, NC - Halifax, NC","NC: Nash County (37127)","48095"]
[168,"New Hanover (Wilmington), NC - Brunswick, NC","NC: New Hanover County (37129)","48105"]
[214,"Nash, NC - Halifax, NC","NC: Northampton County (37131)","48235"]
[242,"Onslow, NC - Craven, NC","NC: Onslow County (37133)","48307"]
[203,"Orange (Chapel Hill), NC - Harnett, NC","NC: Orange County (37135)","48327"]
[242,"Onslow, NC - Craven, NC","NC: Pamlico County (37137)","48383"]
[264,"Pasquotank, NC - Dare, NC","NC: Pasquotank County (37139)","48399"]
[168,"New Hanover (Wilmington), NC - Brunswick, NC","NC: Pender County (37141)","48413"]
[264,"Pasquotank, NC - Dare, NC","NC: Perquimans County (37143)","48431"]
[170,"Durham (Durham), NC - Granville, NC","NC: Person County (37145)","48435"]
[195,"Pitt, NC - Beaufort, NC","NC: Pitt County (37147)","48451"]
[191,"Spartanburg (Spartanburg), SC - Cherokee, SC","NC: Polk County (37149)","48215"]
[186,"Guilford (Greensboro), NC - Davidson, NC","NC: Randolph County (37151)","48427"]
[205,"Moore, NC - Richmond, NC","NC: Richmond County (37153)","48059"]
[207,"Robeson, NC - Columbus, NC","NC: Robeson County (37155)","48133"]
[186,"Guilford (Greensboro), NC - Davidson, NC","NC: Rockingham County (37157)","48207"]
[235,"Cabarrus (Concord), NC - Rowan, NC","NC: Rowan County (37159)","48253"]
[218,"Gaston (Gastonia), NC - Cleveland, NC","NC: Rutherford County (37161)","48263"]
[262,"Cumberland (Fayetteville), NC - Sampson, NC","NC: Sampson County (37163)","48417"]
[207,"Robeson, NC - Columbus, NC","NC: Scotland County (37165)","48429"]
[235,"Cabarrus (Concord), NC - Rowan, NC","NC: Stanly County (37167)","48433"]
[149,"Forsyth (Winston-Salem), NC - Surry, NC","NC: Stokes County (37169)","48441"]
[149,"Forsyth (Winston-Salem), NC - Surry, NC","NC: Surry County (37171)","40003"]
[209,"Jackson, NC - Macon, NC","NC: Swain County (37173)","40011"]
[225,"Buncombe (Asheville), NC - Henderson, NC","NC: Transylvania County (37175)","40047"]
[195,"Pitt, NC - Beaufort, NC","NC: Tyrrell County (37177)","40053"]
[167,"Mecklenburg (Charlotte), NC - Union, NC","NC: Union County (37179)","40073"]
[170,"Durham (Durham), NC - Granville, NC","NC: Vance County (37181)","40093"]
[198,"Wake (Raleigh), NC - Johnston, NC","NC: Wake County (37183)","40151"]
[170,"Durham (Durham), NC - Granville, NC","NC: Warren County (37185)","40027"]
[195,"Pitt, NC - Beaufort, NC","NC: Washington County (37187)","40049"]
[194,"Watauga, NC - Ashe, NC","NC: Watauga County (37189)","40087"]
[238,"Wayne, NC - Lenoir, NC","NC: Wayne County (37191)","40099"]
[256,"Wilkes, NC","NC: Wilkes County (37193)","22065"]
[198,"Wake (Raleigh), NC - Johnston, NC","NC: Wilson County (37195)","28021"]
[149,"Forsyth (Winston-Salem), NC - Surry, NC","NC: Yadkin County (37197)","28149"]
[240,"Yancey, NC - Avery, NC","NC: Yancey County (37199)","05029"]
[640,"Perkins, SD - Bowman, ND","ND: Adams County (38001)","05045"]
[547,"Cass (Fargo), ND - Clay, MN","ND: Barnes County (38003)","05053"]
[655,"Ramsey, ND - Benson, ND","ND: Benson County (38005)","05085"]
[605,"Stark, ND - Dunn, ND","ND: Billings County (38007)","05105"]
[550,"Ward, ND - Bottineau, ND","ND: Bottineau County (38009)","05117"]
[640,"Perkins, SD - Bowman, ND","ND: Bowman County (38011)","05119"]
[550,"Ward, ND - Bottineau, ND","ND: Burke County (38013)","05125"]
[543,"Burleigh (Bismarck), ND - Morton, ND","ND: Burleigh County (38015)","05141"]
[547,"Cass (Fargo), ND - Clay, MN","ND: Cass County (38017)","48057"]
[584,"Grand Forks (Grand Forks), ND - Polk, MN","ND: Cavalier County (38019)","48123"]
[680,"Dickey, ND - LaMoure, ND","ND: Dickey County (38021)","48175"]
[579,"Williams, ND - McKenzie, ND","ND: Divide County (38023)","48239"]
[605,"Stark, ND - Dunn, ND","ND: Dunn County (38025)","48285"]
[655,"Ramsey, ND - Benson, ND","ND: Eddy County (38027)","48391"]
[543,"Burleigh (Bismarck), ND - Morton, ND","ND: Emmons County (38029)","48469"]
[632,"Stutsman, ND - Wells, ND","ND: Foster County (38031)","48221"]
[605,"Stark, ND - Dunn, ND","ND: Golden Valley County (38033)","48251"]
[584,"Grand Forks (Grand Forks), ND - Polk, MN","ND: Grand Forks County (38035)","48367"]
[670,"Grant, ND","ND: Grant County (38037)","48425"]
[547,"Cass (Fargo), ND - Clay, MN","ND: Griggs County (38039)","48439"]
[640,"Perkins, SD - Bowman, ND","ND: Hettinger County (38041)","22029"]
[543,"Burleigh (Bismarck), ND - Morton, ND","ND: Kidder County (38043)","22107"]
[680,"Dickey, ND - LaMoure, ND","ND: LaMoure County (38045)","28001"]
[684,"McIntosh, ND - Logan, ND","ND: Logan County (38047)","28037"]
[550,"Ward, ND - Bottineau, ND","ND: McHenry County (38049)","28063"]
[684,"McIntosh, ND - Logan, ND","ND: McIntosh County (38051)","40005"]
[579,"Williams, ND - McKenzie, ND","ND: McKenzie County (38053)","40013"]
[543,"Burleigh (Bismarck), ND - Morton, ND","ND: McLean County (38055)","48147"]
[543,"Burleigh (Bismarck), ND - Morton, ND","ND: Mercer County (38057)","48181"]
[543,"Burleigh (Bismarck), ND - Morton, ND","ND: Morton County (38059)","48007"]
[550,"Ward, ND - Bottineau, ND","ND: Mountrail County (38061)","48047"]
[584,"Grand Forks (Grand Forks), ND - Polk, MN","ND: Nelson County (38063)","48131"]
[543,"Burleigh (Bismarck), ND - Morton, ND","ND: Oliver County (38065)","48249"]
[584,"Grand Forks (Grand Forks), ND - Polk, MN","ND: Pembina County (38067)","48261"]
[638,"Rolette, ND - Pierce, ND","ND: Pierce County (38069)","48273"]
[655,"Ramsey, ND - Benson, ND","ND: Ramsey County (38071)","48297"]
[547,"Cass (Fargo), ND - Clay, MN","ND: Ransom County (38073)","48355"]
[550,"Ward, ND - Bottineau, ND","ND: Renville County (38075)","48409"]
[547,"Cass (Fargo), ND - Clay, MN","ND: Richland County (38077)","40023"]
[638,"Rolette, ND - Pierce, ND","ND: Rolette County (38079)","48119"]
[547,"Cass (Fargo), ND - Clay, MN","ND: Sargent County (38081)","48277"]
[543,"Burleigh (Bismarck), ND - Morton, ND","ND: Sheridan County (38083)","48387"]
[543,"Burleigh (Bismarck), ND - Morton, ND","ND: Sioux County (38085)","22013"]
[640,"Perkins, SD - Bowman, ND","ND: Slope County (38087)","22049"]
[605,"Stark, ND - Dunn, ND","ND: Stark County (38089)","22061"]
[547,"Cass (Fargo), ND - Clay, MN","ND: Steele County (38091)","22111"]
[632,"Stutsman, ND - Wells, ND","ND: Stutsman County (38093)","40009"]
[638,"Rolette, ND - Pierce, ND","ND: Towner County (38095)","40129"]
[547,"Cass (Fargo), ND - Clay, MN","ND: Traill County (38097)","48213"]
[584,"Grand Forks (Grand Forks), ND - Polk, MN","ND: Walsh County (38099)","48423"]
[550,"Ward, ND - Bottineau, ND","ND: Ward County (38101)","48467"]
[632,"Stutsman, ND - Wells, ND","ND: Wells County (38103)","48499"]
[579,"Williams, ND - McKenzie, ND","ND: Williams County (38105)","05115"]
[564,"Adams, NE - Clay, NE","NE: Adams County (31001)","05149"]
[577,"Madison, NE - Wayne, NE","NE: Antelope County (31003)","22021"]
[593,"Lincoln, NE - Keith, NE","NE: Arthur County (31005)","22035"]
[580,"Scotts Bluff, NE - Goshen, WY","NE: Banner County (31007)","22041"]
[594,"Custer, NE - Valley, NE","NE: Blaine County (31009)","22067"]
[651,"Platte, NE - Boone, NE","NE: Boone County (31011)","22073"]
[580,"Scotts Bluff, NE - Goshen, WY","NE: Box Butte County (31013)","22083"]
[595,"Todd, SD - Tripp, SD","NE: Boyd County (31015)","22123"]
[559,"Holt, NE - Brown, NE","NE: Brown County (31017)","48103"]
[570,"Buffalo, NE - Dawson, NE","NE: Buffalo County (31019)","48135"]
[542,"Douglas (Omaha), NE - Sarpy, NE","NE: Burt County (31021)","48389"]
[561,"Lancaster (Lincoln), NE - Gage, NE","NE: Butler County (31023)","48475"]
[542,"Douglas (Omaha), NE - Sarpy, NE","NE: Cass County (31025)","48495"]
[578,"Yankton, SD - Clay, SD","NE: Cedar County (31027)","40001"]
[654,"Chase, NE - Dundy, NE","NE: Chase County (31029)","40021"]
[668,"Cherry, NE","NE: Cherry County (31031)","40091"]
[741,"Laramie (Cheyenne), WY - Cheyenne, NE","NE: Cheyenne County (31033)","40101"]
[564,"Adams, NE - Clay, NE","NE: Clay County (31035)","40145"]
[542,"Douglas (Omaha), NE - Sarpy, NE","NE: Colfax County (31037)","05007"]
[542,"Douglas (Omaha), NE - Sarpy, NE","NE: Cuming County (31039)","05087"]
[594,"Custer, NE - Valley, NE","NE: Custer County (31041)","05143"]
[560,"Woodbury (Sioux City), IA - Plymouth, IA","NE: Dakota County (31043)","40041"]
[623,"Shannon, SD - Dawes, NE","NE: Dawes County (31045)","48347"]
[570,"Buffalo, NE - Dawson, NE","NE: Dawson County (31047)","48403"]
[741,"Laramie (Cheyenne), WY - Cheyenne, NE","NE: Deuel County (31049)","48405"]
[560,"Woodbury (Sioux City), IA - Plymouth, IA","NE: Dixon County (31051)","48419"]
[542,"Douglas (Omaha), NE - Sarpy, NE","NE: Dodge County (31053)","05019"]
[542,"Douglas (Omaha), NE - Sarpy, NE","NE: Douglas County (31055)","05051"]
[654,"Chase, NE - Dundy, NE","NE: Dundy County (31057)","05059"]
[658,"Fillmore, NE - Thayer, NE","NE: Fillmore County (31059)","05097"]
[570,"Buffalo, NE - Dawson, NE","NE: Franklin County (31061)","05109"]
[570,"Buffalo, NE - Dawson, NE","NE: Frontier County (31063)","48005"]
[616,"Phelps, NE - Furnas, NE","NE: Furnas County (31065)","48373"]
[561,"Lancaster (Lincoln), NE - Gage, NE","NE: Gage County (31067)","48455"]
[580,"Scotts Bluff, NE - Goshen, WY","NE: Garden County (31069)","48471"]
[594,"Custer, NE - Valley, NE","NE: Garfield County (31071)","22003"]
[570,"Buffalo, NE - Dawson, NE","NE: Gosper County (31073)","22009"]
[580,"Scotts Bluff, NE - Goshen, WY","NE: Grant County (31075)","22025"]
[555,"Hall, NE - Hamilton, NE","NE: Greeley County (31077)","22043"]
[555,"Hall, NE - Hamilton, NE","NE: Hall County (31079)","22059"]
[555,"Hall, NE - Hamilton, NE","NE: Hamilton County (31081)","22079"]
[616,"Phelps, NE - Furnas, NE","NE: Harlan County (31083)","20019"]
[654,"Chase, NE - Dundy, NE","NE: Hayes County (31085)","20049"]
[613,"Red Willow, NE - Decatur, KS","NE: Hitchcock County (31087)","20125"]
[559,"Holt, NE - Brown, NE","NE: Holt County (31089)","40105"]
[593,"Lincoln, NE - Keith, NE","NE: Hooker County (31091)","40147"]
[555,"Hall, NE - Hamilton, NE","NE: Howard County (31093)","48027"]
[561,"Lancaster (Lincoln), NE - Gage, NE","NE: Jefferson County (31095)","48099"]
[660,"Otoe, NE - Johnson, NE","NE: Johnson County (31097)","48281"]
[570,"Buffalo, NE - Dawson, NE","NE: Kearney County (31099)","48331"]
[593,"Lincoln, NE - Keith, NE","NE: Keith County (31101)","48085"]
[559,"Holt, NE - Brown, NE","NE: Keya Paha County (31103)","48113"]
[741,"Laramie (Cheyenne), WY - Cheyenne, NE","NE: Kimball County (31105)","48139"]
[578,"Yankton, SD - Clay, SD","NE: Knox County (31107)","48223"]
[561,"Lancaster (Lincoln), NE - Gage, NE","NE: Lancaster County (31109)","48231"]
[593,"Lincoln, NE - Keith, NE","NE: Lincoln County (31111)","48257"]
[594,"Custer, NE - Valley, NE","NE: Logan County (31113)","48379"]
[594,"Custer, NE - Valley, NE","NE: Loup County (31115)","48397"]
[577,"Madison, NE - Wayne, NE","NE: Madison County (31119)","48183"]
[593,"Lincoln, NE - Keith, NE","NE: McPherson County (31117)","48365"]
[555,"Hall, NE - Hamilton, NE","NE: Merrick County (31121)","48401"]
[580,"Scotts Bluff, NE - Goshen, WY","NE: Morrill County (31123)","48459"]
[651,"Platte, NE - Boone, NE","NE: Nance County (31125)","28061"]
[687,"Nemaha, NE","NE: Nemaha County (31127)","28067"]
[564,"Adams, NE - Clay, NE","NE: Nuckolls County (31129)","28129"]
[660,"Otoe, NE - Johnson, NE","NE: Otoe County (31131)","28153"]
[628,"Richardson, NE - Pawnee, NE","NE: Pawnee County (31133)","28045"]
[593,"Lincoln, NE - Keith, NE","NE: Perkins County (31135)","28047"]
[616,"Phelps, NE - Furnas, NE","NE: Phelps County (31137)","28131"]
[577,"Madison, NE - Wayne, NE","NE: Pierce County (31139)","05023"]
[651,"Platte, NE - Boone, NE","NE: Platte County (31141)","05145"]
[611,"York, NE - Polk, NE","NE: Polk County (31143)","05147"]
[613,"Red Willow, NE - Decatur, KS","NE: Red Willow County (31145)","48155"]
[628,"Richardson, NE - Pawnee, NE","NE: Richardson County (31147)","48197"]
[559,"Holt, NE - Brown, NE","NE: Rock County (31149)","48487"]
[561,"Lancaster (Lincoln), NE - Gage, NE","NE: Saline County (31151)","28013"]
[542,"Douglas (Omaha), NE - Sarpy, NE","NE: Sarpy County (31153)","28071"]
[542,"Douglas (Omaha), NE - Sarpy, NE","NE: Saunders County (31155)","28161"]
[580,"Scotts Bluff, NE - Goshen, WY","NE: Scotts Bluff County (31157)","48179"]
[561,"Lancaster (Lincoln), NE - Gage, NE","NE: Seward County (31159)","48211"]
[623,"Shannon, SD - Dawes, NE","NE: Sheridan County (31161)","48393"]
[570,"Buffalo, NE - Dawson, NE","NE: Sherman County (31163)","48483"]
[623,"Shannon, SD - Dawes, NE","NE: Sioux County (31165)","01075"]
[577,"Madison, NE - Wayne, NE","NE: Stanton County (31167)","28025"]
[658,"Fillmore, NE - Thayer, NE","NE: Thayer County (31169)","28087"]
[594,"Custer, NE - Valley, NE","NE: Thomas County (31171)","28103"]
[560,"Woodbury (Sioux City), IA - Plymouth, IA","NE: Thurston County (31173)","48035"]
[594,"Custer, NE - Valley, NE","NE: Valley County (31175)","48145"]
[542,"Douglas (Omaha), NE - Sarpy, NE","NE: Washington County (31177)","48193"]
[577,"Madison, NE - Wayne, NE","NE: Wayne County (31179)","48217"]
[564,"Adams, NE - Clay, NE","NE: Webster County (31181)","48293"]
[594,"Custer, NE - Valley, NE","NE: Wheeler County (31183)","48309"]
[611,"York, NE - Polk, NE","NE: York County (31185)","22039"]
[91,"Hillsborough (Manchester), NH - Merrimack, NH","NH: Belknap County (33001)","22097"]
[91,"Hillsborough (Manchester), NH - Merrimack, NH","NH: Carroll County (33003)","48041"]
[90,"Cheshire, NH - Windham, VT","NH: Cheshire County (33005)","48051"]
[138,"Coos, NH - Essex, VT","NH: Coos County (33007)","48185"]
[15,"Grafton, NH - Washington, VT","NH: Grafton County (33009)","48395"]
[91,"Hillsborough (Manchester), NH - Merrimack, NH","NH: Hillsborough County (33011)","48477"]
[91,"Hillsborough (Manchester), NH - Merrimack, NH","NH: Merrimack County (33013)","48063"]
[74,"Essex (Lynn), MA - Rockingham, NH","NH: Rockingham County (33015)","48159"]
[98,"York, ME - Strafford (Rochester), NH","NH: Strafford County (33017)","48343"]
[15,"Grafton, NH - Washington, VT","NH: Sullivan County (33019)","48449"]
[64,"Atlantic (Atlantic City), NJ - Cape May, NJ","NJ: Atlantic County (34001)","40077"]
[36,"Bergen, NJ - Hudson (Jersey City), NJ","NJ: Bergen County (34003)","40121"]
[23,"Camden (Camden), NJ - Burlington, NJ","NJ: Burlington County (34005)","40127"]
[23,"Camden (Camden), NJ - Burlington, NJ","NJ: Camden County (34007)","22007"]
[64,"Atlantic (Atlantic City), NJ - Cape May, NJ","NJ: Cape May County (34009)","22057"]
[127,"Cumberland, NJ","NJ: Cumberland County (34011)","22109"]
[66,"Essex (Newark), NJ - Middlesex, NJ","NJ: Essex County (34013)","48049"]
[23,"Camden (Camden), NJ - Burlington, NJ","NJ: Gloucester County (34015)","48083"]
[36,"Bergen, NJ - Hudson (Jersey City), NJ","NJ: Hudson County (34017)","48333"]
[93,"Hunterdon, NJ - Warren (Phillipsburg), NJ","NJ: Hunterdon County (34019)","48411"]
[126,"Mercer, NJ","NJ: Mercer County (34021)","40043"]
[66,"Essex (Newark), NJ - Middlesex, NJ","NJ: Middlesex County (34023)","40045"]
[108,"Monmouth, NJ - Ocean (Brick Township), NJ","NJ: Monmouth County (34025)","40059"]
[87,"Morris (Parsippany-Troy Hills Township), NJ - Sussex, NJ","NJ: Morris County (34027)","40153"]
[108,"Monmouth, NJ - Ocean (Brick Township), NJ","NJ: Ocean County (34029)","48295"]
[36,"Bergen, NJ - Hudson (Jersey City), NJ","NJ: Passaic County (34031)","22011"]
[23,"Camden (Camden), NJ - Burlington, NJ","NJ: Salem County (34033)","22019"]
[66,"Essex (Newark), NJ - Middlesex, NJ","NJ: Somerset County (34035)","22023"]
[87,"Morris (Parsippany-Troy Hills Township), NJ - Sussex, NJ","NJ: Sussex County (34037)","22053"]
[66,"Essex (Newark), NJ - Middlesex, NJ","NJ: Union County (34039)","22115"]
[93,"Hunterdon, NJ - Warren (Phillipsburg), NJ","NJ: Warren County (34041)","28039"]
[693,"Bernalillo (Albuquerque), NM - Sandoval, NM","NM: Bernalillo County (35001)","28059"]
[793,"Grant, NM - Hidalgo, NM","NM: Catron County (35003)","40103"]
[772,"Chaves, NM - Eddy, NM","NM: Chaves County (35005)","40117"]
[693,"Bernalillo (Albuquerque), NM - Sandoval, NM","NM: Cibola County (35006) - 1982+","40119"]
[693,"Bernalillo (Albuquerque), NM - Sandoval, NM","NM: Cibola/Valencia (35910) - 1969-1981","05011"]
[704,"Pueblo (Pueblo), CO - Las Animas, CO","NM: Colfax County (35007)","05025"]
[725,"Curry, NM - Roosevelt, NM","NM: Curry County (35009)","05041"]
[725,"Curry, NM - Roosevelt, NM","NM: De Baca County (35011)","05043"]
[732,"Dona Ana (Las Cruces), NM - Luna, NM","NM: Dona Ana County (35013)","05069"]
[772,"Chaves, NM - Eddy, NM","NM: Eddy County (35015)","05079"]
[793,"Grant, NM - Hidalgo, NM","NM: Grant County (35017)","40019"]
[801,"San Miguel, NM - Mora, NM","NM: Guadalupe County (35019)","40069"]
[801,"San Miguel, NM - Mora, NM","NM: Harding County (35021)","40085"]
[793,"Grant, NM - Hidalgo, NM","NM: Hidalgo County (35023)","40095"]
[508,"Lea, NM - Gaines, TX","NM: Lea County (35025)","40039"]
[769,"Otero, NM - Lincoln, NM","NM: Lincoln County (35027)","40149"]
[724,"Santa Fe (Santa Fe), NM - Rio Arriba, NM","NM: Los Alamos County (35028)","40015"]
[732,"Dona Ana (Las Cruces), NM - Luna, NM","NM: Luna County (35029)","40051"]
[765,"McKinley, NM - Apache, AZ","NM: McKinley County (35031)","28005"]
[801,"San Miguel, NM - Mora, NM","NM: Mora County (35033)","28091"]
[769,"Otero, NM - Lincoln, NM","NM: Otero County (35035)","28113"]
[725,"Curry, NM - Roosevelt, NM","NM: Quay County (35037)","28147"]
[724,"Santa Fe (Santa Fe), NM - Rio Arriba, NM","NM: Rio Arriba County (35039)","40029"]
[725,"Curry, NM - Roosevelt, NM","NM: Roosevelt County (35041)","40063"]
[740,"San Juan, NM - Navajo, AZ","NM: San Juan County (35045)","40123"]
[801,"San Miguel, NM - Mora, NM","NM: San Miguel County (35047)","40133"]
[693,"Bernalillo (Albuquerque), NM - Sandoval, NM","NM: Sandoval County (35043)","48237"]
[724,"Santa Fe (Santa Fe), NM - Rio Arriba, NM","NM: Santa Fe County (35049)","48363"]
[732,"Dona Ana (Las Cruces), NM - Luna, NM","NM: Sierra County (35051)","05003"]
[693,"Bernalillo (Albuquerque), NM - Sandoval, NM","NM: Socorro County (35053)","05017"]
[724,"Santa Fe (Santa Fe), NM - Rio Arriba, NM","NM: Taos County (35055)","48069"]
[693,"Bernalillo (Albuquerque), NM - Sandoval, NM","NM: Torrance County (35057)","48153"]
[814,"Union, NM","NM: Union County (35059)","48189"]
[693,"Bernalillo (Albuquerque), NM - Sandoval, NM","NM: Valencia County (35061) - 1982+","28115"]
[701,"Washoe (Reno), NV - Carson City, NV","NV: Carson City (32510)","28139"]
[701,"Washoe (Reno), NV - Carson City, NV","NV: Churchill County (32001)","28145"]
[707,"Clark (Las Vegas), NV - Washington, UT","NV: Clark County (32003)","40055"]
[701,"Washoe (Reno), NV - Carson City, NV","NV: Douglas County (32005)","40057"]
[720,"Elko, NV - Lander, NV","NV: Elko County (32007)","40065"]
[707,"Clark (Las Vegas), NV - Washington, UT","NV: Esmeralda County (32009)","28019"]
[720,"Elko, NV - Lander, NV","NV: Eureka County (32011)","28105"]
[701,"Washoe (Reno), NV - Carson City, NV","NV: Humboldt County (32013)","28155"]
[720,"Elko, NV - Lander, NV","NV: Lander County (32015)","28159"]
[707,"Clark (Las Vegas), NV - Washington, UT","NV: Lincoln County (32017)","48067"]
[701,"Washoe (Reno), NV - Carson City, NV","NV: Lyon County (32019)","48203"]
[701,"Washoe (Reno), NV - Carson City, NV","NV: Mineral County (32021)","48315"]
[707,"Clark (Las Vegas), NV - Washington, UT","NV: Nye County (32023)","05013"]
[701,"Washoe (Reno), NV - Carson City, NV","NV: Pershing County (32027)","05027"]
[701,"Washoe (Reno), NV - Carson City, NV","NV: Storey County (32029)","05139"]
[701,"Washoe (Reno), NV - Carson City, NV","NV: Washoe County (32031)","28011"]
[805,"White Pine, NV","NV: White Pine County (32033)","28053"]
[10,"Albany (Albany), NY - Rensselaer, NY","NY: Albany County (36001)","28083"]
[35,"Cattaraugus, NY - Allegany, NY","NY: Allegany County (36003)","28133"]
[94,"Kings (New York), NY - Queens, NY","NY: Bronx County (36005) - 1980+","28055"]
[19,"Broome (Binghamton), NY - Bradford, PA","NY: Broome County (36007)","28125"]
[35,"Cattaraugus, NY - Allegany, NY","NY: Cattaraugus County (36009)","28151"]
[56,"Onondaga (Syracuse), NY - Oswego, NY","NY: Cayuga County (36011)","48161"]
[106,"Erie (Erie), PA - Chautauqua, NY","NY: Chautauqua County (36013)","48349"]
[65,"Steuben, NY - Chemung (Elmira), NY","NY: Chemung County (36015)","48089"]
[58,"Otsego, NY - Chenango, NY","NY: Chenango County (36017)","48149"]
[81,"Clinton, NY - Franklin, NY","NY: Clinton County (36019)","48117"]
[112,"Berkshire (Pittsfield), MA - Columbia, NY","NY: Columbia County (36021)","48369"]
[105,"Tompkins, NY - Cortland, NY","NY: Cortland County (36023)","48317"]
[58,"Otsego, NY - Chenango, NY","NY: Delaware County (36025)","48329"]
[41,"Westchester (Yonkers), NY - Dutchess, NY","NY: Dutchess County (36027)","48371"]
[54,"Erie (Buffalo), NY - Monroe, NY","NY: Erie County (36029)","48443"]
[81,"Clinton, NY - Franklin, NY","NY: Essex County (36031)","48461"]
[81,"Clinton, NY - Franklin, NY","NY: Franklin County (36033)","40031"]
[76,"Fulton, NY - Montgomery (Amsterdam), NY","NY: Fulton County (36035)","40033"]
[54,"Erie (Buffalo), NY - Monroe, NY","NY: Genesee County (36037)","40075"]
[112,"Berkshire (Pittsfield), MA - Columbia, NY","NY: Greene County (36039)","40141"]
[88,"Saratoga, NY - Schenectady (Schenectady), NY","NY: Hamilton County (36041)","05009"]
[59,"Oneida (Utica), NY - Madison, NY","NY: Herkimer County (36043)","05015"]
[80,"St. Lawrence, NY - Jefferson, NY","NY: Jefferson County (36045)","05101"]
[94,"Kings (New York), NY - Queens, NY","NY: Kings County (36047) - 1980+","05129"]
[80,"St. Lawrence, NY - Jefferson, NY","NY: Lewis County (36049)","48097"]
[54,"Erie (Buffalo), NY - Monroe, NY","NY: Livingston County (36051)","48121"]
[59,"Oneida (Utica), NY - Madison, NY","NY: Madison County (36053)","48497"]
[54,"Erie (Buffalo), NY - Monroe, NY","NY: Monroe County (36055)","05039"]
[76,"Fulton, NY - Montgomery (Amsterdam), NY","NY: Montgomery County (36057)","05103"]
[83,"Suffolk, NY - Nassau, NY","NY: Nassau County (36059)","40067"]
[94,"Kings (New York), NY - Queens, NY","NY: New York City (36910) - 1969-1979","40137"]
[94,"Kings (New York), NY - Queens, NY","NY: New York County (36061) - 1980+","28003"]
[54,"Erie (Buffalo), NY - Monroe, NY","NY: Niagara County (36063)","28141"]
[59,"Oneida (Utica), NY - Madison, NY","NY: Oneida County (36065)","05035"]
[56,"Onondaga (Syracuse), NY - Oswego, NY","NY: Onondaga County (36067)","05037"]
[21,"Ontario (Geneva), NY - Wayne, NY","NY: Ontario County (36069)","05077"]
[86,"Orange (Newburgh), NY - Sullivan, NY","NY: Orange County (36071)","05123"]
[54,"Erie (Buffalo), NY - Monroe, NY","NY: Orleans County (36073)","22103"]
[56,"Onondaga (Syracuse), NY - Oswego, NY","NY: Oswego County (36075)","22117"]
[58,"Otsego, NY - Chenango, NY","NY: Otsego County (36077)","28109"]
[41,"Westchester (Yonkers), NY - Dutchess, NY","NY: Putnam County (36079)","48289"]
[94,"Kings (New York), NY - Queens, NY","NY: Queens County (36081) - 1980+","48313"]
[10,"Albany (Albany), NY - Rensselaer, NY","NY: Rensselaer County (36083)","28015"]
[94,"Kings (New York), NY - Queens, NY","NY: Richmond County (36085) - 1980+","28043"]
[36,"Bergen, NJ - Hudson (Jersey City), NJ","NY: Rockland County (36087)","28097"]
[88,"Saratoga, NY - Schenectady (Schenectady), NY","NY: Saratoga County (36091)","48151"]
[88,"Saratoga, NY - Schenectady (Schenectady), NY","NY: Schenectady County (36093)","48335"]
[58,"Otsego, NY - Chenango, NY","NY: Schoharie County (36095)","48353"]
[65,"Steuben, NY - Chemung (Elmira), NY","NY: Schuyler County (36097)","28065"]
[21,"Ontario (Geneva), NY - Wayne, NY","NY: Seneca County (36099)","28077"]
[80,"St. Lawrence, NY - Jefferson, NY","NY: St. Lawrence County (36089)","48039"]
[65,"Steuben, NY - Chemung (Elmira), NY","NY: Steuben County (36101)","48321"]
[83,"Suffolk, NY - Nassau, NY","NY: Suffolk County (36103)","48481"]
[86,"Orange (Newburgh), NY - Sullivan, NY","NY: Sullivan County (36105)","48031"]
[19,"Broome (Binghamton), NY - Bradford, PA","NY: Tioga County (36107)","48137"]
[105,"Tompkins, NY - Cortland, NY","NY: Tompkins County (36109)","48171"]
[41,"Westchester (Yonkers), NY - Dutchess, NY","NY: Ulster County (36111)","48265"]
[88,"Saratoga, NY - Schenectady (Schenectady), NY","NY: Warren County (36113)","48267"]
[88,"Saratoga, NY - Schenectady (Schenectady), NY","NY: Washington County (36115)","48319"]
[21,"Ontario (Geneva), NY - Wayne, NY","NY: Wayne County (36117)","48385"]
[41,"Westchester (Yonkers), NY - Dutchess, NY","NY: Westchester County (36119)","48093"]
[54,"Erie (Buffalo), NY - Monroe, NY","NY: Wyoming County (36121)","48143"]
[21,"Ontario (Geneva), NY - Wayne, NY","NY: Yates County (36123)","35025"]
[270,"Hamilton (Cincinnati), OH - Butler, OH","OH: Adams County (39001)","48003"]
[292,"Allen (Lima), OH - Auglaize, OH","OH: Allen County (39003)","48165"]
[369,"Richland (Mansfield), OH - Ashland, OH","OH: Ashland County (39005)","48001"]
[288,"Cuyahoga (Cleveland), OH - Lake, OH","OH: Ashtabula County (39007)","48073"]
[368,"Fairfield (Lancaster), OH - Athens, OH","OH: Athens County (39009)","48225"]
[292,"Allen (Lima), OH - Auglaize, OH","OH: Auglaize County (39011)","48055"]
[24,"Belmont, OH - Ohio (Wheeling), WV","OH: Belmont County (39013)","48209"]
[270,"Hamilton (Cincinnati), OH - Butler, OH","OH: Brown County (39015)","28029"]
[270,"Hamilton (Cincinnati), OH - Butler, OH","OH: Butler County (39017)","28085"]
[347,"Stark (Canton), OH - Wayne, OH","OH: Carroll County (39019)","48075"]
[346,"Clark (Springfield), OH - Champaign, OH","OH: Champaign County (39021)","48101"]
[346,"Clark (Springfield), OH - Champaign, OH","OH: Clark County (39023)","48191"]
[270,"Hamilton (Cincinnati), OH - Butler, OH","OH: Clermont County (39025)","48025"]
[372,"Highland, OH - Clinton, OH","OH: Clinton County (39027)","48255"]
[380,"Columbiana, OH - Hancock (Weirton), WV","OH: Columbiana County (39029)","48445"]
[377,"Muskingum, OH - Guernsey, OH","OH: Coshocton County (39031)","48501"]
[354,"Marion, OH - Crawford, OH","OH: Crawford County (39033)","40071"]
[288,"Cuyahoga (Cleveland), OH - Lake, OH","OH: Cuyahoga County (39035)","40113"]
[295,"Montgomery (Dayton), OH - Greene, OH","OH: Darke County (39037)","48271"]
[356,"Defiance, OH - Williams, OH","OH: Defiance County (39039)","48323"]
[281,"Franklin (Columbus), OH - Delaware, OH","OH: Delaware County (39041)","48465"]
[366,"Lorain (Lorain), OH - Erie, OH","OH: Erie County (39043)","48091"]
[368,"Fairfield (Lancaster), OH - Athens, OH","OH: Fairfield County (39045)","48173"]
[281,"Franklin (Columbus), OH - Delaware, OH","OH: Fayette County (39047)","48227"]
[281,"Franklin (Columbus), OH - Delaware, OH","OH: Franklin County (39049)","48415"]
[276,"Lucas (Toledo), OH - Monroe, MI","OH: Fulton County (39051)","48061"]
[283,"Jackson, OH - Gallia, OH","OH: Gallia County (39053)","48489"]
[288,"Cuyahoga (Cleveland), OH - Lake, OH","OH: Geauga County (39055)","05067"]
[295,"Montgomery (Dayton), OH - Greene, OH","OH: Greene County (39057)","05071"]
[377,"Muskingum, OH - Guernsey, OH","OH: Guernsey County (39059)","22027"]
[270,"Hamilton (Cincinnati), OH - Butler, OH","OH: Hamilton County (39061)","48087"]
[386,"Hancock, OH - Seneca, OH","OH: Hancock County (39063)","28157"]
[292,"Allen (Lima), OH - Auglaize, OH","OH: Hardin County (39065)","48043"]
[360,"Jefferson (Steubenville), OH - Harrison, OH","OH: Harrison County (39067)","48243"]
[356,"Defiance, OH - Williams, OH","OH: Henry County (39069)","48377"]
[372,"Highland, OH - Clinton, OH","OH: Highland County (39071)","05001"]
[368,"Fairfield (Lancaster), OH - Athens, OH","OH: Hocking County (39073)","05095"]
[347,"Stark (Canton), OH - Wayne, OH","OH: Holmes County (39075)","22101"]
[366,"Lorain (Lorain), OH - Erie, OH","OH: Huron County (39077)","40107"]
[283,"Jackson, OH - Gallia, OH","OH: Jackson County (39079)","40111"]
[360,"Jefferson (Steubenville), OH - Harrison, OH","OH: Jefferson County (39081)","22127"]
[388,"Licking (Newark), OH - Knox, OH","OH: Knox County (39083)","48127"]
[288,"Cuyahoga (Cleveland), OH - Lake, OH","OH: Lake County (39085)","48167"]
[46,"Cabell (Huntington), WV - Lawrence, OH","OH: Lawrence County (39087)","28163"]
[388,"Licking (Newark), OH - Knox, OH","OH: Licking County (39089)","05113"]
[398,"Logan, OH","OH: Logan County (39091)","40007"]
[366,"Lorain (Lorain), OH - Erie, OH","OH: Lorain County (39093)","48463"]
[276,"Lucas (Toledo), OH - Monroe, MI","OH: Lucas County (39095)","05107"]
[281,"Franklin (Columbus), OH - Delaware, OH","OH: Madison County (39097)","48247"]
[345,"Mahoning (Youngstown), OH - Trumbull, OH","OH: Mahoning County (39099)","48479"]
[354,"Marion, OH - Crawford, OH","OH: Marion County (39101)","48505"]
[352,"Summit (Akron), OH - Portage, OH","OH: Medina County (39103)","20021"]
[283,"Jackson, OH - Gallia, OH","OH: Meigs County (39105)","29011"]
[292,"Allen (Lima), OH - Auglaize, OH","OH: Mercer County (39107)","29097"]
[376,"Miami (Piqua), OH - Shelby, OH","OH: Miami County (39109)","29119"]
[24,"Belmont, OH - Ohio (Wheeling), WV","OH: Monroe County (39111)","29145"]
[295,"Montgomery (Dayton), OH - Greene, OH","OH: Montgomery County (39113)","27003"]
[377,"Muskingum, OH - Guernsey, OH","OH: Morgan County (39115)","27019"]
[354,"Marion, OH - Crawford, OH","OH: Morrow County (39117)","27053"]
[377,"Muskingum, OH - Guernsey, OH","OH: Muskingum County (39119)","27079"]
[377,"Muskingum, OH - Guernsey, OH","OH: Noble County (39121)","27085"]
[276,"Lucas (Toledo), OH - Monroe, MI","OH: Ottawa County (39123)","27139"]
[356,"Defiance, OH - Williams, OH","OH: Paulding County (39125)","27141"]
[377,"Muskingum, OH - Guernsey, OH","OH: Perry County (39127)","27143"]
[281,"Franklin (Columbus), OH - Delaware, OH","OH: Pickaway County (39129)","27171"]
[337,"Scioto, OH - Ross, OH","OH: Pike County (39131)","29071"]
[352,"Summit (Akron), OH - Portage, OH","OH: Portage County (39133)","29093"]
[295,"Montgomery (Dayton), OH - Greene, OH","OH: Preble County (39135)","29099"]
[292,"Allen (Lima), OH - Auglaize, OH","OH: Putnam County (39137)","29187"]
[369,"Richland (Mansfield), OH - Ashland, OH","OH: Richland County (39139)","29186"]
[337,"Scioto, OH - Ross, OH","OH: Ross County (39141)","29510"]
[366,"Lorain (Lorain), OH - Erie, OH","OH: Sandusky County (39143)","29189"]
[337,"Scioto, OH - Ross, OH","OH: Scioto County (39145)","29221"]
[386,"Hancock, OH - Seneca, OH","OH: Seneca County (39147)","31021"]
[376,"Miami (Piqua), OH - Shelby, OH","OH: Shelby County (39149)","31025"]
[347,"Stark (Canton), OH - Wayne, OH","OH: Stark County (39151)","31037"]
[352,"Summit (Akron), OH - Portage, OH","OH: Summit County (39153)","31039"]
[345,"Mahoning (Youngstown), OH - Trumbull, OH","OH: Trumbull County (39155)","31053"]
[347,"Stark (Canton), OH - Wayne, OH","OH: Tuscarawas County (39157)","31055"]
[354,"Marion, OH - Crawford, OH","OH: Union County (39159)","31153"]
[292,"Allen (Lima), OH - Auglaize, OH","OH: Van Wert County (39161)","31155"]
[368,"Fairfield (Lancaster), OH - Athens, OH","OH: Vinton County (39163)","31177"]
[270,"Hamilton (Cincinnati), OH - Butler, OH","OH: Warren County (39165)","38015"]
[34,"Wood (Parkersburg), WV - Washington, OH","OH: Washington County (39167)","38029"]
[347,"Stark (Canton), OH - Wayne, OH","OH: Wayne County (39169)","38043"]
[356,"Defiance, OH - Williams, OH","OH: Williams County (39171)","38055"]
[276,"Lucas (Toledo), OH - Monroe, MI","OH: Wood County (39173)","38057"]
[354,"Marion, OH - Crawford, OH","OH: Wyandot County (39175)","38059"]
[445,"Muskogee, OK - Wagoner, OK","OK: Adair County (40001)","38065"]
[429,"Garfield (Enid), OK - Kingfisher, OK","OK: Alfalfa County (40003)","38083"]
[436,"Grayson (Sherman), TX - Bryan, OK","OK: Atoka County (40005)","38085"]
[535,"Beaver, OK","OK: Beaver County (40007)","19119"]
[440,"Beckham, OK - Roger Mills, OK","OK: Beckham County (40009)","27117"]
[429,"Garfield (Enid), OK - Kingfisher, OK","OK: Blaine County (40011)","27133"]
[436,"Grayson (Sherman), TX - Bryan, OK","OK: Bryan County (40013)","46079"]
[476,"Grady, OK - Caddo, OK","OK: Caddo County (40015)","46083"]
[417,"Oklahoma (Oklahoma City), OK - Canadian, OK","OK: Canadian County (40017)","46087"]
[474,"Carter, OK - Marshall, OK","OK: Carter County (40019)","46097"]
[445,"Muskogee, OK - Wagoner, OK","OK: Cherokee County (40021)","46099"]
[438,"Lamar, TX - Choctaw, OK","OK: Choctaw County (40023)","46101"]
[587,"Seward, KS - Texas, OK","OK: Cimarron County (40025)","46125"]
[430,"Cleveland (Norman), OK - McClain, OK","OK: Cleveland County (40027)","46127"]
[478,"Pontotoc, OK - Seminole, OK","OK: Coal County (40029)","19011"]
[493,"Comanche (Lawton), OK - Kiowa, OK","OK: Comanche County (40031)","19031"]
[493,"Comanche (Lawton), OK - Kiowa, OK","OK: Cotton County (40033)","19095"]
[414,"Tulsa (Tulsa), OK - Rogers, OK","OK: Craig County (40035)","19103"]
[414,"Tulsa (Tulsa), OK - Rogers, OK","OK: Creek County (40037)","19105"]
[475,"Custer, OK - Washita, OK","OK: Custer County (40039)","19113"]
[446,"Washington (Fayetteville), AR - Benton, AR","OK: Delaware County (40041)","19115"]
[469,"Woodward, OK - Dewey, OK","OK: Dewey County (40043)","19183"]
[469,"Woodward, OK - Dewey, OK","OK: Ellis County (40045)","19001"]
[429,"Garfield (Enid), OK - Kingfisher, OK","OK: Garfield County (40047)","19039"]
[430,"Cleveland (Norman), OK - McClain, OK","OK: Garvin County (40049)","19049"]
[476,"Grady, OK - Caddo, OK","OK: Grady County (40051)","19053"]
[429,"Garfield (Enid), OK - Kingfisher, OK","OK: Grant County (40053)","19099"]
[483,"Jackson, OK - Greer, OK","OK: Greer County (40055)","19121"]
[483,"Jackson, OK - Greer, OK","OK: Harmon County (40057)","19125"]
[469,"Woodward, OK - Dewey, OK","OK: Harper County (40059)","19153"]
[421,"Sebastian (Fort Smith), AR - Crawford, AR","OK: Haskell County (40061)","19159"]
[478,"Pontotoc, OK - Seminole, OK","OK: Hughes County (40063)","19175"]
[483,"Jackson, OK - Greer, OK","OK: Jackson County (40065)","19181"]
[497,"Stephens, OK - Jefferson, OK","OK: Jefferson County (40067)","27005"]
[474,"Carter, OK - Marshall, OK","OK: Johnston County (40069)","27027"]
[515,"Kay (Ponca City), OK - Osage, OK","OK: Kay County (40071)","27087"]
[429,"Garfield (Enid), OK - Kingfisher, OK","OK: Kingfisher County (40073)","27107"]
[493,"Comanche (Lawton), OK - Kiowa, OK","OK: Kiowa County (40075)","27167"]
[466,"Pittsburg, OK - Pushmataha, OK","OK: Latimer County (40077)","38003"]
[421,"Sebastian (Fort Smith), AR - Crawford, AR","OK: Le Flore County (40079)","38017"]
[417,"Oklahoma (Oklahoma City), OK - Canadian, OK","OK: Lincoln County (40081)","38039"]
[417,"Oklahoma (Oklahoma City), OK - Canadian, OK","OK: Logan County (40083)","38073"]
[474,"Carter, OK - Marshall, OK","OK: Love County (40085)","38077"]
[429,"Garfield (Enid), OK - Kingfisher, OK","OK: Major County (40093)","38081"]
[474,"Carter, OK - Marshall, OK","OK: Marshall County (40095)","38091"]
[414,"Tulsa (Tulsa), OK - Rogers, OK","OK: Mayes County (40097)","38097"]
[430,"Cleveland (Norman), OK - McClain, OK","OK: McClain County (40087)","29025"]
[404,"Bowie (Texarkana), TX - Miller, AR","OK: McCurtain County (40089)","29037"]
[445,"Muskogee, OK - Wagoner, OK","OK: McIntosh County (40091)","29047"]
[430,"Cleveland (Norman), OK - McClain, OK","OK: Murray County (40099)","29049"]
[445,"Muskogee, OK - Wagoner, OK","OK: Muskogee County (40101)","29061"]
[472,"Payne, OK - Pawnee, OK","OK: Noble County (40103)","29095"]
[451,"Washington, OK - Montgomery, KS","OK: Nowata County (40105)","29101"]
[529,"Okmulgee, OK - Okfuskee, OK","OK: Okfuskee County (40107)","29107"]
[417,"Oklahoma (Oklahoma City), OK - Canadian, OK","OK: Oklahoma County (40109)","29165"]
[529,"Okmulgee, OK - Okfuskee, OK","OK: Okmulgee County (40111)","29177"]
[515,"Kay (Ponca City), OK - Osage, OK","OK: Osage County (40113)","29009"]
[414,"Tulsa (Tulsa), OK - Rogers, OK","OK: Ottawa County (40115)","29043"]
[472,"Payne, OK - Pawnee, OK","OK: Pawnee County (40117)","29057"]
[472,"Payne, OK - Pawnee, OK","OK: Payne County (40119)","29059"]
[466,"Pittsburg, OK - Pushmataha, OK","OK: Pittsburg County (40121)","29067"]
[478,"Pontotoc, OK - Seminole, OK","OK: Pontotoc County (40123)","29077"]
[417,"Oklahoma (Oklahoma City), OK - Canadian, OK","OK: Pottawatomie County (40125)","29085"]
[466,"Pittsburg, OK - Pushmataha, OK","OK: Pushmataha County (40127)","29105"]
[440,"Beckham, OK - Roger Mills, OK","OK: Roger Mills County (40129)","29109"]
[414,"Tulsa (Tulsa), OK - Rogers, OK","OK: Rogers County (40131)","29153"]
[478,"Pontotoc, OK - Seminole, OK","OK: Seminole County (40133)","29167"]
[421,"Sebastian (Fort Smith), AR - Crawford, AR","OK: Sequoyah County (40135)","29209"]
[497,"Stephens, OK - Jefferson, OK","OK: Stephens County (40137)","29215"]
[587,"Seward, KS - Texas, OK","OK: Texas County (40139)","29225"]
[493,"Comanche (Lawton), OK - Kiowa, OK","OK: Tillman County (40141)","29229"]
[414,"Tulsa (Tulsa), OK - Rogers, OK","OK: Tulsa County (40143)","38009"]
[445,"Muskogee, OK - Wagoner, OK","OK: Wagoner County (40145)","38013"]
[451,"Washington, OK - Montgomery, KS","OK: Washington County (40147)","38049"]
[475,"Custer, OK - Washita, OK","OK: Washita County (40149)","38061"]
[429,"Garfield (Enid), OK - Kingfisher, OK","OK: Woods County (40151)","38075"]
[469,"Woodward, OK - Dewey, OK","OK: Woodward County (40153)","38101"]
[759,"Union, OR - Baker, OR","OR: Baker County (41001)","20025"]
[727,"Linn, OR - Benton, OR","OR: Benton County (41003)","20057"]
[689,"Multnomah (Portland), OR - Washington, OR","OR: Clackamas County (41005)","20069"]
[689,"Multnomah (Portland), OR - Washington, OR","OR: Clatsop County (41007)","20083"]
[689,"Multnomah (Portland), OR - Washington, OR","OR: Columbia County (41009)","20119"]
[738,"Coos, OR - Del Norte, CA","OR: Coos County (41011)","19089"]
[719,"Deschutes, OR - Crook, OR","OR: Crook County (41013)","27039"]
[738,"Coos, OR - Del Norte, CA","OR: Curry County (41015)","27045"]
[719,"Deschutes, OR - Crook, OR","OR: Deschutes County (41017)","27099"]
[782,"Lane (Eugene), OR - Douglas, OR","OR: Douglas County (41019)","27109"]
[748,"Wasco, OR - Hood River, OR","OR: Gilliam County (41021)","27147"]
[806,"Grant, OR","OR: Grant County (41023)","27157"]
[719,"Deschutes, OR - Crook, OR","OR: Harney County (41025)","27169"]
[748,"Wasco, OR - Hood River, OR","OR: Hood River County (41027)","29019"]
[752,"Jackson (Medford), OR - Josephine, OR","OR: Jackson County (41029)","29041"]
[719,"Deschutes, OR - Crook, OR","OR: Jefferson County (41031)","29053"]
[752,"Jackson (Medford), OR - Josephine, OR","OR: Josephine County (41033)","29089"]
[743,"Klamath, OR - Lake, OR","OR: Klamath County (41035)","29121"]
[743,"Klamath, OR - Lake, OR","OR: Lake County (41037)","29175"]
[782,"Lane (Eugene), OR - Douglas, OR","OR: Lane County (41039)","29205"]
[783,"Lincoln, OR - Tillamook, OR","OR: Lincoln County (41041)","20013"]
[727,"Linn, OR - Benton, OR","OR: Linn County (41043)","20085"]
[729,"Malheur, OR - Payette, ID","OR: Malheur County (41045)","20087"]
[705,"Marion (Salem), OR - Yamhill, OR","OR: Marion County (41047)","20131"]
[717,"Umatilla, OR - Walla Walla, WA","OR: Morrow County (41049)","20139"]
[689,"Multnomah (Portland), OR - Washington, OR","OR: Multnomah County (41051)","20149"]
[705,"Marion (Salem), OR - Yamhill, OR","OR: Polk County (41053)","20161"]
[748,"Wasco, OR - Hood River, OR","OR: Sherman County (41055)","20177"]
[783,"Lincoln, OR - Tillamook, OR","OR: Tillamook County (41057)","20197"]
[717,"Umatilla, OR - Walla Walla, WA","OR: Umatilla County (41059)","31077"]
[759,"Union, OR - Baker, OR","OR: Union County (41061)","31079"]
[759,"Union, OR - Baker, OR","OR: Wallowa County (41063)","31081"]
[748,"Wasco, OR - Hood River, OR","OR: Wasco County (41065)","31093"]
[689,"Multnomah (Portland), OR - Washington, OR","OR: Washington County (41067)","31121"]
[719,"Deschutes, OR - Crook, OR","OR: Wheeler County (41069)","19033"]
[705,"Marion (Salem), OR - Yamhill, OR","OR: Yamhill County (41071)","19069"]
[48,"York (York), PA - Frederick, MD","PA: Adams County (42001)","19081"]
[42,"Allegheny (Pittsburgh), PA - Westmoreland, PA","PA: Allegheny County (42003)","19109"]
[42,"Allegheny (Pittsburgh), PA - Westmoreland, PA","PA: Armstrong County (42005)","19189"]
[42,"Allegheny (Pittsburgh), PA - Westmoreland, PA","PA: Beaver County (42007)","19195"]
[57,"Cambria, PA - Blair (Altoona), PA","PA: Bedford County (42009)","19013"]
[139,"Berks, PA","PA: Berks County (42011)","19017"]
[57,"Cambria, PA - Blair (Altoona), PA","PA: Blair County (42013)","19019"]
[19,"Broome (Binghamton), NY - Bradford, PA","PA: Bradford County (42015)","19023"]
[28,"Philadelphia (Philadelphia), PA - Montgomery, PA","PA: Bucks County (42017)","19065"]
[42,"Allegheny (Pittsburgh), PA - Westmoreland, PA","PA: Butler County (42019)","19075"]
[57,"Cambria, PA - Blair (Altoona), PA","PA: Cambria County (42021)","46019"]
[35,"Cattaraugus, NY - Allegany, NY","PA: Cameron County (42023)","46033"]
[84,"Lehigh (Allentown), PA - Northampton, PA","PA: Carbon County (42025)","46047"]
[26,"Centre (State College), PA - Clearfield, PA","PA: Centre County (42027)","46071"]
[28,"Philadelphia (Philadelphia), PA - Montgomery, PA","PA: Chester County (42029)","46093"]
[52,"Venango, PA - Clarion, PA","PA: Clarion County (42031)","46103"]
[26,"Centre (State College), PA - Clearfield, PA","PA: Clearfield County (42033)","31017"]
[44,"Lycoming (Williamsport), PA - Clinton, PA","PA: Clinton County (42035)","31089"]
[78,"Luzerne (Wilkes-Barre), PA - Columbia, PA","PA: Columbia County (42037)","31103"]
[117,"Crawford, PA","PA: Crawford County (42039)","31149"]
[43,"Dauphin (Harrisburg), PA - Cumberland, PA","PA: Cumberland County (42041)","19021"]
[43,"Dauphin (Harrisburg), PA - Cumberland, PA","PA: Dauphin County (42043)","19035"]
[28,"Philadelphia (Philadelphia), PA - Montgomery, PA","PA: Delaware County (42045)","19093"]
[125,"Elk, PA","PA: Elk County (42047)","19133"]
[106,"Erie (Erie), PA - Chautauqua, NY","PA: Erie County (42049)","19149"]
[100,"Washington, PA - Fayette, PA","PA: Fayette County (42051)","19193"]
[52,"Venango, PA - Clarion, PA","PA: Forest County (42053)","31043"]
[72,"Washington (Hagerstown), MD - Franklin, PA","PA: Franklin County (42055)","31051"]
[72,"Washington (Hagerstown), MD - Franklin, PA","PA: Fulton County (42057)","31173"]
[100,"Washington, PA - Fayette, PA","PA: Greene County (42059)","31023"]
[110,"Mifflin, PA - Huntingdon, PA","PA: Huntingdon County (42061)","31067"]
[42,"Allegheny (Pittsburgh), PA - Westmoreland, PA","PA: Indiana County (42063)","31095"]
[26,"Centre (State College), PA - Clearfield, PA","PA: Jefferson County (42065)","31109"]
[110,"Mifflin, PA - Huntingdon, PA","PA: Juniata County (42067)","31151"]
[47,"Lackawanna (Scranton), PA - Wayne, PA","PA: Lackawanna County (42069)","31159"]
[140,"Lancaster, PA","PA: Lancaster County (42071)","08009"]
[129,"Lawrence, PA","PA: Lawrence County (42073)","20067"]
[43,"Dauphin (Harrisburg), PA - Cumberland, PA","PA: Lebanon County (42075)","20187"]
[84,"Lehigh (Allentown), PA - Northampton, PA","PA: Lehigh County (42077)","17003"]
[78,"Luzerne (Wilkes-Barre), PA - Columbia, PA","PA: Luzerne County (42079)","17153"]
[44,"Lycoming (Williamsport), PA - Clinton, PA","PA: Lycoming County (42081)","17181"]
[35,"Cattaraugus, NY - Allegany, NY","PA: Mc Kean County (42083)","29017"]
[345,"Mahoning (Youngstown), OH - Trumbull, OH","PA: Mercer County (42085)","29023"]
[110,"Mifflin, PA - Huntingdon, PA","PA: Mifflin County (42087)","29031"]
[84,"Lehigh (Allentown), PA - Northampton, PA","PA: Monroe County (42089)","29035"]
[28,"Philadelphia (Philadelphia), PA - Montgomery, PA","PA: Montgomery County (42091)","29133"]
[8,"Schuylkill, PA - Northumberland, PA","PA: Montour County (42093)","29143"]
[84,"Lehigh (Allentown), PA - Northampton, PA","PA: Northampton County (42095)","29157"]
[8,"Schuylkill, PA - Northumberland, PA","PA: Northumberland County (42097)","29181"]
[43,"Dauphin (Harrisburg), PA - Cumberland, PA","PA: Perry County (42099)","29201"]
[28,"Philadelphia (Philadelphia), PA - Montgomery, PA","PA: Philadelphia County (42101)","29207"]
[86,"Orange (Newburgh), NY - Sullivan, NY","PA: Pike County (42103)","29223"]
[35,"Cattaraugus, NY - Allegany, NY","PA: Potter County (42105)","31001"]
[8,"Schuylkill, PA - Northumberland, PA","PA: Schuylkill County (42107)","31035"]
[8,"Schuylkill, PA - Northumberland, PA","PA: Snyder County (42109)","31129"]
[57,"Cambria, PA - Blair (Altoona), PA","PA: Somerset County (42111)","31181"]
[19,"Broome (Binghamton), NY - Bradford, PA","PA: Sullivan County (42113)","20051"]
[19,"Broome (Binghamton), NY - Bradford, PA","PA: Susquehanna County (42115)","20063"]
[128,"Tioga, PA","PA: Tioga County (42117)","20065"]
[8,"Schuylkill, PA - Northumberland, PA","PA: Union County (42119)","20109"]
[52,"Venango, PA - Clarion, PA","PA: Venango County (42121)","20163"]
[106,"Erie (Erie), PA - Chautauqua, NY","PA: Warren County (42123)","20195"]
[100,"Washington, PA - Fayette, PA","PA: Washington County (42125)","29001"]
[47,"Lackawanna (Scranton), PA - Wayne, PA","PA: Wayne County (42127)","29103"]
[42,"Allegheny (Pittsburgh), PA - Westmoreland, PA","PA: Westmoreland County (42129)","29171"]
[78,"Luzerne (Wilkes-Barre), PA - Columbia, PA","PA: Wyoming County (42131)","29197"]
[48,"York (York), PA - Frederick, MD","PA: York County (42133)","29199"]
[20,"Providence (Providence), RI - New London, CT","RI: Bristol County (44001)","29211"]
[20,"Providence (Providence), RI - New London, CT","RI: Kent County (44003)","20017"]
[68,"Bristol (New Bedford), MA - Newport, RI","RI: Newport County (44005)","20031"]
[20,"Providence (Providence), RI - New London, CT","RI: Providence County (44007)","20073"]
[20,"Providence (Providence), RI - New London, CT","RI: Washington County (44009)","20111"]
[187,"Laurens, SC - Greenwood, SC","SC: Abbeville County (45001)","46025"]
[152,"Richmond (South Augusta), GA - Aiken, SC","SC: Aiken County (45003)","46029"]
[176,"Orangeburg, SC - Bamberg, SC","SC: Allendale County (45005)","46039"]
[182,"Greenville (Greenville), SC - Anderson, SC","SC: Anderson County (45007)","46051"]
[176,"Orangeburg, SC - Bamberg, SC","SC: Bamberg County (45009)","46057"]
[152,"Richmond (South Augusta), GA - Aiken, SC","SC: Barnwell County (45011)","20053"]
[143,"Chatham (Savannah), GA - Beaufort, SC","SC: Beaufort County (45013)","20105"]
[212,"Charleston (Charleston), SC - Berkeley, SC","SC: Berkeley County (45015)","20143"]
[176,"Orangeburg, SC - Bamberg, SC","SC: Calhoun County (45017)","20169"]
[212,"Charleston (Charleston), SC - Berkeley, SC","SC: Charleston County (45019)","31019"]
[191,"Spartanburg (Spartanburg), SC - Cherokee, SC","SC: Cherokee County (45021)","31047"]
[244,"York (Rock Hill), SC - Chester, SC","SC: Chester County (45023)","31061"]
[184,"Florence (Florence), SC - Darlington, SC","SC: Chesterfield County (45025)","31063"]
[196,"Sumter, SC - Clarendon, SC","SC: Clarendon County (45027)","31073"]
[212,"Charleston (Charleston), SC - Berkeley, SC","SC: Colleton County (45029)","31099"]
[184,"Florence (Florence), SC - Darlington, SC","SC: Darlington County (45031)","31163"]
[199,"Marion, SC - Dillon, SC","SC: Dillon County (45033)","05021"]
[212,"Charleston (Charleston), SC - Berkeley, SC","SC: Dorchester County (45035)","05031"]
[152,"Richmond (South Augusta), GA - Aiken, SC","SC: Edgefield County (45037)","05055"]
[160,"Richland (Columbia), SC - Lexington, SC","SC: Fairfield County (45039)","05075"]
[184,"Florence (Florence), SC - Darlington, SC","SC: Florence County (45041)","05111"]
[246,"Horry, SC - Georgetown, SC","SC: Georgetown County (45043)","05121"]
[182,"Greenville (Greenville), SC - Anderson, SC","SC: Greenville County (45045)","29069"]
[187,"Laurens, SC - Greenwood, SC","SC: Greenwood County (45047)","46013"]
[212,"Charleston (Charleston), SC - Berkeley, SC","SC: Hampton County (45049)","46037"]
[246,"Horry, SC - Georgetown, SC","SC: Horry County (45051)","46045"]
[143,"Chatham (Savannah), GA - Beaufort, SC","SC: Jasper County (45053)","46049"]
[249,"Lancaster, SC - Kershaw, SC","SC: Kershaw County (45055)","46091"]
[249,"Lancaster, SC - Kershaw, SC","SC: Lancaster County (45057)","46089"]
[187,"Laurens, SC - Greenwood, SC","SC: Laurens County (45059)","46115"]
[196,"Sumter, SC - Clarendon, SC","SC: Lee County (45061)","27013"]
[160,"Richland (Columbia), SC - Lexington, SC","SC: Lexington County (45063)","27103"]
[199,"Marion, SC - Dillon, SC","SC: Marion County (45067)","27161"]
[184,"Florence (Florence), SC - Darlington, SC","SC: Marlboro County (45069)","27165"]
[187,"Laurens, SC - Greenwood, SC","SC: McCormick County (45065)","05049"]
[160,"Richland (Columbia), SC - Lexington, SC","SC: Newberry County (45071)","05063"]
[182,"Greenville (Greenville), SC - Anderson, SC","SC: Oconee County (45073)","05065"]
[176,"Orangeburg, SC - Bamberg, SC","SC: Orangeburg County (45075)","05135"]
[182,"Greenville (Greenville), SC - Anderson, SC","SC: Pickens County (45077)","05137"]
[160,"Richland (Columbia), SC - Lexington, SC","SC: Richland County (45079)","29091"]
[187,"Laurens, SC - Greenwood, SC","SC: Saluda County (45081)","29149"]
[191,"Spartanburg (Spartanburg), SC - Cherokee, SC","SC: Spartanburg County (45083)","29203"]
[196,"Sumter, SC - Clarendon, SC","SC: Sumter County (45085)","20055"]
[191,"Spartanburg (Spartanburg), SC - Cherokee, SC","SC: Union County (45087)","20075"]
[184,"Florence (Florence), SC - Darlington, SC","SC: Williamsburg County (45089)","20081"]
[244,"York (Rock Hill), SC - Chester, SC","SC: York County (45091)","20093"]
[615,"Davison, SD - Charles Mix, SD","SD: Aurora County (46003)","20101"]
[600,"Beadle, SD - Hand, SD","SD: Beadle County (46005)","20171"]
[623,"Shannon, SD - Dawes, NE","SD: Bennett County (46007)","20015"]
[578,"Yankton, SD - Clay, SD","SD: Bon Homme County (46009)","20035"]
[610,"Brookings, SD - Kingsbury, SD","SD: Brookings County (46011)","20079"]
[572,"Brown, SD - Spink, SD","SD: Brown County (46013)","20115"]
[615,"Davison, SD - Charles Mix, SD","SD: Brule County (46015)","20173"]
[615,"Davison, SD - Charles Mix, SD","SD: Buffalo County (46017)","20191"]
[558,"Pennington (Rapid City), SD - Meade, SD","SD: Butte County (46019)","31003"]
[648,"Dewey, SD - Walworth, SD","SD: Campbell County (46021)","31119"]
[615,"Davison, SD - Charles Mix, SD","SD: Charles Mix County (46023)","31139"]
[568,"Codington, SD - Grant, SD","SD: Clark County (46025)","31167"]
[578,"Yankton, SD - Clay, SD","SD: Clay County (46027)","31179"]
[568,"Codington, SD - Grant, SD","SD: Codington County (46029)","31027"]
[648,"Dewey, SD - Walworth, SD","SD: Corson County (46031)","31107"]
[558,"Pennington (Rapid City), SD - Meade, SD","SD: Custer County (46033)","46009"]
[615,"Davison, SD - Charles Mix, SD","SD: Davison County (46035)","46027"]
[572,"Brown, SD - Spink, SD","SD: Day County (46037)","46067"]
[568,"Codington, SD - Grant, SD","SD: Deuel County (46039)","46135"]
[648,"Dewey, SD - Walworth, SD","SD: Dewey County (46041)","38023"]
[615,"Davison, SD - Charles Mix, SD","SD: Douglas County (46043)","38053"]
[572,"Brown, SD - Spink, SD","SD: Edmunds County (46045)","38105"]
[558,"Pennington (Rapid City), SD - Meade, SD","SD: Fall River County (46047)","31007"]
[572,"Brown, SD - Spink, SD","SD: Faulk County (46049)","31013"]
[568,"Codington, SD - Grant, SD","SD: Grant County (46051)","31069"]
[595,"Todd, SD - Tripp, SD","SD: Gregory County (46053)","31075"]
[629,"Hughes, SD - Stanley, SD","SD: Haakon County (46055)","31123"]
[568,"Codington, SD - Grant, SD","SD: Hamlin County (46057)","31157"]
[600,"Beadle, SD - Hand, SD","SD: Hand County (46059)","56015"]
[615,"Davison, SD - Charles Mix, SD","SD: Hanson County (46061)","56027"]
[640,"Perkins, SD - Bowman, ND","SD: Harding County (46063)","29027"]
[629,"Hughes, SD - Stanley, SD","SD: Hughes County (46065)","29051"]
[578,"Yankton, SD - Clay, SD","SD: Hutchinson County (46067)","29055"]
[600,"Beadle, SD - Hand, SD","SD: Hyde County (46069)","29073"]
[558,"Pennington (Rapid City), SD - Meade, SD","SD: Jackson County (46071)","29125"]
[600,"Beadle, SD - Hand, SD","SD: Jerauld County (46073)","29131"]
[629,"Hughes, SD - Stanley, SD","SD: Jones County (46075)","29135"]
[610,"Brookings, SD - Kingsbury, SD","SD: Kingsbury County (46077)","29151"]
[544,"Minnehaha (Sioux Falls), SD - Lincoln, SD","SD: Lake County (46079)","27051"]
[586,"Campbell, WY - Lawrence, SD","SD: Lawrence County (46081)","27111"]
[544,"Minnehaha (Sioux Falls), SD - Lincoln, SD","SD: Lincoln County (46083)","20009"]
[615,"Davison, SD - Charles Mix, SD","SD: Lyman County (46085)","20047"]
[572,"Brown, SD - Spink, SD","SD: Marshall County (46091)","20145"]
[544,"Minnehaha (Sioux Falls), SD - Lincoln, SD","SD: McCook County (46087)","20165"]
[572,"Brown, SD - Spink, SD","SD: McPherson County (46089)","27119"]
[558,"Pennington (Rapid City), SD - Meade, SD","SD: Meade County (46093)","38019"]
[595,"Todd, SD - Tripp, SD","SD: Mellette County (46095)","38035"]
[544,"Minnehaha (Sioux Falls), SD - Lincoln, SD","SD: Miner County (46097)","38063"]
[544,"Minnehaha (Sioux Falls), SD - Lincoln, SD","SD: Minnehaha County (46099)","38067"]
[544,"Minnehaha (Sioux Falls), SD - Lincoln, SD","SD: Moody County (46101)","38099"]
[558,"Pennington (Rapid City), SD - Meade, SD","SD: Pennington County (46103)","19091"]
[640,"Perkins, SD - Bowman, ND","SD: Perkins County (46105)","19151"]
[648,"Dewey, SD - Walworth, SD","SD: Potter County (46107)","19187"]
[590,"Roberts, SD - Big Stone, MN","SD: Roberts County (46109)","46081"]
[615,"Davison, SD - Charles Mix, SD","SD: Sanborn County (46111)","56005"]
[623,"Shannon, SD - Dawes, NE","SD: Shannon County (46113)","56011"]
[572,"Brown, SD - Spink, SD","SD: Spink County (46115)","20129"]
[629,"Hughes, SD - Stanley, SD","SD: Stanley County (46117)","20175"]
[629,"Hughes, SD - Stanley, SD","SD: Sully County (46119)","40025"]
[595,"Todd, SD - Tripp, SD","SD: Todd County (46121)","40139"]
[595,"Todd, SD - Tripp, SD","SD: Tripp County (46123)","27009"]
[544,"Minnehaha (Sioux Falls), SD - Lincoln, SD","SD: Turner County (46125)","27093"]
[544,"Minnehaha (Sioux Falls), SD - Lincoln, SD","SD: Union County (46127)","27097"]
[648,"Dewey, SD - Walworth, SD","SD: Walworth County (46129)","27145"]
[578,"Yankton, SD - Clay, SD","SD: Yankton County (46135)","27153"]
[629,"Hughes, SD - Stanley, SD","SD: Ziebach County (46137)","19101"]
[226,"Anderson (Oak Ridge), TN - Roane, TN","TN: Anderson County (47001)","19107"]
[260,"Bedford, TN","TN: Bedford County (47003)","19123"]
[115,"Calloway, KY - Henry, TN","TN: Benton County (47005)","19135"]
[223,"Cumberland, TN - Fentress, TN","TN: Bledsoe County (47007)","19177"]
[147,"Knox (Knoxville), TN - Blount, TN","TN: Blount County (47009)","19179"]
[173,"Bradley, TN - Gilmer, GA","TN: Bradley County (47011)","27011"]
[226,"Anderson (Oak Ridge), TN - Roane, TN","TN: Campbell County (47013)","27155"]
[211,"Rutherford (Murfreesboro), TN - Warren, TN","TN: Cannon County (47015)","46109"]
[115,"Calloway, KY - Henry, TN","TN: Carroll County (47017)","20043"]
[169,"Washington (Johnson City), TN - Carter, TN","TN: Carter County (47019)","29003"]
[148,"Davidson (Nashville-Davidson), TN - Williamson, TN","TN: Cheatham County (47021)","29021"]
[188,"Madison (Jackson), TN - Gibson, TN","TN: Chester County (47023)","29063"]
[96,"Harlan, KY - Bell, KY","TN: Claiborne County (47025)","29075"]
[215,"Putnam, TN - White, TN","TN: Clay County (47027)","29081"]
[252,"Greene, TN - Cocke, TN","TN: Cocke County (47029)","29147"]
[239,"Coffee, TN - Franklin, TN","TN: Coffee County (47031)","29227"]
[188,"Madison (Jackson), TN - Gibson, TN","TN: Crockett County (47033)","27023"]
[223,"Cumberland, TN - Fentress, TN","TN: Cumberland County (47035)","27067"]
[148,"Davidson (Nashville-Davidson), TN - Williamson, TN","TN: Davidson County (47037)","27073"]
[188,"Madison (Jackson), TN - Gibson, TN","TN: Decatur County (47039)","27151"]
[211,"Rutherford (Murfreesboro), TN - Warren, TN","TN: DeKalb County (47041)","27173"]
[148,"Davidson (Nashville-Davidson), TN - Williamson, TN","TN: Dickson County (47043)","31005"]
[248,"Dyer, TN - Lauderdale, TN","TN: Dyer County (47045)","31091"]
[146,"Shelby (Memphis), TN - DeSoto, MS","TN: Fayette County (47047)","31101"]
[223,"Cumberland, TN - Fentress, TN","TN: Fentress County (47049)","31111"]
[239,"Coffee, TN - Franklin, TN","TN: Franklin County (47051)","31117"]
[188,"Madison (Jackson), TN - Gibson, TN","TN: Gibson County (47053)","31135"]
[208,"Maury, TN - Giles, TN","TN: Giles County (47055)","31009"]
[217,"Hamblen (Morristown), TN - Jefferson, TN","TN: Grainger County (47057)","31041"]
[252,"Greene, TN - Cocke, TN","TN: Greene County (47059)","31071"]
[239,"Coffee, TN - Franklin, TN","TN: Grundy County (47061)","31113"]
[217,"Hamblen (Morristown), TN - Jefferson, TN","TN: Hamblen County (47063)","31115"]
[141,"Hamilton (Chattanooga), TN - Walker, GA","TN: Hamilton County (47065)","31171"]
[217,"Hamblen (Morristown), TN - Jefferson, TN","TN: Hancock County (47067)","31175"]
[188,"Madison (Jackson), TN - Gibson, TN","TN: Hardeman County (47069)","31183"]
[245,"Hardin, TN - McNairy, TN","TN: Hardin County (47071)","31015"]
[151,"Sullivan (Kingsport), TN - Hawkins, TN","TN: Hawkins County (47073)","46053"]
[188,"Madison (Jackson), TN - Gibson, TN","TN: Haywood County (47075)","46095"]
[188,"Madison (Jackson), TN - Gibson, TN","TN: Henderson County (47077)","46121"]
[115,"Calloway, KY - Henry, TN","TN: Henry County (47079)","46123"]
[148,"Davidson (Nashville-Davidson), TN - Williamson, TN","TN: Hickman County (47081)","19009"]
[234,"Montgomery (Clarksville), TN - Stewart, TN","TN: Houston County (47083)","19029"]
[148,"Davidson (Nashville-Davidson), TN - Williamson, TN","TN: Humphreys County (47085)","19085"]
[215,"Putnam, TN - White, TN","TN: Jackson County (47087)","19129"]
[217,"Hamblen (Morristown), TN - Jefferson, TN","TN: Jefferson County (47089)","19155"]
[194,"Watauga, NC - Ashe, NC","TN: Johnson County (47091)","19165"]
[147,"Knox (Knoxville), TN - Blount, TN","TN: Knox County (47093)","27007"]
[248,"Dyer, TN - Lauderdale, TN","TN: Lake County (47095)","27029"]
[248,"Dyer, TN - Lauderdale, TN","TN: Lauderdale County (47097)","20155"]
[232,"Lawrence, TN - Wayne, TN","TN: Lawrence County (47099)","20159"]
[208,"Maury, TN - Giles, TN","TN: Lewis County (47101)","20185"]
[210,"Madison (Huntsville), AL - Limestone, AL","TN: Lincoln County (47103)","29113"]
[147,"Knox (Knoxville), TN - Blount, TN","TN: Loudon County (47105)","29183"]
[231,"Sumner (Hendersonville), TN - Wilson, TN","TN: Macon County (47111)","29219"]
[188,"Madison (Jackson), TN - Gibson, TN","TN: Madison County (47113)","46005"]
[141,"Hamilton (Chattanooga), TN - Walker, GA","TN: Marion County (47115)","46059"]
[208,"Maury, TN - Giles, TN","TN: Marshall County (47117)","46069"]
[208,"Maury, TN - Giles, TN","TN: Maury County (47119)","46073"]
[147,"Knox (Knoxville), TN - Blount, TN","TN: McMinn County (47107)","20001"]
[245,"Hardin, TN - McNairy, TN","TN: McNairy County (47109)","20099"]
[147,"Knox (Knoxville), TN - Blount, TN","TN: Meigs County (47121)","20133"]
[147,"Knox (Knoxville), TN - Blount, TN","TN: Monroe County (47123)","20207"]
[234,"Montgomery (Clarksville), TN - Stewart, TN","TN: Montgomery County (47125)","27015"]
[239,"Coffee, TN - Franklin, TN","TN: Moore County (47127)","27127"]
[226,"Anderson (Oak Ridge), TN - Roane, TN","TN: Morgan County (47129)","27129"]
[181,"Weakley, TN - Obion, TN","TN: Obion County (47131)","27059"]
[215,"Putnam, TN - White, TN","TN: Overton County (47133)","27065"]
[232,"Lawrence, TN - Wayne, TN","TN: Perry County (47135)","27095"]
[215,"Putnam, TN - White, TN","TN: Pickett County (47137)","27069"]
[173,"Bradley, TN - Gilmer, GA","TN: Polk County (47139)","27089"]
[215,"Putnam, TN - White, TN","TN: Putnam County (47141)","27113"]
[226,"Anderson (Oak Ridge), TN - Roane, TN","TN: Rhea County (47143)","27125"]
[226,"Anderson (Oak Ridge), TN - Roane, TN","TN: Roane County (47145)","38007"]
[148,"Davidson (Nashville-Davidson), TN - Williamson, TN","TN: Robertson County (47147)","38025"]
[211,"Rutherford (Murfreesboro), TN - Warren, TN","TN: Rutherford County (47149)","38033"]
[263,"Scott, TN","TN: Scott County (47151)","38089"]
[141,"Hamilton (Chattanooga), TN - Walker, GA","TN: Sequatchie County (47153)","19015"]
[147,"Knox (Knoxville), TN - Blount, TN","TN: Sevier County (47155)","19079"]
[146,"Shelby (Memphis), TN - DeSoto, MS","TN: Shelby County (47157)","19083"]
[231,"Sumner (Hendersonville), TN - Wilson, TN","TN: Smith County (47159)","19169"]
[234,"Montgomery (Clarksville), TN - Stewart, TN","TN: Stewart County (47161)","19197"]
[151,"Sullivan (Kingsport), TN - Hawkins, TN","TN: Sullivan County (47163)","29013"]
[231,"Sumner (Hendersonville), TN - Wilson, TN","TN: Sumner County (47165)","29083"]
[146,"Shelby (Memphis), TN - DeSoto, MS","TN: Tipton County (47167)","29185"]
[231,"Sumner (Hendersonville), TN - Wilson, TN","TN: Trousdale County (47169)","27041"]
[169,"Washington (Johnson City), TN - Carter, TN","TN: Unicoi County (47171)","27121"]
[147,"Knox (Knoxville), TN - Blount, TN","TN: Union County (47173)","27149"]
[211,"Rutherford (Murfreesboro), TN - Warren, TN","TN: Van Buren County (47175)","27081"]
[211,"Rutherford (Murfreesboro), TN - Warren, TN","TN: Warren County (47177)","27083"]
[169,"Washington (Johnson City), TN - Carter, TN","TN: Washington County (47179)","46011"]
[232,"Lawrence, TN - Wayne, TN","TN: Wayne County (47181)","46077"]
[181,"Weakley, TN - Obion, TN","TN: Weakley County (47183)","31143"]
[215,"Putnam, TN - White, TN","TN: White County (47185)","31185"]
[148,"Davidson (Nashville-Davidson), TN - Williamson, TN","TN: Williamson County (47187)","27001"]
[231,"Sumner (Hendersonville), TN - Wilson, TN","TN: Wilson County (47189)","27021"]
[509,"Anderson, TX - Cherokee, TX","TX: Anderson County (48001)","27035"]
[508,"Lea, NM - Gaines, TX","TX: Andrews County (48003)","27057"]
[449,"Angelina, TX - Walker, TX","TX: Angelina County (48005)","27159"]
[437,"Nueces (Corpus Christi), TX - San Patricio, TX","TX: Aransas County (48007)","20039"]
[420,"Wichita (Wichita Falls), TX - Montague, TX","TX: Archer County (48009)","20179"]
[405,"Potter (Amarillo), TX - Randall, TX","TX: Armstrong County (48011)","31087"]
[410,"Bexar (San Antonio), TX - Guadalupe, TX","TX: Atascosa County (48013)","31145"]
[408,"Harris (Houston), TX - Fort Bend, TX","TX: Austin County (48015)","05093"]
[406,"Lubbock (Lubbock), TX - Hockley, TX","TX: Bailey County (48017)","29155"]
[410,"Bexar (San Antonio), TX - Guadalupe, TX","TX: Bandera County (48019)","46003"]
[425,"Travis (Austin), TX - Williamson, TX","TX: Bastrop County (48021)","46015"]
[420,"Wichita (Wichita Falls), TX - Montague, TX","TX: Baylor County (48023)","46017"]
[513,"Bee, TX - Karnes, TX","TX: Bee County (48025)","46023"]
[452,"Bell (Killeen), TX - Coryell, TX","TX: Bell County (48027)","46035"]
[410,"Bexar (San Antonio), TX - Guadalupe, TX","TX: Bexar County (48029)","46043"]
[506,"Kerr, TX - Gillespie, TX","TX: Blanco County (48031)","46061"]
[406,"Lubbock (Lubbock), TX - Hockley, TX","TX: Borden County (48033)","46085"]
[462,"McLennan (Waco), TX - Hill, TX","TX: Bosque County (48035)","46111"]
[404,"Bowie (Texarkana), TX - Miller, AR","TX: Bowie County (48037)","31065"]
[505,"Brazoria (Lake Jackson), TX - Wharton, TX","TX: Brazoria County (48039)","31083"]
[464,"Brazos (Bryan), TX - Washington, TX","TX: Brazos County (48041)","31137"]
[526,"Brewster, TX - Presidio, TX","TX: Brewster County (48043)","19073"]
[405,"Potter (Amarillo), TX - Randall, TX","TX: Briscoe County (48045)","19077"]
[437,"Nueces (Corpus Christi), TX - San Patricio, TX","TX: Brooks County (48047)","20033"]
[468,"Brown, TX - Coleman, TX","TX: Brown County (48049)","20097"]
[464,"Brazos (Bryan), TX - Washington, TX","TX: Burleson County (48051)","20151"]
[425,"Travis (Austin), TX - Williamson, TX","TX: Burnet County (48053)","27033"]
[510,"Hays (San Marcos), TX - Caldwell, TX","TX: Caldwell County (48055)","27063"]
[433,"Victoria (Victoria), TX - Calhoun, TX","TX: Calhoun County (48057)","27101"]
[428,"Taylor (Abilene), TX - Jones, TX","TX: Callahan County (48059)","27105"]
[520,"Cameron (Brownsville), TX - Willacy, TX","TX: Cameron County (48061)","20103"]
[465,"Titus, TX - Morris, TX","TX: Camp County (48063)","20209"]
[405,"Potter (Amarillo), TX - Randall, TX","TX: Carson County (48065)","20089"]
[485,"Harrison (Marshall), TX - Cass, TX","TX: Cass County (48067)","20123"]
[481,"Hale, TX - Castro, TX","TX: Castro County (48069)","20141"]
[408,"Harris (Houston), TX - Fort Bend, TX","TX: Chambers County (48071)","31045"]
[509,"Anderson, TX - Cherokee, TX","TX: Cherokee County (48073)","31161"]
[512,"Childress, TX - Hall, TX","TX: Childress County (48075)","31165"]
[420,"Wichita (Wichita Falls), TX - Montague, TX","TX: Clay County (48077)","46007"]
[406,"Lubbock (Lubbock), TX - Hockley, TX","TX: Cochran County (48079)","46113"]
[426,"Tom Green (San Angelo), TX - Runnels, TX","TX: Coke County (48081)","20003"]
[468,"Brown, TX - Coleman, TX","TX: Coleman County (48083)","20045"]
[453,"Dallas (Dallas), TX - Collin, TX","TX: Collin County (48085)","20059"]
[524,"Collingsworth, TX","TX: Collingsworth County (48087)","20091"]
[490,"Fayette, TX - Colorado, TX","TX: Colorado County (48089)","20121"]
[517,"Comal, TX","TX: Comal County (48091)","19041"]
[507,"Erath, TX - Comanche, TX","TX: Comanche County (48093)","19059"]
[426,"Tom Green (San Angelo), TX - Runnels, TX","TX: Concho County (48095)","19147"]
[495,"Denton (Denton), TX - Wise, TX","TX: Cooke County (48097)","19063"]
[452,"Bell (Killeen), TX - Coryell, TX","TX: Coryell County (48099)","27091"]
[512,"Childress, TX - Hall, TX","TX: Cottle County (48101)","29065"]
[444,"Ector (Odessa), TX - Reeves, TX","TX: Crane County (48103)","29161"]
[426,"Tom Green (San Angelo), TX - Runnels, TX","TX: Crockett County (48105)","29169"]
[406,"Lubbock (Lubbock), TX - Hockley, TX","TX: Crosby County (48107)","29179"]
[415,"El Paso (El Paso), TX - Hudspeth, TX","TX: Culberson County (48109)","31133"]
[405,"Potter (Amarillo), TX - Randall, TX","TX: Dallam County (48111)","31147"]
[453,"Dallas (Dallas), TX - Collin, TX","TX: Dallas County (48113)","46055"]
[406,"Lubbock (Lubbock), TX - Hockley, TX","TX: Dawson County (48115)","46065"]
[491,"Deaf Smith, TX - Parmer, TX","TX: Deaf Smith County (48117)","46075"]
[438,"Lamar, TX - Choctaw, OK","TX: Delta County (48119)","46117"]
[495,"Denton (Denton), TX - Wise, TX","TX: Denton County (48121)","46119"]
[433,"Victoria (Victoria), TX - Calhoun, TX","TX: DeWitt County (48123)","46137"]
[406,"Lubbock (Lubbock), TX - Hockley, TX","TX: Dickens County (48125)","20011"]
[531,"Dimmit, TX","TX: Dimmit County (48127)","20037"]
[405,"Potter (Amarillo), TX - Randall, TX","TX: Donley County (48129)","20107"]
[437,"Nueces (Corpus Christi), TX - San Patricio, TX","TX: Duval County (48131)","27077"]
[428,"Taylor (Abilene), TX - Jones, TX","TX: Eastland County (48133)","27135"]
[444,"Ector (Odessa), TX - Reeves, TX","TX: Ector County (48135)","38031"]
[506,"Kerr, TX - Gillespie, TX","TX: Edwards County (48137)","38093"]
[415,"El Paso (El Paso), TX - Hudspeth, TX","TX: El Paso County (48141)","38103"]
[453,"Dallas (Dallas), TX - Collin, TX","TX: Ellis County (48139)","19025"]
[507,"Erath, TX - Comanche, TX","TX: Erath County (48143)","19027"]
[462,"McLennan (Waco), TX - Hill, TX","TX: Falls County (48145)","19161"]
[436,"Grayson (Sherman), TX - Bryan, OK","TX: Fannin County (48147)","19037"]
[490,"Fayette, TX - Colorado, TX","TX: Fayette County (48149)","19067"]
[503,"Nolan, TX - Mitchell, TX","TX: Fisher County (48151)","20117"]
[481,"Hale, TX - Castro, TX","TX: Floyd County (48153)","20201"]
[458,"Wilbarger, TX - Hardeman, TX","TX: Foard County (48155)","20023"]
[408,"Harris (Houston), TX - Fort Bend, TX","TX: Fort Bend County (48157)","20153"]
[465,"Titus, TX - Morris, TX","TX: Franklin County (48159)","20137"]
[489,"Navarro, TX - Freestone, TX","TX: Freestone County (48161)","20147"]
[410,"Bexar (San Antonio), TX - Guadalupe, TX","TX: Frio County (48163)","20183"]
[508,"Lea, NM - Gaines, TX","TX: Gaines County (48165)","38069"]
[532,"Galveston, TX","TX: Galveston County (48167)","38079"]
[406,"Lubbock (Lubbock), TX - Hockley, TX","TX: Garza County (48169)","38095"]
[506,"Kerr, TX - Gillespie, TX","TX: Gillespie County (48171)","29039"]
[518,"Howard, TX - Glasscock, TX","TX: Glasscock County (48173)","29217"]
[433,"Victoria (Victoria), TX - Calhoun, TX","TX: Goliad County (48175)","38001"]
[410,"Bexar (San Antonio), TX - Guadalupe, TX","TX: Gonzales County (48177)","38011"]
[460,"Gray, TX - Wheeler, TX","TX: Gray County (48179)","38041"]
[436,"Grayson (Sherman), TX - Bryan, OK","TX: Grayson County (48181)","38087"]
[454,"Gregg (Longview), TX - Rusk, TX","TX: Gregg County (48183)","46063"]
[464,"Brazos (Bryan), TX - Washington, TX","TX: Grimes County (48185)","46105"]
[410,"Bexar (San Antonio), TX - Guadalupe, TX","TX: Guadalupe County (48187)","19139"]
[481,"Hale, TX - Castro, TX","TX: Hale County (48189)","19163"]
[512,"Childress, TX - Hall, TX","TX: Hall County (48191)","20029"]
[462,"McLennan (Waco), TX - Hill, TX","TX: Hamilton County (48193)","20157"]
[405,"Potter (Amarillo), TX - Randall, TX","TX: Hansford County (48195)","20071"]
[458,"Wilbarger, TX - Hardeman, TX","TX: Hardeman County (48197)","20203"]
[413,"Jefferson (Beaumont), TX - Orange, TX","TX: Hardin County (48199)","19071"]
[408,"Harris (Houston), TX - Fort Bend, TX","TX: Harris County (48201)","19145"]
[485,"Harrison (Marshall), TX - Cass, TX","TX: Harrison County (48203)","19173"]
[405,"Potter (Amarillo), TX - Randall, TX","TX: Hartley County (48205)","19117"]
[428,"Taylor (Abilene), TX - Jones, TX","TX: Haskell County (48207)","19185"]
[510,"Hays (San Marcos), TX - Caldwell, TX","TX: Hays County (48209)","27043"]
[460,"Gray, TX - Wheeler, TX","TX: Hemphill County (48211)","27047"]
[441,"Smith (Tyler), TX - Henderson, TX","TX: Henderson County (48213)","19003"]
[427,"Hidalgo (Mcallen), TX - Starr, TX","TX: Hidalgo County (48215)","19137"]
[462,"McLennan (Waco), TX - Hill, TX","TX: Hill County (48217)","46021"]
[406,"Lubbock (Lubbock), TX - Hockley, TX","TX: Hockley County (48219)","46031"]
[434,"Tarrant (Fort Worth), TX - Johnson, TX","TX: Hood County (48221)","46041"]
[453,"Dallas (Dallas), TX - Collin, TX","TX: Hopkins County (48223)","46107"]
[509,"Anderson, TX - Cherokee, TX","TX: Houston County (48225)","46129"]
[518,"Howard, TX - Glasscock, TX","TX: Howard County (48227)","19007"]
[415,"El Paso (El Paso), TX - Hudspeth, TX","TX: Hudspeth County (48229)","19051"]
[453,"Dallas (Dallas), TX - Collin, TX","TX: Hunt County (48231)","20041"]
[405,"Potter (Amarillo), TX - Randall, TX","TX: Hutchinson County (48233)","20061"]
[426,"Tom Green (San Angelo), TX - Runnels, TX","TX: Irion County (48235)","20127"]
[479,"Palo Pinto, TX - Jack, TX","TX: Jack County (48237)","31011"]
[433,"Victoria (Victoria), TX - Calhoun, TX","TX: Jackson County (48239)","31125"]
[413,"Jefferson (Beaumont), TX - Orange, TX","TX: Jasper County (48241)","31141"]
[526,"Brewster, TX - Presidio, TX","TX: Jeff Davis County (48243)","19141"]
[413,"Jefferson (Beaumont), TX - Orange, TX","TX: Jefferson County (48245)","19143"]
[538,"Webb (Laredo), TX - Zapata, TX","TX: Jim Hogg County (48247)","31029"]
[437,"Nueces (Corpus Christi), TX - San Patricio, TX","TX: Jim Wells County (48249)","31057"]
[434,"Tarrant (Fort Worth), TX - Johnson, TX","TX: Johnson County (48251)","31085"]
[428,"Taylor (Abilene), TX - Jones, TX","TX: Jones County (48253)","38005"]
[513,"Bee, TX - Karnes, TX","TX: Karnes County (48255)","38027"]
[453,"Dallas (Dallas), TX - Collin, TX","TX: Kaufman County (48257)","38071"]
[410,"Bexar (San Antonio), TX - Guadalupe, TX","TX: Kendall County (48259)","29015"]
[437,"Nueces (Corpus Christi), TX - San Patricio, TX","TX: Kenedy County (48261)","29141"]
[428,"Taylor (Abilene), TX - Jones, TX","TX: Kent County (48263)","29159"]
[506,"Kerr, TX - Gillespie, TX","TX: Kerr County (48265)","29195"]
[506,"Kerr, TX - Gillespie, TX","TX: Kimble County (48267)","29033"]
[406,"Lubbock (Lubbock), TX - Hockley, TX","TX: King County (48269)","29117"]
[516,"Maverick, TX - Val Verde, TX","TX: Kinney County (48271)","31059"]
[437,"Nueces (Corpus Christi), TX - San Patricio, TX","TX: Kleberg County (48273)","31169"]
[420,"Wichita (Wichita Falls), TX - Montague, TX","TX: Knox County (48275)","20181"]
[410,"Bexar (San Antonio), TX - Guadalupe, TX","TX: La Salle County (48283)","20193"]
[438,"Lamar, TX - Choctaw, OK","TX: Lamar County (48277)","20199"]
[406,"Lubbock (Lubbock), TX - Hockley, TX","TX: Lamb County (48279)","31097"]
[452,"Bell (Killeen), TX - Coryell, TX","TX: Lampasas County (48281)","31131"]
[433,"Victoria (Victoria), TX - Calhoun, TX","TX: Lavaca County (48285)","20077"]
[425,"Travis (Austin), TX - Williamson, TX","TX: Lee County (48287)","20095"]
[501,"Leon, TX - Madison, TX","TX: Leon County (48289)","20027"]
[408,"Harris (Houston), TX - Fort Bend, TX","TX: Liberty County (48291)","29123"]
[462,"McLennan (Waco), TX - Hill, TX","TX: Limestone County (48293)","20189"]
[469,"Woodward, OK - Dewey, OK","TX: Lipscomb County (48295)","19131"]
[437,"Nueces (Corpus Christi), TX - San Patricio, TX","TX: Live Oak County (48297)","29007"]
[425,"Travis (Austin), TX - Williamson, TX","TX: Llano County (48299)","29137"]
[415,"El Paso (El Paso), TX - Hudspeth, TX","TX: Loving County (48301)","29139"]
[406,"Lubbock (Lubbock), TX - Hockley, TX","TX: Lubbock County (48303)","20167"]
[406,"Lubbock (Lubbock), TX - Hockley, TX","TX: Lynn County (48305)","31031"]
[501,"Leon, TX - Madison, TX","TX: Madison County (48313)","20007"]
[485,"Harrison (Marshall), TX - Cass, TX","TX: Marion County (48315)","38037"]
[492,"Midland (Midland), TX - Pecos, TX","TX: Martin County (48317)","20005"]
[506,"Kerr, TX - Gillespie, TX","TX: Mason County (48319)","19167"]
[505,"Brazoria (Lake Jackson), TX - Wharton, TX","TX: Matagorda County (48321)","29115"]
[516,"Maverick, TX - Val Verde, TX","TX: Maverick County (48323)","20113"]
[426,"Tom Green (San Angelo), TX - Runnels, TX","TX: McCulloch County (48307)","20205"]
[462,"McLennan (Waco), TX - Hill, TX","TX: McLennan County (48309)","29213"]
[410,"Bexar (San Antonio), TX - Guadalupe, TX","TX: McMullen County (48311)","29005"]
[410,"Bexar (San Antonio), TX - Guadalupe, TX","TX: Medina County (48325)","29087"]
[426,"Tom Green (San Angelo), TX - Runnels, TX","TX: Menard County (48327)","19127"]
[492,"Midland (Midland), TX - Pecos, TX","TX: Midland County (48329)","19171"]
[452,"Bell (Killeen), TX - Coryell, TX","TX: Milam County (48331)","38021"]
[468,"Brown, TX - Coleman, TX","TX: Mills County (48333)","38045"]
[503,"Nolan, TX - Mitchell, TX","TX: Mitchell County (48335)","19047"]
[420,"Wichita (Wichita Falls), TX - Montague, TX","TX: Montague County (48337)","20135"]
[408,"Harris (Houston), TX - Fort Bend, TX","TX: Montgomery County (48339)","29079"]
[405,"Potter (Amarillo), TX - Randall, TX","TX: Moore County (48341)","29129"]
[465,"Titus, TX - Morris, TX","TX: Morris County (48343)","38047"]
[406,"Lubbock (Lubbock), TX - Hockley, TX","TX: Motley County (48345)","38051"]
[447,"Nacogdoches, TX - Shelby, TX","TX: Nacogdoches County (48347)","29029"]
[489,"Navarro, TX - Freestone, TX","TX: Navarro County (48349)","19157"]
[413,"Jefferson (Beaumont), TX - Orange, TX","TX: Newton County (48351)","31127"]
[503,"Nolan, TX - Mitchell, TX","TX: Nolan County (48353)","08911"]
[437,"Nueces (Corpus Christi), TX - San Patricio, TX","TX: Nueces County (48355)","08001"]
[405,"Potter (Amarillo), TX - Randall, TX","TX: Ochiltree County (48357)","08005"]
[405,"Potter (Amarillo), TX - Randall, TX","TX: Oldham County (48359)","08019"]
[413,"Jefferson (Beaumont), TX - Orange, TX","TX: Orange County (48361)","08031"]
[479,"Palo Pinto, TX - Jack, TX","TX: Palo Pinto County (48363)","08035"]
[454,"Gregg (Longview), TX - Rusk, TX","TX: Panola County (48365)","08039"]
[434,"Tarrant (Fort Worth), TX - Johnson, TX","TX: Parker County (48367)","08047"]
[491,"Deaf Smith, TX - Parmer, TX","TX: Parmer County (48369)","08049"]
[492,"Midland (Midland), TX - Pecos, TX","TX: Pecos County (48371)","08913"]
[449,"Angelina, TX - Walker, TX","TX: Polk County (48373)","08059"]
[405,"Potter (Amarillo), TX - Randall, TX","TX: Potter County (48375)","08093"]
[526,"Brewster, TX - Presidio, TX","TX: Presidio County (48377)","08117"]
[453,"Dallas (Dallas), TX - Collin, TX","TX: Rains County (48379)","41005"]
[405,"Potter (Amarillo), TX - Randall, TX","TX: Randall County (48381)","41007"]
[426,"Tom Green (San Angelo), TX - Runnels, TX","TX: Reagan County (48383)","41009"]
[506,"Kerr, TX - Gillespie, TX","TX: Real County (48385)","41051"]
[438,"Lamar, TX - Choctaw, OK","TX: Red River County (48387)","41067"]
[444,"Ector (Odessa), TX - Reeves, TX","TX: Reeves County (48389)","53011"]
[433,"Victoria (Victoria), TX - Calhoun, TX","TX: Refugio County (48391)","53015"]
[460,"Gray, TX - Wheeler, TX","TX: Roberts County (48393)","53069"]
[464,"Brazos (Bryan), TX - Washington, TX","TX: Robertson County (48395)","06011"]
[453,"Dallas (Dallas), TX - Collin, TX","TX: Rockwall County (48397)","06101"]
[426,"Tom Green (San Angelo), TX - Runnels, TX","TX: Runnels County (48399)","06115"]
[454,"Gregg (Longview), TX - Rusk, TX","TX: Rusk County (48401)","30003"]
[447,"Nacogdoches, TX - Shelby, TX","TX: Sabine County (48403)","30009"]
[447,"Nacogdoches, TX - Shelby, TX","TX: San Augustine County (48405)","30037"]
[408,"Harris (Houston), TX - Fort Bend, TX","TX: San Jacinto County (48407)","30065"]
[437,"Nueces (Corpus Christi), TX - San Patricio, TX","TX: San Patricio County (48409)","30087"]
[468,"Brown, TX - Coleman, TX","TX: San Saba County (48411)","30095"]
[426,"Tom Green (San Angelo), TX - Runnels, TX","TX: Schleicher County (48413)","30103"]
[519,"Scurry, TX","TX: Scurry County (48415)","30111"]
[428,"Taylor (Abilene), TX - Jones, TX","TX: Shackelford County (48417)","30013"]
[447,"Nacogdoches, TX - Shelby, TX","TX: Shelby County (48419)","30015"]
[405,"Potter (Amarillo), TX - Randall, TX","TX: Sherman County (48421)","30035"]
[441,"Smith (Tyler), TX - Henderson, TX","TX: Smith County (48423)","30045"]
[434,"Tarrant (Fort Worth), TX - Johnson, TX","TX: Somervell County (48425)","30073"]
[427,"Hidalgo (Mcallen), TX - Starr, TX","TX: Starr County (48427)","30099"]
[428,"Taylor (Abilene), TX - Jones, TX","TX: Stephens County (48429)","30101"]
[426,"Tom Green (San Angelo), TX - Runnels, TX","TX: Sterling County (48431)","35001"]
[428,"Taylor (Abilene), TX - Jones, TX","TX: Stonewall County (48433)","35006"]
[426,"Tom Green (San Angelo), TX - Runnels, TX","TX: Sutton County (48435)","35910"]
[405,"Potter (Amarillo), TX - Randall, TX","TX: Swisher County (48437)","35043"]
[434,"Tarrant (Fort Worth), TX - Johnson, TX","TX: Tarrant County (48439)","35053"]
[428,"Taylor (Abilene), TX - Jones, TX","TX: Taylor County (48441)","35057"]
[492,"Midland (Midland), TX - Pecos, TX","TX: Terrell County (48443)","35061"]
[514,"Terry, TX - Yoakum, TX","TX: Terry County (48445)","16035"]
[420,"Wichita (Wichita Falls), TX - Montague, TX","TX: Throckmorton County (48447)","16049"]
[465,"Titus, TX - Morris, TX","TX: Titus County (48449)","16061"]
[426,"Tom Green (San Angelo), TX - Runnels, TX","TX: Tom Green County (48451)","16069"]
[425,"Travis (Austin), TX - Williamson, TX","TX: Travis County (48453)","53003"]
[449,"Angelina, TX - Walker, TX","TX: Trinity County (48455)","53023"]
[413,"Jefferson (Beaumont), TX - Orange, TX","TX: Tyler County (48457)","16047"]
[454,"Gregg (Longview), TX - Rusk, TX","TX: Upshur County (48459)","16053"]
[492,"Midland (Midland), TX - Pecos, TX","TX: Upton County (48461)","16063"]
[536,"Uvalde, TX","TX: Uvalde County (48463)","16083"]
[516,"Maverick, TX - Val Verde, TX","TX: Val Verde County (48465)","16005"]
[441,"Smith (Tyler), TX - Henderson, TX","TX: Van Zandt County (48467)","16011"]
[433,"Victoria (Victoria), TX - Calhoun, TX","TX: Victoria County (48469)","16029"]
[449,"Angelina, TX - Walker, TX","TX: Walker County (48471)","16071"]
[408,"Harris (Houston), TX - Fort Bend, TX","TX: Waller County (48473)","16077"]
[444,"Ector (Odessa), TX - Reeves, TX","TX: Ward County (48475)","06007"]
[464,"Brazos (Bryan), TX - Washington, TX","TX: Washington County (48477)","06021"]
[538,"Webb (Laredo), TX - Zapata, TX","TX: Webb County (48479)","06103"]
[505,"Brazoria (Lake Jackson), TX - Wharton, TX","TX: Wharton County (48481)","53001"]
[460,"Gray, TX - Wheeler, TX","TX: Wheeler County (48483)","53019"]
[420,"Wichita (Wichita Falls), TX - Montague, TX","TX: Wichita County (48485)","53043"]
[458,"Wilbarger, TX - Hardeman, TX","TX: Wilbarger County (48487)","53051"]
[520,"Cameron (Brownsville), TX - Willacy, TX","TX: Willacy County (48489)","53063"]
[425,"Travis (Austin), TX - Williamson, TX","TX: Williamson County (48491)","53065"]
[410,"Bexar (San Antonio), TX - Guadalupe, TX","TX: Wilson County (48493)","04005"]
[444,"Ector (Odessa), TX - Reeves, TX","TX: Winkler County (48495)","04007"]
[495,"Denton (Denton), TX - Wise, TX","TX: Wise County (48497)","04013"]
[441,"Smith (Tyler), TX - Henderson, TX","TX: Wood County (48499)","04021"]
[514,"Terry, TX - Yoakum, TX","TX: Yoakum County (48501)","04025"]
[420,"Wichita (Wichita Falls), TX - Montague, TX","TX: Young County (48503)","04003"]
[538,"Webb (Laredo), TX - Zapata, TX","TX: Zapata County (48505)","04009"]
[410,"Bexar (San Antonio), TX - Guadalupe, TX","TX: Zavala County (48507)","04011"]
[755,"Iron, UT - Beaver, UT","UT: Beaver County (49001)","04019"]
[744,"Davis, UT - Weber (Ogden), UT","UT: Box Elder County (49003)","04023"]
[715,"Cache, UT - Franklin, ID","UT: Cache County (49005)","06003"]
[809,"Carbon, UT - Emery, UT","UT: Carbon County (49007)","32510"]
[799,"Sweetwater, WY - Daggett, UT","UT: Daggett County (49009)","32001"]
[744,"Davis, UT - Weber (Ogden), UT","UT: Davis County (49011)","32005"]
[708,"Salt Lake (Salt Lake City), UT - Tooele, UT","UT: Duchesne County (49013)","32013"]
[809,"Carbon, UT - Emery, UT","UT: Emery County (49015)","32019"]
[707,"Clark (Las Vegas), NV - Washington, UT","UT: Garfield County (49017)","32021"]
[711,"Mesa, CO - Garfield, CO","UT: Grand County (49019)","32027"]
[755,"Iron, UT - Beaver, UT","UT: Iron County (49021)","32029"]
[703,"Utah (Provo), UT - Sanpete, UT","UT: Juab County (49023)","32031"]
[707,"Clark (Las Vegas), NV - Washington, UT","UT: Kane County (49025)","53005"]
[703,"Utah (Provo), UT - Sanpete, UT","UT: Millard County (49027)","53021"]
[744,"Davis, UT - Weber (Ogden), UT","UT: Morgan County (49029)","49023"]
[707,"Clark (Las Vegas), NV - Washington, UT","UT: Piute County (49031)","49027"]
[744,"Davis, UT - Weber (Ogden), UT","UT: Rich County (49033)","49039"]
[708,"Salt Lake (Salt Lake City), UT - Tooele, UT","UT: Salt Lake County (49035)","49041"]
[740,"San Juan, NM - Navajo, AZ","UT: San Juan County (49037)","49049"]
[703,"Utah (Provo), UT - Sanpete, UT","UT: Sanpete County (49039)","49055"]
[703,"Utah (Provo), UT - Sanpete, UT","UT: Sevier County (49041)","08055"]
[708,"Salt Lake (Salt Lake City), UT - Tooele, UT","UT: Summit County (49043)","08071"]
[708,"Salt Lake (Salt Lake City), UT - Tooele, UT","UT: Tooele County (49045)","08101"]
[708,"Salt Lake (Salt Lake City), UT - Tooele, UT","UT: Uintah County (49047)","35007"]
[703,"Utah (Provo), UT - Sanpete, UT","UT: Utah County (49049)","41047"]
[708,"Salt Lake (Salt Lake City), UT - Tooele, UT","UT: Wasatch County (49051)","41053"]
[707,"Clark (Las Vegas), NV - Washington, UT","UT: Washington County (49053)","41071"]
[703,"Utah (Provo), UT - Sanpete, UT","UT: Wayne County (49055)","32003"]
[744,"Davis, UT - Weber (Ogden), UT","UT: Weber County (49057)","32009"]
[137,"Accomack, VA - Northampton, VA","VA: Accomack County (51001)","32017"]
[99,"Albemarle, VA - Charlottesville City, VA","VA: Albemarle County (51003)","32023"]
[69,"Fairfax, VA - Arlington, VA","VA: Alexandria City (51510) - 1980+","49017"]
[30,"Greenbrier, WV - Alleghany Cnty and Clifton Forge Cty, VA","VA: Alleghany Cnty and Clifton Forge Cty (51005) - 1980+","49025"]
[30,"Greenbrier, WV - Alleghany Cnty and Clifton Forge Cty, VA","VA: Alleghany/Clifton Forge/Covingto (51916) - 1969-1979","49031"]
[33,"Henrico (Richmond), VA - Chesterfield, VA","VA: Amelia County (51007)","49053"]
[14,"Roanoke City, VA - Roanoke, VA","VA: Amherst County (51009)","49013"]
[14,"Roanoke City, VA - Roanoke, VA","VA: Appomattox County (51011)","49035"]
[69,"Fairfax, VA - Arlington, VA","VA: Arling/Alexan/Fairfax/Falls Chur (51918) - 1969-1979","49043"]
[69,"Fairfax, VA - Arlington, VA","VA: Arlington County (51013) - 1980+","49045"]
[97,"Augusta, VA - Staunton City, VA","VA: Augusta County (51015)","49047"]
[30,"Greenbrier, WV - Alleghany Cnty and Clifton Forge Cty, VA","VA: Bath County (51017)","49051"]
[14,"Roanoke City, VA - Roanoke, VA","VA: Bedford City (51515) - 1980+","06017"]
[14,"Roanoke City, VA - Roanoke, VA","VA: Bedford City and County (51917) - 1969-1979","06061"]
[14,"Roanoke City, VA - Roanoke, VA","VA: Bedford County (51019) - 1980+","06067"]
[39,"Mercer, WV - Tazewell, VA","VA: Bland County (51021)","06113"]
[14,"Roanoke City, VA - Roanoke, VA","VA: Botetourt County (51023)","06049"]
[151,"Sullivan (Kingsport), TN - Hawkins, TN","VA: Bristol City (51520)","06089"]
[130,"Brunswick, VA - Greensville, VA","VA: Brunswick County (51025)","06105"]
[39,"Mercer, WV - Tazewell, VA","VA: Buchanan County (51027)","08037"]
[99,"Albemarle, VA - Charlottesville City, VA","VA: Buckingham County (51029)","08045"]
[97,"Augusta, VA - Staunton City, VA","VA: Buena Vista City (51530)","08077"]
[14,"Roanoke City, VA - Roanoke, VA","VA: Campbell County (51031)","08097"]
[135,"Stafford, VA - Spotsylvania, VA","VA: Caroline County (51033)","08103"]
[73,"Carroll, VA - Grayson, VA","VA: Carroll County (51035)","49019"]
[33,"Henrico (Richmond), VA - Chesterfield, VA","VA: Charles City County (51036)","30005"]
[33,"Henrico (Richmond), VA - Chesterfield, VA","VA: Charlotte County (51037)","30041"]
[99,"Albemarle, VA - Charlottesville City, VA","VA: Charlottesville City (51540)","30051"]
[6,"Virginia Beach City, VA - Norfolk City, VA","VA: Chesapeake City (51550)","30071"]
[33,"Henrico (Richmond), VA - Chesterfield, VA","VA: Chesterfield County (51041)","30039"]
[25,"Berkeley, WV - Frederick, VA","VA: Clarke County (51043)","30047"]
[33,"Henrico (Richmond), VA - Chesterfield, VA","VA: Colonial Heights City (51570)","30061"]
[30,"Greenbrier, WV - Alleghany Cnty and Clifton Forge Cty, VA","VA: Covington City (51580) - 1980+","30063"]
[14,"Roanoke City, VA - Roanoke, VA","VA: Craig County (51045)","30081"]
[99,"Albemarle, VA - Charlottesville City, VA","VA: Culpeper County (51047)","30089"]
[33,"Henrico (Richmond), VA - Chesterfield, VA","VA: Cumberland County (51049)","30011"]
[132,"Pittsylvania (Danville), VA - Danville City, VA","VA: Danville City (51590)","30017"]
[55,"Wise, VA - Lee, VA","VA: Dickenson County (51051)","30025"]
[77,"Petersburg City, VA - Prince George, VA","VA: Dinwiddie County (51053)","30033"]
[130,"Brunswick, VA - Greensville, VA","VA: Emporia City (51595)","30075"]
[33,"Henrico (Richmond), VA - Chesterfield, VA","VA: Essex County (51057)","30079"]
[69,"Fairfax, VA - Arlington, VA","VA: Fairfax City (51600) - 1980+","16007"]
[69,"Fairfax, VA - Arlington, VA","VA: Fairfax County (51059) - 1980+","16041"]
[69,"Fairfax, VA - Arlington, VA","VA: Falls Church City (51610) - 1980+","49005"]
[109,"Prince William (Dale City), VA - Fauquier, VA","VA: Fauquier County (51061)","16001"]
[14,"Roanoke City, VA - Roanoke, VA","VA: Floyd County (51063)","16015"]
[99,"Albemarle, VA - Charlottesville City, VA","VA: Fluvanna County (51065)","16027"]
[6,"Virginia Beach City, VA - Norfolk City, VA","VA: Franklin City (51620)","16039"]
[14,"Roanoke City, VA - Roanoke, VA","VA: Franklin County (51067)","16045"]
[25,"Berkeley, WV - Frederick, VA","VA: Frederick County (51069)","16073"]
[135,"Stafford, VA - Spotsylvania, VA","VA: Fredericksburg City (51630) - 1980+","16085"]
[73,"Carroll, VA - Grayson, VA","VA: Galax City (51640)","41049"]
[70,"Montgomery, VA - Pulaski, VA","VA: Giles County (51071)","41059"]
[5,"Newport News City, VA - Hampton City, VA","VA: Gloucester County (51073)","53013"]
[33,"Henrico (Richmond), VA - Chesterfield, VA","VA: Goochland County (51075)","53071"]
[73,"Carroll, VA - Grayson, VA","VA: Grayson County (51077)","06019"]
[99,"Albemarle, VA - Charlottesville City, VA","VA: Greene County (51079)","06031"]
[130,"Brunswick, VA - Greensville, VA","VA: Greensville County (51081)","06039"]
[71,"Halifax with South Boston City, VA - Mecklenburg, VA","VA: Halifax County with South Boston City (51083)","41013"]
[5,"Newport News City, VA - Hampton City, VA","VA: Hampton City (51650)","41017"]
[33,"Henrico (Richmond), VA - Chesterfield, VA","VA: Hanover County (51085)","41025"]
[63,"Rockingham, VA - Harrisonburg City, VA","VA: Harrisonburg City (51660) - 1980+","41031"]
[33,"Henrico (Richmond), VA - Chesterfield, VA","VA: Henrico County (51087)","41069"]
[79,"Henry, VA - Patrick, VA","VA: Henry County (51089) - 1980+","32007"]
[79,"Henry, VA - Patrick, VA","VA: Henry/Martinsville (51913) - 1969-1979","32011"]
[97,"Augusta, VA - Staunton City, VA","VA: Highland County (51091)","32015"]
[77,"Petersburg City, VA - Prince George, VA","VA: Hopewell City (51670)","30007"]
[6,"Virginia Beach City, VA - Norfolk City, VA","VA: Isle of Wight County (51093)","30043"]
[5,"Newport News City, VA - Hampton City, VA","VA: James City County (51095) - 1982+","30049"]
[5,"Newport News City, VA - Hampton City, VA","VA: James/York/Poquoson/Williamsburg (51911) - 1969-1981","16019"]
[33,"Henrico (Richmond), VA - Chesterfield, VA","VA: King and Queen County (51097)","16023"]
[135,"Stafford, VA - Spotsylvania, VA","VA: King George County (51099)","16033"]
[33,"Henrico (Richmond), VA - Chesterfield, VA","VA: King William County (51101)","16037"]
[33,"Henrico (Richmond), VA - Chesterfield, VA","VA: Lancaster County (51103)","16043"]
[55,"Wise, VA - Lee, VA","VA: Lee County (51105)","16051"]
[97,"Augusta, VA - Staunton City, VA","VA: Lexington City (51678)","16065"]
[69,"Fairfax, VA - Arlington, VA","VA: Loudoun County (51107)","16081"]
[99,"Albemarle, VA - Charlottesville City, VA","VA: Louisa County (51109)","06037"]
[71,"Halifax with South Boston City, VA - Mecklenburg, VA","VA: Lunenburg County (51111)","06059"]
[14,"Roanoke City, VA - Roanoke, VA","VA: Lynchburg City (51680)","35028"]
[99,"Albemarle, VA - Charlottesville City, VA","VA: Madison County (51113)","35039"]
[109,"Prince William (Dale City), VA - Fauquier, VA","VA: Manassas City (51683) - 1982+","35049"]
[109,"Prince William (Dale City), VA - Fauquier, VA","VA: Manassas Park City (51685) - 1982+","35055"]
[79,"Henry, VA - Patrick, VA","VA: Martinsville City (51690) - 1980+","35009"]
[5,"Newport News City, VA - Hampton City, VA","VA: Mathews County (51115)","35011"]
[71,"Halifax with South Boston City, VA - Mecklenburg, VA","VA: Mecklenburg County (51117)","35037"]
[33,"Henrico (Richmond), VA - Chesterfield, VA","VA: Middlesex County (51119)","35041"]
[70,"Montgomery, VA - Pulaski, VA","VA: Montgomery County (51121)","56009"]
[99,"Albemarle, VA - Charlottesville City, VA","VA: Nelson County (51125)","56025"]
[33,"Henrico (Richmond), VA - Chesterfield, VA","VA: New Kent County (51127)","41003"]
[5,"Newport News City, VA - Hampton City, VA","VA: Newport News City (51700)","41043"]
[6,"Virginia Beach City, VA - Norfolk City, VA","VA: Norfolk City (51710)","30029"]
[137,"Accomack, VA - Northampton, VA","VA: Northampton County (51131)","30053"]
[33,"Henrico (Richmond), VA - Chesterfield, VA","VA: Northumberland County (51133)","16003"]
[55,"Wise, VA - Lee, VA","VA: Norton City (51720)","16075"]
[33,"Henrico (Richmond), VA - Chesterfield, VA","VA: Nottoway County (51135)","16087"]
[99,"Albemarle, VA - Charlottesville City, VA","VA: Orange County (51137)","41045"]
[63,"Rockingham, VA - Harrisonburg City, VA","VA: Page County (51139)","16031"]
[79,"Henry, VA - Patrick, VA","VA: Patrick County (51141)","16067"]
[77,"Petersburg City, VA - Prince George, VA","VA: Petersburg City (51730)","08003"]
[132,"Pittsylvania (Danville), VA - Danville City, VA","VA: Pittsylvania County (51143)","08021"]
[5,"Newport News City, VA - Hampton City, VA","VA: Poquoson City (51735) - 1982+","08023"]
[6,"Virginia Beach City, VA - Norfolk City, VA","VA: Portsmouth City (51740)","08079"]
[33,"Henrico (Richmond), VA - Chesterfield, VA","VA: Powhatan County (51145)","08105"]
[33,"Henrico (Richmond), VA - Chesterfield, VA","VA: Prince Edward County (51147)","08109"]
[77,"Petersburg City, VA - Prince George, VA","VA: Prince George County (51149)","35013"]
[109,"Prince William (Dale City), VA - Fauquier, VA","VA: Prince William County (51153) - 1982+","35029"]
[109,"Prince William (Dale City), VA - Fauquier, VA","VA: Prince William/Manassas (51910) - 1969-1981","35051"]
[70,"Montgomery, VA - Pulaski, VA","VA: Pulaski County (51155)","30019"]
[70,"Montgomery, VA - Pulaski, VA","VA: Radford City (51750)","30091"]
[99,"Albemarle, VA - Charlottesville City, VA","VA: Rappahannock County (51157)","16009"]
[33,"Henrico (Richmond), VA - Chesterfield, VA","VA: Richmond City (51760)","16017"]
[33,"Henrico (Richmond), VA - Chesterfield, VA","VA: Richmond County (51159)","16021"]
[14,"Roanoke City, VA - Roanoke, VA","VA: Roanoke City (51770)","16055"]
[14,"Roanoke City, VA - Roanoke, VA","VA: Roanoke County (51161)","16079"]
[97,"Augusta, VA - Staunton City, VA","VA: Rockbridge County (51163)","08081"]
[63,"Rockingham, VA - Harrisonburg City, VA","VA: Rockingham County (51165) - 1980+","08107"]
[63,"Rockingham, VA - Harrisonburg City, VA","VA: Rockingham/Harrisonburg (51914) - 1969-1979","53029"]
[151,"Sullivan (Kingsport), TN - Hawkins, TN","VA: Russell County (51167)","53033"]
[14,"Roanoke City, VA - Roanoke, VA","VA: Salem City (51775)","53035"]
[151,"Sullivan (Kingsport), TN - Hawkins, TN","VA: Scott County (51169)","53055"]
[25,"Berkeley, WV - Frederick, VA","VA: Shenandoah County (51171)","53057"]
[151,"Sullivan (Kingsport), TN - Hawkins, TN","VA: Smyth County (51173)","53061"]
[6,"Virginia Beach City, VA - Norfolk City, VA","VA: Southampton County (51175)","06043"]
[135,"Stafford, VA - Spotsylvania, VA","VA: Spotsylva/Stafford/Fredericksbur (51915) - 1969-1979","06047"]
[135,"Stafford, VA - Spotsylvania, VA","VA: Spotsylvania County (51177) - 1980+","06099"]
[135,"Stafford, VA - Spotsylvania, VA","VA: Stafford County (51179) - 1980+","06109"]
[97,"Augusta, VA - Staunton City, VA","VA: Staunton City (51790)","06015"]
[6,"Virginia Beach City, VA - Norfolk City, VA","VA: Suffolk City (51800)","41011"]
[77,"Petersburg City, VA - Prince George, VA","VA: Surry County (51181)","41015"]
[77,"Petersburg City, VA - Prince George, VA","VA: Sussex County (51183)","53037"]
[39,"Mercer, WV - Tazewell, VA","VA: Tazewell County (51185)","53077"]
[6,"Virginia Beach City, VA - Norfolk City, VA","VA: Virginia Beach City (51810)","04017"]
[25,"Berkeley, WV - Frederick, VA","VA: Warren County (51187)","08007"]
[151,"Sullivan (Kingsport), TN - Hawkins, TN","VA: Washington County (51191)","08033"]
[97,"Augusta, VA - Staunton City, VA","VA: Waynesboro City (51820)","08067"]
[33,"Henrico (Richmond), VA - Chesterfield, VA","VA: Westmoreland County (51193)","08083"]
[5,"Newport News City, VA - Hampton City, VA","VA: Williamsburg City (51830) - 1982+","08111"]
[25,"Berkeley, WV - Frederick, VA","VA: Winchester City (51840)","35045"]
[55,"Wise, VA - Lee, VA","VA: Wise County (51195)","49037"]
[70,"Montgomery, VA - Pulaski, VA","VA: Wythe County (51197)","31033"]
[5,"Newport News City, VA - Hampton City, VA","VA: York County (51199) - 1982+","31049"]
[49,"Chittenden (Burlington), VT - Franklin, VT","VT: Addison County (50001)","31105"]
[10,"Albany (Albany), NY - Rensselaer, NY","VT: Bennington County (50003)","56021"]
[103,"Caledonia, VT - Orleans, VT","VT: Caledonia County (50005)","30001"]
[49,"Chittenden (Burlington), VT - Franklin, VT","VT: Chittenden County (50007)","30023"]
[138,"Coos, NH - Essex, VT","VT: Essex County (50009)","30093"]
[49,"Chittenden (Burlington), VT - Franklin, VT","VT: Franklin County (50011)","41035"]
[49,"Chittenden (Burlington), VT - Franklin, VT","VT: Grand Isle County (50013)","41037"]
[103,"Caledonia, VT - Orleans, VT","VT: Lamoille County (50015)","49003"]
[15,"Grafton, NH - Washington, VT","VT: Orange County (50017)","49011"]
[103,"Caledonia, VT - Orleans, VT","VT: Orleans County (50019)","49029"]
[122,"Rutland, VT","VT: Rutland County (50021)","49033"]
[15,"Grafton, NH - Washington, VT","VT: Washington County (50023)","49057"]
[90,"Cheshire, NH - Windham, VT","VT: Windham County (50025)","08011"]
[15,"Grafton, NH - Washington, VT","VT: Windsor County (50027)","08025"]
[698,"Spokane (Spokane), WA - Stevens, WA","WA: Adams County (53001)","08061"]
[694,"Nez Perce, ID - Asotin, WA","WA: Asotin County (53003)","08089"]
[702,"Benton (Kennewick), WA - Franklin, WA","WA: Benton County (53005)","08099"]
[747,"Grant, WA - Chelan, WA","WA: Chelan County (53007)","06033"]
[785,"Clallam, WA - Jefferson, WA","WA: Clallam County (53009)","06055"]
[689,"Multnomah (Portland), OR - Washington, OR","WA: Clark County (53011)","06095"]
[717,"Umatilla, OR - Walla Walla, WA","WA: Columbia County (53013)","53007"]
[689,"Multnomah (Portland), OR - Washington, OR","WA: Cowlitz County (53015)","53017"]
[747,"Grant, WA - Chelan, WA","WA: Douglas County (53017)","53025"]
[698,"Spokane (Spokane), WA - Stevens, WA","WA: Ferry County (53019)","53047"]
[702,"Benton (Kennewick), WA - Franklin, WA","WA: Franklin County (53021)","41021"]
[694,"Nez Perce, ID - Asotin, WA","WA: Garfield County (53023)","41027"]
[747,"Grant, WA - Chelan, WA","WA: Grant County (53025)","41055"]
[758,"Thurston (Olympia), WA - Lewis, WA","WA: Grays Harbor County (53027)","41065"]
[736,"King (Seattle), WA - Snohomish, WA","WA: Island County (53029)","53039"]
[785,"Clallam, WA - Jefferson, WA","WA: Jefferson County (53031)","53059"]
[736,"King (Seattle), WA - Snohomish, WA","WA: King County (53033)","56003"]
[736,"King (Seattle), WA - Snohomish, WA","WA: Kitsap County (53035)","56029"]
[739,"Yakima (Yakima), WA - Kittitas, WA","WA: Kittitas County (53037)","06005"]
[748,"Wasco, OR - Hood River, OR","WA: Klickitat County (53039)","06009"]
[758,"Thurston (Olympia), WA - Lewis, WA","WA: Lewis County (53041)","06077"]
[698,"Spokane (Spokane), WA - Stevens, WA","WA: Lincoln County (53043)","06053"]
[758,"Thurston (Olympia), WA - Lewis, WA","WA: Mason County (53045)","06069"]
[747,"Grant, WA - Chelan, WA","WA: Okanogan County (53047)","06085"]
[758,"Thurston (Olympia), WA - Lewis, WA","WA: Pacific County (53049)","06093"]
[698,"Spokane (Spokane), WA - Stevens, WA","WA: Pend Oreille County (53051)","41029"]
[794,"Pierce, WA","WA: Pierce County (53053)","41033"]
[736,"King (Seattle), WA - Snohomish, WA","WA: San Juan County (53055)","06057"]
[736,"King (Seattle), WA - Snohomish, WA","WA: Skagit County (53057)","06091"]
[748,"Wasco, OR - Hood River, OR","WA: Skamania County (53059)","08017"]
[736,"King (Seattle), WA - Snohomish, WA","WA: Snohomish County (53061)","08041"]
[698,"Spokane (Spokane), WA - Stevens, WA","WA: Spokane County (53063)","08063"]
[698,"Spokane (Spokane), WA - Stevens, WA","WA: Stevens County (53065)","08073"]
[758,"Thurston (Olympia), WA - Lewis, WA","WA: Thurston County (53067)","08119"]
[689,"Multnomah (Portland), OR - Washington, OR","WA: Wahkiakum County (53069)","49001"]
[717,"Umatilla, OR - Walla Walla, WA","WA: Walla Walla County (53071)","49021"]
[815,"Whatcom, WA","WA: Whatcom County (53073)","30067"]
[784,"Whitman, WA - Latah, ID","WA: Whitman County (53075)","30097"]
[739,"Yakima (Yakima), WA - Kittitas, WA","WA: Yakima County (53077)","06075"]
[391,"Juneau, WI - Adams, WI","WI: Adams County (55001)","06081"]
[357,"Ashland, WI - Sawyer, WI","WI: Ashland County (55003)","53027"]
[374,"Barron, WI - Rusk, WI","WI: Barron County (55005)","53041"]
[357,"Ashland, WI - Sawyer, WI","WI: Bayfield County (55007)","53045"]
[278,"Brown (Green Bay), WI - Oconto, WI","WI: Brown County (55009)","53049"]
[298,"Eau Claire (Eau Claire), WI - Chippewa, WI","WI: Buffalo County (55011)","53067"]
[314,"Washburn, WI - Burnett, WI","WI: Burnett County (55013)","41001"]
[355,"Sheboygan (Sheboygan), WI - Manitowoc, WI","WI: Calumet County (55015)","41061"]
[298,"Eau Claire (Eau Claire), WI - Chippewa, WI","WI: Chippewa County (55017)","41063"]
[282,"Marathon (Wausau), WI - Wood, WI","WI: Clark County (55019)","08087"]
[301,"Dane (Madison), WI - Sauk, WI","WI: Columbia County (55021)","08121"]
[350,"Clayton, IA - Delaware, IA","WI: Crawford County (55023)","08914"]
[301,"Dane (Madison), WI - Sauk, WI","WI: Dane County (55025)","08123"]
[306,"Winnebago (Oshkosh), WI - Fond du Lac, WI","WI: Dodge County (55027)","08125"]
[278,"Brown (Green Bay), WI - Oconto, WI","WI: Door County (55029)","08029"]
[289,"St. Louis (Duluth), MN - Itasca, MN","WI: Douglas County (55031)","08051"]
[298,"Eau Claire (Eau Claire), WI - Chippewa, WI","WI: Dunn County (55033)","08053"]
[298,"Eau Claire (Eau Claire), WI - Chippewa, WI","WI: Eau Claire County (55035)","08085"]
[315,"Marinette, WI - Dickinson, MI","WI: Florence County (55037)","08091"]
[306,"Winnebago (Oshkosh), WI - Fond du Lac, WI","WI: Fond du Lac County (55039)","08113"]
[284,"Oneida, WI - Vilas, WI","WI: Forest County (55041)","08075"]
[301,"Dane (Madison), WI - Sauk, WI","WI: Grant County (55043)","08095"]
[326,"Rock (Janesville), WI - Green, WI","WI: Green County (55045)","08115"]
[306,"Winnebago (Oshkosh), WI - Fond du Lac, WI","WI: Green Lake County (55047)","06041"]
[301,"Dane (Madison), WI - Sauk, WI","WI: Iowa County (55049)","06097"]
[284,"Oneida, WI - Vilas, WI","WI: Iron County (55051)","04001"]
[399,"Jackson, WI","WI: Jackson County (55053)","35031"]
[387,"Walworth, WI - Jefferson, WI","WI: Jefferson County (55055)","06001"]
[391,"Juneau, WI - Adams, WI","WI: Juneau County (55057)","06013"]
[382,"Racine (Racine), WI - Kenosha, WI","WI: Kenosha County (55059)","30021"]
[278,"Brown (Green Bay), WI - Oconto, WI","WI: Kewaunee County (55061)","30055"]
[290,"La Crosse (La Crosse), WI - Monroe, WI","WI: La Crosse County (55063)","30083"]
[326,"Rock (Janesville), WI - Green, WI","WI: Lafayette County (55065)","30109"]
[379,"Shawano, WI - Langlade, WI","WI: Langlade County (55067)","06065"]
[282,"Marathon (Wausau), WI - Wood, WI","WI: Lincoln County (55069)","06071"]
[355,"Sheboygan (Sheboygan), WI - Manitowoc, WI","WI: Manitowoc County (55071)","35027"]
[282,"Marathon (Wausau), WI - Wood, WI","WI: Marathon County (55073)","35035"]
[315,"Marinette, WI - Dickinson, MI","WI: Marinette County (55075)","56019"]
[301,"Dane (Madison), WI - Sauk, WI","WI: Marquette County (55077)","56033"]
[379,"Shawano, WI - Langlade, WI","WI: Menominee County (55078)","08057"]
[280,"Milwaukee (Milwaukee), WI - Waukesha, WI","WI: Milwaukee County (55079)","56001"]
[290,"La Crosse (La Crosse), WI - Monroe, WI","WI: Monroe County (55081)","56007"]
[278,"Brown (Green Bay), WI - Oconto, WI","WI: Oconto County (55083)","35005"]
[284,"Oneida, WI - Vilas, WI","WI: Oneida County (55085)","35015"]
[344,"Outagamie (Appleton), WI - Waupaca, WI","WI: Outagamie County (55087)","30031"]
[280,"Milwaukee (Milwaukee), WI - Waukesha, WI","WI: Ozaukee County (55089)","30057"]
[298,"Eau Claire (Eau Claire), WI - Chippewa, WI","WI: Pepin County (55091)","06025"]
[370,"St. Croix, WI - Goodhue, MN","WI: Pierce County (55093)","06073"]
[286,"Ramsey (St. Paul), MN - Dakota, MN","WI: Polk County (55095)","56023"]
[400,"Portage, WI","WI: Portage County (55097)","56035"]
[357,"Ashland, WI - Sawyer, WI","WI: Price County (55099)","56039"]
[382,"Racine (Racine), WI - Kenosha, WI","WI: Racine County (55101)","56013"]
[301,"Dane (Madison), WI - Sauk, WI","WI: Richland County (55103)","56017"]
[326,"Rock (Janesville), WI - Green, WI","WI: Rock County (55105)","56043"]
[374,"Barron, WI - Rusk, WI","WI: Rusk County (55107)","30059"]
[301,"Dane (Madison), WI - Sauk, WI","WI: Sauk County (55111)","30107"]
[357,"Ashland, WI - Sawyer, WI","WI: Sawyer County (55113)","30085"]
[379,"Shawano, WI - Langlade, WI","WI: Shawano County (55115)","30105"]
[355,"Sheboygan (Sheboygan), WI - Manitowoc, WI","WI: Sheboygan County (55117)","06035"]
[370,"St. Croix, WI - Goodhue, MN","WI: St. Croix County (55109)","06063"]
[282,"Marathon (Wausau), WI - Wood, WI","WI: Taylor County (55119)","06079"]
[290,"La Crosse (La Crosse), WI - Monroe, WI","WI: Trempealeau County (55121)","06083"]
[290,"La Crosse (La Crosse), WI - Monroe, WI","WI: Vernon County (55123)","41019"]
[284,"Oneida, WI - Vilas, WI","WI: Vilas County (55125)","41039"]
[387,"Walworth, WI - Jefferson, WI","WI: Walworth County (55127)","41041"]
[314,"Washburn, WI - Burnett, WI","WI: Washburn County (55129)","41057"]
[280,"Milwaukee (Milwaukee), WI - Waukesha, WI","WI: Washington County (55131)","16057"]
[280,"Milwaukee (Milwaukee), WI - Waukesha, WI","WI: Waukesha County (55133)","53075"]
[344,"Outagamie (Appleton), WI - Waupaca, WI","WI: Waupaca County (55135)","53009"]
[306,"Winnebago (Oshkosh), WI - Fond du Lac, WI","WI: Waushara County (55137)","53031"]
[306,"Winnebago (Oshkosh), WI - Fond du Lac, WI","WI: Winnebago County (55139)","08015"]
[282,"Marathon (Wausau), WI - Wood, WI","WI: Wood County (55141)","08065"]
[50,"Randolph, WV - Barbour, WV","WV: Barbour County (54001)","04012"]
[25,"Berkeley, WV - Frederick, VA","WV: Berkeley County (54003)","04910"]
[7,"Kanawha (Charleston), WV - Putnam, WV","WV: Boone County (54005)","04027"]
[92,"Harrison, WV - Upshur, WV","WV: Braxton County (54007)","30077"]
[380,"Columbiana, OH - Hancock (Weirton), WV","WV: Brooke County (54009)","06107"]
[46,"Cabell (Huntington), WV - Lawrence, OH","WV: Cabell County (54011)","06111"]
[34,"Wood (Parkersburg), WV - Washington, OH","WV: Calhoun County (54013)","56041"]
[7,"Kanawha (Charleston), WV - Putnam, WV","WV: Clay County (54015)","35003"]
[92,"Harrison, WV - Upshur, WV","WV: Doddridge County (54017)","35017"]
[60,"Raleigh, WV - Fayette, WV","WV: Fayette County (54019)","35023"]
[92,"Harrison, WV - Upshur, WV","WV: Gilmer County (54021)","53053"]
[1,"Allegany (Cumberland), MD - Garrett, MD","WV: Grant County (54023)","08912"]
[30,"Greenbrier, WV - Alleghany Cnty and Clifton Forge Cty, VA","WV: Greenbrier County (54025)","08013"]
[25,"Berkeley, WV - Frederick, VA","WV: Hampshire County (54027)","08014"]
[380,"Columbiana, OH - Hancock (Weirton), WV","WV: Hancock County (54029)","08069"]
[1,"Allegany (Cumberland), MD - Garrett, MD","WV: Hardy County (54031)","56031"]
[92,"Harrison, WV - Upshur, WV","WV: Harrison County (54033)","49009"]
[34,"Wood (Parkersburg), WV - Washington, OH","WV: Jackson County (54035)","56037"]
[25,"Berkeley, WV - Frederick, VA","WV: Jefferson County (54037)","06023"]
[7,"Kanawha (Charleston), WV - Putnam, WV","WV: Kanawha County (54039)","35019"]
[92,"Harrison, WV - Upshur, WV","WV: Lewis County (54041)","35021"]
[46,"Cabell (Huntington), WV - Lawrence, OH","WV: Lincoln County (54043)","35033"]
[13,"Pike, KY - Logan, WV","WV: Logan County (54045)","35047"]
[31,"Monongalia, WV - Marion, WV","WV: Marion County (54049)","06087"]
[24,"Belmont, OH - Ohio (Wheeling), WV","WV: Marshall County (54051)","04015"]
[283,"Jackson, OH - Gallia, OH","WV: Mason County (54053)","56045"]
[39,"Mercer, WV - Tazewell, VA","WV: McDowell County (54047)","32033"]
[39,"Mercer, WV - Tazewell, VA","WV: Mercer County (54055)","41023"]
[1,"Allegany (Cumberland), MD - Garrett, MD","WV: Mineral County (54057)","06029"]
[13,"Pike, KY - Logan, WV","WV: Mingo County (54059)","16013"]
[31,"Monongalia, WV - Marion, WV","WV: Monongalia County (54061)","16025"]
[30,"Greenbrier, WV - Alleghany Cnty and Clifton Forge Cty, VA","WV: Monroe County (54063)","49007"]
[25,"Berkeley, WV - Frederick, VA","WV: Morgan County (54065)","49015"]
[7,"Kanawha (Charleston), WV - Putnam, WV","WV: Nicholas County (54067)","30027"]
[24,"Belmont, OH - Ohio (Wheeling), WV","WV: Ohio County (54069)","30069"]
[63,"Rockingham, VA - Harrisonburg City, VA","WV: Pendleton County (54071)","06045"]
[34,"Wood (Parkersburg), WV - Washington, OH","WV: Pleasants County (54073)","08027"]
[50,"Randolph, WV - Barbour, WV","WV: Pocahontas County (54075)","08043"]
[31,"Monongalia, WV - Marion, WV","WV: Preston County (54077)","16059"]
[7,"Kanawha (Charleston), WV - Putnam, WV","WV: Putnam County (54079)","35059"]
[60,"Raleigh, WV - Fayette, WV","WV: Raleigh County (54081)","53073"]
[50,"Randolph, WV - Barbour, WV","WV: Randolph County (54083)","06027"]
[34,"Wood (Parkersburg), WV - Washington, OH","WV: Ritchie County (54085)","06051"]
[34,"Wood (Parkersburg), WV - Washington, OH","WV: Roane County (54087)","02130"]
[60,"Raleigh, WV - Fayette, WV","WV: Summers County (54089)","02201"]
[31,"Monongalia, WV - Marion, WV","WV: Taylor County (54091)","02280"]
[50,"Randolph, WV - Barbour, WV","WV: Tucker County (54093)","02100"]
[24,"Belmont, OH - Ohio (Wheeling), WV","WV: Tyler County (54095)","02110"]
[92,"Harrison, WV - Upshur, WV","WV: Upshur County (54097)","02220"]
[46,"Cabell (Huntington), WV - Lawrence, OH","WV: Wayne County (54099)","02232"]
[7,"Kanawha (Charleston), WV - Putnam, WV","WV: Webster County (54101)","02231"]
[24,"Belmont, OH - Ohio (Wheeling), WV","WV: Wetzel County (54103)","02282"]
[34,"Wood (Parkersburg), WV - Washington, OH","WV: Wirt County (54105)","02068"]
[34,"Wood (Parkersburg), WV - Washington, OH","WV: Wood County (54107)","02090"]
[60,"Raleigh, WV - Fayette, WV","WV: Wyoming County (54109)","02240"]
[771,"Albany, WY - Carbon, WY","WY: Albany County (56001)","02290"]
[749,"Park, WY - Big Horn, WY","WY: Big Horn County (56003)","02010"]
[586,"Campbell, WY - Lawrence, SD","WY: Campbell County (56005)","02013"]
[771,"Albany, WY - Carbon, WY","WY: Carbon County (56007)","02016"]
[726,"Natrona (Casper), WY - Converse, WY","WY: Converse County (56009)","02020"]
[586,"Campbell, WY - Lawrence, SD","WY: Crook County (56011)","02050"]
[777,"Fremont, WY - Washakie, WY","WY: Fremont County (56013)","02060"]
[580,"Scotts Bluff, NE - Goshen, WY","WY: Goshen County (56015)","02070"]
[777,"Fremont, WY - Washakie, WY","WY: Hot Springs County (56017)","02910"]
[770,"Sheridan, WY - Johnson, WY","WY: Johnson County (56019)","02122"]
[741,"Laramie (Cheyenne), WY - Cheyenne, NE","WY: Laramie County (56021)","02150"]
[775,"Teton, WY - Lincoln, WY","WY: Lincoln County (56023)","02164"]
[726,"Natrona (Casper), WY - Converse, WY","WY: Natrona County (56025)","02170"]
[580,"Scotts Bluff, NE - Goshen, WY","WY: Niobrara County (56027)","02180"]
[749,"Park, WY - Big Horn, WY","WY: Park County (56029)","02185"]
[797,"Platte, WY","WY: Platte County (56031)","02188"]
[770,"Sheridan, WY - Johnson, WY","WY: Sheridan County (56033)","02261"]
[775,"Teton, WY - Lincoln, WY","WY: Sublette County (56035)","02270"]
[799,"Sweetwater, WY - Daggett, UT","WY: Sweetwater County (56037)","15003"]
[775,"Teton, WY - Lincoln, WY","WY: Teton County (56039)","15005"]
[792,"Uinta, WY","WY: Uinta County (56041)","15009"]
[777,"Fremont, WY - Washakie, WY","WY: Washakie County (56043)","15007"]
[804,"Weston, WY","WY: Weston County (56045)","15001"]
[996,"Alaska - Entire state","AK: Entire state (02900)","02900"]
[997,"Hawaii - Entire state","HI: Hawaii (15900) - Populations Only","15900"]
[997,"Hawaii - Entire state","HI: Hawaii County (15911) - 1969-1999","15911"]
[997,"Hawaii - Entire state","HI: Honolulu County (15912) - 1969-1999","15912"]
[997,"Hawaii - Entire state","HI: Kalawao County (15913) - 1969-1999","15913"]
[997,"Hawaii - Entire state","HI: Kauai County (15914) - 1969-1999","15914"]
[997,"Hawaii - Entire state","HI: Maui County (15915) - 1969-1999","15915"]
[1022,"Blank(s)","AK: Unknown (02999)","02999"]
[1022,"Blank(s)","AL: Unknown (01999)","01999"]
[1022,"Blank(s)","AR: Unknown (05999)","05999"]
[1022,"Blank(s)","AZ: Unknown (04999)","04999"]
[1022,"Blank(s)","CA: Unknown (06999)","06999"]
[1022,"Blank(s)","CO: Unknown (08999)","08999"]
[1022,"Blank(s)","CT: Unknown (09999)","09999"]
[1022,"Blank(s)","DC: Unknown (11999)","11999"]
[1022,"Blank(s)","DE: Unknown (10999)","10999"]
[1022,"Blank(s)","FL: Unknown (12999)","12999"]
[1022,"Blank(s)","GA: Unknown (13999)","13999"]
[1022,"Blank(s)","HI: Unknown (15999)","15999"]
[1022,"Blank(s)","IA: Unknown (19999)","19999"]
[1022,"Blank(s)","ID: Unknown (16999)","16999"]
[1022,"Blank(s)","IL: Unknown (17999)","17999"]
[1022,"Blank(s)","IN: Unknown (18999)","18999"]
[1022,"Blank(s)","KS: Unknown (20999)","20999"]
[1022,"Blank(s)","KY: Unknown (21999)","21999"]
[1022,"Blank(s)","LA: Unknown (22999)","22999"]
[1022,"Blank(s)","MA: Unknown (25999)","25999"]
[1022,"Blank(s)","MD: Unknown (24999)","24999"]
[1022,"Blank(s)","ME: Unknown (23999)","23999"]
[1022,"Blank(s)","MI: Unknown (26999)","26999"]
[1022,"Blank(s)","MN: Unknown (27999)","27999"]
[1022,"Blank(s)","MO: Unknown (29999)","29999"]
[1022,"Blank(s)","MS: Unknown (28999)","28999"]
[1022,"Blank(s)","MT: Unknown (30999)","30999"]
[1022,"Blank(s)","NC: Unknown (37999)","37999"]
[1022,"Blank(s)","ND: Unknown (38999)","38999"]
[1022,"Blank(s)","NE: Unknown (31999)","31999"]
[1022,"Blank(s)","NH: Unknown (33999)","33999"]
[1022,"Blank(s)","NJ: Unknown (34999)","34999"]
[1022,"Blank(s)","NM: Unknown (35999)","35999"]
[1022,"Blank(s)","NV: Unknown (32999)","32999"]
[1022,"Blank(s)","NY: Unknown (36999)","36999"]
[1022,"Blank(s)","OH: Unknown (39999)","39999"]
[1022,"Blank(s)","OK: Unknown (40999)","40999"]
[1022,"Blank(s)","OR: Unknown (41999)","41999"]
[1022,"Blank(s)","PA: Unknown (42999)","42999"]
[1022,"Blank(s)","RI: Unknown (44999)","44999"]
[1022,"Blank(s)","SC: Unknown (45999)","45999"]
[1022,"Blank(s)","SD: Unknown (46999)","46999"]
[1022,"Blank(s)","TN: Unknown (47999)","47999"]
[1022,"Blank(s)","TX: Unknown (48999)","48999"]
[1022,"Blank(s)","UT: Unknown (49999)","49999"]
[1022,"Blank(s)","VA: Unknown (51999)","51999"]
[1022,"Blank(s)","VT: Unknown (50999)","50999"]
[1022,"Blank(s)","WA: Unknown (53999)","53999"]
[1022,"Blank(s)","WI: Unknown (55999)","55999"]
[1022,"Blank(s)","WV: Unknown (54999)","54999"]
[1022,"Blank(s)","WY: Unknown (56999)","56999"]

{"sheet":"STATES","index":2,"n_rows":52,"n_cols":1,"rows_kept":52,"cut":false,"hidden":true,"merged":[]}
["STATE"]
["ALASKA"]
["ALABAMA"]
["ARKANSAS"]
["ARIZONA"]
["CALIFORNIA"]
["COLORADO"]
["CONNECTICUT"]
["DELAWARE"]
["FLORIDA"]
["GEORGIA"]
["HAWAII"]
["IOWA"]
["IDAHO"]
["ILLINOIS"]
["INDIANA"]
["KANSAS"]
["KENTUCKY"]
["LOUISIANA"]
["MASSACHUSETTS"]
["MARYLAND"]
["MAINE"]
["MICHIGAN"]
["MINNESOTA"]
["MISSOURI"]
["MISSISSIPPI"]
["MONTANA"]
["NORTH CAROLINA"]
["NORTH DAKOTA"]
["NEBRASKA"]
["NEW HAMPSHIRE"]
["NEW JERSEY"]
["NEW MEXICO"]
["NEVADA"]
["NEW YORK"]
["OHIO"]
["OKLAHOMA"]
["OREGON"]
["PENNSYLVANIA"]
["RHODE ISLAND"]
["SOUTH CAROLINA"]
["SOUTH DAKOTA"]
["TENNESSEE"]
["TEXAS"]
["UTAH"]
["VIRGINIA"]
["VERMONT"]
["WASHINGTON"]
["WASHINGTON D.C."]
["WISCONSIN"]
["WEST VIRGINIA"]
["WYOMING"]

{"sheet":"COUNTIES","index":3,"n_rows":255,"n_cols":12,"rows_kept":255,"cut":false,"hidden":true,"merged":[]}
["INDEX1","INDEX2","INDEX3","STATE","COUNTY","HD","PD","UNK","TX","N=","Average Annual Compound Growth Rate","%PD of HD+PD based on HS Area"]
[{"$f":"ROWS($E$2:E2)","v":1},{"$f":"IF(E2=WORKSHEET!$B$2,A2,\"\")","v":""},{"$f":"IFERROR(SMALL($B$2:$B$255,A2),\"\")","v":""},{"$f":"IFERROR(INDEX('Base Data wHSA (NCI Modified)'!$L$2:'Base Data wHSA (NCI Modified)'!$T$3142,'Base Data wHSA (NCI Modified)'!$K2,COLUMNS(COUNTIES!$D$2:D2)),\"\")","v":""},{"$f":"IFERROR(INDEX('Base Data wHSA (NCI Modified)'!$L$2:'Base Data wHSA (NCI Modified)'!$T$3142,'Base Data wHSA (NCI Modified)'!$K2,COLUMNS(COUNTIES!$D$2:E2)),\"\")","v":""},{"$f":"IFERROR(INDEX('Base Data wHSA (NCI Modified)'!$L$2:'Base Data wHSA (NCI Modified)'!$T$3142,'Base Data wHSA (NCI Modified)'!$K2,COLUMNS(COUNTIES!$D$2:F2)),\"\")","v":""},{"$f":"IFERROR(INDEX('Base Data wHSA (NCI Modified)'!$L$2:'Base Data wHSA (NCI Modified)'!$T$3142,'Base Data wHSA (NCI Modified)'!$K2,COLUMNS(COUNTIES!$D$2:G2)),\"\")","v":""},{"$f":"IFERROR(INDEX('Base Data wHSA (NCI Modified)'!$L$2:'Base Data wHSA (NCI Modified)'!$T$3142,'Base Data wHSA (NCI Modified)'!$K2,COLUMNS(COUNTIES!$D$2:H2)),\"\")","v":""},{"$f":"IFERROR(INDEX('Base Data wHSA (NCI Modified)'!$L$2:'Base Data wHSA (NCI Modified)'!$T$3142,'Base Data wHSA (NCI Modified)'!$K2,COLUMNS(COUNTIES!$D$2:I2)),\"\")","v":""},{"$f":"IFERROR(INDEX('Base Data wHSA (NCI Modified)'!$L$2:'Base Data wHSA (NCI Modified)'!$T$3142,'Base Data wHSA (NCI Modified)'!$K2,COLUMNS(COUNTIES!$D$2:J2)),\"\")","v":""},{"$f":"IFERROR(INDEX('Base Data wHSA (NCI Modified)'!$L$2:'Base Data wHSA (NCI Modified)'!$T$3142,'Base Data wHSA (NCI Modified)'!$K2,COLUMNS(COUNTIES!$D$2:K2)),\"\")","v":""},{"$f":"IFERROR(INDEX('Base Data wHSA (NCI Modified)'!$L$2:'Base Data wHSA (NCI Modified)'!$T$3142,'Base Data wHSA (NCI Modified)'!$K2,COLUMNS(COUNTIES!$D$2:L2)),\"\")","v":""}]
[{"$f":"ROWS($E$2:E3)","v":2},{"$f":"IF(E3=WORKSHEET!$B$2,A3,\"\")","v":""},{"$f":"IFERROR(SMALL($B$2:$B$255,A3),\"\")","v":""},{"$f":"IFERROR(INDEX('Base Data wHSA (NCI Modified)'!$L$2:'Base Data wHSA (NCI Modified)'!$T$3142,'Base Data wHSA (NCI Modified)'!$K3,COLUMNS(COUNTIES!$D$2:D3)),\"\")","v":""},{"$f":"IFERROR(INDEX('Base Data wHSA (NCI Modified)'!$L$2:'Base Data wHSA (NCI Modified)'!$T$3142,'Base Data wHSA (NCI Modified)'!$K3,COLUMNS(COUNTIES!$D$2:E3)),\"\")","v":""},{"$f":"IFERROR(INDEX('Base Data wHSA (NCI Modified)'!$L$2:'Base Data wHSA (NCI Modified)'!$T$3142,'Base Data wHSA (NCI Modified)'!$K3,COLUMNS(COUNTIES!$D$2:F3)),\"\")","v":""},{"$f":"IFERROR(INDEX('Base Data wHSA (NCI Modified)'!$L$2:'Base Data wHSA (NCI Modified)'!$T$3142,'Base Data wHSA (NCI Modified)'!$K3,COLUMNS(COUNTIES!$D$2:G3)),\"\")","v":""},{"$f":"IFERROR(INDEX('Base Data wHSA (NCI Modified)'!$L$2:'Base Data wHSA (NCI Modified)'!$T$3142,'Base Data wHSA (NCI Modified)'!$K3,COLUMNS(COUNTIES!$D$2:H3)),\"\")","v":""},{"$f":"IFERROR(INDEX('Base Data wHSA (NCI Modified)'!$L$2:'Base Data wHSA (NCI Modified)'!$T$3142,'Base Data wHSA (NCI Modified)'!$K3,COLUMNS(COUNTIES!$D$2:I3)),\"\")","v":""},{"$f":"IFERROR(INDEX('Base Data wHSA (NCI Modified)'!$L$2:'Base Data wHSA (NCI Modified)'!$T$3142,'Base Data wHSA (NCI Modified)'!$K3,COLUMNS(COUNTIES!$D$2:J3)),\"\")","v":""},{"$f":"IFERROR(INDEX('Base Data wHSA (NCI Modified)'!$L$2:'Base Data wHSA (NCI Modified)'!$T$3142,'Base Data wHSA (NCI Modified)'!$K3,COLUMNS(COUNTIES!$D$2:K3)),\"\")","v":""},{"$f":"IFERROR(INDEX('Base Data wHSA (NCI Modified)'!$L$2:'Base Data wHSA (NCI Modified)'!$T$3142,'Base Data wHSA (NCI Modified)'!$K3,COLUMNS(COUNTIES!$D$2:L3)),\"\")","v":""}]
[{"$f":"ROWS($E$2:E4)","v":3},{"$f":"IF(E4=WORKSHEET!$B$2,A4,\"\")","v":""},{"$f":"IFERROR(SMALL($B$2:$B$255,A4),\"\")","v":""},{"$f":"IFERROR(INDEX('Base Data wHSA (NCI Modified)'!$L$2:'Base Data wHSA (NCI Modified)'!$T$3142,'Base Data wHSA (NCI Modified)'!$K4,COLUMNS(COUNTIES!$D$2:D4)),\"\")","v":""},{"$f":"IFERROR(INDEX('Base Data wHSA (NCI Modified)'!$L$2:'Base Data wHSA (NCI Modified)'!$T$3142,'Base Data wHSA (NCI Modified)'!$K4,COLUMNS(COUNTIES!$D$2:E4)),\"\")","v":""},{"$f":"IFERROR(INDEX('Base Data wHSA (NCI Modified)'!$L$2:'Base Data wHSA (NCI Modified)'!$T$3142,'Base Data wHSA (NCI Modified)'!$K4,COLUMNS(COUNTIES!$D$2:F4)),\"\")","v":""},{"$f":"IFERROR(INDEX('Base Data wHSA (NCI Modified)'!$L$2:'Base Data wHSA (NCI Modified)'!$T$3142,'Base Data wHSA (NCI Modified)'!$K4,COLUMNS(COUNTIES!$D$2:G4)),\"\")","v":""},{"$f":"IFERROR(INDEX('Base Data wHSA (NCI Modified)'!$L$2:'Base Data wHSA (NCI Modified)'!$T$3142,'Base Data wHSA (NCI Modified)'!$K4,COLUMNS(COUNTIES!$D$2:H4)),\"\")","v":""},{"$f":"IFERROR(INDEX('Base Data wHSA (NCI Modified)'!$L$2:'Base Data wHSA (NCI Modified)'!$T$3142,'Base Data wHSA (NCI Modified)'!$K4,COLUMNS(COUNTIES!$D$2:I4)),\"\")","v":""},{"$f":"IFERROR(INDEX('Base Data wHSA (NCI Modified)'!$L$2:'Base Data wHSA (NCI Modified)'!$T$3142,'Base Data wHSA (NCI Modified)'!$K4,COLUMNS(COUNTIES!$D$2:J4)),\"\")","v":""},{"$f":"IFERROR(INDEX('Base Data wHSA (NCI Modified)'!$L$2:'Base Data wHSA (NCI Modified)'!$T$3142,'Base Data wHSA (NCI Modified)'!$K4,COLUMNS(COUNTIES!$D$2:K4)),\"\")","v":""},{"$f":"IFERROR(INDEX('Base Data wHSA (NCI Modified)'!$L$2:'Base Data wHSA (NCI Modified)'!$T$3142,'Base Data wHSA (NCI Modified)'!$K4,COLUMNS(COUNTIES!$D$2:L4)),\"\")","v":""}]
[{"$f":"ROWS($E$2:E5)","v":4},{"$f":"IF(E5=WORKSHEET!$B$2,A5,\"\")","v":""},"",{"$f":"IFERROR(INDEX('Base Data wHSA (NCI Modified)'!$L$2:'Base Data wHSA (NCI Modified)'!$T$3142,'Base Data wHSA (NCI Modified)'!$K5,COLUMNS(COUNTIES!$D$2:D5)),\"\")","v":""},{"$f":"IFERROR(INDEX('Base Data wHSA (NCI Modified)'!$L$2:'Base Data wHSA (NCI Modified)'!$T$3142,'Base Data wHSA (NCI Modified)'!$K5,COLUMNS(COUNTIES!$D$2:E5)),\"\")","v":""},{"$f":"IFERROR(INDEX('Base Data wHSA (NCI Modified)'!$L$2:'Base Data wHSA (NCI Modified)'!$T$3142,'Base Data wHSA (NCI Modified)'!$K5,COLUMNS(COUNTIES!$D$2:F5)),\"\")","v":""},{"$f":"IFERROR(INDEX('Base Data wHSA (NCI Modified)'!$L$2:'Base Data wHSA (NCI Modified)'!$T$3142,'Base Data wHSA (NCI Modified)'!$K5,COLUMNS(COUNTIES!$D$2:G5)),\"\")","v":""},{"$f":"IFERROR(INDEX('Base Data wHSA (NCI Modified)'!$L$2:'Base Data wHSA (NCI Modified)'!$T$3142,'Base Data wHSA (NCI Modified)'!$K5,COLUMNS(COUNTIES!$D$2:H5)),\"\")","v":""},{"$f":"IFERROR(INDEX('Base Data wHSA (NCI Modified)'!$L$2:'Base Data wHSA (NCI Modified)'!$T$3142,'Base Data wHSA (NCI Modified)'!$K5,COLUMNS(COUNTIES!$D$2:I5)),\"\")","v":""},{"$f":"IFERROR(INDEX('Base Data wHSA (NCI Modified)'!$L$2:'Base Data wHSA (NCI Modified)'!$T$3142,'Base Data wHSA (NCI Modified)'!$K5,COLUMNS(COUNTIES!$D$2:J5)),\"\")","v":""},{"$f":"IFERROR(INDEX('Base Data wHSA (NCI Modified)'!$L$2:'Base Data wHSA (NCI Modified)'!$T$3142,'Base Data wHSA (NCI Modified)'!$K5,COLUMNS(COUNTIES!$D$2:K5)),\"\")","v":""},{"$f":"IFERROR(INDEX('Base Data wHSA (NCI Modified)'!$L$2:'Base Data wHSA (NCI Modified)'!$T$3142,'Base Data wHSA (NCI Modified)'!$K5,COLUMNS(COUNTIES!$D$2:L5)),\"\")","v":""}]
[{"$f":"ROWS($E$2:E6)","v":5},{"$f":"IF(E6=WORKSHEET!$B$2,A6,\"\")","v":""},"",{"$f":"IFERROR(INDEX('Base Data wHSA (NCI Modified)'!$L$2:'Base Data wHSA (NCI Modified)'!$T$3142,'Base Data wHSA (NCI Modified)'!$K6,COLUMNS(COUNTIES!$D$2:D6)),\"\")","v":""},{"$f":"IFERROR(INDEX('Base Data wHSA (NCI Modified)'!$L$2:'Base Data wHSA (NCI Modified)'!$T$3142,'Base Data wHSA (NCI Modified)'!$K6,COLUMNS(COUNTIES!$D$2:E6)),\"\")","v":""},{"$f":"IFERROR(INDEX('Base Data wHSA (NCI Modified)'!$L$2:'Base Data wHSA (NCI Modified)'!$T$3142,'Base Data wHSA (NCI Modified)'!$K6,COLUMNS(COUNTIES!$D$2:F6)),\"\")","v":""},{"$f":"IFERROR(INDEX('Base Data wHSA (NCI Modified)'!$L$2:'Base Data wHSA (NCI Modified)'!$T$3142,'Base Data wHSA (NCI Modified)'!$K6,COLUMNS(COUNTIES!$D$2:G6)),\"\")","v":""},{"$f":"IFERROR(INDEX('Base Data wHSA (NCI Modified)'!$L$2:'Base Data wHSA (NCI Modified)'!$T$3142,'Base Data wHSA (NCI Modified)'!$K6,COLUMNS(COUNTIES!$D$2:H6)),\"\")","v":""},{"$f":"IFERROR(INDEX('Base Data wHSA (NCI Modified)'!$L$2:'Base Data wHSA (NCI Modified)'!$T$3142,'Base Data wHSA (NCI Modified)'!$K6,COLUMNS(COUNTIES!$D$2:I6)),\"\")","v":""},{"$f":"IFERROR(INDEX('Base Data wHSA (NCI Modified)'!$L$2:'Base Data wHSA (NCI Modified)'!$T$3142,'Base Data wHSA (NCI Modified)'!$K6,COLUMNS(COUNTIES!$D$2:J6)),\"\")","v":""},{"$f":"IFERROR(INDEX('Base Data wHSA (NCI Modified)'!$L$2:'Base Data wHSA (NCI Modified)'!$T$3142,'Base Data wHSA (NCI Modified)'!$K6,COLUMNS(COUNTIES!$D$2:K6)),\"\")","v":""},{"$f":"IFERROR(INDEX('Base Data wHSA (NCI Modified)'!$L$2:'Base Data wHSA (NCI Modified)'!$T$3142,'Base Data wHSA (NCI Modified)'!$K6,COLUMNS(COUNTIES!$D$2:L6)),\"\")","v":""}]
[{"$f":"ROWS($E$2:E7)","v":6},{"$f":"IF(E7=WORKSHEET!$B$2,A7,\"\")","v":""},"",{"$f":"IFERROR(INDEX('Base Data wHSA (NCI Modified)'!$L$2:'Base Data wHSA (NCI Modified)'!$T$3142,'Base Data wHSA (NCI Modified)'!$K7,COLUMNS(COUNTIES!$D$2:D7)),\"\")","v":""},{"$f":"IFERROR(INDEX('Base Data wHSA (NCI Modified)'!$L$2:'Base Data wHSA (NCI Modified)'!$T$3142,'Base Data wHSA (NCI Modified)'!$K7,COLUMNS(COUNTIES!$D$2:E7)),\"\")","v":""},{"$f":"IFERROR(INDEX('Base Data wHSA (NCI Modified)'!$L$2:'Base Data wHSA (NCI Modified)'!$T$3142,'Base Data wHSA (NCI Modified)'!$K7,COLUMNS(COUNTIES!$D$2:F7)),\"\")","v":""},{"$f":"IFERROR(INDEX('Base Data wHSA (NCI Modified)'!$L$2:'Base Data wHSA (NCI Modified)'!$T$3142,'Base Data wHSA (NCI Modified)'!$K7,COLUMNS(COUNTIES!$D$2:G7)),\"\")","v":""},{"$f":"IFERROR(INDEX('Base Data wHSA (NCI Modified)'!$L$2:'Base Data wHSA (NCI Modified)'!$T$3142,'Base Data wHSA (NCI Modified)'!$K7,COLUMNS(COUNTIES!$D$2:H7)),\"\")","v":""},{"$f":"IFERROR(INDEX('Base Data wHSA (NCI Modified)'!$L$2:'Base Data wHSA (NCI Modified)'!$T$3142,'Base Data wHSA (NCI Modified)'!$K7,COLUMNS(COUNTIES!$D$2:I7)),\"\")","v":""},{"$f":"IFERROR(INDEX('Base Data wHSA (NCI Modified)'!$L$2:'Base Data wHSA (NCI Modified)'!$T$3142,'Base Data wHSA (NCI Modified)'!$K7,COLUMNS(COUNTIES!$D$2:J7)),\"\")","v":""},{"$f":"IFERROR(INDEX('Base Data wHSA (NCI Modified)'!$L$2:'Base Data wHSA (NCI Modified)'!$T$3142,'Base Data wHSA (NCI Modified)'!$K7,COLUMNS(COUNTIES!$D$2:K7)),\"\")","v":""},{"$f":"IFERROR(INDEX('Base Data wHSA (NCI Modified)'!$L$2:'Base Data wHSA (NCI Modified)'!$T$3142,'Base Data wHSA (NCI Modified)'!$K7,COLUMNS(COUNTIES!$D$2:L7)),\"\")","v":""}]
[{"$f":"ROWS($E$2:E8)","v":7},{"$f":"IF(E8=WORKSHEET!$B$2,A8,\"\")","v":""},"",{"$f":"IFERROR(INDEX('Base Data wHSA (NCI Modified)'!$L$2:'Base Data wHSA (NCI Modified)'!$T$3142,'Base Data wHSA (NCI Modified)'!$K8,COLUMNS(COUNTIES!$D$2:D8)),\"\")","v":""},{"$f":"IFERROR(INDEX('Base Data wHSA (NCI Modified)'!$L$2:'Base Data wHSA (NCI Modified)'!$T$3142,'Base Data wHSA (NCI Modified)'!$K8,COLUMNS(COUNTIES!$D$2:E8)),\"\")","v":""},{"$f":"IFERROR(INDEX('Base Data wHSA (NCI Modified)'!$L$2:'Base Data wHSA (NCI Modified)'!$T$3142,'Base Data wHSA (NCI Modified)'!$K8,COLUMNS(COUNTIES!$D$2:F8)),\"\")","v":""},{"$f":"IFERROR(INDEX('Base Data wHSA (NCI Modified)'!$L$2:'Base Data wHSA (NCI Modified)'!$T$3142,'Base Data wHSA (NCI Modified)'!$K8,COLUMNS(COUNTIES!$D$2:G8)),\"\")","v":""},{"$f":"IFERROR(INDEX('Base Data wHSA (NCI Modified)'!$L$2:'Base Data wHSA (NCI Modified)'!$T$3142,'Base Data wHSA (NCI Modified)'!$K8,COLUMNS(COUNTIES!$D$2:H8)),\"\")","v":""},{"$f":"IFERROR(INDEX('Base Data wHSA (NCI Modified)'!$L$2:'Base Data wHSA (NCI Modified)'!$T$3142,'Base Data wHSA (NCI Modified)'!$K8,COLUMNS(COUNTIES!$D$2:I8)),\"\")","v":""},{"$f":"IFERROR(INDEX('Base Data wHSA (NCI Modified)'!$L$2:'Base Data wHSA (NCI Modified)'!$T$3142,'Base Data wHSA (NCI Modified)'!$K8,COLUMNS(COUNTIES!$D$2:J8)),\"\")","v":""},{"$f":"IFERROR(INDEX('Base Data wHSA (NCI Modified)'!$L$2:'Base Data wHSA (NCI Modified)'!$T$3142,'Base Data wHSA (NCI Modified)'!$K8,COLUMNS(COUNTIES!$D$2:K8)),\"\")","v":""},{"$f":"IFERROR(INDEX('Base Data wHSA (NCI Modified)'!$L$2:'Base Data wHSA (NCI Modified)'!$T$3142,'Base Data wHSA (NCI Modified)'!$K8,COLUMNS(COUNTIES!$D$2:L8)),\"\")","v":""}]
[{"$f":"ROWS($E$2:E9)","v":8},{"$f":"IF(E9=WORKSHEET!$B$2,A9,\"\")","v":""},"",{"$f":"IFERROR(INDEX('Base Data wHSA (NCI Modified)'!$L$2:'Base Data wHSA (NCI Modified)'!$T$3142,'Base Data wHSA (NCI Modified)'!$K9,COLUMNS(COUNTIES!$D$2:D9)),\"\")","v":""},{"$f":"IFERROR(INDEX('Base Data wHSA (NCI Modified)'!$L$2:'Base Data wHSA (NCI Modified)'!$T$3142,'Base Data wHSA (NCI Modified)'!$K9,COLUMNS(COUNTIES!$D$2:E9)),\"\")","v":""},{"$f":"IFERROR(INDEX('Base Data wHSA (NCI Modified)'!$L$2:'Base Data wHSA (NCI Modified)'!$T$3142,'Base Data wHSA (NCI Modified)'!$K9,COLUMNS(COUNTIES!$D$2:F9)),\"\")","v":""},{"$f":"IFERROR(INDEX('Base Data wHSA (NCI Modified)'!$L$2:'Base Data wHSA (NCI Modified)'!$T$3142,'Base Data wHSA (NCI Modified)'!$K9,COLUMNS(COUNTIES!$D$2:G9)),\"\")","v":""},{"$f":"IFERROR(INDEX('Base Data wHSA (NCI Modified)'!$L$2:'Base Data wHSA (NCI Modified)'!$T$3142,'Base Data wHSA (NCI Modified)'!$K9,COLUMNS(COUNTIES!$D$2:H9)),\"\")","v":""},{"$f":"IFERROR(INDEX('Base Data wHSA (NCI Modified)'!$L$2:'Base Data wHSA (NCI Modified)'!$T$3142,'Base Data wHSA (NCI Modified)'!$K9,COLUMNS(COUNTIES!$D$2:I9)),\"\")","v":""},{"$f":"IFERROR(INDEX('Base Data wHSA (NCI Modified)'!$L$2:'Base Data wHSA (NCI Modified)'!$T$3142,'Base Data wHSA (NCI Modified)'!$K9,COLUMNS(COUNTIES!$D$2:J9)),\"\")","v":""},{"$f":"IFERROR(INDEX('Base Data wHSA (NCI Modified)'!$L$2:'Base Data wHSA (NCI Modified)'!$T$3142,'Base Data wHSA (NCI Modified)'!$K9,COLUMNS(COUNTIES!$D$2:K9)),\"\")","v":""},{"$f":"IFERROR(INDEX('Base Data wHSA (NCI Modified)'!$L$2:'Base Data wHSA (NCI Modified)'!$T$3142,'Base Data wHSA (NCI Modified)'!$K9,COLUMNS(COUNTIES!$D$2:L9)),\"\")","v":""}]
[{"$f":"ROWS($E$2:E10)","v":9},{"$f":"IF(E10=WORKSHEET!$B$2,A10,\"\")","v":""},"",{"$f":"IFERROR(INDEX('Base Data wHSA (NCI Modified)'!$L$2:'Base Data wHSA (NCI Modified)'!$T$3142,'Base Data wHSA (NCI Modified)'!$K10,COLUMNS(COUNTIES!$D$2:D10)),\"\")","v":""},{"$f":"IFERROR(INDEX('Base Data wHSA (NCI Modified)'!$L$2:'Base Data wHSA (NCI Modified)'!$T$3142,'Base Data wHSA (NCI Modified)'!$K10,COLUMNS(COUNTIES!$D$2:E10)),\"\")","v":""},{"$f":"IFERROR(INDEX('Base Data wHSA (NCI Modified)'!$L$2:'Base Data wHSA (NCI Modified)'!$T$3142,'Base Data wHSA (NCI Modified)'!$K10,COLUMNS(COUNTIES!$D$2:F10)),\"\")","v":""},{"$f":"IFERROR(INDEX('Base Data wHSA (NCI Modified)'!$L$2:'Base Data wHSA (NCI Modified)'!$T$3142,'Base Data wHSA (NCI Modified)'!$K10,COLUMNS(COUNTIES!$D$2:G10)),\"\")","v":""},{"$f":"IFERROR(INDEX('Base Data wHSA (NCI Modified)'!$L$2:'Base Data wHSA (NCI Modified)'!$T$3142,'Base Data wHSA (NCI Modified)'!$K10,COLUMNS(COUNTIES!$D$2:H10)),\"\")","v":""},{"$f":"IFERROR(INDEX('Base Data wHSA (NCI Modified)'!$L$2:'Base Data wHSA (NCI Modified)'!$T$3142,'Base Data wHSA (NCI Modified)'!$K10,COLUMNS(COUNTIES!$D$2:I10)),\"\")","v":""},{"$f":"IFERROR(INDEX('Base Data wHSA (NCI Modified)'!$L$2:'Base Data wHSA (NCI Modified)'!$T$3142,'Base Data wHSA (NCI Modified)'!$K10,COLUMNS(COUNTIES!$D$2:J10)),\"\")","v":""},{"$f":"IFERROR(INDEX('Base Data wHSA (NCI Modified)'!$L$2:'Base Data wHSA (NCI Modified)'!$T$3142,'Base Data wHSA (NCI Modified)'!$K10,COLUMNS(COUNTIES!$D$2:K10)),\"\")","v":""},{"$f":"IFERROR(INDEX('Base Data wHSA (NCI Modified)'!$L$2:'Base Data wHSA (NCI Modified)'!$T$3142,'Base Data wHSA (NCI Modified)'!$K10,COLUMNS(COUNTIES!$D$2:L10)),\"\")","v":""}]
[{"$f":"ROWS($E$2:E11)","v":10},{"$f":"IF(E11=WORKSHEET!$B$2,A11,\"\")","v":""},"",{"$f":"IFERROR(INDEX('Base Data wHSA (NCI Modified)'!$L$2:'Base Data wHSA (NCI Modified)'!$T$3142,'Base Data wHSA (NCI Modified)'!$K11,COLUMNS(COUNTIES!$D$2:D11)),\"\")","v":""},{"$f":"IFERROR(INDEX('Base Data wHSA (NCI Modified)'!$L$2:'Base Data wHSA (NCI Modified)'!$T$3142,'Base Data wHSA (NCI Modified)'!$K11,COLUMNS(COUNTIES!$D$2:E11)),\"\")","v":""},{"$f":"IFERROR(INDEX('Base Data wHSA (NCI Modified)'!$L$2:'Base Data wHSA (NCI Modified)'!$T$3142,'Base Data wHSA (NCI Modified)'!$K11,COLUMNS(COUNTIES!$D$2:F11)),\"\")","v":""},{"$f":"IFERROR(INDEX('Base Data wHSA (NCI Modified)'!$L$2:'Base Data wHSA (NCI Modified)'!$T$3142,'Base Data wHSA (NCI Modified)'!$K11,COLUMNS(COUNTIES!$D$2:G11)),\"\")","v":""},{"$f":"IFERROR(INDEX('Base Data wHSA (NCI Modified)'!$L$2:'Base Data wHSA (NCI Modified)'!$T$3142,'Base Data wHSA (NCI Modified)'!$K11,COLUMNS(COUNTIES!$D$2:H11)),\"\")","v":""},{"$f":"IFERROR(INDEX('Base Data wHSA (NCI Modified)'!$L$2:'Base Data wHSA (NCI Modified)'!$T$3142,'Base Data wHSA (NCI Modified)'!$K11,COLUMNS(COUNTIES!$D$2:I11)),\"\")","v":""},{"$f":"IFERROR(INDEX('Base Data wHSA (NCI Modified)'!$L$2:'Base Data wHSA (NCI Modified)'!$T$3142,'Base Data wHSA (NCI Modified)'!$K11,COLUMNS(COUNTIES!$D$2:J11)),\"\")","v":""},{"$f":"IFERROR(INDEX('Base Data wHSA (NCI Modified)'!$L$2:'Base Data wHSA (NCI Modified)'!$T$3142,'Base Data wHSA (NCI Modified)'!$K11,COLUMNS(COUNTIES!$D$2:K11)),\"\")","v":""},{"$f":"IFERROR(INDEX('Base Data wHSA (NCI Modified)'!$L$2:'Base Data wHSA (NCI Modified)'!$T$3142,'Base Data wHSA (NCI Modified)'!$K11,COLUMNS(COUNTIES!$D$2:L11)),\"\")","v":""}]
[{"$f":"ROWS($E$2:E12)","v":11},{"$f":"IF(E12=WORKSHEET!$B$2,A12,\"\")","v":""},"",{"$f":"IFERROR(INDEX('Base Data wHSA (NCI Modified)'!$L$2:'Base Data wHSA (NCI Modified)'!$T$3142,'Base Data wHSA (NCI Modified)'!$K12,COLUMNS(COUNTIES!$D$2:D12)),\"\")","v":""},{"$f":"IFERROR(INDEX('Base Data wHSA (NCI Modified)'!$L$2:'Base Data wHSA (NCI Modified)'!$T$3142,'Base Data wHSA (NCI Modified)'!$K12,COLUMNS(COUNTIES!$D$2:E12)),\"\")","v":""},{"$f":"IFERROR(INDEX('Base Data wHSA (NCI Modified)'!$L$2:'Base Data wHSA (NCI Modified)'!$T$3142,'Base Data wHSA (NCI Modified)'!$K12,COLUMNS(COUNTIES!$D$2:F12)),\"\")","v":""},{"$f":"IFERROR(INDEX('Base Data wHSA (NCI Modified)'!$L$2:'Base Data wHSA (NCI Modified)'!$T$3142,'Base Data wHSA (NCI Modified)'!$K12,COLUMNS(COUNTIES!$D$2:G12)),\"\")","v":""},{"$f":"IFERROR(INDEX('Base Data wHSA (NCI Modified)'!$L$2:'Base Data wHSA (NCI Modified)'!$T$3142,'Base Data wHSA (NCI Modified)'!$K12,COLUMNS(COUNTIES!$D$2:H12)),\"\")","v":""},{"$f":"IFERROR(INDEX('Base Data wHSA (NCI Modified)'!$L$2:'Base Data wHSA (NCI Modified)'!$T$3142,'Base Data wHSA (NCI Modified)'!$K12,COLUMNS(COUNTIES!$D$2:I12)),\"\")","v":""},{"$f":"IFERROR(INDEX('Base Data wHSA (NCI Modified)'!$L$2:'Base Data wHSA (NCI Modified)'!$T$3142,'Base Data wHSA (NCI Modified)'!$K12,COLUMNS(COUNTIES!$D$2:J12)),\"\")","v":""},{"$f":"IFERROR(INDEX('Base Data wHSA (NCI Modified)'!$L$2:'Base Data wHSA (NCI Modified)'!$T$3142,'Base Data wHSA (NCI Modified)'!$K12,COLUMNS(COUNTIES!$D$2:K12)),\"\")","v":""},{"$f":"IFERROR(INDEX('Base Data wHSA (NCI Modified)'!$L$2:'Base Data wHSA (NCI Modified)'!$T$3142,'Base Data wHSA (NCI Modified)'!$K12,COLUMNS(COUNTIES!$D$2:L12)),\"\")","v":""}]
[{"$f":"ROWS($E$2:E13)","v":12},{"$f":"IF(E13=WORKSHEET!$B$2,A13,\"\")","v":""},"",{"$f":"IFERROR(INDEX('Base Data wHSA (NCI Modified)'!$L$2:'Base Data wHSA (NCI Modified)'!$T$3142,'Base Data wHSA (NCI Modified)'!$K13,COLUMNS(COUNTIES!$D$2:D13)),\"\")","v":""},{"$f":"IFERROR(INDEX('Base Data wHSA (NCI Modified)'!$L$2:'Base Data wHSA (NCI Modified)'!$T$3142,'Base Data wHSA (NCI Modified)'!$K13,COLUMNS(COUNTIES!$D$2:E13)),\"\")","v":""},{"$f":"IFERROR(INDEX('Base Data wHSA (NCI Modified)'!$L$2:'Base Data wHSA (NCI Modified)'!$T$3142,'Base Data wHSA (NCI Modified)'!$K13,COLUMNS(COUNTIES!$D$2:F13)),\"\")","v":""},{"$f":"IFERROR(INDEX('Base Data wHSA (NCI Modified)'!$L$2:'Base Data wHSA (NCI Modified)'!$T$3142,'Base Data wHSA (NCI Modified)'!$K13,COLUMNS(COUNTIES!$D$2:G13)),\"\")","v":""},{"$f":"IFERROR(INDEX('Base Data wHSA (NCI Modified)'!$L$2:'Base Data wHSA (NCI Modified)'!$T$3142,'Base Data wHSA (NCI Modified)'!$K13,COLUMNS(COUNTIES!$D$2:H13)),\"\")","v":""},{"$f":"IFERROR(INDEX('Base Data wHSA (NCI Modified)'!$L$2:'Base Data wHSA (NCI Modified)'!$T$3142,'Base Data wHSA (NCI Modified)'!$K13,COLUMNS(COUNTIES!$D$2:I13)),\"\")","v":""},{"$f":"IFERROR(INDEX('Base Data wHSA (NCI Modified)'!$L$2:'Base Data wHSA (NCI Modified)'!$T$3142,'Base Data wHSA (NCI Modified)'!$K13,COLUMNS(COUNTIES!$D$2:J13)),\"\")","v":""},{"$f":"IFERROR(INDEX('Base Data wHSA (NCI Modified)'!$L$2:'Base Data wHSA (NCI Modified)'!$T$3142,'Base Data wHSA (NCI Modified)'!$K13,COLUMNS(COUNTIES!$D$2:K13)),\"\")","v":""},{"$f":"IFERROR(INDEX('Base Data wHSA (NCI Modified)'!$L$2:'Base Data wHSA (NCI Modified)'!$T$3142,'Base Data wHSA (NCI Modified)'!$K13,COLUMNS(COUNTIES!$D$2:L13)),\"\")","v":""}]
[{"$f":"ROWS($E$2:E14)","v":13},{"$f":"IF(E14=WORKSHEET!$B$2,A14,\"\")","v":""},"",{"$f":"IFERROR(INDEX('Base Data wHSA (NCI Modified)'!$L$2:'Base Data wHSA (NCI Modified)'!$T$3142,'Base Data wHSA (NCI Modified)'!$K14,COLUMNS(COUNTIES!$D$2:D14)),\"\")","v":""},{"$f":"IFERROR(INDEX('Base Data wHSA (NCI Modified)'!$L$2:'Base Data wHSA (NCI Modified)'!$T$3142,'Base Data wHSA (NCI Modified)'!$K14,COLUMNS(COUNTIES!$D$2:E14)),\"\")","v":""},{"$f":"IFERROR(INDEX('Base Data wHSA (NCI Modified)'!$L$2:'Base Data wHSA (NCI Modified)'!$T$3142,'Base Data wHSA (NCI Modified)'!$K14,COLUMNS(COUNTIES!$D$2:F14)),\"\")","v":""},{"$f":"IFERROR(INDEX('Base Data wHSA (NCI Modified)'!$L$2:'Base Data wHSA (NCI Modified)'!$T$3142,'Base Data wHSA (NCI Modified)'!$K14,COLUMNS(COUNTIES!$D$2:G14)),\"\")","v":""},{"$f":"IFERROR(INDEX('Base Data wHSA (NCI Modified)'!$L$2:'Base Data wHSA (NCI Modified)'!$T$3142,'Base Data wHSA (NCI Modified)'!$K14,COLUMNS(COUNTIES!$D$2:H14)),\"\")","v":""},{"$f":"IFERROR(INDEX('Base Data wHSA (NCI Modified)'!$L$2:'Base Data wHSA (NCI Modified)'!$T$3142,'Base Data wHSA (NCI Modified)'!$K14,COLUMNS(COUNTIES!$D$2:I14)),\"\")","v":""},{"$f":"IFERROR(INDEX('Base Data wHSA (NCI Modified)'!$L$2:'Base Data wHSA (NCI Modified)'!$T$3142,'Base Data wHSA (NCI Modified)'!$K14,COLUMNS(COUNTIES!$D$2:J14)),\"\")","v":""},{"$f":"IFERROR(INDEX('Base Data wHSA (NCI Modified)'!$L$2:'Base Data wHSA (NCI Modified)'!$T$3142,'Base Data wHSA (NCI Modified)'!$K14,COLUMNS(COUNTIES!$D$2:K14)),\"\")","v":""},{"$f":"IFERROR(INDEX('Base Data wHSA (NCI Modified)'!$L$2:'Base Data wHSA (NCI Modified)'!$T$3142,'Base Data wHSA (NCI Modified)'!$K14,COLUMNS(COUNTIES!$D$2:L14)),\"\")","v":""}]
[{"$f":"ROWS($E$2:E15)","v":14},{"$f":"IF(E15=WORKSHEET!$B$2,A15,\"\")","v":""},"",{"$f":"IFERROR(INDEX('Base Data wHSA (NCI Modified)'!$L$2:'Base Data wHSA (NCI Modified)'!$T$3142,'Base Data wHSA (NCI Modified)'!$K15,COLUMNS(COUNTIES!$D$2:D15)),\"\")","v":""},{"$f":"IFERROR(INDEX('Base Data wHSA (NCI Modified)'!$L$2:'Base Data wHSA (NCI Modified)'!$T$3142,'Base Data wHSA (NCI Modified)'!$K15,COLUMNS(COUNTIES!$D$2:E15)),\"\")","v":""},{"$f":"IFERROR(INDEX('Base Data wHSA (NCI Modified)'!$L$2:'Base Data wHSA (NCI Modified)'!$T$3142,'Base Data wHSA (NCI Modified)'!$K15,COLUMNS(COUNTIES!$D$2:F15)),\"\")","v":""},{"$f":"IFERROR(INDEX('Base Data wHSA (NCI Modified)'!$L$2:'Base Data wHSA (NCI Modified)'!$T$3142,'Base Data wHSA (NCI Modified)'!$K15,COLUMNS(COUNTIES!$D$2:G15)),\"\")","v":""},{"$f":"IFERROR(INDEX('Base Data wHSA (NCI Modified)'!$L$2:'Base Data wHSA (NCI Modified)'!$T$3142,'Base Data wHSA (NCI Modified)'!$K15,COLUMNS(COUNTIES!$D$2:H15)),\"\")","v":""},{"$f":"IFERROR(INDEX('Base Data wHSA (NCI Modified)'!$L$2:'Base Data wHSA (NCI Modified)'!$T$3142,'Base Data wHSA (NCI Modified)'!$K15,COLUMNS(COUNTIES!$D$2:I15)),\"\")","v":""},{"$f":"IFERROR(INDEX('Base Data wHSA (NCI Modified)'!$L$2:'Base Data wHSA (NCI Modified)'!$T$3142,'Base Data wHSA (NCI Modified)'!$K15,COLUMNS(COUNTIES!$D$2:J15)),\"\")","v":""},{"$f":"IFERROR(INDEX('Base Data wHSA (NCI Modified)'!$L$2:'Base Data wHSA (NCI Modified)'!$T$3142,'Base Data wHSA (NCI Modified)'!$K15,COLUMNS(COUNTIES!$D$2:K15)),\"\")","v":""},{"$f":"IFERROR(INDEX('Base Data wHSA (NCI Modified)'!$L$2:'Base Data wHSA (NCI Modified)'!$T$3142,'Base Data wHSA (NCI Modified)'!$K15,COLUMNS(COUNTIES!$D$2:L15)),\"\")","v":""}]
[{"$f":"ROWS($E$2:E16)","v":15},{"$f":"IF(E16=WORKSHEET!$B$2,A16,\"\")","v":""},"",{"$f":"IFERROR(INDEX('Base Data wHSA (NCI Modified)'!$L$2:'Base Data wHSA (NCI Modified)'!$T$3142,'Base Data wHSA (NCI Modified)'!$K16,COLUMNS(COUNTIES!$D$2:D16)),\"\")","v":""},{"$f":"IFERROR(INDEX('Base Data wHSA (NCI Modified)'!$L$2:'Base Data wHSA (NCI Modified)'!$T$3142,'Base Data wHSA (NCI Modified)'!$K16,COLUMNS(COUNTIES!$D$2:E16)),\"\")","v":""},{"$f":"IFERROR(INDEX('Base Data wHSA (NCI Modified)'!$L$2:'Base Data wHSA (NCI Modified)'!$T$3142,'Base Data wHSA (NCI Modified)'!$K16,COLUMNS(COUNTIES!$D$2:F16)),\"\")","v":""},{"$f":"IFERROR(INDEX('Base Data wHSA (NCI Modified)'!$L$2:'Base Data wHSA (NCI Modified)'!$T$3142,'Base Data wHSA (NCI Modified)'!$K16,COLUMNS(COUNTIES!$D$2:G16)),\"\")","v":""},{"$f":"IFERROR(INDEX('Base Data wHSA (NCI Modified)'!$L$2:'Base Data wHSA (NCI Modified)'!$T$3142,'Base Data wHSA (NCI Modified)'!$K16,COLUMNS(COUNTIES!$D$2:H16)),\"\")","v":""},{"$f":"IFERROR(INDEX('Base Data wHSA (NCI Modified)'!$L$2:'Base Data wHSA (NCI Modified)'!$T$3142,'Base Data wHSA (NCI Modified)'!$K16,COLUMNS(COUNTIES!$D$2:I16)),\"\")","v":""},{"$f":"IFERROR(INDEX('Base Data wHSA (NCI Modified)'!$L$2:'Base Data wHSA (NCI Modified)'!$T$3142,'Base Data wHSA (NCI Modified)'!$K16,COLUMNS(COUNTIES!$D$2:J16)),\"\")","v":""},{"$f":"IFERROR(INDEX('Base Data wHSA (NCI Modified)'!$L$2:'Base Data wHSA (NCI Modified)'!$T$3142,'Base Data wHSA (NCI Modified)'!$K16,COLUMNS(COUNTIES!$D$2:K16)),\"\")","v":""},{"$f":"IFERROR(INDEX('Base Data wHSA (NCI Modified)'!$L$2:'Base Data wHSA (NCI Modified)'!$T$3142,'Base Data wHSA (NCI Modified)'!$K16,COLUMNS(COUNTIES!$D$2:L16)),\"\")","v":""}]
[{"$f":"ROWS($E$2:E17)","v":16},{"$f":"IF(E17=WORKSHEET!$B$2,A17,\"\")","v":""},"",{"$f":"IFERROR(INDEX('Base Data wHSA (NCI Modified)'!$L$2:'Base Data wHSA (NCI Modified)'!$T$3142,'Base Data wHSA (NCI Modified)'!$K17,COLUMNS(COUNTIES!$D$2:D17)),\"\")","v":""},{"$f":"IFERROR(INDEX('Base Data wHSA (NCI Modified)'!$L$2:'Base Data wHSA (NCI Modified)'!$T$3142,'Base Data wHSA (NCI Modified)'!$K17,COLUMNS(COUNTIES!$D$2:E17)),\"\")","v":""},{"$f":"IFERROR(INDEX('Base Data wHSA (NCI Modified)'!$L$2:'Base Data wHSA (NCI Modified)'!$T$3142,'Base Data wHSA (NCI Modified)'!$K17,COLUMNS(COUNTIES!$D$2:F17)),\"\")","v":""},{"$f":"IFERROR(INDEX('Base Data wHSA (NCI Modified)'!$L$2:'Base Data wHSA (NCI Modified)'!$T$3142,'Base Data wHSA (NCI Modified)'!$K17,COLUMNS(COUNTIES!$D$2:G17)),\"\")","v":""},{"$f":"IFERROR(INDEX('Base Data wHSA (NCI Modified)'!$L$2:'Base Data wHSA (NCI Modified)'!$T$3142,'Base Data wHSA (NCI Modified)'!$K17,COLUMNS(COUNTIES!$D$2:H17)),\"\")","v":""},{"$f":"IFERROR(INDEX('Base Data wHSA (NCI Modified)'!$L$2:'Base Data wHSA (NCI Modified)'!$T$3142,'Base Data wHSA (NCI Modified)'!$K17,COLUMNS(COUNTIES!$D$2:I17)),\"\")","v":""},{"$f":"IFERROR(INDEX('Base Data wHSA (NCI Modified)'!$L$2:'Base Data wHSA (NCI Modified)'!$T$3142,'Base Data wHSA (NCI Modified)'!$K17,COLUMNS(COUNTIES!$D$2:J17)),\"\")","v":""},{"$f":"IFERROR(INDEX('Base Data wHSA (NCI Modified)'!$L$2:'Base Data wHSA (NCI Modified)'!$T$3142,'Base Data wHSA (NCI Modified)'!$K17,COLUMNS(COUNTIES!$D$2:K17)),\"\")","v":""},{"$f":"IFERROR(INDEX('Base Data wHSA (NCI Modified)'!$L$2:'Base Data wHSA (NCI Modified)'!$T$3142,'Base Data wHSA (NCI Modified)'!$K17,COLUMNS(COUNTIES!$D$2:L17)),\"\")","v":""}]
[{"$f":"ROWS($E$2:E18)","v":17},{"$f":"IF(E18=WORKSHEET!$B$2,A18,\"\")","v":""},"",{"$f":"IFERROR(INDEX('Base Data wHSA (NCI Modified)'!$L$2:'Base Data wHSA (NCI Modified)'!$T$3142,'Base Data wHSA (NCI Modified)'!$K18,COLUMNS(COUNTIES!$D$2:D18)),\"\")","v":""},{"$f":"IFERROR(INDEX('Base Data wHSA (NCI Modified)'!$L$2:'Base Data wHSA (NCI Modified)'!$T$3142,'Base Data wHSA (NCI Modified)'!$K18,COLUMNS(COUNTIES!$D$2:E18)),\"\")","v":""},{"$f":"IFERROR(INDEX('Base Data wHSA (NCI Modified)'!$L$2:'Base Data wHSA (NCI Modified)'!$T$3142,'Base Data wHSA (NCI Modified)'!$K18,COLUMNS(COUNTIES!$D$2:F18)),\"\")","v":""},{"$f":"IFERROR(INDEX('Base Data wHSA (NCI Modified)'!$L$2:'Base Data wHSA (NCI Modified)'!$T$3142,'Base Data wHSA (NCI Modified)'!$K18,COLUMNS(COUNTIES!$D$2:G18)),\"\")","v":""},{"$f":"IFERROR(INDEX('Base Data wHSA (NCI Modified)'!$L$2:'Base Data wHSA (NCI Modified)'!$T$3142,'Base Data wHSA (NCI Modified)'!$K18,COLUMNS(COUNTIES!$D$2:H18)),\"\")","v":""},{"$f":"IFERROR(INDEX('Base Data wHSA (NCI Modified)'!$L$2:'Base Data wHSA (NCI Modified)'!$T$3142,'Base Data wHSA (NCI Modified)'!$K18,COLUMNS(COUNTIES!$D$2:I18)),\"\")","v":""},{"$f":"IFERROR(INDEX('Base Data wHSA (NCI Modified)'!$L$2:'Base Data wHSA (NCI Modified)'!$T$3142,'Base Data wHSA (NCI Modified)'!$K18,COLUMNS(COUNTIES!$D$2:J18)),\"\")","v":""},{"$f":"IFERROR(INDEX('Base Data wHSA (NCI Modified)'!$L$2:'Base Data wHSA (NCI Modified)'!$T$3142,'Base Data wHSA (NCI Modified)'!$K18,COLUMNS(COUNTIES!$D$2:K18)),\"\")","v":""},{"$f":"IFERROR(INDEX('Base Data wHSA (NCI Modified)'!$L$2:'Base Data wHSA (NCI Modified)'!$T$3142,'Base Data wHSA (NCI Modified)'!$K18,COLUMNS(COUNTIES!$D$2:L18)),\"\")","v":""}]
[{"$f":"ROWS($E$2:E19)","v":18},{"$f":"IF(E19=WORKSHEET!$B$2,A19,\"\")","v":""},"",{"$f":"IFERROR(INDEX('Base Data wHSA (NCI Modified)'!$L$2:'Base Data wHSA (NCI Modified)'!$T$3142,'Base Data wHSA (NCI Modified)'!$K19,COLUMNS(COUNTIES!$D$2:D19)),\"\")","v":""},{"$f":"IFERROR(INDEX('Base Data wHSA (NCI Modified)'!$L$2:'Base Data wHSA (NCI Modified)'!$T$3142,'Base Data wHSA (NCI Modified)'!$K19,COLUMNS(COUNTIES!$D$2:E19)),\"\")","v":""},{"$f":"IFERROR(INDEX('Base Data wHSA (NCI Modified)'!$L$2:'Base Data wHSA (NCI Modified)'!$T$3142,'Base Data wHSA (NCI Modified)'!$K19,COLUMNS(COUNTIES!$D$2:F19)),\"\")","v":""},{"$f":"IFERROR(INDEX('Base Data wHSA (NCI Modified)'!$L$2:'Base Data wHSA (NCI Modified)'!$T$3142,'Base Data wHSA (NCI Modified)'!$K19,COLUMNS(COUNTIES!$D$2:G19)),\"\")","v":""},{"$f":"IFERROR(INDEX('Base Data wHSA (NCI Modified)'!$L$2:'Base Data wHSA (NCI Modified)'!$T$3142,'Base Data wHSA (NCI Modified)'!$K19,COLUMNS(COUNTIES!$D$2:H19)),\"\")","v":""},{"$f":"IFERROR(INDEX('Base Data wHSA (NCI Modified)'!$L$2:'Base Data wHSA (NCI Modified)'!$T$3142,'Base Data wHSA (NCI Modified)'!$K19,COLUMNS(COUNTIES!$D$2:I19)),\"\")","v":""},{"$f":"IFERROR(INDEX('Base Data wHSA (NCI Modified)'!$L$2:'Base Data wHSA (NCI Modified)'!$T$3142,'Base Data wHSA (NCI Modified)'!$K19,COLUMNS(COUNTIES!$D$2:J19)),\"\")","v":""},{"$f":"IFERROR(INDEX('Base Data wHSA (NCI Modified)'!$L$2:'Base Data wHSA (NCI Modified)'!$T$3142,'Base Data wHSA (NCI Modified)'!$K19,COLUMNS(COUNTIES!$D$2:K19)),\"\")","v":""},{"$f":"IFERROR(INDEX('Base Data wHSA (NCI Modified)'!$L$2:'Base Data wHSA (NCI Modified)'!$T$3142,'Base Data wHSA (NCI Modified)'!$K19,COLUMNS(COUNTIES!$D$2:L19)),\"\")","v":""}]
[{"$f":"ROWS($E$2:E20)","v":19},{"$f":"IF(E20=WORKSHEET!$B$2,A20,\"\")","v":""},"",{"$f":"IFERROR(INDEX('Base Data wHSA (NCI Modified)'!$L$2:'Base Data wHSA (NCI Modified)'!$T$3142,'Base Data wHSA (NCI Modified)'!$K20,COLUMNS(COUNTIES!$D$2:D20)),\"\")","v":""},{"$f":"IFERROR(INDEX('Base Data wHSA (NCI Modified)'!$L$2:'Base Data wHSA (NCI Modified)'!$T$3142,'Base Data wHSA (NCI Modified)'!$K20,COLUMNS(COUNTIES!$D$2:E20)),\"\")","v":""},{"$f":"IFERROR(INDEX('Base Data wHSA (NCI Modified)'!$L$2:'Base Data wHSA (NCI Modified)'!$T$3142,'Base Data wHSA (NCI Modified)'!$K20,COLUMNS(COUNTIES!$D$2:F20)),\"\")","v":""},{"$f":"IFERROR(INDEX('Base Data wHSA (NCI Modified)'!$L$2:'Base Data wHSA (NCI Modified)'!$T$3142,'Base Data wHSA (NCI Modified)'!$K20,COLUMNS(COUNTIES!$D$2:G20)),\"\")","v":""},{"$f":"IFERROR(INDEX('Base Data wHSA (NCI Modified)'!$L$2:'Base Data wHSA (NCI Modified)'!$T$3142,'Base Data wHSA (NCI Modified)'!$K20,COLUMNS(COUNTIES!$D$2:H20)),\"\")","v":""},{"$f":"IFERROR(INDEX('Base Data wHSA (NCI Modified)'!$L$2:'Base Data wHSA (NCI Modified)'!$T$3142,'Base Data wHSA (NCI Modified)'!$K20,COLUMNS(COUNTIES!$D$2:I20)),\"\")","v":""},{"$f":"IFERROR(INDEX('Base Data wHSA (NCI Modified)'!$L$2:'Base Data wHSA (NCI Modified)'!$T$3142,'Base Data wHSA (NCI Modified)'!$K20,COLUMNS(COUNTIES!$D$2:J20)),\"\")","v":""},{"$f":"IFERROR(INDEX('Base Data wHSA (NCI Modified)'!$L$2:'Base Data wHSA (NCI Modified)'!$T$3142,'Base Data wHSA (NCI Modified)'!$K20,COLUMNS(COUNTIES!$D$2:K20)),\"\")","v":""},{"$f":"IFERROR(INDEX('Base Data wHSA (NCI Modified)'!$L$2:'Base Data wHSA (NCI Modified)'!$T$3142,'Base Data wHSA (NCI Modified)'!$K20,COLUMNS(COUNTIES!$D$2:L20)),\"\")","v":""}]
[{"$f":"ROWS($E$2:E21)","v":20},{"$f":"IF(E21=WORKSHEET!$B$2,A21,\"\")","v":""},"",{"$f":"IFERROR(INDEX('Base Data wHSA (NCI Modified)'!$L$2:'Base Data wHSA (NCI Modified)'!$T$3142,'Base Data wHSA (NCI Modified)'!$K21,COLUMNS(COUNTIES!$D$2:D21)),\"\")","v":""},{"$f":"IFERROR(INDEX('Base Data wHSA (NCI Modified)'!$L$2:'Base Data wHSA (NCI Modified)'!$T$3142,'Base Data wHSA (NCI Modified)'!$K21,COLUMNS(COUNTIES!$D$2:E21)),\"\")","v":""},{"$f":"IFERROR(INDEX('Base Data wHSA (NCI Modified)'!$L$2:'Base Data wHSA (NCI Modified)'!$T$3142,'Base Data wHSA (NCI Modified)'!$K21,COLUMNS(COUNTIES!$D$2:F21)),\"\")","v":""},{"$f":"IFERROR(INDEX('Base Data wHSA (NCI Modified)'!$L$2:'Base Data wHSA (NCI Modified)'!$T$3142,'Base Data wHSA (NCI Modified)'!$K21,COLUMNS(COUNTIES!$D$2:G21)),\"\")","v":""},{"$f":"IFERROR(INDEX('Base Data wHSA (NCI Modified)'!$L$2:'Base Data wHSA (NCI Modified)'!$T$3142,'Base Data wHSA (NCI Modified)'!$K21,COLUMNS(COUNTIES!$D$2:H21)),\"\")","v":""},{"$f":"IFERROR(INDEX('Base Data wHSA (NCI Modified)'!$L$2:'Base Data wHSA (NCI Modified)'!$T$3142,'Base Data wHSA (NCI Modified)'!$K21,COLUMNS(COUNTIES!$D$2:I21)),\"\")","v":""},{"$f":"IFERROR(INDEX('Base Data wHSA (NCI Modified)'!$L$2:'Base Data wHSA (NCI Modified)'!$T$3142,'Base Data wHSA (NCI Modified)'!$K21,COLUMNS(COUNTIES!$D$2:J21)),\"\")","v":""},{"$f":"IFERROR(INDEX('Base Data wHSA (NCI Modified)'!$L$2:'Base Data wHSA (NCI Modified)'!$T$3142,'Base Data wHSA (NCI Modified)'!$K21,COLUMNS(COUNTIES!$D$2:K21)),\"\")","v":""},{"$f":"IFERROR(INDEX('Base Data wHSA (NCI Modified)'!$L$2:'Base Data wHSA (NCI Modified)'!$T$3142,'Base Data wHSA (NCI Modified)'!$K21,COLUMNS(COUNTIES!$D$2:L21)),\"\")","v":""}]
[{"$f":"ROWS($E$2:E22)","v":21},{"$f":"IF(E22=WORKSHEET!$B$2,A22,\"\")","v":""},"",{"$f":"IFERROR(INDEX('Base Data wHSA (NCI Modified)'!$L$2:'Base Data wHSA (NCI Modified)'!$T$3142,'Base Data wHSA (NCI Modified)'!$K22,COLUMNS(COUNTIES!$D$2:D22)),\"\")","v":""},{"$f":"IFERROR(INDEX('Base Data wHSA (NCI Modified)'!$L$2:'Base Data wHSA (NCI Modified)'!$T$3142,'Base Data wHSA (NCI Modified)'!$K22,COLUMNS(COUNTIES!$D$2:E22)),\"\")","v":""},{"$f":"IFERROR(INDEX('Base Data wHSA (NCI Modified)'!$L$2:'Base Data wHSA (NCI Modified)'!$T$3142,'Base Data wHSA (NCI Modified)'!$K22,COLUMNS(COUNTIES!$D$2:F22)),\"\")","v":""},{"$f":"IFERROR(INDEX('Base Data wHSA (NCI Modified)'!$L$2:'Base Data wHSA (NCI Modified)'!$T$3142,'Base Data wHSA (NCI Modified)'!$K22,COLUMNS(COUNTIES!$D$2:G22)),\"\")","v":""},{"$f":"IFERROR(INDEX('Base Data wHSA (NCI Modified)'!$L$2:'Base Data wHSA (NCI Modified)'!$T$3142,'Base Data wHSA (NCI Modified)'!$K22,COLUMNS(COUNTIES!$D$2:H22)),\"\")","v":""},{"$f":"IFERROR(INDEX('Base Data wHSA (NCI Modified)'!$L$2:'Base Data wHSA (NCI Modified)'!$T$3142,'Base Data wHSA (NCI Modified)'!$K22,COLUMNS(COUNTIES!$D$2:I22)),\"\")","v":""},{"$f":"IFERROR(INDEX('Base Data wHSA (NCI Modified)'!$L$2:'Base Data wHSA (NCI Modified)'!$T$3142,'Base Data wHSA (NCI Modified)'!$K22,COLUMNS(COUNTIES!$D$2:J22)),\"\")","v":""},{"$f":"IFERROR(INDEX('Base Data wHSA (NCI Modified)'!$L$2:'Base Data wHSA (NCI Modified)'!$T$3142,'Base Data wHSA (NCI Modified)'!$K22,COLUMNS(COUNTIES!$D$2:K22)),\"\")","v":""},{"$f":"IFERROR(INDEX('Base Data wHSA (NCI Modified)'!$L$2:'Base Data wHSA (NCI Modified)'!$T$3142,'Base Data wHSA (NCI Modified)'!$K22,COLUMNS(COUNTIES!$D$2:L22)),\"\")","v":""}]
[{"$f":"ROWS($E$2:E23)","v":22},{"$f":"IF(E23=WORKSHEET!$B$2,A23,\"\")","v":""},"",{"$f":"IFERROR(INDEX('Base Data wHSA (NCI Modified)'!$L$2:'Base Data wHSA (NCI Modified)'!$T$3142,'Base Data wHSA (NCI Modified)'!$K23,COLUMNS(COUNTIES!$D$2:D23)),\"\")","v":""},{"$f":"IFERROR(INDEX('Base Data wHSA (NCI Modified)'!$L$2:'Base Data wHSA (NCI Modified)'!$T$3142,'Base Data wHSA (NCI Modified)'!$K23,COLUMNS(COUNTIES!$D$2:E23)),\"\")","v":""},{"$f":"IFERROR(INDEX('Base Data wHSA (NCI Modified)'!$L$2:'Base Data wHSA (NCI Modified)'!$T$3142,'Base Data wHSA (NCI Modified)'!$K23,COLUMNS(COUNTIES!$D$2:F23)),\"\")","v":""},{"$f":"IFERROR(INDEX('Base Data wHSA (NCI Modified)'!$L$2:'Base Data wHSA (NCI Modified)'!$T$3142,'Base Data wHSA (NCI Modified)'!$K23,COLUMNS(COUNTIES!$D$2:G23)),\"\")","v":""},{"$f":"IFERROR(INDEX('Base Data wHSA (NCI Modified)'!$L$2:'Base Data wHSA (NCI Modified)'!$T$3142,'Base Data wHSA (NCI Modified)'!$K23,COLUMNS(COUNTIES!$D$2:H23)),\"\")","v":""},{"$f":"IFERROR(INDEX('Base Data wHSA (NCI Modified)'!$L$2:'Base Data wHSA (NCI Modified)'!$T$3142,'Base Data wHSA (NCI Modified)'!$K23,COLUMNS(COUNTIES!$D$2:I23)),\"\")","v":""},{"$f":"IFERROR(INDEX('Base Data wHSA (NCI Modified)'!$L$2:'Base Data wHSA (NCI Modified)'!$T$3142,'Base Data wHSA (NCI Modified)'!$K23,COLUMNS(COUNTIES!$D$2:J23)),\"\")","v":""},{"$f":"IFERROR(INDEX('Base Data wHSA (NCI Modified)'!$L$2:'Base Data wHSA (NCI Modified)'!$T$3142,'Base Data wHSA (NCI Modified)'!$K23,COLUMNS(COUNTIES!$D$2:K23)),\"\")","v":""},{"$f":"IFERROR(INDEX('Base Data wHSA (NCI Modified)'!$L$2:'Base Data wHSA (NCI Modified)'!$T$3142,'Base Data wHSA (NCI Modified)'!$K23,COLUMNS(COUNTIES!$D$2:L23)),\"\")","v":""}]
[{"$f":"ROWS($E$2:E24)","v":23},{"$f":"IF(E24=WORKSHEET!$B$2,A24,\"\")","v":""},"",{"$f":"IFERROR(INDEX('Base Data wHSA (NCI Modified)'!$L$2:'Base Data wHSA (NCI Modified)'!$T$3142,'Base Data wHSA (NCI Modified)'!$K24,COLUMNS(COUNTIES!$D$2:D24)),\"\")","v":""},{"$f":"IFERROR(INDEX('Base Data wHSA (NCI Modified)'!$L$2:'Base Data wHSA (NCI Modified)'!$T$3142,'Base Data wHSA (NCI Modified)'!$K24,COLUMNS(COUNTIES!$D$2:E24)),\"\")","v":""},{"$f":"IFERROR(INDEX('Base Data wHSA (NCI Modified)'!$L$2:'Base Data wHSA (NCI Modified)'!$T$3142,'Base Data wHSA (NCI Modified)'!$K24,COLUMNS(COUNTIES!$D$2:F24)),\"\")","v":""},{"$f":"IFERROR(INDEX('Base Data wHSA (NCI Modified)'!$L$2:'Base Data wHSA (NCI Modified)'!$T$3142,'Base Data wHSA (NCI Modified)'!$K24,COLUMNS(COUNTIES!$D$2:G24)),\"\")","v":""},{"$f":"IFERROR(INDEX('Base Data wHSA (NCI Modified)'!$L$2:'Base Data wHSA (NCI Modified)'!$T$3142,'Base Data wHSA (NCI Modified)'!$K24,COLUMNS(COUNTIES!$D$2:H24)),\"\")","v":""},{"$f":"IFERROR(INDEX('Base Data wHSA (NCI Modified)'!$L$2:'Base Data wHSA (NCI Modified)'!$T$3142,'Base Data wHSA (NCI Modified)'!$K24,COLUMNS(COUNTIES!$D$2:I24)),\"\")","v":""},{"$f":"IFERROR(INDEX('Base Data wHSA (NCI Modified)'!$L$2:'Base Data wHSA (NCI Modified)'!$T$3142,'Base Data wHSA (NCI Modified)'!$K24,COLUMNS(COUNTIES!$D$2:J24)),\"\")","v":""},{"$f":"IFERROR(INDEX('Base Data wHSA (NCI Modified)'!$L$2:'Base Data wHSA (NCI Modified)'!$T$3142,'Base Data wHSA (NCI Modified)'!$K24,COLUMNS(COUNTIES!$D$2:K24)),\"\")","v":""},{"$f":"IFERROR(INDEX('Base Data wHSA (NCI Modified)'!$L$2:'Base Data wHSA (NCI Modified)'!$T$3142,'Base Data wHSA (NCI Modified)'!$K24,COLUMNS(COUNTIES!$D$2:L24)),\"\")","v":""}]
[{"$f":"ROWS($E$2:E25)","v":24},{"$f":"IF(E25=WORKSHEET!$B$2,A25,\"\")","v":""},"",{"$f":"IFERROR(INDEX('Base Data wHSA (NCI Modified)'!$L$2:'Base Data wHSA (NCI Modified)'!$T$3142,'Base Data wHSA (NCI Modified)'!$K25,COLUMNS(COUNTIES!$D$2:D25)),\"\")","v":""},{"$f":"IFERROR(INDEX('Base Data wHSA (NCI Modified)'!$L$2:'Base Data wHSA (NCI Modified)'!$T$3142,'Base Data wHSA (NCI Modified)'!$K25,COLUMNS(COUNTIES!$D$2:E25)),\"\")","v":""},{"$f":"IFERROR(INDEX('Base Data wHSA (NCI Modified)'!$L$2:'Base Data wHSA (NCI Modified)'!$T$3142,'Base Data wHSA (NCI Modified)'!$K25,COLUMNS(COUNTIES!$D$2:F25)),\"\")","v":""},{"$f":"IFERROR(INDEX('Base Data wHSA (NCI Modified)'!$L$2:'Base Data wHSA (NCI Modified)'!$T$3142,'Base Data wHSA (NCI Modified)'!$K25,COLUMNS(COUNTIES!$D$2:G25)),\"\")","v":""},{"$f":"IFERROR(INDEX('Base Data wHSA (NCI Modified)'!$L$2:'Base Data wHSA (NCI Modified)'!$T$3142,'Base Data wHSA (NCI Modified)'!$K25,COLUMNS(COUNTIES!$D$2:H25)),\"\")","v":""},{"$f":"IFERROR(INDEX('Base Data wHSA (NCI Modified)'!$L$2:'Base Data wHSA (NCI Modified)'!$T$3142,'Base Data wHSA (NCI Modified)'!$K25,COLUMNS(COUNTIES!$D$2:I25)),\"\")","v":""},{"$f":"IFERROR(INDEX('Base Data wHSA (NCI Modified)'!$L$2:'Base Data wHSA (NCI Modified)'!$T$3142,'Base Data wHSA (NCI Modified)'!$K25,COLUMNS(COUNTIES!$D$2:J25)),\"\")","v":""},{"$f":"IFERROR(INDEX('Base Data wHSA (NCI Modified)'!$L$2:'Base Data wHSA (NCI Modified)'!$T$3142,'Base Data wHSA (NCI Modified)'!$K25,COLUMNS(COUNTIES!$D$2:K25)),\"\")","v":""},{"$f":"IFERROR(INDEX('Base Data wHSA (NCI Modified)'!$L$2:'Base Data wHSA (NCI Modified)'!$T$3142,'Base Data wHSA (NCI Modified)'!$K25,COLUMNS(COUNTIES!$D$2:L25)),\"\")","v":""}]
[{"$f":"ROWS($E$2:E26)","v":25},{"$f":"IF(E26=WORKSHEET!$B$2,A26,\"\")","v":""},"",{"$f":"IFERROR(INDEX('Base Data wHSA (NCI Modified)'!$L$2:'Base Data wHSA (NCI Modified)'!$T$3142,'Base Data wHSA (NCI Modified)'!$K26,COLUMNS(COUNTIES!$D$2:D26)),\"\")","v":""},{"$f":"IFERROR(INDEX('Base Data wHSA (NCI Modified)'!$L$2:'Base Data wHSA (NCI Modified)'!$T$3142,'Base Data wHSA (NCI Modified)'!$K26,COLUMNS(COUNTIES!$D$2:E26)),\"\")","v":""},{"$f":"IFERROR(INDEX('Base Data wHSA (NCI Modified)'!$L$2:'Base Data wHSA (NCI Modified)'!$T$3142,'Base Data wHSA (NCI Modified)'!$K26,COLUMNS(COUNTIES!$D$2:F26)),\"\")","v":""},{"$f":"IFERROR(INDEX('Base Data wHSA (NCI Modified)'!$L$2:'Base Data wHSA (NCI Modified)'!$T$3142,'Base Data wHSA (NCI Modified)'!$K26,COLUMNS(COUNTIES!$D$2:G26)),\"\")","v":""},{"$f":"IFERROR(INDEX('Base Data wHSA (NCI Modified)'!$L$2:'Base Data wHSA (NCI Modified)'!$T$3142,'Base Data wHSA (NCI Modified)'!$K26,COLUMNS(COUNTIES!$D$2:H26)),\"\")","v":""},{"$f":"IFERROR(INDEX('Base Data wHSA (NCI Modified)'!$L$2:'Base Data wHSA (NCI Modified)'!$T$3142,'Base Data wHSA (NCI Modified)'!$K26,COLUMNS(COUNTIES!$D$2:I26)),\"\")","v":""},{"$f":"IFERROR(INDEX('Base Data wHSA (NCI Modified)'!$L$2:'Base Data wHSA (NCI Modified)'!$T$3142,'Base Data wHSA (NCI Modified)'!$K26,COLUMNS(COUNTIES!$D$2:J26)),\"\")","v":""},{"$f":"IFERROR(INDEX('Base Data wHSA (NCI Modified)'!$L$2:'Base Data wHSA (NCI Modified)'!$T$3142,'Base Data wHSA (NCI Modified)'!$K26,COLUMNS(COUNTIES!$D$2:K26)),\"\")","v":""},{"$f":"IFERROR(INDEX('Base Data wHSA (NCI Modified)'!$L$2:'Base Data wHSA (NCI Modified)'!$T$3142,'Base Data wHSA (NCI Modified)'!$K26,COLUMNS(COUNTIES!$D$2:L26)),\"\")","v":""}]
[{"$f":"ROWS($E$2:E27)","v":26},{"$f":"IF(E27=WORKSHEET!$B$2,A27,\"\")","v":""},"",{"$f":"IFERROR(INDEX('Base Data wHSA (NCI Modified)'!$L$2:'Base Data wHSA (NCI Modified)'!$T$3142,'Base Data wHSA (NCI Modified)'!$K27,COLUMNS(COUNTIES!$D$2:D27)),\"\")","v":""},{"$f":"IFERROR(INDEX('Base Data wHSA (NCI Modified)'!$L$2:'Base Data wHSA (NCI Modified)'!$T$3142,'Base Data wHSA (NCI Modified)'!$K27,COLUMNS(COUNTIES!$D$2:E27)),\"\")","v":""},{"$f":"IFERROR(INDEX('Base Data wHSA (NCI Modified)'!$L$2:'Base Data wHSA (NCI Modified)'!$T$3142,'Base Data wHSA (NCI Modified)'!$K27,COLUMNS(COUNTIES!$D$2:F27)),\"\")","v":""},{"$f":"IFERROR(INDEX('Base Data wHSA (NCI Modified)'!$L$2:'Base Data wHSA (NCI Modified)'!$T$3142,'Base Data wHSA (NCI Modified)'!$K27,COLUMNS(COUNTIES!$D$2:G27)),\"\")","v":""},{"$f":"IFERROR(INDEX('Base Data wHSA (NCI Modified)'!$L$2:'Base Data wHSA (NCI Modified)'!$T$3142,'Base Data wHSA (NCI Modified)'!$K27,COLUMNS(COUNTIES!$D$2:H27)),\"\")","v":""},{"$f":"IFERROR(INDEX('Base Data wHSA (NCI Modified)'!$L$2:'Base Data wHSA (NCI Modified)'!$T$3142,'Base Data wHSA (NCI Modified)'!$K27,COLUMNS(COUNTIES!$D$2:I27)),\"\")","v":""},{"$f":"IFERROR(INDEX('Base Data wHSA (NCI Modified)'!$L$2:'Base Data wHSA (NCI Modified)'!$T$3142,'Base Data wHSA (NCI Modified)'!$K27,COLUMNS(COUNTIES!$D$2:J27)),\"\")","v":""},{"$f":"IFERROR(INDEX('Base Data wHSA (NCI Modified)'!$L$2:'Base Data wHSA (NCI Modified)'!$T$3142,'Base Data wHSA (NCI Modified)'!$K27,COLUMNS(COUNTIES!$D$2:K27)),\"\")","v":""},{"$f":"IFERROR(INDEX('Base Data wHSA (NCI Modified)'!$L$2:'Base Data wHSA (NCI Modified)'!$T$3142,'Base Data wHSA (NCI Modified)'!$K27,COLUMNS(COUNTIES!$D$2:L27)),\"\")","v":""}]
[{"$f":"ROWS($E$2:E28)","v":27},{"$f":"IF(E28=WORKSHEET!$B$2,A28,\"\")","v":""},"",{"$f":"IFERROR(INDEX('Base Data wHSA (NCI Modified)'!$L$2:'Base Data wHSA (NCI Modified)'!$T$3142,'Base Data wHSA (NCI Modified)'!$K28,COLUMNS(COUNTIES!$D$2:D28)),\"\")","v":""},{"$f":"IFERROR(INDEX('Base Data wHSA (NCI Modified)'!$L$2:'Base Data wHSA (NCI Modified)'!$T$3142,'Base Data wHSA (NCI Modified)'!$K28,COLUMNS(COUNTIES!$D$2:E28)),\"\")","v":""},{"$f":"IFERROR(INDEX('Base Data wHSA (NCI Modified)'!$L$2:'Base Data wHSA (NCI Modified)'!$T$3142,'Base Data wHSA (NCI Modified)'!$K28,COLUMNS(COUNTIES!$D$2:F28)),\"\")","v":""},{"$f":"IFERROR(INDEX('Base Data wHSA (NCI Modified)'!$L$2:'Base Data wHSA (NCI Modified)'!$T$3142,'Base Data wHSA (NCI Modified)'!$K28,COLUMNS(COUNTIES!$D$2:G28)),\"\")","v":""},{"$f":"IFERROR(INDEX('Base Data wHSA (NCI Modified)'!$L$2:'Base Data wHSA (NCI Modified)'!$T$3142,'Base Data wHSA (NCI Modified)'!$K28,COLUMNS(COUNTIES!$D$2:H28)),\"\")","v":""},{"$f":"IFERROR(INDEX('Base Data wHSA (NCI Modified)'!$L$2:'Base Data wHSA (NCI Modified)'!$T$3142,'Base Data wHSA (NCI Modified)'!$K28,COLUMNS(COUNTIES!$D$2:I28)),\"\")","v":""},{"$f":"IFERROR(INDEX('Base Data wHSA (NCI Modified)'!$L$2:'Base Data wHSA (NCI Modified)'!$T$3142,'Base Data wHSA (NCI Modified)'!$K28,COLUMNS(COUNTIES!$D$2:J28)),\"\")","v":""},{"$f":"IFERROR(INDEX('Base Data wHSA (NCI Modified)'!$L$2:'Base Data wHSA (NCI Modified)'!$T$3142,'Base Data wHSA (NCI Modified)'!$K28,COLUMNS(COUNTIES!$D$2:K28)),\"\")","v":""},{"$f":"IFERROR(INDEX('Base Data wHSA (NCI Modified)'!$L$2:'Base Data wHSA (NCI Modified)'!$T$3142,'Base Data wHSA (NCI Modified)'!$K28,COLUMNS(COUNTIES!$D$2:L28)),\"\")","v":""}]
[{"$f":"ROWS($E$2:E29)","v":28},{"$f":"IF(E29=WORKSHEET!$B$2,A29,\"\")","v":""},"",{"$f":"IFERROR(INDEX('Base Data wHSA (NCI Modified)'!$L$2:'Base Data wHSA (NCI Modified)'!$T$3142,'Base Data wHSA (NCI Modified)'!$K29,COLUMNS(COUNTIES!$D$2:D29)),\"\")","v":""},{"$f":"IFERROR(INDEX('Base Data wHSA (NCI Modified)'!$L$2:'Base Data wHSA (NCI Modified)'!$T$3142,'Base Data wHSA (NCI Modified)'!$K29,COLUMNS(COUNTIES!$D$2:E29)),\"\")","v":""},{"$f":"IFERROR(INDEX('Base Data wHSA (NCI Modified)'!$L$2:'Base Data wHSA (NCI Modified)'!$T$3142,'Base Data wHSA (NCI Modified)'!$K29,COLUMNS(COUNTIES!$D$2:F29)),\"\")","v":""},{"$f":"IFERROR(INDEX('Base Data wHSA (NCI Modified)'!$L$2:'Base Data wHSA (NCI Modified)'!$T$3142,'Base Data wHSA (NCI Modified)'!$K29,COLUMNS(COUNTIES!$D$2:G29)),\"\")","v":""},{"$f":"IFERROR(INDEX('Base Data wHSA (NCI Modified)'!$L$2:'Base Data wHSA (NCI Modified)'!$T$3142,'Base Data wHSA (NCI Modified)'!$K29,COLUMNS(COUNTIES!$D$2:H29)),\"\")","v":""},{"$f":"IFERROR(INDEX('Base Data wHSA (NCI Modified)'!$L$2:'Base Data wHSA (NCI Modified)'!$T$3142,'Base Data wHSA (NCI Modified)'!$K29,COLUMNS(COUNTIES!$D$2:I29)),\"\")","v":""},{"$f":"IFERROR(INDEX('Base Data wHSA (NCI Modified)'!$L$2:'Base Data wHSA (NCI Modified)'!$T$3142,'Base Data wHSA (NCI Modified)'!$K29,COLUMNS(COUNTIES!$D$2:J29)),\"\")","v":""},{"$f":"IFERROR(INDEX('Base Data wHSA (NCI Modified)'!$L$2:'Base Data wHSA (NCI Modified)'!$T$3142,'Base Data wHSA (NCI Modified)'!$K29,COLUMNS(COUNTIES!$D$2:K29)),\"\")","v":""},{"$f":"IFERROR(INDEX('Base Data wHSA (NCI Modified)'!$L$2:'Base Data wHSA (NCI Modified)'!$T$3142,'Base Data wHSA (NCI Modified)'!$K29,COLUMNS(COUNTIES!$D$2:L29)),\"\")","v":""}]
[{"$f":"ROWS($E$2:E30)","v":29},{"$f":"IF(E30=WORKSHEET!$B$2,A30,\"\")","v":""},"",{"$f":"IFERROR(INDEX('Base Data wHSA (NCI Modified)'!$L$2:'Base Data wHSA (NCI Modified)'!$T$3142,'Base Data wHSA (NCI Modified)'!$K30,COLUMNS(COUNTIES!$D$2:D30)),\"\")","v":""},{"$f":"IFERROR(INDEX('Base Data wHSA (NCI Modified)'!$L$2:'Base Data wHSA (NCI Modified)'!$T$3142,'Base Data wHSA (NCI Modified)'!$K30,COLUMNS(COUNTIES!$D$2:E30)),\"\")","v":""},{"$f":"IFERROR(INDEX('Base Data wHSA (NCI Modified)'!$L$2:'Base Data wHSA (NCI Modified)'!$T$3142,'Base Data wHSA (NCI Modified)'!$K30,COLUMNS(COUNTIES!$D$2:F30)),\"\")","v":""},{"$f":"IFERROR(INDEX('Base Data wHSA (NCI Modified)'!$L$2:'Base Data wHSA (NCI Modified)'!$T$3142,'Base Data wHSA (NCI Modified)'!$K30,COLUMNS(COUNTIES!$D$2:G30)),\"\")","v":""},{"$f":"IFERROR(INDEX('Base Data wHSA (NCI Modified)'!$L$2:'Base Data wHSA (NCI Modified)'!$T$3142,'Base Data wHSA (NCI Modified)'!$K30,COLUMNS(COUNTIES!$D$2:H30)),\"\")","v":""},{"$f":"IFERROR(INDEX('Base Data wHSA (NCI Modified)'!$L$2:'Base Data wHSA (NCI Modified)'!$T$3142,'Base Data wHSA (NCI Modified)'!$K30,COLUMNS(COUNTIES!$D$2:I30)),\"\")","v":""},{"$f":"IFERROR(INDEX('Base Data wHSA (NCI Modified)'!$L$2:'Base Data wHSA (NCI Modified)'!$T$3142,'Base Data wHSA (NCI Modified)'!$K30,COLUMNS(COUNTIES!$D$2:J30)),\"\")","v":""},{"$f":"IFERROR(INDEX('Base Data wHSA (NCI Modified)'!$L$2:'Base Data wHSA (NCI Modified)'!$T$3142,'Base Data wHSA (NCI Modified)'!$K30,COLUMNS(COUNTIES!$D$2:K30)),\"\")","v":""},{"$f":"IFERROR(INDEX('Base Data wHSA (NCI Modified)'!$L$2:'Base Data wHSA (NCI Modified)'!$T$3142,'Base Data wHSA (NCI Modified)'!$K30,COLUMNS(COUNTIES!$D$2:L30)),\"\")","v":""}]
[{"$f":"ROWS($E$2:E31)","v":30},{"$f":"IF(E31=WORKSHEET!$B$2,A31,\"\")","v":""},"",{"$f":"IFERROR(INDEX('Base Data wHSA (NCI Modified)'!$L$2:'Base Data wHSA (NCI Modified)'!$T$3142,'Base Data wHSA (NCI Modified)'!$K31,COLUMNS(COUNTIES!$D$2:D31)),\"\")","v":""},{"$f":"IFERROR(INDEX('Base Data wHSA (NCI Modified)'!$L$2:'Base Data wHSA (NCI Modified)'!$T$3142,'Base Data wHSA (NCI Modified)'!$K31,COLUMNS(COUNTIES!$D$2:E31)),\"\")","v":""},{"$f":"IFERROR(INDEX('Base Data wHSA (NCI Modified)'!$L$2:'Base Data wHSA (NCI Modified)'!$T$3142,'Base Data wHSA (NCI Modified)'!$K31,COLUMNS(COUNTIES!$D$2:F31)),\"\")","v":""},{"$f":"IFERROR(INDEX('Base Data wHSA (NCI Modified)'!$L$2:'Base Data wHSA (NCI Modified)'!$T$3142,'Base Data wHSA (NCI Modified)'!$K31,COLUMNS(COUNTIES!$D$2:G31)),\"\")","v":""},{"$f":"IFERROR(INDEX('Base Data wHSA (NCI Modified)'!$L$2:'Base Data wHSA (NCI Modified)'!$T$3142,'Base Data wHSA (NCI Modified)'!$K31,COLUMNS(COUNTIES!$D$2:H31)),\"\")","v":""},{"$f":"IFERROR(INDEX('Base Data wHSA (NCI Modified)'!$L$2:'Base Data wHSA (NCI Modified)'!$T$3142,'Base Data wHSA (NCI Modified)'!$K31,COLUMNS(COUNTIES!$D$2:I31)),\"\")","v":""},{"$f":"IFERROR(INDEX('Base Data wHSA (NCI Modified)'!$L$2:'Base Data wHSA (NCI Modified)'!$T$3142,'Base Data wHSA (NCI Modified)'!$K31,COLUMNS(COUNTIES!$D$2:J31)),\"\")","v":""},{"$f":"IFERROR(INDEX('Base Data wHSA (NCI Modified)'!$L$2:'Base Data wHSA (NCI Modified)'!$T$3142,'Base Data wHSA (NCI Modified)'!$K31,COLUMNS(COUNTIES!$D$2:K31)),\"\")","v":""},{"$f":"IFERROR(INDEX('Base Data wHSA (NCI Modified)'!$L$2:'Base Data wHSA (NCI Modified)'!$T$3142,'Base Data wHSA (NCI Modified)'!$K31,COLUMNS(COUNTIES!$D$2:L31)),\"\")","v":""}]
[{"$f":"ROWS($E$2:E32)","v":31},{"$f":"IF(E32=WORKSHEET!$B$2,A32,\"\")","v":""},"",{"$f":"IFERROR(INDEX('Base Data wHSA (NCI Modified)'!$L$2:'Base Data wHSA (NCI Modified)'!$T$3142,'Base Data wHSA (NCI Modified)'!$K32,COLUMNS(COUNTIES!$D$2:D32)),\"\")","v":""},{"$f":"IFERROR(INDEX('Base Data wHSA (NCI Modified)'!$L$2:'Base Data wHSA (NCI Modified)'!$T$3142,'Base Data wHSA (NCI Modified)'!$K32,COLUMNS(COUNTIES!$D$2:E32)),\"\")","v":""},{"$f":"IFERROR(INDEX('Base Data wHSA (NCI Modified)'!$L$2:'Base Data wHSA (NCI Modified)'!$T$3142,'Base Data wHSA (NCI Modified)'!$K32,COLUMNS(COUNTIES!$D$2:F32)),\"\")","v":""},{"$f":"IFERROR(INDEX('Base Data wHSA (NCI Modified)'!$L$2:'Base Data wHSA (NCI Modified)'!$T$3142,'Base Data wHSA (NCI Modified)'!$K32,COLUMNS(COUNTIES!$D$2:G32)),\"\")","v":""},{"$f":"IFERROR(INDEX('Base Data wHSA (NCI Modified)'!$L$2:'Base Data wHSA (NCI Modified)'!$T$3142,'Base Data wHSA (NCI Modified)'!$K32,COLUMNS(COUNTIES!$D$2:H32)),\"\")","v":""},{"$f":"IFERROR(INDEX('Base Data wHSA (NCI Modified)'!$L$2:'Base Data wHSA (NCI Modified)'!$T$3142,'Base Data wHSA (NCI Modified)'!$K32,COLUMNS(COUNTIES!$D$2:I32)),\"\")","v":""},{"$f":"IFERROR(INDEX('Base Data wHSA (NCI Modified)'!$L$2:'Base Data wHSA (NCI Modified)'!$T$3142,'Base Data wHSA (NCI Modified)'!$K32,COLUMNS(COUNTIES!$D$2:J32)),\"\")","v":""},{"$f":"IFERROR(INDEX('Base Data wHSA (NCI Modified)'!$L$2:'Base Data wHSA (NCI Modified)'!$T$3142,'Base Data wHSA (NCI Modified)'!$K32,COLUMNS(COUNTIES!$D$2:K32)),\"\")","v":""},{"$f":"IFERROR(INDEX('Base Data wHSA (NCI Modified)'!$L$2:'Base Data wHSA (NCI Modified)'!$T$3142,'Base Data wHSA (NCI Modified)'!$K32,COLUMNS(COUNTIES!$D$2:L32)),\"\")","v":""}]
[{"$f":"ROWS($E$2:E33)","v":32},{"$f":"IF(E33=WORKSHEET!$B$2,A33,\"\")","v":""},"",{"$f":"IFERROR(INDEX('Base Data wHSA (NCI Modified)'!$L$2:'Base Data wHSA (NCI Modified)'!$T$3142,'Base Data wHSA (NCI Modified)'!$K33,COLUMNS(COUNTIES!$D$2:D33)),\"\")","v":""},{"$f":"IFERROR(INDEX('Base Data wHSA (NCI Modified)'!$L$2:'Base Data wHSA (NCI Modified)'!$T$3142,'Base Data wHSA (NCI Modified)'!$K33,COLUMNS(COUNTIES!$D$2:E33)),\"\")","v":""},{"$f":"IFERROR(INDEX('Base Data wHSA (NCI Modified)'!$L$2:'Base Data wHSA (NCI Modified)'!$T$3142,'Base Data wHSA (NCI Modified)'!$K33,COLUMNS(COUNTIES!$D$2:F33)),\"\")","v":""},{"$f":"IFERROR(INDEX('Base Data wHSA (NCI Modified)'!$L$2:'Base Data wHSA (NCI Modified)'!$T$3142,'Base Data wHSA (NCI Modified)'!$K33,COLUMNS(COUNTIES!$D$2:G33)),\"\")","v":""},{"$f":"IFERROR(INDEX('Base Data wHSA (NCI Modified)'!$L$2:'Base Data wHSA (NCI Modified)'!$T$3142,'Base Data wHSA (NCI Modified)'!$K33,COLUMNS(COUNTIES!$D$2:H33)),\"\")","v":""},{"$f":"IFERROR(INDEX('Base Data wHSA (NCI Modified)'!$L$2:'Base Data wHSA (NCI Modified)'!$T$3142,'Base Data wHSA (NCI Modified)'!$K33,COLUMNS(COUNTIES!$D$2:I33)),\"\")","v":""},{"$f":"IFERROR(INDEX('Base Data wHSA (NCI Modified)'!$L$2:'Base Data wHSA (NCI Modified)'!$T$3142,'Base Data wHSA (NCI Modified)'!$K33,COLUMNS(COUNTIES!$D$2:J33)),\"\")","v":""},{"$f":"IFERROR(INDEX('Base Data wHSA (NCI Modified)'!$L$2:'Base Data wHSA (NCI Modified)'!$T$3142,'Base Data wHSA (NCI Modified)'!$K33,COLUMNS(COUNTIES!$D$2:K33)),\"\")","v":""},{"$f":"IFERROR(INDEX('Base Data wHSA (NCI Modified)'!$L$2:'Base Data wHSA (NCI Modified)'!$T$3142,'Base Data wHSA (NCI Modified)'!$K33,COLUMNS(COUNTIES!$D$2:L33)),\"\")","v":""}]
[{"$f":"ROWS($E$2:E34)","v":33},{"$f":"IF(E34=WORKSHEET!$B$2,A34,\"\")","v":""},"",{"$f":"IFERROR(INDEX('Base Data wHSA (NCI Modified)'!$L$2:'Base Data wHSA (NCI Modified)'!$T$3142,'Base Data wHSA (NCI Modified)'!$K34,COLUMNS(COUNTIES!$D$2:D34)),\"\")","v":""},{"$f":"IFERROR(INDEX('Base Data wHSA (NCI Modified)'!$L$2:'Base Data wHSA (NCI Modified)'!$T$3142,'Base Data wHSA (NCI Modified)'!$K34,COLUMNS(COUNTIES!$D$2:E34)),\"\")","v":""},{"$f":"IFERROR(INDEX('Base Data wHSA (NCI Modified)'!$L$2:'Base Data wHSA (NCI Modified)'!$T$3142,'Base Data wHSA (NCI Modified)'!$K34,COLUMNS(COUNTIES!$D$2:F34)),\"\")","v":""},{"$f":"IFERROR(INDEX('Base Data wHSA (NCI Modified)'!$L$2:'Base Data wHSA (NCI Modified)'!$T$3142,'Base Data wHSA (NCI Modified)'!$K34,COLUMNS(COUNTIES!$D$2:G34)),\"\")","v":""},{"$f":"IFERROR(INDEX('Base Data wHSA (NCI Modified)'!$L$2:'Base Data wHSA (NCI Modified)'!$T$3142,'Base Data wHSA (NCI Modified)'!$K34,COLUMNS(COUNTIES!$D$2:H34)),\"\")","v":""},{"$f":"IFERROR(INDEX('Base Data wHSA (NCI Modified)'!$L$2:'Base Data wHSA (NCI Modified)'!$T$3142,'Base Data wHSA (NCI Modified)'!$K34,COLUMNS(COUNTIES!$D$2:I34)),\"\")","v":""},{"$f":"IFERROR(INDEX('Base Data wHSA (NCI Modified)'!$L$2:'Base Data wHSA (NCI Modified)'!$T$3142,'Base Data wHSA (NCI Modified)'!$K34,COLUMNS(COUNTIES!$D$2:J34)),\"\")","v":""},{"$f":"IFERROR(INDEX('Base Data wHSA (NCI Modified)'!$L$2:'Base Data wHSA (NCI Modified)'!$T$3142,'Base Data wHSA (NCI Modified)'!$K34,COLUMNS(COUNTIES!$D$2:K34)),\"\")","v":""},{"$f":"IFERROR(INDEX('Base Data wHSA (NCI Modified)'!$L$2:'Base Data wHSA (NCI Modified)'!$T$3142,'Base Data wHSA (NCI Modified)'!$K34,COLUMNS(COUNTIES!$D$2:L34)),\"\")","v":""}]
[{"$f":"ROWS($E$2:E35)","v":34},{"$f":"IF(E35=WORKSHEET!$B$2,A35,\"\")","v":""},"",{"$f":"IFERROR(INDEX('Base Data wHSA (NCI Modified)'!$L$2:'Base Data wHSA (NCI Modified)'!$T$3142,'Base Data wHSA (NCI Modified)'!$K35,COLUMNS(COUNTIES!$D$2:D35)),\"\")","v":""},{"$f":"IFERROR(INDEX('Base Data wHSA (NCI Modified)'!$L$2:'Base Data wHSA (NCI Modified)'!$T$3142,'Base Data wHSA (NCI Modified)'!$K35,COLUMNS(COUNTIES!$D$2:E35)),\"\")","v":""},{"$f":"IFERROR(INDEX('Base Data wHSA (NCI Modified)'!$L$2:'Base Data wHSA (NCI Modified)'!$T$3142,'Base Data wHSA (NCI Modified)'!$K35,COLUMNS(COUNTIES!$D$2:F35)),\"\")","v":""},{"$f":"IFERROR(INDEX('Base Data wHSA (NCI Modified)'!$L$2:'Base Data wHSA (NCI Modified)'!$T$3142,'Base Data wHSA (NCI Modified)'!$K35,COLUMNS(COUNTIES!$D$2:G35)),\"\")","v":""},{"$f":"IFERROR(INDEX('Base Data wHSA (NCI Modified)'!$L$2:'Base Data wHSA (NCI Modified)'!$T$3142,'Base Data wHSA (NCI Modified)'!$K35,COLUMNS(COUNTIES!$D$2:H35)),\"\")","v":""},{"$f":"IFERROR(INDEX('Base Data wHSA (NCI Modified)'!$L$2:'Base Data wHSA (NCI Modified)'!$T$3142,'Base Data wHSA (NCI Modified)'!$K35,COLUMNS(COUNTIES!$D$2:I35)),\"\")","v":""},{"$f":"IFERROR(INDEX('Base Data wHSA (NCI Modified)'!$L$2:'Base Data wHSA (NCI Modified)'!$T$3142,'Base Data wHSA (NCI Modified)'!$K35,COLUMNS(COUNTIES!$D$2:J35)),\"\")","v":""},{"$f":"IFERROR(INDEX('Base Data wHSA (NCI Modified)'!$L$2:'Base Data wHSA (NCI Modified)'!$T$3142,'Base Data wHSA (NCI Modified)'!$K35,COLUMNS(COUNTIES!$D$2:K35)),\"\")","v":""},{"$f":"IFERROR(INDEX('Base Data wHSA (NCI Modified)'!$L$2:'Base Data wHSA (NCI Modified)'!$T$3142,'Base Data wHSA (NCI Modified)'!$K35,COLUMNS(COUNTIES!$D$2:L35)),\"\")","v":""}]
[{"$f":"ROWS($E$2:E36)","v":35},{"$f":"IF(E36=WORKSHEET!$B$2,A36,\"\")","v":""},"",{"$f":"IFERROR(INDEX('Base Data wHSA (NCI Modified)'!$L$2:'Base Data wHSA (NCI Modified)'!$T$3142,'Base Data wHSA (NCI Modified)'!$K36,COLUMNS(COUNTIES!$D$2:D36)),\"\")","v":""},{"$f":"IFERROR(INDEX('Base Data wHSA (NCI Modified)'!$L$2:'Base Data wHSA (NCI Modified)'!$T$3142,'Base Data wHSA (NCI Modified)'!$K36,COLUMNS(COUNTIES!$D$2:E36)),\"\")","v":""},{"$f":"IFERROR(INDEX('Base Data wHSA (NCI Modified)'!$L$2:'Base Data wHSA (NCI Modified)'!$T$3142,'Base Data wHSA (NCI Modified)'!$K36,COLUMNS(COUNTIES!$D$2:F36)),\"\")","v":""},{"$f":"IFERROR(INDEX('Base Data wHSA (NCI Modified)'!$L$2:'Base Data wHSA (NCI Modified)'!$T$3142,'Base Data wHSA (NCI Modified)'!$K36,COLUMNS(COUNTIES!$D$2:G36)),\"\")","v":""},{"$f":"IFERROR(INDEX('Base Data wHSA (NCI Modified)'!$L$2:'Base Data wHSA (NCI Modified)'!$T$3142,'Base Data wHSA (NCI Modified)'!$K36,COLUMNS(COUNTIES!$D$2:H36)),\"\")","v":""},{"$f":"IFERROR(INDEX('Base Data wHSA (NCI Modified)'!$L$2:'Base Data wHSA (NCI Modified)'!$T$3142,'Base Data wHSA (NCI Modified)'!$K36,COLUMNS(COUNTIES!$D$2:I36)),\"\")","v":""},{"$f":"IFERROR(INDEX('Base Data wHSA (NCI Modified)'!$L$2:'Base Data wHSA (NCI Modified)'!$T$3142,'Base Data wHSA (NCI Modified)'!$K36,COLUMNS(COUNTIES!$D$2:J36)),\"\")","v":""},{"$f":"IFERROR(INDEX('Base Data wHSA (NCI Modified)'!$L$2:'Base Data wHSA (NCI Modified)'!$T$3142,'Base Data wHSA (NCI Modified)'!$K36,COLUMNS(COUNTIES!$D$2:K36)),\"\")","v":""},{"$f":"IFERROR(INDEX('Base Data wHSA (NCI Modified)'!$L$2:'Base Data wHSA (NCI Modified)'!$T$3142,'Base Data wHSA (NCI Modified)'!$K36,COLUMNS(COUNTIES!$D$2:L36)),\"\")","v":""}]
[{"$f":"ROWS($E$2:E37)","v":36},{"$f":"IF(E37=WORKSHEET!$B$2,A37,\"\")","v":""},"",{"$f":"IFERROR(INDEX('Base Data wHSA (NCI Modified)'!$L$2:'Base Data wHSA (NCI Modified)'!$T$3142,'Base Data wHSA (NCI Modified)'!$K37,COLUMNS(COUNTIES!$D$2:D37)),\"\")","v":""},{"$f":"IFERROR(INDEX('Base Data wHSA (NCI Modified)'!$L$2:'Base Data wHSA (NCI Modified)'!$T$3142,'Base Data wHSA (NCI Modified)'!$K37,COLUMNS(COUNTIES!$D$2:E37)),\"\")","v":""},{"$f":"IFERROR(INDEX('Base Data wHSA (NCI Modified)'!$L$2:'Base Data wHSA (NCI Modified)'!$T$3142,'Base Data wHSA (NCI Modified)'!$K37,COLUMNS(COUNTIES!$D$2:F37)),\"\")","v":""},{"$f":"IFERROR(INDEX('Base Data wHSA (NCI Modified)'!$L$2:'Base Data wHSA (NCI Modified)'!$T$3142,'Base Data wHSA (NCI Modified)'!$K37,COLUMNS(COUNTIES!$D$2:G37)),\"\")","v":""},{"$f":"IFERROR(INDEX('Base Data wHSA (NCI Modified)'!$L$2:'Base Data wHSA (NCI Modified)'!$T$3142,'Base Data wHSA (NCI Modified)'!$K37,COLUMNS(COUNTIES!$D$2:H37)),\"\")","v":""},{"$f":"IFERROR(INDEX('Base Data wHSA (NCI Modified)'!$L$2:'Base Data wHSA (NCI Modified)'!$T$3142,'Base Data wHSA (NCI Modified)'!$K37,COLUMNS(COUNTIES!$D$2:I37)),\"\")","v":""},{"$f":"IFERROR(INDEX('Base Data wHSA (NCI Modified)'!$L$2:'Base Data wHSA (NCI Modified)'!$T$3142,'Base Data wHSA (NCI Modified)'!$K37,COLUMNS(COUNTIES!$D$2:J37)),\"\")","v":""},{"$f":"IFERROR(INDEX('Base Data wHSA (NCI Modified)'!$L$2:'Base Data wHSA (NCI Modified)'!$T$3142,'Base Data wHSA (NCI Modified)'!$K37,COLUMNS(COUNTIES!$D$2:K37)),\"\")","v":""},{"$f":"IFERROR(INDEX('Base Data wHSA (NCI Modified)'!$L$2:'Base Data wHSA (NCI Modified)'!$T$3142,'Base Data wHSA (NCI Modified)'!$K37,COLUMNS(COUNTIES!$D$2:L37)),\"\")","v":""}]
[{"$f":"ROWS($E$2:E38)","v":37},{"$f":"IF(E38=WORKSHEET!$B$2,A38,\"\")","v":""},"",{"$f":"IFERROR(INDEX('Base Data wHSA (NCI Modified)'!$L$2:'Base Data wHSA (NCI Modified)'!$T$3142,'Base Data wHSA (NCI Modified)'!$K38,COLUMNS(COUNTIES!$D$2:D38)),\"\")","v":""},{"$f":"IFERROR(INDEX('Base Data wHSA (NCI Modified)'!$L$2:'Base Data wHSA (NCI Modified)'!$T$3142,'Base Data wHSA (NCI Modified)'!$K38,COLUMNS(COUNTIES!$D$2:E38)),\"\")","v":""},{"$f":"IFERROR(INDEX('Base Data wHSA (NCI Modified)'!$L$2:'Base Data wHSA (NCI Modified)'!$T$3142,'Base Data wHSA (NCI Modified)'!$K38,COLUMNS(COUNTIES!$D$2:F38)),\"\")","v":""},{"$f":"IFERROR(INDEX('Base Data wHSA (NCI Modified)'!$L$2:'Base Data wHSA (NCI Modified)'!$T$3142,'Base Data wHSA (NCI Modified)'!$K38,COLUMNS(COUNTIES!$D$2:G38)),\"\")","v":""},{"$f":"IFERROR(INDEX('Base Data wHSA (NCI Modified)'!$L$2:'Base Data wHSA (NCI Modified)'!$T$3142,'Base Data wHSA (NCI Modified)'!$K38,COLUMNS(COUNTIES!$D$2:H38)),\"\")","v":""},{"$f":"IFERROR(INDEX('Base Data wHSA (NCI Modified)'!$L$2:'Base Data wHSA (NCI Modified)'!$T$3142,'Base Data wHSA (NCI Modified)'!$K38,COLUMNS(COUNTIES!$D$2:I38)),\"\")","v":""},{"$f":"IFERROR(INDEX('Base Data wHSA (NCI Modified)'!$L$2:'Base Data wHSA (NCI Modified)'!$T$3142,'Base Data wHSA (NCI Modified)'!$K38,COLUMNS(COUNTIES!$D$2:J38)),\"\")","v":""},{"$f":"IFERROR(INDEX('Base Data wHSA (NCI Modified)'!$L$2:'Base Data wHSA (NCI Modified)'!$T$3142,'Base Data wHSA (NCI Modified)'!$K38,COLUMNS(COUNTIES!$D$2:K38)),\"\")","v":""},{"$f":"IFERROR(INDEX('Base Data wHSA (NCI Modified)'!$L$2:'Base Data wHSA (NCI Modified)'!$T$3142,'Base Data wHSA (NCI Modified)'!$K38,COLUMNS(COUNTIES!$D$2:L38)),\"\")","v":""}]
[{"$f":"ROWS($E$2:E39)","v":38},{"$f":"IF(E39=WORKSHEET!$B$2,A39,\"\")","v":""},"",{"$f":"IFERROR(INDEX('Base Data wHSA (NCI Modified)'!$L$2:'Base Data wHSA (NCI Modified)'!$T$3142,'Base Data wHSA (NCI Modified)'!$K39,COLUMNS(COUNTIES!$D$2:D39)),\"\")","v":""},{"$f":"IFERROR(INDEX('Base Data wHSA (NCI Modified)'!$L$2:'Base Data wHSA (NCI Modified)'!$T$3142,'Base Data wHSA (NCI Modified)'!$K39,COLUMNS(COUNTIES!$D$2:E39)),\"\")","v":""},{"$f":"IFERROR(INDEX('Base Data wHSA (NCI Modified)'!$L$2:'Base Data wHSA (NCI Modified)'!$T$3142,'Base Data wHSA (NCI Modified)'!$K39,COLUMNS(COUNTIES!$D$2:F39)),\"\")","v":""},{"$f":"IFERROR(INDEX('Base Data wHSA (NCI Modified)'!$L$2:'Base Data wHSA (NCI Modified)'!$T$3142,'Base Data wHSA (NCI Modified)'!$K39,COLUMNS(COUNTIES!$D$2:G39)),\"\")","v":""},{"$f":"IFERROR(INDEX('Base Data wHSA (NCI Modified)'!$L$2:'Base Data wHSA (NCI Modified)'!$T$3142,'Base Data wHSA (NCI Modified)'!$K39,COLUMNS(COUNTIES!$D$2:H39)),\"\")","v":""},{"$f":"IFERROR(INDEX('Base Data wHSA (NCI Modified)'!$L$2:'Base Data wHSA (NCI Modified)'!$T$3142,'Base Data wHSA (NCI Modified)'!$K39,COLUMNS(COUNTIES!$D$2:I39)),\"\")","v":""},{"$f":"IFERROR(INDEX('Base Data wHSA (NCI Modified)'!$L$2:'Base Data wHSA (NCI Modified)'!$T$3142,'Base Data wHSA (NCI Modified)'!$K39,COLUMNS(COUNTIES!$D$2:J39)),\"\")","v":""},{"$f":"IFERROR(INDEX('Base Data wHSA (NCI Modified)'!$L$2:'Base Data wHSA (NCI Modified)'!$T$3142,'Base Data wHSA (NCI Modified)'!$K39,COLUMNS(COUNTIES!$D$2:K39)),\"\")","v":""},{"$f":"IFERROR(INDEX('Base Data wHSA (NCI Modified)'!$L$2:'Base Data wHSA (NCI Modified)'!$T$3142,'Base Data wHSA (NCI Modified)'!$K39,COLUMNS(COUNTIES!$D$2:L39)),\"\")","v":""}]
[{"$f":"ROWS($E$2:E40)","v":39},{"$f":"IF(E40=WORKSHEET!$B$2,A40,\"\")","v":""},"",{"$f":"IFERROR(INDEX('Base Data wHSA (NCI Modified)'!$L$2:'Base Data wHSA (NCI Modified)'!$T$3142,'Base Data wHSA (NCI Modified)'!$K40,COLUMNS(COUNTIES!$D$2:D40)),\"\")","v":""},{"$f":"IFERROR(INDEX('Base Data wHSA (NCI Modified)'!$L$2:'Base Data wHSA (NCI Modified)'!$T$3142,'Base Data wHSA (NCI Modified)'!$K40,COLUMNS(COUNTIES!$D$2:E40)),\"\")","v":""},{"$f":"IFERROR(INDEX('Base Data wHSA (NCI Modified)'!$L$2:'Base Data wHSA (NCI Modified)'!$T$3142,'Base Data wHSA (NCI Modified)'!$K40,COLUMNS(COUNTIES!$D$2:F40)),\"\")","v":""},{"$f":"IFERROR(INDEX('Base Data wHSA (NCI Modified)'!$L$2:'Base Data wHSA (NCI Modified)'!$T$3142,'Base Data wHSA (NCI Modified)'!$K40,COLUMNS(COUNTIES!$D$2:G40)),\"\")","v":""},{"$f":"IFERROR(INDEX('Base Data wHSA (NCI Modified)'!$L$2:'Base Data wHSA (NCI Modified)'!$T$3142,'Base Data wHSA (NCI Modified)'!$K40,COLUMNS(COUNTIES!$D$2:H40)),\"\")","v":""},{"$f":"IFERROR(INDEX('Base Data wHSA (NCI Modified)'!$L$2:'Base Data wHSA (NCI Modified)'!$T$3142,'Base Data wHSA (NCI Modified)'!$K40,COLUMNS(COUNTIES!$D$2:I40)),\"\")","v":""},{"$f":"IFERROR(INDEX('Base Data wHSA (NCI Modified)'!$L$2:'Base Data wHSA (NCI Modified)'!$T$3142,'Base Data wHSA (NCI Modified)'!$K40,COLUMNS(COUNTIES!$D$2:J40)),\"\")","v":""},{"$f":"IFERROR(INDEX('Base Data wHSA (NCI Modified)'!$L$2:'Base Data wHSA (NCI Modified)'!$T$3142,'Base Data wHSA (NCI Modified)'!$K40,COLUMNS(COUNTIES!$D$2:K40)),\"\")","v":""},{"$f":"IFERROR(INDEX('Base Data wHSA (NCI Modified)'!$L$2:'Base Data wHSA (NCI Modified)'!$T$3142,'Base Data wHSA (NCI Modified)'!$K40,COLUMNS(COUNTIES!$D$2:L40)),\"\")","v":""}]
[{"$f":"ROWS($E$2:E41)","v":40},{"$f":"IF(E41=WORKSHEET!$B$2,A41,\"\")","v":""},"",{"$f":"IFERROR(INDEX('Base Data wHSA (NCI Modified)'!$L$2:'Base Data wHSA (NCI Modified)'!$T$3142,'Base Data wHSA (NCI Modified)'!$K41,COLUMNS(COUNTIES!$D$2:D41)),\"\")","v":""},{"$f":"IFERROR(INDEX('Base Data wHSA (NCI Modified)'!$L$2:'Base Data wHSA (NCI Modified)'!$T$3142,'Base Data wHSA (NCI Modified)'!$K41,COLUMNS(COUNTIES!$D$2:E41)),\"\")","v":""},{"$f":"IFERROR(INDEX('Base Data wHSA (NCI Modified)'!$L$2:'Base Data wHSA (NCI Modified)'!$T$3142,'Base Data wHSA (NCI Modified)'!$K41,COLUMNS(COUNTIES!$D$2:F41)),\"\")","v":""},{"$f":"IFERROR(INDEX('Base Data wHSA (NCI Modified)'!$L$2:'Base Data wHSA (NCI Modified)'!$T$3142,'Base Data wHSA (NCI Modified)'!$K41,COLUMNS(COUNTIES!$D$2:G41)),\"\")","v":""},{"$f":"IFERROR(INDEX('Base Data wHSA (NCI Modified)'!$L$2:'Base Data wHSA (NCI Modified)'!$T$3142,'Base Data wHSA (NCI Modified)'!$K41,COLUMNS(COUNTIES!$D$2:H41)),\"\")","v":""},{"$f":"IFERROR(INDEX('Base Data wHSA (NCI Modified)'!$L$2:'Base Data wHSA (NCI Modified)'!$T$3142,'Base Data wHSA (NCI Modified)'!$K41,COLUMNS(COUNTIES!$D$2:I41)),\"\")","v":""},{"$f":"IFERROR(INDEX('Base Data wHSA (NCI Modified)'!$L$2:'Base Data wHSA (NCI Modified)'!$T$3142,'Base Data wHSA (NCI Modified)'!$K41,COLUMNS(COUNTIES!$D$2:J41)),\"\")","v":""},{"$f":"IFERROR(INDEX('Base Data wHSA (NCI Modified)'!$L$2:'Base Data wHSA (NCI Modified)'!$T$3142,'Base Data wHSA (NCI Modified)'!$K41,COLUMNS(COUNTIES!$D$2:K41)),\"\")","v":""},{"$f":"IFERROR(INDEX('Base Data wHSA (NCI Modified)'!$L$2:'Base Data wHSA (NCI Modified)'!$T$3142,'Base Data wHSA (NCI Modified)'!$K41,COLUMNS(COUNTIES!$D$2:L41)),\"\")","v":""}]
[{"$f":"ROWS($E$2:E42)","v":41},{"$f":"IF(E42=WORKSHEET!$B$2,A42,\"\")","v":""},"",{"$f":"IFERROR(INDEX('Base Data wHSA (NCI Modified)'!$L$2:'Base Data wHSA (NCI Modified)'!$T$3142,'Base Data wHSA (NCI Modified)'!$K42,COLUMNS(COUNTIES!$D$2:D42)),\"\")","v":""},{"$f":"IFERROR(INDEX('Base Data wHSA (NCI Modified)'!$L$2:'Base Data wHSA (NCI Modified)'!$T$3142,'Base Data wHSA (NCI Modified)'!$K42,COLUMNS(COUNTIES!$D$2:E42)),\"\")","v":""},{"$f":"IFERROR(INDEX('Base Data wHSA (NCI Modified)'!$L$2:'Base Data wHSA (NCI Modified)'!$T$3142,'Base Data wHSA (NCI Modified)'!$K42,COLUMNS(COUNTIES!$D$2:F42)),\"\")","v":""},{"$f":"IFERROR(INDEX('Base Data wHSA (NCI Modified)'!$L$2:'Base Data wHSA (NCI Modified)'!$T$3142,'Base Data wHSA (NCI Modified)'!$K42,COLUMNS(COUNTIES!$D$2:G42)),\"\")","v":""},{"$f":"IFERROR(INDEX('Base Data wHSA (NCI Modified)'!$L$2:'Base Data wHSA (NCI Modified)'!$T$3142,'Base Data wHSA (NCI Modified)'!$K42,COLUMNS(COUNTIES!$D$2:H42)),\"\")","v":""},{"$f":"IFERROR(INDEX('Base Data wHSA (NCI Modified)'!$L$2:'Base Data wHSA (NCI Modified)'!$T$3142,'Base Data wHSA (NCI Modified)'!$K42,COLUMNS(COUNTIES!$D$2:I42)),\"\")","v":""},{"$f":"IFERROR(INDEX('Base Data wHSA (NCI Modified)'!$L$2:'Base Data wHSA (NCI Modified)'!$T$3142,'Base Data wHSA (NCI Modified)'!$K42,COLUMNS(COUNTIES!$D$2:J42)),\"\")","v":""},{"$f":"IFERROR(INDEX('Base Data wHSA (NCI Modified)'!$L$2:'Base Data wHSA (NCI Modified)'!$T$3142,'Base Data wHSA (NCI Modified)'!$K42,COLUMNS(COUNTIES!$D$2:K42)),\"\")","v":""},{"$f":"IFERROR(INDEX('Base Data wHSA (NCI Modified)'!$L$2:'Base Data wHSA (NCI Modified)'!$T$3142,'Base Data wHSA (NCI Modified)'!$K42,COLUMNS(COUNTIES!$D$2:L42)),\"\")","v":""}]
[{"$f":"ROWS($E$2:E43)","v":42},{"$f":"IF(E43=WORKSHEET!$B$2,A43,\"\")","v":""},"",{"$f":"IFERROR(INDEX('Base Data wHSA (NCI Modified)'!$L$2:'Base Data wHSA (NCI Modified)'!$T$3142,'Base Data wHSA (NCI Modified)'!$K43,COLUMNS(COUNTIES!$D$2:D43)),\"\")","v":""},{"$f":"IFERROR(INDEX('Base Data wHSA (NCI Modified)'!$L$2:'Base Data wHSA (NCI Modified)'!$T$3142,'Base Data wHSA (NCI Modified)'!$K43,COLUMNS(COUNTIES!$D$2:E43)),\"\")","v":""},{"$f":"IFERROR(INDEX('Base Data wHSA (NCI Modified)'!$L$2:'Base Data wHSA (NCI Modified)'!$T$3142,'Base Data wHSA (NCI Modified)'!$K43,COLUMNS(COUNTIES!$D$2:F43)),\"\")","v":""},{"$f":"IFERROR(INDEX('Base Data wHSA (NCI Modified)'!$L$2:'Base Data wHSA (NCI Modified)'!$T$3142,'Base Data wHSA (NCI Modified)'!$K43,COLUMNS(COUNTIES!$D$2:G43)),\"\")","v":""},{"$f":"IFERROR(INDEX('Base Data wHSA (NCI Modified)'!$L$2:'Base Data wHSA (NCI Modified)'!$T$3142,'Base Data wHSA (NCI Modified)'!$K43,COLUMNS(COUNTIES!$D$2:H43)),\"\")","v":""},{"$f":"IFERROR(INDEX('Base Data wHSA (NCI Modified)'!$L$2:'Base Data wHSA (NCI Modified)'!$T$3142,'Base Data wHSA (NCI Modified)'!$K43,COLUMNS(COUNTIES!$D$2:I43)),\"\")","v":""},{"$f":"IFERROR(INDEX('Base Data wHSA (NCI Modified)'!$L$2:'Base Data wHSA (NCI Modified)'!$T$3142,'Base Data wHSA (NCI Modified)'!$K43,COLUMNS(COUNTIES!$D$2:J43)),\"\")","v":""},{"$f":"IFERROR(INDEX('Base Data wHSA (NCI Modified)'!$L$2:'Base Data wHSA (NCI Modified)'!$T$3142,'Base Data wHSA (NCI Modified)'!$K43,COLUMNS(COUNTIES!$D$2:K43)),\"\")","v":""},{"$f":"IFERROR(INDEX('Base Data wHSA (NCI Modified)'!$L$2:'Base Data wHSA (NCI Modified)'!$T$3142,'Base Data wHSA (NCI Modified)'!$K43,COLUMNS(COUNTIES!$D$2:L43)),\"\")","v":""}]
[{"$f":"ROWS($E$2:E44)","v":43},{"$f":"IF(E44=WORKSHEET!$B$2,A44,\"\")","v":""},"",{"$f":"IFERROR(INDEX('Base Data wHSA (NCI Modified)'!$L$2:'Base Data wHSA (NCI Modified)'!$T$3142,'Base Data wHSA (NCI Modified)'!$K44,COLUMNS(COUNTIES!$D$2:D44)),\"\")","v":""},{"$f":"IFERROR(INDEX('Base Data wHSA (NCI Modified)'!$L$2:'Base Data wHSA (NCI Modified)'!$T$3142,'Base Data wHSA (NCI Modified)'!$K44,COLUMNS(COUNTIES!$D$2:E44)),\"\")","v":""},{"$f":"IFERROR(INDEX('Base Data wHSA (NCI Modified)'!$L$2:'Base Data wHSA (NCI Modified)'!$T$3142,'Base Data wHSA (NCI Modified)'!$K44,COLUMNS(COUNTIES!$D$2:F44)),\"\")","v":""},{"$f":"IFERROR(INDEX('Base Data wHSA (NCI Modified)'!$L$2:'Base Data wHSA (NCI Modified)'!$T$3142,'Base Data wHSA (NCI Modified)'!$K44,COLUMNS(COUNTIES!$D$2:G44)),\"\")","v":""},{"$f":"IFERROR(INDEX('Base Data wHSA (NCI Modified)'!$L$2:'Base Data wHSA (NCI Modified)'!$T$3142,'Base Data wHSA (NCI Modified)'!$K44,COLUMNS(COUNTIES!$D$2:H44)),\"\")","v":""},{"$f":"IFERROR(INDEX('Base Data wHSA (NCI Modified)'!$L$2:'Base Data wHSA (NCI Modified)'!$T$3142,'Base Data wHSA (NCI Modified)'!$K44,COLUMNS(COUNTIES!$D$2:I44)),\"\")","v":""},{"$f":"IFERROR(INDEX('Base Data wHSA (NCI Modified)'!$L$2:'Base Data wHSA (NCI Modified)'!$T$3142,'Base Data wHSA (NCI Modified)'!$K44,COLUMNS(COUNTIES!$D$2:J44)),\"\")","v":""},{"$f":"IFERROR(INDEX('Base Data wHSA (NCI Modified)'!$L$2:'Base Data wHSA (NCI Modified)'!$T$3142,'Base Data wHSA (NCI Modified)'!$K44,COLUMNS(COUNTIES!$D$2:K44)),\"\")","v":""},{"$f":"IFERROR(INDEX('Base Data wHSA (NCI Modified)'!$L$2:'Base Data wHSA (NCI Modified)'!$T$3142,'Base Data wHSA (NCI Modified)'!$K44,COLUMNS(COUNTIES!$D$2:L44)),\"\")","v":""}]
[{"$f":"ROWS($E$2:E45)","v":44},{"$f":"IF(E45=WORKSHEET!$B$2,A45,\"\")","v":""},"",{"$f":"IFERROR(INDEX('Base Data wHSA (NCI Modified)'!$L$2:'Base Data wHSA (NCI Modified)'!$T$3142,'Base Data wHSA (NCI Modified)'!$K45,COLUMNS(COUNTIES!$D$2:D45)),\"\")","v":""},{"$f":"IFERROR(INDEX('Base Data wHSA (NCI Modified)'!$L$2:'Base Data wHSA (NCI Modified)'!$T$3142,'Base Data wHSA (NCI Modified)'!$K45,COLUMNS(COUNTIES!$D$2:E45)),\"\")","v":""},{"$f":"IFERROR(INDEX('Base Data wHSA (NCI Modified)'!$L$2:'Base Data wHSA (NCI Modified)'!$T$3142,'Base Data wHSA (NCI Modified)'!$K45,COLUMNS(COUNTIES!$D$2:F45)),\"\")","v":""},{"$f":"IFERROR(INDEX('Base Data wHSA (NCI Modified)'!$L$2:'Base Data wHSA (NCI Modified)'!$T$3142,'Base Data wHSA (NCI Modified)'!$K45,COLUMNS(COUNTIES!$D$2:G45)),\"\")","v":""},{"$f":"IFERROR(INDEX('Base Data wHSA (NCI Modified)'!$L$2:'Base Data wHSA (NCI Modified)'!$T$3142,'Base Data wHSA (NCI Modified)'!$K45,COLUMNS(COUNTIES!$D$2:H45)),\"\")","v":""},{"$f":"IFERROR(INDEX('Base Data wHSA (NCI Modified)'!$L$2:'Base Data wHSA (NCI Modified)'!$T$3142,'Base Data wHSA (NCI Modified)'!$K45,COLUMNS(COUNTIES!$D$2:I45)),\"\")","v":""},{"$f":"IFERROR(INDEX('Base Data wHSA (NCI Modified)'!$L$2:'Base Data wHSA (NCI Modified)'!$T$3142,'Base Data wHSA (NCI Modified)'!$K45,COLUMNS(COUNTIES!$D$2:J45)),\"\")","v":""},{"$f":"IFERROR(INDEX('Base Data wHSA (NCI Modified)'!$L$2:'Base Data wHSA (NCI Modified)'!$T$3142,'Base Data wHSA (NCI Modified)'!$K45,COLUMNS(COUNTIES!$D$2:K45)),\"\")","v":""},{"$f":"IFERROR(INDEX('Base Data wHSA (NCI Modified)'!$L$2:'Base Data wHSA (NCI Modified)'!$T$3142,'Base Data wHSA (NCI Modified)'!$K45,COLUMNS(COUNTIES!$D$2:L45)),\"\")","v":""}]
[{"$f":"ROWS($E$2:E46)","v":45},{"$f":"IF(E46=WORKSHEET!$B$2,A46,\"\")","v":""},"",{"$f":"IFERROR(INDEX('Base Data wHSA (NCI Modified)'!$L$2:'Base Data wHSA (NCI Modified)'!$T$3142,'Base Data wHSA (NCI Modified)'!$K46,COLUMNS(COUNTIES!$D$2:D46)),\"\")","v":""},{"$f":"IFERROR(INDEX('Base Data wHSA (NCI Modified)'!$L$2:'Base Data wHSA (NCI Modified)'!$T$3142,'Base Data wHSA (NCI Modified)'!$K46,COLUMNS(COUNTIES!$D$2:E46)),\"\")","v":""},{"$f":"IFERROR(INDEX('Base Data wHSA (NCI Modified)'!$L$2:'Base Data wHSA (NCI Modified)'!$T$3142,'Base Data wHSA (NCI Modified)'!$K46,COLUMNS(COUNTIES!$D$2:F46)),\"\")","v":""},{"$f":"IFERROR(INDEX('Base Data wHSA (NCI Modified)'!$L$2:'Base Data wHSA (NCI Modified)'!$T$3142,'Base Data wHSA (NCI Modified)'!$K46,COLUMNS(COUNTIES!$D$2:G46)),\"\")","v":""},{"$f":"IFERROR(INDEX('Base Data wHSA (NCI Modified)'!$L$2:'Base Data wHSA (NCI Modified)'!$T$3142,'Base Data wHSA (NCI Modified)'!$K46,COLUMNS(COUNTIES!$D$2:H46)),\"\")","v":""},{"$f":"IFERROR(INDEX('Base Data wHSA (NCI Modified)'!$L$2:'Base Data wHSA (NCI Modified)'!$T$3142,'Base Data wHSA (NCI Modified)'!$K46,COLUMNS(COUNTIES!$D$2:I46)),\"\")","v":""},{"$f":"IFERROR(INDEX('Base Data wHSA (NCI Modified)'!$L$2:'Base Data wHSA (NCI Modified)'!$T$3142,'Base Data wHSA (NCI Modified)'!$K46,COLUMNS(COUNTIES!$D$2:J46)),\"\")","v":""},{"$f":"IFERROR(INDEX('Base Data wHSA (NCI Modified)'!$L$2:'Base Data wHSA (NCI Modified)'!$T$3142,'Base Data wHSA (NCI Modified)'!$K46,COLUMNS(COUNTIES!$D$2:K46)),\"\")","v":""},{"$f":"IFERROR(INDEX('Base Data wHSA (NCI Modified)'!$L$2:'Base Data wHSA (NCI Modified)'!$T$3142,'Base Data wHSA (NCI Modified)'!$K46,COLUMNS(COUNTIES!$D$2:L46)),\"\")","v":""}]
[{"$f":"ROWS($E$2:E47)","v":46},{"$f":"IF(E47=WORKSHEET!$B$2,A47,\"\")","v":""},"",{"$f":"IFERROR(INDEX('Base Data wHSA (NCI Modified)'!$L$2:'Base Data wHSA (NCI Modified)'!$T$3142,'Base Data wHSA (NCI Modified)'!$K47,COLUMNS(COUNTIES!$D$2:D47)),\"\")","v":""},{"$f":"IFERROR(INDEX('Base Data wHSA (NCI Modified)'!$L$2:'Base Data wHSA (NCI Modified)'!$T$3142,'Base Data wHSA (NCI Modified)'!$K47,COLUMNS(COUNTIES!$D$2:E47)),\"\")","v":""},{"$f":"IFERROR(INDEX('Base Data wHSA (NCI Modified)'!$L$2:'Base Data wHSA (NCI Modified)'!$T$3142,'Base Data wHSA (NCI Modified)'!$K47,COLUMNS(COUNTIES!$D$2:F47)),\"\")","v":""},{"$f":"IFERROR(INDEX('Base Data wHSA (NCI Modified)'!$L$2:'Base Data wHSA (NCI Modified)'!$T$3142,'Base Data wHSA (NCI Modified)'!$K47,COLUMNS(COUNTIES!$D$2:G47)),\"\")","v":""},{"$f":"IFERROR(INDEX('Base Data wHSA (NCI Modified)'!$L$2:'Base Data wHSA (NCI Modified)'!$T$3142,'Base Data wHSA (NCI Modified)'!$K47,COLUMNS(COUNTIES!$D$2:H47)),\"\")","v":""},{"$f":"IFERROR(INDEX('Base Data wHSA (NCI Modified)'!$L$2:'Base Data wHSA (NCI Modified)'!$T$3142,'Base Data wHSA (NCI Modified)'!$K47,COLUMNS(COUNTIES!$D$2:I47)),\"\")","v":""},{"$f":"IFERROR(INDEX('Base Data wHSA (NCI Modified)'!$L$2:'Base Data wHSA (NCI Modified)'!$T$3142,'Base Data wHSA (NCI Modified)'!$K47,COLUMNS(COUNTIES!$D$2:J47)),\"\")","v":""},{"$f":"IFERROR(INDEX('Base Data wHSA (NCI Modified)'!$L$2:'Base Data wHSA (NCI Modified)'!$T$3142,'Base Data wHSA (NCI Modified)'!$K47,COLUMNS(COUNTIES!$D$2:K47)),\"\")","v":""},{"$f":"IFERROR(INDEX('Base Data wHSA (NCI Modified)'!$L$2:'Base Data wHSA (NCI Modified)'!$T$3142,'Base Data wHSA (NCI Modified)'!$K47,COLUMNS(COUNTIES!$D$2:L47)),\"\")","v":""}]
[{"$f":"ROWS($E$2:E48)","v":47},{"$f":"IF(E48=WORKSHEET!$B$2,A48,\"\")","v":""},"",{"$f":"IFERROR(INDEX('Base Data wHSA (NCI Modified)'!$L$2:'Base Data wHSA (NCI Modified)'!$T$3142,'Base Data wHSA (NCI Modified)'!$K48,COLUMNS(COUNTIES!$D$2:D48)),\"\")","v":""},{"$f":"IFERROR(INDEX('Base Data wHSA (NCI Modified)'!$L$2:'Base Data wHSA (NCI Modified)'!$T$3142,'Base Data wHSA (NCI Modified)'!$K48,COLUMNS(COUNTIES!$D$2:E48)),\"\")","v":""},{"$f":"IFERROR(INDEX('Base Data wHSA (NCI Modified)'!$L$2:'Base Data wHSA (NCI Modified)'!$T$3142,'Base Data wHSA (NCI Modified)'!$K48,COLUMNS(COUNTIES!$D$2:F48)),\"\")","v":""},{"$f":"IFERROR(INDEX('Base Data wHSA (NCI Modified)'!$L$2:'Base Data wHSA (NCI Modified)'!$T$3142,'Base Data wHSA (NCI Modified)'!$K48,COLUMNS(COUNTIES!$D$2:G48)),\"\")","v":""},{"$f":"IFERROR(INDEX('Base Data wHSA (NCI Modified)'!$L$2:'Base Data wHSA (NCI Modified)'!$T$3142,'Base Data wHSA (NCI Modified)'!$K48,COLUMNS(COUNTIES!$D$2:H48)),\"\")","v":""},{"$f":"IFERROR(INDEX('Base Data wHSA (NCI Modified)'!$L$2:'Base Data wHSA (NCI Modified)'!$T$3142,'Base Data wHSA (NCI Modified)'!$K48,COLUMNS(COUNTIES!$D$2:I48)),\"\")","v":""},{"$f":"IFERROR(INDEX('Base Data wHSA (NCI Modified)'!$L$2:'Base Data wHSA (NCI Modified)'!$T$3142,'Base Data wHSA (NCI Modified)'!$K48,COLUMNS(COUNTIES!$D$2:J48)),\"\")","v":""},{"$f":"IFERROR(INDEX('Base Data wHSA (NCI Modified)'!$L$2:'Base Data wHSA (NCI Modified)'!$T$3142,'Base Data wHSA (NCI Modified)'!$K48,COLUMNS(COUNTIES!$D$2:K48)),\"\")","v":""},{"$f":"IFERROR(INDEX('Base Data wHSA (NCI Modified)'!$L$2:'Base Data wHSA (NCI Modified)'!$T$3142,'Base Data wHSA (NCI Modified)'!$K48,COLUMNS(COUNTIES!$D$2:L48)),\"\")","v":""}]
[{"$f":"ROWS($E$2:E49)","v":48},{"$f":"IF(E49=WORKSHEET!$B$2,A49,\"\")","v":""},"",{"$f":"IFERROR(INDEX('Base Data wHSA (NCI Modified)'!$L$2:'Base Data wHSA (NCI Modified)'!$T$3142,'Base Data wHSA (NCI Modified)'!$K49,COLUMNS(COUNTIES!$D$2:D49)),\"\")","v":""},{"$f":"IFERROR(INDEX('Base Data wHSA (NCI Modified)'!$L$2:'Base Data wHSA (NCI Modified)'!$T$3142,'Base Data wHSA (NCI Modified)'!$K49,COLUMNS(COUNTIES!$D$2:E49)),\"\")","v":""},{"$f":"IFERROR(INDEX('Base Data wHSA (NCI Modified)'!$L$2:'Base Data wHSA (NCI Modified)'!$T$3142,'Base Data wHSA (NCI Modified)'!$K49,COLUMNS(COUNTIES!$D$2:F49)),\"\")","v":""},{"$f":"IFERROR(INDEX('Base Data wHSA (NCI Modified)'!$L$2:'Base Data wHSA (NCI Modified)'!$T$3142,'Base Data wHSA (NCI Modified)'!$K49,COLUMNS(COUNTIES!$D$2:G49)),\"\")","v":""},{"$f":"IFERROR(INDEX('Base Data wHSA (NCI Modified)'!$L$2:'Base Data wHSA (NCI Modified)'!$T$3142,'Base Data wHSA (NCI Modified)'!$K49,COLUMNS(COUNTIES!$D$2:H49)),\"\")","v":""},{"$f":"IFERROR(INDEX('Base Data wHSA (NCI Modified)'!$L$2:'Base Data wHSA (NCI Modified)'!$T$3142,'Base Data wHSA (NCI Modified)'!$K49,COLUMNS(COUNTIES!$D$2:I49)),\"\")","v":""},{"$f":"IFERROR(INDEX('Base Data wHSA (NCI Modified)'!$L$2:'Base Data wHSA (NCI Modified)'!$T$3142,'Base Data wHSA (NCI Modified)'!$K49,COLUMNS(COUNTIES!$D$2:J49)),\"\")","v":""},{"$f":"IFERROR(INDEX('Base Data wHSA (NCI Modified)'!$L$2:'Base Data wHSA (NCI Modified)'!$T$3142,'Base Data wHSA (NCI Modified)'!$K49,COLUMNS(COUNTIES!$D$2:K49)),\"\")","v":""},{"$f":"IFERROR(INDEX('Base Data wHSA (NCI Modified)'!$L$2:'Base Data wHSA (NCI Modified)'!$T$3142,'Base Data wHSA (NCI Modified)'!$K49,COLUMNS(COUNTIES!$D$2:L49)),\"\")","v":""}]
[{"$f":"ROWS($E$2:E50)","v":49},{"$f":"IF(E50=WORKSHEET!$B$2,A50,\"\")","v":""},"",{"$f":"IFERROR(INDEX('Base Data wHSA (NCI Modified)'!$L$2:'Base Data wHSA (NCI Modified)'!$T$3142,'Base Data wHSA (NCI Modified)'!$K50,COLUMNS(COUNTIES!$D$2:D50)),\"\")","v":""},{"$f":"IFERROR(INDEX('Base Data wHSA (NCI Modified)'!$L$2:'Base Data wHSA (NCI Modified)'!$T$3142,'Base Data wHSA (NCI Modified)'!$K50,COLUMNS(COUNTIES!$D$2:E50)),\"\")","v":""},{"$f":"IFERROR(INDEX('Base Data wHSA (NCI Modified)'!$L$2:'Base Data wHSA (NCI Modified)'!$T$3142,'Base Data wHSA (NCI Modified)'!$K50,COLUMNS(COUNTIES!$D$2:F50)),\"\")","v":""},{"$f":"IFERROR(INDEX('Base Data wHSA (NCI Modified)'!$L$2:'Base Data wHSA (NCI Modified)'!$T$3142,'Base Data wHSA (NCI Modified)'!$K50,COLUMNS(COUNTIES!$D$2:G50)),\"\")","v":""},{"$f":"IFERROR(INDEX('Base Data wHSA (NCI Modified)'!$L$2:'Base Data wHSA (NCI Modified)'!$T$3142,'Base Data wHSA (NCI Modified)'!$K50,COLUMNS(COUNTIES!$D$2:H50)),\"\")","v":""},{"$f":"IFERROR(INDEX('Base Data wHSA (NCI Modified)'!$L$2:'Base Data wHSA (NCI Modified)'!$T$3142,'Base Data wHSA (NCI Modified)'!$K50,COLUMNS(COUNTIES!$D$2:I50)),\"\")","v":""},{"$f":"IFERROR(INDEX('Base Data wHSA (NCI Modified)'!$L$2:'Base Data wHSA (NCI Modified)'!$T$3142,'Base Data wHSA (NCI Modified)'!$K50,COLUMNS(COUNTIES!$D$2:J50)),\"\")","v":""},{"$f":"IFERROR(INDEX('Base Data wHSA (NCI Modified)'!$L$2:'Base Data wHSA (NCI Modified)'!$T$3142,'Base Data wHSA (NCI Modified)'!$K50,COLUMNS(COUNTIES!$D$2:K50)),\"\")","v":""},{"$f":"IFERROR(INDEX('Base Data wHSA (NCI Modified)'!$L$2:'Base Data wHSA (NCI Modified)'!$T$3142,'Base Data wHSA (NCI Modified)'!$K50,COLUMNS(COUNTIES!$D$2:L50)),\"\")","v":""}]
[{"$f":"ROWS($E$2:E51)","v":50},{"$f":"IF(E51=WORKSHEET!$B$2,A51,\"\")","v":""},"",{"$f":"IFERROR(INDEX('Base Data wHSA (NCI Modified)'!$L$2:'Base Data wHSA (NCI Modified)'!$T$3142,'Base Data wHSA (NCI Modified)'!$K51,COLUMNS(COUNTIES!$D$2:D51)),\"\")","v":""},{"$f":"IFERROR(INDEX('Base Data wHSA (NCI Modified)'!$L$2:'Base Data wHSA (NCI Modified)'!$T$3142,'Base Data wHSA (NCI Modified)'!$K51,COLUMNS(COUNTIES!$D$2:E51)),\"\")","v":""},{"$f":"IFERROR(INDEX('Base Data wHSA (NCI Modified)'!$L$2:'Base Data wHSA (NCI Modified)'!$T$3142,'Base Data wHSA (NCI Modified)'!$K51,COLUMNS(COUNTIES!$D$2:F51)),\"\")","v":""},{"$f":"IFERROR(INDEX('Base Data wHSA (NCI Modified)'!$L$2:'Base Data wHSA (NCI Modified)'!$T$3142,'Base Data wHSA (NCI Modified)'!$K51,COLUMNS(COUNTIES!$D$2:G51)),\"\")","v":""},{"$f":"IFERROR(INDEX('Base Data wHSA (NCI Modified)'!$L$2:'Base Data wHSA (NCI Modified)'!$T$3142,'Base Data wHSA (NCI Modified)'!$K51,COLUMNS(COUNTIES!$D$2:H51)),\"\")","v":""},{"$f":"IFERROR(INDEX('Base Data wHSA (NCI Modified)'!$L$2:'Base Data wHSA (NCI Modified)'!$T$3142,'Base Data wHSA (NCI Modified)'!$K51,COLUMNS(COUNTIES!$D$2:I51)),\"\")","v":""},{"$f":"IFERROR(INDEX('Base Data wHSA (NCI Modified)'!$L$2:'Base Data wHSA (NCI Modified)'!$T$3142,'Base Data wHSA (NCI Modified)'!$K51,COLUMNS(COUNTIES!$D$2:J51)),\"\")","v":""},{"$f":"IFERROR(INDEX('Base Data wHSA (NCI Modified)'!$L$2:'Base Data wHSA (NCI Modified)'!$T$3142,'Base Data wHSA (NCI Modified)'!$K51,COLUMNS(COUNTIES!$D$2:K51)),\"\")","v":""},{"$f":"IFERROR(INDEX('Base Data wHSA (NCI Modified)'!$L$2:'Base Data wHSA (NCI Modified)'!$T$3142,'Base Data wHSA (NCI Modified)'!$K51,COLUMNS(COUNTIES!$D$2:L51)),\"\")","v":""}]
[{"$f":"ROWS($E$2:E52)","v":51},{"$f":"IF(E52=WORKSHEET!$B$2,A52,\"\")","v":""},"",{"$f":"IFERROR(INDEX('Base Data wHSA (NCI Modified)'!$L$2:'Base Data wHSA (NCI Modified)'!$T$3142,'Base Data wHSA (NCI Modified)'!$K52,COLUMNS(COUNTIES!$D$2:D52)),\"\")","v":""},{"$f":"IFERROR(INDEX('Base Data wHSA (NCI Modified)'!$L$2:'Base Data wHSA (NCI Modified)'!$T$3142,'Base Data wHSA (NCI Modified)'!$K52,COLUMNS(COUNTIES!$D$2:E52)),\"\")","v":""},{"$f":"IFERROR(INDEX('Base Data wHSA (NCI Modified)'!$L$2:'Base Data wHSA (NCI Modified)'!$T$3142,'Base Data wHSA (NCI Modified)'!$K52,COLUMNS(COUNTIES!$D$2:F52)),\"\")","v":""},{"$f":"IFERROR(INDEX('Base Data wHSA (NCI Modified)'!$L$2:'Base Data wHSA (NCI Modified)'!$T$3142,'Base Data wHSA (NCI Modified)'!$K52,COLUMNS(COUNTIES!$D$2:G52)),\"\")","v":""},{"$f":"IFERROR(INDEX('Base Data wHSA (NCI Modified)'!$L$2:'Base Data wHSA (NCI Modified)'!$T$3142,'Base Data wHSA (NCI Modified)'!$K52,COLUMNS(COUNTIES!$D$2:H52)),\"\")","v":""},{"$f":"IFERROR(INDEX('Base Data wHSA (NCI Modified)'!$L$2:'Base Data wHSA (NCI Modified)'!$T$3142,'Base Data wHSA (NCI Modified)'!$K52,COLUMNS(COUNTIES!$D$2:I52)),\"\")","v":""},{"$f":"IFERROR(INDEX('Base Data wHSA (NCI Modified)'!$L$2:'Base Data wHSA (NCI Modified)'!$T$3142,'Base Data wHSA (NCI Modified)'!$K52,COLUMNS(COUNTIES!$D$2:J52)),\"\")","v":""},{"$f":"IFERROR(INDEX('Base Data wHSA (NCI Modified)'!$L$2:'Base Data wHSA (NCI Modified)'!$T$3142,'Base Data wHSA (NCI Modified)'!$K52,COLUMNS(COUNTIES!$D$2:K52)),\"\")","v":""},{"$f":"IFERROR(INDEX('Base Data wHSA (NCI Modified)'!$L$2:'Base Data wHSA (NCI Modified)'!$T$3142,'Base Data wHSA (NCI Modified)'!$K52,COLUMNS(COUNTIES!$D$2:L52)),\"\")","v":""}]
[{"$f":"ROWS($E$2:E53)","v":52},{"$f":"IF(E53=WORKSHEET!$B$2,A53,\"\")","v":""},"",{"$f":"IFERROR(INDEX('Base Data wHSA (NCI Modified)'!$L$2:'Base Data wHSA (NCI Modified)'!$T$3142,'Base Data wHSA (NCI Modified)'!$K53,COLUMNS(COUNTIES!$D$2:D53)),\"\")","v":""},{"$f":"IFERROR(INDEX('Base Data wHSA (NCI Modified)'!$L$2:'Base Data wHSA (NCI Modified)'!$T$3142,'Base Data wHSA (NCI Modified)'!$K53,COLUMNS(COUNTIES!$D$2:E53)),\"\")","v":""},{"$f":"IFERROR(INDEX('Base Data wHSA (NCI Modified)'!$L$2:'Base Data wHSA (NCI Modified)'!$T$3142,'Base Data wHSA (NCI Modified)'!$K53,COLUMNS(COUNTIES!$D$2:F53)),\"\")","v":""},{"$f":"IFERROR(INDEX('Base Data wHSA (NCI Modified)'!$L$2:'Base Data wHSA (NCI Modified)'!$T$3142,'Base Data wHSA (NCI Modified)'!$K53,COLUMNS(COUNTIES!$D$2:G53)),\"\")","v":""},{"$f":"IFERROR(INDEX('Base Data wHSA (NCI Modified)'!$L$2:'Base Data wHSA (NCI Modified)'!$T$3142,'Base Data wHSA (NCI Modified)'!$K53,COLUMNS(COUNTIES!$D$2:H53)),\"\")","v":""},{"$f":"IFERROR(INDEX('Base Data wHSA (NCI Modified)'!$L$2:'Base Data wHSA (NCI Modified)'!$T$3142,'Base Data wHSA (NCI Modified)'!$K53,COLUMNS(COUNTIES!$D$2:I53)),\"\")","v":""},{"$f":"IFERROR(INDEX('Base Data wHSA (NCI Modified)'!$L$2:'Base Data wHSA (NCI Modified)'!$T$3142,'Base Data wHSA (NCI Modified)'!$K53,COLUMNS(COUNTIES!$D$2:J53)),\"\")","v":""},{"$f":"IFERROR(INDEX('Base Data wHSA (NCI Modified)'!$L$2:'Base Data wHSA (NCI Modified)'!$T$3142,'Base Data wHSA (NCI Modified)'!$K53,COLUMNS(COUNTIES!$D$2:K53)),\"\")","v":""},{"$f":"IFERROR(INDEX('Base Data wHSA (NCI Modified)'!$L$2:'Base Data wHSA (NCI Modified)'!$T$3142,'Base Data wHSA (NCI Modified)'!$K53,COLUMNS(COUNTIES!$D$2:L53)),\"\")","v":""}]
[{"$f":"ROWS($E$2:E54)","v":53},{"$f":"IF(E54=WORKSHEET!$B$2,A54,\"\")","v":""},"",{"$f":"IFERROR(INDEX('Base Data wHSA (NCI Modified)'!$L$2:'Base Data wHSA (NCI Modified)'!$T$3142,'Base Data wHSA (NCI Modified)'!$K54,COLUMNS(COUNTIES!$D$2:D54)),\"\")","v":""},{"$f":"IFERROR(INDEX('Base Data wHSA (NCI Modified)'!$L$2:'Base Data wHSA (NCI Modified)'!$T$3142,'Base Data wHSA (NCI Modified)'!$K54,COLUMNS(COUNTIES!$D$2:E54)),\"\")","v":""},{"$f":"IFERROR(INDEX('Base Data wHSA (NCI Modified)'!$L$2:'Base Data wHSA (NCI Modified)'!$T$3142,'Base Data wHSA (NCI Modified)'!$K54,COLUMNS(COUNTIES!$D$2:F54)),\"\")","v":""},{"$f":"IFERROR(INDEX('Base Data wHSA (NCI Modified)'!$L$2:'Base Data wHSA (NCI Modified)'!$T$3142,'Base Data wHSA (NCI Modified)'!$K54,COLUMNS(COUNTIES!$D$2:G54)),\"\")","v":""},{"$f":"IFERROR(INDEX('Base Data wHSA (NCI Modified)'!$L$2:'Base Data wHSA (NCI Modified)'!$T$3142,'Base Data wHSA (NCI Modified)'!$K54,COLUMNS(COUNTIES!$D$2:H54)),\"\")","v":""},{"$f":"IFERROR(INDEX('Base Data wHSA (NCI Modified)'!$L$2:'Base Data wHSA (NCI Modified)'!$T$3142,'Base Data wHSA (NCI Modified)'!$K54,COLUMNS(COUNTIES!$D$2:I54)),\"\")","v":""},{"$f":"IFERROR(INDEX('Base Data wHSA (NCI Modified)'!$L$2:'Base Data wHSA (NCI Modified)'!$T$3142,'Base Data wHSA (NCI Modified)'!$K54,COLUMNS(COUNTIES!$D$2:J54)),\"\")","v":""},{"$f":"IFERROR(INDEX('Base Data wHSA (NCI Modified)'!$L$2:'Base Data wHSA (NCI Modified)'!$T$3142,'Base Data wHSA (NCI Modified)'!$K54,COLUMNS(COUNTIES!$D$2:K54)),\"\")","v":""},{"$f":"IFERROR(INDEX('Base Data wHSA (NCI Modified)'!$L$2:'Base Data wHSA (NCI Modified)'!$T$3142,'Base Data wHSA (NCI Modified)'!$K54,COLUMNS(COUNTIES!$D$2:L54)),\"\")","v":""}]
[{"$f":"ROWS($E$2:E55)","v":54},{"$f":"IF(E55=WORKSHEET!$B$2,A55,\"\")","v":""},"",{"$f":"IFERROR(INDEX('Base Data wHSA (NCI Modified)'!$L$2:'Base Data wHSA (NCI Modified)'!$T$3142,'Base Data wHSA (NCI Modified)'!$K55,COLUMNS(COUNTIES!$D$2:D55)),\"\")","v":""},{"$f":"IFERROR(INDEX('Base Data wHSA (NCI Modified)'!$L$2:'Base Data wHSA (NCI Modified)'!$T$3142,'Base Data wHSA (NCI Modified)'!$K55,COLUMNS(COUNTIES!$D$2:E55)),\"\")","v":""},{"$f":"IFERROR(INDEX('Base Data wHSA (NCI Modified)'!$L$2:'Base Data wHSA (NCI Modified)'!$T$3142,'Base Data wHSA (NCI Modified)'!$K55,COLUMNS(COUNTIES!$D$2:F55)),\"\")","v":""},{"$f":"IFERROR(INDEX('Base Data wHSA (NCI Modified)'!$L$2:'Base Data wHSA (NCI Modified)'!$T$3142,'Base Data wHSA (NCI Modified)'!$K55,COLUMNS(COUNTIES!$D$2:G55)),\"\")","v":""},{"$f":"IFERROR(INDEX('Base Data wHSA (NCI Modified)'!$L$2:'Base Data wHSA (NCI Modified)'!$T$3142,'Base Data wHSA (NCI Modified)'!$K55,COLUMNS(COUNTIES!$D$2:H55)),\"\")","v":""},{"$f":"IFERROR(INDEX('Base Data wHSA (NCI Modified)'!$L$2:'Base Data wHSA (NCI Modified)'!$T$3142,'Base Data wHSA (NCI Modified)'!$K55,COLUMNS(COUNTIES!$D$2:I55)),\"\")","v":""},{"$f":"IFERROR(INDEX('Base Data wHSA (NCI Modified)'!$L$2:'Base Data wHSA (NCI Modified)'!$T$3142,'Base Data wHSA (NCI Modified)'!$K55,COLUMNS(COUNTIES!$D$2:J55)),\"\")","v":""},{"$f":"IFERROR(INDEX('Base Data wHSA (NCI Modified)'!$L$2:'Base Data wHSA (NCI Modified)'!$T$3142,'Base Data wHSA (NCI Modified)'!$K55,COLUMNS(COUNTIES!$D$2:K55)),\"\")","v":""},{"$f":"IFERROR(INDEX('Base Data wHSA (NCI Modified)'!$L$2:'Base Data wHSA (NCI Modified)'!$T$3142,'Base Data wHSA (NCI Modified)'!$K55,COLUMNS(COUNTIES!$D$2:L55)),\"\")","v":""}]
[{"$f":"ROWS($E$2:E56)","v":55},{"$f":"IF(E56=WORKSHEET!$B$2,A56,\"\")","v":""},"",{"$f":"IFERROR(INDEX('Base Data wHSA (NCI Modified)'!$L$2:'Base Data wHSA (NCI Modified)'!$T$3142,'Base Data wHSA (NCI Modified)'!$K56,COLUMNS(COUNTIES!$D$2:D56)),\"\")","v":""},{"$f":"IFERROR(INDEX('Base Data wHSA (NCI Modified)'!$L$2:'Base Data wHSA (NCI Modified)'!$T$3142,'Base Data wHSA (NCI Modified)'!$K56,COLUMNS(COUNTIES!$D$2:E56)),\"\")","v":""},{"$f":"IFERROR(INDEX('Base Data wHSA (NCI Modified)'!$L$2:'Base Data wHSA (NCI Modified)'!$T$3142,'Base Data wHSA (NCI Modified)'!$K56,COLUMNS(COUNTIES!$D$2:F56)),\"\")","v":""},{"$f":"IFERROR(INDEX('Base Data wHSA (NCI Modified)'!$L$2:'Base Data wHSA (NCI Modified)'!$T$3142,'Base Data wHSA (NCI Modified)'!$K56,COLUMNS(COUNTIES!$D$2:G56)),\"\")","v":""},{"$f":"IFERROR(INDEX('Base Data wHSA (NCI Modified)'!$L$2:'Base Data wHSA (NCI Modified)'!$T$3142,'Base Data wHSA (NCI Modified)'!$K56,COLUMNS(COUNTIES!$D$2:H56)),\"\")","v":""},{"$f":"IFERROR(INDEX('Base Data wHSA (NCI Modified)'!$L$2:'Base Data wHSA (NCI Modified)'!$T$3142,'Base Data wHSA (NCI Modified)'!$K56,COLUMNS(COUNTIES!$D$2:I56)),\"\")","v":""},{"$f":"IFERROR(INDEX('Base Data wHSA (NCI Modified)'!$L$2:'Base Data wHSA (NCI Modified)'!$T$3142,'Base Data wHSA (NCI Modified)'!$K56,COLUMNS(COUNTIES!$D$2:J56)),\"\")","v":""},{"$f":"IFERROR(INDEX('Base Data wHSA (NCI Modified)'!$L$2:'Base Data wHSA (NCI Modified)'!$T$3142,'Base Data wHSA (NCI Modified)'!$K56,COLUMNS(COUNTIES!$D$2:K56)),\"\")","v":""},{"$f":"IFERROR(INDEX('Base Data wHSA (NCI Modified)'!$L$2:'Base Data wHSA (NCI Modified)'!$T$3142,'Base Data wHSA (NCI Modified)'!$K56,COLUMNS(COUNTIES!$D$2:L56)),\"\")","v":""}]
[{"$f":"ROWS($E$2:E57)","v":56},{"$f":"IF(E57=WORKSHEET!$B$2,A57,\"\")","v":""},"",{"$f":"IFERROR(INDEX('Base Data wHSA (NCI Modified)'!$L$2:'Base Data wHSA (NCI Modified)'!$T$3142,'Base Data wHSA (NCI Modified)'!$K57,COLUMNS(COUNTIES!$D$2:D57)),\"\")","v":""},{"$f":"IFERROR(INDEX('Base Data wHSA (NCI Modified)'!$L$2:'Base Data wHSA (NCI Modified)'!$T$3142,'Base Data wHSA (NCI Modified)'!$K57,COLUMNS(COUNTIES!$D$2:E57)),\"\")","v":""},{"$f":"IFERROR(INDEX('Base Data wHSA (NCI Modified)'!$L$2:'Base Data wHSA (NCI Modified)'!$T$3142,'Base Data wHSA (NCI Modified)'!$K57,COLUMNS(COUNTIES!$D$2:F57)),\"\")","v":""},{"$f":"IFERROR(INDEX('Base Data wHSA (NCI Modified)'!$L$2:'Base Data wHSA (NCI Modified)'!$T$3142,'Base Data wHSA (NCI Modified)'!$K57,COLUMNS(COUNTIES!$D$2:G57)),\"\")","v":""},{"$f":"IFERROR(INDEX('Base Data wHSA (NCI Modified)'!$L$2:'Base Data wHSA (NCI Modified)'!$T$3142,'Base Data wHSA (NCI Modified)'!$K57,COLUMNS(COUNTIES!$D$2:H57)),\"\")","v":""},{"$f":"IFERROR(INDEX('Base Data wHSA (NCI Modified)'!$L$2:'Base Data wHSA (NCI Modified)'!$T$3142,'Base Data wHSA (NCI Modified)'!$K57,COLUMNS(COUNTIES!$D$2:I57)),\"\")","v":""},{"$f":"IFERROR(INDEX('Base Data wHSA (NCI Modified)'!$L$2:'Base Data wHSA (NCI Modified)'!$T$3142,'Base Data wHSA (NCI Modified)'!$K57,COLUMNS(COUNTIES!$D$2:J57)),\"\")","v":""},{"$f":"IFERROR(INDEX('Base Data wHSA (NCI Modified)'!$L$2:'Base Data wHSA (NCI Modified)'!$T$3142,'Base Data wHSA (NCI Modified)'!$K57,COLUMNS(COUNTIES!$D$2:K57)),\"\")","v":""},{"$f":"IFERROR(INDEX('Base Data wHSA (NCI Modified)'!$L$2:'Base Data wHSA (NCI Modified)'!$T$3142,'Base Data wHSA (NCI Modified)'!$K57,COLUMNS(COUNTIES!$D$2:L57)),\"\")","v":""}]
[{"$f":"ROWS($E$2:E58)","v":57},{"$f":"IF(E58=WORKSHEET!$B$2,A58,\"\")","v":""},"",{"$f":"IFERROR(INDEX('Base Data wHSA (NCI Modified)'!$L$2:'Base Data wHSA (NCI Modified)'!$T$3142,'Base Data wHSA (NCI Modified)'!$K58,COLUMNS(COUNTIES!$D$2:D58)),\"\")","v":""},{"$f":"IFERROR(INDEX('Base Data wHSA (NCI Modified)'!$L$2:'Base Data wHSA (NCI Modified)'!$T$3142,'Base Data wHSA (NCI Modified)'!$K58,COLUMNS(COUNTIES!$D$2:E58)),\"\")","v":""},{"$f":"IFERROR(INDEX('Base Data wHSA (NCI Modified)'!$L$2:'Base Data wHSA (NCI Modified)'!$T$3142,'Base Data wHSA (NCI Modified)'!$K58,COLUMNS(COUNTIES!$D$2:F58)),\"\")","v":""},{"$f":"IFERROR(INDEX('Base Data wHSA (NCI Modified)'!$L$2:'Base Data wHSA (NCI Modified)'!$T$3142,'Base Data wHSA (NCI Modified)'!$K58,COLUMNS(COUNTIES!$D$2:G58)),\"\")","v":""},{"$f":"IFERROR(INDEX('Base Data wHSA (NCI Modified)'!$L$2:'Base Data wHSA (NCI Modified)'!$T$3142,'Base Data wHSA (NCI Modified)'!$K58,COLUMNS(COUNTIES!$D$2:H58)),\"\")","v":""},{"$f":"IFERROR(INDEX('Base Data wHSA (NCI Modified)'!$L$2:'Base Data wHSA (NCI Modified)'!$T$3142,'Base Data wHSA (NCI Modified)'!$K58,COLUMNS(COUNTIES!$D$2:I58)),\"\")","v":""},{"$f":"IFERROR(INDEX('Base Data wHSA (NCI Modified)'!$L$2:'Base Data wHSA (NCI Modified)'!$T$3142,'Base Data wHSA (NCI Modified)'!$K58,COLUMNS(COUNTIES!$D$2:J58)),\"\")","v":""},{"$f":"IFERROR(INDEX('Base Data wHSA (NCI Modified)'!$L$2:'Base Data wHSA (NCI Modified)'!$T$3142,'Base Data wHSA (NCI Modified)'!$K58,COLUMNS(COUNTIES!$D$2:K58)),\"\")","v":""},{"$f":"IFERROR(INDEX('Base Data wHSA (NCI Modified)'!$L$2:'Base Data wHSA (NCI Modified)'!$T$3142,'Base Data wHSA (NCI Modified)'!$K58,COLUMNS(COUNTIES!$D$2:L58)),\"\")","v":""}]
[{"$f":"ROWS($E$2:E59)","v":58},{"$f":"IF(E59=WORKSHEET!$B$2,A59,\"\")","v":""},"",{"$f":"IFERROR(INDEX('Base Data wHSA (NCI Modified)'!$L$2:'Base Data wHSA (NCI Modified)'!$T$3142,'Base Data wHSA (NCI Modified)'!$K59,COLUMNS(COUNTIES!$D$2:D59)),\"\")","v":""},{"$f":"IFERROR(INDEX('Base Data wHSA (NCI Modified)'!$L$2:'Base Data wHSA (NCI Modified)'!$T$3142,'Base Data wHSA (NCI Modified)'!$K59,COLUMNS(COUNTIES!$D$2:E59)),\"\")","v":""},{"$f":"IFERROR(INDEX('Base Data wHSA (NCI Modified)'!$L$2:'Base Data wHSA (NCI Modified)'!$T$3142,'Base Data wHSA (NCI Modified)'!$K59,COLUMNS(COUNTIES!$D$2:F59)),\"\")","v":""},{"$f":"IFERROR(INDEX('Base Data wHSA (NCI Modified)'!$L$2:'Base Data wHSA (NCI Modified)'!$T$3142,'Base Data wHSA (NCI Modified)'!$K59,COLUMNS(COUNTIES!$D$2:G59)),\"\")","v":""},{"$f":"IFERROR(INDEX('Base Data wHSA (NCI Modified)'!$L$2:'Base Data wHSA (NCI Modified)'!$T$3142,'Base Data wHSA (NCI Modified)'!$K59,COLUMNS(COUNTIES!$D$2:H59)),\"\")","v":""},{"$f":"IFERROR(INDEX('Base Data wHSA (NCI Modified)'!$L$2:'Base Data wHSA (NCI Modified)'!$T$3142,'Base Data wHSA (NCI Modified)'!$K59,COLUMNS(COUNTIES!$D$2:I59)),\"\")","v":""},{"$f":"IFERROR(INDEX('Base Data wHSA (NCI Modified)'!$L$2:'Base Data wHSA (NCI Modified)'!$T$3142,'Base Data wHSA (NCI Modified)'!$K59,COLUMNS(COUNTIES!$D$2:J59)),\"\")","v":""},{"$f":"IFERROR(INDEX('Base Data wHSA (NCI Modified)'!$L$2:'Base Data wHSA (NCI Modified)'!$T$3142,'Base Data wHSA (NCI Modified)'!$K59,COLUMNS(COUNTIES!$D$2:K59)),\"\")","v":""},{"$f":"IFERROR(INDEX('Base Data wHSA (NCI Modified)'!$L$2:'Base Data wHSA (NCI Modified)'!$T$3142,'Base Data wHSA (NCI Modified)'!$K59,COLUMNS(COUNTIES!$D$2:L59)),\"\")","v":""}]
[{"$f":"ROWS($E$2:E60)","v":59},{"$f":"IF(E60=WORKSHEET!$B$2,A60,\"\")","v":""},"",{"$f":"IFERROR(INDEX('Base Data wHSA (NCI Modified)'!$L$2:'Base Data wHSA (NCI Modified)'!$T$3142,'Base Data wHSA (NCI Modified)'!$K60,COLUMNS(COUNTIES!$D$2:D60)),\"\")","v":""},{"$f":"IFERROR(INDEX('Base Data wHSA (NCI Modified)'!$L$2:'Base Data wHSA (NCI Modified)'!$T$3142,'Base Data wHSA (NCI Modified)'!$K60,COLUMNS(COUNTIES!$D$2:E60)),\"\")","v":""},{"$f":"IFERROR(INDEX('Base Data wHSA (NCI Modified)'!$L$2:'Base Data wHSA (NCI Modified)'!$T$3142,'Base Data wHSA (NCI Modified)'!$K60,COLUMNS(COUNTIES!$D$2:F60)),\"\")","v":""},{"$f":"IFERROR(INDEX('Base Data wHSA (NCI Modified)'!$L$2:'Base Data wHSA (NCI Modified)'!$T$3142,'Base Data wHSA (NCI Modified)'!$K60,COLUMNS(COUNTIES!$D$2:G60)),\"\")","v":""},{"$f":"IFERROR(INDEX('Base Data wHSA (NCI Modified)'!$L$2:'Base Data wHSA (NCI Modified)'!$T$3142,'Base Data wHSA (NCI Modified)'!$K60,COLUMNS(COUNTIES!$D$2:H60)),\"\")","v":""},{"$f":"IFERROR(INDEX('Base Data wHSA (NCI Modified)'!$L$2:'Base Data wHSA (NCI Modified)'!$T$3142,'Base Data wHSA (NCI Modified)'!$K60,COLUMNS(COUNTIES!$D$2:I60)),\"\")","v":""},{"$f":"IFERROR(INDEX('Base Data wHSA (NCI Modified)'!$L$2:'Base Data wHSA (NCI Modified)'!$T$3142,'Base Data wHSA (NCI Modified)'!$K60,COLUMNS(COUNTIES!$D$2:J60)),\"\")","v":""},{"$f":"IFERROR(INDEX('Base Data wHSA (NCI Modified)'!$L$2:'Base Data wHSA (NCI Modified)'!$T$3142,'Base Data wHSA (NCI Modified)'!$K60,COLUMNS(COUNTIES!$D$2:K60)),\"\")","v":""},{"$f":"IFERROR(INDEX('Base Data wHSA (NCI Modified)'!$L$2:'Base Data wHSA (NCI Modified)'!$T$3142,'Base Data wHSA (NCI Modified)'!$K60,COLUMNS(COUNTIES!$D$2:L60)),\"\")","v":""}]
[{"$f":"ROWS($E$2:E61)","v":60},{"$f":"IF(E61=WORKSHEET!$B$2,A61,\"\")","v":""},"",{"$f":"IFERROR(INDEX('Base Data wHSA (NCI Modified)'!$L$2:'Base Data wHSA (NCI Modified)'!$T$3142,'Base Data wHSA (NCI Modified)'!$K61,COLUMNS(COUNTIES!$D$2:D61)),\"\")","v":""},{"$f":"IFERROR(INDEX('Base Data wHSA (NCI Modified)'!$L$2:'Base Data wHSA (NCI Modified)'!$T$3142,'Base Data wHSA (NCI Modified)'!$K61,COLUMNS(COUNTIES!$D$2:E61)),\"\")","v":""},{"$f":"IFERROR(INDEX('Base Data wHSA (NCI Modified)'!$L$2:'Base Data wHSA (NCI Modified)'!$T$3142,'Base Data wHSA (NCI Modified)'!$K61,COLUMNS(COUNTIES!$D$2:F61)),\"\")","v":""},{"$f":"IFERROR(INDEX('Base Data wHSA (NCI Modified)'!$L$2:'Base Data wHSA (NCI Modified)'!$T$3142,'Base Data wHSA (NCI Modified)'!$K61,COLUMNS(COUNTIES!$D$2:G61)),\"\")","v":""},{"$f":"IFERROR(INDEX('Base Data wHSA (NCI Modified)'!$L$2:'Base Data wHSA (NCI Modified)'!$T$3142,'Base Data wHSA (NCI Modified)'!$K61,COLUMNS(COUNTIES!$D$2:H61)),\"\")","v":""},{"$f":"IFERROR(INDEX('Base Data wHSA (NCI Modified)'!$L$2:'Base Data wHSA (NCI Modified)'!$T$3142,'Base Data wHSA (NCI Modified)'!$K61,COLUMNS(COUNTIES!$D$2:I61)),\"\")","v":""},{"$f":"IFERROR(INDEX('Base Data wHSA (NCI Modified)'!$L$2:'Base Data wHSA (NCI Modified)'!$T$3142,'Base Data wHSA (NCI Modified)'!$K61,COLUMNS(COUNTIES!$D$2:J61)),\"\")","v":""},{"$f":"IFERROR(INDEX('Base Data wHSA (NCI Modified)'!$L$2:'Base Data wHSA (NCI Modified)'!$T$3142,'Base Data wHSA (NCI Modified)'!$K61,COLUMNS(COUNTIES!$D$2:K61)),\"\")","v":""},{"$f":"IFERROR(INDEX('Base Data wHSA (NCI Modified)'!$L$2:'Base Data wHSA (NCI Modified)'!$T$3142,'Base Data wHSA (NCI Modified)'!$K61,COLUMNS(COUNTIES!$D$2:L61)),\"\")","v":""}]
[{"$f":"ROWS($E$2:E62)","v":61},{"$f":"IF(E62=WORKSHEET!$B$2,A62,\"\")","v":""},"",{"$f":"IFERROR(INDEX('Base Data wHSA (NCI Modified)'!$L$2:'Base Data wHSA (NCI Modified)'!$T$3142,'Base Data wHSA (NCI Modified)'!$K62,COLUMNS(COUNTIES!$D$2:D62)),\"\")","v":""},{"$f":"IFERROR(INDEX('Base Data wHSA (NCI Modified)'!$L$2:'Base Data wHSA (NCI Modified)'!$T$3142,'Base Data wHSA (NCI Modified)'!$K62,COLUMNS(COUNTIES!$D$2:E62)),\"\")","v":""},{"$f":"IFERROR(INDEX('Base Data wHSA (NCI Modified)'!$L$2:'Base Data wHSA (NCI Modified)'!$T$3142,'Base Data wHSA (NCI Modified)'!$K62,COLUMNS(COUNTIES!$D$2:F62)),\"\")","v":""},{"$f":"IFERROR(INDEX('Base Data wHSA (NCI Modified)'!$L$2:'Base Data wHSA (NCI Modified)'!$T$3142,'Base Data wHSA (NCI Modified)'!$K62,COLUMNS(COUNTIES!$D$2:G62)),\"\")","v":""},{"$f":"IFERROR(INDEX('Base Data wHSA (NCI Modified)'!$L$2:'Base Data wHSA (NCI Modified)'!$T$3142,'Base Data wHSA (NCI Modified)'!$K62,COLUMNS(COUNTIES!$D$2:H62)),\"\")","v":""},{"$f":"IFERROR(INDEX('Base Data wHSA (NCI Modified)'!$L$2:'Base Data wHSA (NCI Modified)'!$T$3142,'Base Data wHSA (NCI Modified)'!$K62,COLUMNS(COUNTIES!$D$2:I62)),\"\")","v":""},{"$f":"IFERROR(INDEX('Base Data wHSA (NCI Modified)'!$L$2:'Base Data wHSA (NCI Modified)'!$T$3142,'Base Data wHSA (NCI Modified)'!$K62,COLUMNS(COUNTIES!$D$2:J62)),\"\")","v":""},{"$f":"IFERROR(INDEX('Base Data wHSA (NCI Modified)'!$L$2:'Base Data wHSA (NCI Modified)'!$T$3142,'Base Data wHSA (NCI Modified)'!$K62,COLUMNS(COUNTIES!$D$2:K62)),\"\")","v":""},{"$f":"IFERROR(INDEX('Base Data wHSA (NCI Modified)'!$L$2:'Base Data wHSA (NCI Modified)'!$T$3142,'Base Data wHSA (NCI Modified)'!$K62,COLUMNS(COUNTIES!$D$2:L62)),\"\")","v":""}]
[{"$f":"ROWS($E$2:E63)","v":62},{"$f":"IF(E63=WORKSHEET!$B$2,A63,\"\")","v":""},"",{"$f":"IFERROR(INDEX('Base Data wHSA (NCI Modified)'!$L$2:'Base Data wHSA (NCI Modified)'!$T$3142,'Base Data wHSA (NCI Modified)'!$K63,COLUMNS(COUNTIES!$D$2:D63)),\"\")","v":""},{"$f":"IFERROR(INDEX('Base Data wHSA (NCI Modified)'!$L$2:'Base Data wHSA (NCI Modified)'!$T$3142,'Base Data wHSA (NCI Modified)'!$K63,COLUMNS(COUNTIES!$D$2:E63)),\"\")","v":""},{"$f":"IFERROR(INDEX('Base Data wHSA (NCI Modified)'!$L$2:'Base Data wHSA (NCI Modified)'!$T$3142,'Base Data wHSA (NCI Modified)'!$K63,COLUMNS(COUNTIES!$D$2:F63)),\"\")","v":""},{"$f":"IFERROR(INDEX('Base Data wHSA (NCI Modified)'!$L$2:'Base Data wHSA (NCI Modified)'!$T$3142,'Base Data wHSA (NCI Modified)'!$K63,COLUMNS(COUNTIES!$D$2:G63)),\"\")","v":""},{"$f":"IFERROR(INDEX('Base Data wHSA (NCI Modified)'!$L$2:'Base Data wHSA (NCI Modified)'!$T$3142,'Base Data wHSA (NCI Modified)'!$K63,COLUMNS(COUNTIES!$D$2:H63)),\"\")","v":""},{"$f":"IFERROR(INDEX('Base Data wHSA (NCI Modified)'!$L$2:'Base Data wHSA (NCI Modified)'!$T$3142,'Base Data wHSA (NCI Modified)'!$K63,COLUMNS(COUNTIES!$D$2:I63)),\"\")","v":""},{"$f":"IFERROR(INDEX('Base Data wHSA (NCI Modified)'!$L$2:'Base Data wHSA (NCI Modified)'!$T$3142,'Base Data wHSA (NCI Modified)'!$K63,COLUMNS(COUNTIES!$D$2:J63)),\"\")","v":""},{"$f":"IFERROR(INDEX('Base Data wHSA (NCI Modified)'!$L$2:'Base Data wHSA (NCI Modified)'!$T$3142,'Base Data wHSA (NCI Modified)'!$K63,COLUMNS(COUNTIES!$D$2:K63)),\"\")","v":""},{"$f":"IFERROR(INDEX('Base Data wHSA (NCI Modified)'!$L$2:'Base Data wHSA (NCI Modified)'!$T$3142,'Base Data wHSA (NCI Modified)'!$K63,COLUMNS(COUNTIES!$D$2:L63)),\"\")","v":""}]
[{"$f":"ROWS($E$2:E64)","v":63},{"$f":"IF(E64=WORKSHEET!$B$2,A64,\"\")","v":""},"",{"$f":"IFERROR(INDEX('Base Data wHSA (NCI Modified)'!$L$2:'Base Data wHSA (NCI Modified)'!$T$3142,'Base Data wHSA (NCI Modified)'!$K64,COLUMNS(COUNTIES!$D$2:D64)),\"\")","v":""},{"$f":"IFERROR(INDEX('Base Data wHSA (NCI Modified)'!$L$2:'Base Data wHSA (NCI Modified)'!$T$3142,'Base Data wHSA (NCI Modified)'!$K64,COLUMNS(COUNTIES!$D$2:E64)),\"\")","v":""},{"$f":"IFERROR(INDEX('Base Data wHSA (NCI Modified)'!$L$2:'Base Data wHSA (NCI Modified)'!$T$3142,'Base Data wHSA (NCI Modified)'!$K64,COLUMNS(COUNTIES!$D$2:F64)),\"\")","v":""},{"$f":"IFERROR(INDEX('Base Data wHSA (NCI Modified)'!$L$2:'Base Data wHSA (NCI Modified)'!$T$3142,'Base Data wHSA (NCI Modified)'!$K64,COLUMNS(COUNTIES!$D$2:G64)),\"\")","v":""},{"$f":"IFERROR(INDEX('Base Data wHSA (NCI Modified)'!$L$2:'Base Data wHSA (NCI Modified)'!$T$3142,'Base Data wHSA (NCI Modified)'!$K64,COLUMNS(COUNTIES!$D$2:H64)),\"\")","v":""},{"$f":"IFERROR(INDEX('Base Data wHSA (NCI Modified)'!$L$2:'Base Data wHSA (NCI Modified)'!$T$3142,'Base Data wHSA (NCI Modified)'!$K64,COLUMNS(COUNTIES!$D$2:I64)),\"\")","v":""},{"$f":"IFERROR(INDEX('Base Data wHSA (NCI Modified)'!$L$2:'Base Data wHSA (NCI Modified)'!$T$3142,'Base Data wHSA (NCI Modified)'!$K64,COLUMNS(COUNTIES!$D$2:J64)),\"\")","v":""},{"$f":"IFERROR(INDEX('Base Data wHSA (NCI Modified)'!$L$2:'Base Data wHSA (NCI Modified)'!$T$3142,'Base Data wHSA (NCI Modified)'!$K64,COLUMNS(COUNTIES!$D$2:K64)),\"\")","v":""},{"$f":"IFERROR(INDEX('Base Data wHSA (NCI Modified)'!$L$2:'Base Data wHSA (NCI Modified)'!$T$3142,'Base Data wHSA (NCI Modified)'!$K64,COLUMNS(COUNTIES!$D$2:L64)),\"\")","v":""}]
[{"$f":"ROWS($E$2:E65)","v":64},{"$f":"IF(E65=WORKSHEET!$B$2,A65,\"\")","v":""},"",{"$f":"IFERROR(INDEX('Base Data wHSA (NCI Modified)'!$L$2:'Base Data wHSA (NCI Modified)'!$T$3142,'Base Data wHSA (NCI Modified)'!$K65,COLUMNS(COUNTIES!$D$2:D65)),\"\")","v":""},{"$f":"IFERROR(INDEX('Base Data wHSA (NCI Modified)'!$L$2:'Base Data wHSA (NCI Modified)'!$T$3142,'Base Data wHSA (NCI Modified)'!$K65,COLUMNS(COUNTIES!$D$2:E65)),\"\")","v":""},{"$f":"IFERROR(INDEX('Base Data wHSA (NCI Modified)'!$L$2:'Base Data wHSA (NCI Modified)'!$T$3142,'Base Data wHSA (NCI Modified)'!$K65,COLUMNS(COUNTIES!$D$2:F65)),\"\")","v":""},{"$f":"IFERROR(INDEX('Base Data wHSA (NCI Modified)'!$L$2:'Base Data wHSA (NCI Modified)'!$T$3142,'Base Data wHSA (NCI Modified)'!$K65,COLUMNS(COUNTIES!$D$2:G65)),\"\")","v":""},{"$f":"IFERROR(INDEX('Base Data wHSA (NCI Modified)'!$L$2:'Base Data wHSA (NCI Modified)'!$T$3142,'Base Data wHSA (NCI Modified)'!$K65,COLUMNS(COUNTIES!$D$2:H65)),\"\")","v":""},{"$f":"IFERROR(INDEX('Base Data wHSA (NCI Modified)'!$L$2:'Base Data wHSA (NCI Modified)'!$T$3142,'Base Data wHSA (NCI Modified)'!$K65,COLUMNS(COUNTIES!$D$2:I65)),\"\")","v":""},{"$f":"IFERROR(INDEX('Base Data wHSA (NCI Modified)'!$L$2:'Base Data wHSA (NCI Modified)'!$T$3142,'Base Data wHSA (NCI Modified)'!$K65,COLUMNS(COUNTIES!$D$2:J65)),\"\")","v":""},{"$f":"IFERROR(INDEX('Base Data wHSA (NCI Modified)'!$L$2:'Base Data wHSA (NCI Modified)'!$T$3142,'Base Data wHSA (NCI Modified)'!$K65,COLUMNS(COUNTIES!$D$2:K65)),\"\")","v":""},{"$f":"IFERROR(INDEX('Base Data wHSA (NCI Modified)'!$L$2:'Base Data wHSA (NCI Modified)'!$T$3142,'Base Data wHSA (NCI Modified)'!$K65,COLUMNS(COUNTIES!$D$2:L65)),\"\")","v":""}]
[{"$f":"ROWS($E$2:E66)","v":65},{"$f":"IF(E66=WORKSHEET!$B$2,A66,\"\")","v":""},"",{"$f":"IFERROR(INDEX('Base Data wHSA (NCI Modified)'!$L$2:'Base Data wHSA (NCI Modified)'!$T$3142,'Base Data wHSA (NCI Modified)'!$K66,COLUMNS(COUNTIES!$D$2:D66)),\"\")","v":""},{"$f":"IFERROR(INDEX('Base Data wHSA (NCI Modified)'!$L$2:'Base Data wHSA (NCI Modified)'!$T$3142,'Base Data wHSA (NCI Modified)'!$K66,COLUMNS(COUNTIES!$D$2:E66)),\"\")","v":""},{"$f":"IFERROR(INDEX('Base Data wHSA (NCI Modified)'!$L$2:'Base Data wHSA (NCI Modified)'!$T$3142,'Base Data wHSA (NCI Modified)'!$K66,COLUMNS(COUNTIES!$D$2:F66)),\"\")","v":""},{"$f":"IFERROR(INDEX('Base Data wHSA (NCI Modified)'!$L$2:'Base Data wHSA (NCI Modified)'!$T$3142,'Base Data wHSA (NCI Modified)'!$K66,COLUMNS(COUNTIES!$D$2:G66)),\"\")","v":""},{"$f":"IFERROR(INDEX('Base Data wHSA (NCI Modified)'!$L$2:'Base Data wHSA (NCI Modified)'!$T$3142,'Base Data wHSA (NCI Modified)'!$K66,COLUMNS(COUNTIES!$D$2:H66)),\"\")","v":""},{"$f":"IFERROR(INDEX('Base Data wHSA (NCI Modified)'!$L$2:'Base Data wHSA (NCI Modified)'!$T$3142,'Base Data wHSA (NCI Modified)'!$K66,COLUMNS(COUNTIES!$D$2:I66)),\"\")","v":""},{"$f":"IFERROR(INDEX('Base Data wHSA (NCI Modified)'!$L$2:'Base Data wHSA (NCI Modified)'!$T$3142,'Base Data wHSA (NCI Modified)'!$K66,COLUMNS(COUNTIES!$D$2:J66)),\"\")","v":""},{"$f":"IFERROR(INDEX('Base Data wHSA (NCI Modified)'!$L$2:'Base Data wHSA (NCI Modified)'!$T$3142,'Base Data wHSA (NCI Modified)'!$K66,COLUMNS(COUNTIES!$D$2:K66)),\"\")","v":""},{"$f":"IFERROR(INDEX('Base Data wHSA (NCI Modified)'!$L$2:'Base Data wHSA (NCI Modified)'!$T$3142,'Base Data wHSA (NCI Modified)'!$K66,COLUMNS(COUNTIES!$D$2:L66)),\"\")","v":""}]
[{"$f":"ROWS($E$2:E67)","v":66},{"$f":"IF(E67=WORKSHEET!$B$2,A67,\"\")","v":""},"",{"$f":"IFERROR(INDEX('Base Data wHSA (NCI Modified)'!$L$2:'Base Data wHSA (NCI Modified)'!$T$3142,'Base Data wHSA (NCI Modified)'!$K67,COLUMNS(COUNTIES!$D$2:D67)),\"\")","v":""},{"$f":"IFERROR(INDEX('Base Data wHSA (NCI Modified)'!$L$2:'Base Data wHSA (NCI Modified)'!$T$3142,'Base Data wHSA (NCI Modified)'!$K67,COLUMNS(COUNTIES!$D$2:E67)),\"\")","v":""},{"$f":"IFERROR(INDEX('Base Data wHSA (NCI Modified)'!$L$2:'Base Data wHSA (NCI Modified)'!$T$3142,'Base Data wHSA (NCI Modified)'!$K67,COLUMNS(COUNTIES!$D$2:F67)),\"\")","v":""},{"$f":"IFERROR(INDEX('Base Data wHSA (NCI Modified)'!$L$2:'Base Data wHSA (NCI Modified)'!$T$3142,'Base Data wHSA (NCI Modified)'!$K67,COLUMNS(COUNTIES!$D$2:G67)),\"\")","v":""},{"$f":"IFERROR(INDEX('Base Data wHSA (NCI Modified)'!$L$2:'Base Data wHSA (NCI Modified)'!$T$3142,'Base Data wHSA (NCI Modified)'!$K67,COLUMNS(COUNTIES!$D$2:H67)),\"\")","v":""},{"$f":"IFERROR(INDEX('Base Data wHSA (NCI Modified)'!$L$2:'Base Data wHSA (NCI Modified)'!$T$3142,'Base Data wHSA (NCI Modified)'!$K67,COLUMNS(COUNTIES!$D$2:I67)),\"\")","v":""},{"$f":"IFERROR(INDEX('Base Data wHSA (NCI Modified)'!$L$2:'Base Data wHSA (NCI Modified)'!$T$3142,'Base Data wHSA (NCI Modified)'!$K67,COLUMNS(COUNTIES!$D$2:J67)),\"\")","v":""},{"$f":"IFERROR(INDEX('Base Data wHSA (NCI Modified)'!$L$2:'Base Data wHSA (NCI Modified)'!$T$3142,'Base Data wHSA (NCI Modified)'!$K67,COLUMNS(COUNTIES!$D$2:K67)),\"\")","v":""},{"$f":"IFERROR(INDEX('Base Data wHSA (NCI Modified)'!$L$2:'Base Data wHSA (NCI Modified)'!$T$3142,'Base Data wHSA (NCI Modified)'!$K67,COLUMNS(COUNTIES!$D$2:L67)),\"\")","v":""}]
[{"$f":"ROWS($E$2:E68)","v":67},{"$f":"IF(E68=WORKSHEET!$B$2,A68,\"\")","v":""},{"$f":"IFERROR(SMALL($B$2:$B$255,A68),\"\")","v":""},{"$f":"IFERROR(INDEX('Base Data wHSA (NCI Modified)'!$L$2:'Base Data wHSA (NCI Modified)'!$T$3142,'Base Data wHSA (NCI Modified)'!$K68,COLUMNS(COUNTIES!$D$2:D68)),\"\")","v":""},{"$f":"IFERROR(INDEX('Base Data wHSA (NCI Modified)'!$L$2:'Base Data wHSA (NCI Modified)'!$T$3142,'Base Data wHSA (NCI Modified)'!$K68,COLUMNS(COUNTIES!$D$2:E68)),\"\")","v":""},{"$f":"IFERROR(INDEX('Base Data wHSA (NCI Modified)'!$L$2:'Base Data wHSA (NCI Modified)'!$T$3142,'Base Data wHSA (NCI Modified)'!$K68,COLUMNS(COUNTIES!$D$2:F68)),\"\")","v":""},{"$f":"IFERROR(INDEX('Base Data wHSA (NCI Modified)'!$L$2:'Base Data wHSA (NCI Modified)'!$T$3142,'Base Data wHSA (NCI Modified)'!$K68,COLUMNS(COUNTIES!$D$2:G68)),\"\")","v":""},{"$f":"IFERROR(INDEX('Base Data wHSA (NCI Modified)'!$L$2:'Base Data wHSA (NCI Modified)'!$T$3142,'Base Data wHSA (NCI Modified)'!$K68,COLUMNS(COUNTIES!$D$2:H68)),\"\")","v":""},{"$f":"IFERROR(INDEX('Base Data wHSA (NCI Modified)'!$L$2:'Base Data wHSA (NCI Modified)'!$T$3142,'Base Data wHSA (NCI Modified)'!$K68,COLUMNS(COUNTIES!$D$2:I68)),\"\")","v":""},{"$f":"IFERROR(INDEX('Base Data wHSA (NCI Modified)'!$L$2:'Base Data wHSA (NCI Modified)'!$T$3142,'Base Data wHSA (NCI Modified)'!$K68,COLUMNS(COUNTIES!$D$2:J68)),\"\")","v":""},{"$f":"IFERROR(INDEX('Base Data wHSA (NCI Modified)'!$L$2:'Base Data wHSA (NCI Modified)'!$T$3142,'Base Data wHSA (NCI Modified)'!$K68,COLUMNS(COUNTIES!$D$2:K68)),\"\")","v":""},{"$f":"IFERROR(INDEX('Base Data wHSA (NCI Modified)'!$L$2:'Base Data wHSA (NCI Modified)'!$T$3142,'Base Data wHSA (NCI Modified)'!$K68,COLUMNS(COUNTIES!$D$2:L68)),\"\")","v":""}]
[{"$f":"ROWS($E$2:E69)","v":68},{"$f":"IF(E69=WORKSHEET!$B$2,A69,\"\")","v":""},"",{"$f":"IFERROR(INDEX('Base Data wHSA (NCI Modified)'!$L$2:'Base Data wHSA (NCI Modified)'!$T$3142,'Base Data wHSA (NCI Modified)'!$K69,COLUMNS(COUNTIES!$D$2:D69)),\"\")","v":""},{"$f":"IFERROR(INDEX('Base Data wHSA (NCI Modified)'!$L$2:'Base Data wHSA (NCI Modified)'!$T$3142,'Base Data wHSA (NCI Modified)'!$K69,COLUMNS(COUNTIES!$D$2:E69)),\"\")","v":""},{"$f":"IFERROR(INDEX('Base Data wHSA (NCI Modified)'!$L$2:'Base Data wHSA (NCI Modified)'!$T$3142,'Base Data wHSA (NCI Modified)'!$K69,COLUMNS(COUNTIES!$D$2:F69)),\"\")","v":""},{"$f":"IFERROR(INDEX('Base Data wHSA (NCI Modified)'!$L$2:'Base Data wHSA (NCI Modified)'!$T$3142,'Base Data wHSA (NCI Modified)'!$K69,COLUMNS(COUNTIES!$D$2:G69)),\"\")","v":""},{"$f":"IFERROR(INDEX('Base Data wHSA (NCI Modified)'!$L$2:'Base Data wHSA (NCI Modified)'!$T$3142,'Base Data wHSA (NCI Modified)'!$K69,COLUMNS(COUNTIES!$D$2:H69)),\"\")","v":""},{"$f":"IFERROR(INDEX('Base Data wHSA (NCI Modified)'!$L$2:'Base Data wHSA (NCI Modified)'!$T$3142,'Base Data wHSA (NCI Modified)'!$K69,COLUMNS(COUNTIES!$D$2:I69)),\"\")","v":""},{"$f":"IFERROR(INDEX('Base Data wHSA (NCI Modified)'!$L$2:'Base Data wHSA (NCI Modified)'!$T$3142,'Base Data wHSA (NCI Modified)'!$K69,COLUMNS(COUNTIES!$D$2:J69)),\"\")","v":""},{"$f":"IFERROR(INDEX('Base Data wHSA (NCI Modified)'!$L$2:'Base Data wHSA (NCI Modified)'!$T$3142,'Base Data wHSA (NCI Modified)'!$K69,COLUMNS(COUNTIES!$D$2:K69)),\"\")","v":""},{"$f":"IFERROR(INDEX('Base Data wHSA (NCI Modified)'!$L$2:'Base Data wHSA (NCI Modified)'!$T$3142,'Base Data wHSA (NCI Modified)'!$K69,COLUMNS(COUNTIES!$D$2:L69)),\"\")","v":""}]
[{"$f":"ROWS($E$2:E70)","v":69},{"$f":"IF(E70=WORKSHEET!$B$2,A70,\"\")","v":""},"",{"$f":"IFERROR(INDEX('Base Data wHSA (NCI Modified)'!$L$2:'Base Data wHSA (NCI Modified)'!$T$3142,'Base Data wHSA (NCI Modified)'!$K70,COLUMNS(COUNTIES!$D$2:D70)),\"\")","v":""},{"$f":"IFERROR(INDEX('Base Data wHSA (NCI Modified)'!$L$2:'Base Data wHSA (NCI Modified)'!$T$3142,'Base Data wHSA (NCI Modified)'!$K70,COLUMNS(COUNTIES!$D$2:E70)),\"\")","v":""},{"$f":"IFERROR(INDEX('Base Data wHSA (NCI Modified)'!$L$2:'Base Data wHSA (NCI Modified)'!$T$3142,'Base Data wHSA (NCI Modified)'!$K70,COLUMNS(COUNTIES!$D$2:F70)),\"\")","v":""},{"$f":"IFERROR(INDEX('Base Data wHSA (NCI Modified)'!$L$2:'Base Data wHSA (NCI Modified)'!$T$3142,'Base Data wHSA (NCI Modified)'!$K70,COLUMNS(COUNTIES!$D$2:G70)),\"\")","v":""},{"$f":"IFERROR(INDEX('Base Data wHSA (NCI Modified)'!$L$2:'Base Data wHSA (NCI Modified)'!$T$3142,'Base Data wHSA (NCI Modified)'!$K70,COLUMNS(COUNTIES!$D$2:H70)),\"\")","v":""},{"$f":"IFERROR(INDEX('Base Data wHSA (NCI Modified)'!$L$2:'Base Data wHSA (NCI Modified)'!$T$3142,'Base Data wHSA (NCI Modified)'!$K70,COLUMNS(COUNTIES!$D$2:I70)),\"\")","v":""},{"$f":"IFERROR(INDEX('Base Data wHSA (NCI Modified)'!$L$2:'Base Data wHSA (NCI Modified)'!$T$3142,'Base Data wHSA (NCI Modified)'!$K70,COLUMNS(COUNTIES!$D$2:J70)),\"\")","v":""},{"$f":"IFERROR(INDEX('Base Data wHSA (NCI Modified)'!$L$2:'Base Data wHSA (NCI Modified)'!$T$3142,'Base Data wHSA (NCI Modified)'!$K70,COLUMNS(COUNTIES!$D$2:K70)),\"\")","v":""},{"$f":"IFERROR(INDEX('Base Data wHSA (NCI Modified)'!$L$2:'Base Data wHSA (NCI Modified)'!$T$3142,'Base Data wHSA (NCI Modified)'!$K70,COLUMNS(COUNTIES!$D$2:L70)),\"\")","v":""}]
[{"$f":"ROWS($E$2:E71)","v":70},{"$f":"IF(E71=WORKSHEET!$B$2,A71,\"\")","v":""},"",{"$f":"IFERROR(INDEX('Base Data wHSA (NCI Modified)'!$L$2:'Base Data wHSA (NCI Modified)'!$T$3142,'Base Data wHSA (NCI Modified)'!$K71,COLUMNS(COUNTIES!$D$2:D71)),\"\")","v":""},{"$f":"IFERROR(INDEX('Base Data wHSA (NCI Modified)'!$L$2:'Base Data wHSA (NCI Modified)'!$T$3142,'Base Data wHSA (NCI Modified)'!$K71,COLUMNS(COUNTIES!$D$2:E71)),\"\")","v":""},{"$f":"IFERROR(INDEX('Base Data wHSA (NCI Modified)'!$L$2:'Base Data wHSA (NCI Modified)'!$T$3142,'Base Data wHSA (NCI Modified)'!$K71,COLUMNS(COUNTIES!$D$2:F71)),\"\")","v":""},{"$f":"IFERROR(INDEX('Base Data wHSA (NCI Modified)'!$L$2:'Base Data wHSA (NCI Modified)'!$T$3142,'Base Data wHSA (NCI Modified)'!$K71,COLUMNS(COUNTIES!$D$2:G71)),\"\")","v":""},{"$f":"IFERROR(INDEX('Base Data wHSA (NCI Modified)'!$L$2:'Base Data wHSA (NCI Modified)'!$T$3142,'Base Data wHSA (NCI Modified)'!$K71,COLUMNS(COUNTIES!$D$2:H71)),\"\")","v":""},{"$f":"IFERROR(INDEX('Base Data wHSA (NCI Modified)'!$L$2:'Base Data wHSA (NCI Modified)'!$T$3142,'Base Data wHSA (NCI Modified)'!$K71,COLUMNS(COUNTIES!$D$2:I71)),\"\")","v":""},{"$f":"IFERROR(INDEX('Base Data wHSA (NCI Modified)'!$L$2:'Base Data wHSA (NCI Modified)'!$T$3142,'Base Data wHSA (NCI Modified)'!$K71,COLUMNS(COUNTIES!$D$2:J71)),\"\")","v":""},{"$f":"IFERROR(INDEX('Base Data wHSA (NCI Modified)'!$L$2:'Base Data wHSA (NCI Modified)'!$T$3142,'Base Data wHSA (NCI Modified)'!$K71,COLUMNS(COUNTIES!$D$2:K71)),\"\")","v":""},{"$f":"IFERROR(INDEX('Base Data wHSA (NCI Modified)'!$L$2:'Base Data wHSA (NCI Modified)'!$T$3142,'Base Data wHSA (NCI Modified)'!$K71,COLUMNS(COUNTIES!$D$2:L71)),\"\")","v":""}]
[{"$f":"ROWS($E$2:E72)","v":71},{"$f":"IF(E72=WORKSHEET!$B$2,A72,\"\")","v":""},"",{"$f":"IFERROR(INDEX('Base Data wHSA (NCI Modified)'!$L$2:'Base Data wHSA (NCI Modified)'!$T$3142,'Base Data wHSA (NCI Modified)'!$K72,COLUMNS(COUNTIES!$D$2:D72)),\"\")","v":""},{"$f":"IFERROR(INDEX('Base Data wHSA (NCI Modified)'!$L$2:'Base Data wHSA (NCI Modified)'!$T$3142,'Base Data wHSA (NCI Modified)'!$K72,COLUMNS(COUNTIES!$D$2:E72)),\"\")","v":""},{"$f":"IFERROR(INDEX('Base Data wHSA (NCI Modified)'!$L$2:'Base Data wHSA (NCI Modified)'!$T$3142,'Base Data wHSA (NCI Modified)'!$K72,COLUMNS(COUNTIES!$D$2:F72)),\"\")","v":""},{"$f":"IFERROR(INDEX('Base Data wHSA (NCI Modified)'!$L$2:'Base Data wHSA (NCI Modified)'!$T$3142,'Base Data wHSA (NCI Modified)'!$K72,COLUMNS(COUNTIES!$D$2:G72)),\"\")","v":""},{"$f":"IFERROR(INDEX('Base Data wHSA (NCI Modified)'!$L$2:'Base Data wHSA (NCI Modified)'!$T$3142,'Base Data wHSA (NCI Modified)'!$K72,COLUMNS(COUNTIES!$D$2:H72)),\"\")","v":""},{"$f":"IFERROR(INDEX('Base Data wHSA (NCI Modified)'!$L$2:'Base Data wHSA (NCI Modified)'!$T$3142,'Base Data wHSA (NCI Modified)'!$K72,COLUMNS(COUNTIES!$D$2:I72)),\"\")","v":""},{"$f":"IFERROR(INDEX('Base Data wHSA (NCI Modified)'!$L$2:'Base Data wHSA (NCI Modified)'!$T$3142,'Base Data wHSA (NCI Modified)'!$K72,COLUMNS(COUNTIES!$D$2:J72)),\"\")","v":""},{"$f":"IFERROR(INDEX('Base Data wHSA (NCI Modified)'!$L$2:'Base Data wHSA (NCI Modified)'!$T$3142,'Base Data wHSA (NCI Modified)'!$K72,COLUMNS(COUNTIES!$D$2:K72)),\"\")","v":""},{"$f":"IFERROR(INDEX('Base Data wHSA (NCI Modified)'!$L$2:'Base Data wHSA (NCI Modified)'!$T$3142,'Base Data wHSA (NCI Modified)'!$K72,COLUMNS(COUNTIES!$D$2:L72)),\"\")","v":""}]
[{"$f":"ROWS($E$2:E73)","v":72},{"$f":"IF(E73=WORKSHEET!$B$2,A73,\"\")","v":""},"",{"$f":"IFERROR(INDEX('Base Data wHSA (NCI Modified)'!$L$2:'Base Data wHSA (NCI Modified)'!$T$3142,'Base Data wHSA (NCI Modified)'!$K73,COLUMNS(COUNTIES!$D$2:D73)),\"\")","v":""},{"$f":"IFERROR(INDEX('Base Data wHSA (NCI Modified)'!$L$2:'Base Data wHSA (NCI Modified)'!$T$3142,'Base Data wHSA (NCI Modified)'!$K73,COLUMNS(COUNTIES!$D$2:E73)),\"\")","v":""},{"$f":"IFERROR(INDEX('Base Data wHSA (NCI Modified)'!$L$2:'Base Data wHSA (NCI Modified)'!$T$3142,'Base Data wHSA (NCI Modified)'!$K73,COLUMNS(COUNTIES!$D$2:F73)),\"\")","v":""},{"$f":"IFERROR(INDEX('Base Data wHSA (NCI Modified)'!$L$2:'Base Data wHSA (NCI Modified)'!$T$3142,'Base Data wHSA (NCI Modified)'!$K73,COLUMNS(COUNTIES!$D$2:G73)),\"\")","v":""},{"$f":"IFERROR(INDEX('Base Data wHSA (NCI Modified)'!$L$2:'Base Data wHSA (NCI Modified)'!$T$3142,'Base Data wHSA (NCI Modified)'!$K73,COLUMNS(COUNTIES!$D$2:H73)),\"\")","v":""},{"$f":"IFERROR(INDEX('Base Data wHSA (NCI Modified)'!$L$2:'Base Data wHSA (NCI Modified)'!$T$3142,'Base Data wHSA (NCI Modified)'!$K73,COLUMNS(COUNTIES!$D$2:I73)),\"\")","v":""},{"$f":"IFERROR(INDEX('Base Data wHSA (NCI Modified)'!$L$2:'Base Data wHSA (NCI Modified)'!$T$3142,'Base Data wHSA (NCI Modified)'!$K73,COLUMNS(COUNTIES!$D$2:J73)),\"\")","v":""},{"$f":"IFERROR(INDEX('Base Data wHSA (NCI Modified)'!$L$2:'Base Data wHSA (NCI Modified)'!$T$3142,'Base Data wHSA (NCI Modified)'!$K73,COLUMNS(COUNTIES!$D$2:K73)),\"\")","v":""},{"$f":"IFERROR(INDEX('Base Data wHSA (NCI Modified)'!$L$2:'Base Data wHSA (NCI Modified)'!$T$3142,'Base Data wHSA (NCI Modified)'!$K73,COLUMNS(COUNTIES!$D$2:L73)),\"\")","v":""}]
[{"$f":"ROWS($E$2:E74)","v":73},{"$f":"IF(E74=WORKSHEET!$B$2,A74,\"\")","v":""},"",{"$f":"IFERROR(INDEX('Base Data wHSA (NCI Modified)'!$L$2:'Base Data wHSA (NCI Modified)'!$T$3142,'Base Data wHSA (NCI Modified)'!$K74,COLUMNS(COUNTIES!$D$2:D74)),\"\")","v":""},{"$f":"IFERROR(INDEX('Base Data wHSA (NCI Modified)'!$L$2:'Base Data wHSA (NCI Modified)'!$T$3142,'Base Data wHSA (NCI Modified)'!$K74,COLUMNS(COUNTIES!$D$2:E74)),\"\")","v":""},{"$f":"IFERROR(INDEX('Base Data wHSA (NCI Modified)'!$L$2:'Base Data wHSA (NCI Modified)'!$T$3142,'Base Data wHSA (NCI Modified)'!$K74,COLUMNS(COUNTIES!$D$2:F74)),\"\")","v":""},{"$f":"IFERROR(INDEX('Base Data wHSA (NCI Modified)'!$L$2:'Base Data wHSA (NCI Modified)'!$T$3142,'Base Data wHSA (NCI Modified)'!$K74,COLUMNS(COUNTIES!$D$2:G74)),\"\")","v":""},{"$f":"IFERROR(INDEX('Base Data wHSA (NCI Modified)'!$L$2:'Base Data wHSA (NCI Modified)'!$T$3142,'Base Data wHSA (NCI Modified)'!$K74,COLUMNS(COUNTIES!$D$2:H74)),\"\")","v":""},{"$f":"IFERROR(INDEX('Base Data wHSA (NCI Modified)'!$L$2:'Base Data wHSA (NCI Modified)'!$T$3142,'Base Data wHSA (NCI Modified)'!$K74,COLUMNS(COUNTIES!$D$2:I74)),\"\")","v":""},{"$f":"IFERROR(INDEX('Base Data wHSA (NCI Modified)'!$L$2:'Base Data wHSA (NCI Modified)'!$T$3142,'Base Data wHSA (NCI Modified)'!$K74,COLUMNS(COUNTIES!$D$2:J74)),\"\")","v":""},{"$f":"IFERROR(INDEX('Base Data wHSA (NCI Modified)'!$L$2:'Base Data wHSA (NCI Modified)'!$T$3142,'Base Data wHSA (NCI Modified)'!$K74,COLUMNS(COUNTIES!$D$2:K74)),\"\")","v":""},{"$f":"IFERROR(INDEX('Base Data wHSA (NCI Modified)'!$L$2:'Base Data wHSA (NCI Modified)'!$T$3142,'Base Data wHSA (NCI Modified)'!$K74,COLUMNS(COUNTIES!$D$2:L74)),\"\")","v":""}]
[{"$f":"ROWS($E$2:E75)","v":74},{"$f":"IF(E75=WORKSHEET!$B$2,A75,\"\")","v":""},"",{"$f":"IFERROR(INDEX('Base Data wHSA (NCI Modified)'!$L$2:'Base Data wHSA (NCI Modified)'!$T$3142,'Base Data wHSA (NCI Modified)'!$K75,COLUMNS(COUNTIES!$D$2:D75)),\"\")","v":""},{"$f":"IFERROR(INDEX('Base Data wHSA (NCI Modified)'!$L$2:'Base Data wHSA (NCI Modified)'!$T$3142,'Base Data wHSA (NCI Modified)'!$K75,COLUMNS(COUNTIES!$D$2:E75)),\"\")","v":""},{"$f":"IFERROR(INDEX('Base Data wHSA (NCI Modified)'!$L$2:'Base Data wHSA (NCI Modified)'!$T$3142,'Base Data wHSA (NCI Modified)'!$K75,COLUMNS(COUNTIES!$D$2:F75)),\"\")","v":""},{"$f":"IFERROR(INDEX('Base Data wHSA (NCI Modified)'!$L$2:'Base Data wHSA (NCI Modified)'!$T$3142,'Base Data wHSA (NCI Modified)'!$K75,COLUMNS(COUNTIES!$D$2:G75)),\"\")","v":""},{"$f":"IFERROR(INDEX('Base Data wHSA (NCI Modified)'!$L$2:'Base Data wHSA (NCI Modified)'!$T$3142,'Base Data wHSA (NCI Modified)'!$K75,COLUMNS(COUNTIES!$D$2:H75)),\"\")","v":""},{"$f":"IFERROR(INDEX('Base Data wHSA (NCI Modified)'!$L$2:'Base Data wHSA (NCI Modified)'!$T$3142,'Base Data wHSA (NCI Modified)'!$K75,COLUMNS(COUNTIES!$D$2:I75)),\"\")","v":""},{"$f":"IFERROR(INDEX('Base Data wHSA (NCI Modified)'!$L$2:'Base Data wHSA (NCI Modified)'!$T$3142,'Base Data wHSA (NCI Modified)'!$K75,COLUMNS(COUNTIES!$D$2:J75)),\"\")","v":""},{"$f":"IFERROR(INDEX('Base Data wHSA (NCI Modified)'!$L$2:'Base Data wHSA (NCI Modified)'!$T$3142,'Base Data wHSA (NCI Modified)'!$K75,COLUMNS(COUNTIES!$D$2:K75)),\"\")","v":""},{"$f":"IFERROR(INDEX('Base Data wHSA (NCI Modified)'!$L$2:'Base Data wHSA (NCI Modified)'!$T$3142,'Base Data wHSA (NCI Modified)'!$K75,COLUMNS(COUNTIES!$D$2:L75)),\"\")","v":""}]
[{"$f":"ROWS($E$2:E76)","v":75},{"$f":"IF(E76=WORKSHEET!$B$2,A76,\"\")","v":""},"",{"$f":"IFERROR(INDEX('Base Data wHSA (NCI Modified)'!$L$2:'Base Data wHSA (NCI Modified)'!$T$3142,'Base Data wHSA (NCI Modified)'!$K76,COLUMNS(COUNTIES!$D$2:D76)),\"\")","v":""},{"$f":"IFERROR(INDEX('Base Data wHSA (NCI Modified)'!$L$2:'Base Data wHSA (NCI Modified)'!$T$3142,'Base Data wHSA (NCI Modified)'!$K76,COLUMNS(COUNTIES!$D$2:E76)),\"\")","v":""},{"$f":"IFERROR(INDEX('Base Data wHSA (NCI Modified)'!$L$2:'Base Data wHSA (NCI Modified)'!$T$3142,'Base Data wHSA (NCI Modified)'!$K76,COLUMNS(COUNTIES!$D$2:F76)),\"\")","v":""},{"$f":"IFERROR(INDEX('Base Data wHSA (NCI Modified)'!$L$2:'Base Data wHSA (NCI Modified)'!$T$3142,'Base Data wHSA (NCI Modified)'!$K76,COLUMNS(COUNTIES!$D$2:G76)),\"\")","v":""},{"$f":"IFERROR(INDEX('Base Data wHSA (NCI Modified)'!$L$2:'Base Data wHSA (NCI Modified)'!$T$3142,'Base Data wHSA (NCI Modified)'!$K76,COLUMNS(COUNTIES!$D$2:H76)),\"\")","v":""},{"$f":"IFERROR(INDEX('Base Data wHSA (NCI Modified)'!$L$2:'Base Data wHSA (NCI Modified)'!$T$3142,'Base Data wHSA (NCI Modified)'!$K76,COLUMNS(COUNTIES!$D$2:I76)),\"\")","v":""},{"$f":"IFERROR(INDEX('Base Data wHSA (NCI Modified)'!$L$2:'Base Data wHSA (NCI Modified)'!$T$3142,'Base Data wHSA (NCI Modified)'!$K76,COLUMNS(COUNTIES!$D$2:J76)),\"\")","v":""},{"$f":"IFERROR(INDEX('Base Data wHSA (NCI Modified)'!$L$2:'Base Data wHSA (NCI Modified)'!$T$3142,'Base Data wHSA (NCI Modified)'!$K76,COLUMNS(COUNTIES!$D$2:K76)),\"\")","v":""},{"$f":"IFERROR(INDEX('Base Data wHSA (NCI Modified)'!$L$2:'Base Data wHSA (NCI Modified)'!$T$3142,'Base Data wHSA (NCI Modified)'!$K76,COLUMNS(COUNTIES!$D$2:L76)),\"\")","v":""}]
[{"$f":"ROWS($E$2:E77)","v":76},{"$f":"IF(E77=WORKSHEET!$B$2,A77,\"\")","v":""},"",{"$f":"IFERROR(INDEX('Base Data wHSA (NCI Modified)'!$L$2:'Base Data wHSA (NCI Modified)'!$T$3142,'Base Data wHSA (NCI Modified)'!$K77,COLUMNS(COUNTIES!$D$2:D77)),\"\")","v":""},{"$f":"IFERROR(INDEX('Base Data wHSA (NCI Modified)'!$L$2:'Base Data wHSA (NCI Modified)'!$T$3142,'Base Data wHSA (NCI Modified)'!$K77,COLUMNS(COUNTIES!$D$2:E77)),\"\")","v":""},{"$f":"IFERROR(INDEX('Base Data wHSA (NCI Modified)'!$L$2:'Base Data wHSA (NCI Modified)'!$T$3142,'Base Data wHSA (NCI Modified)'!$K77,COLUMNS(COUNTIES!$D$2:F77)),\"\")","v":""},{"$f":"IFERROR(INDEX('Base Data wHSA (NCI Modified)'!$L$2:'Base Data wHSA (NCI Modified)'!$T$3142,'Base Data wHSA (NCI Modified)'!$K77,COLUMNS(COUNTIES!$D$2:G77)),\"\")","v":""},{"$f":"IFERROR(INDEX('Base Data wHSA (NCI Modified)'!$L$2:'Base Data wHSA (NCI Modified)'!$T$3142,'Base Data wHSA (NCI Modified)'!$K77,COLUMNS(COUNTIES!$D$2:H77)),\"\")","v":""},{"$f":"IFERROR(INDEX('Base Data wHSA (NCI Modified)'!$L$2:'Base Data wHSA (NCI Modified)'!$T$3142,'Base Data wHSA (NCI Modified)'!$K77,COLUMNS(COUNTIES!$D$2:I77)),\"\")","v":""},{"$f":"IFERROR(INDEX('Base Data wHSA (NCI Modified)'!$L$2:'Base Data wHSA (NCI Modified)'!$T$3142,'Base Data wHSA (NCI Modified)'!$K77,COLUMNS(COUNTIES!$D$2:J77)),\"\")","v":""},{"$f":"IFERROR(INDEX('Base Data wHSA (NCI Modified)'!$L$2:'Base Data wHSA (NCI Modified)'!$T$3142,'Base Data wHSA (NCI Modified)'!$K77,COLUMNS(COUNTIES!$D$2:K77)),\"\")","v":""},{"$f":"IFERROR(INDEX('Base Data wHSA (NCI Modified)'!$L$2:'Base Data wHSA (NCI Modified)'!$T$3142,'Base Data wHSA (NCI Modified)'!$K77,COLUMNS(COUNTIES!$D$2:L77)),\"\")","v":""}]
[{"$f":"ROWS($E$2:E78)","v":77},{"$f":"IF(E78=WORKSHEET!$B$2,A78,\"\")","v":""},"",{"$f":"IFERROR(INDEX('Base Data wHSA (NCI Modified)'!$L$2:'Base Data wHSA (NCI Modified)'!$T$3142,'Base Data wHSA (NCI Modified)'!$K78,COLUMNS(COUNTIES!$D$2:D78)),\"\")","v":""},{"$f":"IFERROR(INDEX('Base Data wHSA (NCI Modified)'!$L$2:'Base Data wHSA (NCI Modified)'!$T$3142,'Base Data wHSA (NCI Modified)'!$K78,COLUMNS(COUNTIES!$D$2:E78)),\"\")","v":""},{"$f":"IFERROR(INDEX('Base Data wHSA (NCI Modified)'!$L$2:'Base Data wHSA (NCI Modified)'!$T$3142,'Base Data wHSA (NCI Modified)'!$K78,COLUMNS(COUNTIES!$D$2:F78)),\"\")","v":""},{"$f":"IFERROR(INDEX('Base Data wHSA (NCI Modified)'!$L$2:'Base Data wHSA (NCI Modified)'!$T$3142,'Base Data wHSA (NCI Modified)'!$K78,COLUMNS(COUNTIES!$D$2:G78)),\"\")","v":""},{"$f":"IFERROR(INDEX('Base Data wHSA (NCI Modified)'!$L$2:'Base Data wHSA (NCI Modified)'!$T$3142,'Base Data wHSA (NCI Modified)'!$K78,COLUMNS(COUNTIES!$D$2:H78)),\"\")","v":""},{"$f":"IFERROR(INDEX('Base Data wHSA (NCI Modified)'!$L$2:'Base Data wHSA (NCI Modified)'!$T$3142,'Base Data wHSA (NCI Modified)'!$K78,COLUMNS(COUNTIES!$D$2:I78)),\"\")","v":""},{"$f":"IFERROR(INDEX('Base Data wHSA (NCI Modified)'!$L$2:'Base Data wHSA (NCI Modified)'!$T$3142,'Base Data wHSA (NCI Modified)'!$K78,COLUMNS(COUNTIES!$D$2:J78)),\"\")","v":""},{"$f":"IFERROR(INDEX('Base Data wHSA (NCI Modified)'!$L$2:'Base Data wHSA (NCI Modified)'!$T$3142,'Base Data wHSA (NCI Modified)'!$K78,COLUMNS(COUNTIES!$D$2:K78)),\"\")","v":""},{"$f":"IFERROR(INDEX('Base Data wHSA (NCI Modified)'!$L$2:'Base Data wHSA (NCI Modified)'!$T$3142,'Base Data wHSA (NCI Modified)'!$K78,COLUMNS(COUNTIES!$D$2:L78)),\"\")","v":""}]
[{"$f":"ROWS($E$2:E79)","v":78},{"$f":"IF(E79=WORKSHEET!$B$2,A79,\"\")","v":""},"",{"$f":"IFERROR(INDEX('Base Data wHSA (NCI Modified)'!$L$2:'Base Data wHSA (NCI Modified)'!$T$3142,'Base Data wHSA (NCI Modified)'!$K79,COLUMNS(COUNTIES!$D$2:D79)),\"\")","v":""},{"$f":"IFERROR(INDEX('Base Data wHSA (NCI Modified)'!$L$2:'Base Data wHSA (NCI Modified)'!$T$3142,'Base Data wHSA (NCI Modified)'!$K79,COLUMNS(COUNTIES!$D$2:E79)),\"\")","v":""},{"$f":"IFERROR(INDEX('Base Data wHSA (NCI Modified)'!$L$2:'Base Data wHSA (NCI Modified)'!$T$3142,'Base Data wHSA (NCI Modified)'!$K79,COLUMNS(COUNTIES!$D$2:F79)),\"\")","v":""},{"$f":"IFERROR(INDEX('Base Data wHSA (NCI Modified)'!$L$2:'Base Data wHSA (NCI Modified)'!$T$3142,'Base Data wHSA (NCI Modified)'!$K79,COLUMNS(COUNTIES!$D$2:G79)),\"\")","v":""},{"$f":"IFERROR(INDEX('Base Data wHSA (NCI Modified)'!$L$2:'Base Data wHSA (NCI Modified)'!$T$3142,'Base Data wHSA (NCI Modified)'!$K79,COLUMNS(COUNTIES!$D$2:H79)),\"\")","v":""},{"$f":"IFERROR(INDEX('Base Data wHSA (NCI Modified)'!$L$2:'Base Data wHSA (NCI Modified)'!$T$3142,'Base Data wHSA (NCI Modified)'!$K79,COLUMNS(COUNTIES!$D$2:I79)),\"\")","v":""},{"$f":"IFERROR(INDEX('Base Data wHSA (NCI Modified)'!$L$2:'Base Data wHSA (NCI Modified)'!$T$3142,'Base Data wHSA (NCI Modified)'!$K79,COLUMNS(COUNTIES!$D$2:J79)),\"\")","v":""},{"$f":"IFERROR(INDEX('Base Data wHSA (NCI Modified)'!$L$2:'Base Data wHSA (NCI Modified)'!$T$3142,'Base Data wHSA (NCI Modified)'!$K79,COLUMNS(COUNTIES!$D$2:K79)),\"\")","v":""},{"$f":"IFERROR(INDEX('Base Data wHSA (NCI Modified)'!$L$2:'Base Data wHSA (NCI Modified)'!$T$3142,'Base Data wHSA (NCI Modified)'!$K79,COLUMNS(COUNTIES!$D$2:L79)),\"\")","v":""}]
[{"$f":"ROWS($E$2:E80)","v":79},{"$f":"IF(E80=WORKSHEET!$B$2,A80,\"\")","v":""},"",{"$f":"IFERROR(INDEX('Base Data wHSA (NCI Modified)'!$L$2:'Base Data wHSA (NCI Modified)'!$T$3142,'Base Data wHSA (NCI Modified)'!$K80,COLUMNS(COUNTIES!$D$2:D80)),\"\")","v":""},{"$f":"IFERROR(INDEX('Base Data wHSA (NCI Modified)'!$L$2:'Base Data wHSA (NCI Modified)'!$T$3142,'Base Data wHSA (NCI Modified)'!$K80,COLUMNS(COUNTIES!$D$2:E80)),\"\")","v":""},{"$f":"IFERROR(INDEX('Base Data wHSA (NCI Modified)'!$L$2:'Base Data wHSA (NCI Modified)'!$T$3142,'Base Data wHSA (NCI Modified)'!$K80,COLUMNS(COUNTIES!$D$2:F80)),\"\")","v":""},{"$f":"IFERROR(INDEX('Base Data wHSA (NCI Modified)'!$L$2:'Base Data wHSA (NCI Modified)'!$T$3142,'Base Data wHSA (NCI Modified)'!$K80,COLUMNS(COUNTIES!$D$2:G80)),\"\")","v":""},{"$f":"IFERROR(INDEX('Base Data wHSA (NCI Modified)'!$L$2:'Base Data wHSA (NCI Modified)'!$T$3142,'Base Data wHSA (NCI Modified)'!$K80,COLUMNS(COUNTIES!$D$2:H80)),\"\")","v":""},{"$f":"IFERROR(INDEX('Base Data wHSA (NCI Modified)'!$L$2:'Base Data wHSA (NCI Modified)'!$T$3142,'Base Data wHSA (NCI Modified)'!$K80,COLUMNS(COUNTIES!$D$2:I80)),\"\")","v":""},{"$f":"IFERROR(INDEX('Base Data wHSA (NCI Modified)'!$L$2:'Base Data wHSA (NCI Modified)'!$T$3142,'Base Data wHSA (NCI Modified)'!$K80,COLUMNS(COUNTIES!$D$2:J80)),\"\")","v":""},{"$f":"IFERROR(INDEX('Base Data wHSA (NCI Modified)'!$L$2:'Base Data wHSA (NCI Modified)'!$T$3142,'Base Data wHSA (NCI Modified)'!$K80,COLUMNS(COUNTIES!$D$2:K80)),\"\")","v":""},{"$f":"IFERROR(INDEX('Base Data wHSA (NCI Modified)'!$L$2:'Base Data wHSA (NCI Modified)'!$T$3142,'Base Data wHSA (NCI Modified)'!$K80,COLUMNS(COUNTIES!$D$2:L80)),\"\")","v":""}]
[{"$f":"ROWS($E$2:E81)","v":80},{"$f":"IF(E81=WORKSHEET!$B$2,A81,\"\")","v":""},"",{"$f":"IFERROR(INDEX('Base Data wHSA (NCI Modified)'!$L$2:'Base Data wHSA (NCI Modified)'!$T$3142,'Base Data wHSA (NCI Modified)'!$K81,COLUMNS(COUNTIES!$D$2:D81)),\"\")","v":""},{"$f":"IFERROR(INDEX('Base Data wHSA (NCI Modified)'!$L$2:'Base Data wHSA (NCI Modified)'!$T$3142,'Base Data wHSA (NCI Modified)'!$K81,COLUMNS(COUNTIES!$D$2:E81)),\"\")","v":""},{"$f":"IFERROR(INDEX('Base Data wHSA (NCI Modified)'!$L$2:'Base Data wHSA (NCI Modified)'!$T$3142,'Base Data wHSA (NCI Modified)'!$K81,COLUMNS(COUNTIES!$D$2:F81)),\"\")","v":""},{"$f":"IFERROR(INDEX('Base Data wHSA (NCI Modified)'!$L$2:'Base Data wHSA (NCI Modified)'!$T$3142,'Base Data wHSA (NCI Modified)'!$K81,COLUMNS(COUNTIES!$D$2:G81)),\"\")","v":""},{"$f":"IFERROR(INDEX('Base Data wHSA (NCI Modified)'!$L$2:'Base Data wHSA (NCI Modified)'!$T$3142,'Base Data wHSA (NCI Modified)'!$K81,COLUMNS(COUNTIES!$D$2:H81)),\"\")","v":""},{"$f":"IFERROR(INDEX('Base Data wHSA (NCI Modified)'!$L$2:'Base Data wHSA (NCI Modified)'!$T$3142,'Base Data wHSA (NCI Modified)'!$K81,COLUMNS(COUNTIES!$D$2:I81)),\"\")","v":""},{"$f":"IFERROR(INDEX('Base Data wHSA (NCI Modified)'!$L$2:'Base Data wHSA (NCI Modified)'!$T$3142,'Base Data wHSA (NCI Modified)'!$K81,COLUMNS(COUNTIES!$D$2:J81)),\"\")","v":""},{"$f":"IFERROR(INDEX('Base Data wHSA (NCI Modified)'!$L$2:'Base Data wHSA (NCI Modified)'!$T$3142,'Base Data wHSA (NCI Modified)'!$K81,COLUMNS(COUNTIES!$D$2:K81)),\"\")","v":""},{"$f":"IFERROR(INDEX('Base Data wHSA (NCI Modified)'!$L$2:'Base Data wHSA (NCI Modified)'!$T$3142,'Base Data wHSA (NCI Modified)'!$K81,COLUMNS(COUNTIES!$D$2:L81)),\"\")","v":""}]
[{"$f":"ROWS($E$2:E82)","v":81},{"$f":"IF(E82=WORKSHEET!$B$2,A82,\"\")","v":""},"",{"$f":"IFERROR(INDEX('Base Data wHSA (NCI Modified)'!$L$2:'Base Data wHSA (NCI Modified)'!$T$3142,'Base Data wHSA (NCI Modified)'!$K82,COLUMNS(COUNTIES!$D$2:D82)),\"\")","v":""},{"$f":"IFERROR(INDEX('Base Data wHSA (NCI Modified)'!$L$2:'Base Data wHSA (NCI Modified)'!$T$3142,'Base Data wHSA (NCI Modified)'!$K82,COLUMNS(COUNTIES!$D$2:E82)),\"\")","v":""},{"$f":"IFERROR(INDEX('Base Data wHSA (NCI Modified)'!$L$2:'Base Data wHSA (NCI Modified)'!$T$3142,'Base Data wHSA (NCI Modified)'!$K82,COLUMNS(COUNTIES!$D$2:F82)),\"\")","v":""},{"$f":"IFERROR(INDEX('Base Data wHSA (NCI Modified)'!$L$2:'Base Data wHSA (NCI Modified)'!$T$3142,'Base Data wHSA (NCI Modified)'!$K82,COLUMNS(COUNTIES!$D$2:G82)),\"\")","v":""},{"$f":"IFERROR(INDEX('Base Data wHSA (NCI Modified)'!$L$2:'Base Data wHSA (NCI Modified)'!$T$3142,'Base Data wHSA (NCI Modified)'!$K82,COLUMNS(COUNTIES!$D$2:H82)),\"\")","v":""},{"$f":"IFERROR(INDEX('Base Data wHSA (NCI Modified)'!$L$2:'Base Data wHSA (NCI Modified)'!$T$3142,'Base Data wHSA (NCI Modified)'!$K82,COLUMNS(COUNTIES!$D$2:I82)),\"\")","v":""},{"$f":"IFERROR(INDEX('Base Data wHSA (NCI Modified)'!$L$2:'Base Data wHSA (NCI Modified)'!$T$3142,'Base Data wHSA (NCI Modified)'!$K82,COLUMNS(COUNTIES!$D$2:J82)),\"\")","v":""},{"$f":"IFERROR(INDEX('Base Data wHSA (NCI Modified)'!$L$2:'Base Data wHSA (NCI Modified)'!$T$3142,'Base Data wHSA (NCI Modified)'!$K82,COLUMNS(COUNTIES!$D$2:K82)),\"\")","v":""},{"$f":"IFERROR(INDEX('Base Data wHSA (NCI Modified)'!$L$2:'Base Data wHSA (NCI Modified)'!$T$3142,'Base Data wHSA (NCI Modified)'!$K82,COLUMNS(COUNTIES!$D$2:L82)),\"\")","v":""}]
[{"$f":"ROWS($E$2:E83)","v":82},{"$f":"IF(E83=WORKSHEET!$B$2,A83,\"\")","v":""},"",{"$f":"IFERROR(INDEX('Base Data wHSA (NCI Modified)'!$L$2:'Base Data wHSA (NCI Modified)'!$T$3142,'Base Data wHSA (NCI Modified)'!$K83,COLUMNS(COUNTIES!$D$2:D83)),\"\")","v":""},{"$f":"IFERROR(INDEX('Base Data wHSA (NCI Modified)'!$L$2:'Base Data wHSA (NCI Modified)'!$T$3142,'Base Data wHSA (NCI Modified)'!$K83,COLUMNS(COUNTIES!$D$2:E83)),\"\")","v":""},{"$f":"IFERROR(INDEX('Base Data wHSA (NCI Modified)'!$L$2:'Base Data wHSA (NCI Modified)'!$T$3142,'Base Data wHSA (NCI Modified)'!$K83,COLUMNS(COUNTIES!$D$2:F83)),\"\")","v":""},{"$f":"IFERROR(INDEX('Base Data wHSA (NCI Modified)'!$L$2:'Base Data wHSA (NCI Modified)'!$T$3142,'Base Data wHSA (NCI Modified)'!$K83,COLUMNS(COUNTIES!$D$2:G83)),\"\")","v":""},{"$f":"IFERROR(INDEX('Base Data wHSA (NCI Modified)'!$L$2:'Base Data wHSA (NCI Modified)'!$T$3142,'Base Data wHSA (NCI Modified)'!$K83,COLUMNS(COUNTIES!$D$2:H83)),\"\")","v":""},{"$f":"IFERROR(INDEX('Base Data wHSA (NCI Modified)'!$L$2:'Base Data wHSA (NCI Modified)'!$T$3142,'Base Data wHSA (NCI Modified)'!$K83,COLUMNS(COUNTIES!$D$2:I83)),\"\")","v":""},{"$f":"IFERROR(INDEX('Base Data wHSA (NCI Modified)'!$L$2:'Base Data wHSA (NCI Modified)'!$T$3142,'Base Data wHSA (NCI Modified)'!$K83,COLUMNS(COUNTIES!$D$2:J83)),\"\")","v":""},{"$f":"IFERROR(INDEX('Base Data wHSA (NCI Modified)'!$L$2:'Base Data wHSA (NCI Modified)'!$T$3142,'Base Data wHSA (NCI Modified)'!$K83,COLUMNS(COUNTIES!$D$2:K83)),\"\")","v":""},{"$f":"IFERROR(INDEX('Base Data wHSA (NCI Modified)'!$L$2:'Base Data wHSA (NCI Modified)'!$T$3142,'Base Data wHSA (NCI Modified)'!$K83,COLUMNS(COUNTIES!$D$2:L83)),\"\")","v":""}]
[{"$f":"ROWS($E$2:E84)","v":83},{"$f":"IF(E84=WORKSHEET!$B$2,A84,\"\")","v":""},"",{"$f":"IFERROR(INDEX('Base Data wHSA (NCI Modified)'!$L$2:'Base Data wHSA (NCI Modified)'!$T$3142,'Base Data wHSA (NCI Modified)'!$K84,COLUMNS(COUNTIES!$D$2:D84)),\"\")","v":""},{"$f":"IFERROR(INDEX('Base Data wHSA (NCI Modified)'!$L$2:'Base Data wHSA (NCI Modified)'!$T$3142,'Base Data wHSA (NCI Modified)'!$K84,COLUMNS(COUNTIES!$D$2:E84)),\"\")","v":""},{"$f":"IFERROR(INDEX('Base Data wHSA (NCI Modified)'!$L$2:'Base Data wHSA (NCI Modified)'!$T$3142,'Base Data wHSA (NCI Modified)'!$K84,COLUMNS(COUNTIES!$D$2:F84)),\"\")","v":""},{"$f":"IFERROR(INDEX('Base Data wHSA (NCI Modified)'!$L$2:'Base Data wHSA (NCI Modified)'!$T$3142,'Base Data wHSA (NCI Modified)'!$K84,COLUMNS(COUNTIES!$D$2:G84)),\"\")","v":""},{"$f":"IFERROR(INDEX('Base Data wHSA (NCI Modified)'!$L$2:'Base Data wHSA (NCI Modified)'!$T$3142,'Base Data wHSA (NCI Modified)'!$K84,COLUMNS(COUNTIES!$D$2:H84)),\"\")","v":""},{"$f":"IFERROR(INDEX('Base Data wHSA (NCI Modified)'!$L$2:'Base Data wHSA (NCI Modified)'!$T$3142,'Base Data wHSA (NCI Modified)'!$K84,COLUMNS(COUNTIES!$D$2:I84)),\"\")","v":""},{"$f":"IFERROR(INDEX('Base Data wHSA (NCI Modified)'!$L$2:'Base Data wHSA (NCI Modified)'!$T$3142,'Base Data wHSA (NCI Modified)'!$K84,COLUMNS(COUNTIES!$D$2:J84)),\"\")","v":""},{"$f":"IFERROR(INDEX('Base Data wHSA (NCI Modified)'!$L$2:'Base Data wHSA (NCI Modified)'!$T$3142,'Base Data wHSA (NCI Modified)'!$K84,COLUMNS(COUNTIES!$D$2:K84)),\"\")","v":""},{"$f":"IFERROR(INDEX('Base Data wHSA (NCI Modified)'!$L$2:'Base Data wHSA (NCI Modified)'!$T$3142,'Base Data wHSA (NCI Modified)'!$K84,COLUMNS(COUNTIES!$D$2:L84)),\"\")","v":""}]
[{"$f":"ROWS($E$2:E85)","v":84},{"$f":"IF(E85=WORKSHEET!$B$2,A85,\"\")","v":""},"",{"$f":"IFERROR(INDEX('Base Data wHSA (NCI Modified)'!$L$2:'Base Data wHSA (NCI Modified)'!$T$3142,'Base Data wHSA (NCI Modified)'!$K85,COLUMNS(COUNTIES!$D$2:D85)),\"\")","v":""},{"$f":"IFERROR(INDEX('Base Data wHSA (NCI Modified)'!$L$2:'Base Data wHSA (NCI Modified)'!$T$3142,'Base Data wHSA (NCI Modified)'!$K85,COLUMNS(COUNTIES!$D$2:E85)),\"\")","v":""},{"$f":"IFERROR(INDEX('Base Data wHSA (NCI Modified)'!$L$2:'Base Data wHSA (NCI Modified)'!$T$3142,'Base Data wHSA (NCI Modified)'!$K85,COLUMNS(COUNTIES!$D$2:F85)),\"\")","v":""},{"$f":"IFERROR(INDEX('Base Data wHSA (NCI Modified)'!$L$2:'Base Data wHSA (NCI Modified)'!$T$3142,'Base Data wHSA (NCI Modified)'!$K85,COLUMNS(COUNTIES!$D$2:G85)),\"\")","v":""},{"$f":"IFERROR(INDEX('Base Data wHSA (NCI Modified)'!$L$2:'Base Data wHSA (NCI Modified)'!$T$3142,'Base Data wHSA (NCI Modified)'!$K85,COLUMNS(COUNTIES!$D$2:H85)),\"\")","v":""},{"$f":"IFERROR(INDEX('Base Data wHSA (NCI Modified)'!$L$2:'Base Data wHSA (NCI Modified)'!$T$3142,'Base Data wHSA (NCI Modified)'!$K85,COLUMNS(COUNTIES!$D$2:I85)),\"\")","v":""},{"$f":"IFERROR(INDEX('Base Data wHSA (NCI Modified)'!$L$2:'Base Data wHSA (NCI Modified)'!$T$3142,'Base Data wHSA (NCI Modified)'!$K85,COLUMNS(COUNTIES!$D$2:J85)),\"\")","v":""},{"$f":"IFERROR(INDEX('Base Data wHSA (NCI Modified)'!$L$2:'Base Data wHSA (NCI Modified)'!$T$3142,'Base Data wHSA (NCI Modified)'!$K85,COLUMNS(COUNTIES!$D$2:K85)),\"\")","v":""},{"$f":"IFERROR(INDEX('Base Data wHSA (NCI Modified)'!$L$2:'Base Data wHSA (NCI Modified)'!$T$3142,'Base Data wHSA (NCI Modified)'!$K85,COLUMNS(COUNTIES!$D$2:L85)),\"\")","v":""}]
[{"$f":"ROWS($E$2:E86)","v":85},{"$f":"IF(E86=WORKSHEET!$B$2,A86,\"\")","v":""},"",{"$f":"IFERROR(INDEX('Base Data wHSA (NCI Modified)'!$L$2:'Base Data wHSA (NCI Modified)'!$T$3142,'Base Data wHSA (NCI Modified)'!$K86,COLUMNS(COUNTIES!$D$2:D86)),\"\")","v":""},{"$f":"IFERROR(INDEX('Base Data wHSA (NCI Modified)'!$L$2:'Base Data wHSA (NCI Modified)'!$T$3142,'Base Data wHSA (NCI Modified)'!$K86,COLUMNS(COUNTIES!$D$2:E86)),\"\")","v":""},{"$f":"IFERROR(INDEX('Base Data wHSA (NCI Modified)'!$L$2:'Base Data wHSA (NCI Modified)'!$T$3142,'Base Data wHSA (NCI Modified)'!$K86,COLUMNS(COUNTIES!$D$2:F86)),\"\")","v":""},{"$f":"IFERROR(INDEX('Base Data wHSA (NCI Modified)'!$L$2:'Base Data wHSA (NCI Modified)'!$T$3142,'Base Data wHSA (NCI Modified)'!$K86,COLUMNS(COUNTIES!$D$2:G86)),\"\")","v":""},{"$f":"IFERROR(INDEX('Base Data wHSA (NCI Modified)'!$L$2:'Base Data wHSA (NCI Modified)'!$T$3142,'Base Data wHSA (NCI Modified)'!$K86,COLUMNS(COUNTIES!$D$2:H86)),\"\")","v":""},{"$f":"IFERROR(INDEX('Base Data wHSA (NCI Modified)'!$L$2:'Base Data wHSA (NCI Modified)'!$T$3142,'Base Data wHSA (NCI Modified)'!$K86,COLUMNS(COUNTIES!$D$2:I86)),\"\")","v":""},{"$f":"IFERROR(INDEX('Base Data wHSA (NCI Modified)'!$L$2:'Base Data wHSA (NCI Modified)'!$T$3142,'Base Data wHSA (NCI Modified)'!$K86,COLUMNS(COUNTIES!$D$2:J86)),\"\")","v":""},{"$f":"IFERROR(INDEX('Base Data wHSA (NCI Modified)'!$L$2:'Base Data wHSA (NCI Modified)'!$T$3142,'Base Data wHSA (NCI Modified)'!$K86,COLUMNS(COUNTIES!$D$2:K86)),\"\")","v":""},{"$f":"IFERROR(INDEX('Base Data wHSA (NCI Modified)'!$L$2:'Base Data wHSA (NCI Modified)'!$T$3142,'Base Data wHSA (NCI Modified)'!$K86,COLUMNS(COUNTIES!$D$2:L86)),\"\")","v":""}]
[{"$f":"ROWS($E$2:E87)","v":86},{"$f":"IF(E87=WORKSHEET!$B$2,A87,\"\")","v":""},"",{"$f":"IFERROR(INDEX('Base Data wHSA (NCI Modified)'!$L$2:'Base Data wHSA (NCI Modified)'!$T$3142,'Base Data wHSA (NCI Modified)'!$K87,COLUMNS(COUNTIES!$D$2:D87)),\"\")","v":""},{"$f":"IFERROR(INDEX('Base Data wHSA (NCI Modified)'!$L$2:'Base Data wHSA (NCI Modified)'!$T$3142,'Base Data wHSA (NCI Modified)'!$K87,COLUMNS(COUNTIES!$D$2:E87)),\"\")","v":""},{"$f":"IFERROR(INDEX('Base Data wHSA (NCI Modified)'!$L$2:'Base Data wHSA (NCI Modified)'!$T$3142,'Base Data wHSA (NCI Modified)'!$K87,COLUMNS(COUNTIES!$D$2:F87)),\"\")","v":""},{"$f":"IFERROR(INDEX('Base Data wHSA (NCI Modified)'!$L$2:'Base Data wHSA (NCI Modified)'!$T$3142,'Base Data wHSA (NCI Modified)'!$K87,COLUMNS(COUNTIES!$D$2:G87)),\"\")","v":""},{"$f":"IFERROR(INDEX('Base Data wHSA (NCI Modified)'!$L$2:'Base Data wHSA (NCI Modified)'!$T$3142,'Base Data wHSA (NCI Modified)'!$K87,COLUMNS(COUNTIES!$D$2:H87)),\"\")","v":""},{"$f":"IFERROR(INDEX('Base Data wHSA (NCI Modified)'!$L$2:'Base Data wHSA (NCI Modified)'!$T$3142,'Base Data wHSA (NCI Modified)'!$K87,COLUMNS(COUNTIES!$D$2:I87)),\"\")","v":""},{"$f":"IFERROR(INDEX('Base Data wHSA (NCI Modified)'!$L$2:'Base Data wHSA (NCI Modified)'!$T$3142,'Base Data wHSA (NCI Modified)'!$K87,COLUMNS(COUNTIES!$D$2:J87)),\"\")","v":""},{"$f":"IFERROR(INDEX('Base Data wHSA (NCI Modified)'!$L$2:'Base Data wHSA (NCI Modified)'!$T$3142,'Base Data wHSA (NCI Modified)'!$K87,COLUMNS(COUNTIES!$D$2:K87)),\"\")","v":""},{"$f":"IFERROR(INDEX('Base Data wHSA (NCI Modified)'!$L$2:'Base Data wHSA (NCI Modified)'!$T$3142,'Base Data wHSA (NCI Modified)'!$K87,COLUMNS(COUNTIES!$D$2:L87)),\"\")","v":""}]
[{"$f":"ROWS($E$2:E88)","v":87},{"$f":"IF(E88=WORKSHEET!$B$2,A88,\"\")","v":""},"",{"$f":"IFERROR(INDEX('Base Data wHSA (NCI Modified)'!$L$2:'Base Data wHSA (NCI Modified)'!$T$3142,'Base Data wHSA (NCI Modified)'!$K88,COLUMNS(COUNTIES!$D$2:D88)),\"\")","v":""},{"$f":"IFERROR(INDEX('Base Data wHSA (NCI Modified)'!$L$2:'Base Data wHSA (NCI Modified)'!$T$3142,'Base Data wHSA (NCI Modified)'!$K88,COLUMNS(COUNTIES!$D$2:E88)),\"\")","v":""},{"$f":"IFERROR(INDEX('Base Data wHSA (NCI Modified)'!$L$2:'Base Data wHSA (NCI Modified)'!$T$3142,'Base Data wHSA (NCI Modified)'!$K88,COLUMNS(COUNTIES!$D$2:F88)),\"\")","v":""},{"$f":"IFERROR(INDEX('Base Data wHSA (NCI Modified)'!$L$2:'Base Data wHSA (NCI Modified)'!$T$3142,'Base Data wHSA (NCI Modified)'!$K88,COLUMNS(COUNTIES!$D$2:G88)),\"\")","v":""},{"$f":"IFERROR(INDEX('Base Data wHSA (NCI Modified)'!$L$2:'Base Data wHSA (NCI Modified)'!$T$3142,'Base Data wHSA (NCI Modified)'!$K88,COLUMNS(COUNTIES!$D$2:H88)),\"\")","v":""},{"$f":"IFERROR(INDEX('Base Data wHSA (NCI Modified)'!$L$2:'Base Data wHSA (NCI Modified)'!$T$3142,'Base Data wHSA (NCI Modified)'!$K88,COLUMNS(COUNTIES!$D$2:I88)),\"\")","v":""},{"$f":"IFERROR(INDEX('Base Data wHSA (NCI Modified)'!$L$2:'Base Data wHSA (NCI Modified)'!$T$3142,'Base Data wHSA (NCI Modified)'!$K88,COLUMNS(COUNTIES!$D$2:J88)),\"\")","v":""},{"$f":"IFERROR(INDEX('Base Data wHSA (NCI Modified)'!$L$2:'Base Data wHSA (NCI Modified)'!$T$3142,'Base Data wHSA (NCI Modified)'!$K88,COLUMNS(COUNTIES!$D$2:K88)),\"\")","v":""},{"$f":"IFERROR(INDEX('Base Data wHSA (NCI Modified)'!$L$2:'Base Data wHSA (NCI Modified)'!$T$3142,'Base Data wHSA (NCI Modified)'!$K88,COLUMNS(COUNTIES!$D$2:L88)),\"\")","v":""}]
[{"$f":"ROWS($E$2:E89)","v":88},{"$f":"IF(E89=WORKSHEET!$B$2,A89,\"\")","v":""},"",{"$f":"IFERROR(INDEX('Base Data wHSA (NCI Modified)'!$L$2:'Base Data wHSA (NCI Modified)'!$T$3142,'Base Data wHSA (NCI Modified)'!$K89,COLUMNS(COUNTIES!$D$2:D89)),\"\")","v":""},{"$f":"IFERROR(INDEX('Base Data wHSA (NCI Modified)'!$L$2:'Base Data wHSA (NCI Modified)'!$T$3142,'Base Data wHSA (NCI Modified)'!$K89,COLUMNS(COUNTIES!$D$2:E89)),\"\")","v":""},{"$f":"IFERROR(INDEX('Base Data wHSA (NCI Modified)'!$L$2:'Base Data wHSA (NCI Modified)'!$T$3142,'Base Data wHSA (NCI Modified)'!$K89,COLUMNS(COUNTIES!$D$2:F89)),\"\")","v":""},{"$f":"IFERROR(INDEX('Base Data wHSA (NCI Modified)'!$L$2:'Base Data wHSA (NCI Modified)'!$T$3142,'Base Data wHSA (NCI Modified)'!$K89,COLUMNS(COUNTIES!$D$2:G89)),\"\")","v":""},{"$f":"IFERROR(INDEX('Base Data wHSA (NCI Modified)'!$L$2:'Base Data wHSA (NCI Modified)'!$T$3142,'Base Data wHSA (NCI Modified)'!$K89,COLUMNS(COUNTIES!$D$2:H89)),\"\")","v":""},{"$f":"IFERROR(INDEX('Base Data wHSA (NCI Modified)'!$L$2:'Base Data wHSA (NCI Modified)'!$T$3142,'Base Data wHSA (NCI Modified)'!$K89,COLUMNS(COUNTIES!$D$2:I89)),\"\")","v":""},{"$f":"IFERROR(INDEX('Base Data wHSA (NCI Modified)'!$L$2:'Base Data wHSA (NCI Modified)'!$T$3142,'Base Data wHSA (NCI Modified)'!$K89,COLUMNS(COUNTIES!$D$2:J89)),\"\")","v":""},{"$f":"IFERROR(INDEX('Base Data wHSA (NCI Modified)'!$L$2:'Base Data wHSA (NCI Modified)'!$T$3142,'Base Data wHSA (NCI Modified)'!$K89,COLUMNS(COUNTIES!$D$2:K89)),\"\")","v":""},{"$f":"IFERROR(INDEX('Base Data wHSA (NCI Modified)'!$L$2:'Base Data wHSA (NCI Modified)'!$T$3142,'Base Data wHSA (NCI Modified)'!$K89,COLUMNS(COUNTIES!$D$2:L89)),\"\")","v":""}]
[{"$f":"ROWS($E$2:E90)","v":89},{"$f":"IF(E90=WORKSHEET!$B$2,A90,\"\")","v":""},"",{"$f":"IFERROR(INDEX('Base Data wHSA (NCI Modified)'!$L$2:'Base Data wHSA (NCI Modified)'!$T$3142,'Base Data wHSA (NCI Modified)'!$K90,COLUMNS(COUNTIES!$D$2:D90)),\"\")","v":""},{"$f":"IFERROR(INDEX('Base Data wHSA (NCI Modified)'!$L$2:'Base Data wHSA (NCI Modified)'!$T$3142,'Base Data wHSA (NCI Modified)'!$K90,COLUMNS(COUNTIES!$D$2:E90)),\"\")","v":""},{"$f":"IFERROR(INDEX('Base Data wHSA (NCI Modified)'!$L$2:'Base Data wHSA (NCI Modified)'!$T$3142,'Base Data wHSA (NCI Modified)'!$K90,COLUMNS(COUNTIES!$D$2:F90)),\"\")","v":""},{"$f":"IFERROR(INDEX('Base Data wHSA (NCI Modified)'!$L$2:'Base Data wHSA (NCI Modified)'!$T$3142,'Base Data wHSA (NCI Modified)'!$K90,COLUMNS(COUNTIES!$D$2:G90)),\"\")","v":""},{"$f":"IFERROR(INDEX('Base Data wHSA (NCI Modified)'!$L$2:'Base Data wHSA (NCI Modified)'!$T$3142,'Base Data wHSA (NCI Modified)'!$K90,COLUMNS(COUNTIES!$D$2:H90)),\"\")","v":""},{"$f":"IFERROR(INDEX('Base Data wHSA (NCI Modified)'!$L$2:'Base Data wHSA (NCI Modified)'!$T$3142,'Base Data wHSA (NCI Modified)'!$K90,COLUMNS(COUNTIES!$D$2:I90)),\"\")","v":""},{"$f":"IFERROR(INDEX('Base Data wHSA (NCI Modified)'!$L$2:'Base Data wHSA (NCI Modified)'!$T$3142,'Base Data wHSA (NCI Modified)'!$K90,COLUMNS(COUNTIES!$D$2:J90)),\"\")","v":""},{"$f":"IFERROR(INDEX('Base Data wHSA (NCI Modified)'!$L$2:'Base Data wHSA (NCI Modified)'!$T$3142,'Base Data wHSA (NCI Modified)'!$K90,COLUMNS(COUNTIES!$D$2:K90)),\"\")","v":""},{"$f":"IFERROR(INDEX('Base Data wHSA (NCI Modified)'!$L$2:'Base Data wHSA (NCI Modified)'!$T$3142,'Base Data wHSA (NCI Modified)'!$K90,COLUMNS(COUNTIES!$D$2:L90)),\"\")","v":""}]
[{"$f":"ROWS($E$2:E91)","v":90},{"$f":"IF(E91=WORKSHEET!$B$2,A91,\"\")","v":""},"",{"$f":"IFERROR(INDEX('Base Data wHSA (NCI Modified)'!$L$2:'Base Data wHSA (NCI Modified)'!$T$3142,'Base Data wHSA (NCI Modified)'!$K91,COLUMNS(COUNTIES!$D$2:D91)),\"\")","v":""},{"$f":"IFERROR(INDEX('Base Data wHSA (NCI Modified)'!$L$2:'Base Data wHSA (NCI Modified)'!$T$3142,'Base Data wHSA (NCI Modified)'!$K91,COLUMNS(COUNTIES!$D$2:E91)),\"\")","v":""},{"$f":"IFERROR(INDEX('Base Data wHSA (NCI Modified)'!$L$2:'Base Data wHSA (NCI Modified)'!$T$3142,'Base Data wHSA (NCI Modified)'!$K91,COLUMNS(COUNTIES!$D$2:F91)),\"\")","v":""},{"$f":"IFERROR(INDEX('Base Data wHSA (NCI Modified)'!$L$2:'Base Data wHSA (NCI Modified)'!$T$3142,'Base Data wHSA (NCI Modified)'!$K91,COLUMNS(COUNTIES!$D$2:G91)),\"\")","v":""},{"$f":"IFERROR(INDEX('Base Data wHSA (NCI Modified)'!$L$2:'Base Data wHSA (NCI Modified)'!$T$3142,'Base Data wHSA (NCI Modified)'!$K91,COLUMNS(COUNTIES!$D$2:H91)),\"\")","v":""},{"$f":"IFERROR(INDEX('Base Data wHSA (NCI Modified)'!$L$2:'Base Data wHSA (NCI Modified)'!$T$3142,'Base Data wHSA (NCI Modified)'!$K91,COLUMNS(COUNTIES!$D$2:I91)),\"\")","v":""},{"$f":"IFERROR(INDEX('Base Data wHSA (NCI Modified)'!$L$2:'Base Data wHSA (NCI Modified)'!$T$3142,'Base Data wHSA (NCI Modified)'!$K91,COLUMNS(COUNTIES!$D$2:J91)),\"\")","v":""},{"$f":"IFERROR(INDEX('Base Data wHSA (NCI Modified)'!$L$2:'Base Data wHSA (NCI Modified)'!$T$3142,'Base Data wHSA (NCI Modified)'!$K91,COLUMNS(COUNTIES!$D$2:K91)),\"\")","v":""},{"$f":"IFERROR(INDEX('Base Data wHSA (NCI Modified)'!$L$2:'Base Data wHSA (NCI Modified)'!$T$3142,'Base Data wHSA (NCI Modified)'!$K91,COLUMNS(COUNTIES!$D$2:L91)),\"\")","v":""}]
[{"$f":"ROWS($E$2:E92)","v":91},{"$f":"IF(E92=WORKSHEET!$B$2,A92,\"\")","v":""},"",{"$f":"IFERROR(INDEX('Base Data wHSA (NCI Modified)'!$L$2:'Base Data wHSA (NCI Modified)'!$T$3142,'Base Data wHSA (NCI Modified)'!$K92,COLUMNS(COUNTIES!$D$2:D92)),\"\")","v":""},{"$f":"IFERROR(INDEX('Base Data wHSA (NCI Modified)'!$L$2:'Base Data wHSA (NCI Modified)'!$T$3142,'Base Data wHSA (NCI Modified)'!$K92,COLUMNS(COUNTIES!$D$2:E92)),\"\")","v":""},{"$f":"IFERROR(INDEX('Base Data wHSA (NCI Modified)'!$L$2:'Base Data wHSA (NCI Modified)'!$T$3142,'Base Data wHSA (NCI Modified)'!$K92,COLUMNS(COUNTIES!$D$2:F92)),\"\")","v":""},{"$f":"IFERROR(INDEX('Base Data wHSA (NCI Modified)'!$L$2:'Base Data wHSA (NCI Modified)'!$T$3142,'Base Data wHSA (NCI Modified)'!$K92,COLUMNS(COUNTIES!$D$2:G92)),\"\")","v":""},{"$f":"IFERROR(INDEX('Base Data wHSA (NCI Modified)'!$L$2:'Base Data wHSA (NCI Modified)'!$T$3142,'Base Data wHSA (NCI Modified)'!$K92,COLUMNS(COUNTIES!$D$2:H92)),\"\")","v":""},{"$f":"IFERROR(INDEX('Base Data wHSA (NCI Modified)'!$L$2:'Base Data wHSA (NCI Modified)'!$T$3142,'Base Data wHSA (NCI Modified)'!$K92,COLUMNS(COUNTIES!$D$2:I92)),\"\")","v":""},{"$f":"IFERROR(INDEX('Base Data wHSA (NCI Modified)'!$L$2:'Base Data wHSA (NCI Modified)'!$T$3142,'Base Data wHSA (NCI Modified)'!$K92,COLUMNS(COUNTIES!$D$2:J92)),\"\")","v":""},{"$f":"IFERROR(INDEX('Base Data wHSA (NCI Modified)'!$L$2:'Base Data wHSA (NCI Modified)'!$T$3142,'Base Data wHSA (NCI Modified)'!$K92,COLUMNS(COUNTIES!$D$2:K92)),\"\")","v":""},{"$f":"IFERROR(INDEX('Base Data wHSA (NCI Modified)'!$L$2:'Base Data wHSA (NCI Modified)'!$T$3142,'Base Data wHSA (NCI Modified)'!$K92,COLUMNS(COUNTIES!$D$2:L92)),\"\")","v":""}]
[{"$f":"ROWS($E$2:E93)","v":92},{"$f":"IF(E93=WORKSHEET!$B$2,A93,\"\")","v":""},"",{"$f":"IFERROR(INDEX('Base Data wHSA (NCI Modified)'!$L$2:'Base Data wHSA (NCI Modified)'!$T$3142,'Base Data wHSA (NCI Modified)'!$K93,COLUMNS(COUNTIES!$D$2:D93)),\"\")","v":""},{"$f":"IFERROR(INDEX('Base Data wHSA (NCI Modified)'!$L$2:'Base Data wHSA (NCI Modified)'!$T$3142,'Base Data wHSA (NCI Modified)'!$K93,COLUMNS(COUNTIES!$D$2:E93)),\"\")","v":""},{"$f":"IFERROR(INDEX('Base Data wHSA (NCI Modified)'!$L$2:'Base Data wHSA (NCI Modified)'!$T$3142,'Base Data wHSA (NCI Modified)'!$K93,COLUMNS(COUNTIES!$D$2:F93)),\"\")","v":""},{"$f":"IFERROR(INDEX('Base Data wHSA (NCI Modified)'!$L$2:'Base Data wHSA (NCI Modified)'!$T$3142,'Base Data wHSA (NCI Modified)'!$K93,COLUMNS(COUNTIES!$D$2:G93)),\"\")","v":""},{"$f":"IFERROR(INDEX('Base Data wHSA (NCI Modified)'!$L$2:'Base Data wHSA (NCI Modified)'!$T$3142,'Base Data wHSA (NCI Modified)'!$K93,COLUMNS(COUNTIES!$D$2:H93)),\"\")","v":""},{"$f":"IFERROR(INDEX('Base Data wHSA (NCI Modified)'!$L$2:'Base Data wHSA (NCI Modified)'!$T$3142,'Base Data wHSA (NCI Modified)'!$K93,COLUMNS(COUNTIES!$D$2:I93)),\"\")","v":""},{"$f":"IFERROR(INDEX('Base Data wHSA (NCI Modified)'!$L$2:'Base Data wHSA (NCI Modified)'!$T$3142,'Base Data wHSA (NCI Modified)'!$K93,COLUMNS(COUNTIES!$D$2:J93)),\"\")","v":""},{"$f":"IFERROR(INDEX('Base Data wHSA (NCI Modified)'!$L$2:'Base Data wHSA (NCI Modified)'!$T$3142,'Base Data wHSA (NCI Modified)'!$K93,COLUMNS(COUNTIES!$D$2:K93)),\"\")","v":""},{"$f":"IFERROR(INDEX('Base Data wHSA (NCI Modified)'!$L$2:'Base Data wHSA (NCI Modified)'!$T$3142,'Base Data wHSA (NCI Modified)'!$K93,COLUMNS(COUNTIES!$D$2:L93)),\"\")","v":""}]
[{"$f":"ROWS($E$2:E94)","v":93},{"$f":"IF(E94=WORKSHEET!$B$2,A94,\"\")","v":""},"",{"$f":"IFERROR(INDEX('Base Data wHSA (NCI Modified)'!$L$2:'Base Data wHSA (NCI Modified)'!$T$3142,'Base Data wHSA (NCI Modified)'!$K94,COLUMNS(COUNTIES!$D$2:D94)),\"\")","v":""},{"$f":"IFERROR(INDEX('Base Data wHSA (NCI Modified)'!$L$2:'Base Data wHSA (NCI Modified)'!$T$3142,'Base Data wHSA (NCI Modified)'!$K94,COLUMNS(COUNTIES!$D$2:E94)),\"\")","v":""},{"$f":"IFERROR(INDEX('Base Data wHSA (NCI Modified)'!$L$2:'Base Data wHSA (NCI Modified)'!$T$3142,'Base Data wHSA (NCI Modified)'!$K94,COLUMNS(COUNTIES!$D$2:F94)),\"\")","v":""},{"$f":"IFERROR(INDEX('Base Data wHSA (NCI Modified)'!$L$2:'Base Data wHSA (NCI Modified)'!$T$3142,'Base Data wHSA (NCI Modified)'!$K94,COLUMNS(COUNTIES!$D$2:G94)),\"\")","v":""},{"$f":"IFERROR(INDEX('Base Data wHSA (NCI Modified)'!$L$2:'Base Data wHSA (NCI Modified)'!$T$3142,'Base Data wHSA (NCI Modified)'!$K94,COLUMNS(COUNTIES!$D$2:H94)),\"\")","v":""},{"$f":"IFERROR(INDEX('Base Data wHSA (NCI Modified)'!$L$2:'Base Data wHSA (NCI Modified)'!$T$3142,'Base Data wHSA (NCI Modified)'!$K94,COLUMNS(COUNTIES!$D$2:I94)),\"\")","v":""},{"$f":"IFERROR(INDEX('Base Data wHSA (NCI Modified)'!$L$2:'Base Data wHSA (NCI Modified)'!$T$3142,'Base Data wHSA (NCI Modified)'!$K94,COLUMNS(COUNTIES!$D$2:J94)),\"\")","v":""},{"$f":"IFERROR(INDEX('Base Data wHSA (NCI Modified)'!$L$2:'Base Data wHSA (NCI Modified)'!$T$3142,'Base Data wHSA (NCI Modified)'!$K94,COLUMNS(COUNTIES!$D$2:K94)),\"\")","v":""},{"$f":"IFERROR(INDEX('Base Data wHSA (NCI Modified)'!$L$2:'Base Data wHSA (NCI Modified)'!$T$3142,'Base Data wHSA (NCI Modified)'!$K94,COLUMNS(COUNTIES!$D$2:L94)),\"\")","v":""}]
[{"$f":"ROWS($E$2:E95)","v":94},{"$f":"IF(E95=WORKSHEET!$B$2,A95,\"\")","v":""},"",{"$f":"IFERROR(INDEX('Base Data wHSA (NCI Modified)'!$L$2:'Base Data wHSA (NCI Modified)'!$T$3142,'Base Data wHSA (NCI Modified)'!$K95,COLUMNS(COUNTIES!$D$2:D95)),\"\")","v":""},{"$f":"IFERROR(INDEX('Base Data wHSA (NCI Modified)'!$L$2:'Base Data wHSA (NCI Modified)'!$T$3142,'Base Data wHSA (NCI Modified)'!$K95,COLUMNS(COUNTIES!$D$2:E95)),\"\")","v":""},{"$f":"IFERROR(INDEX('Base Data wHSA (NCI Modified)'!$L$2:'Base Data wHSA (NCI Modified)'!$T$3142,'Base Data wHSA (NCI Modified)'!$K95,COLUMNS(COUNTIES!$D$2:F95)),\"\")","v":""},{"$f":"IFERROR(INDEX('Base Data wHSA (NCI Modified)'!$L$2:'Base Data wHSA (NCI Modified)'!$T$3142,'Base Data wHSA (NCI Modified)'!$K95,COLUMNS(COUNTIES!$D$2:G95)),\"\")","v":""},{"$f":"IFERROR(INDEX('Base Data wHSA (NCI Modified)'!$L$2:'Base Data wHSA (NCI Modified)'!$T$3142,'Base Data wHSA (NCI Modified)'!$K95,COLUMNS(COUNTIES!$D$2:H95)),\"\")","v":""},{"$f":"IFERROR(INDEX('Base Data wHSA (NCI Modified)'!$L$2:'Base Data wHSA (NCI Modified)'!$T$3142,'Base Data wHSA (NCI Modified)'!$K95,COLUMNS(COUNTIES!$D$2:I95)),\"\")","v":""},{"$f":"IFERROR(INDEX('Base Data wHSA (NCI Modified)'!$L$2:'Base Data wHSA (NCI Modified)'!$T$3142,'Base Data wHSA (NCI Modified)'!$K95,COLUMNS(COUNTIES!$D$2:J95)),\"\")","v":""},{"$f":"IFERROR(INDEX('Base Data wHSA (NCI Modified)'!$L$2:'Base Data wHSA (NCI Modified)'!$T$3142,'Base Data wHSA (NCI Modified)'!$K95,COLUMNS(COUNTIES!$D$2:K95)),\"\")","v":""},{"$f":"IFERROR(INDEX('Base Data wHSA (NCI Modified)'!$L$2:'Base Data wHSA (NCI Modified)'!$T$3142,'Base Data wHSA (NCI Modified)'!$K95,COLUMNS(COUNTIES!$D$2:L95)),\"\")","v":""}]
[{"$f":"ROWS($E$2:E96)","v":95},{"$f":"IF(E96=WORKSHEET!$B$2,A96,\"\")","v":""},"",{"$f":"IFERROR(INDEX('Base Data wHSA (NCI Modified)'!$L$2:'Base Data wHSA (NCI Modified)'!$T$3142,'Base Data wHSA (NCI Modified)'!$K96,COLUMNS(COUNTIES!$D$2:D96)),\"\")","v":""},{"$f":"IFERROR(INDEX('Base Data wHSA (NCI Modified)'!$L$2:'Base Data wHSA (NCI Modified)'!$T$3142,'Base Data wHSA (NCI Modified)'!$K96,COLUMNS(COUNTIES!$D$2:E96)),\"\")","v":""},{"$f":"IFERROR(INDEX('Base Data wHSA (NCI Modified)'!$L$2:'Base Data wHSA (NCI Modified)'!$T$3142,'Base Data wHSA (NCI Modified)'!$K96,COLUMNS(COUNTIES!$D$2:F96)),\"\")","v":""},{"$f":"IFERROR(INDEX('Base Data wHSA (NCI Modified)'!$L$2:'Base Data wHSA (NCI Modified)'!$T$3142,'Base Data wHSA (NCI Modified)'!$K96,COLUMNS(COUNTIES!$D$2:G96)),\"\")","v":""},{"$f":"IFERROR(INDEX('Base Data wHSA (NCI Modified)'!$L$2:'Base Data wHSA (NCI Modified)'!$T$3142,'Base Data wHSA (NCI Modified)'!$K96,COLUMNS(COUNTIES!$D$2:H96)),\"\")","v":""},{"$f":"IFERROR(INDEX('Base Data wHSA (NCI Modified)'!$L$2:'Base Data wHSA (NCI Modified)'!$T$3142,'Base Data wHSA (NCI Modified)'!$K96,COLUMNS(COUNTIES!$D$2:I96)),\"\")","v":""},{"$f":"IFERROR(INDEX('Base Data wHSA (NCI Modified)'!$L$2:'Base Data wHSA (NCI Modified)'!$T$3142,'Base Data wHSA (NCI Modified)'!$K96,COLUMNS(COUNTIES!$D$2:J96)),\"\")","v":""},{"$f":"IFERROR(INDEX('Base Data wHSA (NCI Modified)'!$L$2:'Base Data wHSA (NCI Modified)'!$T$3142,'Base Data wHSA (NCI Modified)'!$K96,COLUMNS(COUNTIES!$D$2:K96)),\"\")","v":""},{"$f":"IFERROR(INDEX('Base Data wHSA (NCI Modified)'!$L$2:'Base Data wHSA (NCI Modified)'!$T$3142,'Base Data wHSA (NCI Modified)'!$K96,COLUMNS(COUNTIES!$D$2:L96)),\"\")","v":""}]
[{"$f":"ROWS($E$2:E97)","v":96},{"$f":"IF(E97=WORKSHEET!$B$2,A97,\"\")","v":""},"",{"$f":"IFERROR(INDEX('Base Data wHSA (NCI Modified)'!$L$2:'Base Data wHSA (NCI Modified)'!$T$3142,'Base Data wHSA (NCI Modified)'!$K97,COLUMNS(COUNTIES!$D$2:D97)),\"\")","v":""},{"$f":"IFERROR(INDEX('Base Data wHSA (NCI Modified)'!$L$2:'Base Data wHSA (NCI Modified)'!$T$3142,'Base Data wHSA (NCI Modified)'!$K97,COLUMNS(COUNTIES!$D$2:E97)),\"\")","v":""},{"$f":"IFERROR(INDEX('Base Data wHSA (NCI Modified)'!$L$2:'Base Data wHSA (NCI Modified)'!$T$3142,'Base Data wHSA (NCI Modified)'!$K97,COLUMNS(COUNTIES!$D$2:F97)),\"\")","v":""},{"$f":"IFERROR(INDEX('Base Data wHSA (NCI Modified)'!$L$2:'Base Data wHSA (NCI Modified)'!$T$3142,'Base Data wHSA (NCI Modified)'!$K97,COLUMNS(COUNTIES!$D$2:G97)),\"\")","v":""},{"$f":"IFERROR(INDEX('Base Data wHSA (NCI Modified)'!$L$2:'Base Data wHSA (NCI Modified)'!$T$3142,'Base Data wHSA (NCI Modified)'!$K97,COLUMNS(COUNTIES!$D$2:H97)),\"\")","v":""},{"$f":"IFERROR(INDEX('Base Data wHSA (NCI Modified)'!$L$2:'Base Data wHSA (NCI Modified)'!$T$3142,'Base Data wHSA (NCI Modified)'!$K97,COLUMNS(COUNTIES!$D$2:I97)),\"\")","v":""},{"$f":"IFERROR(INDEX('Base Data wHSA (NCI Modified)'!$L$2:'Base Data wHSA (NCI Modified)'!$T$3142,'Base Data wHSA (NCI Modified)'!$K97,COLUMNS(COUNTIES!$D$2:J97)),\"\")","v":""},{"$f":"IFERROR(INDEX('Base Data wHSA (NCI Modified)'!$L$2:'Base Data wHSA (NCI Modified)'!$T$3142,'Base Data wHSA (NCI Modified)'!$K97,COLUMNS(COUNTIES!$D$2:K97)),\"\")","v":""},{"$f":"IFERROR(INDEX('Base Data wHSA (NCI Modified)'!$L$2:'Base Data wHSA (NCI Modified)'!$T$3142,'Base Data wHSA (NCI Modified)'!$K97,COLUMNS(COUNTIES!$D$2:L97)),\"\")","v":""}]
[{"$f":"ROWS($E$2:E98)","v":97},{"$f":"IF(E98=WORKSHEET!$B$2,A98,\"\")","v":""},"",{"$f":"IFERROR(INDEX('Base Data wHSA (NCI Modified)'!$L$2:'Base Data wHSA (NCI Modified)'!$T$3142,'Base Data wHSA (NCI Modified)'!$K98,COLUMNS(COUNTIES!$D$2:D98)),\"\")","v":""},{"$f":"IFERROR(INDEX('Base Data wHSA (NCI Modified)'!$L$2:'Base Data wHSA (NCI Modified)'!$T$3142,'Base Data wHSA (NCI Modified)'!$K98,COLUMNS(COUNTIES!$D$2:E98)),\"\")","v":""},{"$f":"IFERROR(INDEX('Base Data wHSA (NCI Modified)'!$L$2:'Base Data wHSA (NCI Modified)'!$T$3142,'Base Data wHSA (NCI Modified)'!$K98,COLUMNS(COUNTIES!$D$2:F98)),\"\")","v":""},{"$f":"IFERROR(INDEX('Base Data wHSA (NCI Modified)'!$L$2:'Base Data wHSA (NCI Modified)'!$T$3142,'Base Data wHSA (NCI Modified)'!$K98,COLUMNS(COUNTIES!$D$2:G98)),\"\")","v":""},{"$f":"IFERROR(INDEX('Base Data wHSA (NCI Modified)'!$L$2:'Base Data wHSA (NCI Modified)'!$T$3142,'Base Data wHSA (NCI Modified)'!$K98,COLUMNS(COUNTIES!$D$2:H98)),\"\")","v":""},{"$f":"IFERROR(INDEX('Base Data wHSA (NCI Modified)'!$L$2:'Base Data wHSA (NCI Modified)'!$T$3142,'Base Data wHSA (NCI Modified)'!$K98,COLUMNS(COUNTIES!$D$2:I98)),\"\")","v":""},{"$f":"IFERROR(INDEX('Base Data wHSA (NCI Modified)'!$L$2:'Base Data wHSA (NCI Modified)'!$T$3142,'Base Data wHSA (NCI Modified)'!$K98,COLUMNS(COUNTIES!$D$2:J98)),\"\")","v":""},{"$f":"IFERROR(INDEX('Base Data wHSA (NCI Modified)'!$L$2:'Base Data wHSA (NCI Modified)'!$T$3142,'Base Data wHSA (NCI Modified)'!$K98,COLUMNS(COUNTIES!$D$2:K98)),\"\")","v":""},{"$f":"IFERROR(INDEX('Base Data wHSA (NCI Modified)'!$L$2:'Base Data wHSA (NCI Modified)'!$T$3142,'Base Data wHSA (NCI Modified)'!$K98,COLUMNS(COUNTIES!$D$2:L98)),\"\")","v":""}]
[{"$f":"ROWS($E$2:E99)","v":98},{"$f":"IF(E99=WORKSHEET!$B$2,A99,\"\")","v":""},"",{"$f":"IFERROR(INDEX('Base Data wHSA (NCI Modified)'!$L$2:'Base Data wHSA (NCI Modified)'!$T$3142,'Base Data wHSA (NCI Modified)'!$K99,COLUMNS(COUNTIES!$D$2:D99)),\"\")","v":""},{"$f":"IFERROR(INDEX('Base Data wHSA (NCI Modified)'!$L$2:'Base Data wHSA (NCI Modified)'!$T$3142,'Base Data wHSA (NCI Modified)'!$K99,COLUMNS(COUNTIES!$D$2:E99)),\"\")","v":""},{"$f":"IFERROR(INDEX('Base Data wHSA (NCI Modified)'!$L$2:'Base Data wHSA (NCI Modified)'!$T$3142,'Base Data wHSA (NCI Modified)'!$K99,COLUMNS(COUNTIES!$D$2:F99)),\"\")","v":""},{"$f":"IFERROR(INDEX('Base Data wHSA (NCI Modified)'!$L$2:'Base Data wHSA (NCI Modified)'!$T$3142,'Base Data wHSA (NCI Modified)'!$K99,COLUMNS(COUNTIES!$D$2:G99)),\"\")","v":""},{"$f":"IFERROR(INDEX('Base Data wHSA (NCI Modified)'!$L$2:'Base Data wHSA (NCI Modified)'!$T$3142,'Base Data wHSA (NCI Modified)'!$K99,COLUMNS(COUNTIES!$D$2:H99)),\"\")","v":""},{"$f":"IFERROR(INDEX('Base Data wHSA (NCI Modified)'!$L$2:'Base Data wHSA (NCI Modified)'!$T$3142,'Base Data wHSA (NCI Modified)'!$K99,COLUMNS(COUNTIES!$D$2:I99)),\"\")","v":""},{"$f":"IFERROR(INDEX('Base Data wHSA (NCI Modified)'!$L$2:'Base Data wHSA (NCI Modified)'!$T$3142,'Base Data wHSA (NCI Modified)'!$K99,COLUMNS(COUNTIES!$D$2:J99)),\"\")","v":""},{"$f":"IFERROR(INDEX('Base Data wHSA (NCI Modified)'!$L$2:'Base Data wHSA (NCI Modified)'!$T$3142,'Base Data wHSA (NCI Modified)'!$K99,COLUMNS(COUNTIES!$D$2:K99)),\"\")","v":""},{"$f":"IFERROR(INDEX('Base Data wHSA (NCI Modified)'!$L$2:'Base Data wHSA (NCI Modified)'!$T$3142,'Base Data wHSA (NCI Modified)'!$K99,COLUMNS(COUNTIES!$D$2:L99)),\"\")","v":""}]
[{"$f":"ROWS($E$2:E100)","v":99},{"$f":"IF(E100=WORKSHEET!$B$2,A100,\"\")","v":""},"",{"$f":"IFERROR(INDEX('Base Data wHSA (NCI Modified)'!$L$2:'Base Data wHSA (NCI Modified)'!$T$3142,'Base Data wHSA (NCI Modified)'!$K100,COLUMNS(COUNTIES!$D$2:D100)),\"\")","v":""},{"$f":"IFERROR(INDEX('Base Data wHSA (NCI Modified)'!$L$2:'Base Data wHSA (NCI Modified)'!$T$3142,'Base Data wHSA (NCI Modified)'!$K100,COLUMNS(COUNTIES!$D$2:E100)),\"\")","v":""},{"$f":"IFERROR(INDEX('Base Data wHSA (NCI Modified)'!$L$2:'Base Data wHSA (NCI Modified)'!$T$3142,'Base Data wHSA (NCI Modified)'!$K100,COLUMNS(COUNTIES!$D$2:F100)),\"\")","v":""},{"$f":"IFERROR(INDEX('Base Data wHSA (NCI Modified)'!$L$2:'Base Data wHSA (NCI Modified)'!$T$3142,'Base Data wHSA (NCI Modified)'!$K100,COLUMNS(COUNTIES!$D$2:G100)),\"\")","v":""},{"$f":"IFERROR(INDEX('Base Data wHSA (NCI Modified)'!$L$2:'Base Data wHSA (NCI Modified)'!$T$3142,'Base Data wHSA (NCI Modified)'!$K100,COLUMNS(COUNTIES!$D$2:H100)),\"\")","v":""},{"$f":"IFERROR(INDEX('Base Data wHSA (NCI Modified)'!$L$2:'Base Data wHSA (NCI Modified)'!$T$3142,'Base Data wHSA (NCI Modified)'!$K100,COLUMNS(COUNTIES!$D$2:I100)),\"\")","v":""},{"$f":"IFERROR(INDEX('Base Data wHSA (NCI Modified)'!$L$2:'Base Data wHSA (NCI Modified)'!$T$3142,'Base Data wHSA (NCI Modified)'!$K100,COLUMNS(COUNTIES!$D$2:J100)),\"\")","v":""},{"$f":"IFERROR(INDEX('Base Data wHSA (NCI Modified)'!$L$2:'Base Data wHSA (NCI Modified)'!$T$3142,'Base Data wHSA (NCI Modified)'!$K100,COLUMNS(COUNTIES!$D$2:K100)),\"\")","v":""},{"$f":"IFERROR(INDEX('Base Data wHSA (NCI Modified)'!$L$2:'Base Data wHSA (NCI Modified)'!$T$3142,'Base Data wHSA (NCI Modified)'!$K100,COLUMNS(COUNTIES!$D$2:L100)),\"\")","v":""}]
[{"$f":"ROWS($E$2:E101)","v":100},{"$f":"IF(E101=WORKSHEET!$B$2,A101,\"\")","v":""},"",{"$f":"IFERROR(INDEX('Base Data wHSA (NCI Modified)'!$L$2:'Base Data wHSA (NCI Modified)'!$T$3142,'Base Data wHSA (NCI Modified)'!$K101,COLUMNS(COUNTIES!$D$2:D101)),\"\")","v":""},{"$f":"IFERROR(INDEX('Base Data wHSA (NCI Modified)'!$L$2:'Base Data wHSA (NCI Modified)'!$T$3142,'Base Data wHSA (NCI Modified)'!$K101,COLUMNS(COUNTIES!$D$2:E101)),\"\")","v":""},{"$f":"IFERROR(INDEX('Base Data wHSA (NCI Modified)'!$L$2:'Base Data wHSA (NCI Modified)'!$T$3142,'Base Data wHSA (NCI Modified)'!$K101,COLUMNS(COUNTIES!$D$2:F101)),\"\")","v":""},{"$f":"IFERROR(INDEX('Base Data wHSA (NCI Modified)'!$L$2:'Base Data wHSA (NCI Modified)'!$T$3142,'Base Data wHSA (NCI Modified)'!$K101,COLUMNS(COUNTIES!$D$2:G101)),\"\")","v":""},{"$f":"IFERROR(INDEX('Base Data wHSA (NCI Modified)'!$L$2:'Base Data wHSA (NCI Modified)'!$T$3142,'Base Data wHSA (NCI Modified)'!$K101,COLUMNS(COUNTIES!$D$2:H101)),\"\")","v":""},{"$f":"IFERROR(INDEX('Base Data wHSA (NCI Modified)'!$L$2:'Base Data wHSA (NCI Modified)'!$T$3142,'Base Data wHSA (NCI Modified)'!$K101,COLUMNS(COUNTIES!$D$2:I101)),\"\")","v":""},{"$f":"IFERROR(INDEX('Base Data wHSA (NCI Modified)'!$L$2:'Base Data wHSA (NCI Modified)'!$T$3142,'Base Data wHSA (NCI Modified)'!$K101,COLUMNS(COUNTIES!$D$2:J101)),\"\")","v":""},{"$f":"IFERROR(INDEX('Base Data wHSA (NCI Modified)'!$L$2:'Base Data wHSA (NCI Modified)'!$T$3142,'Base Data wHSA (NCI Modified)'!$K101,COLUMNS(COUNTIES!$D$2:K101)),\"\")","v":""},{"$f":"IFERROR(INDEX('Base Data wHSA (NCI Modified)'!$L$2:'Base Data wHSA (NCI Modified)'!$T$3142,'Base Data wHSA (NCI Modified)'!$K101,COLUMNS(COUNTIES!$D$2:L101)),\"\")","v":""}]
[{"$f":"ROWS($E$2:E102)","v":101},{"$f":"IF(E102=WORKSHEET!$B$2,A102,\"\")","v":""},"",{"$f":"IFERROR(INDEX('Base Data wHSA (NCI Modified)'!$L$2:'Base Data wHSA (NCI Modified)'!$T$3142,'Base Data wHSA (NCI Modified)'!$K102,COLUMNS(COUNTIES!$D$2:D102)),\"\")","v":""},{"$f":"IFERROR(INDEX('Base Data wHSA (NCI Modified)'!$L$2:'Base Data wHSA (NCI Modified)'!$T$3142,'Base Data wHSA (NCI Modified)'!$K102,COLUMNS(COUNTIES!$D$2:E102)),\"\")","v":""},{"$f":"IFERROR(INDEX('Base Data wHSA (NCI Modified)'!$L$2:'Base Data wHSA (NCI Modified)'!$T$3142,'Base Data wHSA (NCI Modified)'!$K102,COLUMNS(COUNTIES!$D$2:F102)),\"\")","v":""},{"$f":"IFERROR(INDEX('Base Data wHSA (NCI Modified)'!$L$2:'Base Data wHSA (NCI Modified)'!$T$3142,'Base Data wHSA (NCI Modified)'!$K102,COLUMNS(COUNTIES!$D$2:G102)),\"\")","v":""},{"$f":"IFERROR(INDEX('Base Data wHSA (NCI Modified)'!$L$2:'Base Data wHSA (NCI Modified)'!$T$3142,'Base Data wHSA (NCI Modified)'!$K102,COLUMNS(COUNTIES!$D$2:H102)),\"\")","v":""},{"$f":"IFERROR(INDEX('Base Data wHSA (NCI Modified)'!$L$2:'Base Data wHSA (NCI Modified)'!$T$3142,'Base Data wHSA (NCI Modified)'!$K102,COLUMNS(COUNTIES!$D$2:I102)),\"\")","v":""},{"$f":"IFERROR(INDEX('Base Data wHSA (NCI Modified)'!$L$2:'Base Data wHSA (NCI Modified)'!$T$3142,'Base Data wHSA (NCI Modified)'!$K102,COLUMNS(COUNTIES!$D$2:J102)),\"\")","v":""},{"$f":"IFERROR(INDEX('Base Data wHSA (NCI Modified)'!$L$2:'Base Data wHSA (NCI Modified)'!$T$3142,'Base Data wHSA (NCI Modified)'!$K102,COLUMNS(COUNTIES!$D$2:K102)),\"\")","v":""},{"$f":"IFERROR(INDEX('Base Data wHSA (NCI Modified)'!$L$2:'Base Data wHSA (NCI Modified)'!$T$3142,'Base Data wHSA (NCI Modified)'!$K102,COLUMNS(COUNTIES!$D$2:L102)),\"\")","v":""}]
[{"$f":"ROWS($E$2:E103)","v":102},{"$f":"IF(E103=WORKSHEET!$B$2,A103,\"\")","v":""},"",{"$f":"IFERROR(INDEX('Base Data wHSA (NCI Modified)'!$L$2:'Base Data wHSA (NCI Modified)'!$T$3142,'Base Data wHSA (NCI Modified)'!$K103,COLUMNS(COUNTIES!$D$2:D103)),\"\")","v":""},{"$f":"IFERROR(INDEX('Base Data wHSA (NCI Modified)'!$L$2:'Base Data wHSA (NCI Modified)'!$T$3142,'Base Data wHSA (NCI Modified)'!$K103,COLUMNS(COUNTIES!$D$2:E103)),\"\")","v":""},{"$f":"IFERROR(INDEX('Base Data wHSA (NCI Modified)'!$L$2:'Base Data wHSA (NCI Modified)'!$T$3142,'Base Data wHSA (NCI Modified)'!$K103,COLUMNS(COUNTIES!$D$2:F103)),\"\")","v":""},{"$f":"IFERROR(INDEX('Base Data wHSA (NCI Modified)'!$L$2:'Base Data wHSA (NCI Modified)'!$T$3142,'Base Data wHSA (NCI Modified)'!$K103,COLUMNS(COUNTIES!$D$2:G103)),\"\")","v":""},{"$f":"IFERROR(INDEX('Base Data wHSA (NCI Modified)'!$L$2:'Base Data wHSA (NCI Modified)'!$T$3142,'Base Data wHSA (NCI Modified)'!$K103,COLUMNS(COUNTIES!$D$2:H103)),\"\")","v":""},{"$f":"IFERROR(INDEX('Base Data wHSA (NCI Modified)'!$L$2:'Base Data wHSA (NCI Modified)'!$T$3142,'Base Data wHSA (NCI Modified)'!$K103,COLUMNS(COUNTIES!$D$2:I103)),\"\")","v":""},{"$f":"IFERROR(INDEX('Base Data wHSA (NCI Modified)'!$L$2:'Base Data wHSA (NCI Modified)'!$T$3142,'Base Data wHSA (NCI Modified)'!$K103,COLUMNS(COUNTIES!$D$2:J103)),\"\")","v":""},{"$f":"IFERROR(INDEX('Base Data wHSA (NCI Modified)'!$L$2:'Base Data wHSA (NCI Modified)'!$T$3142,'Base Data wHSA (NCI Modified)'!$K103,COLUMNS(COUNTIES!$D$2:K103)),\"\")","v":""},{"$f":"IFERROR(INDEX('Base Data wHSA (NCI Modified)'!$L$2:'Base Data wHSA (NCI Modified)'!$T$3142,'Base Data wHSA (NCI Modified)'!$K103,COLUMNS(COUNTIES!$D$2:L103)),\"\")","v":""}]
[{"$f":"ROWS($E$2:E104)","v":103},{"$f":"IF(E104=WORKSHEET!$B$2,A104,\"\")","v":""},"",{"$f":"IFERROR(INDEX('Base Data wHSA (NCI Modified)'!$L$2:'Base Data wHSA (NCI Modified)'!$T$3142,'Base Data wHSA (NCI Modified)'!$K104,COLUMNS(COUNTIES!$D$2:D104)),\"\")","v":""},{"$f":"IFERROR(INDEX('Base Data wHSA (NCI Modified)'!$L$2:'Base Data wHSA (NCI Modified)'!$T$3142,'Base Data wHSA (NCI Modified)'!$K104,COLUMNS(COUNTIES!$D$2:E104)),\"\")","v":""},{"$f":"IFERROR(INDEX('Base Data wHSA (NCI Modified)'!$L$2:'Base Data wHSA (NCI Modified)'!$T$3142,'Base Data wHSA (NCI Modified)'!$K104,COLUMNS(COUNTIES!$D$2:F104)),\"\")","v":""},{"$f":"IFERROR(INDEX('Base Data wHSA (NCI Modified)'!$L$2:'Base Data wHSA (NCI Modified)'!$T$3142,'Base Data wHSA (NCI Modified)'!$K104,COLUMNS(COUNTIES!$D$2:G104)),\"\")","v":""},{"$f":"IFERROR(INDEX('Base Data wHSA (NCI Modified)'!$L$2:'Base Data wHSA (NCI Modified)'!$T$3142,'Base Data wHSA (NCI Modified)'!$K104,COLUMNS(COUNTIES!$D$2:H104)),\"\")","v":""},{"$f":"IFERROR(INDEX('Base Data wHSA (NCI Modified)'!$L$2:'Base Data wHSA (NCI Modified)'!$T$3142,'Base Data wHSA (NCI Modified)'!$K104,COLUMNS(COUNTIES!$D$2:I104)),\"\")","v":""},{"$f":"IFERROR(INDEX('Base Data wHSA (NCI Modified)'!$L$2:'Base Data wHSA (NCI Modified)'!$T$3142,'Base Data wHSA (NCI Modified)'!$K104,COLUMNS(COUNTIES!$D$2:J104)),\"\")","v":""},{"$f":"IFERROR(INDEX('Base Data wHSA (NCI Modified)'!$L$2:'Base Data wHSA (NCI Modified)'!$T$3142,'Base Data wHSA (NCI Modified)'!$K104,COLUMNS(COUNTIES!$D$2:K104)),\"\")","v":""},{"$f":"IFERROR(INDEX('Base Data wHSA (NCI Modified)'!$L$2:'Base Data wHSA (NCI Modified)'!$T$3142,'Base Data wHSA (NCI Modified)'!$K104,COLUMNS(COUNTIES!$D$2:L104)),\"\")","v":""}]
[{"$f":"ROWS($E$2:E105)","v":104},{"$f":"IF(E105=WORKSHEET!$B$2,A105,\"\")","v":""},"",{"$f":"IFERROR(INDEX('Base Data wHSA (NCI Modified)'!$L$2:'Base Data wHSA (NCI Modified)'!$T$3142,'Base Data wHSA (NCI Modified)'!$K105,COLUMNS(COUNTIES!$D$2:D105)),\"\")","v":""},{"$f":"IFERROR(INDEX('Base Data wHSA (NCI Modified)'!$L$2:'Base Data wHSA (NCI Modified)'!$T$3142,'Base Data wHSA (NCI Modified)'!$K105,COLUMNS(COUNTIES!$D$2:E105)),\"\")","v":""},{"$f":"IFERROR(INDEX('Base Data wHSA (NCI Modified)'!$L$2:'Base Data wHSA (NCI Modified)'!$T$3142,'Base Data wHSA (NCI Modified)'!$K105,COLUMNS(COUNTIES!$D$2:F105)),\"\")","v":""},{"$f":"IFERROR(INDEX('Base Data wHSA (NCI Modified)'!$L$2:'Base Data wHSA (NCI Modified)'!$T$3142,'Base Data wHSA (NCI Modified)'!$K105,COLUMNS(COUNTIES!$D$2:G105)),\"\")","v":""},{"$f":"IFERROR(INDEX('Base Data wHSA (NCI Modified)'!$L$2:'Base Data wHSA (NCI Modified)'!$T$3142,'Base Data wHSA (NCI Modified)'!$K105,COLUMNS(COUNTIES!$D$2:H105)),\"\")","v":""},{"$f":"IFERROR(INDEX('Base Data wHSA (NCI Modified)'!$L$2:'Base Data wHSA (NCI Modified)'!$T$3142,'Base Data wHSA (NCI Modified)'!$K105,COLUMNS(COUNTIES!$D$2:I105)),\"\")","v":""},{"$f":"IFERROR(INDEX('Base Data wHSA (NCI Modified)'!$L$2:'Base Data wHSA (NCI Modified)'!$T$3142,'Base Data wHSA (NCI Modified)'!$K105,COLUMNS(COUNTIES!$D$2:J105)),\"\")","v":""},{"$f":"IFERROR(INDEX('Base Data wHSA (NCI Modified)'!$L$2:'Base Data wHSA (NCI Modified)'!$T$3142,'Base Data wHSA (NCI Modified)'!$K105,COLUMNS(COUNTIES!$D$2:K105)),\"\")","v":""},{"$f":"IFERROR(INDEX('Base Data wHSA (NCI Modified)'!$L$2:'Base Data wHSA (NCI Modified)'!$T$3142,'Base Data wHSA (NCI Modified)'!$K105,COLUMNS(COUNTIES!$D$2:L105)),\"\")","v":""}]
[{"$f":"ROWS($E$2:E106)","v":105},{"$f":"IF(E106=WORKSHEET!$B$2,A106,\"\")","v":""},"",{"$f":"IFERROR(INDEX('Base Data wHSA (NCI Modified)'!$L$2:'Base Data wHSA (NCI Modified)'!$T$3142,'Base Data wHSA (NCI Modified)'!$K106,COLUMNS(COUNTIES!$D$2:D106)),\"\")","v":""},{"$f":"IFERROR(INDEX('Base Data wHSA (NCI Modified)'!$L$2:'Base Data wHSA (NCI Modified)'!$T$3142,'Base Data wHSA (NCI Modified)'!$K106,COLUMNS(COUNTIES!$D$2:E106)),\"\")","v":""},{"$f":"IFERROR(INDEX('Base Data wHSA (NCI Modified)'!$L$2:'Base Data wHSA (NCI Modified)'!$T$3142,'Base Data wHSA (NCI Modified)'!$K106,COLUMNS(COUNTIES!$D$2:F106)),\"\")","v":""},{"$f":"IFERROR(INDEX('Base Data wHSA (NCI Modified)'!$L$2:'Base Data wHSA (NCI Modified)'!$T$3142,'Base Data wHSA (NCI Modified)'!$K106,COLUMNS(COUNTIES!$D$2:G106)),\"\")","v":""},{"$f":"IFERROR(INDEX('Base Data wHSA (NCI Modified)'!$L$2:'Base Data wHSA (NCI Modified)'!$T$3142,'Base Data wHSA (NCI Modified)'!$K106,COLUMNS(COUNTIES!$D$2:H106)),\"\")","v":""},{"$f":"IFERROR(INDEX('Base Data wHSA (NCI Modified)'!$L$2:'Base Data wHSA (NCI Modified)'!$T$3142,'Base Data wHSA (NCI Modified)'!$K106,COLUMNS(COUNTIES!$D$2:I106)),\"\")","v":""},{"$f":"IFERROR(INDEX('Base Data wHSA (NCI Modified)'!$L$2:'Base Data wHSA (NCI Modified)'!$T$3142,'Base Data wHSA (NCI Modified)'!$K106,COLUMNS(COUNTIES!$D$2:J106)),\"\")","v":""},{"$f":"IFERROR(INDEX('Base Data wHSA (NCI Modified)'!$L$2:'Base Data wHSA (NCI Modified)'!$T$3142,'Base Data wHSA (NCI Modified)'!$K106,COLUMNS(COUNTIES!$D$2:K106)),\"\")","v":""},{"$f":"IFERROR(INDEX('Base Data wHSA (NCI Modified)'!$L$2:'Base Data wHSA (NCI Modified)'!$T$3142,'Base Data wHSA (NCI Modified)'!$K106,COLUMNS(COUNTIES!$D$2:L106)),\"\")","v":""}]
[{"$f":"ROWS($E$2:E107)","v":106},{"$f":"IF(E107=WORKSHEET!$B$2,A107,\"\")","v":""},"",{"$f":"IFERROR(INDEX('Base Data wHSA (NCI Modified)'!$L$2:'Base Data wHSA (NCI Modified)'!$T$3142,'Base Data wHSA (NCI Modified)'!$K107,COLUMNS(COUNTIES!$D$2:D107)),\"\")","v":""},{"$f":"IFERROR(INDEX('Base Data wHSA (NCI Modified)'!$L$2:'Base Data wHSA (NCI Modified)'!$T$3142,'Base Data wHSA (NCI Modified)'!$K107,COLUMNS(COUNTIES!$D$2:E107)),\"\")","v":""},{"$f":"IFERROR(INDEX('Base Data wHSA (NCI Modified)'!$L$2:'Base Data wHSA (NCI Modified)'!$T$3142,'Base Data wHSA (NCI Modified)'!$K107,COLUMNS(COUNTIES!$D$2:F107)),\"\")","v":""},{"$f":"IFERROR(INDEX('Base Data wHSA (NCI Modified)'!$L$2:'Base Data wHSA (NCI Modified)'!$T$3142,'Base Data wHSA (NCI Modified)'!$K107,COLUMNS(COUNTIES!$D$2:G107)),\"\")","v":""},{"$f":"IFERROR(INDEX('Base Data wHSA (NCI Modified)'!$L$2:'Base Data wHSA (NCI Modified)'!$T$3142,'Base Data wHSA (NCI Modified)'!$K107,COLUMNS(COUNTIES!$D$2:H107)),\"\")","v":""},{"$f":"IFERROR(INDEX('Base Data wHSA (NCI Modified)'!$L$2:'Base Data wHSA (NCI Modified)'!$T$3142,'Base Data wHSA (NCI Modified)'!$K107,COLUMNS(COUNTIES!$D$2:I107)),\"\")","v":""},{"$f":"IFERROR(INDEX('Base Data wHSA (NCI Modified)'!$L$2:'Base Data wHSA (NCI Modified)'!$T$3142,'Base Data wHSA (NCI Modified)'!$K107,COLUMNS(COUNTIES!$D$2:J107)),\"\")","v":""},{"$f":"IFERROR(INDEX('Base Data wHSA (NCI Modified)'!$L$2:'Base Data wHSA (NCI Modified)'!$T$3142,'Base Data wHSA (NCI Modified)'!$K107,COLUMNS(COUNTIES!$D$2:K107)),\"\")","v":""},{"$f":"IFERROR(INDEX('Base Data wHSA (NCI Modified)'!$L$2:'Base Data wHSA (NCI Modified)'!$T$3142,'Base Data wHSA (NCI Modified)'!$K107,COLUMNS(COUNTIES!$D$2:L107)),\"\")","v":""}]
[{"$f":"ROWS($E$2:E108)","v":107},{"$f":"IF(E108=WORKSHEET!$B$2,A108,\"\")","v":""},"",{"$f":"IFERROR(INDEX('Base Data wHSA (NCI Modified)'!$L$2:'Base Data wHSA (NCI Modified)'!$T$3142,'Base Data wHSA (NCI Modified)'!$K108,COLUMNS(COUNTIES!$D$2:D108)),\"\")","v":""},{"$f":"IFERROR(INDEX('Base Data wHSA (NCI Modified)'!$L$2:'Base Data wHSA (NCI Modified)'!$T$3142,'Base Data wHSA (NCI Modified)'!$K108,COLUMNS(COUNTIES!$D$2:E108)),\"\")","v":""},{"$f":"IFERROR(INDEX('Base Data wHSA (NCI Modified)'!$L$2:'Base Data wHSA (NCI Modified)'!$T$3142,'Base Data wHSA (NCI Modified)'!$K108,COLUMNS(COUNTIES!$D$2:F108)),\"\")","v":""},{"$f":"IFERROR(INDEX('Base Data wHSA (NCI Modified)'!$L$2:'Base Data wHSA (NCI Modified)'!$T$3142,'Base Data wHSA (NCI Modified)'!$K108,COLUMNS(COUNTIES!$D$2:G108)),\"\")","v":""},{"$f":"IFERROR(INDEX('Base Data wHSA (NCI Modified)'!$L$2:'Base Data wHSA (NCI Modified)'!$T$3142,'Base Data wHSA (NCI Modified)'!$K108,COLUMNS(COUNTIES!$D$2:H108)),\"\")","v":""},{"$f":"IFERROR(INDEX('Base Data wHSA (NCI Modified)'!$L$2:'Base Data wHSA (NCI Modified)'!$T$3142,'Base Data wHSA (NCI Modified)'!$K108,COLUMNS(COUNTIES!$D$2:I108)),\"\")","v":""},{"$f":"IFERROR(INDEX('Base Data wHSA (NCI Modified)'!$L$2:'Base Data wHSA (NCI Modified)'!$T$3142,'Base Data wHSA (NCI Modified)'!$K108,COLUMNS(COUNTIES!$D$2:J108)),\"\")","v":""},{"$f":"IFERROR(INDEX('Base Data wHSA (NCI Modified)'!$L$2:'Base Data wHSA (NCI Modified)'!$T$3142,'Base Data wHSA (NCI Modified)'!$K108,COLUMNS(COUNTIES!$D$2:K108)),\"\")","v":""},{"$f":"IFERROR(INDEX('Base Data wHSA (NCI Modified)'!$L$2:'Base Data wHSA (NCI Modified)'!$T$3142,'Base Data wHSA (NCI Modified)'!$K108,COLUMNS(COUNTIES!$D$2:L108)),\"\")","v":""}]
[{"$f":"ROWS($E$2:E109)","v":108},{"$f":"IF(E109=WORKSHEET!$B$2,A109,\"\")","v":""},"",{"$f":"IFERROR(INDEX('Base Data wHSA (NCI Modified)'!$L$2:'Base Data wHSA (NCI Modified)'!$T$3142,'Base Data wHSA (NCI Modified)'!$K109,COLUMNS(COUNTIES!$D$2:D109)),\"\")","v":""},{"$f":"IFERROR(INDEX('Base Data wHSA (NCI Modified)'!$L$2:'Base Data wHSA (NCI Modified)'!$T$3142,'Base Data wHSA (NCI Modified)'!$K109,COLUMNS(COUNTIES!$D$2:E109)),\"\")","v":""},{"$f":"IFERROR(INDEX('Base Data wHSA (NCI Modified)'!$L$2:'Base Data wHSA (NCI Modified)'!$T$3142,'Base Data wHSA (NCI Modified)'!$K109,COLUMNS(COUNTIES!$D$2:F109)),\"\")","v":""},{"$f":"IFERROR(INDEX('Base Data wHSA (NCI Modified)'!$L$2:'Base Data wHSA (NCI Modified)'!$T$3142,'Base Data wHSA (NCI Modified)'!$K109,COLUMNS(COUNTIES!$D$2:G109)),\"\")","v":""},{"$f":"IFERROR(INDEX('Base Data wHSA (NCI Modified)'!$L$2:'Base Data wHSA (NCI Modified)'!$T$3142,'Base Data wHSA (NCI Modified)'!$K109,COLUMNS(COUNTIES!$D$2:H109)),\"\")","v":""},{"$f":"IFERROR(INDEX('Base Data wHSA (NCI Modified)'!$L$2:'Base Data wHSA (NCI Modified)'!$T$3142,'Base Data wHSA (NCI Modified)'!$K109,COLUMNS(COUNTIES!$D$2:I109)),\"\")","v":""},{"$f":"IFERROR(INDEX('Base Data wHSA (NCI Modified)'!$L$2:'Base Data wHSA (NCI Modified)'!$T$3142,'Base Data wHSA (NCI Modified)'!$K109,COLUMNS(COUNTIES!$D$2:J109)),\"\")","v":""},{"$f":"IFERROR(INDEX('Base Data wHSA (NCI Modified)'!$L$2:'Base Data wHSA (NCI Modified)'!$T$3142,'Base Data wHSA (NCI Modified)'!$K109,COLUMNS(COUNTIES!$D$2:K109)),\"\")","v":""},{"$f":"IFERROR(INDEX('Base Data wHSA (NCI Modified)'!$L$2:'Base Data wHSA (NCI Modified)'!$T$3142,'Base Data wHSA (NCI Modified)'!$K109,COLUMNS(COUNTIES!$D$2:L109)),\"\")","v":""}]
[{"$f":"ROWS($E$2:E110)","v":109},{"$f":"IF(E110=WORKSHEET!$B$2,A110,\"\")","v":""},"",{"$f":"IFERROR(INDEX('Base Data wHSA (NCI Modified)'!$L$2:'Base Data wHSA (NCI Modified)'!$T$3142,'Base Data wHSA (NCI Modified)'!$K110,COLUMNS(COUNTIES!$D$2:D110)),\"\")","v":""},{"$f":"IFERROR(INDEX('Base Data wHSA (NCI Modified)'!$L$2:'Base Data wHSA (NCI Modified)'!$T$3142,'Base Data wHSA (NCI Modified)'!$K110,COLUMNS(COUNTIES!$D$2:E110)),\"\")","v":""},{"$f":"IFERROR(INDEX('Base Data wHSA (NCI Modified)'!$L$2:'Base Data wHSA (NCI Modified)'!$T$3142,'Base Data wHSA (NCI Modified)'!$K110,COLUMNS(COUNTIES!$D$2:F110)),\"\")","v":""},{"$f":"IFERROR(INDEX('Base Data wHSA (NCI Modified)'!$L$2:'Base Data wHSA (NCI Modified)'!$T$3142,'Base Data wHSA (NCI Modified)'!$K110,COLUMNS(COUNTIES!$D$2:G110)),\"\")","v":""},{"$f":"IFERROR(INDEX('Base Data wHSA (NCI Modified)'!$L$2:'Base Data wHSA (NCI Modified)'!$T$3142,'Base Data wHSA (NCI Modified)'!$K110,COLUMNS(COUNTIES!$D$2:H110)),\"\")","v":""},{"$f":"IFERROR(INDEX('Base Data wHSA (NCI Modified)'!$L$2:'Base Data wHSA (NCI Modified)'!$T$3142,'Base Data wHSA (NCI Modified)'!$K110,COLUMNS(COUNTIES!$D$2:I110)),\"\")","v":""},{"$f":"IFERROR(INDEX('Base Data wHSA (NCI Modified)'!$L$2:'Base Data wHSA (NCI Modified)'!$T$3142,'Base Data wHSA (NCI Modified)'!$K110,COLUMNS(COUNTIES!$D$2:J110)),\"\")","v":""},{"$f":"IFERROR(INDEX('Base Data wHSA (NCI Modified)'!$L$2:'Base Data wHSA (NCI Modified)'!$T$3142,'Base Data wHSA (NCI Modified)'!$K110,COLUMNS(COUNTIES!$D$2:K110)),\"\")","v":""},{"$f":"IFERROR(INDEX('Base Data wHSA (NCI Modified)'!$L$2:'Base Data wHSA (NCI Modified)'!$T$3142,'Base Data wHSA (NCI Modified)'!$K110,COLUMNS(COUNTIES!$D$2:L110)),\"\")","v":""}]
[{"$f":"ROWS($E$2:E111)","v":110},{"$f":"IF(E111=WORKSHEET!$B$2,A111,\"\")","v":""},"",{"$f":"IFERROR(INDEX('Base Data wHSA (NCI Modified)'!$L$2:'Base Data wHSA (NCI Modified)'!$T$3142,'Base Data wHSA (NCI Modified)'!$K111,COLUMNS(COUNTIES!$D$2:D111)),\"\")","v":""},{"$f":"IFERROR(INDEX('Base Data wHSA (NCI Modified)'!$L$2:'Base Data wHSA (NCI Modified)'!$T$3142,'Base Data wHSA (NCI Modified)'!$K111,COLUMNS(COUNTIES!$D$2:E111)),\"\")","v":""},{"$f":"IFERROR(INDEX('Base Data wHSA (NCI Modified)'!$L$2:'Base Data wHSA (NCI Modified)'!$T$3142,'Base Data wHSA (NCI Modified)'!$K111,COLUMNS(COUNTIES!$D$2:F111)),\"\")","v":""},{"$f":"IFERROR(INDEX('Base Data wHSA (NCI Modified)'!$L$2:'Base Data wHSA (NCI Modified)'!$T$3142,'Base Data wHSA (NCI Modified)'!$K111,COLUMNS(COUNTIES!$D$2:G111)),\"\")","v":""},{"$f":"IFERROR(INDEX('Base Data wHSA (NCI Modified)'!$L$2:'Base Data wHSA (NCI Modified)'!$T$3142,'Base Data wHSA (NCI Modified)'!$K111,COLUMNS(COUNTIES!$D$2:H111)),\"\")","v":""},{"$f":"IFERROR(INDEX('Base Data wHSA (NCI Modified)'!$L$2:'Base Data wHSA (NCI Modified)'!$T$3142,'Base Data wHSA (NCI Modified)'!$K111,COLUMNS(COUNTIES!$D$2:I111)),\"\")","v":""},{"$f":"IFERROR(INDEX('Base Data wHSA (NCI Modified)'!$L$2:'Base Data wHSA (NCI Modified)'!$T$3142,'Base Data wHSA (NCI Modified)'!$K111,COLUMNS(COUNTIES!$D$2:J111)),\"\")","v":""},{"$f":"IFERROR(INDEX('Base Data wHSA (NCI Modified)'!$L$2:'Base Data wHSA (NCI Modified)'!$T$3142,'Base Data wHSA (NCI Modified)'!$K111,COLUMNS(COUNTIES!$D$2:K111)),\"\")","v":""},{"$f":"IFERROR(INDEX('Base Data wHSA (NCI Modified)'!$L$2:'Base Data wHSA (NCI Modified)'!$T$3142,'Base Data wHSA (NCI Modified)'!$K111,COLUMNS(COUNTIES!$D$2:L111)),\"\")","v":""}]
[{"$f":"ROWS($E$2:E112)","v":111},{"$f":"IF(E112=WORKSHEET!$B$2,A112,\"\")","v":""},"",{"$f":"IFERROR(INDEX('Base Data wHSA (NCI Modified)'!$L$2:'Base Data wHSA (NCI Modified)'!$T$3142,'Base Data wHSA (NCI Modified)'!$K112,COLUMNS(COUNTIES!$D$2:D112)),\"\")","v":""},{"$f":"IFERROR(INDEX('Base Data wHSA (NCI Modified)'!$L$2:'Base Data wHSA (NCI Modified)'!$T$3142,'Base Data wHSA (NCI Modified)'!$K112,COLUMNS(COUNTIES!$D$2:E112)),\"\")","v":""},{"$f":"IFERROR(INDEX('Base Data wHSA (NCI Modified)'!$L$2:'Base Data wHSA (NCI Modified)'!$T$3142,'Base Data wHSA (NCI Modified)'!$K112,COLUMNS(COUNTIES!$D$2:F112)),\"\")","v":""},{"$f":"IFERROR(INDEX('Base Data wHSA (NCI Modified)'!$L$2:'Base Data wHSA (NCI Modified)'!$T$3142,'Base Data wHSA (NCI Modified)'!$K112,COLUMNS(COUNTIES!$D$2:G112)),\"\")","v":""},{"$f":"IFERROR(INDEX('Base Data wHSA (NCI Modified)'!$L$2:'Base Data wHSA (NCI Modified)'!$T$3142,'Base Data wHSA (NCI Modified)'!$K112,COLUMNS(COUNTIES!$D$2:H112)),\"\")","v":""},{"$f":"IFERROR(INDEX('Base Data wHSA (NCI Modified)'!$L$2:'Base Data wHSA (NCI Modified)'!$T$3142,'Base Data wHSA (NCI Modified)'!$K112,COLUMNS(COUNTIES!$D$2:I112)),\"\")","v":""},{"$f":"IFERROR(INDEX('Base Data wHSA (NCI Modified)'!$L$2:'Base Data wHSA (NCI Modified)'!$T$3142,'Base Data wHSA (NCI Modified)'!$K112,COLUMNS(COUNTIES!$D$2:J112)),\"\")","v":""},{"$f":"IFERROR(INDEX('Base Data wHSA (NCI Modified)'!$L$2:'Base Data wHSA (NCI Modified)'!$T$3142,'Base Data wHSA (NCI Modified)'!$K112,COLUMNS(COUNTIES!$D$2:K112)),\"\")","v":""},{"$f":"IFERROR(INDEX('Base Data wHSA (NCI Modified)'!$L$2:'Base Data wHSA (NCI Modified)'!$T$3142,'Base Data wHSA (NCI Modified)'!$K112,COLUMNS(COUNTIES!$D$2:L112)),\"\")","v":""}]
[{"$f":"ROWS($E$2:E113)","v":112},{"$f":"IF(E113=WORKSHEET!$B$2,A113,\"\")","v":""},"",{"$f":"IFERROR(INDEX('Base Data wHSA (NCI Modified)'!$L$2:'Base Data wHSA (NCI Modified)'!$T$3142,'Base Data wHSA (NCI Modified)'!$K113,COLUMNS(COUNTIES!$D$2:D113)),\"\")","v":""},{"$f":"IFERROR(INDEX('Base Data wHSA (NCI Modified)'!$L$2:'Base Data wHSA (NCI Modified)'!$T$3142,'Base Data wHSA (NCI Modified)'!$K113,COLUMNS(COUNTIES!$D$2:E113)),\"\")","v":""},{"$f":"IFERROR(INDEX('Base Data wHSA (NCI Modified)'!$L$2:'Base Data wHSA (NCI Modified)'!$T$3142,'Base Data wHSA (NCI Modified)'!$K113,COLUMNS(COUNTIES!$D$2:F113)),\"\")","v":""},{"$f":"IFERROR(INDEX('Base Data wHSA (NCI Modified)'!$L$2:'Base Data wHSA (NCI Modified)'!$T$3142,'Base Data wHSA (NCI Modified)'!$K113,COLUMNS(COUNTIES!$D$2:G113)),\"\")","v":""},{"$f":"IFERROR(INDEX('Base Data wHSA (NCI Modified)'!$L$2:'Base Data wHSA (NCI Modified)'!$T$3142,'Base Data wHSA (NCI Modified)'!$K113,COLUMNS(COUNTIES!$D$2:H113)),\"\")","v":""},{"$f":"IFERROR(INDEX('Base Data wHSA (NCI Modified)'!$L$2:'Base Data wHSA (NCI Modified)'!$T$3142,'Base Data wHSA (NCI Modified)'!$K113,COLUMNS(COUNTIES!$D$2:I113)),\"\")","v":""},{"$f":"IFERROR(INDEX('Base Data wHSA (NCI Modified)'!$L$2:'Base Data wHSA (NCI Modified)'!$T$3142,'Base Data wHSA (NCI Modified)'!$K113,COLUMNS(COUNTIES!$D$2:J113)),\"\")","v":""},{"$f":"IFERROR(INDEX('Base Data wHSA (NCI Modified)'!$L$2:'Base Data wHSA (NCI Modified)'!$T$3142,'Base Data wHSA (NCI Modified)'!$K113,COLUMNS(COUNTIES!$D$2:K113)),\"\")","v":""},{"$f":"IFERROR(INDEX('Base Data wHSA (NCI Modified)'!$L$2:'Base Data wHSA (NCI Modified)'!$T$3142,'Base Data wHSA (NCI Modified)'!$K113,COLUMNS(COUNTIES!$D$2:L113)),\"\")","v":""}]
[{"$f":"ROWS($E$2:E114)","v":113},{"$f":"IF(E114=WORKSHEET!$B$2,A114,\"\")","v":""},"",{"$f":"IFERROR(INDEX('Base Data wHSA (NCI Modified)'!$L$2:'Base Data wHSA (NCI Modified)'!$T$3142,'Base Data wHSA (NCI Modified)'!$K114,COLUMNS(COUNTIES!$D$2:D114)),\"\")","v":""},{"$f":"IFERROR(INDEX('Base Data wHSA (NCI Modified)'!$L$2:'Base Data wHSA (NCI Modified)'!$T$3142,'Base Data wHSA (NCI Modified)'!$K114,COLUMNS(COUNTIES!$D$2:E114)),\"\")","v":""},{"$f":"IFERROR(INDEX('Base Data wHSA (NCI Modified)'!$L$2:'Base Data wHSA (NCI Modified)'!$T$3142,'Base Data wHSA (NCI Modified)'!$K114,COLUMNS(COUNTIES!$D$2:F114)),\"\")","v":""},{"$f":"IFERROR(INDEX('Base Data wHSA (NCI Modified)'!$L$2:'Base Data wHSA (NCI Modified)'!$T$3142,'Base Data wHSA (NCI Modified)'!$K114,COLUMNS(COUNTIES!$D$2:G114)),\"\")","v":""},{"$f":"IFERROR(INDEX('Base Data wHSA (NCI Modified)'!$L$2:'Base Data wHSA (NCI Modified)'!$T$3142,'Base Data wHSA (NCI Modified)'!$K114,COLUMNS(COUNTIES!$D$2:H114)),\"\")","v":""},{"$f":"IFERROR(INDEX('Base Data wHSA (NCI Modified)'!$L$2:'Base Data wHSA (NCI Modified)'!$T$3142,'Base Data wHSA (NCI Modified)'!$K114,COLUMNS(COUNTIES!$D$2:I114)),\"\")","v":""},{"$f":"IFERROR(INDEX('Base Data wHSA (NCI Modified)'!$L$2:'Base Data wHSA (NCI Modified)'!$T$3142,'Base Data wHSA (NCI Modified)'!$K114,COLUMNS(COUNTIES!$D$2:J114)),\"\")","v":""},{"$f":"IFERROR(INDEX('Base Data wHSA (NCI Modified)'!$L$2:'Base Data wHSA (NCI Modified)'!$T$3142,'Base Data wHSA (NCI Modified)'!$K114,COLUMNS(COUNTIES!$D$2:K114)),\"\")","v":""},{"$f":"IFERROR(INDEX('Base Data wHSA (NCI Modified)'!$L$2:'Base Data wHSA (NCI Modified)'!$T$3142,'Base Data wHSA (NCI Modified)'!$K114,COLUMNS(COUNTIES!$D$2:L114)),\"\")","v":""}]
[{"$f":"ROWS($E$2:E115)","v":114},{"$f":"IF(E115=WORKSHEET!$B$2,A115,\"\")","v":""},"",{"$f":"IFERROR(INDEX('Base Data wHSA (NCI Modified)'!$L$2:'Base Data wHSA (NCI Modified)'!$T$3142,'Base Data wHSA (NCI Modified)'!$K115,COLUMNS(COUNTIES!$D$2:D115)),\"\")","v":""},{"$f":"IFERROR(INDEX('Base Data wHSA (NCI Modified)'!$L$2:'Base Data wHSA (NCI Modified)'!$T$3142,'Base Data wHSA (NCI Modified)'!$K115,COLUMNS(COUNTIES!$D$2:E115)),\"\")","v":""},{"$f":"IFERROR(INDEX('Base Data wHSA (NCI Modified)'!$L$2:'Base Data wHSA (NCI Modified)'!$T$3142,'Base Data wHSA (NCI Modified)'!$K115,COLUMNS(COUNTIES!$D$2:F115)),\"\")","v":""},{"$f":"IFERROR(INDEX('Base Data wHSA (NCI Modified)'!$L$2:'Base Data wHSA (NCI Modified)'!$T$3142,'Base Data wHSA (NCI Modified)'!$K115,COLUMNS(COUNTIES!$D$2:G115)),\"\")","v":""},{"$f":"IFERROR(INDEX('Base Data wHSA (NCI Modified)'!$L$2:'Base Data wHSA (NCI Modified)'!$T$3142,'Base Data wHSA (NCI Modified)'!$K115,COLUMNS(COUNTIES!$D$2:H115)),\"\")","v":""},{"$f":"IFERROR(INDEX('Base Data wHSA (NCI Modified)'!$L$2:'Base Data wHSA (NCI Modified)'!$T$3142,'Base Data wHSA (NCI Modified)'!$K115,COLUMNS(COUNTIES!$D$2:I115)),\"\")","v":""},{"$f":"IFERROR(INDEX('Base Data wHSA (NCI Modified)'!$L$2:'Base Data wHSA (NCI Modified)'!$T$3142,'Base Data wHSA (NCI Modified)'!$K115,COLUMNS(COUNTIES!$D$2:J115)),\"\")","v":""},{"$f":"IFERROR(INDEX('Base Data wHSA (NCI Modified)'!$L$2:'Base Data wHSA (NCI Modified)'!$T$3142,'Base Data wHSA (NCI Modified)'!$K115,COLUMNS(COUNTIES!$D$2:K115)),\"\")","v":""},{"$f":"IFERROR(INDEX('Base Data wHSA (NCI Modified)'!$L$2:'Base Data wHSA (NCI Modified)'!$T$3142,'Base Data wHSA (NCI Modified)'!$K115,COLUMNS(COUNTIES!$D$2:L115)),\"\")","v":""}]
[{"$f":"ROWS($E$2:E116)","v":115},{"$f":"IF(E116=WORKSHEET!$B$2,A116,\"\")","v":""},"",{"$f":"IFERROR(INDEX('Base Data wHSA (NCI Modified)'!$L$2:'Base Data wHSA (NCI Modified)'!$T$3142,'Base Data wHSA (NCI Modified)'!$K116,COLUMNS(COUNTIES!$D$2:D116)),\"\")","v":""},{"$f":"IFERROR(INDEX('Base Data wHSA (NCI Modified)'!$L$2:'Base Data wHSA (NCI Modified)'!$T$3142,'Base Data wHSA (NCI Modified)'!$K116,COLUMNS(COUNTIES!$D$2:E116)),\"\")","v":""},{"$f":"IFERROR(INDEX('Base Data wHSA (NCI Modified)'!$L$2:'Base Data wHSA (NCI Modified)'!$T$3142,'Base Data wHSA (NCI Modified)'!$K116,COLUMNS(COUNTIES!$D$2:F116)),\"\")","v":""},{"$f":"IFERROR(INDEX('Base Data wHSA (NCI Modified)'!$L$2:'Base Data wHSA (NCI Modified)'!$T$3142,'Base Data wHSA (NCI Modified)'!$K116,COLUMNS(COUNTIES!$D$2:G116)),\"\")","v":""},{"$f":"IFERROR(INDEX('Base Data wHSA (NCI Modified)'!$L$2:'Base Data wHSA (NCI Modified)'!$T$3142,'Base Data wHSA (NCI Modified)'!$K116,COLUMNS(COUNTIES!$D$2:H116)),\"\")","v":""},{"$f":"IFERROR(INDEX('Base Data wHSA (NCI Modified)'!$L$2:'Base Data wHSA (NCI Modified)'!$T$3142,'Base Data wHSA (NCI Modified)'!$K116,COLUMNS(COUNTIES!$D$2:I116)),\"\")","v":""},{"$f":"IFERROR(INDEX('Base Data wHSA (NCI Modified)'!$L$2:'Base Data wHSA (NCI Modified)'!$T$3142,'Base Data wHSA (NCI Modified)'!$K116,COLUMNS(COUNTIES!$D$2:J116)),\"\")","v":""},{"$f":"IFERROR(INDEX('Base Data wHSA (NCI Modified)'!$L$2:'Base Data wHSA (NCI Modified)'!$T$3142,'Base Data wHSA (NCI Modified)'!$K116,COLUMNS(COUNTIES!$D$2:K116)),\"\")","v":""},{"$f":"IFERROR(INDEX('Base Data wHSA (NCI Modified)'!$L$2:'Base Data wHSA (NCI Modified)'!$T$3142,'Base Data wHSA (NCI Modified)'!$K116,COLUMNS(COUNTIES!$D$2:L116)),\"\")","v":""}]
[{"$f":"ROWS($E$2:E117)","v":116},{"$f":"IF(E117=WORKSHEET!$B$2,A117,\"\")","v":""},"",{"$f":"IFERROR(INDEX('Base Data wHSA (NCI Modified)'!$L$2:'Base Data wHSA (NCI Modified)'!$T$3142,'Base Data wHSA (NCI Modified)'!$K117,COLUMNS(COUNTIES!$D$2:D117)),\"\")","v":""},{"$f":"IFERROR(INDEX('Base Data wHSA (NCI Modified)'!$L$2:'Base Data wHSA (NCI Modified)'!$T$3142,'Base Data wHSA (NCI Modified)'!$K117,COLUMNS(COUNTIES!$D$2:E117)),\"\")","v":""},{"$f":"IFERROR(INDEX('Base Data wHSA (NCI Modified)'!$L$2:'Base Data wHSA (NCI Modified)'!$T$3142,'Base Data wHSA (NCI Modified)'!$K117,COLUMNS(COUNTIES!$D$2:F117)),\"\")","v":""},{"$f":"IFERROR(INDEX('Base Data wHSA (NCI Modified)'!$L$2:'Base Data wHSA (NCI Modified)'!$T$3142,'Base Data wHSA (NCI Modified)'!$K117,COLUMNS(COUNTIES!$D$2:G117)),\"\")","v":""},{"$f":"IFERROR(INDEX('Base Data wHSA (NCI Modified)'!$L$2:'Base Data wHSA (NCI Modified)'!$T$3142,'Base Data wHSA (NCI Modified)'!$K117,COLUMNS(COUNTIES!$D$2:H117)),\"\")","v":""},{"$f":"IFERROR(INDEX('Base Data wHSA (NCI Modified)'!$L$2:'Base Data wHSA (NCI Modified)'!$T$3142,'Base Data wHSA (NCI Modified)'!$K117,COLUMNS(COUNTIES!$D$2:I117)),\"\")","v":""},{"$f":"IFERROR(INDEX('Base Data wHSA (NCI Modified)'!$L$2:'Base Data wHSA (NCI Modified)'!$T$3142,'Base Data wHSA (NCI Modified)'!$K117,COLUMNS(COUNTIES!$D$2:J117)),\"\")","v":""},{"$f":"IFERROR(INDEX('Base Data wHSA (NCI Modified)'!$L$2:'Base Data wHSA (NCI Modified)'!$T$3142,'Base Data wHSA (NCI Modified)'!$K117,COLUMNS(COUNTIES!$D$2:K117)),\"\")","v":""},{"$f":"IFERROR(INDEX('Base Data wHSA (NCI Modified)'!$L$2:'Base Data wHSA (NCI Modified)'!$T$3142,'Base Data wHSA (NCI Modified)'!$K117,COLUMNS(COUNTIES!$D$2:L117)),\"\")","v":""}]
[{"$f":"ROWS($E$2:E118)","v":117},{"$f":"IF(E118=WORKSHEET!$B$2,A118,\"\")","v":""},"",{"$f":"IFERROR(INDEX('Base Data wHSA (NCI Modified)'!$L$2:'Base Data wHSA (NCI Modified)'!$T$3142,'Base Data wHSA (NCI Modified)'!$K118,COLUMNS(COUNTIES!$D$2:D118)),\"\")","v":""},{"$f":"IFERROR(INDEX('Base Data wHSA (NCI Modified)'!$L$2:'Base Data wHSA (NCI Modified)'!$T$3142,'Base Data wHSA (NCI Modified)'!$K118,COLUMNS(COUNTIES!$D$2:E118)),\"\")","v":""},{"$f":"IFERROR(INDEX('Base Data wHSA (NCI Modified)'!$L$2:'Base Data wHSA (NCI Modified)'!$T$3142,'Base Data wHSA (NCI Modified)'!$K118,COLUMNS(COUNTIES!$D$2:F118)),\"\")","v":""},{"$f":"IFERROR(INDEX('Base Data wHSA (NCI Modified)'!$L$2:'Base Data wHSA (NCI Modified)'!$T$3142,'Base Data wHSA (NCI Modified)'!$K118,COLUMNS(COUNTIES!$D$2:G118)),\"\")","v":""},{"$f":"IFERROR(INDEX('Base Data wHSA (NCI Modified)'!$L$2:'Base Data wHSA (NCI Modified)'!$T$3142,'Base Data wHSA (NCI Modified)'!$K118,COLUMNS(COUNTIES!$D$2:H118)),\"\")","v":""},{"$f":"IFERROR(INDEX('Base Data wHSA (NCI Modified)'!$L$2:'Base Data wHSA (NCI Modified)'!$T$3142,'Base Data wHSA (NCI Modified)'!$K118,COLUMNS(COUNTIES!$D$2:I118)),\"\")","v":""},{"$f":"IFERROR(INDEX('Base Data wHSA (NCI Modified)'!$L$2:'Base Data wHSA (NCI Modified)'!$T$3142,'Base Data wHSA (NCI Modified)'!$K118,COLUMNS(COUNTIES!$D$2:J118)),\"\")","v":""},{"$f":"IFERROR(INDEX('Base Data wHSA (NCI Modified)'!$L$2:'Base Data wHSA (NCI Modified)'!$T$3142,'Base Data wHSA (NCI Modified)'!$K118,COLUMNS(COUNTIES!$D$2:K118)),\"\")","v":""},{"$f":"IFERROR(INDEX('Base Data wHSA (NCI Modified)'!$L$2:'Base Data wHSA (NCI Modified)'!$T$3142,'Base Data wHSA (NCI Modified)'!$K118,COLUMNS(COUNTIES!$D$2:L118)),\"\")","v":""}]
[{"$f":"ROWS($E$2:E119)","v":118},{"$f":"IF(E119=WORKSHEET!$B$2,A119,\"\")","v":""},"",{"$f":"IFERROR(INDEX('Base Data wHSA (NCI Modified)'!$L$2:'Base Data wHSA (NCI Modified)'!$T$3142,'Base Data wHSA (NCI Modified)'!$K119,COLUMNS(COUNTIES!$D$2:D119)),\"\")","v":""},{"$f":"IFERROR(INDEX('Base Data wHSA (NCI Modified)'!$L$2:'Base Data wHSA (NCI Modified)'!$T$3142,'Base Data wHSA (NCI Modified)'!$K119,COLUMNS(COUNTIES!$D$2:E119)),\"\")","v":""},{"$f":"IFERROR(INDEX('Base Data wHSA (NCI Modified)'!$L$2:'Base Data wHSA (NCI Modified)'!$T$3142,'Base Data wHSA (NCI Modified)'!$K119,COLUMNS(COUNTIES!$D$2:F119)),\"\")","v":""},{"$f":"IFERROR(INDEX('Base Data wHSA (NCI Modified)'!$L$2:'Base Data wHSA (NCI Modified)'!$T$3142,'Base Data wHSA (NCI Modified)'!$K119,COLUMNS(COUNTIES!$D$2:G119)),\"\")","v":""},{"$f":"IFERROR(INDEX('Base Data wHSA (NCI Modified)'!$L$2:'Base Data wHSA (NCI Modified)'!$T$3142,'Base Data wHSA (NCI Modified)'!$K119,COLUMNS(COUNTIES!$D$2:H119)),\"\")","v":""},{"$f":"IFERROR(INDEX('Base Data wHSA (NCI Modified)'!$L$2:'Base Data wHSA (NCI Modified)'!$T$3142,'Base Data wHSA (NCI Modified)'!$K119,COLUMNS(COUNTIES!$D$2:I119)),\"\")","v":""},{"$f":"IFERROR(INDEX('Base Data wHSA (NCI Modified)'!$L$2:'Base Data wHSA (NCI Modified)'!$T$3142,'Base Data wHSA (NCI Modified)'!$K119,COLUMNS(COUNTIES!$D$2:J119)),\"\")","v":""},{"$f":"IFERROR(INDEX('Base Data wHSA (NCI Modified)'!$L$2:'Base Data wHSA (NCI Modified)'!$T$3142,'Base Data wHSA (NCI Modified)'!$K119,COLUMNS(COUNTIES!$D$2:K119)),\"\")","v":""},{"$f":"IFERROR(INDEX('Base Data wHSA (NCI Modified)'!$L$2:'Base Data wHSA (NCI Modified)'!$T$3142,'Base Data wHSA (NCI Modified)'!$K119,COLUMNS(COUNTIES!$D$2:L119)),\"\")","v":""}]
[{"$f":"ROWS($E$2:E120)","v":119},{"$f":"IF(E120=WORKSHEET!$B$2,A120,\"\")","v":""},"",{"$f":"IFERROR(INDEX('Base Data wHSA (NCI Modified)'!$L$2:'Base Data wHSA (NCI Modified)'!$T$3142,'Base Data wHSA (NCI Modified)'!$K120,COLUMNS(COUNTIES!$D$2:D120)),\"\")","v":""},{"$f":"IFERROR(INDEX('Base Data wHSA (NCI Modified)'!$L$2:'Base Data wHSA (NCI Modified)'!$T$3142,'Base Data wHSA (NCI Modified)'!$K120,COLUMNS(COUNTIES!$D$2:E120)),\"\")","v":""},{"$f":"IFERROR(INDEX('Base Data wHSA (NCI Modified)'!$L$2:'Base Data wHSA (NCI Modified)'!$T$3142,'Base Data wHSA (NCI Modified)'!$K120,COLUMNS(COUNTIES!$D$2:F120)),\"\")","v":""},{"$f":"IFERROR(INDEX('Base Data wHSA (NCI Modified)'!$L$2:'Base Data wHSA (NCI Modified)'!$T$3142,'Base Data wHSA (NCI Modified)'!$K120,COLUMNS(COUNTIES!$D$2:G120)),\"\")","v":""},{"$f":"IFERROR(INDEX('Base Data wHSA (NCI Modified)'!$L$2:'Base Data wHSA (NCI Modified)'!$T$3142,'Base Data wHSA (NCI Modified)'!$K120,COLUMNS(COUNTIES!$D$2:H120)),\"\")","v":""},{"$f":"IFERROR(INDEX('Base Data wHSA (NCI Modified)'!$L$2:'Base Data wHSA (NCI Modified)'!$T$3142,'Base Data wHSA (NCI Modified)'!$K120,COLUMNS(COUNTIES!$D$2:I120)),\"\")","v":""},{"$f":"IFERROR(INDEX('Base Data wHSA (NCI Modified)'!$L$2:'Base Data wHSA (NCI Modified)'!$T$3142,'Base Data wHSA (NCI Modified)'!$K120,COLUMNS(COUNTIES!$D$2:J120)),\"\")","v":""},{"$f":"IFERROR(INDEX('Base Data wHSA (NCI Modified)'!$L$2:'Base Data wHSA (NCI Modified)'!$T$3142,'Base Data wHSA (NCI Modified)'!$K120,COLUMNS(COUNTIES!$D$2:K120)),\"\")","v":""},{"$f":"IFERROR(INDEX('Base Data wHSA (NCI Modified)'!$L$2:'Base Data wHSA (NCI Modified)'!$T$3142,'Base Data wHSA (NCI Modified)'!$K120,COLUMNS(COUNTIES!$D$2:L120)),\"\")","v":""}]
[{"$f":"ROWS($E$2:E121)","v":120},{"$f":"IF(E121=WORKSHEET!$B$2,A121,\"\")","v":""},"",{"$f":"IFERROR(INDEX('Base Data wHSA (NCI Modified)'!$L$2:'Base Data wHSA (NCI Modified)'!$T$3142,'Base Data wHSA (NCI Modified)'!$K121,COLUMNS(COUNTIES!$D$2:D121)),\"\")","v":""},{"$f":"IFERROR(INDEX('Base Data wHSA (NCI Modified)'!$L$2:'Base Data wHSA (NCI Modified)'!$T$3142,'Base Data wHSA (NCI Modified)'!$K121,COLUMNS(COUNTIES!$D$2:E121)),\"\")","v":""},{"$f":"IFERROR(INDEX('Base Data wHSA (NCI Modified)'!$L$2:'Base Data wHSA (NCI Modified)'!$T$3142,'Base Data wHSA (NCI Modified)'!$K121,COLUMNS(COUNTIES!$D$2:F121)),\"\")","v":""},{"$f":"IFERROR(INDEX('Base Data wHSA (NCI Modified)'!$L$2:'Base Data wHSA (NCI Modified)'!$T$3142,'Base Data wHSA (NCI Modified)'!$K121,COLUMNS(COUNTIES!$D$2:G121)),\"\")","v":""},{"$f":"IFERROR(INDEX('Base Data wHSA (NCI Modified)'!$L$2:'Base Data wHSA (NCI Modified)'!$T$3142,'Base Data wHSA (NCI Modified)'!$K121,COLUMNS(COUNTIES!$D$2:H121)),\"\")","v":""},{"$f":"IFERROR(INDEX('Base Data wHSA (NCI Modified)'!$L$2:'Base Data wHSA (NCI Modified)'!$T$3142,'Base Data wHSA (NCI Modified)'!$K121,COLUMNS(COUNTIES!$D$2:I121)),\"\")","v":""},{"$f":"IFERROR(INDEX('Base Data wHSA (NCI Modified)'!$L$2:'Base Data wHSA (NCI Modified)'!$T$3142,'Base Data wHSA (NCI Modified)'!$K121,COLUMNS(COUNTIES!$D$2:J121)),\"\")","v":""},{"$f":"IFERROR(INDEX('Base Data wHSA (NCI Modified)'!$L$2:'Base Data wHSA (NCI Modified)'!$T$3142,'Base Data wHSA (NCI Modified)'!$K121,COLUMNS(COUNTIES!$D$2:K121)),\"\")","v":""},{"$f":"IFERROR(INDEX('Base Data wHSA (NCI Modified)'!$L$2:'Base Data wHSA (NCI Modified)'!$T$3142,'Base Data wHSA (NCI Modified)'!$K121,COLUMNS(COUNTIES!$D$2:L121)),\"\")","v":""}]
[{"$f":"ROWS($E$2:E122)","v":121},{"$f":"IF(E122=WORKSHEET!$B$2,A122,\"\")","v":""},"",{"$f":"IFERROR(INDEX('Base Data wHSA (NCI Modified)'!$L$2:'Base Data wHSA (NCI Modified)'!$T$3142,'Base Data wHSA (NCI Modified)'!$K122,COLUMNS(COUNTIES!$D$2:D122)),\"\")","v":""},{"$f":"IFERROR(INDEX('Base Data wHSA (NCI Modified)'!$L$2:'Base Data wHSA (NCI Modified)'!$T$3142,'Base Data wHSA (NCI Modified)'!$K122,COLUMNS(COUNTIES!$D$2:E122)),\"\")","v":""},{"$f":"IFERROR(INDEX('Base Data wHSA (NCI Modified)'!$L$2:'Base Data wHSA (NCI Modified)'!$T$3142,'Base Data wHSA (NCI Modified)'!$K122,COLUMNS(COUNTIES!$D$2:F122)),\"\")","v":""},{"$f":"IFERROR(INDEX('Base Data wHSA (NCI Modified)'!$L$2:'Base Data wHSA (NCI Modified)'!$T$3142,'Base Data wHSA (NCI Modified)'!$K122,COLUMNS(COUNTIES!$D$2:G122)),\"\")","v":""},{"$f":"IFERROR(INDEX('Base Data wHSA (NCI Modified)'!$L$2:'Base Data wHSA (NCI Modified)'!$T$3142,'Base Data wHSA (NCI Modified)'!$K122,COLUMNS(COUNTIES!$D$2:H122)),\"\")","v":""},{"$f":"IFERROR(INDEX('Base Data wHSA (NCI Modified)'!$L$2:'Base Data wHSA (NCI Modified)'!$T$3142,'Base Data wHSA (NCI Modified)'!$K122,COLUMNS(COUNTIES!$D$2:I122)),\"\")","v":""},{"$f":"IFERROR(INDEX('Base Data wHSA (NCI Modified)'!$L$2:'Base Data wHSA (NCI Modified)'!$T$3142,'Base Data wHSA (NCI Modified)'!$K122,COLUMNS(COUNTIES!$D$2:J122)),\"\")","v":""},{"$f":"IFERROR(INDEX('Base Data wHSA (NCI Modified)'!$L$2:'Base Data wHSA (NCI Modified)'!$T$3142,'Base Data wHSA (NCI Modified)'!$K122,COLUMNS(COUNTIES!$D$2:K122)),\"\")","v":""},{"$f":"IFERROR(INDEX('Base Data wHSA (NCI Modified)'!$L$2:'Base Data wHSA (NCI Modified)'!$T$3142,'Base Data wHSA (NCI Modified)'!$K122,COLUMNS(COUNTIES!$D$2:L122)),\"\")","v":""}]
[{"$f":"ROWS($E$2:E123)","v":122},{"$f":"IF(E123=WORKSHEET!$B$2,A123,\"\")","v":""},"",{"$f":"IFERROR(INDEX('Base Data wHSA (NCI Modified)'!$L$2:'Base Data wHSA (NCI Modified)'!$T$3142,'Base Data wHSA (NCI Modified)'!$K123,COLUMNS(COUNTIES!$D$2:D123)),\"\")","v":""},{"$f":"IFERROR(INDEX('Base Data wHSA (NCI Modified)'!$L$2:'Base Data wHSA (NCI Modified)'!$T$3142,'Base Data wHSA (NCI Modified)'!$K123,COLUMNS(COUNTIES!$D$2:E123)),\"\")","v":""},{"$f":"IFERROR(INDEX('Base Data wHSA (NCI Modified)'!$L$2:'Base Data wHSA (NCI Modified)'!$T$3142,'Base Data wHSA (NCI Modified)'!$K123,COLUMNS(COUNTIES!$D$2:F123)),\"\")","v":""},{"$f":"IFERROR(INDEX('Base Data wHSA (NCI Modified)'!$L$2:'Base Data wHSA (NCI Modified)'!$T$3142,'Base Data wHSA (NCI Modified)'!$K123,COLUMNS(COUNTIES!$D$2:G123)),\"\")","v":""},{"$f":"IFERROR(INDEX('Base Data wHSA (NCI Modified)'!$L$2:'Base Data wHSA (NCI Modified)'!$T$3142,'Base Data wHSA (NCI Modified)'!$K123,COLUMNS(COUNTIES!$D$2:H123)),\"\")","v":""},{"$f":"IFERROR(INDEX('Base Data wHSA (NCI Modified)'!$L$2:'Base Data wHSA (NCI Modified)'!$T$3142,'Base Data wHSA (NCI Modified)'!$K123,COLUMNS(COUNTIES!$D$2:I123)),\"\")","v":""},{"$f":"IFERROR(INDEX('Base Data wHSA (NCI Modified)'!$L$2:'Base Data wHSA (NCI Modified)'!$T$3142,'Base Data wHSA (NCI Modified)'!$K123,COLUMNS(COUNTIES!$D$2:J123)),\"\")","v":""},{"$f":"IFERROR(INDEX('Base Data wHSA (NCI Modified)'!$L$2:'Base Data wHSA (NCI Modified)'!$T$3142,'Base Data wHSA (NCI Modified)'!$K123,COLUMNS(COUNTIES!$D$2:K123)),\"\")","v":""},{"$f":"IFERROR(INDEX('Base Data wHSA (NCI Modified)'!$L$2:'Base Data wHSA (NCI Modified)'!$T$3142,'Base Data wHSA (NCI Modified)'!$K123,COLUMNS(COUNTIES!$D$2:L123)),\"\")","v":""}]
[{"$f":"ROWS($E$2:E124)","v":123},{"$f":"IF(E124=WORKSHEET!$B$2,A124,\"\")","v":""},"",{"$f":"IFERROR(INDEX('Base Data wHSA (NCI Modified)'!$L$2:'Base Data wHSA (NCI Modified)'!$T$3142,'Base Data wHSA (NCI Modified)'!$K124,COLUMNS(COUNTIES!$D$2:D124)),\"\")","v":""},{"$f":"IFERROR(INDEX('Base Data wHSA (NCI Modified)'!$L$2:'Base Data wHSA (NCI Modified)'!$T$3142,'Base Data wHSA (NCI Modified)'!$K124,COLUMNS(COUNTIES!$D$2:E124)),\"\")","v":""},{"$f":"IFERROR(INDEX('Base Data wHSA (NCI Modified)'!$L$2:'Base Data wHSA (NCI Modified)'!$T$3142,'Base Data wHSA (NCI Modified)'!$K124,COLUMNS(COUNTIES!$D$2:F124)),\"\")","v":""},{"$f":"IFERROR(INDEX('Base Data wHSA (NCI Modified)'!$L$2:'Base Data wHSA (NCI Modified)'!$T$3142,'Base Data wHSA (NCI Modified)'!$K124,COLUMNS(COUNTIES!$D$2:G124)),\"\")","v":""},{"$f":"IFERROR(INDEX('Base Data wHSA (NCI Modified)'!$L$2:'Base Data wHSA (NCI Modified)'!$T$3142,'Base Data wHSA (NCI Modified)'!$K124,COLUMNS(COUNTIES!$D$2:H124)),\"\")","v":""},{"$f":"IFERROR(INDEX('Base Data wHSA (NCI Modified)'!$L$2:'Base Data wHSA (NCI Modified)'!$T$3142,'Base Data wHSA (NCI Modified)'!$K124,COLUMNS(COUNTIES!$D$2:I124)),\"\")","v":""},{"$f":"IFERROR(INDEX('Base Data wHSA (NCI Modified)'!$L$2:'Base Data wHSA (NCI Modified)'!$T$3142,'Base Data wHSA (NCI Modified)'!$K124,COLUMNS(COUNTIES!$D$2:J124)),\"\")","v":""},{"$f":"IFERROR(INDEX('Base Data wHSA (NCI Modified)'!$L$2:'Base Data wHSA (NCI Modified)'!$T$3142,'Base Data wHSA (NCI Modified)'!$K124,COLUMNS(COUNTIES!$D$2:K124)),\"\")","v":""},{"$f":"IFERROR(INDEX('Base Data wHSA (NCI Modified)'!$L$2:'Base Data wHSA (NCI Modified)'!$T$3142,'Base Data wHSA (NCI Modified)'!$K124,COLUMNS(COUNTIES!$D$2:L124)),\"\")","v":""}]
[{"$f":"ROWS($E$2:E125)","v":124},{"$f":"IF(E125=WORKSHEET!$B$2,A125,\"\")","v":""},"",{"$f":"IFERROR(INDEX('Base Data wHSA (NCI Modified)'!$L$2:'Base Data wHSA (NCI Modified)'!$T$3142,'Base Data wHSA (NCI Modified)'!$K125,COLUMNS(COUNTIES!$D$2:D125)),\"\")","v":""},{"$f":"IFERROR(INDEX('Base Data wHSA (NCI Modified)'!$L$2:'Base Data wHSA (NCI Modified)'!$T$3142,'Base Data wHSA (NCI Modified)'!$K125,COLUMNS(COUNTIES!$D$2:E125)),\"\")","v":""},{"$f":"IFERROR(INDEX('Base Data wHSA (NCI Modified)'!$L$2:'Base Data wHSA (NCI Modified)'!$T$3142,'Base Data wHSA (NCI Modified)'!$K125,COLUMNS(COUNTIES!$D$2:F125)),\"\")","v":""},{"$f":"IFERROR(INDEX('Base Data wHSA (NCI Modified)'!$L$2:'Base Data wHSA (NCI Modified)'!$T$3142,'Base Data wHSA (NCI Modified)'!$K125,COLUMNS(COUNTIES!$D$2:G125)),\"\")","v":""},{"$f":"IFERROR(INDEX('Base Data wHSA (NCI Modified)'!$L$2:'Base Data wHSA (NCI Modified)'!$T$3142,'Base Data wHSA (NCI Modified)'!$K125,COLUMNS(COUNTIES!$D$2:H125)),\"\")","v":""},{"$f":"IFERROR(INDEX('Base Data wHSA (NCI Modified)'!$L$2:'Base Data wHSA (NCI Modified)'!$T$3142,'Base Data wHSA (NCI Modified)'!$K125,COLUMNS(COUNTIES!$D$2:I125)),\"\")","v":""},{"$f":"IFERROR(INDEX('Base Data wHSA (NCI Modified)'!$L$2:'Base Data wHSA (NCI Modified)'!$T$3142,'Base Data wHSA (NCI Modified)'!$K125,COLUMNS(COUNTIES!$D$2:J125)),\"\")","v":""},{"$f":"IFERROR(INDEX('Base Data wHSA (NCI Modified)'!$L$2:'Base Data wHSA (NCI Modified)'!$T$3142,'Base Data wHSA (NCI Modified)'!$K125,COLUMNS(COUNTIES!$D$2:K125)),\"\")","v":""},{"$f":"IFERROR(INDEX('Base Data wHSA (NCI Modified)'!$L$2:'Base Data wHSA (NCI Modified)'!$T$3142,'Base Data wHSA (NCI Modified)'!$K125,COLUMNS(COUNTIES!$D$2:L125)),\"\")","v":""}]
[{"$f":"ROWS($E$2:E126)","v":125},{"$f":"IF(E126=WORKSHEET!$B$2,A126,\"\")","v":""},"",{"$f":"IFERROR(INDEX('Base Data wHSA (NCI Modified)'!$L$2:'Base Data wHSA (NCI Modified)'!$T$3142,'Base Data wHSA (NCI Modified)'!$K126,COLUMNS(COUNTIES!$D$2:D126)),\"\")","v":""},{"$f":"IFERROR(INDEX('Base Data wHSA (NCI Modified)'!$L$2:'Base Data wHSA (NCI Modified)'!$T$3142,'Base Data wHSA (NCI Modified)'!$K126,COLUMNS(COUNTIES!$D$2:E126)),\"\")","v":""},{"$f":"IFERROR(INDEX('Base Data wHSA (NCI Modified)'!$L$2:'Base Data wHSA (NCI Modified)'!$T$3142,'Base Data wHSA (NCI Modified)'!$K126,COLUMNS(COUNTIES!$D$2:F126)),\"\")","v":""},{"$f":"IFERROR(INDEX('Base Data wHSA (NCI Modified)'!$L$2:'Base Data wHSA (NCI Modified)'!$T$3142,'Base Data wHSA (NCI Modified)'!$K126,COLUMNS(COUNTIES!$D$2:G126)),\"\")","v":""},{"$f":"IFERROR(INDEX('Base Data wHSA (NCI Modified)'!$L$2:'Base Data wHSA (NCI Modified)'!$T$3142,'Base Data wHSA (NCI Modified)'!$K126,COLUMNS(COUNTIES!$D$2:H126)),\"\")","v":""},{"$f":"IFERROR(INDEX('Base Data wHSA (NCI Modified)'!$L$2:'Base Data wHSA (NCI Modified)'!$T$3142,'Base Data wHSA (NCI Modified)'!$K126,COLUMNS(COUNTIES!$D$2:I126)),\"\")","v":""},{"$f":"IFERROR(INDEX('Base Data wHSA (NCI Modified)'!$L$2:'Base Data wHSA (NCI Modified)'!$T$3142,'Base Data wHSA (NCI Modified)'!$K126,COLUMNS(COUNTIES!$D$2:J126)),\"\")","v":""},{"$f":"IFERROR(INDEX('Base Data wHSA (NCI Modified)'!$L$2:'Base Data wHSA (NCI Modified)'!$T$3142,'Base Data wHSA (NCI Modified)'!$K126,COLUMNS(COUNTIES!$D$2:K126)),\"\")","v":""},{"$f":"IFERROR(INDEX('Base Data wHSA (NCI Modified)'!$L$2:'Base Data wHSA (NCI Modified)'!$T$3142,'Base Data wHSA (NCI Modified)'!$K126,COLUMNS(COUNTIES!$D$2:L126)),\"\")","v":""}]
[{"$f":"ROWS($E$2:E127)","v":126},{"$f":"IF(E127=WORKSHEET!$B$2,A127,\"\")","v":""},"",{"$f":"IFERROR(INDEX('Base Data wHSA (NCI Modified)'!$L$2:'Base Data wHSA (NCI Modified)'!$T$3142,'Base Data wHSA (NCI Modified)'!$K127,COLUMNS(COUNTIES!$D$2:D127)),\"\")","v":""},{"$f":"IFERROR(INDEX('Base Data wHSA (NCI Modified)'!$L$2:'Base Data wHSA (NCI Modified)'!$T$3142,'Base Data wHSA (NCI Modified)'!$K127,COLUMNS(COUNTIES!$D$2:E127)),\"\")","v":""},{"$f":"IFERROR(INDEX('Base Data wHSA (NCI Modified)'!$L$2:'Base Data wHSA (NCI Modified)'!$T$3142,'Base Data wHSA (NCI Modified)'!$K127,COLUMNS(COUNTIES!$D$2:F127)),\"\")","v":""},{"$f":"IFERROR(INDEX('Base Data wHSA (NCI Modified)'!$L$2:'Base Data wHSA (NCI Modified)'!$T$3142,'Base Data wHSA (NCI Modified)'!$K127,COLUMNS(COUNTIES!$D$2:G127)),\"\")","v":""},{"$f":"IFERROR(INDEX('Base Data wHSA (NCI Modified)'!$L$2:'Base Data wHSA (NCI Modified)'!$T$3142,'Base Data wHSA (NCI Modified)'!$K127,COLUMNS(COUNTIES!$D$2:H127)),\"\")","v":""},{"$f":"IFERROR(INDEX('Base Data wHSA (NCI Modified)'!$L$2:'Base Data wHSA (NCI Modified)'!$T$3142,'Base Data wHSA (NCI Modified)'!$K127,COLUMNS(COUNTIES!$D$2:I127)),\"\")","v":""},{"$f":"IFERROR(INDEX('Base Data wHSA (NCI Modified)'!$L$2:'Base Data wHSA (NCI Modified)'!$T$3142,'Base Data wHSA (NCI Modified)'!$K127,COLUMNS(COUNTIES!$D$2:J127)),\"\")","v":""},{"$f":"IFERROR(INDEX('Base Data wHSA (NCI Modified)'!$L$2:'Base Data wHSA (NCI Modified)'!$T$3142,'Base Data wHSA (NCI Modified)'!$K127,COLUMNS(COUNTIES!$D$2:K127)),\"\")","v":""},{"$f":"IFERROR(INDEX('Base Data wHSA (NCI Modified)'!$L$2:'Base Data wHSA (NCI Modified)'!$T$3142,'Base Data wHSA (NCI Modified)'!$K127,COLUMNS(COUNTIES!$D$2:L127)),\"\")","v":""}]
[{"$f":"ROWS($E$2:E128)","v":127},{"$f":"IF(E128=WORKSHEET!$B$2,A128,\"\")","v":""},"",{"$f":"IFERROR(INDEX('Base Data wHSA (NCI Modified)'!$L$2:'Base Data wHSA (NCI Modified)'!$T$3142,'Base Data wHSA (NCI Modified)'!$K128,COLUMNS(COUNTIES!$D$2:D128)),\"\")","v":""},{"$f":"IFERROR(INDEX('Base Data wHSA (NCI Modified)'!$L$2:'Base Data wHSA (NCI Modified)'!$T$3142,'Base Data wHSA (NCI Modified)'!$K128,COLUMNS(COUNTIES!$D$2:E128)),\"\")","v":""},{"$f":"IFERROR(INDEX('Base Data wHSA (NCI Modified)'!$L$2:'Base Data wHSA (NCI Modified)'!$T$3142,'Base Data wHSA (NCI Modified)'!$K128,COLUMNS(COUNTIES!$D$2:F128)),\"\")","v":""},{"$f":"IFERROR(INDEX('Base Data wHSA (NCI Modified)'!$L$2:'Base Data wHSA (NCI Modified)'!$T$3142,'Base Data wHSA (NCI Modified)'!$K128,COLUMNS(COUNTIES!$D$2:G128)),\"\")","v":""},{"$f":"IFERROR(INDEX('Base Data wHSA (NCI Modified)'!$L$2:'Base Data wHSA (NCI Modified)'!$T$3142,'Base Data wHSA (NCI Modified)'!$K128,COLUMNS(COUNTIES!$D$2:H128)),\"\")","v":""},{"$f":"IFERROR(INDEX('Base Data wHSA (NCI Modified)'!$L$2:'Base Data wHSA (NCI Modified)'!$T$3142,'Base Data wHSA (NCI Modified)'!$K128,COLUMNS(COUNTIES!$D$2:I128)),\"\")","v":""},{"$f":"IFERROR(INDEX('Base Data wHSA (NCI Modified)'!$L$2:'Base Data wHSA (NCI Modified)'!$T$3142,'Base Data wHSA (NCI Modified)'!$K128,COLUMNS(COUNTIES!$D$2:J128)),\"\")","v":""},{"$f":"IFERROR(INDEX('Base Data wHSA (NCI Modified)'!$L$2:'Base Data wHSA (NCI Modified)'!$T$3142,'Base Data wHSA (NCI Modified)'!$K128,COLUMNS(COUNTIES!$D$2:K128)),\"\")","v":""},{"$f":"IFERROR(INDEX('Base Data wHSA (NCI Modified)'!$L$2:'Base Data wHSA (NCI Modified)'!$T$3142,'Base Data wHSA (NCI Modified)'!$K128,COLUMNS(COUNTIES!$D$2:L128)),\"\")","v":""}]
[{"$f":"ROWS($E$2:E129)","v":128},{"$f":"IF(E129=WORKSHEET!$B$2,A129,\"\")","v":""},"",{"$f":"IFERROR(INDEX('Base Data wHSA (NCI Modified)'!$L$2:'Base Data wHSA (NCI Modified)'!$T$3142,'Base Data wHSA (NCI Modified)'!$K129,COLUMNS(COUNTIES!$D$2:D129)),\"\")","v":""},{"$f":"IFERROR(INDEX('Base Data wHSA (NCI Modified)'!$L$2:'Base Data wHSA (NCI Modified)'!$T$3142,'Base Data wHSA (NCI Modified)'!$K129,COLUMNS(COUNTIES!$D$2:E129)),\"\")","v":""},{"$f":"IFERROR(INDEX('Base Data wHSA (NCI Modified)'!$L$2:'Base Data wHSA (NCI Modified)'!$T$3142,'Base Data wHSA (NCI Modified)'!$K129,COLUMNS(COUNTIES!$D$2:F129)),\"\")","v":""},{"$f":"IFERROR(INDEX('Base Data wHSA (NCI Modified)'!$L$2:'Base Data wHSA (NCI Modified)'!$T$3142,'Base Data wHSA (NCI Modified)'!$K129,COLUMNS(COUNTIES!$D$2:G129)),\"\")","v":""},{"$f":"IFERROR(INDEX('Base Data wHSA (NCI Modified)'!$L$2:'Base Data wHSA (NCI Modified)'!$T$3142,'Base Data wHSA (NCI Modified)'!$K129,COLUMNS(COUNTIES!$D$2:H129)),\"\")","v":""},{"$f":"IFERROR(INDEX('Base Data wHSA (NCI Modified)'!$L$2:'Base Data wHSA (NCI Modified)'!$T$3142,'Base Data wHSA (NCI Modified)'!$K129,COLUMNS(COUNTIES!$D$2:I129)),\"\")","v":""},{"$f":"IFERROR(INDEX('Base Data wHSA (NCI Modified)'!$L$2:'Base Data wHSA (NCI Modified)'!$T$3142,'Base Data wHSA (NCI Modified)'!$K129,COLUMNS(COUNTIES!$D$2:J129)),\"\")","v":""},{"$f":"IFERROR(INDEX('Base Data wHSA (NCI Modified)'!$L$2:'Base Data wHSA (NCI Modified)'!$T$3142,'Base Data wHSA (NCI Modified)'!$K129,COLUMNS(COUNTIES!$D$2:K129)),\"\")","v":""},{"$f":"IFERROR(INDEX('Base Data wHSA (NCI Modified)'!$L$2:'Base Data wHSA (NCI Modified)'!$T$3142,'Base Data wHSA (NCI Modified)'!$K129,COLUMNS(COUNTIES!$D$2:L129)),\"\")","v":""}]
[{"$f":"ROWS($E$2:E130)","v":129},{"$f":"IF(E130=WORKSHEET!$B$2,A130,\"\")","v":""},"",{"$f":"IFERROR(INDEX('Base Data wHSA (NCI Modified)'!$L$2:'Base Data wHSA (NCI Modified)'!$T$3142,'Base Data wHSA (NCI Modified)'!$K130,COLUMNS(COUNTIES!$D$2:D130)),\"\")","v":""},{"$f":"IFERROR(INDEX('Base Data wHSA (NCI Modified)'!$L$2:'Base Data wHSA (NCI Modified)'!$T$3142,'Base Data wHSA (NCI Modified)'!$K130,COLUMNS(COUNTIES!$D$2:E130)),\"\")","v":""},{"$f":"IFERROR(INDEX('Base Data wHSA (NCI Modified)'!$L$2:'Base Data wHSA (NCI Modified)'!$T$3142,'Base Data wHSA (NCI Modified)'!$K130,COLUMNS(COUNTIES!$D$2:F130)),\"\")","v":""},{"$f":"IFERROR(INDEX('Base Data wHSA (NCI Modified)'!$L$2:'Base Data wHSA (NCI Modified)'!$T$3142,'Base Data wHSA (NCI Modified)'!$K130,COLUMNS(COUNTIES!$D$2:G130)),\"\")","v":""},{"$f":"IFERROR(INDEX('Base Data wHSA (NCI Modified)'!$L$2:'Base Data wHSA (NCI Modified)'!$T$3142,'Base Data wHSA (NCI Modified)'!$K130,COLUMNS(COUNTIES!$D$2:H130)),\"\")","v":""},{"$f":"IFERROR(INDEX('Base Data wHSA (NCI Modified)'!$L$2:'Base Data wHSA (NCI Modified)'!$T$3142,'Base Data wHSA (NCI Modified)'!$K130,COLUMNS(COUNTIES!$D$2:I130)),\"\")","v":""},{"$f":"IFERROR(INDEX('Base Data wHSA (NCI Modified)'!$L$2:'Base Data wHSA (NCI Modified)'!$T$3142,'Base Data wHSA (NCI Modified)'!$K130,COLUMNS(COUNTIES!$D$2:J130)),\"\")","v":""},{"$f":"IFERROR(INDEX('Base Data wHSA (NCI Modified)'!$L$2:'Base Data wHSA (NCI Modified)'!$T$3142,'Base Data wHSA (NCI Modified)'!$K130,COLUMNS(COUNTIES!$D$2:K130)),\"\")","v":""},{"$f":"IFERROR(INDEX('Base Data wHSA (NCI Modified)'!$L$2:'Base Data wHSA (NCI Modified)'!$T$3142,'Base Data wHSA (NCI Modified)'!$K130,COLUMNS(COUNTIES!$D$2:L130)),\"\")","v":""}]
[{"$f":"ROWS($E$2:E131)","v":130},{"$f":"IF(E131=WORKSHEET!$B$2,A131,\"\")","v":""},"",{"$f":"IFERROR(INDEX('Base Data wHSA (NCI Modified)'!$L$2:'Base Data wHSA (NCI Modified)'!$T$3142,'Base Data wHSA (NCI Modified)'!$K131,COLUMNS(COUNTIES!$D$2:D131)),\"\")","v":""},{"$f":"IFERROR(INDEX('Base Data wHSA (NCI Modified)'!$L$2:'Base Data wHSA (NCI Modified)'!$T$3142,'Base Data wHSA (NCI Modified)'!$K131,COLUMNS(COUNTIES!$D$2:E131)),\"\")","v":""},{"$f":"IFERROR(INDEX('Base Data wHSA (NCI Modified)'!$L$2:'Base Data wHSA (NCI Modified)'!$T$3142,'Base Data wHSA (NCI Modified)'!$K131,COLUMNS(COUNTIES!$D$2:F131)),\"\")","v":""},{"$f":"IFERROR(INDEX('Base Data wHSA (NCI Modified)'!$L$2:'Base Data wHSA (NCI Modified)'!$T$3142,'Base Data wHSA (NCI Modified)'!$K131,COLUMNS(COUNTIES!$D$2:G131)),\"\")","v":""},{"$f":"IFERROR(INDEX('Base Data wHSA (NCI Modified)'!$L$2:'Base Data wHSA (NCI Modified)'!$T$3142,'Base Data wHSA (NCI Modified)'!$K131,COLUMNS(COUNTIES!$D$2:H131)),\"\")","v":""},{"$f":"IFERROR(INDEX('Base Data wHSA (NCI Modified)'!$L$2:'Base Data wHSA (NCI Modified)'!$T$3142,'Base Data wHSA (NCI Modified)'!$K131,COLUMNS(COUNTIES!$D$2:I131)),\"\")","v":""},{"$f":"IFERROR(INDEX('Base Data wHSA (NCI Modified)'!$L$2:'Base Data wHSA (NCI Modified)'!$T$3142,'Base Data wHSA (NCI Modified)'!$K131,COLUMNS(COUNTIES!$D$2:J131)),\"\")","v":""},{"$f":"IFERROR(INDEX('Base Data wHSA (NCI Modified)'!$L$2:'Base Data wHSA (NCI Modified)'!$T$3142,'Base Data wHSA (NCI Modified)'!$K131,COLUMNS(COUNTIES!$D$2:K131)),\"\")","v":""},{"$f":"IFERROR(INDEX('Base Data wHSA (NCI Modified)'!$L$2:'Base Data wHSA (NCI Modified)'!$T$3142,'Base Data wHSA (NCI Modified)'!$K131,COLUMNS(COUNTIES!$D$2:L131)),\"\")","v":""}]
[{"$f":"ROWS($E$2:E132)","v":131},{"$f":"IF(E132=WORKSHEET!$B$2,A132,\"\")","v":""},{"$f":"IFERROR(SMALL($B$2:$B$255,A132),\"\")","v":""},{"$f":"IFERROR(INDEX('Base Data wHSA (NCI Modified)'!$L$2:'Base Data wHSA (NCI Modified)'!$T$3142,'Base Data wHSA (NCI Modified)'!$K132,COLUMNS(COUNTIES!$D$2:D132)),\"\")","v":""},{"$f":"IFERROR(INDEX('Base Data wHSA (NCI Modified)'!$L$2:'Base Data wHSA (NCI Modified)'!$T$3142,'Base Data wHSA (NCI Modified)'!$K132,COLUMNS(COUNTIES!$D$2:E132)),\"\")","v":""},{"$f":"IFERROR(INDEX('Base Data wHSA (NCI Modified)'!$L$2:'Base Data wHSA (NCI Modified)'!$T$3142,'Base Data wHSA (NCI Modified)'!$K132,COLUMNS(COUNTIES!$D$2:F132)),\"\")","v":""},{"$f":"IFERROR(INDEX('Base Data wHSA (NCI Modified)'!$L$2:'Base Data wHSA (NCI Modified)'!$T$3142,'Base Data wHSA (NCI Modified)'!$K132,COLUMNS(COUNTIES!$D$2:G132)),\"\")","v":""},{"$f":"IFERROR(INDEX('Base Data wHSA (NCI Modified)'!$L$2:'Base Data wHSA (NCI Modified)'!$T$3142,'Base Data wHSA (NCI Modified)'!$K132,COLUMNS(COUNTIES!$D$2:H132)),\"\")","v":""},{"$f":"IFERROR(INDEX('Base Data wHSA (NCI Modified)'!$L$2:'Base Data wHSA (NCI Modified)'!$T$3142,'Base Data wHSA (NCI Modified)'!$K132,COLUMNS(COUNTIES!$D$2:I132)),\"\")","v":""},{"$f":"IFERROR(INDEX('Base Data wHSA (NCI Modified)'!$L$2:'Base Data wHSA (NCI Modified)'!$T$3142,'Base Data wHSA (NCI Modified)'!$K132,COLUMNS(COUNTIES!$D$2:J132)),\"\")","v":""},{"$f":"IFERROR(INDEX('Base Data wHSA (NCI Modified)'!$L$2:'Base Data wHSA (NCI Modified)'!$T$3142,'Base Data wHSA (NCI Modified)'!$K132,COLUMNS(COUNTIES!$D$2:K132)),\"\")","v":""},{"$f":"IFERROR(INDEX('Base Data wHSA (NCI Modified)'!$L$2:'Base Data wHSA (NCI Modified)'!$T$3142,'Base Data wHSA (NCI Modified)'!$K132,COLUMNS(COUNTIES!$D$2:L132)),\"\")","v":""}]
[{"$f":"ROWS($E$2:E133)","v":132},{"$f":"IF(E133=WORKSHEET!$B$2,A133,\"\")","v":""},"",{"$f":"IFERROR(INDEX('Base Data wHSA (NCI Modified)'!$L$2:'Base Data wHSA (NCI Modified)'!$T$3142,'Base Data wHSA (NCI Modified)'!$K133,COLUMNS(COUNTIES!$D$2:D133)),\"\")","v":""},{"$f":"IFERROR(INDEX('Base Data wHSA (NCI Modified)'!$L$2:'Base Data wHSA (NCI Modified)'!$T$3142,'Base Data wHSA (NCI Modified)'!$K133,COLUMNS(COUNTIES!$D$2:E133)),\"\")","v":""},{"$f":"IFERROR(INDEX('Base Data wHSA (NCI Modified)'!$L$2:'Base Data wHSA (NCI Modified)'!$T$3142,'Base Data wHSA (NCI Modified)'!$K133,COLUMNS(COUNTIES!$D$2:F133)),\"\")","v":""},{"$f":"IFERROR(INDEX('Base Data wHSA (NCI Modified)'!$L$2:'Base Data wHSA (NCI Modified)'!$T$3142,'Base Data wHSA (NCI Modified)'!$K133,COLUMNS(COUNTIES!$D$2:G133)),\"\")","v":""},{"$f":"IFERROR(INDEX('Base Data wHSA (NCI Modified)'!$L$2:'Base Data wHSA (NCI Modified)'!$T$3142,'Base Data wHSA (NCI Modified)'!$K133,COLUMNS(COUNTIES!$D$2:H133)),\"\")","v":""},{"$f":"IFERROR(INDEX('Base Data wHSA (NCI Modified)'!$L$2:'Base Data wHSA (NCI Modified)'!$T$3142,'Base Data wHSA (NCI Modified)'!$K133,COLUMNS(COUNTIES!$D$2:I133)),\"\")","v":""},{"$f":"IFERROR(INDEX('Base Data wHSA (NCI Modified)'!$L$2:'Base Data wHSA (NCI Modified)'!$T$3142,'Base Data wHSA (NCI Modified)'!$K133,COLUMNS(COUNTIES!$D$2:J133)),\"\")","v":""},{"$f":"IFERROR(INDEX('Base Data wHSA (NCI Modified)'!$L$2:'Base Data wHSA (NCI Modified)'!$T$3142,'Base Data wHSA (NCI Modified)'!$K133,COLUMNS(COUNTIES!$D$2:K133)),\"\")","v":""},{"$f":"IFERROR(INDEX('Base Data wHSA (NCI Modified)'!$L$2:'Base Data wHSA (NCI Modified)'!$T$3142,'Base Data wHSA (NCI Modified)'!$K133,COLUMNS(COUNTIES!$D$2:L133)),\"\")","v":""}]
[{"$f":"ROWS($E$2:E134)","v":133},{"$f":"IF(E134=WORKSHEET!$B$2,A134,\"\")","v":""},"",{"$f":"IFERROR(INDEX('Base Data wHSA (NCI Modified)'!$L$2:'Base Data wHSA (NCI Modified)'!$T$3142,'Base Data wHSA (NCI Modified)'!$K134,COLUMNS(COUNTIES!$D$2:D134)),\"\")","v":""},{"$f":"IFERROR(INDEX('Base Data wHSA (NCI Modified)'!$L$2:'Base Data wHSA (NCI Modified)'!$T$3142,'Base Data wHSA (NCI Modified)'!$K134,COLUMNS(COUNTIES!$D$2:E134)),\"\")","v":""},{"$f":"IFERROR(INDEX('Base Data wHSA (NCI Modified)'!$L$2:'Base Data wHSA (NCI Modified)'!$T$3142,'Base Data wHSA (NCI Modified)'!$K134,COLUMNS(COUNTIES!$D$2:F134)),\"\")","v":""},{"$f":"IFERROR(INDEX('Base Data wHSA (NCI Modified)'!$L$2:'Base Data wHSA (NCI Modified)'!$T$3142,'Base Data wHSA (NCI Modified)'!$K134,COLUMNS(COUNTIES!$D$2:G134)),\"\")","v":""},{"$f":"IFERROR(INDEX('Base Data wHSA (NCI Modified)'!$L$2:'Base Data wHSA (NCI Modified)'!$T$3142,'Base Data wHSA (NCI Modified)'!$K134,COLUMNS(COUNTIES!$D$2:H134)),\"\")","v":""},{"$f":"IFERROR(INDEX('Base Data wHSA (NCI Modified)'!$L$2:'Base Data wHSA (NCI Modified)'!$T$3142,'Base Data wHSA (NCI Modified)'!$K134,COLUMNS(COUNTIES!$D$2:I134)),\"\")","v":""},{"$f":"IFERROR(INDEX('Base Data wHSA (NCI Modified)'!$L$2:'Base Data wHSA (NCI Modified)'!$T$3142,'Base Data wHSA (NCI Modified)'!$K134,COLUMNS(COUNTIES!$D$2:J134)),\"\")","v":""},{"$f":"IFERROR(INDEX('Base Data wHSA (NCI Modified)'!$L$2:'Base Data wHSA (NCI Modified)'!$T$3142,'Base Data wHSA (NCI Modified)'!$K134,COLUMNS(COUNTIES!$D$2:K134)),\"\")","v":""},{"$f":"IFERROR(INDEX('Base Data wHSA (NCI Modified)'!$L$2:'Base Data wHSA (NCI Modified)'!$T$3142,'Base Data wHSA (NCI Modified)'!$K134,COLUMNS(COUNTIES!$D$2:L134)),\"\")","v":""}]
[{"$f":"ROWS($E$2:E135)","v":134},{"$f":"IF(E135=WORKSHEET!$B$2,A135,\"\")","v":""},"",{"$f":"IFERROR(INDEX('Base Data wHSA (NCI Modified)'!$L$2:'Base Data wHSA (NCI Modified)'!$T$3142,'Base Data wHSA (NCI Modified)'!$K135,COLUMNS(COUNTIES!$D$2:D135)),\"\")","v":""},{"$f":"IFERROR(INDEX('Base Data wHSA (NCI Modified)'!$L$2:'Base Data wHSA (NCI Modified)'!$T$3142,'Base Data wHSA (NCI Modified)'!$K135,COLUMNS(COUNTIES!$D$2:E135)),\"\")","v":""},{"$f":"IFERROR(INDEX('Base Data wHSA (NCI Modified)'!$L$2:'Base Data wHSA (NCI Modified)'!$T$3142,'Base Data wHSA (NCI Modified)'!$K135,COLUMNS(COUNTIES!$D$2:F135)),\"\")","v":""},{"$f":"IFERROR(INDEX('Base Data wHSA (NCI Modified)'!$L$2:'Base Data wHSA (NCI Modified)'!$T$3142,'Base Data wHSA (NCI Modified)'!$K135,COLUMNS(COUNTIES!$D$2:G135)),\"\")","v":""},{"$f":"IFERROR(INDEX('Base Data wHSA (NCI Modified)'!$L$2:'Base Data wHSA (NCI Modified)'!$T$3142,'Base Data wHSA (NCI Modified)'!$K135,COLUMNS(COUNTIES!$D$2:H135)),\"\")","v":""},{"$f":"IFERROR(INDEX('Base Data wHSA (NCI Modified)'!$L$2:'Base Data wHSA (NCI Modified)'!$T$3142,'Base Data wHSA (NCI Modified)'!$K135,COLUMNS(COUNTIES!$D$2:I135)),\"\")","v":""},{"$f":"IFERROR(INDEX('Base Data wHSA (NCI Modified)'!$L$2:'Base Data wHSA (NCI Modified)'!$T$3142,'Base Data wHSA (NCI Modified)'!$K135,COLUMNS(COUNTIES!$D$2:J135)),\"\")","v":""},{"$f":"IFERROR(INDEX('Base Data wHSA (NCI Modified)'!$L$2:'Base Data wHSA (NCI Modified)'!$T$3142,'Base Data wHSA (NCI Modified)'!$K135,COLUMNS(COUNTIES!$D$2:K135)),\"\")","v":""},{"$f":"IFERROR(INDEX('Base Data wHSA (NCI Modified)'!$L$2:'Base Data wHSA (NCI Modified)'!$T$3142,'Base Data wHSA (NCI Modified)'!$K135,COLUMNS(COUNTIES!$D$2:L135)),\"\")","v":""}]
[{"$f":"ROWS($E$2:E136)","v":135},{"$f":"IF(E136=WORKSHEET!$B$2,A136,\"\")","v":""},"",{"$f":"IFERROR(INDEX('Base Data wHSA (NCI Modified)'!$L$2:'Base Data wHSA (NCI Modified)'!$T$3142,'Base Data wHSA (NCI Modified)'!$K136,COLUMNS(COUNTIES!$D$2:D136)),\"\")","v":""},{"$f":"IFERROR(INDEX('Base Data wHSA (NCI Modified)'!$L$2:'Base Data wHSA (NCI Modified)'!$T$3142,'Base Data wHSA (NCI Modified)'!$K136,COLUMNS(COUNTIES!$D$2:E136)),\"\")","v":""},{"$f":"IFERROR(INDEX('Base Data wHSA (NCI Modified)'!$L$2:'Base Data wHSA (NCI Modified)'!$T$3142,'Base Data wHSA (NCI Modified)'!$K136,COLUMNS(COUNTIES!$D$2:F136)),\"\")","v":""},{"$f":"IFERROR(INDEX('Base Data wHSA (NCI Modified)'!$L$2:'Base Data wHSA (NCI Modified)'!$T$3142,'Base Data wHSA (NCI Modified)'!$K136,COLUMNS(COUNTIES!$D$2:G136)),\"\")","v":""},{"$f":"IFERROR(INDEX('Base Data wHSA (NCI Modified)'!$L$2:'Base Data wHSA (NCI Modified)'!$T$3142,'Base Data wHSA (NCI Modified)'!$K136,COLUMNS(COUNTIES!$D$2:H136)),\"\")","v":""},{"$f":"IFERROR(INDEX('Base Data wHSA (NCI Modified)'!$L$2:'Base Data wHSA (NCI Modified)'!$T$3142,'Base Data wHSA (NCI Modified)'!$K136,COLUMNS(COUNTIES!$D$2:I136)),\"\")","v":""},{"$f":"IFERROR(INDEX('Base Data wHSA (NCI Modified)'!$L$2:'Base Data wHSA (NCI Modified)'!$T$3142,'Base Data wHSA (NCI Modified)'!$K136,COLUMNS(COUNTIES!$D$2:J136)),\"\")","v":""},{"$f":"IFERROR(INDEX('Base Data wHSA (NCI Modified)'!$L$2:'Base Data wHSA (NCI Modified)'!$T$3142,'Base Data wHSA (NCI Modified)'!$K136,COLUMNS(COUNTIES!$D$2:K136)),\"\")","v":""},{"$f":"IFERROR(INDEX('Base Data wHSA (NCI Modified)'!$L$2:'Base Data wHSA (NCI Modified)'!$T$3142,'Base Data wHSA (NCI Modified)'!$K136,COLUMNS(COUNTIES!$D$2:L136)),\"\")","v":""}]
[{"$f":"ROWS($E$2:E137)","v":136},{"$f":"IF(E137=WORKSHEET!$B$2,A137,\"\")","v":""},"",{"$f":"IFERROR(INDEX('Base Data wHSA (NCI Modified)'!$L$2:'Base Data wHSA (NCI Modified)'!$T$3142,'Base Data wHSA (NCI Modified)'!$K137,COLUMNS(COUNTIES!$D$2:D137)),\"\")","v":""},{"$f":"IFERROR(INDEX('Base Data wHSA (NCI Modified)'!$L$2:'Base Data wHSA (NCI Modified)'!$T$3142,'Base Data wHSA (NCI Modified)'!$K137,COLUMNS(COUNTIES!$D$2:E137)),\"\")","v":""},{"$f":"IFERROR(INDEX('Base Data wHSA (NCI Modified)'!$L$2:'Base Data wHSA (NCI Modified)'!$T$3142,'Base Data wHSA (NCI Modified)'!$K137,COLUMNS(COUNTIES!$D$2:F137)),\"\")","v":""},{"$f":"IFERROR(INDEX('Base Data wHSA (NCI Modified)'!$L$2:'Base Data wHSA (NCI Modified)'!$T$3142,'Base Data wHSA (NCI Modified)'!$K137,COLUMNS(COUNTIES!$D$2:G137)),\"\")","v":""},{"$f":"IFERROR(INDEX('Base Data wHSA (NCI Modified)'!$L$2:'Base Data wHSA (NCI Modified)'!$T$3142,'Base Data wHSA (NCI Modified)'!$K137,COLUMNS(COUNTIES!$D$2:H137)),\"\")","v":""},{"$f":"IFERROR(INDEX('Base Data wHSA (NCI Modified)'!$L$2:'Base Data wHSA (NCI Modified)'!$T$3142,'Base Data wHSA (NCI Modified)'!$K137,COLUMNS(COUNTIES!$D$2:I137)),\"\")","v":""},{"$f":"IFERROR(INDEX('Base Data wHSA (NCI Modified)'!$L$2:'Base Data wHSA (NCI Modified)'!$T$3142,'Base Data wHSA (NCI Modified)'!$K137,COLUMNS(COUNTIES!$D$2:J137)),\"\")","v":""},{"$f":"IFERROR(INDEX('Base Data wHSA (NCI Modified)'!$L$2:'Base Data wHSA (NCI Modified)'!$T$3142,'Base Data wHSA (NCI Modified)'!$K137,COLUMNS(COUNTIES!$D$2:K137)),\"\")","v":""},{"$f":"IFERROR(INDEX('Base Data wHSA (NCI Modified)'!$L$2:'Base Data wHSA (NCI Modified)'!$T$3142,'Base Data wHSA (NCI Modified)'!$K137,COLUMNS(COUNTIES!$D$2:L137)),\"\")","v":""}]
[{"$f":"ROWS($E$2:E138)","v":137},{"$f":"IF(E138=WORKSHEET!$B$2,A138,\"\")","v":""},"",{"$f":"IFERROR(INDEX('Base Data wHSA (NCI Modified)'!$L$2:'Base Data wHSA (NCI Modified)'!$T$3142,'Base Data wHSA (NCI Modified)'!$K138,COLUMNS(COUNTIES!$D$2:D138)),\"\")","v":""},{"$f":"IFERROR(INDEX('Base Data wHSA (NCI Modified)'!$L$2:'Base Data wHSA (NCI Modified)'!$T$3142,'Base Data wHSA (NCI Modified)'!$K138,COLUMNS(COUNTIES!$D$2:E138)),\"\")","v":""},{"$f":"IFERROR(INDEX('Base Data wHSA (NCI Modified)'!$L$2:'Base Data wHSA (NCI Modified)'!$T$3142,'Base Data wHSA (NCI Modified)'!$K138,COLUMNS(COUNTIES!$D$2:F138)),\"\")","v":""},{"$f":"IFERROR(INDEX('Base Data wHSA (NCI Modified)'!$L$2:'Base Data wHSA (NCI Modified)'!$T$3142,'Base Data wHSA (NCI Modified)'!$K138,COLUMNS(COUNTIES!$D$2:G138)),\"\")","v":""},{"$f":"IFERROR(INDEX('Base Data wHSA (NCI Modified)'!$L$2:'Base Data wHSA (NCI Modified)'!$T$3142,'Base Data wHSA (NCI Modified)'!$K138,COLUMNS(COUNTIES!$D$2:H138)),\"\")","v":""},{"$f":"IFERROR(INDEX('Base Data wHSA (NCI Modified)'!$L$2:'Base Data wHSA (NCI Modified)'!$T$3142,'Base Data wHSA (NCI Modified)'!$K138,COLUMNS(COUNTIES!$D$2:I138)),\"\")","v":""},{"$f":"IFERROR(INDEX('Base Data wHSA (NCI Modified)'!$L$2:'Base Data wHSA (NCI Modified)'!$T$3142,'Base Data wHSA (NCI Modified)'!$K138,COLUMNS(COUNTIES!$D$2:J138)),\"\")","v":""},{"$f":"IFERROR(INDEX('Base Data wHSA (NCI Modified)'!$L$2:'Base Data wHSA (NCI Modified)'!$T$3142,'Base Data wHSA (NCI Modified)'!$K138,COLUMNS(COUNTIES!$D$2:K138)),\"\")","v":""},{"$f":"IFERROR(INDEX('Base Data wHSA (NCI Modified)'!$L$2:'Base Data wHSA (NCI Modified)'!$T$3142,'Base Data wHSA (NCI Modified)'!$K138,COLUMNS(COUNTIES!$D$2:L138)),\"\")","v":""}]
[{"$f":"ROWS($E$2:E139)","v":138},{"$f":"IF(E139=WORKSHEET!$B$2,A139,\"\")","v":""},"",{"$f":"IFERROR(INDEX('Base Data wHSA (NCI Modified)'!$L$2:'Base Data wHSA (NCI Modified)'!$T$3142,'Base Data wHSA (NCI Modified)'!$K139,COLUMNS(COUNTIES!$D$2:D139)),\"\")","v":""},{"$f":"IFERROR(INDEX('Base Data wHSA (NCI Modified)'!$L$2:'Base Data wHSA (NCI Modified)'!$T$3142,'Base Data wHSA (NCI Modified)'!$K139,COLUMNS(COUNTIES!$D$2:E139)),\"\")","v":""},{"$f":"IFERROR(INDEX('Base Data wHSA (NCI Modified)'!$L$2:'Base Data wHSA (NCI Modified)'!$T$3142,'Base Data wHSA (NCI Modified)'!$K139,COLUMNS(COUNTIES!$D$2:F139)),\"\")","v":""},{"$f":"IFERROR(INDEX('Base Data wHSA (NCI Modified)'!$L$2:'Base Data wHSA (NCI Modified)'!$T$3142,'Base Data wHSA (NCI Modified)'!$K139,COLUMNS(COUNTIES!$D$2:G139)),\"\")","v":""},{"$f":"IFERROR(INDEX('Base Data wHSA (NCI Modified)'!$L$2:'Base Data wHSA (NCI Modified)'!$T$3142,'Base Data wHSA (NCI Modified)'!$K139,COLUMNS(COUNTIES!$D$2:H139)),\"\")","v":""},{"$f":"IFERROR(INDEX('Base Data wHSA (NCI Modified)'!$L$2:'Base Data wHSA (NCI Modified)'!$T$3142,'Base Data wHSA (NCI Modified)'!$K139,COLUMNS(COUNTIES!$D$2:I139)),\"\")","v":""},{"$f":"IFERROR(INDEX('Base Data wHSA (NCI Modified)'!$L$2:'Base Data wHSA (NCI Modified)'!$T$3142,'Base Data wHSA (NCI Modified)'!$K139,COLUMNS(COUNTIES!$D$2:J139)),\"\")","v":""},{"$f":"IFERROR(INDEX('Base Data wHSA (NCI Modified)'!$L$2:'Base Data wHSA (NCI Modified)'!$T$3142,'Base Data wHSA (NCI Modified)'!$K139,COLUMNS(COUNTIES!$D$2:K139)),\"\")","v":""},{"$f":"IFERROR(INDEX('Base Data wHSA (NCI Modified)'!$L$2:'Base Data wHSA (NCI Modified)'!$T$3142,'Base Data wHSA (NCI Modified)'!$K139,COLUMNS(COUNTIES!$D$2:L139)),\"\")","v":""}]
[{"$f":"ROWS($E$2:E140)","v":139},{"$f":"IF(E140=WORKSHEET!$B$2,A140,\"\")","v":""},"",{"$f":"IFERROR(INDEX('Base Data wHSA (NCI Modified)'!$L$2:'Base Data wHSA (NCI Modified)'!$T$3142,'Base Data wHSA (NCI Modified)'!$K140,COLUMNS(COUNTIES!$D$2:D140)),\"\")","v":""},{"$f":"IFERROR(INDEX('Base Data wHSA (NCI Modified)'!$L$2:'Base Data wHSA (NCI Modified)'!$T$3142,'Base Data wHSA (NCI Modified)'!$K140,COLUMNS(COUNTIES!$D$2:E140)),\"\")","v":""},{"$f":"IFERROR(INDEX('Base Data wHSA (NCI Modified)'!$L$2:'Base Data wHSA (NCI Modified)'!$T$3142,'Base Data wHSA (NCI Modified)'!$K140,COLUMNS(COUNTIES!$D$2:F140)),\"\")","v":""},{"$f":"IFERROR(INDEX('Base Data wHSA (NCI Modified)'!$L$2:'Base Data wHSA (NCI Modified)'!$T$3142,'Base Data wHSA (NCI Modified)'!$K140,COLUMNS(COUNTIES!$D$2:G140)),\"\")","v":""},{"$f":"IFERROR(INDEX('Base Data wHSA (NCI Modified)'!$L$2:'Base Data wHSA (NCI Modified)'!$T$3142,'Base Data wHSA (NCI Modified)'!$K140,COLUMNS(COUNTIES!$D$2:H140)),\"\")","v":""},{"$f":"IFERROR(INDEX('Base Data wHSA (NCI Modified)'!$L$2:'Base Data wHSA (NCI Modified)'!$T$3142,'Base Data wHSA (NCI Modified)'!$K140,COLUMNS(COUNTIES!$D$2:I140)),\"\")","v":""},{"$f":"IFERROR(INDEX('Base Data wHSA (NCI Modified)'!$L$2:'Base Data wHSA (NCI Modified)'!$T$3142,'Base Data wHSA (NCI Modified)'!$K140,COLUMNS(COUNTIES!$D$2:J140)),\"\")","v":""},{"$f":"IFERROR(INDEX('Base Data wHSA (NCI Modified)'!$L$2:'Base Data wHSA (NCI Modified)'!$T$3142,'Base Data wHSA (NCI Modified)'!$K140,COLUMNS(COUNTIES!$D$2:K140)),\"\")","v":""},{"$f":"IFERROR(INDEX('Base Data wHSA (NCI Modified)'!$L$2:'Base Data wHSA (NCI Modified)'!$T$3142,'Base Data wHSA (NCI Modified)'!$K140,COLUMNS(COUNTIES!$D$2:L140)),\"\")","v":""}]
[{"$f":"ROWS($E$2:E141)","v":140},{"$f":"IF(E141=WORKSHEET!$B$2,A141,\"\")","v":""},"",{"$f":"IFERROR(INDEX('Base Data wHSA (NCI Modified)'!$L$2:'Base Data wHSA (NCI Modified)'!$T$3142,'Base Data wHSA (NCI Modified)'!$K141,COLUMNS(COUNTIES!$D$2:D141)),\"\")","v":""},{"$f":"IFERROR(INDEX('Base Data wHSA (NCI Modified)'!$L$2:'Base Data wHSA (NCI Modified)'!$T$3142,'Base Data wHSA (NCI Modified)'!$K141,COLUMNS(COUNTIES!$D$2:E141)),\"\")","v":""},{"$f":"IFERROR(INDEX('Base Data wHSA (NCI Modified)'!$L$2:'Base Data wHSA (NCI Modified)'!$T$3142,'Base Data wHSA (NCI Modified)'!$K141,COLUMNS(COUNTIES!$D$2:F141)),\"\")","v":""},{"$f":"IFERROR(INDEX('Base Data wHSA (NCI Modified)'!$L$2:'Base Data wHSA (NCI Modified)'!$T$3142,'Base Data wHSA (NCI Modified)'!$K141,COLUMNS(COUNTIES!$D$2:G141)),\"\")","v":""},{"$f":"IFERROR(INDEX('Base Data wHSA (NCI Modified)'!$L$2:'Base Data wHSA (NCI Modified)'!$T$3142,'Base Data wHSA (NCI Modified)'!$K141,COLUMNS(COUNTIES!$D$2:H141)),\"\")","v":""},{"$f":"IFERROR(INDEX('Base Data wHSA (NCI Modified)'!$L$2:'Base Data wHSA (NCI Modified)'!$T$3142,'Base Data wHSA (NCI Modified)'!$K141,COLUMNS(COUNTIES!$D$2:I141)),\"\")","v":""},{"$f":"IFERROR(INDEX('Base Data wHSA (NCI Modified)'!$L$2:'Base Data wHSA (NCI Modified)'!$T$3142,'Base Data wHSA (NCI Modified)'!$K141,COLUMNS(COUNTIES!$D$2:J141)),\"\")","v":""},{"$f":"IFERROR(INDEX('Base Data wHSA (NCI Modified)'!$L$2:'Base Data wHSA (NCI Modified)'!$T$3142,'Base Data wHSA (NCI Modified)'!$K141,COLUMNS(COUNTIES!$D$2:K141)),\"\")","v":""},{"$f":"IFERROR(INDEX('Base Data wHSA (NCI Modified)'!$L$2:'Base Data wHSA (NCI Modified)'!$T$3142,'Base Data wHSA (NCI Modified)'!$K141,COLUMNS(COUNTIES!$D$2:L141)),\"\")","v":""}]
[{"$f":"ROWS($E$2:E142)","v":141},{"$f":"IF(E142=WORKSHEET!$B$2,A142,\"\")","v":""},"",{"$f":"IFERROR(INDEX('Base Data wHSA (NCI Modified)'!$L$2:'Base Data wHSA (NCI Modified)'!$T$3142,'Base Data wHSA (NCI Modified)'!$K142,COLUMNS(COUNTIES!$D$2:D142)),\"\")","v":""},{"$f":"IFERROR(INDEX('Base Data wHSA (NCI Modified)'!$L$2:'Base Data wHSA (NCI Modified)'!$T$3142,'Base Data wHSA (NCI Modified)'!$K142,COLUMNS(COUNTIES!$D$2:E142)),\"\")","v":""},{"$f":"IFERROR(INDEX('Base Data wHSA (NCI Modified)'!$L$2:'Base Data wHSA (NCI Modified)'!$T$3142,'Base Data wHSA (NCI Modified)'!$K142,COLUMNS(COUNTIES!$D$2:F142)),\"\")","v":""},{"$f":"IFERROR(INDEX('Base Data wHSA (NCI Modified)'!$L$2:'Base Data wHSA (NCI Modified)'!$T$3142,'Base Data wHSA (NCI Modified)'!$K142,COLUMNS(COUNTIES!$D$2:G142)),\"\")","v":""},{"$f":"IFERROR(INDEX('Base Data wHSA (NCI Modified)'!$L$2:'Base Data wHSA (NCI Modified)'!$T$3142,'Base Data wHSA (NCI Modified)'!$K142,COLUMNS(COUNTIES!$D$2:H142)),\"\")","v":""},{"$f":"IFERROR(INDEX('Base Data wHSA (NCI Modified)'!$L$2:'Base Data wHSA (NCI Modified)'!$T$3142,'Base Data wHSA (NCI Modified)'!$K142,COLUMNS(COUNTIES!$D$2:I142)),\"\")","v":""},{"$f":"IFERROR(INDEX('Base Data wHSA (NCI Modified)'!$L$2:'Base Data wHSA (NCI Modified)'!$T$3142,'Base Data wHSA (NCI Modified)'!$K142,COLUMNS(COUNTIES!$D$2:J142)),\"\")","v":""},{"$f":"IFERROR(INDEX('Base Data wHSA (NCI Modified)'!$L$2:'Base Data wHSA (NCI Modified)'!$T$3142,'Base Data wHSA (NCI Modified)'!$K142,COLUMNS(COUNTIES!$D$2:K142)),\"\")","v":""},{"$f":"IFERROR(INDEX('Base Data wHSA (NCI Modified)'!$L$2:'Base Data wHSA (NCI Modified)'!$T$3142,'Base Data wHSA (NCI Modified)'!$K142,COLUMNS(COUNTIES!$D$2:L142)),\"\")","v":""}]
[{"$f":"ROWS($E$2:E143)","v":142},{"$f":"IF(E143=WORKSHEET!$B$2,A143,\"\")","v":""},"",{"$f":"IFERROR(INDEX('Base Data wHSA (NCI Modified)'!$L$2:'Base Data wHSA (NCI Modified)'!$T$3142,'Base Data wHSA (NCI Modified)'!$K143,COLUMNS(COUNTIES!$D$2:D143)),\"\")","v":""},{"$f":"IFERROR(INDEX('Base Data wHSA (NCI Modified)'!$L$2:'Base Data wHSA (NCI Modified)'!$T$3142,'Base Data wHSA (NCI Modified)'!$K143,COLUMNS(COUNTIES!$D$2:E143)),\"\")","v":""},{"$f":"IFERROR(INDEX('Base Data wHSA (NCI Modified)'!$L$2:'Base Data wHSA (NCI Modified)'!$T$3142,'Base Data wHSA (NCI Modified)'!$K143,COLUMNS(COUNTIES!$D$2:F143)),\"\")","v":""},{"$f":"IFERROR(INDEX('Base Data wHSA (NCI Modified)'!$L$2:'Base Data wHSA (NCI Modified)'!$T$3142,'Base Data wHSA (NCI Modified)'!$K143,COLUMNS(COUNTIES!$D$2:G143)),\"\")","v":""},{"$f":"IFERROR(INDEX('Base Data wHSA (NCI Modified)'!$L$2:'Base Data wHSA (NCI Modified)'!$T$3142,'Base Data wHSA (NCI Modified)'!$K143,COLUMNS(COUNTIES!$D$2:H143)),\"\")","v":""},{"$f":"IFERROR(INDEX('Base Data wHSA (NCI Modified)'!$L$2:'Base Data wHSA (NCI Modified)'!$T$3142,'Base Data wHSA (NCI Modified)'!$K143,COLUMNS(COUNTIES!$D$2:I143)),\"\")","v":""},{"$f":"IFERROR(INDEX('Base Data wHSA (NCI Modified)'!$L$2:'Base Data wHSA (NCI Modified)'!$T$3142,'Base Data wHSA (NCI Modified)'!$K143,COLUMNS(COUNTIES!$D$2:J143)),\"\")","v":""},{"$f":"IFERROR(INDEX('Base Data wHSA (NCI Modified)'!$L$2:'Base Data wHSA (NCI Modified)'!$T$3142,'Base Data wHSA (NCI Modified)'!$K143,COLUMNS(COUNTIES!$D$2:K143)),\"\")","v":""},{"$f":"IFERROR(INDEX('Base Data wHSA (NCI Modified)'!$L$2:'Base Data wHSA (NCI Modified)'!$T$3142,'Base Data wHSA (NCI Modified)'!$K143,COLUMNS(COUNTIES!$D$2:L143)),\"\")","v":""}]
[{"$f":"ROWS($E$2:E144)","v":143},{"$f":"IF(E144=WORKSHEET!$B$2,A144,\"\")","v":""},"",{"$f":"IFERROR(INDEX('Base Data wHSA (NCI Modified)'!$L$2:'Base Data wHSA (NCI Modified)'!$T$3142,'Base Data wHSA (NCI Modified)'!$K144,COLUMNS(COUNTIES!$D$2:D144)),\"\")","v":""},{"$f":"IFERROR(INDEX('Base Data wHSA (NCI Modified)'!$L$2:'Base Data wHSA (NCI Modified)'!$T$3142,'Base Data wHSA (NCI Modified)'!$K144,COLUMNS(COUNTIES!$D$2:E144)),\"\")","v":""},{"$f":"IFERROR(INDEX('Base Data wHSA (NCI Modified)'!$L$2:'Base Data wHSA (NCI Modified)'!$T$3142,'Base Data wHSA (NCI Modified)'!$K144,COLUMNS(COUNTIES!$D$2:F144)),\"\")","v":""},{"$f":"IFERROR(INDEX('Base Data wHSA (NCI Modified)'!$L$2:'Base Data wHSA (NCI Modified)'!$T$3142,'Base Data wHSA (NCI Modified)'!$K144,COLUMNS(COUNTIES!$D$2:G144)),\"\")","v":""},{"$f":"IFERROR(INDEX('Base Data wHSA (NCI Modified)'!$L$2:'Base Data wHSA (NCI Modified)'!$T$3142,'Base Data wHSA (NCI Modified)'!$K144,COLUMNS(COUNTIES!$D$2:H144)),\"\")","v":""},{"$f":"IFERROR(INDEX('Base Data wHSA (NCI Modified)'!$L$2:'Base Data wHSA (NCI Modified)'!$T$3142,'Base Data wHSA (NCI Modified)'!$K144,COLUMNS(COUNTIES!$D$2:I144)),\"\")","v":""},{"$f":"IFERROR(INDEX('Base Data wHSA (NCI Modified)'!$L$2:'Base Data wHSA (NCI Modified)'!$T$3142,'Base Data wHSA (NCI Modified)'!$K144,COLUMNS(COUNTIES!$D$2:J144)),\"\")","v":""},{"$f":"IFERROR(INDEX('Base Data wHSA (NCI Modified)'!$L$2:'Base Data wHSA (NCI Modified)'!$T$3142,'Base Data wHSA (NCI Modified)'!$K144,COLUMNS(COUNTIES!$D$2:K144)),\"\")","v":""},{"$f":"IFERROR(INDEX('Base Data wHSA (NCI Modified)'!$L$2:'Base Data wHSA (NCI Modified)'!$T$3142,'Base Data wHSA (NCI Modified)'!$K144,COLUMNS(COUNTIES!$D$2:L144)),\"\")","v":""}]
[{"$f":"ROWS($E$2:E145)","v":144},{"$f":"IF(E145=WORKSHEET!$B$2,A145,\"\")","v":""},"",{"$f":"IFERROR(INDEX('Base Data wHSA (NCI Modified)'!$L$2:'Base Data wHSA (NCI Modified)'!$T$3142,'Base Data wHSA (NCI Modified)'!$K145,COLUMNS(COUNTIES!$D$2:D145)),\"\")","v":""},{"$f":"IFERROR(INDEX('Base Data wHSA (NCI Modified)'!$L$2:'Base Data wHSA (NCI Modified)'!$T$3142,'Base Data wHSA (NCI Modified)'!$K145,COLUMNS(COUNTIES!$D$2:E145)),\"\")","v":""},{"$f":"IFERROR(INDEX('Base Data wHSA (NCI Modified)'!$L$2:'Base Data wHSA (NCI Modified)'!$T$3142,'Base Data wHSA (NCI Modified)'!$K145,COLUMNS(COUNTIES!$D$2:F145)),\"\")","v":""},{"$f":"IFERROR(INDEX('Base Data wHSA (NCI Modified)'!$L$2:'Base Data wHSA (NCI Modified)'!$T$3142,'Base Data wHSA (NCI Modified)'!$K145,COLUMNS(COUNTIES!$D$2:G145)),\"\")","v":""},{"$f":"IFERROR(INDEX('Base Data wHSA (NCI Modified)'!$L$2:'Base Data wHSA (NCI Modified)'!$T$3142,'Base Data wHSA (NCI Modified)'!$K145,COLUMNS(COUNTIES!$D$2:H145)),\"\")","v":""},{"$f":"IFERROR(INDEX('Base Data wHSA (NCI Modified)'!$L$2:'Base Data wHSA (NCI Modified)'!$T$3142,'Base Data wHSA (NCI Modified)'!$K145,COLUMNS(COUNTIES!$D$2:I145)),\"\")","v":""},{"$f":"IFERROR(INDEX('Base Data wHSA (NCI Modified)'!$L$2:'Base Data wHSA (NCI Modified)'!$T$3142,'Base Data wHSA (NCI Modified)'!$K145,COLUMNS(COUNTIES!$D$2:J145)),\"\")","v":""},{"$f":"IFERROR(INDEX('Base Data wHSA (NCI Modified)'!$L$2:'Base Data wHSA (NCI Modified)'!$T$3142,'Base Data wHSA (NCI Modified)'!$K145,COLUMNS(COUNTIES!$D$2:K145)),\"\")","v":""},{"$f":"IFERROR(INDEX('Base Data wHSA (NCI Modified)'!$L$2:'Base Data wHSA (NCI Modified)'!$T$3142,'Base Data wHSA (NCI Modified)'!$K145,COLUMNS(COUNTIES!$D$2:L145)),\"\")","v":""}]
[{"$f":"ROWS($E$2:E146)","v":145},{"$f":"IF(E146=WORKSHEET!$B$2,A146,\"\")","v":""},"",{"$f":"IFERROR(INDEX('Base Data wHSA (NCI Modified)'!$L$2:'Base Data wHSA (NCI Modified)'!$T$3142,'Base Data wHSA (NCI Modified)'!$K146,COLUMNS(COUNTIES!$D$2:D146)),\"\")","v":""},{"$f":"IFERROR(INDEX('Base Data wHSA (NCI Modified)'!$L$2:'Base Data wHSA (NCI Modified)'!$T$3142,'Base Data wHSA (NCI Modified)'!$K146,COLUMNS(COUNTIES!$D$2:E146)),\"\")","v":""},{"$f":"IFERROR(INDEX('Base Data wHSA (NCI Modified)'!$L$2:'Base Data wHSA (NCI Modified)'!$T$3142,'Base Data wHSA (NCI Modified)'!$K146,COLUMNS(COUNTIES!$D$2:F146)),\"\")","v":""},{"$f":"IFERROR(INDEX('Base Data wHSA (NCI Modified)'!$L$2:'Base Data wHSA (NCI Modified)'!$T$3142,'Base Data wHSA (NCI Modified)'!$K146,COLUMNS(COUNTIES!$D$2:G146)),\"\")","v":""},{"$f":"IFERROR(INDEX('Base Data wHSA (NCI Modified)'!$L$2:'Base Data wHSA (NCI Modified)'!$T$3142,'Base Data wHSA (NCI Modified)'!$K146,COLUMNS(COUNTIES!$D$2:H146)),\"\")","v":""},{"$f":"IFERROR(INDEX('Base Data wHSA (NCI Modified)'!$L$2:'Base Data wHSA (NCI Modified)'!$T$3142,'Base Data wHSA (NCI Modified)'!$K146,COLUMNS(COUNTIES!$D$2:I146)),\"\")","v":""},{"$f":"IFERROR(INDEX('Base Data wHSA (NCI Modified)'!$L$2:'Base Data wHSA (NCI Modified)'!$T$3142,'Base Data wHSA (NCI Modified)'!$K146,COLUMNS(COUNTIES!$D$2:J146)),\"\")","v":""},{"$f":"IFERROR(INDEX('Base Data wHSA (NCI Modified)'!$L$2:'Base Data wHSA (NCI Modified)'!$T$3142,'Base Data wHSA (NCI Modified)'!$K146,COLUMNS(COUNTIES!$D$2:K146)),\"\")","v":""},{"$f":"IFERROR(INDEX('Base Data wHSA (NCI Modified)'!$L$2:'Base Data wHSA (NCI Modified)'!$T$3142,'Base Data wHSA (NCI Modified)'!$K146,COLUMNS(COUNTIES!$D$2:L146)),\"\")","v":""}]
[{"$f":"ROWS($E$2:E147)","v":146},{"$f":"IF(E147=WORKSHEET!$B$2,A147,\"\")","v":""},"",{"$f":"IFERROR(INDEX('Base Data wHSA (NCI Modified)'!$L$2:'Base Data wHSA (NCI Modified)'!$T$3142,'Base Data wHSA (NCI Modified)'!$K147,COLUMNS(COUNTIES!$D$2:D147)),\"\")","v":""},{"$f":"IFERROR(INDEX('Base Data wHSA (NCI Modified)'!$L$2:'Base Data wHSA (NCI Modified)'!$T$3142,'Base Data wHSA (NCI Modified)'!$K147,COLUMNS(COUNTIES!$D$2:E147)),\"\")","v":""},{"$f":"IFERROR(INDEX('Base Data wHSA (NCI Modified)'!$L$2:'Base Data wHSA (NCI Modified)'!$T$3142,'Base Data wHSA (NCI Modified)'!$K147,COLUMNS(COUNTIES!$D$2:F147)),\"\")","v":""},{"$f":"IFERROR(INDEX('Base Data wHSA (NCI Modified)'!$L$2:'Base Data wHSA (NCI Modified)'!$T$3142,'Base Data wHSA (NCI Modified)'!$K147,COLUMNS(COUNTIES!$D$2:G147)),\"\")","v":""},{"$f":"IFERROR(INDEX('Base Data wHSA (NCI Modified)'!$L$2:'Base Data wHSA (NCI Modified)'!$T$3142,'Base Data wHSA (NCI Modified)'!$K147,COLUMNS(COUNTIES!$D$2:H147)),\"\")","v":""},{"$f":"IFERROR(INDEX('Base Data wHSA (NCI Modified)'!$L$2:'Base Data wHSA (NCI Modified)'!$T$3142,'Base Data wHSA (NCI Modified)'!$K147,COLUMNS(COUNTIES!$D$2:I147)),\"\")","v":""},{"$f":"IFERROR(INDEX('Base Data wHSA (NCI Modified)'!$L$2:'Base Data wHSA (NCI Modified)'!$T$3142,'Base Data wHSA (NCI Modified)'!$K147,COLUMNS(COUNTIES!$D$2:J147)),\"\")","v":""},{"$f":"IFERROR(INDEX('Base Data wHSA (NCI Modified)'!$L$2:'Base Data wHSA (NCI Modified)'!$T$3142,'Base Data wHSA (NCI Modified)'!$K147,COLUMNS(COUNTIES!$D$2:K147)),\"\")","v":""},{"$f":"IFERROR(INDEX('Base Data wHSA (NCI Modified)'!$L$2:'Base Data wHSA (NCI Modified)'!$T$3142,'Base Data wHSA (NCI Modified)'!$K147,COLUMNS(COUNTIES!$D$2:L147)),\"\")","v":""}]
[{"$f":"ROWS($E$2:E148)","v":147},{"$f":"IF(E148=WORKSHEET!$B$2,A148,\"\")","v":""},"",{"$f":"IFERROR(INDEX('Base Data wHSA (NCI Modified)'!$L$2:'Base Data wHSA (NCI Modified)'!$T$3142,'Base Data wHSA (NCI Modified)'!$K148,COLUMNS(COUNTIES!$D$2:D148)),\"\")","v":""},{"$f":"IFERROR(INDEX('Base Data wHSA (NCI Modified)'!$L$2:'Base Data wHSA (NCI Modified)'!$T$3142,'Base Data wHSA (NCI Modified)'!$K148,COLUMNS(COUNTIES!$D$2:E148)),\"\")","v":""},{"$f":"IFERROR(INDEX('Base Data wHSA (NCI Modified)'!$L$2:'Base Data wHSA (NCI Modified)'!$T$3142,'Base Data wHSA (NCI Modified)'!$K148,COLUMNS(COUNTIES!$D$2:F148)),\"\")","v":""},{"$f":"IFERROR(INDEX('Base Data wHSA (NCI Modified)'!$L$2:'Base Data wHSA (NCI Modified)'!$T$3142,'Base Data wHSA (NCI Modified)'!$K148,COLUMNS(COUNTIES!$D$2:G148)),\"\")","v":""},{"$f":"IFERROR(INDEX('Base Data wHSA (NCI Modified)'!$L$2:'Base Data wHSA (NCI Modified)'!$T$3142,'Base Data wHSA (NCI Modified)'!$K148,COLUMNS(COUNTIES!$D$2:H148)),\"\")","v":""},{"$f":"IFERROR(INDEX('Base Data wHSA (NCI Modified)'!$L$2:'Base Data wHSA (NCI Modified)'!$T$3142,'Base Data wHSA (NCI Modified)'!$K148,COLUMNS(COUNTIES!$D$2:I148)),\"\")","v":""},{"$f":"IFERROR(INDEX('Base Data wHSA (NCI Modified)'!$L$2:'Base Data wHSA (NCI Modified)'!$T$3142,'Base Data wHSA (NCI Modified)'!$K148,COLUMNS(COUNTIES!$D$2:J148)),\"\")","v":""},{"$f":"IFERROR(INDEX('Base Data wHSA (NCI Modified)'!$L$2:'Base Data wHSA (NCI Modified)'!$T$3142,'Base Data wHSA (NCI Modified)'!$K148,COLUMNS(COUNTIES!$D$2:K148)),\"\")","v":""},{"$f":"IFERROR(INDEX('Base Data wHSA (NCI Modified)'!$L$2:'Base Data wHSA (NCI Modified)'!$T$3142,'Base Data wHSA (NCI Modified)'!$K148,COLUMNS(COUNTIES!$D$2:L148)),\"\")","v":""}]
[{"$f":"ROWS($E$2:E149)","v":148},{"$f":"IF(E149=WORKSHEET!$B$2,A149,\"\")","v":""},"",{"$f":"IFERROR(INDEX('Base Data wHSA (NCI Modified)'!$L$2:'Base Data wHSA (NCI Modified)'!$T$3142,'Base Data wHSA (NCI Modified)'!$K149,COLUMNS(COUNTIES!$D$2:D149)),\"\")","v":""},{"$f":"IFERROR(INDEX('Base Data wHSA (NCI Modified)'!$L$2:'Base Data wHSA (NCI Modified)'!$T$3142,'Base Data wHSA (NCI Modified)'!$K149,COLUMNS(COUNTIES!$D$2:E149)),\"\")","v":""},{"$f":"IFERROR(INDEX('Base Data wHSA (NCI Modified)'!$L$2:'Base Data wHSA (NCI Modified)'!$T$3142,'Base Data wHSA (NCI Modified)'!$K149,COLUMNS(COUNTIES!$D$2:F149)),\"\")","v":""},{"$f":"IFERROR(INDEX('Base Data wHSA (NCI Modified)'!$L$2:'Base Data wHSA (NCI Modified)'!$T$3142,'Base Data wHSA (NCI Modified)'!$K149,COLUMNS(COUNTIES!$D$2:G149)),\"\")","v":""},{"$f":"IFERROR(INDEX('Base Data wHSA (NCI Modified)'!$L$2:'Base Data wHSA (NCI Modified)'!$T$3142,'Base Data wHSA (NCI Modified)'!$K149,COLUMNS(COUNTIES!$D$2:H149)),\"\")","v":""},{"$f":"IFERROR(INDEX('Base Data wHSA (NCI Modified)'!$L$2:'Base Data wHSA (NCI Modified)'!$T$3142,'Base Data wHSA (NCI Modified)'!$K149,COLUMNS(COUNTIES!$D$2:I149)),\"\")","v":""},{"$f":"IFERROR(INDEX('Base Data wHSA (NCI Modified)'!$L$2:'Base Data wHSA (NCI Modified)'!$T$3142,'Base Data wHSA (NCI Modified)'!$K149,COLUMNS(COUNTIES!$D$2:J149)),\"\")","v":""},{"$f":"IFERROR(INDEX('Base Data wHSA (NCI Modified)'!$L$2:'Base Data wHSA (NCI Modified)'!$T$3142,'Base Data wHSA (NCI Modified)'!$K149,COLUMNS(COUNTIES!$D$2:K149)),\"\")","v":""},{"$f":"IFERROR(INDEX('Base Data wHSA (NCI Modified)'!$L$2:'Base Data wHSA (NCI Modified)'!$T$3142,'Base Data wHSA (NCI Modified)'!$K149,COLUMNS(COUNTIES!$D$2:L149)),\"\")","v":""}]
[{"$f":"ROWS($E$2:E150)","v":149},{"$f":"IF(E150=WORKSHEET!$B$2,A150,\"\")","v":""},"",{"$f":"IFERROR(INDEX('Base Data wHSA (NCI Modified)'!$L$2:'Base Data wHSA (NCI Modified)'!$T$3142,'Base Data wHSA (NCI Modified)'!$K150,COLUMNS(COUNTIES!$D$2:D150)),\"\")","v":""},{"$f":"IFERROR(INDEX('Base Data wHSA (NCI Modified)'!$L$2:'Base Data wHSA (NCI Modified)'!$T$3142,'Base Data wHSA (NCI Modified)'!$K150,COLUMNS(COUNTIES!$D$2:E150)),\"\")","v":""},{"$f":"IFERROR(INDEX('Base Data wHSA (NCI Modified)'!$L$2:'Base Data wHSA (NCI Modified)'!$T$3142,'Base Data wHSA (NCI Modified)'!$K150,COLUMNS(COUNTIES!$D$2:F150)),\"\")","v":""},{"$f":"IFERROR(INDEX('Base Data wHSA (NCI Modified)'!$L$2:'Base Data wHSA (NCI Modified)'!$T$3142,'Base Data wHSA (NCI Modified)'!$K150,COLUMNS(COUNTIES!$D$2:G150)),\"\")","v":""},{"$f":"IFERROR(INDEX('Base Data wHSA (NCI Modified)'!$L$2:'Base Data wHSA (NCI Modified)'!$T$3142,'Base Data wHSA (NCI Modified)'!$K150,COLUMNS(COUNTIES!$D$2:H150)),\"\")","v":""},{"$f":"IFERROR(INDEX('Base Data wHSA (NCI Modified)'!$L$2:'Base Data wHSA (NCI Modified)'!$T$3142,'Base Data wHSA (NCI Modified)'!$K150,COLUMNS(COUNTIES!$D$2:I150)),\"\")","v":""},{"$f":"IFERROR(INDEX('Base Data wHSA (NCI Modified)'!$L$2:'Base Data wHSA (NCI Modified)'!$T$3142,'Base Data wHSA (NCI Modified)'!$K150,COLUMNS(COUNTIES!$D$2:J150)),\"\")","v":""},{"$f":"IFERROR(INDEX('Base Data wHSA (NCI Modified)'!$L$2:'Base Data wHSA (NCI Modified)'!$T$3142,'Base Data wHSA (NCI Modified)'!$K150,COLUMNS(COUNTIES!$D$2:K150)),\"\")","v":""},{"$f":"IFERROR(INDEX('Base Data wHSA (NCI Modified)'!$L$2:'Base Data wHSA (NCI Modified)'!$T$3142,'Base Data wHSA (NCI Modified)'!$K150,COLUMNS(COUNTIES!$D$2:L150)),\"\")","v":""}]
[{"$f":"ROWS($E$2:E151)","v":150},{"$f":"IF(E151=WORKSHEET!$B$2,A151,\"\")","v":""},"",{"$f":"IFERROR(INDEX('Base Data wHSA (NCI Modified)'!$L$2:'Base Data wHSA (NCI Modified)'!$T$3142,'Base Data wHSA (NCI Modified)'!$K151,COLUMNS(COUNTIES!$D$2:D151)),\"\")","v":""},{"$f":"IFERROR(INDEX('Base Data wHSA (NCI Modified)'!$L$2:'Base Data wHSA (NCI Modified)'!$T$3142,'Base Data wHSA (NCI Modified)'!$K151,COLUMNS(COUNTIES!$D$2:E151)),\"\")","v":""},{"$f":"IFERROR(INDEX('Base Data wHSA (NCI Modified)'!$L$2:'Base Data wHSA (NCI Modified)'!$T$3142,'Base Data wHSA (NCI Modified)'!$K151,COLUMNS(COUNTIES!$D$2:F151)),\"\")","v":""},{"$f":"IFERROR(INDEX('Base Data wHSA (NCI Modified)'!$L$2:'Base Data wHSA (NCI Modified)'!$T$3142,'Base Data wHSA (NCI Modified)'!$K151,COLUMNS(COUNTIES!$D$2:G151)),\"\")","v":""},{"$f":"IFERROR(INDEX('Base Data wHSA (NCI Modified)'!$L$2:'Base Data wHSA (NCI Modified)'!$T$3142,'Base Data wHSA (NCI Modified)'!$K151,COLUMNS(COUNTIES!$D$2:H151)),\"\")","v":""},{"$f":"IFERROR(INDEX('Base Data wHSA (NCI Modified)'!$L$2:'Base Data wHSA (NCI Modified)'!$T$3142,'Base Data wHSA (NCI Modified)'!$K151,COLUMNS(COUNTIES!$D$2:I151)),\"\")","v":""},{"$f":"IFERROR(INDEX('Base Data wHSA (NCI Modified)'!$L$2:'Base Data wHSA (NCI Modified)'!$T$3142,'Base Data wHSA (NCI Modified)'!$K151,COLUMNS(COUNTIES!$D$2:J151)),\"\")","v":""},{"$f":"IFERROR(INDEX('Base Data wHSA (NCI Modified)'!$L$2:'Base Data wHSA (NCI Modified)'!$T$3142,'Base Data wHSA (NCI Modified)'!$K151,COLUMNS(COUNTIES!$D$2:K151)),\"\")","v":""},{"$f":"IFERROR(INDEX('Base Data wHSA (NCI Modified)'!$L$2:'Base Data wHSA (NCI Modified)'!$T$3142,'Base Data wHSA (NCI Modified)'!$K151,COLUMNS(COUNTIES!$D$2:L151)),\"\")","v":""}]
[{"$f":"ROWS($E$2:E152)","v":151},{"$f":"IF(E152=WORKSHEET!$B$2,A152,\"\")","v":""},"",{"$f":"IFERROR(INDEX('Base Data wHSA (NCI Modified)'!$L$2:'Base Data wHSA (NCI Modified)'!$T$3142,'Base Data wHSA (NCI Modified)'!$K152,COLUMNS(COUNTIES!$D$2:D152)),\"\")","v":""},{"$f":"IFERROR(INDEX('Base Data wHSA (NCI Modified)'!$L$2:'Base Data wHSA (NCI Modified)'!$T$3142,'Base Data wHSA (NCI Modified)'!$K152,COLUMNS(COUNTIES!$D$2:E152)),\"\")","v":""},{"$f":"IFERROR(INDEX('Base Data wHSA (NCI Modified)'!$L$2:'Base Data wHSA (NCI Modified)'!$T$3142,'Base Data wHSA (NCI Modified)'!$K152,COLUMNS(COUNTIES!$D$2:F152)),\"\")","v":""},{"$f":"IFERROR(INDEX('Base Data wHSA (NCI Modified)'!$L$2:'Base Data wHSA (NCI Modified)'!$T$3142,'Base Data wHSA (NCI Modified)'!$K152,COLUMNS(COUNTIES!$D$2:G152)),\"\")","v":""},{"$f":"IFERROR(INDEX('Base Data wHSA (NCI Modified)'!$L$2:'Base Data wHSA (NCI Modified)'!$T$3142,'Base Data wHSA (NCI Modified)'!$K152,COLUMNS(COUNTIES!$D$2:H152)),\"\")","v":""},{"$f":"IFERROR(INDEX('Base Data wHSA (NCI Modified)'!$L$2:'Base Data wHSA (NCI Modified)'!$T$3142,'Base Data wHSA (NCI Modified)'!$K152,COLUMNS(COUNTIES!$D$2:I152)),\"\")","v":""},{"$f":"IFERROR(INDEX('Base Data wHSA (NCI Modified)'!$L$2:'Base Data wHSA (NCI Modified)'!$T$3142,'Base Data wHSA (NCI Modified)'!$K152,COLUMNS(COUNTIES!$D$2:J152)),\"\")","v":""},{"$f":"IFERROR(INDEX('Base Data wHSA (NCI Modified)'!$L$2:'Base Data wHSA (NCI Modified)'!$T$3142,'Base Data wHSA (NCI Modified)'!$K152,COLUMNS(COUNTIES!$D$2:K152)),\"\")","v":""},{"$f":"IFERROR(INDEX('Base Data wHSA (NCI Modified)'!$L$2:'Base Data wHSA (NCI Modified)'!$T$3142,'Base Data wHSA (NCI Modified)'!$K152,COLUMNS(COUNTIES!$D$2:L152)),\"\")","v":""}]
[{"$f":"ROWS($E$2:E153)","v":152},{"$f":"IF(E153=WORKSHEET!$B$2,A153,\"\")","v":""},"",{"$f":"IFERROR(INDEX('Base Data wHSA (NCI Modified)'!$L$2:'Base Data wHSA (NCI Modified)'!$T$3142,'Base Data wHSA (NCI Modified)'!$K153,COLUMNS(COUNTIES!$D$2:D153)),\"\")","v":""},{"$f":"IFERROR(INDEX('Base Data wHSA (NCI Modified)'!$L$2:'Base Data wHSA (NCI Modified)'!$T$3142,'Base Data wHSA (NCI Modified)'!$K153,COLUMNS(COUNTIES!$D$2:E153)),\"\")","v":""},{"$f":"IFERROR(INDEX('Base Data wHSA (NCI Modified)'!$L$2:'Base Data wHSA (NCI Modified)'!$T$3142,'Base Data wHSA (NCI Modified)'!$K153,COLUMNS(COUNTIES!$D$2:F153)),\"\")","v":""},{"$f":"IFERROR(INDEX('Base Data wHSA (NCI Modified)'!$L$2:'Base Data wHSA (NCI Modified)'!$T$3142,'Base Data wHSA (NCI Modified)'!$K153,COLUMNS(COUNTIES!$D$2:G153)),\"\")","v":""},{"$f":"IFERROR(INDEX('Base Data wHSA (NCI Modified)'!$L$2:'Base Data wHSA (NCI Modified)'!$T$3142,'Base Data wHSA (NCI Modified)'!$K153,COLUMNS(COUNTIES!$D$2:H153)),\"\")","v":""},{"$f":"IFERROR(INDEX('Base Data wHSA (NCI Modified)'!$L$2:'Base Data wHSA (NCI Modified)'!$T$3142,'Base Data wHSA (NCI Modified)'!$K153,COLUMNS(COUNTIES!$D$2:I153)),\"\")","v":""},{"$f":"IFERROR(INDEX('Base Data wHSA (NCI Modified)'!$L$2:'Base Data wHSA (NCI Modified)'!$T$3142,'Base Data wHSA (NCI Modified)'!$K153,COLUMNS(COUNTIES!$D$2:J153)),\"\")","v":""},{"$f":"IFERROR(INDEX('Base Data wHSA (NCI Modified)'!$L$2:'Base Data wHSA (NCI Modified)'!$T$3142,'Base Data wHSA (NCI Modified)'!$K153,COLUMNS(COUNTIES!$D$2:K153)),\"\")","v":""},{"$f":"IFERROR(INDEX('Base Data wHSA (NCI Modified)'!$L$2:'Base Data wHSA (NCI Modified)'!$T$3142,'Base Data wHSA (NCI Modified)'!$K153,COLUMNS(COUNTIES!$D$2:L153)),\"\")","v":""}]
[{"$f":"ROWS($E$2:E154)","v":153},{"$f":"IF(E154=WORKSHEET!$B$2,A154,\"\")","v":""},"",{"$f":"IFERROR(INDEX('Base Data wHSA (NCI Modified)'!$L$2:'Base Data wHSA (NCI Modified)'!$T$3142,'Base Data wHSA (NCI Modified)'!$K154,COLUMNS(COUNTIES!$D$2:D154)),\"\")","v":""},{"$f":"IFERROR(INDEX('Base Data wHSA (NCI Modified)'!$L$2:'Base Data wHSA (NCI Modified)'!$T$3142,'Base Data wHSA (NCI Modified)'!$K154,COLUMNS(COUNTIES!$D$2:E154)),\"\")","v":""},{"$f":"IFERROR(INDEX('Base Data wHSA (NCI Modified)'!$L$2:'Base Data wHSA (NCI Modified)'!$T$3142,'Base Data wHSA (NCI Modified)'!$K154,COLUMNS(COUNTIES!$D$2:F154)),\"\")","v":""},{"$f":"IFERROR(INDEX('Base Data wHSA (NCI Modified)'!$L$2:'Base Data wHSA (NCI Modified)'!$T$3142,'Base Data wHSA (NCI Modified)'!$K154,COLUMNS(COUNTIES!$D$2:G154)),\"\")","v":""},{"$f":"IFERROR(INDEX('Base Data wHSA (NCI Modified)'!$L$2:'Base Data wHSA (NCI Modified)'!$T$3142,'Base Data wHSA (NCI Modified)'!$K154,COLUMNS(COUNTIES!$D$2:H154)),\"\")","v":""},{"$f":"IFERROR(INDEX('Base Data wHSA (NCI Modified)'!$L$2:'Base Data wHSA (NCI Modified)'!$T$3142,'Base Data wHSA (NCI Modified)'!$K154,COLUMNS(COUNTIES!$D$2:I154)),\"\")","v":""},{"$f":"IFERROR(INDEX('Base Data wHSA (NCI Modified)'!$L$2:'Base Data wHSA (NCI Modified)'!$T$3142,'Base Data wHSA (NCI Modified)'!$K154,COLUMNS(COUNTIES!$D$2:J154)),\"\")","v":""},{"$f":"IFERROR(INDEX('Base Data wHSA (NCI Modified)'!$L$2:'Base Data wHSA (NCI Modified)'!$T$3142,'Base Data wHSA (NCI Modified)'!$K154,COLUMNS(COUNTIES!$D$2:K154)),\"\")","v":""},{"$f":"IFERROR(INDEX('Base Data wHSA (NCI Modified)'!$L$2:'Base Data wHSA (NCI Modified)'!$T$3142,'Base Data wHSA (NCI Modified)'!$K154,COLUMNS(COUNTIES!$D$2:L154)),\"\")","v":""}]
[{"$f":"ROWS($E$2:E155)","v":154},{"$f":"IF(E155=WORKSHEET!$B$2,A155,\"\")","v":""},"",{"$f":"IFERROR(INDEX('Base Data wHSA (NCI Modified)'!$L$2:'Base Data wHSA (NCI Modified)'!$T$3142,'Base Data wHSA (NCI Modified)'!$K155,COLUMNS(COUNTIES!$D$2:D155)),\"\")","v":""},{"$f":"IFERROR(INDEX('Base Data wHSA (NCI Modified)'!$L$2:'Base Data wHSA (NCI Modified)'!$T$3142,'Base Data wHSA (NCI Modified)'!$K155,COLUMNS(COUNTIES!$D$2:E155)),\"\")","v":""},{"$f":"IFERROR(INDEX('Base Data wHSA (NCI Modified)'!$L$2:'Base Data wHSA (NCI Modified)'!$T$3142,'Base Data wHSA (NCI Modified)'!$K155,COLUMNS(COUNTIES!$D$2:F155)),\"\")","v":""},{"$f":"IFERROR(INDEX('Base Data wHSA (NCI Modified)'!$L$2:'Base Data wHSA (NCI Modified)'!$T$3142,'Base Data wHSA (NCI Modified)'!$K155,COLUMNS(COUNTIES!$D$2:G155)),\"\")","v":""},{"$f":"IFERROR(INDEX('Base Data wHSA (NCI Modified)'!$L$2:'Base Data wHSA (NCI Modified)'!$T$3142,'Base Data wHSA (NCI Modified)'!$K155,COLUMNS(COUNTIES!$D$2:H155)),\"\")","v":""},{"$f":"IFERROR(INDEX('Base Data wHSA (NCI Modified)'!$L$2:'Base Data wHSA (NCI Modified)'!$T$3142,'Base Data wHSA (NCI Modified)'!$K155,COLUMNS(COUNTIES!$D$2:I155)),\"\")","v":""},{"$f":"IFERROR(INDEX('Base Data wHSA (NCI Modified)'!$L$2:'Base Data wHSA (NCI Modified)'!$T$3142,'Base Data wHSA (NCI Modified)'!$K155,COLUMNS(COUNTIES!$D$2:J155)),\"\")","v":""},{"$f":"IFERROR(INDEX('Base Data wHSA (NCI Modified)'!$L$2:'Base Data wHSA (NCI Modified)'!$T$3142,'Base Data wHSA (NCI Modified)'!$K155,COLUMNS(COUNTIES!$D$2:K155)),\"\")","v":""},{"$f":"IFERROR(INDEX('Base Data wHSA (NCI Modified)'!$L$2:'Base Data wHSA (NCI Modified)'!$T$3142,'Base Data wHSA (NCI Modified)'!$K155,COLUMNS(COUNTIES!$D$2:L155)),\"\")","v":""}]
[{"$f":"ROWS($E$2:E156)","v":155},{"$f":"IF(E156=WORKSHEET!$B$2,A156,\"\")","v":""},"",{"$f":"IFERROR(INDEX('Base Data wHSA (NCI Modified)'!$L$2:'Base Data wHSA (NCI Modified)'!$T$3142,'Base Data wHSA (NCI Modified)'!$K156,COLUMNS(COUNTIES!$D$2:D156)),\"\")","v":""},{"$f":"IFERROR(INDEX('Base Data wHSA (NCI Modified)'!$L$2:'Base Data wHSA (NCI Modified)'!$T$3142,'Base Data wHSA (NCI Modified)'!$K156,COLUMNS(COUNTIES!$D$2:E156)),\"\")","v":""},{"$f":"IFERROR(INDEX('Base Data wHSA (NCI Modified)'!$L$2:'Base Data wHSA (NCI Modified)'!$T$3142,'Base Data wHSA (NCI Modified)'!$K156,COLUMNS(COUNTIES!$D$2:F156)),\"\")","v":""},{"$f":"IFERROR(INDEX('Base Data wHSA (NCI Modified)'!$L$2:'Base Data wHSA (NCI Modified)'!$T$3142,'Base Data wHSA (NCI Modified)'!$K156,COLUMNS(COUNTIES!$D$2:G156)),\"\")","v":""},{"$f":"IFERROR(INDEX('Base Data wHSA (NCI Modified)'!$L$2:'Base Data wHSA (NCI Modified)'!$T$3142,'Base Data wHSA (NCI Modified)'!$K156,COLUMNS(COUNTIES!$D$2:H156)),\"\")","v":""},{"$f":"IFERROR(INDEX('Base Data wHSA (NCI Modified)'!$L$2:'Base Data wHSA (NCI Modified)'!$T$3142,'Base Data wHSA (NCI Modified)'!$K156,COLUMNS(COUNTIES!$D$2:I156)),\"\")","v":""},{"$f":"IFERROR(INDEX('Base Data wHSA (NCI Modified)'!$L$2:'Base Data wHSA (NCI Modified)'!$T$3142,'Base Data wHSA (NCI Modified)'!$K156,COLUMNS(COUNTIES!$D$2:J156)),\"\")","v":""},{"$f":"IFERROR(INDEX('Base Data wHSA (NCI Modified)'!$L$2:'Base Data wHSA (NCI Modified)'!$T$3142,'Base Data wHSA (NCI Modified)'!$K156,COLUMNS(COUNTIES!$D$2:K156)),\"\")","v":""},{"$f":"IFERROR(INDEX('Base Data wHSA (NCI Modified)'!$L$2:'Base Data wHSA (NCI Modified)'!$T$3142,'Base Data wHSA (NCI Modified)'!$K156,COLUMNS(COUNTIES!$D$2:L156)),\"\")","v":""}]
[{"$f":"ROWS($E$2:E157)","v":156},{"$f":"IF(E157=WORKSHEET!$B$2,A157,\"\")","v":""},"",{"$f":"IFERROR(INDEX('Base Data wHSA (NCI Modified)'!$L$2:'Base Data wHSA (NCI Modified)'!$T$3142,'Base Data wHSA (NCI Modified)'!$K157,COLUMNS(COUNTIES!$D$2:D157)),\"\")","v":""},{"$f":"IFERROR(INDEX('Base Data wHSA (NCI Modified)'!$L$2:'Base Data wHSA (NCI Modified)'!$T$3142,'Base Data wHSA (NCI Modified)'!$K157,COLUMNS(COUNTIES!$D$2:E157)),\"\")","v":""},{"$f":"IFERROR(INDEX('Base Data wHSA (NCI Modified)'!$L$2:'Base Data wHSA (NCI Modified)'!$T$3142,'Base Data wHSA (NCI Modified)'!$K157,COLUMNS(COUNTIES!$D$2:F157)),\"\")","v":""},{"$f":"IFERROR(INDEX('Base Data wHSA (NCI Modified)'!$L$2:'Base Data wHSA (NCI Modified)'!$T$3142,'Base Data wHSA (NCI Modified)'!$K157,COLUMNS(COUNTIES!$D$2:G157)),\"\")","v":""},{"$f":"IFERROR(INDEX('Base Data wHSA (NCI Modified)'!$L$2:'Base Data wHSA (NCI Modified)'!$T$3142,'Base Data wHSA (NCI Modified)'!$K157,COLUMNS(COUNTIES!$D$2:H157)),\"\")","v":""},{"$f":"IFERROR(INDEX('Base Data wHSA (NCI Modified)'!$L$2:'Base Data wHSA (NCI Modified)'!$T$3142,'Base Data wHSA (NCI Modified)'!$K157,COLUMNS(COUNTIES!$D$2:I157)),\"\")","v":""},{"$f":"IFERROR(INDEX('Base Data wHSA (NCI Modified)'!$L$2:'Base Data wHSA (NCI Modified)'!$T$3142,'Base Data wHSA (NCI Modified)'!$K157,COLUMNS(COUNTIES!$D$2:J157)),\"\")","v":""},{"$f":"IFERROR(INDEX('Base Data wHSA (NCI Modified)'!$L$2:'Base Data wHSA (NCI Modified)'!$T$3142,'Base Data wHSA (NCI Modified)'!$K157,COLUMNS(COUNTIES!$D$2:K157)),\"\")","v":""},{"$f":"IFERROR(INDEX('Base Data wHSA (NCI Modified)'!$L$2:'Base Data wHSA (NCI Modified)'!$T$3142,'Base Data wHSA (NCI Modified)'!$K157,COLUMNS(COUNTIES!$D$2:L157)),\"\")","v":""}]
[{"$f":"ROWS($E$2:E158)","v":157},{"$f":"IF(E158=WORKSHEET!$B$2,A158,\"\")","v":""},"",{"$f":"IFERROR(INDEX('Base Data wHSA (NCI Modified)'!$L$2:'Base Data wHSA (NCI Modified)'!$T$3142,'Base Data wHSA (NCI Modified)'!$K158,COLUMNS(COUNTIES!$D$2:D158)),\"\")","v":""},{"$f":"IFERROR(INDEX('Base Data wHSA (NCI Modified)'!$L$2:'Base Data wHSA (NCI Modified)'!$T$3142,'Base Data wHSA (NCI Modified)'!$K158,COLUMNS(COUNTIES!$D$2:E158)),\"\")","v":""},{"$f":"IFERROR(INDEX('Base Data wHSA (NCI Modified)'!$L$2:'Base Data wHSA (NCI Modified)'!$T$3142,'Base Data wHSA (NCI Modified)'!$K158,COLUMNS(COUNTIES!$D$2:F158)),\"\")","v":""},{"$f":"IFERROR(INDEX('Base Data wHSA (NCI Modified)'!$L$2:'Base Data wHSA (NCI Modified)'!$T$3142,'Base Data wHSA (NCI Modified)'!$K158,COLUMNS(COUNTIES!$D$2:G158)),\"\")","v":""},{"$f":"IFERROR(INDEX('Base Data wHSA (NCI Modified)'!$L$2:'Base Data wHSA (NCI Modified)'!$T$3142,'Base Data wHSA (NCI Modified)'!$K158,COLUMNS(COUNTIES!$D$2:H158)),\"\")","v":""},{"$f":"IFERROR(INDEX('Base Data wHSA (NCI Modified)'!$L$2:'Base Data wHSA (NCI Modified)'!$T$3142,'Base Data wHSA (NCI Modified)'!$K158,COLUMNS(COUNTIES!$D$2:I158)),\"\")","v":""},{"$f":"IFERROR(INDEX('Base Data wHSA (NCI Modified)'!$L$2:'Base Data wHSA (NCI Modified)'!$T$3142,'Base Data wHSA (NCI Modified)'!$K158,COLUMNS(COUNTIES!$D$2:J158)),\"\")","v":""},{"$f":"IFERROR(INDEX('Base Data wHSA (NCI Modified)'!$L$2:'Base Data wHSA (NCI Modified)'!$T$3142,'Base Data wHSA (NCI Modified)'!$K158,COLUMNS(COUNTIES!$D$2:K158)),\"\")","v":""},{"$f":"IFERROR(INDEX('Base Data wHSA (NCI Modified)'!$L$2:'Base Data wHSA (NCI Modified)'!$T$3142,'Base Data wHSA (NCI Modified)'!$K158,COLUMNS(COUNTIES!$D$2:L158)),\"\")","v":""}]
[{"$f":"ROWS($E$2:E159)","v":158},{"$f":"IF(E159=WORKSHEET!$B$2,A159,\"\")","v":""},"",{"$f":"IFERROR(INDEX('Base Data wHSA (NCI Modified)'!$L$2:'Base Data wHSA (NCI Modified)'!$T$3142,'Base Data wHSA (NCI Modified)'!$K159,COLUMNS(COUNTIES!$D$2:D159)),\"\")","v":""},{"$f":"IFERROR(INDEX('Base Data wHSA (NCI Modified)'!$L$2:'Base Data wHSA (NCI Modified)'!$T$3142,'Base Data wHSA (NCI Modified)'!$K159,COLUMNS(COUNTIES!$D$2:E159)),\"\")","v":""},{"$f":"IFERROR(INDEX('Base Data wHSA (NCI Modified)'!$L$2:'Base Data wHSA (NCI Modified)'!$T$3142,'Base Data wHSA (NCI Modified)'!$K159,COLUMNS(COUNTIES!$D$2:F159)),\"\")","v":""},{"$f":"IFERROR(INDEX('Base Data wHSA (NCI Modified)'!$L$2:'Base Data wHSA (NCI Modified)'!$T$3142,'Base Data wHSA (NCI Modified)'!$K159,COLUMNS(COUNTIES!$D$2:G159)),\"\")","v":""},{"$f":"IFERROR(INDEX('Base Data wHSA (NCI Modified)'!$L$2:'Base Data wHSA (NCI Modified)'!$T$3142,'Base Data wHSA (NCI Modified)'!$K159,COLUMNS(COUNTIES!$D$2:H159)),\"\")","v":""},{"$f":"IFERROR(INDEX('Base Data wHSA (NCI Modified)'!$L$2:'Base Data wHSA (NCI Modified)'!$T$3142,'Base Data wHSA (NCI Modified)'!$K159,COLUMNS(COUNTIES!$D$2:I159)),\"\")","v":""},{"$f":"IFERROR(INDEX('Base Data wHSA (NCI Modified)'!$L$2:'Base Data wHSA (NCI Modified)'!$T$3142,'Base Data wHSA (NCI Modified)'!$K159,COLUMNS(COUNTIES!$D$2:J159)),\"\")","v":""},{"$f":"IFERROR(INDEX('Base Data wHSA (NCI Modified)'!$L$2:'Base Data wHSA (NCI Modified)'!$T$3142,'Base Data wHSA (NCI Modified)'!$K159,COLUMNS(COUNTIES!$D$2:K159)),\"\")","v":""},{"$f":"IFERROR(INDEX('Base Data wHSA (NCI Modified)'!$L$2:'Base Data wHSA (NCI Modified)'!$T$3142,'Base Data wHSA (NCI Modified)'!$K159,COLUMNS(COUNTIES!$D$2:L159)),\"\")","v":""}]
[{"$f":"ROWS($E$2:E160)","v":159},{"$f":"IF(E160=WORKSHEET!$B$2,A160,\"\")","v":""},"",{"$f":"IFERROR(INDEX('Base Data wHSA (NCI Modified)'!$L$2:'Base Data wHSA (NCI Modified)'!$T$3142,'Base Data wHSA (NCI Modified)'!$K160,COLUMNS(COUNTIES!$D$2:D160)),\"\")","v":""},{"$f":"IFERROR(INDEX('Base Data wHSA (NCI Modified)'!$L$2:'Base Data wHSA (NCI Modified)'!$T$3142,'Base Data wHSA (NCI Modified)'!$K160,COLUMNS(COUNTIES!$D$2:E160)),\"\")","v":""},{"$f":"IFERROR(INDEX('Base Data wHSA (NCI Modified)'!$L$2:'Base Data wHSA (NCI Modified)'!$T$3142,'Base Data wHSA (NCI Modified)'!$K160,COLUMNS(COUNTIES!$D$2:F160)),\"\")","v":""},{"$f":"IFERROR(INDEX('Base Data wHSA (NCI Modified)'!$L$2:'Base Data wHSA (NCI Modified)'!$T$3142,'Base Data wHSA (NCI Modified)'!$K160,COLUMNS(COUNTIES!$D$2:G160)),\"\")","v":""},{"$f":"IFERROR(INDEX('Base Data wHSA (NCI Modified)'!$L$2:'Base Data wHSA (NCI Modified)'!$T$3142,'Base Data wHSA (NCI Modified)'!$K160,COLUMNS(COUNTIES!$D$2:H160)),\"\")","v":""},{"$f":"IFERROR(INDEX('Base Data wHSA (NCI Modified)'!$L$2:'Base Data wHSA (NCI Modified)'!$T$3142,'Base Data wHSA (NCI Modified)'!$K160,COLUMNS(COUNTIES!$D$2:I160)),\"\")","v":""},{"$f":"IFERROR(INDEX('Base Data wHSA (NCI Modified)'!$L$2:'Base Data wHSA (NCI Modified)'!$T$3142,'Base Data wHSA (NCI Modified)'!$K160,COLUMNS(COUNTIES!$D$2:J160)),\"\")","v":""},{"$f":"IFERROR(INDEX('Base Data wHSA (NCI Modified)'!$L$2:'Base Data wHSA (NCI Modified)'!$T$3142,'Base Data wHSA (NCI Modified)'!$K160,COLUMNS(COUNTIES!$D$2:K160)),\"\")","v":""},{"$f":"IFERROR(INDEX('Base Data wHSA (NCI Modified)'!$L$2:'Base Data wHSA (NCI Modified)'!$T$3142,'Base Data wHSA (NCI Modified)'!$K160,COLUMNS(COUNTIES!$D$2:L160)),\"\")","v":""}]
[{"$f":"ROWS($E$2:E161)","v":160},{"$f":"IF(E161=WORKSHEET!$B$2,A161,\"\")","v":""},"",{"$f":"IFERROR(INDEX('Base Data wHSA (NCI Modified)'!$L$2:'Base Data wHSA (NCI Modified)'!$T$3142,'Base Data wHSA (NCI Modified)'!$K161,COLUMNS(COUNTIES!$D$2:D161)),\"\")","v":""},{"$f":"IFERROR(INDEX('Base Data wHSA (NCI Modified)'!$L$2:'Base Data wHSA (NCI Modified)'!$T$3142,'Base Data wHSA (NCI Modified)'!$K161,COLUMNS(COUNTIES!$D$2:E161)),\"\")","v":""},{"$f":"IFERROR(INDEX('Base Data wHSA (NCI Modified)'!$L$2:'Base Data wHSA (NCI Modified)'!$T$3142,'Base Data wHSA (NCI Modified)'!$K161,COLUMNS(COUNTIES!$D$2:F161)),\"\")","v":""},{"$f":"IFERROR(INDEX('Base Data wHSA (NCI Modified)'!$L$2:'Base Data wHSA (NCI Modified)'!$T$3142,'Base Data wHSA (NCI Modified)'!$K161,COLUMNS(COUNTIES!$D$2:G161)),\"\")","v":""},{"$f":"IFERROR(INDEX('Base Data wHSA (NCI Modified)'!$L$2:'Base Data wHSA (NCI Modified)'!$T$3142,'Base Data wHSA (NCI Modified)'!$K161,COLUMNS(COUNTIES!$D$2:H161)),\"\")","v":""},{"$f":"IFERROR(INDEX('Base Data wHSA (NCI Modified)'!$L$2:'Base Data wHSA (NCI Modified)'!$T$3142,'Base Data wHSA (NCI Modified)'!$K161,COLUMNS(COUNTIES!$D$2:I161)),\"\")","v":""},{"$f":"IFERROR(INDEX('Base Data wHSA (NCI Modified)'!$L$2:'Base Data wHSA (NCI Modified)'!$T$3142,'Base Data wHSA (NCI Modified)'!$K161,COLUMNS(COUNTIES!$D$2:J161)),\"\")","v":""},{"$f":"IFERROR(INDEX('Base Data wHSA (NCI Modified)'!$L$2:'Base Data wHSA (NCI Modified)'!$T$3142,'Base Data wHSA (NCI Modified)'!$K161,COLUMNS(COUNTIES!$D$2:K161)),\"\")","v":""},{"$f":"IFERROR(INDEX('Base Data wHSA (NCI Modified)'!$L$2:'Base Data wHSA (NCI Modified)'!$T$3142,'Base Data wHSA (NCI Modified)'!$K161,COLUMNS(COUNTIES!$D$2:L161)),\"\")","v":""}]
[{"$f":"ROWS($E$2:E162)","v":161},{"$f":"IF(E162=WORKSHEET!$B$2,A162,\"\")","v":""},"",{"$f":"IFERROR(INDEX('Base Data wHSA (NCI Modified)'!$L$2:'Base Data wHSA (NCI Modified)'!$T$3142,'Base Data wHSA (NCI Modified)'!$K162,COLUMNS(COUNTIES!$D$2:D162)),\"\")","v":""},{"$f":"IFERROR(INDEX('Base Data wHSA (NCI Modified)'!$L$2:'Base Data wHSA (NCI Modified)'!$T$3142,'Base Data wHSA (NCI Modified)'!$K162,COLUMNS(COUNTIES!$D$2:E162)),\"\")","v":""},{"$f":"IFERROR(INDEX('Base Data wHSA (NCI Modified)'!$L$2:'Base Data wHSA (NCI Modified)'!$T$3142,'Base Data wHSA (NCI Modified)'!$K162,COLUMNS(COUNTIES!$D$2:F162)),\"\")","v":""},{"$f":"IFERROR(INDEX('Base Data wHSA (NCI Modified)'!$L$2:'Base Data wHSA (NCI Modified)'!$T$3142,'Base Data wHSA (NCI Modified)'!$K162,COLUMNS(COUNTIES!$D$2:G162)),\"\")","v":""},{"$f":"IFERROR(INDEX('Base Data wHSA (NCI Modified)'!$L$2:'Base Data wHSA (NCI Modified)'!$T$3142,'Base Data wHSA (NCI Modified)'!$K162,COLUMNS(COUNTIES!$D$2:H162)),\"\")","v":""},{"$f":"IFERROR(INDEX('Base Data wHSA (NCI Modified)'!$L$2:'Base Data wHSA (NCI Modified)'!$T$3142,'Base Data wHSA (NCI Modified)'!$K162,COLUMNS(COUNTIES!$D$2:I162)),\"\")","v":""},{"$f":"IFERROR(INDEX('Base Data wHSA (NCI Modified)'!$L$2:'Base Data wHSA (NCI Modified)'!$T$3142,'Base Data wHSA (NCI Modified)'!$K162,COLUMNS(COUNTIES!$D$2:J162)),\"\")","v":""},{"$f":"IFERROR(INDEX('Base Data wHSA (NCI Modified)'!$L$2:'Base Data wHSA (NCI Modified)'!$T$3142,'Base Data wHSA (NCI Modified)'!$K162,COLUMNS(COUNTIES!$D$2:K162)),\"\")","v":""},{"$f":"IFERROR(INDEX('Base Data wHSA (NCI Modified)'!$L$2:'Base Data wHSA (NCI Modified)'!$T$3142,'Base Data wHSA (NCI Modified)'!$K162,COLUMNS(COUNTIES!$D$2:L162)),\"\")","v":""}]
[{"$f":"ROWS($E$2:E163)","v":162},{"$f":"IF(E163=WORKSHEET!$B$2,A163,\"\")","v":""},"",{"$f":"IFERROR(INDEX('Base Data wHSA (NCI Modified)'!$L$2:'Base Data wHSA (NCI Modified)'!$T$3142,'Base Data wHSA (NCI Modified)'!$K163,COLUMNS(COUNTIES!$D$2:D163)),\"\")","v":""},{"$f":"IFERROR(INDEX('Base Data wHSA (NCI Modified)'!$L$2:'Base Data wHSA (NCI Modified)'!$T$3142,'Base Data wHSA (NCI Modified)'!$K163,COLUMNS(COUNTIES!$D$2:E163)),\"\")","v":""},{"$f":"IFERROR(INDEX('Base Data wHSA (NCI Modified)'!$L$2:'Base Data wHSA (NCI Modified)'!$T$3142,'Base Data wHSA (NCI Modified)'!$K163,COLUMNS(COUNTIES!$D$2:F163)),\"\")","v":""},{"$f":"IFERROR(INDEX('Base Data wHSA (NCI Modified)'!$L$2:'Base Data wHSA (NCI Modified)'!$T$3142,'Base Data wHSA (NCI Modified)'!$K163,COLUMNS(COUNTIES!$D$2:G163)),\"\")","v":""},{"$f":"IFERROR(INDEX('Base Data wHSA (NCI Modified)'!$L$2:'Base Data wHSA (NCI Modified)'!$T$3142,'Base Data wHSA (NCI Modified)'!$K163,COLUMNS(COUNTIES!$D$2:H163)),\"\")","v":""},{"$f":"IFERROR(INDEX('Base Data wHSA (NCI Modified)'!$L$2:'Base Data wHSA (NCI Modified)'!$T$3142,'Base Data wHSA (NCI Modified)'!$K163,COLUMNS(COUNTIES!$D$2:I163)),\"\")","v":""},{"$f":"IFERROR(INDEX('Base Data wHSA (NCI Modified)'!$L$2:'Base Data wHSA (NCI Modified)'!$T$3142,'Base Data wHSA (NCI Modified)'!$K163,COLUMNS(COUNTIES!$D$2:J163)),\"\")","v":""},{"$f":"IFERROR(INDEX('Base Data wHSA (NCI Modified)'!$L$2:'Base Data wHSA (NCI Modified)'!$T$3142,'Base Data wHSA (NCI Modified)'!$K163,COLUMNS(COUNTIES!$D$2:K163)),\"\")","v":""},{"$f":"IFERROR(INDEX('Base Data wHSA (NCI Modified)'!$L$2:'Base Data wHSA (NCI Modified)'!$T$3142,'Base Data wHSA (NCI Modified)'!$K163,COLUMNS(COUNTIES!$D$2:L163)),\"\")","v":""}]
[{"$f":"ROWS($E$2:E164)","v":163},{"$f":"IF(E164=WORKSHEET!$B$2,A164,\"\")","v":""},"",{"$f":"IFERROR(INDEX('Base Data wHSA (NCI Modified)'!$L$2:'Base Data wHSA (NCI Modified)'!$T$3142,'Base Data wHSA (NCI Modified)'!$K164,COLUMNS(COUNTIES!$D$2:D164)),\"\")","v":""},{"$f":"IFERROR(INDEX('Base Data wHSA (NCI Modified)'!$L$2:'Base Data wHSA (NCI Modified)'!$T$3142,'Base Data wHSA (NCI Modified)'!$K164,COLUMNS(COUNTIES!$D$2:E164)),\"\")","v":""},{"$f":"IFERROR(INDEX('Base Data wHSA (NCI Modified)'!$L$2:'Base Data wHSA (NCI Modified)'!$T$3142,'Base Data wHSA (NCI Modified)'!$K164,COLUMNS(COUNTIES!$D$2:F164)),\"\")","v":""},{"$f":"IFERROR(INDEX('Base Data wHSA (NCI Modified)'!$L$2:'Base Data wHSA (NCI Modified)'!$T$3142,'Base Data wHSA (NCI Modified)'!$K164,COLUMNS(COUNTIES!$D$2:G164)),\"\")","v":""},{"$f":"IFERROR(INDEX('Base Data wHSA (NCI Modified)'!$L$2:'Base Data wHSA (NCI Modified)'!$T$3142,'Base Data wHSA (NCI Modified)'!$K164,COLUMNS(COUNTIES!$D$2:H164)),\"\")","v":""},{"$f":"IFERROR(INDEX('Base Data wHSA (NCI Modified)'!$L$2:'Base Data wHSA (NCI Modified)'!$T$3142,'Base Data wHSA (NCI Modified)'!$K164,COLUMNS(COUNTIES!$D$2:I164)),\"\")","v":""},{"$f":"IFERROR(INDEX('Base Data wHSA (NCI Modified)'!$L$2:'Base Data wHSA (NCI Modified)'!$T$3142,'Base Data wHSA (NCI Modified)'!$K164,COLUMNS(COUNTIES!$D$2:J164)),\"\")","v":""},{"$f":"IFERROR(INDEX('Base Data wHSA (NCI Modified)'!$L$2:'Base Data wHSA (NCI Modified)'!$T$3142,'Base Data wHSA (NCI Modified)'!$K164,COLUMNS(COUNTIES!$D$2:K164)),\"\")","v":""},{"$f":"IFERROR(INDEX('Base Data wHSA (NCI Modified)'!$L$2:'Base Data wHSA (NCI Modified)'!$T$3142,'Base Data wHSA (NCI Modified)'!$K164,COLUMNS(COUNTIES!$D$2:L164)),\"\")","v":""}]
[{"$f":"ROWS($E$2:E165)","v":164},{"$f":"IF(E165=WORKSHEET!$B$2,A165,\"\")","v":""},"",{"$f":"IFERROR(INDEX('Base Data wHSA (NCI Modified)'!$L$2:'Base Data wHSA (NCI Modified)'!$T$3142,'Base Data wHSA (NCI Modified)'!$K165,COLUMNS(COUNTIES!$D$2:D165)),\"\")","v":""},{"$f":"IFERROR(INDEX('Base Data wHSA (NCI Modified)'!$L$2:'Base Data wHSA (NCI Modified)'!$T$3142,'Base Data wHSA (NCI Modified)'!$K165,COLUMNS(COUNTIES!$D$2:E165)),\"\")","v":""},{"$f":"IFERROR(INDEX('Base Data wHSA (NCI Modified)'!$L$2:'Base Data wHSA (NCI Modified)'!$T$3142,'Base Data wHSA (NCI Modified)'!$K165,COLUMNS(COUNTIES!$D$2:F165)),\"\")","v":""},{"$f":"IFERROR(INDEX('Base Data wHSA (NCI Modified)'!$L$2:'Base Data wHSA (NCI Modified)'!$T$3142,'Base Data wHSA (NCI Modified)'!$K165,COLUMNS(COUNTIES!$D$2:G165)),\"\")","v":""},{"$f":"IFERROR(INDEX('Base Data wHSA (NCI Modified)'!$L$2:'Base Data wHSA (NCI Modified)'!$T$3142,'Base Data wHSA (NCI Modified)'!$K165,COLUMNS(COUNTIES!$D$2:H165)),\"\")","v":""},{"$f":"IFERROR(INDEX('Base Data wHSA (NCI Modified)'!$L$2:'Base Data wHSA (NCI Modified)'!$T$3142,'Base Data wHSA (NCI Modified)'!$K165,COLUMNS(COUNTIES!$D$2:I165)),\"\")","v":""},{"$f":"IFERROR(INDEX('Base Data wHSA (NCI Modified)'!$L$2:'Base Data wHSA (NCI Modified)'!$T$3142,'Base Data wHSA (NCI Modified)'!$K165,COLUMNS(COUNTIES!$D$2:J165)),\"\")","v":""},{"$f":"IFERROR(INDEX('Base Data wHSA (NCI Modified)'!$L$2:'Base Data wHSA (NCI Modified)'!$T$3142,'Base Data wHSA (NCI Modified)'!$K165,COLUMNS(COUNTIES!$D$2:K165)),\"\")","v":""},{"$f":"IFERROR(INDEX('Base Data wHSA (NCI Modified)'!$L$2:'Base Data wHSA (NCI Modified)'!$T$3142,'Base Data wHSA (NCI Modified)'!$K165,COLUMNS(COUNTIES!$D$2:L165)),\"\")","v":""}]
[{"$f":"ROWS($E$2:E166)","v":165},{"$f":"IF(E166=WORKSHEET!$B$2,A166,\"\")","v":""},"",{"$f":"IFERROR(INDEX('Base Data wHSA (NCI Modified)'!$L$2:'Base Data wHSA (NCI Modified)'!$T$3142,'Base Data wHSA (NCI Modified)'!$K166,COLUMNS(COUNTIES!$D$2:D166)),\"\")","v":""},{"$f":"IFERROR(INDEX('Base Data wHSA (NCI Modified)'!$L$2:'Base Data wHSA (NCI Modified)'!$T$3142,'Base Data wHSA (NCI Modified)'!$K166,COLUMNS(COUNTIES!$D$2:E166)),\"\")","v":""},{"$f":"IFERROR(INDEX('Base Data wHSA (NCI Modified)'!$L$2:'Base Data wHSA (NCI Modified)'!$T$3142,'Base Data wHSA (NCI Modified)'!$K166,COLUMNS(COUNTIES!$D$2:F166)),\"\")","v":""},{"$f":"IFERROR(INDEX('Base Data wHSA (NCI Modified)'!$L$2:'Base Data wHSA (NCI Modified)'!$T$3142,'Base Data wHSA (NCI Modified)'!$K166,COLUMNS(COUNTIES!$D$2:G166)),\"\")","v":""},{"$f":"IFERROR(INDEX('Base Data wHSA (NCI Modified)'!$L$2:'Base Data wHSA (NCI Modified)'!$T$3142,'Base Data wHSA (NCI Modified)'!$K166,COLUMNS(COUNTIES!$D$2:H166)),\"\")","v":""},{"$f":"IFERROR(INDEX('Base Data wHSA (NCI Modified)'!$L$2:'Base Data wHSA (NCI Modified)'!$T$3142,'Base Data wHSA (NCI Modified)'!$K166,COLUMNS(COUNTIES!$D$2:I166)),\"\")","v":""},{"$f":"IFERROR(INDEX('Base Data wHSA (NCI Modified)'!$L$2:'Base Data wHSA (NCI Modified)'!$T$3142,'Base Data wHSA (NCI Modified)'!$K166,COLUMNS(COUNTIES!$D$2:J166)),\"\")","v":""},{"$f":"IFERROR(INDEX('Base Data wHSA (NCI Modified)'!$L$2:'Base Data wHSA (NCI Modified)'!$T$3142,'Base Data wHSA (NCI Modified)'!$K166,COLUMNS(COUNTIES!$D$2:K166)),\"\")","v":""},{"$f":"IFERROR(INDEX('Base Data wHSA (NCI Modified)'!$L$2:'Base Data wHSA (NCI Modified)'!$T$3142,'Base Data wHSA (NCI Modified)'!$K166,COLUMNS(COUNTIES!$D$2:L166)),\"\")","v":""}]
[{"$f":"ROWS($E$2:E167)","v":166},{"$f":"IF(E167=WORKSHEET!$B$2,A167,\"\")","v":""},"",{"$f":"IFERROR(INDEX('Base Data wHSA (NCI Modified)'!$L$2:'Base Data wHSA (NCI Modified)'!$T$3142,'Base Data wHSA (NCI Modified)'!$K167,COLUMNS(COUNTIES!$D$2:D167)),\"\")","v":""},{"$f":"IFERROR(INDEX('Base Data wHSA (NCI Modified)'!$L$2:'Base Data wHSA (NCI Modified)'!$T$3142,'Base Data wHSA (NCI Modified)'!$K167,COLUMNS(COUNTIES!$D$2:E167)),\"\")","v":""},{"$f":"IFERROR(INDEX('Base Data wHSA (NCI Modified)'!$L$2:'Base Data wHSA (NCI Modified)'!$T$3142,'Base Data wHSA (NCI Modified)'!$K167,COLUMNS(COUNTIES!$D$2:F167)),\"\")","v":""},{"$f":"IFERROR(INDEX('Base Data wHSA (NCI Modified)'!$L$2:'Base Data wHSA (NCI Modified)'!$T$3142,'Base Data wHSA (NCI Modified)'!$K167,COLUMNS(COUNTIES!$D$2:G167)),\"\")","v":""},{"$f":"IFERROR(INDEX('Base Data wHSA (NCI Modified)'!$L$2:'Base Data wHSA (NCI Modified)'!$T$3142,'Base Data wHSA (NCI Modified)'!$K167,COLUMNS(COUNTIES!$D$2:H167)),\"\")","v":""},{"$f":"IFERROR(INDEX('Base Data wHSA (NCI Modified)'!$L$2:'Base Data wHSA (NCI Modified)'!$T$3142,'Base Data wHSA (NCI Modified)'!$K167,COLUMNS(COUNTIES!$D$2:I167)),\"\")","v":""},{"$f":"IFERROR(INDEX('Base Data wHSA (NCI Modified)'!$L$2:'Base Data wHSA (NCI Modified)'!$T$3142,'Base Data wHSA (NCI Modified)'!$K167,COLUMNS(COUNTIES!$D$2:J167)),\"\")","v":""},{"$f":"IFERROR(INDEX('Base Data wHSA (NCI Modified)'!$L$2:'Base Data wHSA (NCI Modified)'!$T$3142,'Base Data wHSA (NCI Modified)'!$K167,COLUMNS(COUNTIES!$D$2:K167)),\"\")","v":""},{"$f":"IFERROR(INDEX('Base Data wHSA (NCI Modified)'!$L$2:'Base Data wHSA (NCI Modified)'!$T$3142,'Base Data wHSA (NCI Modified)'!$K167,COLUMNS(COUNTIES!$D$2:L167)),\"\")","v":""}]
[{"$f":"ROWS($E$2:E168)","v":167},{"$f":"IF(E168=WORKSHEET!$B$2,A168,\"\")","v":""},"",{"$f":"IFERROR(INDEX('Base Data wHSA (NCI Modified)'!$L$2:'Base Data wHSA (NCI Modified)'!$T$3142,'Base Data wHSA (NCI Modified)'!$K168,COLUMNS(COUNTIES!$D$2:D168)),\"\")","v":""},{"$f":"IFERROR(INDEX('Base Data wHSA (NCI Modified)'!$L$2:'Base Data wHSA (NCI Modified)'!$T$3142,'Base Data wHSA (NCI Modified)'!$K168,COLUMNS(COUNTIES!$D$2:E168)),\"\")","v":""},{"$f":"IFERROR(INDEX('Base Data wHSA (NCI Modified)'!$L$2:'Base Data wHSA (NCI Modified)'!$T$3142,'Base Data wHSA (NCI Modified)'!$K168,COLUMNS(COUNTIES!$D$2:F168)),\"\")","v":""},{"$f":"IFERROR(INDEX('Base Data wHSA (NCI Modified)'!$L$2:'Base Data wHSA (NCI Modified)'!$T$3142,'Base Data wHSA (NCI Modified)'!$K168,COLUMNS(COUNTIES!$D$2:G168)),\"\")","v":""},{"$f":"IFERROR(INDEX('Base Data wHSA (NCI Modified)'!$L$2:'Base Data wHSA (NCI Modified)'!$T$3142,'Base Data wHSA (NCI Modified)'!$K168,COLUMNS(COUNTIES!$D$2:H168)),\"\")","v":""},{"$f":"IFERROR(INDEX('Base Data wHSA (NCI Modified)'!$L$2:'Base Data wHSA (NCI Modified)'!$T$3142,'Base Data wHSA (NCI Modified)'!$K168,COLUMNS(COUNTIES!$D$2:I168)),\"\")","v":""},{"$f":"IFERROR(INDEX('Base Data wHSA (NCI Modified)'!$L$2:'Base Data wHSA (NCI Modified)'!$T$3142,'Base Data wHSA (NCI Modified)'!$K168,COLUMNS(COUNTIES!$D$2:J168)),\"\")","v":""},{"$f":"IFERROR(INDEX('Base Data wHSA (NCI Modified)'!$L$2:'Base Data wHSA (NCI Modified)'!$T$3142,'Base Data wHSA (NCI Modified)'!$K168,COLUMNS(COUNTIES!$D$2:K168)),\"\")","v":""},{"$f":"IFERROR(INDEX('Base Data wHSA (NCI Modified)'!$L$2:'Base Data wHSA (NCI Modified)'!$T$3142,'Base Data wHSA (NCI Modified)'!$K168,COLUMNS(COUNTIES!$D$2:L168)),\"\")","v":""}]
[{"$f":"ROWS($E$2:E169)","v":168},{"$f":"IF(E169=WORKSHEET!$B$2,A169,\"\")","v":""},"",{"$f":"IFERROR(INDEX('Base Data wHSA (NCI Modified)'!$L$2:'Base Data wHSA (NCI Modified)'!$T$3142,'Base Data wHSA (NCI Modified)'!$K169,COLUMNS(COUNTIES!$D$2:D169)),\"\")","v":""},{"$f":"IFERROR(INDEX('Base Data wHSA (NCI Modified)'!$L$2:'Base Data wHSA (NCI Modified)'!$T$3142,'Base Data wHSA (NCI Modified)'!$K169,COLUMNS(COUNTIES!$D$2:E169)),\"\")","v":""},{"$f":"IFERROR(INDEX('Base Data wHSA (NCI Modified)'!$L$2:'Base Data wHSA (NCI Modified)'!$T$3142,'Base Data wHSA (NCI Modified)'!$K169,COLUMNS(COUNTIES!$D$2:F169)),\"\")","v":""},{"$f":"IFERROR(INDEX('Base Data wHSA (NCI Modified)'!$L$2:'Base Data wHSA (NCI Modified)'!$T$3142,'Base Data wHSA (NCI Modified)'!$K169,COLUMNS(COUNTIES!$D$2:G169)),\"\")","v":""},{"$f":"IFERROR(INDEX('Base Data wHSA (NCI Modified)'!$L$2:'Base Data wHSA (NCI Modified)'!$T$3142,'Base Data wHSA (NCI Modified)'!$K169,COLUMNS(COUNTIES!$D$2:H169)),\"\")","v":""},{"$f":"IFERROR(INDEX('Base Data wHSA (NCI Modified)'!$L$2:'Base Data wHSA (NCI Modified)'!$T$3142,'Base Data wHSA (NCI Modified)'!$K169,COLUMNS(COUNTIES!$D$2:I169)),\"\")","v":""},{"$f":"IFERROR(INDEX('Base Data wHSA (NCI Modified)'!$L$2:'Base Data wHSA (NCI Modified)'!$T$3142,'Base Data wHSA (NCI Modified)'!$K169,COLUMNS(COUNTIES!$D$2:J169)),\"\")","v":""},{"$f":"IFERROR(INDEX('Base Data wHSA (NCI Modified)'!$L$2:'Base Data wHSA (NCI Modified)'!$T$3142,'Base Data wHSA (NCI Modified)'!$K169,COLUMNS(COUNTIES!$D$2:K169)),\"\")","v":""},{"$f":"IFERROR(INDEX('Base Data wHSA (NCI Modified)'!$L$2:'Base Data wHSA (NCI Modified)'!$T$3142,'Base Data wHSA (NCI Modified)'!$K169,COLUMNS(COUNTIES!$D$2:L169)),\"\")","v":""}]
[{"$f":"ROWS($E$2:E170)","v":169},{"$f":"IF(E170=WORKSHEET!$B$2,A170,\"\")","v":""},"",{"$f":"IFERROR(INDEX('Base Data wHSA (NCI Modified)'!$L$2:'Base Data wHSA (NCI Modified)'!$T$3142,'Base Data wHSA (NCI Modified)'!$K170,COLUMNS(COUNTIES!$D$2:D170)),\"\")","v":""},{"$f":"IFERROR(INDEX('Base Data wHSA (NCI Modified)'!$L$2:'Base Data wHSA (NCI Modified)'!$T$3142,'Base Data wHSA (NCI Modified)'!$K170,COLUMNS(COUNTIES!$D$2:E170)),\"\")","v":""},{"$f":"IFERROR(INDEX('Base Data wHSA (NCI Modified)'!$L$2:'Base Data wHSA (NCI Modified)'!$T$3142,'Base Data wHSA (NCI Modified)'!$K170,COLUMNS(COUNTIES!$D$2:F170)),\"\")","v":""},{"$f":"IFERROR(INDEX('Base Data wHSA (NCI Modified)'!$L$2:'Base Data wHSA (NCI Modified)'!$T$3142,'Base Data wHSA (NCI Modified)'!$K170,COLUMNS(COUNTIES!$D$2:G170)),\"\")","v":""},{"$f":"IFERROR(INDEX('Base Data wHSA (NCI Modified)'!$L$2:'Base Data wHSA (NCI Modified)'!$T$3142,'Base Data wHSA (NCI Modified)'!$K170,COLUMNS(COUNTIES!$D$2:H170)),\"\")","v":""},{"$f":"IFERROR(INDEX('Base Data wHSA (NCI Modified)'!$L$2:'Base Data wHSA (NCI Modified)'!$T$3142,'Base Data wHSA (NCI Modified)'!$K170,COLUMNS(COUNTIES!$D$2:I170)),\"\")","v":""},{"$f":"IFERROR(INDEX('Base Data wHSA (NCI Modified)'!$L$2:'Base Data wHSA (NCI Modified)'!$T$3142,'Base Data wHSA (NCI Modified)'!$K170,COLUMNS(COUNTIES!$D$2:J170)),\"\")","v":""},{"$f":"IFERROR(INDEX('Base Data wHSA (NCI Modified)'!$L$2:'Base Data wHSA (NCI Modified)'!$T$3142,'Base Data wHSA (NCI Modified)'!$K170,COLUMNS(COUNTIES!$D$2:K170)),\"\")","v":""},{"$f":"IFERROR(INDEX('Base Data wHSA (NCI Modified)'!$L$2:'Base Data wHSA (NCI Modified)'!$T$3142,'Base Data wHSA (NCI Modified)'!$K170,COLUMNS(COUNTIES!$D$2:L170)),\"\")","v":""}]
[{"$f":"ROWS($E$2:E171)","v":170},{"$f":"IF(E171=WORKSHEET!$B$2,A171,\"\")","v":""},"",{"$f":"IFERROR(INDEX('Base Data wHSA (NCI Modified)'!$L$2:'Base Data wHSA (NCI Modified)'!$T$3142,'Base Data wHSA (NCI Modified)'!$K171,COLUMNS(COUNTIES!$D$2:D171)),\"\")","v":""},{"$f":"IFERROR(INDEX('Base Data wHSA (NCI Modified)'!$L$2:'Base Data wHSA (NCI Modified)'!$T$3142,'Base Data wHSA (NCI Modified)'!$K171,COLUMNS(COUNTIES!$D$2:E171)),\"\")","v":""},{"$f":"IFERROR(INDEX('Base Data wHSA (NCI Modified)'!$L$2:'Base Data wHSA (NCI Modified)'!$T$3142,'Base Data wHSA (NCI Modified)'!$K171,COLUMNS(COUNTIES!$D$2:F171)),\"\")","v":""},{"$f":"IFERROR(INDEX('Base Data wHSA (NCI Modified)'!$L$2:'Base Data wHSA (NCI Modified)'!$T$3142,'Base Data wHSA (NCI Modified)'!$K171,COLUMNS(COUNTIES!$D$2:G171)),\"\")","v":""},{"$f":"IFERROR(INDEX('Base Data wHSA (NCI Modified)'!$L$2:'Base Data wHSA (NCI Modified)'!$T$3142,'Base Data wHSA (NCI Modified)'!$K171,COLUMNS(COUNTIES!$D$2:H171)),\"\")","v":""},{"$f":"IFERROR(INDEX('Base Data wHSA (NCI Modified)'!$L$2:'Base Data wHSA (NCI Modified)'!$T$3142,'Base Data wHSA (NCI Modified)'!$K171,COLUMNS(COUNTIES!$D$2:I171)),\"\")","v":""},{"$f":"IFERROR(INDEX('Base Data wHSA (NCI Modified)'!$L$2:'Base Data wHSA (NCI Modified)'!$T$3142,'Base Data wHSA (NCI Modified)'!$K171,COLUMNS(COUNTIES!$D$2:J171)),\"\")","v":""},{"$f":"IFERROR(INDEX('Base Data wHSA (NCI Modified)'!$L$2:'Base Data wHSA (NCI Modified)'!$T$3142,'Base Data wHSA (NCI Modified)'!$K171,COLUMNS(COUNTIES!$D$2:K171)),\"\")","v":""},{"$f":"IFERROR(INDEX('Base Data wHSA (NCI Modified)'!$L$2:'Base Data wHSA (NCI Modified)'!$T$3142,'Base Data wHSA (NCI Modified)'!$K171,COLUMNS(COUNTIES!$D$2:L171)),\"\")","v":""}]
[{"$f":"ROWS($E$2:E172)","v":171},{"$f":"IF(E172=WORKSHEET!$B$2,A172,\"\")","v":""},"",{"$f":"IFERROR(INDEX('Base Data wHSA (NCI Modified)'!$L$2:'Base Data wHSA (NCI Modified)'!$T$3142,'Base Data wHSA (NCI Modified)'!$K172,COLUMNS(COUNTIES!$D$2:D172)),\"\")","v":""},{"$f":"IFERROR(INDEX('Base Data wHSA (NCI Modified)'!$L$2:'Base Data wHSA (NCI Modified)'!$T$3142,'Base Data wHSA (NCI Modified)'!$K172,COLUMNS(COUNTIES!$D$2:E172)),\"\")","v":""},{"$f":"IFERROR(INDEX('Base Data wHSA (NCI Modified)'!$L$2:'Base Data wHSA (NCI Modified)'!$T$3142,'Base Data wHSA (NCI Modified)'!$K172,COLUMNS(COUNTIES!$D$2:F172)),\"\")","v":""},{"$f":"IFERROR(INDEX('Base Data wHSA (NCI Modified)'!$L$2:'Base Data wHSA (NCI Modified)'!$T$3142,'Base Data wHSA (NCI Modified)'!$K172,COLUMNS(COUNTIES!$D$2:G172)),\"\")","v":""},{"$f":"IFERROR(INDEX('Base Data wHSA (NCI Modified)'!$L$2:'Base Data wHSA (NCI Modified)'!$T$3142,'Base Data wHSA (NCI Modified)'!$K172,COLUMNS(COUNTIES!$D$2:H172)),\"\")","v":""},{"$f":"IFERROR(INDEX('Base Data wHSA (NCI Modified)'!$L$2:'Base Data wHSA (NCI Modified)'!$T$3142,'Base Data wHSA (NCI Modified)'!$K172,COLUMNS(COUNTIES!$D$2:I172)),\"\")","v":""},{"$f":"IFERROR(INDEX('Base Data wHSA (NCI Modified)'!$L$2:'Base Data wHSA (NCI Modified)'!$T$3142,'Base Data wHSA (NCI Modified)'!$K172,COLUMNS(COUNTIES!$D$2:J172)),\"\")","v":""},{"$f":"IFERROR(INDEX('Base Data wHSA (NCI Modified)'!$L$2:'Base Data wHSA (NCI Modified)'!$T$3142,'Base Data wHSA (NCI Modified)'!$K172,COLUMNS(COUNTIES!$D$2:K172)),\"\")","v":""},{"$f":"IFERROR(INDEX('Base Data wHSA (NCI Modified)'!$L$2:'Base Data wHSA (NCI Modified)'!$T$3142,'Base Data wHSA (NCI Modified)'!$K172,COLUMNS(COUNTIES!$D$2:L172)),\"\")","v":""}]
[{"$f":"ROWS($E$2:E173)","v":172},{"$f":"IF(E173=WORKSHEET!$B$2,A173,\"\")","v":""},"",{"$f":"IFERROR(INDEX('Base Data wHSA (NCI Modified)'!$L$2:'Base Data wHSA (NCI Modified)'!$T$3142,'Base Data wHSA (NCI Modified)'!$K173,COLUMNS(COUNTIES!$D$2:D173)),\"\")","v":""},{"$f":"IFERROR(INDEX('Base Data wHSA (NCI Modified)'!$L$2:'Base Data wHSA (NCI Modified)'!$T$3142,'Base Data wHSA (NCI Modified)'!$K173,COLUMNS(COUNTIES!$D$2:E173)),\"\")","v":""},{"$f":"IFERROR(INDEX('Base Data wHSA (NCI Modified)'!$L$2:'Base Data wHSA (NCI Modified)'!$T$3142,'Base Data wHSA (NCI Modified)'!$K173,COLUMNS(COUNTIES!$D$2:F173)),\"\")","v":""},{"$f":"IFERROR(INDEX('Base Data wHSA (NCI Modified)'!$L$2:'Base Data wHSA (NCI Modified)'!$T$3142,'Base Data wHSA (NCI Modified)'!$K173,COLUMNS(COUNTIES!$D$2:G173)),\"\")","v":""},{"$f":"IFERROR(INDEX('Base Data wHSA (NCI Modified)'!$L$2:'Base Data wHSA (NCI Modified)'!$T$3142,'Base Data wHSA (NCI Modified)'!$K173,COLUMNS(COUNTIES!$D$2:H173)),\"\")","v":""},{"$f":"IFERROR(INDEX('Base Data wHSA (NCI Modified)'!$L$2:'Base Data wHSA (NCI Modified)'!$T$3142,'Base Data wHSA (NCI Modified)'!$K173,COLUMNS(COUNTIES!$D$2:I173)),\"\")","v":""},{"$f":"IFERROR(INDEX('Base Data wHSA (NCI Modified)'!$L$2:'Base Data wHSA (NCI Modified)'!$T$3142,'Base Data wHSA (NCI Modified)'!$K173,COLUMNS(COUNTIES!$D$2:J173)),\"\")","v":""},{"$f":"IFERROR(INDEX('Base Data wHSA (NCI Modified)'!$L$2:'Base Data wHSA (NCI Modified)'!$T$3142,'Base Data wHSA (NCI Modified)'!$K173,COLUMNS(COUNTIES!$D$2:K173)),\"\")","v":""},{"$f":"IFERROR(INDEX('Base Data wHSA (NCI Modified)'!$L$2:'Base Data wHSA (NCI Modified)'!$T$3142,'Base Data wHSA (NCI Modified)'!$K173,COLUMNS(COUNTIES!$D$2:L173)),\"\")","v":""}]
[{"$f":"ROWS($E$2:E174)","v":173},{"$f":"IF(E174=WORKSHEET!$B$2,A174,\"\")","v":""},"",{"$f":"IFERROR(INDEX('Base Data wHSA (NCI Modified)'!$L$2:'Base Data wHSA (NCI Modified)'!$T$3142,'Base Data wHSA (NCI Modified)'!$K174,COLUMNS(COUNTIES!$D$2:D174)),\"\")","v":""},{"$f":"IFERROR(INDEX('Base Data wHSA (NCI Modified)'!$L$2:'Base Data wHSA (NCI Modified)'!$T$3142,'Base Data wHSA (NCI Modified)'!$K174,COLUMNS(COUNTIES!$D$2:E174)),\"\")","v":""},{"$f":"IFERROR(INDEX('Base Data wHSA (NCI Modified)'!$L$2:'Base Data wHSA (NCI Modified)'!$T$3142,'Base Data wHSA (NCI Modified)'!$K174,COLUMNS(COUNTIES!$D$2:F174)),\"\")","v":""},{"$f":"IFERROR(INDEX('Base Data wHSA (NCI Modified)'!$L$2:'Base Data wHSA (NCI Modified)'!$T$3142,'Base Data wHSA (NCI Modified)'!$K174,COLUMNS(COUNTIES!$D$2:G174)),\"\")","v":""},{"$f":"IFERROR(INDEX('Base Data wHSA (NCI Modified)'!$L$2:'Base Data wHSA (NCI Modified)'!$T$3142,'Base Data wHSA (NCI Modified)'!$K174,COLUMNS(COUNTIES!$D$2:H174)),\"\")","v":""},{"$f":"IFERROR(INDEX('Base Data wHSA (NCI Modified)'!$L$2:'Base Data wHSA (NCI Modified)'!$T$3142,'Base Data wHSA (NCI Modified)'!$K174,COLUMNS(COUNTIES!$D$2:I174)),\"\")","v":""},{"$f":"IFERROR(INDEX('Base Data wHSA (NCI Modified)'!$L$2:'Base Data wHSA (NCI Modified)'!$T$3142,'Base Data wHSA (NCI Modified)'!$K174,COLUMNS(COUNTIES!$D$2:J174)),\"\")","v":""},{"$f":"IFERROR(INDEX('Base Data wHSA (NCI Modified)'!$L$2:'Base Data wHSA (NCI Modified)'!$T$3142,'Base Data wHSA (NCI Modified)'!$K174,COLUMNS(COUNTIES!$D$2:K174)),\"\")","v":""},{"$f":"IFERROR(INDEX('Base Data wHSA (NCI Modified)'!$L$2:'Base Data wHSA (NCI Modified)'!$T$3142,'Base Data wHSA (NCI Modified)'!$K174,COLUMNS(COUNTIES!$D$2:L174)),\"\")","v":""}]
[{"$f":"ROWS($E$2:E175)","v":174},{"$f":"IF(E175=WORKSHEET!$B$2,A175,\"\")","v":""},"",{"$f":"IFERROR(INDEX('Base Data wHSA (NCI Modified)'!$L$2:'Base Data wHSA (NCI Modified)'!$T$3142,'Base Data wHSA (NCI Modified)'!$K175,COLUMNS(COUNTIES!$D$2:D175)),\"\")","v":""},{"$f":"IFERROR(INDEX('Base Data wHSA (NCI Modified)'!$L$2:'Base Data wHSA (NCI Modified)'!$T$3142,'Base Data wHSA (NCI Modified)'!$K175,COLUMNS(COUNTIES!$D$2:E175)),\"\")","v":""},{"$f":"IFERROR(INDEX('Base Data wHSA (NCI Modified)'!$L$2:'Base Data wHSA (NCI Modified)'!$T$3142,'Base Data wHSA (NCI Modified)'!$K175,COLUMNS(COUNTIES!$D$2:F175)),\"\")","v":""},{"$f":"IFERROR(INDEX('Base Data wHSA (NCI Modified)'!$L$2:'Base Data wHSA (NCI Modified)'!$T$3142,'Base Data wHSA (NCI Modified)'!$K175,COLUMNS(COUNTIES!$D$2:G175)),\"\")","v":""},{"$f":"IFERROR(INDEX('Base Data wHSA (NCI Modified)'!$L$2:'Base Data wHSA (NCI Modified)'!$T$3142,'Base Data wHSA (NCI Modified)'!$K175,COLUMNS(COUNTIES!$D$2:H175)),\"\")","v":""},{"$f":"IFERROR(INDEX('Base Data wHSA (NCI Modified)'!$L$2:'Base Data wHSA (NCI Modified)'!$T$3142,'Base Data wHSA (NCI Modified)'!$K175,COLUMNS(COUNTIES!$D$2:I175)),\"\")","v":""},{"$f":"IFERROR(INDEX('Base Data wHSA (NCI Modified)'!$L$2:'Base Data wHSA (NCI Modified)'!$T$3142,'Base Data wHSA (NCI Modified)'!$K175,COLUMNS(COUNTIES!$D$2:J175)),\"\")","v":""},{"$f":"IFERROR(INDEX('Base Data wHSA (NCI Modified)'!$L$2:'Base Data wHSA (NCI Modified)'!$T$3142,'Base Data wHSA (NCI Modified)'!$K175,COLUMNS(COUNTIES!$D$2:K175)),\"\")","v":""},{"$f":"IFERROR(INDEX('Base Data wHSA (NCI Modified)'!$L$2:'Base Data wHSA (NCI Modified)'!$T$3142,'Base Data wHSA (NCI Modified)'!$K175,COLUMNS(COUNTIES!$D$2:L175)),\"\")","v":""}]
[{"$f":"ROWS($E$2:E176)","v":175},{"$f":"IF(E176=WORKSHEET!$B$2,A176,\"\")","v":""},"",{"$f":"IFERROR(INDEX('Base Data wHSA (NCI Modified)'!$L$2:'Base Data wHSA (NCI Modified)'!$T$3142,'Base Data wHSA (NCI Modified)'!$K176,COLUMNS(COUNTIES!$D$2:D176)),\"\")","v":""},{"$f":"IFERROR(INDEX('Base Data wHSA (NCI Modified)'!$L$2:'Base Data wHSA (NCI Modified)'!$T$3142,'Base Data wHSA (NCI Modified)'!$K176,COLUMNS(COUNTIES!$D$2:E176)),\"\")","v":""},{"$f":"IFERROR(INDEX('Base Data wHSA (NCI Modified)'!$L$2:'Base Data wHSA (NCI Modified)'!$T$3142,'Base Data wHSA (NCI Modified)'!$K176,COLUMNS(COUNTIES!$D$2:F176)),\"\")","v":""},{"$f":"IFERROR(INDEX('Base Data wHSA (NCI Modified)'!$L$2:'Base Data wHSA (NCI Modified)'!$T$3142,'Base Data wHSA (NCI Modified)'!$K176,COLUMNS(COUNTIES!$D$2:G176)),\"\")","v":""},{"$f":"IFERROR(INDEX('Base Data wHSA (NCI Modified)'!$L$2:'Base Data wHSA (NCI Modified)'!$T$3142,'Base Data wHSA (NCI Modified)'!$K176,COLUMNS(COUNTIES!$D$2:H176)),\"\")","v":""},{"$f":"IFERROR(INDEX('Base Data wHSA (NCI Modified)'!$L$2:'Base Data wHSA (NCI Modified)'!$T$3142,'Base Data wHSA (NCI Modified)'!$K176,COLUMNS(COUNTIES!$D$2:I176)),\"\")","v":""},{"$f":"IFERROR(INDEX('Base Data wHSA (NCI Modified)'!$L$2:'Base Data wHSA (NCI Modified)'!$T$3142,'Base Data wHSA (NCI Modified)'!$K176,COLUMNS(COUNTIES!$D$2:J176)),\"\")","v":""},{"$f":"IFERROR(INDEX('Base Data wHSA (NCI Modified)'!$L$2:'Base Data wHSA (NCI Modified)'!$T$3142,'Base Data wHSA (NCI Modified)'!$K176,COLUMNS(COUNTIES!$D$2:K176)),\"\")","v":""},{"$f":"IFERROR(INDEX('Base Data wHSA (NCI Modified)'!$L$2:'Base Data wHSA (NCI Modified)'!$T$3142,'Base Data wHSA (NCI Modified)'!$K176,COLUMNS(COUNTIES!$D$2:L176)),\"\")","v":""}]
[{"$f":"ROWS($E$2:E177)","v":176},{"$f":"IF(E177=WORKSHEET!$B$2,A177,\"\")","v":""},"",{"$f":"IFERROR(INDEX('Base Data wHSA (NCI Modified)'!$L$2:'Base Data wHSA (NCI Modified)'!$T$3142,'Base Data wHSA (NCI Modified)'!$K177,COLUMNS(COUNTIES!$D$2:D177)),\"\")","v":""},{"$f":"IFERROR(INDEX('Base Data wHSA (NCI Modified)'!$L$2:'Base Data wHSA (NCI Modified)'!$T$3142,'Base Data wHSA (NCI Modified)'!$K177,COLUMNS(COUNTIES!$D$2:E177)),\"\")","v":""},{"$f":"IFERROR(INDEX('Base Data wHSA (NCI Modified)'!$L$2:'Base Data wHSA (NCI Modified)'!$T$3142,'Base Data wHSA (NCI Modified)'!$K177,COLUMNS(COUNTIES!$D$2:F177)),\"\")","v":""},{"$f":"IFERROR(INDEX('Base Data wHSA (NCI Modified)'!$L$2:'Base Data wHSA (NCI Modified)'!$T$3142,'Base Data wHSA (NCI Modified)'!$K177,COLUMNS(COUNTIES!$D$2:G177)),\"\")","v":""},{"$f":"IFERROR(INDEX('Base Data wHSA (NCI Modified)'!$L$2:'Base Data wHSA (NCI Modified)'!$T$3142,'Base Data wHSA (NCI Modified)'!$K177,COLUMNS(COUNTIES!$D$2:H177)),\"\")","v":""},{"$f":"IFERROR(INDEX('Base Data wHSA (NCI Modified)'!$L$2:'Base Data wHSA (NCI Modified)'!$T$3142,'Base Data wHSA (NCI Modified)'!$K177,COLUMNS(COUNTIES!$D$2:I177)),\"\")","v":""},{"$f":"IFERROR(INDEX('Base Data wHSA (NCI Modified)'!$L$2:'Base Data wHSA (NCI Modified)'!$T$3142,'Base Data wHSA (NCI Modified)'!$K177,COLUMNS(COUNTIES!$D$2:J177)),\"\")","v":""},{"$f":"IFERROR(INDEX('Base Data wHSA (NCI Modified)'!$L$2:'Base Data wHSA (NCI Modified)'!$T$3142,'Base Data wHSA (NCI Modified)'!$K177,COLUMNS(COUNTIES!$D$2:K177)),\"\")","v":""},{"$f":"IFERROR(INDEX('Base Data wHSA (NCI Modified)'!$L$2:'Base Data wHSA (NCI Modified)'!$T$3142,'Base Data wHSA (NCI Modified)'!$K177,COLUMNS(COUNTIES!$D$2:L177)),\"\")","v":""}]
[{"$f":"ROWS($E$2:E178)","v":177},{"$f":"IF(E178=WORKSHEET!$B$2,A178,\"\")","v":""},"",{"$f":"IFERROR(INDEX('Base Data wHSA (NCI Modified)'!$L$2:'Base Data wHSA (NCI Modified)'!$T$3142,'Base Data wHSA (NCI Modified)'!$K178,COLUMNS(COUNTIES!$D$2:D178)),\"\")","v":""},{"$f":"IFERROR(INDEX('Base Data wHSA (NCI Modified)'!$L$2:'Base Data wHSA (NCI Modified)'!$T$3142,'Base Data wHSA (NCI Modified)'!$K178,COLUMNS(COUNTIES!$D$2:E178)),\"\")","v":""},{"$f":"IFERROR(INDEX('Base Data wHSA (NCI Modified)'!$L$2:'Base Data wHSA (NCI Modified)'!$T$3142,'Base Data wHSA (NCI Modified)'!$K178,COLUMNS(COUNTIES!$D$2:F178)),\"\")","v":""},{"$f":"IFERROR(INDEX('Base Data wHSA (NCI Modified)'!$L$2:'Base Data wHSA (NCI Modified)'!$T$3142,'Base Data wHSA (NCI Modified)'!$K178,COLUMNS(COUNTIES!$D$2:G178)),\"\")","v":""},{"$f":"IFERROR(INDEX('Base Data wHSA (NCI Modified)'!$L$2:'Base Data wHSA (NCI Modified)'!$T$3142,'Base Data wHSA (NCI Modified)'!$K178,COLUMNS(COUNTIES!$D$2:H178)),\"\")","v":""},{"$f":"IFERROR(INDEX('Base Data wHSA (NCI Modified)'!$L$2:'Base Data wHSA (NCI Modified)'!$T$3142,'Base Data wHSA (NCI Modified)'!$K178,COLUMNS(COUNTIES!$D$2:I178)),\"\")","v":""},{"$f":"IFERROR(INDEX('Base Data wHSA (NCI Modified)'!$L$2:'Base Data wHSA (NCI Modified)'!$T$3142,'Base Data wHSA (NCI Modified)'!$K178,COLUMNS(COUNTIES!$D$2:J178)),\"\")","v":""},{"$f":"IFERROR(INDEX('Base Data wHSA (NCI Modified)'!$L$2:'Base Data wHSA (NCI Modified)'!$T$3142,'Base Data wHSA (NCI Modified)'!$K178,COLUMNS(COUNTIES!$D$2:K178)),\"\")","v":""},{"$f":"IFERROR(INDEX('Base Data wHSA (NCI Modified)'!$L$2:'Base Data wHSA (NCI Modified)'!$T$3142,'Base Data wHSA (NCI Modified)'!$K178,COLUMNS(COUNTIES!$D$2:L178)),\"\")","v":""}]
[{"$f":"ROWS($E$2:E179)","v":178},{"$f":"IF(E179=WORKSHEET!$B$2,A179,\"\")","v":""},"",{"$f":"IFERROR(INDEX('Base Data wHSA (NCI Modified)'!$L$2:'Base Data wHSA (NCI Modified)'!$T$3142,'Base Data wHSA (NCI Modified)'!$K179,COLUMNS(COUNTIES!$D$2:D179)),\"\")","v":""},{"$f":"IFERROR(INDEX('Base Data wHSA (NCI Modified)'!$L$2:'Base Data wHSA (NCI Modified)'!$T$3142,'Base Data wHSA (NCI Modified)'!$K179,COLUMNS(COUNTIES!$D$2:E179)),\"\")","v":""},{"$f":"IFERROR(INDEX('Base Data wHSA (NCI Modified)'!$L$2:'Base Data wHSA (NCI Modified)'!$T$3142,'Base Data wHSA (NCI Modified)'!$K179,COLUMNS(COUNTIES!$D$2:F179)),\"\")","v":""},{"$f":"IFERROR(INDEX('Base Data wHSA (NCI Modified)'!$L$2:'Base Data wHSA (NCI Modified)'!$T$3142,'Base Data wHSA (NCI Modified)'!$K179,COLUMNS(COUNTIES!$D$2:G179)),\"\")","v":""},{"$f":"IFERROR(INDEX('Base Data wHSA (NCI Modified)'!$L$2:'Base Data wHSA (NCI Modified)'!$T$3142,'Base Data wHSA (NCI Modified)'!$K179,COLUMNS(COUNTIES!$D$2:H179)),\"\")","v":""},{"$f":"IFERROR(INDEX('Base Data wHSA (NCI Modified)'!$L$2:'Base Data wHSA (NCI Modified)'!$T$3142,'Base Data wHSA (NCI Modified)'!$K179,COLUMNS(COUNTIES!$D$2:I179)),\"\")","v":""},{"$f":"IFERROR(INDEX('Base Data wHSA (NCI Modified)'!$L$2:'Base Data wHSA (NCI Modified)'!$T$3142,'Base Data wHSA (NCI Modified)'!$K179,COLUMNS(COUNTIES!$D$2:J179)),\"\")","v":""},{"$f":"IFERROR(INDEX('Base Data wHSA (NCI Modified)'!$L$2:'Base Data wHSA (NCI Modified)'!$T$3142,'Base Data wHSA (NCI Modified)'!$K179,COLUMNS(COUNTIES!$D$2:K179)),\"\")","v":""},{"$f":"IFERROR(INDEX('Base Data wHSA (NCI Modified)'!$L$2:'Base Data wHSA (NCI Modified)'!$T$3142,'Base Data wHSA (NCI Modified)'!$K179,COLUMNS(COUNTIES!$D$2:L179)),\"\")","v":""}]
[{"$f":"ROWS($E$2:E180)","v":179},{"$f":"IF(E180=WORKSHEET!$B$2,A180,\"\")","v":""},"",{"$f":"IFERROR(INDEX('Base Data wHSA (NCI Modified)'!$L$2:'Base Data wHSA (NCI Modified)'!$T$3142,'Base Data wHSA (NCI Modified)'!$K180,COLUMNS(COUNTIES!$D$2:D180)),\"\")","v":""},{"$f":"IFERROR(INDEX('Base Data wHSA (NCI Modified)'!$L$2:'Base Data wHSA (NCI Modified)'!$T$3142,'Base Data wHSA (NCI Modified)'!$K180,COLUMNS(COUNTIES!$D$2:E180)),\"\")","v":""},{"$f":"IFERROR(INDEX('Base Data wHSA (NCI Modified)'!$L$2:'Base Data wHSA (NCI Modified)'!$T$3142,'Base Data wHSA (NCI Modified)'!$K180,COLUMNS(COUNTIES!$D$2:F180)),\"\")","v":""},{"$f":"IFERROR(INDEX('Base Data wHSA (NCI Modified)'!$L$2:'Base Data wHSA (NCI Modified)'!$T$3142,'Base Data wHSA (NCI Modified)'!$K180,COLUMNS(COUNTIES!$D$2:G180)),\"\")","v":""},{"$f":"IFERROR(INDEX('Base Data wHSA (NCI Modified)'!$L$2:'Base Data wHSA (NCI Modified)'!$T$3142,'Base Data wHSA (NCI Modified)'!$K180,COLUMNS(COUNTIES!$D$2:H180)),\"\")","v":""},{"$f":"IFERROR(INDEX('Base Data wHSA (NCI Modified)'!$L$2:'Base Data wHSA (NCI Modified)'!$T$3142,'Base Data wHSA (NCI Modified)'!$K180,COLUMNS(COUNTIES!$D$2:I180)),\"\")","v":""},{"$f":"IFERROR(INDEX('Base Data wHSA (NCI Modified)'!$L$2:'Base Data wHSA (NCI Modified)'!$T$3142,'Base Data wHSA (NCI Modified)'!$K180,COLUMNS(COUNTIES!$D$2:J180)),\"\")","v":""},{"$f":"IFERROR(INDEX('Base Data wHSA (NCI Modified)'!$L$2:'Base Data wHSA (NCI Modified)'!$T$3142,'Base Data wHSA (NCI Modified)'!$K180,COLUMNS(COUNTIES!$D$2:K180)),\"\")","v":""},{"$f":"IFERROR(INDEX('Base Data wHSA (NCI Modified)'!$L$2:'Base Data wHSA (NCI Modified)'!$T$3142,'Base Data wHSA (NCI Modified)'!$K180,COLUMNS(COUNTIES!$D$2:L180)),\"\")","v":""}]
[{"$f":"ROWS($E$2:E181)","v":180},{"$f":"IF(E181=WORKSHEET!$B$2,A181,\"\")","v":""},"",{"$f":"IFERROR(INDEX('Base Data wHSA (NCI Modified)'!$L$2:'Base Data wHSA (NCI Modified)'!$T$3142,'Base Data wHSA (NCI Modified)'!$K181,COLUMNS(COUNTIES!$D$2:D181)),\"\")","v":""},{"$f":"IFERROR(INDEX('Base Data wHSA (NCI Modified)'!$L$2:'Base Data wHSA (NCI Modified)'!$T$3142,'Base Data wHSA (NCI Modified)'!$K181,COLUMNS(COUNTIES!$D$2:E181)),\"\")","v":""},{"$f":"IFERROR(INDEX('Base Data wHSA (NCI Modified)'!$L$2:'Base Data wHSA (NCI Modified)'!$T$3142,'Base Data wHSA (NCI Modified)'!$K181,COLUMNS(COUNTIES!$D$2:F181)),\"\")","v":""},{"$f":"IFERROR(INDEX('Base Data wHSA (NCI Modified)'!$L$2:'Base Data wHSA (NCI Modified)'!$T$3142,'Base Data wHSA (NCI Modified)'!$K181,COLUMNS(COUNTIES!$D$2:G181)),\"\")","v":""},{"$f":"IFERROR(INDEX('Base Data wHSA (NCI Modified)'!$L$2:'Base Data wHSA (NCI Modified)'!$T$3142,'Base Data wHSA (NCI Modified)'!$K181,COLUMNS(COUNTIES!$D$2:H181)),\"\")","v":""},{"$f":"IFERROR(INDEX('Base Data wHSA (NCI Modified)'!$L$2:'Base Data wHSA (NCI Modified)'!$T$3142,'Base Data wHSA (NCI Modified)'!$K181,COLUMNS(COUNTIES!$D$2:I181)),\"\")","v":""},{"$f":"IFERROR(INDEX('Base Data wHSA (NCI Modified)'!$L$2:'Base Data wHSA (NCI Modified)'!$T$3142,'Base Data wHSA (NCI Modified)'!$K181,COLUMNS(COUNTIES!$D$2:J181)),\"\")","v":""},{"$f":"IFERROR(INDEX('Base Data wHSA (NCI Modified)'!$L$2:'Base Data wHSA (NCI Modified)'!$T$3142,'Base Data wHSA (NCI Modified)'!$K181,COLUMNS(COUNTIES!$D$2:K181)),\"\")","v":""},{"$f":"IFERROR(INDEX('Base Data wHSA (NCI Modified)'!$L$2:'Base Data wHSA (NCI Modified)'!$T$3142,'Base Data wHSA (NCI Modified)'!$K181,COLUMNS(COUNTIES!$D$2:L181)),\"\")","v":""}]
[{"$f":"ROWS($E$2:E182)","v":181},{"$f":"IF(E182=WORKSHEET!$B$2,A182,\"\")","v":""},"",{"$f":"IFERROR(INDEX('Base Data wHSA (NCI Modified)'!$L$2:'Base Data wHSA (NCI Modified)'!$T$3142,'Base Data wHSA (NCI Modified)'!$K182,COLUMNS(COUNTIES!$D$2:D182)),\"\")","v":""},{"$f":"IFERROR(INDEX('Base Data wHSA (NCI Modified)'!$L$2:'Base Data wHSA (NCI Modified)'!$T$3142,'Base Data wHSA (NCI Modified)'!$K182,COLUMNS(COUNTIES!$D$2:E182)),\"\")","v":""},{"$f":"IFERROR(INDEX('Base Data wHSA (NCI Modified)'!$L$2:'Base Data wHSA (NCI Modified)'!$T$3142,'Base Data wHSA (NCI Modified)'!$K182,COLUMNS(COUNTIES!$D$2:F182)),\"\")","v":""},{"$f":"IFERROR(INDEX('Base Data wHSA (NCI Modified)'!$L$2:'Base Data wHSA (NCI Modified)'!$T$3142,'Base Data wHSA (NCI Modified)'!$K182,COLUMNS(COUNTIES!$D$2:G182)),\"\")","v":""},{"$f":"IFERROR(INDEX('Base Data wHSA (NCI Modified)'!$L$2:'Base Data wHSA (NCI Modified)'!$T$3142,'Base Data wHSA (NCI Modified)'!$K182,COLUMNS(COUNTIES!$D$2:H182)),\"\")","v":""},{"$f":"IFERROR(INDEX('Base Data wHSA (NCI Modified)'!$L$2:'Base Data wHSA (NCI Modified)'!$T$3142,'Base Data wHSA (NCI Modified)'!$K182,COLUMNS(COUNTIES!$D$2:I182)),\"\")","v":""},{"$f":"IFERROR(INDEX('Base Data wHSA (NCI Modified)'!$L$2:'Base Data wHSA (NCI Modified)'!$T$3142,'Base Data wHSA (NCI Modified)'!$K182,COLUMNS(COUNTIES!$D$2:J182)),\"\")","v":""},{"$f":"IFERROR(INDEX('Base Data wHSA (NCI Modified)'!$L$2:'Base Data wHSA (NCI Modified)'!$T$3142,'Base Data wHSA (NCI Modified)'!$K182,COLUMNS(COUNTIES!$D$2:K182)),\"\")","v":""},{"$f":"IFERROR(INDEX('Base Data wHSA (NCI Modified)'!$L$2:'Base Data wHSA (NCI Modified)'!$T$3142,'Base Data wHSA (NCI Modified)'!$K182,COLUMNS(COUNTIES!$D$2:L182)),\"\")","v":""}]
[{"$f":"ROWS($E$2:E183)","v":182},{"$f":"IF(E183=WORKSHEET!$B$2,A183,\"\")","v":""},"",{"$f":"IFERROR(INDEX('Base Data wHSA (NCI Modified)'!$L$2:'Base Data wHSA (NCI Modified)'!$T$3142,'Base Data wHSA (NCI Modified)'!$K183,COLUMNS(COUNTIES!$D$2:D183)),\"\")","v":""},{"$f":"IFERROR(INDEX('Base Data wHSA (NCI Modified)'!$L$2:'Base Data wHSA (NCI Modified)'!$T$3142,'Base Data wHSA (NCI Modified)'!$K183,COLUMNS(COUNTIES!$D$2:E183)),\"\")","v":""},{"$f":"IFERROR(INDEX('Base Data wHSA (NCI Modified)'!$L$2:'Base Data wHSA (NCI Modified)'!$T$3142,'Base Data wHSA (NCI Modified)'!$K183,COLUMNS(COUNTIES!$D$2:F183)),\"\")","v":""},{"$f":"IFERROR(INDEX('Base Data wHSA (NCI Modified)'!$L$2:'Base Data wHSA (NCI Modified)'!$T$3142,'Base Data wHSA (NCI Modified)'!$K183,COLUMNS(COUNTIES!$D$2:G183)),\"\")","v":""},{"$f":"IFERROR(INDEX('Base Data wHSA (NCI Modified)'!$L$2:'Base Data wHSA (NCI Modified)'!$T$3142,'Base Data wHSA (NCI Modified)'!$K183,COLUMNS(COUNTIES!$D$2:H183)),\"\")","v":""},{"$f":"IFERROR(INDEX('Base Data wHSA (NCI Modified)'!$L$2:'Base Data wHSA (NCI Modified)'!$T$3142,'Base Data wHSA (NCI Modified)'!$K183,COLUMNS(COUNTIES!$D$2:I183)),\"\")","v":""},{"$f":"IFERROR(INDEX('Base Data wHSA (NCI Modified)'!$L$2:'Base Data wHSA (NCI Modified)'!$T$3142,'Base Data wHSA (NCI Modified)'!$K183,COLUMNS(COUNTIES!$D$2:J183)),\"\")","v":""},{"$f":"IFERROR(INDEX('Base Data wHSA (NCI Modified)'!$L$2:'Base Data wHSA (NCI Modified)'!$T$3142,'Base Data wHSA (NCI Modified)'!$K183,COLUMNS(COUNTIES!$D$2:K183)),\"\")","v":""},{"$f":"IFERROR(INDEX('Base Data wHSA (NCI Modified)'!$L$2:'Base Data wHSA (NCI Modified)'!$T$3142,'Base Data wHSA (NCI Modified)'!$K183,COLUMNS(COUNTIES!$D$2:L183)),\"\")","v":""}]
[{"$f":"ROWS($E$2:E184)","v":183},{"$f":"IF(E184=WORKSHEET!$B$2,A184,\"\")","v":""},"",{"$f":"IFERROR(INDEX('Base Data wHSA (NCI Modified)'!$L$2:'Base Data wHSA (NCI Modified)'!$T$3142,'Base Data wHSA (NCI Modified)'!$K184,COLUMNS(COUNTIES!$D$2:D184)),\"\")","v":""},{"$f":"IFERROR(INDEX('Base Data wHSA (NCI Modified)'!$L$2:'Base Data wHSA (NCI Modified)'!$T$3142,'Base Data wHSA (NCI Modified)'!$K184,COLUMNS(COUNTIES!$D$2:E184)),\"\")","v":""},{"$f":"IFERROR(INDEX('Base Data wHSA (NCI Modified)'!$L$2:'Base Data wHSA (NCI Modified)'!$T$3142,'Base Data wHSA (NCI Modified)'!$K184,COLUMNS(COUNTIES!$D$2:F184)),\"\")","v":""},{"$f":"IFERROR(INDEX('Base Data wHSA (NCI Modified)'!$L$2:'Base Data wHSA (NCI Modified)'!$T$3142,'Base Data wHSA (NCI Modified)'!$K184,COLUMNS(COUNTIES!$D$2:G184)),\"\")","v":""},{"$f":"IFERROR(INDEX('Base Data wHSA (NCI Modified)'!$L$2:'Base Data wHSA (NCI Modified)'!$T$3142,'Base Data wHSA (NCI Modified)'!$K184,COLUMNS(COUNTIES!$D$2:H184)),\"\")","v":""},{"$f":"IFERROR(INDEX('Base Data wHSA (NCI Modified)'!$L$2:'Base Data wHSA (NCI Modified)'!$T$3142,'Base Data wHSA (NCI Modified)'!$K184,COLUMNS(COUNTIES!$D$2:I184)),\"\")","v":""},{"$f":"IFERROR(INDEX('Base Data wHSA (NCI Modified)'!$L$2:'Base Data wHSA (NCI Modified)'!$T$3142,'Base Data wHSA (NCI Modified)'!$K184,COLUMNS(COUNTIES!$D$2:J184)),\"\")","v":""},{"$f":"IFERROR(INDEX('Base Data wHSA (NCI Modified)'!$L$2:'Base Data wHSA (NCI Modified)'!$T$3142,'Base Data wHSA (NCI Modified)'!$K184,COLUMNS(COUNTIES!$D$2:K184)),\"\")","v":""},{"$f":"IFERROR(INDEX('Base Data wHSA (NCI Modified)'!$L$2:'Base Data wHSA (NCI Modified)'!$T$3142,'Base Data wHSA (NCI Modified)'!$K184,COLUMNS(COUNTIES!$D$2:L184)),\"\")","v":""}]
[{"$f":"ROWS($E$2:E185)","v":184},{"$f":"IF(E185=WORKSHEET!$B$2,A185,\"\")","v":""},"",{"$f":"IFERROR(INDEX('Base Data wHSA (NCI Modified)'!$L$2:'Base Data wHSA (NCI Modified)'!$T$3142,'Base Data wHSA (NCI Modified)'!$K185,COLUMNS(COUNTIES!$D$2:D185)),\"\")","v":""},{"$f":"IFERROR(INDEX('Base Data wHSA (NCI Modified)'!$L$2:'Base Data wHSA (NCI Modified)'!$T$3142,'Base Data wHSA (NCI Modified)'!$K185,COLUMNS(COUNTIES!$D$2:E185)),\"\")","v":""},{"$f":"IFERROR(INDEX('Base Data wHSA (NCI Modified)'!$L$2:'Base Data wHSA (NCI Modified)'!$T$3142,'Base Data wHSA (NCI Modified)'!$K185,COLUMNS(COUNTIES!$D$2:F185)),\"\")","v":""},{"$f":"IFERROR(INDEX('Base Data wHSA (NCI Modified)'!$L$2:'Base Data wHSA (NCI Modified)'!$T$3142,'Base Data wHSA (NCI Modified)'!$K185,COLUMNS(COUNTIES!$D$2:G185)),\"\")","v":""},{"$f":"IFERROR(INDEX('Base Data wHSA (NCI Modified)'!$L$2:'Base Data wHSA (NCI Modified)'!$T$3142,'Base Data wHSA (NCI Modified)'!$K185,COLUMNS(COUNTIES!$D$2:H185)),\"\")","v":""},{"$f":"IFERROR(INDEX('Base Data wHSA (NCI Modified)'!$L$2:'Base Data wHSA (NCI Modified)'!$T$3142,'Base Data wHSA (NCI Modified)'!$K185,COLUMNS(COUNTIES!$D$2:I185)),\"\")","v":""},{"$f":"IFERROR(INDEX('Base Data wHSA (NCI Modified)'!$L$2:'Base Data wHSA (NCI Modified)'!$T$3142,'Base Data wHSA (NCI Modified)'!$K185,COLUMNS(COUNTIES!$D$2:J185)),\"\")","v":""},{"$f":"IFERROR(INDEX('Base Data wHSA (NCI Modified)'!$L$2:'Base Data wHSA (NCI Modified)'!$T$3142,'Base Data wHSA (NCI Modified)'!$K185,COLUMNS(COUNTIES!$D$2:K185)),\"\")","v":""},{"$f":"IFERROR(INDEX('Base Data wHSA (NCI Modified)'!$L$2:'Base Data wHSA (NCI Modified)'!$T$3142,'Base Data wHSA (NCI Modified)'!$K185,COLUMNS(COUNTIES!$D$2:L185)),\"\")","v":""}]
[{"$f":"ROWS($E$2:E186)","v":185},{"$f":"IF(E186=WORKSHEET!$B$2,A186,\"\")","v":""},"",{"$f":"IFERROR(INDEX('Base Data wHSA (NCI Modified)'!$L$2:'Base Data wHSA (NCI Modified)'!$T$3142,'Base Data wHSA (NCI Modified)'!$K186,COLUMNS(COUNTIES!$D$2:D186)),\"\")","v":""},{"$f":"IFERROR(INDEX('Base Data wHSA (NCI Modified)'!$L$2:'Base Data wHSA (NCI Modified)'!$T$3142,'Base Data wHSA (NCI Modified)'!$K186,COLUMNS(COUNTIES!$D$2:E186)),\"\")","v":""},{"$f":"IFERROR(INDEX('Base Data wHSA (NCI Modified)'!$L$2:'Base Data wHSA (NCI Modified)'!$T$3142,'Base Data wHSA (NCI Modified)'!$K186,COLUMNS(COUNTIES!$D$2:F186)),\"\")","v":""},{"$f":"IFERROR(INDEX('Base Data wHSA (NCI Modified)'!$L$2:'Base Data wHSA (NCI Modified)'!$T$3142,'Base Data wHSA (NCI Modified)'!$K186,COLUMNS(COUNTIES!$D$2:G186)),\"\")","v":""},{"$f":"IFERROR(INDEX('Base Data wHSA (NCI Modified)'!$L$2:'Base Data wHSA (NCI Modified)'!$T$3142,'Base Data wHSA (NCI Modified)'!$K186,COLUMNS(COUNTIES!$D$2:H186)),\"\")","v":""},{"$f":"IFERROR(INDEX('Base Data wHSA (NCI Modified)'!$L$2:'Base Data wHSA (NCI Modified)'!$T$3142,'Base Data wHSA (NCI Modified)'!$K186,COLUMNS(COUNTIES!$D$2:I186)),\"\")","v":""},{"$f":"IFERROR(INDEX('Base Data wHSA (NCI Modified)'!$L$2:'Base Data wHSA (NCI Modified)'!$T$3142,'Base Data wHSA (NCI Modified)'!$K186,COLUMNS(COUNTIES!$D$2:J186)),\"\")","v":""},{"$f":"IFERROR(INDEX('Base Data wHSA (NCI Modified)'!$L$2:'Base Data wHSA (NCI Modified)'!$T$3142,'Base Data wHSA (NCI Modified)'!$K186,COLUMNS(COUNTIES!$D$2:K186)),\"\")","v":""},{"$f":"IFERROR(INDEX('Base Data wHSA (NCI Modified)'!$L$2:'Base Data wHSA (NCI Modified)'!$T$3142,'Base Data wHSA (NCI Modified)'!$K186,COLUMNS(COUNTIES!$D$2:L186)),\"\")","v":""}]
[{"$f":"ROWS($E$2:E187)","v":186},{"$f":"IF(E187=WORKSHEET!$B$2,A187,\"\")","v":""},"",{"$f":"IFERROR(INDEX('Base Data wHSA (NCI Modified)'!$L$2:'Base Data wHSA (NCI Modified)'!$T$3142,'Base Data wHSA (NCI Modified)'!$K187,COLUMNS(COUNTIES!$D$2:D187)),\"\")","v":""},{"$f":"IFERROR(INDEX('Base Data wHSA (NCI Modified)'!$L$2:'Base Data wHSA (NCI Modified)'!$T$3142,'Base Data wHSA (NCI Modified)'!$K187,COLUMNS(COUNTIES!$D$2:E187)),\"\")","v":""},{"$f":"IFERROR(INDEX('Base Data wHSA (NCI Modified)'!$L$2:'Base Data wHSA (NCI Modified)'!$T$3142,'Base Data wHSA (NCI Modified)'!$K187,COLUMNS(COUNTIES!$D$2:F187)),\"\")","v":""},{"$f":"IFERROR(INDEX('Base Data wHSA (NCI Modified)'!$L$2:'Base Data wHSA (NCI Modified)'!$T$3142,'Base Data wHSA (NCI Modified)'!$K187,COLUMNS(COUNTIES!$D$2:G187)),\"\")","v":""},{"$f":"IFERROR(INDEX('Base Data wHSA (NCI Modified)'!$L$2:'Base Data wHSA (NCI Modified)'!$T$3142,'Base Data wHSA (NCI Modified)'!$K187,COLUMNS(COUNTIES!$D$2:H187)),\"\")","v":""},{"$f":"IFERROR(INDEX('Base Data wHSA (NCI Modified)'!$L$2:'Base Data wHSA (NCI Modified)'!$T$3142,'Base Data wHSA (NCI Modified)'!$K187,COLUMNS(COUNTIES!$D$2:I187)),\"\")","v":""},{"$f":"IFERROR(INDEX('Base Data wHSA (NCI Modified)'!$L$2:'Base Data wHSA (NCI Modified)'!$T$3142,'Base Data wHSA (NCI Modified)'!$K187,COLUMNS(COUNTIES!$D$2:J187)),\"\")","v":""},{"$f":"IFERROR(INDEX('Base Data wHSA (NCI Modified)'!$L$2:'Base Data wHSA (NCI Modified)'!$T$3142,'Base Data wHSA (NCI Modified)'!$K187,COLUMNS(COUNTIES!$D$2:K187)),\"\")","v":""},{"$f":"IFERROR(INDEX('Base Data wHSA (NCI Modified)'!$L$2:'Base Data wHSA (NCI Modified)'!$T$3142,'Base Data wHSA (NCI Modified)'!$K187,COLUMNS(COUNTIES!$D$2:L187)),\"\")","v":""}]
[{"$f":"ROWS($E$2:E188)","v":187},{"$f":"IF(E188=WORKSHEET!$B$2,A188,\"\")","v":""},"",{"$f":"IFERROR(INDEX('Base Data wHSA (NCI Modified)'!$L$2:'Base Data wHSA (NCI Modified)'!$T$3142,'Base Data wHSA (NCI Modified)'!$K188,COLUMNS(COUNTIES!$D$2:D188)),\"\")","v":""},{"$f":"IFERROR(INDEX('Base Data wHSA (NCI Modified)'!$L$2:'Base Data wHSA (NCI Modified)'!$T$3142,'Base Data wHSA (NCI Modified)'!$K188,COLUMNS(COUNTIES!$D$2:E188)),\"\")","v":""},{"$f":"IFERROR(INDEX('Base Data wHSA (NCI Modified)'!$L$2:'Base Data wHSA (NCI Modified)'!$T$3142,'Base Data wHSA (NCI Modified)'!$K188,COLUMNS(COUNTIES!$D$2:F188)),\"\")","v":""},{"$f":"IFERROR(INDEX('Base Data wHSA (NCI Modified)'!$L$2:'Base Data wHSA (NCI Modified)'!$T$3142,'Base Data wHSA (NCI Modified)'!$K188,COLUMNS(COUNTIES!$D$2:G188)),\"\")","v":""},{"$f":"IFERROR(INDEX('Base Data wHSA (NCI Modified)'!$L$2:'Base Data wHSA (NCI Modified)'!$T$3142,'Base Data wHSA (NCI Modified)'!$K188,COLUMNS(COUNTIES!$D$2:H188)),\"\")","v":""},{"$f":"IFERROR(INDEX('Base Data wHSA (NCI Modified)'!$L$2:'Base Data wHSA (NCI Modified)'!$T$3142,'Base Data wHSA (NCI Modified)'!$K188,COLUMNS(COUNTIES!$D$2:I188)),\"\")","v":""},{"$f":"IFERROR(INDEX('Base Data wHSA (NCI Modified)'!$L$2:'Base Data wHSA (NCI Modified)'!$T$3142,'Base Data wHSA (NCI Modified)'!$K188,COLUMNS(COUNTIES!$D$2:J188)),\"\")","v":""},{"$f":"IFERROR(INDEX('Base Data wHSA (NCI Modified)'!$L$2:'Base Data wHSA (NCI Modified)'!$T$3142,'Base Data wHSA (NCI Modified)'!$K188,COLUMNS(COUNTIES!$D$2:K188)),\"\")","v":""},{"$f":"IFERROR(INDEX('Base Data wHSA (NCI Modified)'!$L$2:'Base Data wHSA (NCI Modified)'!$T$3142,'Base Data wHSA (NCI Modified)'!$K188,COLUMNS(COUNTIES!$D$2:L188)),\"\")","v":""}]
[{"$f":"ROWS($E$2:E189)","v":188},{"$f":"IF(E189=WORKSHEET!$B$2,A189,\"\")","v":""},"",{"$f":"IFERROR(INDEX('Base Data wHSA (NCI Modified)'!$L$2:'Base Data wHSA (NCI Modified)'!$T$3142,'Base Data wHSA (NCI Modified)'!$K189,COLUMNS(COUNTIES!$D$2:D189)),\"\")","v":""},{"$f":"IFERROR(INDEX('Base Data wHSA (NCI Modified)'!$L$2:'Base Data wHSA (NCI Modified)'!$T$3142,'Base Data wHSA (NCI Modified)'!$K189,COLUMNS(COUNTIES!$D$2:E189)),\"\")","v":""},{"$f":"IFERROR(INDEX('Base Data wHSA (NCI Modified)'!$L$2:'Base Data wHSA (NCI Modified)'!$T$3142,'Base Data wHSA (NCI Modified)'!$K189,COLUMNS(COUNTIES!$D$2:F189)),\"\")","v":""},{"$f":"IFERROR(INDEX('Base Data wHSA (NCI Modified)'!$L$2:'Base Data wHSA (NCI Modified)'!$T$3142,'Base Data wHSA (NCI Modified)'!$K189,COLUMNS(COUNTIES!$D$2:G189)),\"\")","v":""},{"$f":"IFERROR(INDEX('Base Data wHSA (NCI Modified)'!$L$2:'Base Data wHSA (NCI Modified)'!$T$3142,'Base Data wHSA (NCI Modified)'!$K189,COLUMNS(COUNTIES!$D$2:H189)),\"\")","v":""},{"$f":"IFERROR(INDEX('Base Data wHSA (NCI Modified)'!$L$2:'Base Data wHSA (NCI Modified)'!$T$3142,'Base Data wHSA (NCI Modified)'!$K189,COLUMNS(COUNTIES!$D$2:I189)),\"\")","v":""},{"$f":"IFERROR(INDEX('Base Data wHSA (NCI Modified)'!$L$2:'Base Data wHSA (NCI Modified)'!$T$3142,'Base Data wHSA (NCI Modified)'!$K189,COLUMNS(COUNTIES!$D$2:J189)),\"\")","v":""},{"$f":"IFERROR(INDEX('Base Data wHSA (NCI Modified)'!$L$2:'Base Data wHSA (NCI Modified)'!$T$3142,'Base Data wHSA (NCI Modified)'!$K189,COLUMNS(COUNTIES!$D$2:K189)),\"\")","v":""},{"$f":"IFERROR(INDEX('Base Data wHSA (NCI Modified)'!$L$2:'Base Data wHSA (NCI Modified)'!$T$3142,'Base Data wHSA (NCI Modified)'!$K189,COLUMNS(COUNTIES!$D$2:L189)),\"\")","v":""}]
[{"$f":"ROWS($E$2:E190)","v":189},{"$f":"IF(E190=WORKSHEET!$B$2,A190,\"\")","v":""},"",{"$f":"IFERROR(INDEX('Base Data wHSA (NCI Modified)'!$L$2:'Base Data wHSA (NCI Modified)'!$T$3142,'Base Data wHSA (NCI Modified)'!$K190,COLUMNS(COUNTIES!$D$2:D190)),\"\")","v":""},{"$f":"IFERROR(INDEX('Base Data wHSA (NCI Modified)'!$L$2:'Base Data wHSA (NCI Modified)'!$T$3142,'Base Data wHSA (NCI Modified)'!$K190,COLUMNS(COUNTIES!$D$2:E190)),\"\")","v":""},{"$f":"IFERROR(INDEX('Base Data wHSA (NCI Modified)'!$L$2:'Base Data wHSA (NCI Modified)'!$T$3142,'Base Data wHSA (NCI Modified)'!$K190,COLUMNS(COUNTIES!$D$2:F190)),\"\")","v":""},{"$f":"IFERROR(INDEX('Base Data wHSA (NCI Modified)'!$L$2:'Base Data wHSA (NCI Modified)'!$T$3142,'Base Data wHSA (NCI Modified)'!$K190,COLUMNS(COUNTIES!$D$2:G190)),\"\")","v":""},{"$f":"IFERROR(INDEX('Base Data wHSA (NCI Modified)'!$L$2:'Base Data wHSA (NCI Modified)'!$T$3142,'Base Data wHSA (NCI Modified)'!$K190,COLUMNS(COUNTIES!$D$2:H190)),\"\")","v":""},{"$f":"IFERROR(INDEX('Base Data wHSA (NCI Modified)'!$L$2:'Base Data wHSA (NCI Modified)'!$T$3142,'Base Data wHSA (NCI Modified)'!$K190,COLUMNS(COUNTIES!$D$2:I190)),\"\")","v":""},{"$f":"IFERROR(INDEX('Base Data wHSA (NCI Modified)'!$L$2:'Base Data wHSA (NCI Modified)'!$T$3142,'Base Data wHSA (NCI Modified)'!$K190,COLUMNS(COUNTIES!$D$2:J190)),\"\")","v":""},{"$f":"IFERROR(INDEX('Base Data wHSA (NCI Modified)'!$L$2:'Base Data wHSA (NCI Modified)'!$T$3142,'Base Data wHSA (NCI Modified)'!$K190,COLUMNS(COUNTIES!$D$2:K190)),\"\")","v":""},{"$f":"IFERROR(INDEX('Base Data wHSA (NCI Modified)'!$L$2:'Base Data wHSA (NCI Modified)'!$T$3142,'Base Data wHSA (NCI Modified)'!$K190,COLUMNS(COUNTIES!$D$2:L190)),\"\")","v":""}]
[{"$f":"ROWS($E$2:E191)","v":190},{"$f":"IF(E191=WORKSHEET!$B$2,A191,\"\")","v":""},"",{"$f":"IFERROR(INDEX('Base Data wHSA (NCI Modified)'!$L$2:'Base Data wHSA (NCI Modified)'!$T$3142,'Base Data wHSA (NCI Modified)'!$K191,COLUMNS(COUNTIES!$D$2:D191)),\"\")","v":""},{"$f":"IFERROR(INDEX('Base Data wHSA (NCI Modified)'!$L$2:'Base Data wHSA (NCI Modified)'!$T$3142,'Base Data wHSA (NCI Modified)'!$K191,COLUMNS(COUNTIES!$D$2:E191)),\"\")","v":""},{"$f":"IFERROR(INDEX('Base Data wHSA (NCI Modified)'!$L$2:'Base Data wHSA (NCI Modified)'!$T$3142,'Base Data wHSA (NCI Modified)'!$K191,COLUMNS(COUNTIES!$D$2:F191)),\"\")","v":""},{"$f":"IFERROR(INDEX('Base Data wHSA (NCI Modified)'!$L$2:'Base Data wHSA (NCI Modified)'!$T$3142,'Base Data wHSA (NCI Modified)'!$K191,COLUMNS(COUNTIES!$D$2:G191)),\"\")","v":""},{"$f":"IFERROR(INDEX('Base Data wHSA (NCI Modified)'!$L$2:'Base Data wHSA (NCI Modified)'!$T$3142,'Base Data wHSA (NCI Modified)'!$K191,COLUMNS(COUNTIES!$D$2:H191)),\"\")","v":""},{"$f":"IFERROR(INDEX('Base Data wHSA (NCI Modified)'!$L$2:'Base Data wHSA (NCI Modified)'!$T$3142,'Base Data wHSA (NCI Modified)'!$K191,COLUMNS(COUNTIES!$D$2:I191)),\"\")","v":""},{"$f":"IFERROR(INDEX('Base Data wHSA (NCI Modified)'!$L$2:'Base Data wHSA (NCI Modified)'!$T$3142,'Base Data wHSA (NCI Modified)'!$K191,COLUMNS(COUNTIES!$D$2:J191)),\"\")","v":""},{"$f":"IFERROR(INDEX('Base Data wHSA (NCI Modified)'!$L$2:'Base Data wHSA (NCI Modified)'!$T$3142,'Base Data wHSA (NCI Modified)'!$K191,COLUMNS(COUNTIES!$D$2:K191)),\"\")","v":""},{"$f":"IFERROR(INDEX('Base Data wHSA (NCI Modified)'!$L$2:'Base Data wHSA (NCI Modified)'!$T$3142,'Base Data wHSA (NCI Modified)'!$K191,COLUMNS(COUNTIES!$D$2:L191)),\"\")","v":""}]
[{"$f":"ROWS($E$2:E192)","v":191},{"$f":"IF(E192=WORKSHEET!$B$2,A192,\"\")","v":""},"",{"$f":"IFERROR(INDEX('Base Data wHSA (NCI Modified)'!$L$2:'Base Data wHSA (NCI Modified)'!$T$3142,'Base Data wHSA (NCI Modified)'!$K192,COLUMNS(COUNTIES!$D$2:D192)),\"\")","v":""},{"$f":"IFERROR(INDEX('Base Data wHSA (NCI Modified)'!$L$2:'Base Data wHSA (NCI Modified)'!$T$3142,'Base Data wHSA (NCI Modified)'!$K192,COLUMNS(COUNTIES!$D$2:E192)),\"\")","v":""},{"$f":"IFERROR(INDEX('Base Data wHSA (NCI Modified)'!$L$2:'Base Data wHSA (NCI Modified)'!$T$3142,'Base Data wHSA (NCI Modified)'!$K192,COLUMNS(COUNTIES!$D$2:F192)),\"\")","v":""},{"$f":"IFERROR(INDEX('Base Data wHSA (NCI Modified)'!$L$2:'Base Data wHSA (NCI Modified)'!$T$3142,'Base Data wHSA (NCI Modified)'!$K192,COLUMNS(COUNTIES!$D$2:G192)),\"\")","v":""},{"$f":"IFERROR(INDEX('Base Data wHSA (NCI Modified)'!$L$2:'Base Data wHSA (NCI Modified)'!$T$3142,'Base Data wHSA (NCI Modified)'!$K192,COLUMNS(COUNTIES!$D$2:H192)),\"\")","v":""},{"$f":"IFERROR(INDEX('Base Data wHSA (NCI Modified)'!$L$2:'Base Data wHSA (NCI Modified)'!$T$3142,'Base Data wHSA (NCI Modified)'!$K192,COLUMNS(COUNTIES!$D$2:I192)),\"\")","v":""},{"$f":"IFERROR(INDEX('Base Data wHSA (NCI Modified)'!$L$2:'Base Data wHSA (NCI Modified)'!$T$3142,'Base Data wHSA (NCI Modified)'!$K192,COLUMNS(COUNTIES!$D$2:J192)),\"\")","v":""},{"$f":"IFERROR(INDEX('Base Data wHSA (NCI Modified)'!$L$2:'Base Data wHSA (NCI Modified)'!$T$3142,'Base Data wHSA (NCI Modified)'!$K192,COLUMNS(COUNTIES!$D$2:K192)),\"\")","v":""},{"$f":"IFERROR(INDEX('Base Data wHSA (NCI Modified)'!$L$2:'Base Data wHSA (NCI Modified)'!$T$3142,'Base Data wHSA (NCI Modified)'!$K192,COLUMNS(COUNTIES!$D$2:L192)),\"\")","v":""}]
[{"$f":"ROWS($E$2:E193)","v":192},{"$f":"IF(E193=WORKSHEET!$B$2,A193,\"\")","v":""},"",{"$f":"IFERROR(INDEX('Base Data wHSA (NCI Modified)'!$L$2:'Base Data wHSA (NCI Modified)'!$T$3142,'Base Data wHSA (NCI Modified)'!$K193,COLUMNS(COUNTIES!$D$2:D193)),\"\")","v":""},{"$f":"IFERROR(INDEX('Base Data wHSA (NCI Modified)'!$L$2:'Base Data wHSA (NCI Modified)'!$T$3142,'Base Data wHSA (NCI Modified)'!$K193,COLUMNS(COUNTIES!$D$2:E193)),\"\")","v":""},{"$f":"IFERROR(INDEX('Base Data wHSA (NCI Modified)'!$L$2:'Base Data wHSA (NCI Modified)'!$T$3142,'Base Data wHSA (NCI Modified)'!$K193,COLUMNS(COUNTIES!$D$2:F193)),\"\")","v":""},{"$f":"IFERROR(INDEX('Base Data wHSA (NCI Modified)'!$L$2:'Base Data wHSA (NCI Modified)'!$T$3142,'Base Data wHSA (NCI Modified)'!$K193,COLUMNS(COUNTIES!$D$2:G193)),\"\")","v":""},{"$f":"IFERROR(INDEX('Base Data wHSA (NCI Modified)'!$L$2:'Base Data wHSA (NCI Modified)'!$T$3142,'Base Data wHSA (NCI Modified)'!$K193,COLUMNS(COUNTIES!$D$2:H193)),\"\")","v":""},{"$f":"IFERROR(INDEX('Base Data wHSA (NCI Modified)'!$L$2:'Base Data wHSA (NCI Modified)'!$T$3142,'Base Data wHSA (NCI Modified)'!$K193,COLUMNS(COUNTIES!$D$2:I193)),\"\")","v":""},{"$f":"IFERROR(INDEX('Base Data wHSA (NCI Modified)'!$L$2:'Base Data wHSA (NCI Modified)'!$T$3142,'Base Data wHSA (NCI Modified)'!$K193,COLUMNS(COUNTIES!$D$2:J193)),\"\")","v":""},{"$f":"IFERROR(INDEX('Base Data wHSA (NCI Modified)'!$L$2:'Base Data wHSA (NCI Modified)'!$T$3142,'Base Data wHSA (NCI Modified)'!$K193,COLUMNS(COUNTIES!$D$2:K193)),\"\")","v":""},{"$f":"IFERROR(INDEX('Base Data wHSA (NCI Modified)'!$L$2:'Base Data wHSA (NCI Modified)'!$T$3142,'Base Data wHSA (NCI Modified)'!$K193,COLUMNS(COUNTIES!$D$2:L193)),\"\")","v":""}]
[{"$f":"ROWS($E$2:E194)","v":193},{"$f":"IF(E194=WORKSHEET!$B$2,A194,\"\")","v":""},"",{"$f":"IFERROR(INDEX('Base Data wHSA (NCI Modified)'!$L$2:'Base Data wHSA (NCI Modified)'!$T$3142,'Base Data wHSA (NCI Modified)'!$K194,COLUMNS(COUNTIES!$D$2:D194)),\"\")","v":""},{"$f":"IFERROR(INDEX('Base Data wHSA (NCI Modified)'!$L$2:'Base Data wHSA (NCI Modified)'!$T$3142,'Base Data wHSA (NCI Modified)'!$K194,COLUMNS(COUNTIES!$D$2:E194)),\"\")","v":""},{"$f":"IFERROR(INDEX('Base Data wHSA (NCI Modified)'!$L$2:'Base Data wHSA (NCI Modified)'!$T$3142,'Base Data wHSA (NCI Modified)'!$K194,COLUMNS(COUNTIES!$D$2:F194)),\"\")","v":""},{"$f":"IFERROR(INDEX('Base Data wHSA (NCI Modified)'!$L$2:'Base Data wHSA (NCI Modified)'!$T$3142,'Base Data wHSA (NCI Modified)'!$K194,COLUMNS(COUNTIES!$D$2:G194)),\"\")","v":""},{"$f":"IFERROR(INDEX('Base Data wHSA (NCI Modified)'!$L$2:'Base Data wHSA (NCI Modified)'!$T$3142,'Base Data wHSA (NCI Modified)'!$K194,COLUMNS(COUNTIES!$D$2:H194)),\"\")","v":""},{"$f":"IFERROR(INDEX('Base Data wHSA (NCI Modified)'!$L$2:'Base Data wHSA (NCI Modified)'!$T$3142,'Base Data wHSA (NCI Modified)'!$K194,COLUMNS(COUNTIES!$D$2:I194)),\"\")","v":""},{"$f":"IFERROR(INDEX('Base Data wHSA (NCI Modified)'!$L$2:'Base Data wHSA (NCI Modified)'!$T$3142,'Base Data wHSA (NCI Modified)'!$K194,COLUMNS(COUNTIES!$D$2:J194)),\"\")","v":""},{"$f":"IFERROR(INDEX('Base Data wHSA (NCI Modified)'!$L$2:'Base Data wHSA (NCI Modified)'!$T$3142,'Base Data wHSA (NCI Modified)'!$K194,COLUMNS(COUNTIES!$D$2:K194)),\"\")","v":""},{"$f":"IFERROR(INDEX('Base Data wHSA (NCI Modified)'!$L$2:'Base Data wHSA (NCI Modified)'!$T$3142,'Base Data wHSA (NCI Modified)'!$K194,COLUMNS(COUNTIES!$D$2:L194)),\"\")","v":""}]
[{"$f":"ROWS($E$2:E195)","v":194},{"$f":"IF(E195=WORKSHEET!$B$2,A195,\"\")","v":""},"",{"$f":"IFERROR(INDEX('Base Data wHSA (NCI Modified)'!$L$2:'Base Data wHSA (NCI Modified)'!$T$3142,'Base Data wHSA (NCI Modified)'!$K195,COLUMNS(COUNTIES!$D$2:D195)),\"\")","v":""},{"$f":"IFERROR(INDEX('Base Data wHSA (NCI Modified)'!$L$2:'Base Data wHSA (NCI Modified)'!$T$3142,'Base Data wHSA (NCI Modified)'!$K195,COLUMNS(COUNTIES!$D$2:E195)),\"\")","v":""},{"$f":"IFERROR(INDEX('Base Data wHSA (NCI Modified)'!$L$2:'Base Data wHSA (NCI Modified)'!$T$3142,'Base Data wHSA (NCI Modified)'!$K195,COLUMNS(COUNTIES!$D$2:F195)),\"\")","v":""},{"$f":"IFERROR(INDEX('Base Data wHSA (NCI Modified)'!$L$2:'Base Data wHSA (NCI Modified)'!$T$3142,'Base Data wHSA (NCI Modified)'!$K195,COLUMNS(COUNTIES!$D$2:G195)),\"\")","v":""},{"$f":"IFERROR(INDEX('Base Data wHSA (NCI Modified)'!$L$2:'Base Data wHSA (NCI Modified)'!$T$3142,'Base Data wHSA (NCI Modified)'!$K195,COLUMNS(COUNTIES!$D$2:H195)),\"\")","v":""},{"$f":"IFERROR(INDEX('Base Data wHSA (NCI Modified)'!$L$2:'Base Data wHSA (NCI Modified)'!$T$3142,'Base Data wHSA (NCI Modified)'!$K195,COLUMNS(COUNTIES!$D$2:I195)),\"\")","v":""},{"$f":"IFERROR(INDEX('Base Data wHSA (NCI Modified)'!$L$2:'Base Data wHSA (NCI Modified)'!$T$3142,'Base Data wHSA (NCI Modified)'!$K195,COLUMNS(COUNTIES!$D$2:J195)),\"\")","v":""},{"$f":"IFERROR(INDEX('Base Data wHSA (NCI Modified)'!$L$2:'Base Data wHSA (NCI Modified)'!$T$3142,'Base Data wHSA (NCI Modified)'!$K195,COLUMNS(COUNTIES!$D$2:K195)),\"\")","v":""},{"$f":"IFERROR(INDEX('Base Data wHSA (NCI Modified)'!$L$2:'Base Data wHSA (NCI Modified)'!$T$3142,'Base Data wHSA (NCI Modified)'!$K195,COLUMNS(COUNTIES!$D$2:L195)),\"\")","v":""}]
[{"$f":"ROWS($E$2:E196)","v":195},{"$f":"IF(E196=WORKSHEET!$B$2,A196,\"\")","v":""},{"$f":"IFERROR(SMALL($B$2:$B$255,A196),\"\")","v":""},{"$f":"IFERROR(INDEX('Base Data wHSA (NCI Modified)'!$L$2:'Base Data wHSA (NCI Modified)'!$T$3142,'Base Data wHSA (NCI Modified)'!$K196,COLUMNS(COUNTIES!$D$2:D196)),\"\")","v":""},{"$f":"IFERROR(INDEX('Base Data wHSA (NCI Modified)'!$L$2:'Base Data wHSA (NCI Modified)'!$T$3142,'Base Data wHSA (NCI Modified)'!$K196,COLUMNS(COUNTIES!$D$2:E196)),\"\")","v":""},{"$f":"IFERROR(INDEX('Base Data wHSA (NCI Modified)'!$L$2:'Base Data wHSA (NCI Modified)'!$T$3142,'Base Data wHSA (NCI Modified)'!$K196,COLUMNS(COUNTIES!$D$2:F196)),\"\")","v":""},{"$f":"IFERROR(INDEX('Base Data wHSA (NCI Modified)'!$L$2:'Base Data wHSA (NCI Modified)'!$T$3142,'Base Data wHSA (NCI Modified)'!$K196,COLUMNS(COUNTIES!$D$2:G196)),\"\")","v":""},{"$f":"IFERROR(INDEX('Base Data wHSA (NCI Modified)'!$L$2:'Base Data wHSA (NCI Modified)'!$T$3142,'Base Data wHSA (NCI Modified)'!$K196,COLUMNS(COUNTIES!$D$2:H196)),\"\")","v":""},{"$f":"IFERROR(INDEX('Base Data wHSA (NCI Modified)'!$L$2:'Base Data wHSA (NCI Modified)'!$T$3142,'Base Data wHSA (NCI Modified)'!$K196,COLUMNS(COUNTIES!$D$2:I196)),\"\")","v":""},{"$f":"IFERROR(INDEX('Base Data wHSA (NCI Modified)'!$L$2:'Base Data wHSA (NCI Modified)'!$T$3142,'Base Data wHSA (NCI Modified)'!$K196,COLUMNS(COUNTIES!$D$2:J196)),\"\")","v":""},{"$f":"IFERROR(INDEX('Base Data wHSA (NCI Modified)'!$L$2:'Base Data wHSA (NCI Modified)'!$T$3142,'Base Data wHSA (NCI Modified)'!$K196,COLUMNS(COUNTIES!$D$2:K196)),\"\")","v":""},{"$f":"IFERROR(INDEX('Base Data wHSA (NCI Modified)'!$L$2:'Base Data wHSA (NCI Modified)'!$T$3142,'Base Data wHSA (NCI Modified)'!$K196,COLUMNS(COUNTIES!$D$2:L196)),\"\")","v":""}]
[{"$f":"ROWS($E$2:E197)","v":196},{"$f":"IF(E197=WORKSHEET!$B$2,A197,\"\")","v":""},"",{"$f":"IFERROR(INDEX('Base Data wHSA (NCI Modified)'!$L$2:'Base Data wHSA (NCI Modified)'!$T$3142,'Base Data wHSA (NCI Modified)'!$K197,COLUMNS(COUNTIES!$D$2:D197)),\"\")","v":""},{"$f":"IFERROR(INDEX('Base Data wHSA (NCI Modified)'!$L$2:'Base Data wHSA (NCI Modified)'!$T$3142,'Base Data wHSA (NCI Modified)'!$K197,COLUMNS(COUNTIES!$D$2:E197)),\"\")","v":""},{"$f":"IFERROR(INDEX('Base Data wHSA (NCI Modified)'!$L$2:'Base Data wHSA (NCI Modified)'!$T$3142,'Base Data wHSA (NCI Modified)'!$K197,COLUMNS(COUNTIES!$D$2:F197)),\"\")","v":""},{"$f":"IFERROR(INDEX('Base Data wHSA (NCI Modified)'!$L$2:'Base Data wHSA (NCI Modified)'!$T$3142,'Base Data wHSA (NCI Modified)'!$K197,COLUMNS(COUNTIES!$D$2:G197)),\"\")","v":""},{"$f":"IFERROR(INDEX('Base Data wHSA (NCI Modified)'!$L$2:'Base Data wHSA (NCI Modified)'!$T$3142,'Base Data wHSA (NCI Modified)'!$K197,COLUMNS(COUNTIES!$D$2:H197)),\"\")","v":""},{"$f":"IFERROR(INDEX('Base Data wHSA (NCI Modified)'!$L$2:'Base Data wHSA (NCI Modified)'!$T$3142,'Base Data wHSA (NCI Modified)'!$K197,COLUMNS(COUNTIES!$D$2:I197)),\"\")","v":""},{"$f":"IFERROR(INDEX('Base Data wHSA (NCI Modified)'!$L$2:'Base Data wHSA (NCI Modified)'!$T$3142,'Base Data wHSA (NCI Modified)'!$K197,COLUMNS(COUNTIES!$D$2:J197)),\"\")","v":""},{"$f":"IFERROR(INDEX('Base Data wHSA (NCI Modified)'!$L$2:'Base Data wHSA (NCI Modified)'!$T$3142,'Base Data wHSA (NCI Modified)'!$K197,COLUMNS(COUNTIES!$D$2:K197)),\"\")","v":""},{"$f":"IFERROR(INDEX('Base Data wHSA (NCI Modified)'!$L$2:'Base Data wHSA (NCI Modified)'!$T$3142,'Base Data wHSA (NCI Modified)'!$K197,COLUMNS(COUNTIES!$D$2:L197)),\"\")","v":""}]
[{"$f":"ROWS($E$2:E198)","v":197},{"$f":"IF(E198=WORKSHEET!$B$2,A198,\"\")","v":""},"",{"$f":"IFERROR(INDEX('Base Data wHSA (NCI Modified)'!$L$2:'Base Data wHSA (NCI Modified)'!$T$3142,'Base Data wHSA (NCI Modified)'!$K198,COLUMNS(COUNTIES!$D$2:D198)),\"\")","v":""},{"$f":"IFERROR(INDEX('Base Data wHSA (NCI Modified)'!$L$2:'Base Data wHSA (NCI Modified)'!$T$3142,'Base Data wHSA (NCI Modified)'!$K198,COLUMNS(COUNTIES!$D$2:E198)),\"\")","v":""},{"$f":"IFERROR(INDEX('Base Data wHSA (NCI Modified)'!$L$2:'Base Data wHSA (NCI Modified)'!$T$3142,'Base Data wHSA (NCI Modified)'!$K198,COLUMNS(COUNTIES!$D$2:F198)),\"\")","v":""},{"$f":"IFERROR(INDEX('Base Data wHSA (NCI Modified)'!$L$2:'Base Data wHSA (NCI Modified)'!$T$3142,'Base Data wHSA (NCI Modified)'!$K198,COLUMNS(COUNTIES!$D$2:G198)),\"\")","v":""},{"$f":"IFERROR(INDEX('Base Data wHSA (NCI Modified)'!$L$2:'Base Data wHSA (NCI Modified)'!$T$3142,'Base Data wHSA (NCI Modified)'!$K198,COLUMNS(COUNTIES!$D$2:H198)),\"\")","v":""},{"$f":"IFERROR(INDEX('Base Data wHSA (NCI Modified)'!$L$2:'Base Data wHSA (NCI Modified)'!$T$3142,'Base Data wHSA (NCI Modified)'!$K198,COLUMNS(COUNTIES!$D$2:I198)),\"\")","v":""},{"$f":"IFERROR(INDEX('Base Data wHSA (NCI Modified)'!$L$2:'Base Data wHSA (NCI Modified)'!$T$3142,'Base Data wHSA (NCI Modified)'!$K198,COLUMNS(COUNTIES!$D$2:J198)),\"\")","v":""},{"$f":"IFERROR(INDEX('Base Data wHSA (NCI Modified)'!$L$2:'Base Data wHSA (NCI Modified)'!$T$3142,'Base Data wHSA (NCI Modified)'!$K198,COLUMNS(COUNTIES!$D$2:K198)),\"\")","v":""},{"$f":"IFERROR(INDEX('Base Data wHSA (NCI Modified)'!$L$2:'Base Data wHSA (NCI Modified)'!$T$3142,'Base Data wHSA (NCI Modified)'!$K198,COLUMNS(COUNTIES!$D$2:L198)),\"\")","v":""}]
[{"$f":"ROWS($E$2:E199)","v":198},{"$f":"IF(E199=WORKSHEET!$B$2,A199,\"\")","v":""},"",{"$f":"IFERROR(INDEX('Base Data wHSA (NCI Modified)'!$L$2:'Base Data wHSA (NCI Modified)'!$T$3142,'Base Data wHSA (NCI Modified)'!$K199,COLUMNS(COUNTIES!$D$2:D199)),\"\")","v":""},{"$f":"IFERROR(INDEX('Base Data wHSA (NCI Modified)'!$L$2:'Base Data wHSA (NCI Modified)'!$T$3142,'Base Data wHSA (NCI Modified)'!$K199,COLUMNS(COUNTIES!$D$2:E199)),\"\")","v":""},{"$f":"IFERROR(INDEX('Base Data wHSA (NCI Modified)'!$L$2:'Base Data wHSA (NCI Modified)'!$T$3142,'Base Data wHSA (NCI Modified)'!$K199,COLUMNS(COUNTIES!$D$2:F199)),\"\")","v":""},{"$f":"IFERROR(INDEX('Base Data wHSA (NCI Modified)'!$L$2:'Base Data wHSA (NCI Modified)'!$T$3142,'Base Data wHSA (NCI Modified)'!$K199,COLUMNS(COUNTIES!$D$2:G199)),\"\")","v":""},{"$f":"IFERROR(INDEX('Base Data wHSA (NCI Modified)'!$L$2:'Base Data wHSA (NCI Modified)'!$T$3142,'Base Data wHSA (NCI Modified)'!$K199,COLUMNS(COUNTIES!$D$2:H199)),\"\")","v":""},{"$f":"IFERROR(INDEX('Base Data wHSA (NCI Modified)'!$L$2:'Base Data wHSA (NCI Modified)'!$T$3142,'Base Data wHSA (NCI Modified)'!$K199,COLUMNS(COUNTIES!$D$2:I199)),\"\")","v":""},{"$f":"IFERROR(INDEX('Base Data wHSA (NCI Modified)'!$L$2:'Base Data wHSA (NCI Modified)'!$T$3142,'Base Data wHSA (NCI Modified)'!$K199,COLUMNS(COUNTIES!$D$2:J199)),\"\")","v":""},{"$f":"IFERROR(INDEX('Base Data wHSA (NCI Modified)'!$L$2:'Base Data wHSA (NCI Modified)'!$T$3142,'Base Data wHSA (NCI Modified)'!$K199,COLUMNS(COUNTIES!$D$2:K199)),\"\")","v":""},{"$f":"IFERROR(INDEX('Base Data wHSA (NCI Modified)'!$L$2:'Base Data wHSA (NCI Modified)'!$T$3142,'Base Data wHSA (NCI Modified)'!$K199,COLUMNS(COUNTIES!$D$2:L199)),\"\")","v":""}]
[{"$f":"ROWS($E$2:E200)","v":199},{"$f":"IF(E200=WORKSHEET!$B$2,A200,\"\")","v":""},"",{"$f":"IFERROR(INDEX('Base Data wHSA (NCI Modified)'!$L$2:'Base Data wHSA (NCI Modified)'!$T$3142,'Base Data wHSA (NCI Modified)'!$K200,COLUMNS(COUNTIES!$D$2:D200)),\"\")","v":""},{"$f":"IFERROR(INDEX('Base Data wHSA (NCI Modified)'!$L$2:'Base Data wHSA (NCI Modified)'!$T$3142,'Base Data wHSA (NCI Modified)'!$K200,COLUMNS(COUNTIES!$D$2:E200)),\"\")","v":""},{"$f":"IFERROR(INDEX('Base Data wHSA (NCI Modified)'!$L$2:'Base Data wHSA (NCI Modified)'!$T$3142,'Base Data wHSA (NCI Modified)'!$K200,COLUMNS(COUNTIES!$D$2:F200)),\"\")","v":""},{"$f":"IFERROR(INDEX('Base Data wHSA (NCI Modified)'!$L$2:'Base Data wHSA (NCI Modified)'!$T$3142,'Base Data wHSA (NCI Modified)'!$K200,COLUMNS(COUNTIES!$D$2:G200)),\"\")","v":""},{"$f":"IFERROR(INDEX('Base Data wHSA (NCI Modified)'!$L$2:'Base Data wHSA (NCI Modified)'!$T$3142,'Base Data wHSA (NCI Modified)'!$K200,COLUMNS(COUNTIES!$D$2:H200)),\"\")","v":""},{"$f":"IFERROR(INDEX('Base Data wHSA (NCI Modified)'!$L$2:'Base Data wHSA (NCI Modified)'!$T$3142,'Base Data wHSA (NCI Modified)'!$K200,COLUMNS(COUNTIES!$D$2:I200)),\"\")","v":""},{"$f":"IFERROR(INDEX('Base Data wHSA (NCI Modified)'!$L$2:'Base Data wHSA (NCI Modified)'!$T$3142,'Base Data wHSA (NCI Modified)'!$K200,COLUMNS(COUNTIES!$D$2:J200)),\"\")","v":""},{"$f":"IFERROR(INDEX('Base Data wHSA (NCI Modified)'!$L$2:'Base Data wHSA (NCI Modified)'!$T$3142,'Base Data wHSA (NCI Modified)'!$K200,COLUMNS(COUNTIES!$D$2:K200)),\"\")","v":""},{"$f":"IFERROR(INDEX('Base Data wHSA (NCI Modified)'!$L$2:'Base Data wHSA (NCI Modified)'!$T$3142,'Base Data wHSA (NCI Modified)'!$K200,COLUMNS(COUNTIES!$D$2:L200)),\"\")","v":""}]
[{"$f":"ROWS($E$2:E201)","v":200},{"$f":"IF(E201=WORKSHEET!$B$2,A201,\"\")","v":""},"",{"$f":"IFERROR(INDEX('Base Data wHSA (NCI Modified)'!$L$2:'Base Data wHSA (NCI Modified)'!$T$3142,'Base Data wHSA (NCI Modified)'!$K201,COLUMNS(COUNTIES!$D$2:D201)),\"\")","v":""},{"$f":"IFERROR(INDEX('Base Data wHSA (NCI Modified)'!$L$2:'Base Data wHSA (NCI Modified)'!$T$3142,'Base Data wHSA (NCI Modified)'!$K201,COLUMNS(COUNTIES!$D$2:E201)),\"\")","v":""},{"$f":"IFERROR(INDEX('Base Data wHSA (NCI Modified)'!$L$2:'Base Data wHSA (NCI Modified)'!$T$3142,'Base Data wHSA (NCI Modified)'!$K201,COLUMNS(COUNTIES!$D$2:F201)),\"\")","v":""},{"$f":"IFERROR(INDEX('Base Data wHSA (NCI Modified)'!$L$2:'Base Data wHSA (NCI Modified)'!$T$3142,'Base Data wHSA (NCI Modified)'!$K201,COLUMNS(COUNTIES!$D$2:G201)),\"\")","v":""},{"$f":"IFERROR(INDEX('Base Data wHSA (NCI Modified)'!$L$2:'Base Data wHSA (NCI Modified)'!$T$3142,'Base Data wHSA (NCI Modified)'!$K201,COLUMNS(COUNTIES!$D$2:H201)),\"\")","v":""},{"$f":"IFERROR(INDEX('Base Data wHSA (NCI Modified)'!$L$2:'Base Data wHSA (NCI Modified)'!$T$3142,'Base Data wHSA (NCI Modified)'!$K201,COLUMNS(COUNTIES!$D$2:I201)),\"\")","v":""},{"$f":"IFERROR(INDEX('Base Data wHSA (NCI Modified)'!$L$2:'Base Data wHSA (NCI Modified)'!$T$3142,'Base Data wHSA (NCI Modified)'!$K201,COLUMNS(COUNTIES!$D$2:J201)),\"\")","v":""},{"$f":"IFERROR(INDEX('Base Data wHSA (NCI Modified)'!$L$2:'Base Data wHSA (NCI Modified)'!$T$3142,'Base Data wHSA (NCI Modified)'!$K201,COLUMNS(COUNTIES!$D$2:K201)),\"\")","v":""},{"$f":"IFERROR(INDEX('Base Data wHSA (NCI Modified)'!$L$2:'Base Data wHSA (NCI Modified)'!$T$3142,'Base Data wHSA (NCI Modified)'!$K201,COLUMNS(COUNTIES!$D$2:L201)),\"\")","v":""}]
[{"$f":"ROWS($E$2:E202)","v":201},{"$f":"IF(E202=WORKSHEET!$B$2,A202,\"\")","v":""},"",{"$f":"IFERROR(INDEX('Base Data wHSA (NCI Modified)'!$L$2:'Base Data wHSA (NCI Modified)'!$T$3142,'Base Data wHSA (NCI Modified)'!$K202,COLUMNS(COUNTIES!$D$2:D202)),\"\")","v":""},{"$f":"IFERROR(INDEX('Base Data wHSA (NCI Modified)'!$L$2:'Base Data wHSA (NCI Modified)'!$T$3142,'Base Data wHSA (NCI Modified)'!$K202,COLUMNS(COUNTIES!$D$2:E202)),\"\")","v":""},{"$f":"IFERROR(INDEX('Base Data wHSA (NCI Modified)'!$L$2:'Base Data wHSA (NCI Modified)'!$T$3142,'Base Data wHSA (NCI Modified)'!$K202,COLUMNS(COUNTIES!$D$2:F202)),\"\")","v":""},{"$f":"IFERROR(INDEX('Base Data wHSA (NCI Modified)'!$L$2:'Base Data wHSA (NCI Modified)'!$T$3142,'Base Data wHSA (NCI Modified)'!$K202,COLUMNS(COUNTIES!$D$2:G202)),\"\")","v":""},{"$f":"IFERROR(INDEX('Base Data wHSA (NCI Modified)'!$L$2:'Base Data wHSA (NCI Modified)'!$T$3142,'Base Data wHSA (NCI Modified)'!$K202,COLUMNS(COUNTIES!$D$2:H202)),\"\")","v":""},{"$f":"IFERROR(INDEX('Base Data wHSA (NCI Modified)'!$L$2:'Base Data wHSA (NCI Modified)'!$T$3142,'Base Data wHSA (NCI Modified)'!$K202,COLUMNS(COUNTIES!$D$2:I202)),\"\")","v":""},{"$f":"IFERROR(INDEX('Base Data wHSA (NCI Modified)'!$L$2:'Base Data wHSA (NCI Modified)'!$T$3142,'Base Data wHSA (NCI Modified)'!$K202,COLUMNS(COUNTIES!$D$2:J202)),\"\")","v":""},{"$f":"IFERROR(INDEX('Base Data wHSA (NCI Modified)'!$L$2:'Base Data wHSA (NCI Modified)'!$T$3142,'Base Data wHSA (NCI Modified)'!$K202,COLUMNS(COUNTIES!$D$2:K202)),\"\")","v":""},{"$f":"IFERROR(INDEX('Base Data wHSA (NCI Modified)'!$L$2:'Base Data wHSA (NCI Modified)'!$T$3142,'Base Data wHSA (NCI Modified)'!$K202,COLUMNS(COUNTIES!$D$2:L202)),\"\")","v":""}]
[{"$f":"ROWS($E$2:E203)","v":202},{"$f":"IF(E203=WORKSHEET!$B$2,A203,\"\")","v":""},"",{"$f":"IFERROR(INDEX('Base Data wHSA (NCI Modified)'!$L$2:'Base Data wHSA (NCI Modified)'!$T$3142,'Base Data wHSA (NCI Modified)'!$K203,COLUMNS(COUNTIES!$D$2:D203)),\"\")","v":""},{"$f":"IFERROR(INDEX('Base Data wHSA (NCI Modified)'!$L$2:'Base Data wHSA (NCI Modified)'!$T$3142,'Base Data wHSA (NCI Modified)'!$K203,COLUMNS(COUNTIES!$D$2:E203)),\"\")","v":""},{"$f":"IFERROR(INDEX('Base Data wHSA (NCI Modified)'!$L$2:'Base Data wHSA (NCI Modified)'!$T$3142,'Base Data wHSA (NCI Modified)'!$K203,COLUMNS(COUNTIES!$D$2:F203)),\"\")","v":""},{"$f":"IFERROR(INDEX('Base Data wHSA (NCI Modified)'!$L$2:'Base Data wHSA (NCI Modified)'!$T$3142,'Base Data wHSA (NCI Modified)'!$K203,COLUMNS(COUNTIES!$D$2:G203)),\"\")","v":""},{"$f":"IFERROR(INDEX('Base Data wHSA (NCI Modified)'!$L$2:'Base Data wHSA (NCI Modified)'!$T$3142,'Base Data wHSA (NCI Modified)'!$K203,COLUMNS(COUNTIES!$D$2:H203)),\"\")","v":""},{"$f":"IFERROR(INDEX('Base Data wHSA (NCI Modified)'!$L$2:'Base Data wHSA (NCI Modified)'!$T$3142,'Base Data wHSA (NCI Modified)'!$K203,COLUMNS(COUNTIES!$D$2:I203)),\"\")","v":""},{"$f":"IFERROR(INDEX('Base Data wHSA (NCI Modified)'!$L$2:'Base Data wHSA (NCI Modified)'!$T$3142,'Base Data wHSA (NCI Modified)'!$K203,COLUMNS(COUNTIES!$D$2:J203)),\"\")","v":""},{"$f":"IFERROR(INDEX('Base Data wHSA (NCI Modified)'!$L$2:'Base Data wHSA (NCI Modified)'!$T$3142,'Base Data wHSA (NCI Modified)'!$K203,COLUMNS(COUNTIES!$D$2:K203)),\"\")","v":""},{"$f":"IFERROR(INDEX('Base Data wHSA (NCI Modified)'!$L$2:'Base Data wHSA (NCI Modified)'!$T$3142,'Base Data wHSA (NCI Modified)'!$K203,COLUMNS(COUNTIES!$D$2:L203)),\"\")","v":""}]
[{"$f":"ROWS($E$2:E204)","v":203},{"$f":"IF(E204=WORKSHEET!$B$2,A204,\"\")","v":""},"",{"$f":"IFERROR(INDEX('Base Data wHSA (NCI Modified)'!$L$2:'Base Data wHSA (NCI Modified)'!$T$3142,'Base Data wHSA (NCI Modified)'!$K204,COLUMNS(COUNTIES!$D$2:D204)),\"\")","v":""},{"$f":"IFERROR(INDEX('Base Data wHSA (NCI Modified)'!$L$2:'Base Data wHSA (NCI Modified)'!$T$3142,'Base Data wHSA (NCI Modified)'!$K204,COLUMNS(COUNTIES!$D$2:E204)),\"\")","v":""},{"$f":"IFERROR(INDEX('Base Data wHSA (NCI Modified)'!$L$2:'Base Data wHSA (NCI Modified)'!$T$3142,'Base Data wHSA (NCI Modified)'!$K204,COLUMNS(COUNTIES!$D$2:F204)),\"\")","v":""},{"$f":"IFERROR(INDEX('Base Data wHSA (NCI Modified)'!$L$2:'Base Data wHSA (NCI Modified)'!$T$3142,'Base Data wHSA (NCI Modified)'!$K204,COLUMNS(COUNTIES!$D$2:G204)),\"\")","v":""},{"$f":"IFERROR(INDEX('Base Data wHSA (NCI Modified)'!$L$2:'Base Data wHSA (NCI Modified)'!$T$3142,'Base Data wHSA (NCI Modified)'!$K204,COLUMNS(COUNTIES!$D$2:H204)),\"\")","v":""},{"$f":"IFERROR(INDEX('Base Data wHSA (NCI Modified)'!$L$2:'Base Data wHSA (NCI Modified)'!$T$3142,'Base Data wHSA (NCI Modified)'!$K204,COLUMNS(COUNTIES!$D$2:I204)),\"\")","v":""},{"$f":"IFERROR(INDEX('Base Data wHSA (NCI Modified)'!$L$2:'Base Data wHSA (NCI Modified)'!$T$3142,'Base Data wHSA (NCI Modified)'!$K204,COLUMNS(COUNTIES!$D$2:J204)),\"\")","v":""},{"$f":"IFERROR(INDEX('Base Data wHSA (NCI Modified)'!$L$2:'Base Data wHSA (NCI Modified)'!$T$3142,'Base Data wHSA (NCI Modified)'!$K204,COLUMNS(COUNTIES!$D$2:K204)),\"\")","v":""},{"$f":"IFERROR(INDEX('Base Data wHSA (NCI Modified)'!$L$2:'Base Data wHSA (NCI Modified)'!$T$3142,'Base Data wHSA (NCI Modified)'!$K204,COLUMNS(COUNTIES!$D$2:L204)),\"\")","v":""}]
[{"$f":"ROWS($E$2:E205)","v":204},{"$f":"IF(E205=WORKSHEET!$B$2,A205,\"\")","v":""},"",{"$f":"IFERROR(INDEX('Base Data wHSA (NCI Modified)'!$L$2:'Base Data wHSA (NCI Modified)'!$T$3142,'Base Data wHSA (NCI Modified)'!$K205,COLUMNS(COUNTIES!$D$2:D205)),\"\")","v":""},{"$f":"IFERROR(INDEX('Base Data wHSA (NCI Modified)'!$L$2:'Base Data wHSA (NCI Modified)'!$T$3142,'Base Data wHSA (NCI Modified)'!$K205,COLUMNS(COUNTIES!$D$2:E205)),\"\")","v":""},{"$f":"IFERROR(INDEX('Base Data wHSA (NCI Modified)'!$L$2:'Base Data wHSA (NCI Modified)'!$T$3142,'Base Data wHSA (NCI Modified)'!$K205,COLUMNS(COUNTIES!$D$2:F205)),\"\")","v":""},{"$f":"IFERROR(INDEX('Base Data wHSA (NCI Modified)'!$L$2:'Base Data wHSA (NCI Modified)'!$T$3142,'Base Data wHSA (NCI Modified)'!$K205,COLUMNS(COUNTIES!$D$2:G205)),\"\")","v":""},{"$f":"IFERROR(INDEX('Base Data wHSA (NCI Modified)'!$L$2:'Base Data wHSA (NCI Modified)'!$T$3142,'Base Data wHSA (NCI Modified)'!$K205,COLUMNS(COUNTIES!$D$2:H205)),\"\")","v":""},{"$f":"IFERROR(INDEX('Base Data wHSA (NCI Modified)'!$L$2:'Base Data wHSA (NCI Modified)'!$T$3142,'Base Data wHSA (NCI Modified)'!$K205,COLUMNS(COUNTIES!$D$2:I205)),\"\")","v":""},{"$f":"IFERROR(INDEX('Base Data wHSA (NCI Modified)'!$L$2:'Base Data wHSA (NCI Modified)'!$T$3142,'Base Data wHSA (NCI Modified)'!$K205,COLUMNS(COUNTIES!$D$2:J205)),\"\")","v":""},{"$f":"IFERROR(INDEX('Base Data wHSA (NCI Modified)'!$L$2:'Base Data wHSA (NCI Modified)'!$T$3142,'Base Data wHSA (NCI Modified)'!$K205,COLUMNS(COUNTIES!$D$2:K205)),\"\")","v":""},{"$f":"IFERROR(INDEX('Base Data wHSA (NCI Modified)'!$L$2:'Base Data wHSA (NCI Modified)'!$T$3142,'Base Data wHSA (NCI Modified)'!$K205,COLUMNS(COUNTIES!$D$2:L205)),\"\")","v":""}]
[{"$f":"ROWS($E$2:E206)","v":205},{"$f":"IF(E206=WORKSHEET!$B$2,A206,\"\")","v":""},"",{"$f":"IFERROR(INDEX('Base Data wHSA (NCI Modified)'!$L$2:'Base Data wHSA (NCI Modified)'!$T$3142,'Base Data wHSA (NCI Modified)'!$K206,COLUMNS(COUNTIES!$D$2:D206)),\"\")","v":""},{"$f":"IFERROR(INDEX('Base Data wHSA (NCI Modified)'!$L$2:'Base Data wHSA (NCI Modified)'!$T$3142,'Base Data wHSA (NCI Modified)'!$K206,COLUMNS(COUNTIES!$D$2:E206)),\"\")","v":""},{"$f":"IFERROR(INDEX('Base Data wHSA (NCI Modified)'!$L$2:'Base Data wHSA (NCI Modified)'!$T$3142,'Base Data wHSA (NCI Modified)'!$K206,COLUMNS(COUNTIES!$D$2:F206)),\"\")","v":""},{"$f":"IFERROR(INDEX('Base Data wHSA (NCI Modified)'!$L$2:'Base Data wHSA (NCI Modified)'!$T$3142,'Base Data wHSA (NCI Modified)'!$K206,COLUMNS(COUNTIES!$D$2:G206)),\"\")","v":""},{"$f":"IFERROR(INDEX('Base Data wHSA (NCI Modified)'!$L$2:'Base Data wHSA (NCI Modified)'!$T$3142,'Base Data wHSA (NCI Modified)'!$K206,COLUMNS(COUNTIES!$D$2:H206)),\"\")","v":""},{"$f":"IFERROR(INDEX('Base Data wHSA (NCI Modified)'!$L$2:'Base Data wHSA (NCI Modified)'!$T$3142,'Base Data wHSA (NCI Modified)'!$K206,COLUMNS(COUNTIES!$D$2:I206)),\"\")","v":""},{"$f":"IFERROR(INDEX('Base Data wHSA (NCI Modified)'!$L$2:'Base Data wHSA (NCI Modified)'!$T$3142,'Base Data wHSA (NCI Modified)'!$K206,COLUMNS(COUNTIES!$D$2:J206)),\"\")","v":""},{"$f":"IFERROR(INDEX('Base Data wHSA (NCI Modified)'!$L$2:'Base Data wHSA (NCI Modified)'!$T$3142,'Base Data wHSA (NCI Modified)'!$K206,COLUMNS(COUNTIES!$D$2:K206)),\"\")","v":""},{"$f":"IFERROR(INDEX('Base Data wHSA (NCI Modified)'!$L$2:'Base Data wHSA (NCI Modified)'!$T$3142,'Base Data wHSA (NCI Modified)'!$K206,COLUMNS(COUNTIES!$D$2:L206)),\"\")","v":""}]
[{"$f":"ROWS($E$2:E207)","v":206},{"$f":"IF(E207=WORKSHEET!$B$2,A207,\"\")","v":""},"",{"$f":"IFERROR(INDEX('Base Data wHSA (NCI Modified)'!$L$2:'Base Data wHSA (NCI Modified)'!$T$3142,'Base Data wHSA (NCI Modified)'!$K207,COLUMNS(COUNTIES!$D$2:D207)),\"\")","v":""},{"$f":"IFERROR(INDEX('Base Data wHSA (NCI Modified)'!$L$2:'Base Data wHSA (NCI Modified)'!$T$3142,'Base Data wHSA (NCI Modified)'!$K207,COLUMNS(COUNTIES!$D$2:E207)),\"\")","v":""},{"$f":"IFERROR(INDEX('Base Data wHSA (NCI Modified)'!$L$2:'Base Data wHSA (NCI Modified)'!$T$3142,'Base Data wHSA (NCI Modified)'!$K207,COLUMNS(COUNTIES!$D$2:F207)),\"\")","v":""},{"$f":"IFERROR(INDEX('Base Data wHSA (NCI Modified)'!$L$2:'Base Data wHSA (NCI Modified)'!$T$3142,'Base Data wHSA (NCI Modified)'!$K207,COLUMNS(COUNTIES!$D$2:G207)),\"\")","v":""},{"$f":"IFERROR(INDEX('Base Data wHSA (NCI Modified)'!$L$2:'Base Data wHSA (NCI Modified)'!$T$3142,'Base Data wHSA (NCI Modified)'!$K207,COLUMNS(COUNTIES!$D$2:H207)),\"\")","v":""},{"$f":"IFERROR(INDEX('Base Data wHSA (NCI Modified)'!$L$2:'Base Data wHSA (NCI Modified)'!$T$3142,'Base Data wHSA (NCI Modified)'!$K207,COLUMNS(COUNTIES!$D$2:I207)),\"\")","v":""},{"$f":"IFERROR(INDEX('Base Data wHSA (NCI Modified)'!$L$2:'Base Data wHSA (NCI Modified)'!$T$3142,'Base Data wHSA (NCI Modified)'!$K207,COLUMNS(COUNTIES!$D$2:J207)),\"\")","v":""},{"$f":"IFERROR(INDEX('Base Data wHSA (NCI Modified)'!$L$2:'Base Data wHSA (NCI Modified)'!$T$3142,'Base Data wHSA (NCI Modified)'!$K207,COLUMNS(COUNTIES!$D$2:K207)),\"\")","v":""},{"$f":"IFERROR(INDEX('Base Data wHSA (NCI Modified)'!$L$2:'Base Data wHSA (NCI Modified)'!$T$3142,'Base Data wHSA (NCI Modified)'!$K207,COLUMNS(COUNTIES!$D$2:L207)),\"\")","v":""}]
[{"$f":"ROWS($E$2:E208)","v":207},{"$f":"IF(E208=WORKSHEET!$B$2,A208,\"\")","v":""},"",{"$f":"IFERROR(INDEX('Base Data wHSA (NCI Modified)'!$L$2:'Base Data wHSA (NCI Modified)'!$T$3142,'Base Data wHSA (NCI Modified)'!$K208,COLUMNS(COUNTIES!$D$2:D208)),\"\")","v":""},{"$f":"IFERROR(INDEX('Base Data wHSA (NCI Modified)'!$L$2:'Base Data wHSA (NCI Modified)'!$T$3142,'Base Data wHSA (NCI Modified)'!$K208,COLUMNS(COUNTIES!$D$2:E208)),\"\")","v":""},{"$f":"IFERROR(INDEX('Base Data wHSA (NCI Modified)'!$L$2:'Base Data wHSA (NCI Modified)'!$T$3142,'Base Data wHSA (NCI Modified)'!$K208,COLUMNS(COUNTIES!$D$2:F208)),\"\")","v":""},{"$f":"IFERROR(INDEX('Base Data wHSA (NCI Modified)'!$L$2:'Base Data wHSA (NCI Modified)'!$T$3142,'Base Data wHSA (NCI Modified)'!$K208,COLUMNS(COUNTIES!$D$2:G208)),\"\")","v":""},{"$f":"IFERROR(INDEX('Base Data wHSA (NCI Modified)'!$L$2:'Base Data wHSA (NCI Modified)'!$T$3142,'Base Data wHSA (NCI Modified)'!$K208,COLUMNS(COUNTIES!$D$2:H208)),\"\")","v":""},{"$f":"IFERROR(INDEX('Base Data wHSA (NCI Modified)'!$L$2:'Base Data wHSA (NCI Modified)'!$T$3142,'Base Data wHSA (NCI Modified)'!$K208,COLUMNS(COUNTIES!$D$2:I208)),\"\")","v":""},{"$f":"IFERROR(INDEX('Base Data wHSA (NCI Modified)'!$L$2:'Base Data wHSA (NCI Modified)'!$T$3142,'Base Data wHSA (NCI Modified)'!$K208,COLUMNS(COUNTIES!$D$2:J208)),\"\")","v":""},{"$f":"IFERROR(INDEX('Base Data wHSA (NCI Modified)'!$L$2:'Base Data wHSA (NCI Modified)'!$T$3142,'Base Data wHSA (NCI Modified)'!$K208,COLUMNS(COUNTIES!$D$2:K208)),\"\")","v":""},{"$f":"IFERROR(INDEX('Base Data wHSA (NCI Modified)'!$L$2:'Base Data wHSA (NCI Modified)'!$T$3142,'Base Data wHSA (NCI Modified)'!$K208,COLUMNS(COUNTIES!$D$2:L208)),\"\")","v":""}]
[{"$f":"ROWS($E$2:E209)","v":208},{"$f":"IF(E209=WORKSHEET!$B$2,A209,\"\")","v":""},"",{"$f":"IFERROR(INDEX('Base Data wHSA (NCI Modified)'!$L$2:'Base Data wHSA (NCI Modified)'!$T$3142,'Base Data wHSA (NCI Modified)'!$K209,COLUMNS(COUNTIES!$D$2:D209)),\"\")","v":""},{"$f":"IFERROR(INDEX('Base Data wHSA (NCI Modified)'!$L$2:'Base Data wHSA (NCI Modified)'!$T$3142,'Base Data wHSA (NCI Modified)'!$K209,COLUMNS(COUNTIES!$D$2:E209)),\"\")","v":""},{"$f":"IFERROR(INDEX('Base Data wHSA (NCI Modified)'!$L$2:'Base Data wHSA (NCI Modified)'!$T$3142,'Base Data wHSA (NCI Modified)'!$K209,COLUMNS(COUNTIES!$D$2:F209)),\"\")","v":""},{"$f":"IFERROR(INDEX('Base Data wHSA (NCI Modified)'!$L$2:'Base Data wHSA (NCI Modified)'!$T$3142,'Base Data wHSA (NCI Modified)'!$K209,COLUMNS(COUNTIES!$D$2:G209)),\"\")","v":""},{"$f":"IFERROR(INDEX('Base Data wHSA (NCI Modified)'!$L$2:'Base Data wHSA (NCI Modified)'!$T$3142,'Base Data wHSA (NCI Modified)'!$K209,COLUMNS(COUNTIES!$D$2:H209)),\"\")","v":""},{"$f":"IFERROR(INDEX('Base Data wHSA (NCI Modified)'!$L$2:'Base Data wHSA (NCI Modified)'!$T$3142,'Base Data wHSA (NCI Modified)'!$K209,COLUMNS(COUNTIES!$D$2:I209)),\"\")","v":""},{"$f":"IFERROR(INDEX('Base Data wHSA (NCI Modified)'!$L$2:'Base Data wHSA (NCI Modified)'!$T$3142,'Base Data wHSA (NCI Modified)'!$K209,COLUMNS(COUNTIES!$D$2:J209)),\"\")","v":""},{"$f":"IFERROR(INDEX('Base Data wHSA (NCI Modified)'!$L$2:'Base Data wHSA (NCI Modified)'!$T$3142,'Base Data wHSA (NCI Modified)'!$K209,COLUMNS(COUNTIES!$D$2:K209)),\"\")","v":""},{"$f":"IFERROR(INDEX('Base Data wHSA (NCI Modified)'!$L$2:'Base Data wHSA (NCI Modified)'!$T$3142,'Base Data wHSA (NCI Modified)'!$K209,COLUMNS(COUNTIES!$D$2:L209)),\"\")","v":""}]
[{"$f":"ROWS($E$2:E210)","v":209},{"$f":"IF(E210=WORKSHEET!$B$2,A210,\"\")","v":""},"",{"$f":"IFERROR(INDEX('Base Data wHSA (NCI Modified)'!$L$2:'Base Data wHSA (NCI Modified)'!$T$3142,'Base Data wHSA (NCI Modified)'!$K210,COLUMNS(COUNTIES!$D$2:D210)),\"\")","v":""},{"$f":"IFERROR(INDEX('Base Data wHSA (NCI Modified)'!$L$2:'Base Data wHSA (NCI Modified)'!$T$3142,'Base Data wHSA (NCI Modified)'!$K210,COLUMNS(COUNTIES!$D$2:E210)),\"\")","v":""},{"$f":"IFERROR(INDEX('Base Data wHSA (NCI Modified)'!$L$2:'Base Data wHSA (NCI Modified)'!$T$3142,'Base Data wHSA (NCI Modified)'!$K210,COLUMNS(COUNTIES!$D$2:F210)),\"\")","v":""},{"$f":"IFERROR(INDEX('Base Data wHSA (NCI Modified)'!$L$2:'Base Data wHSA (NCI Modified)'!$T$3142,'Base Data wHSA (NCI Modified)'!$K210,COLUMNS(COUNTIES!$D$2:G210)),\"\")","v":""},{"$f":"IFERROR(INDEX('Base Data wHSA (NCI Modified)'!$L$2:'Base Data wHSA (NCI Modified)'!$T$3142,'Base Data wHSA (NCI Modified)'!$K210,COLUMNS(COUNTIES!$D$2:H210)),\"\")","v":""},{"$f":"IFERROR(INDEX('Base Data wHSA (NCI Modified)'!$L$2:'Base Data wHSA (NCI Modified)'!$T$3142,'Base Data wHSA (NCI Modified)'!$K210,COLUMNS(COUNTIES!$D$2:I210)),\"\")","v":""},{"$f":"IFERROR(INDEX('Base Data wHSA (NCI Modified)'!$L$2:'Base Data wHSA (NCI Modified)'!$T$3142,'Base Data wHSA (NCI Modified)'!$K210,COLUMNS(COUNTIES!$D$2:J210)),\"\")","v":""},{"$f":"IFERROR(INDEX('Base Data wHSA (NCI Modified)'!$L$2:'Base Data wHSA (NCI Modified)'!$T$3142,'Base Data wHSA (NCI Modified)'!$K210,COLUMNS(COUNTIES!$D$2:K210)),\"\")","v":""},{"$f":"IFERROR(INDEX('Base Data wHSA (NCI Modified)'!$L$2:'Base Data wHSA (NCI Modified)'!$T$3142,'Base Data wHSA (NCI Modified)'!$K210,COLUMNS(COUNTIES!$D$2:L210)),\"\")","v":""}]
[{"$f":"ROWS($E$2:E211)","v":210},{"$f":"IF(E211=WORKSHEET!$B$2,A211,\"\")","v":""},"",{"$f":"IFERROR(INDEX('Base Data wHSA (NCI Modified)'!$L$2:'Base Data wHSA (NCI Modified)'!$T$3142,'Base Data wHSA (NCI Modified)'!$K211,COLUMNS(COUNTIES!$D$2:D211)),\"\")","v":""},{"$f":"IFERROR(INDEX('Base Data wHSA (NCI Modified)'!$L$2:'Base Data wHSA (NCI Modified)'!$T$3142,'Base Data wHSA (NCI Modified)'!$K211,COLUMNS(COUNTIES!$D$2:E211)),\"\")","v":""},{"$f":"IFERROR(INDEX('Base Data wHSA (NCI Modified)'!$L$2:'Base Data wHSA (NCI Modified)'!$T$3142,'Base Data wHSA (NCI Modified)'!$K211,COLUMNS(COUNTIES!$D$2:F211)),\"\")","v":""},{"$f":"IFERROR(INDEX('Base Data wHSA (NCI Modified)'!$L$2:'Base Data wHSA (NCI Modified)'!$T$3142,'Base Data wHSA (NCI Modified)'!$K211,COLUMNS(COUNTIES!$D$2:G211)),\"\")","v":""},{"$f":"IFERROR(INDEX('Base Data wHSA (NCI Modified)'!$L$2:'Base Data wHSA (NCI Modified)'!$T$3142,'Base Data wHSA (NCI Modified)'!$K211,COLUMNS(COUNTIES!$D$2:H211)),\"\")","v":""},{"$f":"IFERROR(INDEX('Base Data wHSA (NCI Modified)'!$L$2:'Base Data wHSA (NCI Modified)'!$T$3142,'Base Data wHSA (NCI Modified)'!$K211,COLUMNS(COUNTIES!$D$2:I211)),\"\")","v":""},{"$f":"IFERROR(INDEX('Base Data wHSA (NCI Modified)'!$L$2:'Base Data wHSA (NCI Modified)'!$T$3142,'Base Data wHSA (NCI Modified)'!$K211,COLUMNS(COUNTIES!$D$2:J211)),\"\")","v":""},{"$f":"IFERROR(INDEX('Base Data wHSA (NCI Modified)'!$L$2:'Base Data wHSA (NCI Modified)'!$T$3142,'Base Data wHSA (NCI Modified)'!$K211,COLUMNS(COUNTIES!$D$2:K211)),\"\")","v":""},{"$f":"IFERROR(INDEX('Base Data wHSA (NCI Modified)'!$L$2:'Base Data wHSA (NCI Modified)'!$T$3142,'Base Data wHSA (NCI Modified)'!$K211,COLUMNS(COUNTIES!$D$2:L211)),\"\")","v":""}]
[{"$f":"ROWS($E$2:E212)","v":211},{"$f":"IF(E212=WORKSHEET!$B$2,A212,\"\")","v":""},"",{"$f":"IFERROR(INDEX('Base Data wHSA (NCI Modified)'!$L$2:'Base Data wHSA (NCI Modified)'!$T$3142,'Base Data wHSA (NCI Modified)'!$K212,COLUMNS(COUNTIES!$D$2:D212)),\"\")","v":""},{"$f":"IFERROR(INDEX('Base Data wHSA (NCI Modified)'!$L$2:'Base Data wHSA (NCI Modified)'!$T$3142,'Base Data wHSA (NCI Modified)'!$K212,COLUMNS(COUNTIES!$D$2:E212)),\"\")","v":""},{"$f":"IFERROR(INDEX('Base Data wHSA (NCI Modified)'!$L$2:'Base Data wHSA (NCI Modified)'!$T$3142,'Base Data wHSA (NCI Modified)'!$K212,COLUMNS(COUNTIES!$D$2:F212)),\"\")","v":""},{"$f":"IFERROR(INDEX('Base Data wHSA (NCI Modified)'!$L$2:'Base Data wHSA (NCI Modified)'!$T$3142,'Base Data wHSA (NCI Modified)'!$K212,COLUMNS(COUNTIES!$D$2:G212)),\"\")","v":""},{"$f":"IFERROR(INDEX('Base Data wHSA (NCI Modified)'!$L$2:'Base Data wHSA (NCI Modified)'!$T$3142,'Base Data wHSA (NCI Modified)'!$K212,COLUMNS(COUNTIES!$D$2:H212)),\"\")","v":""},{"$f":"IFERROR(INDEX('Base Data wHSA (NCI Modified)'!$L$2:'Base Data wHSA (NCI Modified)'!$T$3142,'Base Data wHSA (NCI Modified)'!$K212,COLUMNS(COUNTIES!$D$2:I212)),\"\")","v":""},{"$f":"IFERROR(INDEX('Base Data wHSA (NCI Modified)'!$L$2:'Base Data wHSA (NCI Modified)'!$T$3142,'Base Data wHSA (NCI Modified)'!$K212,COLUMNS(COUNTIES!$D$2:J212)),\"\")","v":""},{"$f":"IFERROR(INDEX('Base Data wHSA (NCI Modified)'!$L$2:'Base Data wHSA (NCI Modified)'!$T$3142,'Base Data wHSA (NCI Modified)'!$K212,COLUMNS(COUNTIES!$D$2:K212)),\"\")","v":""},{"$f":"IFERROR(INDEX('Base Data wHSA (NCI Modified)'!$L$2:'Base Data wHSA (NCI Modified)'!$T$3142,'Base Data wHSA (NCI Modified)'!$K212,COLUMNS(COUNTIES!$D$2:L212)),\"\")","v":""}]
[{"$f":"ROWS($E$2:E213)","v":212},{"$f":"IF(E213=WORKSHEET!$B$2,A213,\"\")","v":""},"",{"$f":"IFERROR(INDEX('Base Data wHSA (NCI Modified)'!$L$2:'Base Data wHSA (NCI Modified)'!$T$3142,'Base Data wHSA (NCI Modified)'!$K213,COLUMNS(COUNTIES!$D$2:D213)),\"\")","v":""},{"$f":"IFERROR(INDEX('Base Data wHSA (NCI Modified)'!$L$2:'Base Data wHSA (NCI Modified)'!$T$3142,'Base Data wHSA (NCI Modified)'!$K213,COLUMNS(COUNTIES!$D$2:E213)),\"\")","v":""},{"$f":"IFERROR(INDEX('Base Data wHSA (NCI Modified)'!$L$2:'Base Data wHSA (NCI Modified)'!$T$3142,'Base Data wHSA (NCI Modified)'!$K213,COLUMNS(COUNTIES!$D$2:F213)),\"\")","v":""},{"$f":"IFERROR(INDEX('Base Data wHSA (NCI Modified)'!$L$2:'Base Data wHSA (NCI Modified)'!$T$3142,'Base Data wHSA (NCI Modified)'!$K213,COLUMNS(COUNTIES!$D$2:G213)),\"\")","v":""},{"$f":"IFERROR(INDEX('Base Data wHSA (NCI Modified)'!$L$2:'Base Data wHSA (NCI Modified)'!$T$3142,'Base Data wHSA (NCI Modified)'!$K213,COLUMNS(COUNTIES!$D$2:H213)),\"\")","v":""},{"$f":"IFERROR(INDEX('Base Data wHSA (NCI Modified)'!$L$2:'Base Data wHSA (NCI Modified)'!$T$3142,'Base Data wHSA (NCI Modified)'!$K213,COLUMNS(COUNTIES!$D$2:I213)),\"\")","v":""},{"$f":"IFERROR(INDEX('Base Data wHSA (NCI Modified)'!$L$2:'Base Data wHSA (NCI Modified)'!$T$3142,'Base Data wHSA (NCI Modified)'!$K213,COLUMNS(COUNTIES!$D$2:J213)),\"\")","v":""},{"$f":"IFERROR(INDEX('Base Data wHSA (NCI Modified)'!$L$2:'Base Data wHSA (NCI Modified)'!$T$3142,'Base Data wHSA (NCI Modified)'!$K213,COLUMNS(COUNTIES!$D$2:K213)),\"\")","v":""},{"$f":"IFERROR(INDEX('Base Data wHSA (NCI Modified)'!$L$2:'Base Data wHSA (NCI Modified)'!$T$3142,'Base Data wHSA (NCI Modified)'!$K213,COLUMNS(COUNTIES!$D$2:L213)),\"\")","v":""}]
[{"$f":"ROWS($E$2:E214)","v":213},{"$f":"IF(E214=WORKSHEET!$B$2,A214,\"\")","v":""},"",{"$f":"IFERROR(INDEX('Base Data wHSA (NCI Modified)'!$L$2:'Base Data wHSA (NCI Modified)'!$T$3142,'Base Data wHSA (NCI Modified)'!$K214,COLUMNS(COUNTIES!$D$2:D214)),\"\")","v":""},{"$f":"IFERROR(INDEX('Base Data wHSA (NCI Modified)'!$L$2:'Base Data wHSA (NCI Modified)'!$T$3142,'Base Data wHSA (NCI Modified)'!$K214,COLUMNS(COUNTIES!$D$2:E214)),\"\")","v":""},{"$f":"IFERROR(INDEX('Base Data wHSA (NCI Modified)'!$L$2:'Base Data wHSA (NCI Modified)'!$T$3142,'Base Data wHSA (NCI Modified)'!$K214,COLUMNS(COUNTIES!$D$2:F214)),\"\")","v":""},{"$f":"IFERROR(INDEX('Base Data wHSA (NCI Modified)'!$L$2:'Base Data wHSA (NCI Modified)'!$T$3142,'Base Data wHSA (NCI Modified)'!$K214,COLUMNS(COUNTIES!$D$2:G214)),\"\")","v":""},{"$f":"IFERROR(INDEX('Base Data wHSA (NCI Modified)'!$L$2:'Base Data wHSA (NCI Modified)'!$T$3142,'Base Data wHSA (NCI Modified)'!$K214,COLUMNS(COUNTIES!$D$2:H214)),\"\")","v":""},{"$f":"IFERROR(INDEX('Base Data wHSA (NCI Modified)'!$L$2:'Base Data wHSA (NCI Modified)'!$T$3142,'Base Data wHSA (NCI Modified)'!$K214,COLUMNS(COUNTIES!$D$2:I214)),\"\")","v":""},{"$f":"IFERROR(INDEX('Base Data wHSA (NCI Modified)'!$L$2:'Base Data wHSA (NCI Modified)'!$T$3142,'Base Data wHSA (NCI Modified)'!$K214,COLUMNS(COUNTIES!$D$2:J214)),\"\")","v":""},{"$f":"IFERROR(INDEX('Base Data wHSA (NCI Modified)'!$L$2:'Base Data wHSA (NCI Modified)'!$T$3142,'Base Data wHSA (NCI Modified)'!$K214,COLUMNS(COUNTIES!$D$2:K214)),\"\")","v":""},{"$f":"IFERROR(INDEX('Base Data wHSA (NCI Modified)'!$L$2:'Base Data wHSA (NCI Modified)'!$T$3142,'Base Data wHSA (NCI Modified)'!$K214,COLUMNS(COUNTIES!$D$2:L214)),\"\")","v":""}]
[{"$f":"ROWS($E$2:E215)","v":214},{"$f":"IF(E215=WORKSHEET!$B$2,A215,\"\")","v":""},"",{"$f":"IFERROR(INDEX('Base Data wHSA (NCI Modified)'!$L$2:'Base Data wHSA (NCI Modified)'!$T$3142,'Base Data wHSA (NCI Modified)'!$K215,COLUMNS(COUNTIES!$D$2:D215)),\"\")","v":""},{"$f":"IFERROR(INDEX('Base Data wHSA (NCI Modified)'!$L$2:'Base Data wHSA (NCI Modified)'!$T$3142,'Base Data wHSA (NCI Modified)'!$K215,COLUMNS(COUNTIES!$D$2:E215)),\"\")","v":""},{"$f":"IFERROR(INDEX('Base Data wHSA (NCI Modified)'!$L$2:'Base Data wHSA (NCI Modified)'!$T$3142,'Base Data wHSA (NCI Modified)'!$K215,COLUMNS(COUNTIES!$D$2:F215)),\"\")","v":""},{"$f":"IFERROR(INDEX('Base Data wHSA (NCI Modified)'!$L$2:'Base Data wHSA (NCI Modified)'!$T$3142,'Base Data wHSA (NCI Modified)'!$K215,COLUMNS(COUNTIES!$D$2:G215)),\"\")","v":""},{"$f":"IFERROR(INDEX('Base Data wHSA (NCI Modified)'!$L$2:'Base Data wHSA (NCI Modified)'!$T$3142,'Base Data wHSA (NCI Modified)'!$K215,COLUMNS(COUNTIES!$D$2:H215)),\"\")","v":""},{"$f":"IFERROR(INDEX('Base Data wHSA (NCI Modified)'!$L$2:'Base Data wHSA (NCI Modified)'!$T$3142,'Base Data wHSA (NCI Modified)'!$K215,COLUMNS(COUNTIES!$D$2:I215)),\"\")","v":""},{"$f":"IFERROR(INDEX('Base Data wHSA (NCI Modified)'!$L$2:'Base Data wHSA (NCI Modified)'!$T$3142,'Base Data wHSA (NCI Modified)'!$K215,COLUMNS(COUNTIES!$D$2:J215)),\"\")","v":""},{"$f":"IFERROR(INDEX('Base Data wHSA (NCI Modified)'!$L$2:'Base Data wHSA (NCI Modified)'!$T$3142,'Base Data wHSA (NCI Modified)'!$K215,COLUMNS(COUNTIES!$D$2:K215)),\"\")","v":""},{"$f":"IFERROR(INDEX('Base Data wHSA (NCI Modified)'!$L$2:'Base Data wHSA (NCI Modified)'!$T$3142,'Base Data wHSA (NCI Modified)'!$K215,COLUMNS(COUNTIES!$D$2:L215)),\"\")","v":""}]
[{"$f":"ROWS($E$2:E216)","v":215},{"$f":"IF(E216=WORKSHEET!$B$2,A216,\"\")","v":""},"",{"$f":"IFERROR(INDEX('Base Data wHSA (NCI Modified)'!$L$2:'Base Data wHSA (NCI Modified)'!$T$3142,'Base Data wHSA (NCI Modified)'!$K216,COLUMNS(COUNTIES!$D$2:D216)),\"\")","v":""},{"$f":"IFERROR(INDEX('Base Data wHSA (NCI Modified)'!$L$2:'Base Data wHSA (NCI Modified)'!$T$3142,'Base Data wHSA (NCI Modified)'!$K216,COLUMNS(COUNTIES!$D$2:E216)),\"\")","v":""},{"$f":"IFERROR(INDEX('Base Data wHSA (NCI Modified)'!$L$2:'Base Data wHSA (NCI Modified)'!$T$3142,'Base Data wHSA (NCI Modified)'!$K216,COLUMNS(COUNTIES!$D$2:F216)),\"\")","v":""},{"$f":"IFERROR(INDEX('Base Data wHSA (NCI Modified)'!$L$2:'Base Data wHSA (NCI Modified)'!$T$3142,'Base Data wHSA (NCI Modified)'!$K216,COLUMNS(COUNTIES!$D$2:G216)),\"\")","v":""},{"$f":"IFERROR(INDEX('Base Data wHSA (NCI Modified)'!$L$2:'Base Data wHSA (NCI Modified)'!$T$3142,'Base Data wHSA (NCI Modified)'!$K216,COLUMNS(COUNTIES!$D$2:H216)),\"\")","v":""},{"$f":"IFERROR(INDEX('Base Data wHSA (NCI Modified)'!$L$2:'Base Data wHSA (NCI Modified)'!$T$3142,'Base Data wHSA (NCI Modified)'!$K216,COLUMNS(COUNTIES!$D$2:I216)),\"\")","v":""},{"$f":"IFERROR(INDEX('Base Data wHSA (NCI Modified)'!$L$2:'Base Data wHSA (NCI Modified)'!$T$3142,'Base Data wHSA (NCI Modified)'!$K216,COLUMNS(COUNTIES!$D$2:J216)),\"\")","v":""},{"$f":"IFERROR(INDEX('Base Data wHSA (NCI Modified)'!$L$2:'Base Data wHSA (NCI Modified)'!$T$3142,'Base Data wHSA (NCI Modified)'!$K216,COLUMNS(COUNTIES!$D$2:K216)),\"\")","v":""},{"$f":"IFERROR(INDEX('Base Data wHSA (NCI Modified)'!$L$2:'Base Data wHSA (NCI Modified)'!$T$3142,'Base Data wHSA (NCI Modified)'!$K216,COLUMNS(COUNTIES!$D$2:L216)),\"\")","v":""}]
[{"$f":"ROWS($E$2:E217)","v":216},{"$f":"IF(E217=WORKSHEET!$B$2,A217,\"\")","v":""},"",{"$f":"IFERROR(INDEX('Base Data wHSA (NCI Modified)'!$L$2:'Base Data wHSA (NCI Modified)'!$T$3142,'Base Data wHSA (NCI Modified)'!$K217,COLUMNS(COUNTIES!$D$2:D217)),\"\")","v":""},{"$f":"IFERROR(INDEX('Base Data wHSA (NCI Modified)'!$L$2:'Base Data wHSA (NCI Modified)'!$T$3142,'Base Data wHSA (NCI Modified)'!$K217,COLUMNS(COUNTIES!$D$2:E217)),\"\")","v":""},{"$f":"IFERROR(INDEX('Base Data wHSA (NCI Modified)'!$L$2:'Base Data wHSA (NCI Modified)'!$T$3142,'Base Data wHSA (NCI Modified)'!$K217,COLUMNS(COUNTIES!$D$2:F217)),\"\")","v":""},{"$f":"IFERROR(INDEX('Base Data wHSA (NCI Modified)'!$L$2:'Base Data wHSA (NCI Modified)'!$T$3142,'Base Data wHSA (NCI Modified)'!$K217,COLUMNS(COUNTIES!$D$2:G217)),\"\")","v":""},{"$f":"IFERROR(INDEX('Base Data wHSA (NCI Modified)'!$L$2:'Base Data wHSA (NCI Modified)'!$T$3142,'Base Data wHSA (NCI Modified)'!$K217,COLUMNS(COUNTIES!$D$2:H217)),\"\")","v":""},{"$f":"IFERROR(INDEX('Base Data wHSA (NCI Modified)'!$L$2:'Base Data wHSA (NCI Modified)'!$T$3142,'Base Data wHSA (NCI Modified)'!$K217,COLUMNS(COUNTIES!$D$2:I217)),\"\")","v":""},{"$f":"IFERROR(INDEX('Base Data wHSA (NCI Modified)'!$L$2:'Base Data wHSA (NCI Modified)'!$T$3142,'Base Data wHSA (NCI Modified)'!$K217,COLUMNS(COUNTIES!$D$2:J217)),\"\")","v":""},{"$f":"IFERROR(INDEX('Base Data wHSA (NCI Modified)'!$L$2:'Base Data wHSA (NCI Modified)'!$T$3142,'Base Data wHSA (NCI Modified)'!$K217,COLUMNS(COUNTIES!$D$2:K217)),\"\")","v":""},{"$f":"IFERROR(INDEX('Base Data wHSA (NCI Modified)'!$L$2:'Base Data wHSA (NCI Modified)'!$T$3142,'Base Data wHSA (NCI Modified)'!$K217,COLUMNS(COUNTIES!$D$2:L217)),\"\")","v":""}]
[{"$f":"ROWS($E$2:E218)","v":217},{"$f":"IF(E218=WORKSHEET!$B$2,A218,\"\")","v":""},"",{"$f":"IFERROR(INDEX('Base Data wHSA (NCI Modified)'!$L$2:'Base Data wHSA (NCI Modified)'!$T$3142,'Base Data wHSA (NCI Modified)'!$K218,COLUMNS(COUNTIES!$D$2:D218)),\"\")","v":""},{"$f":"IFERROR(INDEX('Base Data wHSA (NCI Modified)'!$L$2:'Base Data wHSA (NCI Modified)'!$T$3142,'Base Data wHSA (NCI Modified)'!$K218,COLUMNS(COUNTIES!$D$2:E218)),\"\")","v":""},{"$f":"IFERROR(INDEX('Base Data wHSA (NCI Modified)'!$L$2:'Base Data wHSA (NCI Modified)'!$T$3142,'Base Data wHSA (NCI Modified)'!$K218,COLUMNS(COUNTIES!$D$2:F218)),\"\")","v":""},{"$f":"IFERROR(INDEX('Base Data wHSA (NCI Modified)'!$L$2:'Base Data wHSA (NCI Modified)'!$T$3142,'Base Data wHSA (NCI Modified)'!$K218,COLUMNS(COUNTIES!$D$2:G218)),\"\")","v":""},{"$f":"IFERROR(INDEX('Base Data wHSA (NCI Modified)'!$L$2:'Base Data wHSA (NCI Modified)'!$T$3142,'Base Data wHSA (NCI Modified)'!$K218,COLUMNS(COUNTIES!$D$2:H218)),\"\")","v":""},{"$f":"IFERROR(INDEX('Base Data wHSA (NCI Modified)'!$L$2:'Base Data wHSA (NCI Modified)'!$T$3142,'Base Data wHSA (NCI Modified)'!$K218,COLUMNS(COUNTIES!$D$2:I218)),\"\")","v":""},{"$f":"IFERROR(INDEX('Base Data wHSA (NCI Modified)'!$L$2:'Base Data wHSA (NCI Modified)'!$T$3142,'Base Data wHSA (NCI Modified)'!$K218,COLUMNS(COUNTIES!$D$2:J218)),\"\")","v":""},{"$f":"IFERROR(INDEX('Base Data wHSA (NCI Modified)'!$L$2:'Base Data wHSA (NCI Modified)'!$T$3142,'Base Data wHSA (NCI Modified)'!$K218,COLUMNS(COUNTIES!$D$2:K218)),\"\")","v":""},{"$f":"IFERROR(INDEX('Base Data wHSA (NCI Modified)'!$L$2:'Base Data wHSA (NCI Modified)'!$T$3142,'Base Data wHSA (NCI Modified)'!$K218,COLUMNS(COUNTIES!$D$2:L218)),\"\")","v":""}]
[{"$f":"ROWS($E$2:E219)","v":218},{"$f":"IF(E219=WORKSHEET!$B$2,A219,\"\")","v":""},"",{"$f":"IFERROR(INDEX('Base Data wHSA (NCI Modified)'!$L$2:'Base Data wHSA (NCI Modified)'!$T$3142,'Base Data wHSA (NCI Modified)'!$K219,COLUMNS(COUNTIES!$D$2:D219)),\"\")","v":""},{"$f":"IFERROR(INDEX('Base Data wHSA (NCI Modified)'!$L$2:'Base Data wHSA (NCI Modified)'!$T$3142,'Base Data wHSA (NCI Modified)'!$K219,COLUMNS(COUNTIES!$D$2:E219)),\"\")","v":""},{"$f":"IFERROR(INDEX('Base Data wHSA (NCI Modified)'!$L$2:'Base Data wHSA (NCI Modified)'!$T$3142,'Base Data wHSA (NCI Modified)'!$K219,COLUMNS(COUNTIES!$D$2:F219)),\"\")","v":""},{"$f":"IFERROR(INDEX('Base Data wHSA (NCI Modified)'!$L$2:'Base Data wHSA (NCI Modified)'!$T$3142,'Base Data wHSA (NCI Modified)'!$K219,COLUMNS(COUNTIES!$D$2:G219)),\"\")","v":""},{"$f":"IFERROR(INDEX('Base Data wHSA (NCI Modified)'!$L$2:'Base Data wHSA (NCI Modified)'!$T$3142,'Base Data wHSA (NCI Modified)'!$K219,COLUMNS(COUNTIES!$D$2:H219)),\"\")","v":""},{"$f":"IFERROR(INDEX('Base Data wHSA (NCI Modified)'!$L$2:'Base Data wHSA (NCI Modified)'!$T$3142,'Base Data wHSA (NCI Modified)'!$K219,COLUMNS(COUNTIES!$D$2:I219)),\"\")","v":""},{"$f":"IFERROR(INDEX('Base Data wHSA (NCI Modified)'!$L$2:'Base Data wHSA (NCI Modified)'!$T$3142,'Base Data wHSA (NCI Modified)'!$K219,COLUMNS(COUNTIES!$D$2:J219)),\"\")","v":""},{"$f":"IFERROR(INDEX('Base Data wHSA (NCI Modified)'!$L$2:'Base Data wHSA (NCI Modified)'!$T$3142,'Base Data wHSA (NCI Modified)'!$K219,COLUMNS(COUNTIES!$D$2:K219)),\"\")","v":""},{"$f":"IFERROR(INDEX('Base Data wHSA (NCI Modified)'!$L$2:'Base Data wHSA (NCI Modified)'!$T$3142,'Base Data wHSA (NCI Modified)'!$K219,COLUMNS(COUNTIES!$D$2:L219)),\"\")","v":""}]
[{"$f":"ROWS($E$2:E220)","v":219},{"$f":"IF(E220=WORKSHEET!$B$2,A220,\"\")","v":""},"",{"$f":"IFERROR(INDEX('Base Data wHSA (NCI Modified)'!$L$2:'Base Data wHSA (NCI Modified)'!$T$3142,'Base Data wHSA (NCI Modified)'!$K220,COLUMNS(COUNTIES!$D$2:D220)),\"\")","v":""},{"$f":"IFERROR(INDEX('Base Data wHSA (NCI Modified)'!$L$2:'Base Data wHSA (NCI Modified)'!$T$3142,'Base Data wHSA (NCI Modified)'!$K220,COLUMNS(COUNTIES!$D$2:E220)),\"\")","v":""},{"$f":"IFERROR(INDEX('Base Data wHSA (NCI Modified)'!$L$2:'Base Data wHSA (NCI Modified)'!$T$3142,'Base Data wHSA (NCI Modified)'!$K220,COLUMNS(COUNTIES!$D$2:F220)),\"\")","v":""},{"$f":"IFERROR(INDEX('Base Data wHSA (NCI Modified)'!$L$2:'Base Data wHSA (NCI Modified)'!$T$3142,'Base Data wHSA (NCI Modified)'!$K220,COLUMNS(COUNTIES!$D$2:G220)),\"\")","v":""},{"$f":"IFERROR(INDEX('Base Data wHSA (NCI Modified)'!$L$2:'Base Data wHSA (NCI Modified)'!$T$3142,'Base Data wHSA (NCI Modified)'!$K220,COLUMNS(COUNTIES!$D$2:H220)),\"\")","v":""},{"$f":"IFERROR(INDEX('Base Data wHSA (NCI Modified)'!$L$2:'Base Data wHSA (NCI Modified)'!$T$3142,'Base Data wHSA (NCI Modified)'!$K220,COLUMNS(COUNTIES!$D$2:I220)),\"\")","v":""},{"$f":"IFERROR(INDEX('Base Data wHSA (NCI Modified)'!$L$2:'Base Data wHSA (NCI Modified)'!$T$3142,'Base Data wHSA (NCI Modified)'!$K220,COLUMNS(COUNTIES!$D$2:J220)),\"\")","v":""},{"$f":"IFERROR(INDEX('Base Data wHSA (NCI Modified)'!$L$2:'Base Data wHSA (NCI Modified)'!$T$3142,'Base Data wHSA (NCI Modified)'!$K220,COLUMNS(COUNTIES!$D$2:K220)),\"\")","v":""},{"$f":"IFERROR(INDEX('Base Data wHSA (NCI Modified)'!$L$2:'Base Data wHSA (NCI Modified)'!$T$3142,'Base Data wHSA (NCI Modified)'!$K220,COLUMNS(COUNTIES!$D$2:L220)),\"\")","v":""}]
[{"$f":"ROWS($E$2:E221)","v":220},{"$f":"IF(E221=WORKSHEET!$B$2,A221,\"\")","v":""},"",{"$f":"IFERROR(INDEX('Base Data wHSA (NCI Modified)'!$L$2:'Base Data wHSA (NCI Modified)'!$T$3142,'Base Data wHSA (NCI Modified)'!$K221,COLUMNS(COUNTIES!$D$2:D221)),\"\")","v":""},{"$f":"IFERROR(INDEX('Base Data wHSA (NCI Modified)'!$L$2:'Base Data wHSA (NCI Modified)'!$T$3142,'Base Data wHSA (NCI Modified)'!$K221,COLUMNS(COUNTIES!$D$2:E221)),\"\")","v":""},{"$f":"IFERROR(INDEX('Base Data wHSA (NCI Modified)'!$L$2:'Base Data wHSA (NCI Modified)'!$T$3142,'Base Data wHSA (NCI Modified)'!$K221,COLUMNS(COUNTIES!$D$2:F221)),\"\")","v":""},{"$f":"IFERROR(INDEX('Base Data wHSA (NCI Modified)'!$L$2:'Base Data wHSA (NCI Modified)'!$T$3142,'Base Data wHSA (NCI Modified)'!$K221,COLUMNS(COUNTIES!$D$2:G221)),\"\")","v":""},{"$f":"IFERROR(INDEX('Base Data wHSA (NCI Modified)'!$L$2:'Base Data wHSA (NCI Modified)'!$T$3142,'Base Data wHSA (NCI Modified)'!$K221,COLUMNS(COUNTIES!$D$2:H221)),\"\")","v":""},{"$f":"IFERROR(INDEX('Base Data wHSA (NCI Modified)'!$L$2:'Base Data wHSA (NCI Modified)'!$T$3142,'Base Data wHSA (NCI Modified)'!$K221,COLUMNS(COUNTIES!$D$2:I221)),\"\")","v":""},{"$f":"IFERROR(INDEX('Base Data wHSA (NCI Modified)'!$L$2:'Base Data wHSA (NCI Modified)'!$T$3142,'Base Data wHSA (NCI Modified)'!$K221,COLUMNS(COUNTIES!$D$2:J221)),\"\")","v":""},{"$f":"IFERROR(INDEX('Base Data wHSA (NCI Modified)'!$L$2:'Base Data wHSA (NCI Modified)'!$T$3142,'Base Data wHSA (NCI Modified)'!$K221,COLUMNS(COUNTIES!$D$2:K221)),\"\")","v":""},{"$f":"IFERROR(INDEX('Base Data wHSA (NCI Modified)'!$L$2:'Base Data wHSA (NCI Modified)'!$T$3142,'Base Data wHSA (NCI Modified)'!$K221,COLUMNS(COUNTIES!$D$2:L221)),\"\")","v":""}]
[{"$f":"ROWS($E$2:E222)","v":221},{"$f":"IF(E222=WORKSHEET!$B$2,A222,\"\")","v":""},"",{"$f":"IFERROR(INDEX('Base Data wHSA (NCI Modified)'!$L$2:'Base Data wHSA (NCI Modified)'!$T$3142,'Base Data wHSA (NCI Modified)'!$K222,COLUMNS(COUNTIES!$D$2:D222)),\"\")","v":""},{"$f":"IFERROR(INDEX('Base Data wHSA (NCI Modified)'!$L$2:'Base Data wHSA (NCI Modified)'!$T$3142,'Base Data wHSA (NCI Modified)'!$K222,COLUMNS(COUNTIES!$D$2:E222)),\"\")","v":""},{"$f":"IFERROR(INDEX('Base Data wHSA (NCI Modified)'!$L$2:'Base Data wHSA (NCI Modified)'!$T$3142,'Base Data wHSA (NCI Modified)'!$K222,COLUMNS(COUNTIES!$D$2:F222)),\"\")","v":""},{"$f":"IFERROR(INDEX('Base Data wHSA (NCI Modified)'!$L$2:'Base Data wHSA (NCI Modified)'!$T$3142,'Base Data wHSA (NCI Modified)'!$K222,COLUMNS(COUNTIES!$D$2:G222)),\"\")","v":""},{"$f":"IFERROR(INDEX('Base Data wHSA (NCI Modified)'!$L$2:'Base Data wHSA (NCI Modified)'!$T$3142,'Base Data wHSA (NCI Modified)'!$K222,COLUMNS(COUNTIES!$D$2:H222)),\"\")","v":""},{"$f":"IFERROR(INDEX('Base Data wHSA (NCI Modified)'!$L$2:'Base Data wHSA (NCI Modified)'!$T$3142,'Base Data wHSA (NCI Modified)'!$K222,COLUMNS(COUNTIES!$D$2:I222)),\"\")","v":""},{"$f":"IFERROR(INDEX('Base Data wHSA (NCI Modified)'!$L$2:'Base Data wHSA (NCI Modified)'!$T$3142,'Base Data wHSA (NCI Modified)'!$K222,COLUMNS(COUNTIES!$D$2:J222)),\"\")","v":""},{"$f":"IFERROR(INDEX('Base Data wHSA (NCI Modified)'!$L$2:'Base Data wHSA (NCI Modified)'!$T$3142,'Base Data wHSA (NCI Modified)'!$K222,COLUMNS(COUNTIES!$D$2:K222)),\"\")","v":""},{"$f":"IFERROR(INDEX('Base Data wHSA (NCI Modified)'!$L$2:'Base Data wHSA (NCI Modified)'!$T$3142,'Base Data wHSA (NCI Modified)'!$K222,COLUMNS(COUNTIES!$D$2:L222)),\"\")","v":""}]
[{"$f":"ROWS($E$2:E223)","v":222},{"$f":"IF(E223=WORKSHEET!$B$2,A223,\"\")","v":""},"",{"$f":"IFERROR(INDEX('Base Data wHSA (NCI Modified)'!$L$2:'Base Data wHSA (NCI Modified)'!$T$3142,'Base Data wHSA (NCI Modified)'!$K223,COLUMNS(COUNTIES!$D$2:D223)),\"\")","v":""},{"$f":"IFERROR(INDEX('Base Data wHSA (NCI Modified)'!$L$2:'Base Data wHSA (NCI Modified)'!$T$3142,'Base Data wHSA (NCI Modified)'!$K223,COLUMNS(COUNTIES!$D$2:E223)),\"\")","v":""},{"$f":"IFERROR(INDEX('Base Data wHSA (NCI Modified)'!$L$2:'Base Data wHSA (NCI Modified)'!$T$3142,'Base Data wHSA (NCI Modified)'!$K223,COLUMNS(COUNTIES!$D$2:F223)),\"\")","v":""},{"$f":"IFERROR(INDEX('Base Data wHSA (NCI Modified)'!$L$2:'Base Data wHSA (NCI Modified)'!$T$3142,'Base Data wHSA (NCI Modified)'!$K223,COLUMNS(COUNTIES!$D$2:G223)),\"\")","v":""},{"$f":"IFERROR(INDEX('Base Data wHSA (NCI Modified)'!$L$2:'Base Data wHSA (NCI Modified)'!$T$3142,'Base Data wHSA (NCI Modified)'!$K223,COLUMNS(COUNTIES!$D$2:H223)),\"\")","v":""},{"$f":"IFERROR(INDEX('Base Data wHSA (NCI Modified)'!$L$2:'Base Data wHSA (NCI Modified)'!$T$3142,'Base Data wHSA (NCI Modified)'!$K223,COLUMNS(COUNTIES!$D$2:I223)),\"\")","v":""},{"$f":"IFERROR(INDEX('Base Data wHSA (NCI Modified)'!$L$2:'Base Data wHSA (NCI Modified)'!$T$3142,'Base Data wHSA (NCI Modified)'!$K223,COLUMNS(COUNTIES!$D$2:J223)),\"\")","v":""},{"$f":"IFERROR(INDEX('Base Data wHSA (NCI Modified)'!$L$2:'Base Data wHSA (NCI Modified)'!$T$3142,'Base Data wHSA (NCI Modified)'!$K223,COLUMNS(COUNTIES!$D$2:K223)),\"\")","v":""},{"$f":"IFERROR(INDEX('Base Data wHSA (NCI Modified)'!$L$2:'Base Data wHSA (NCI Modified)'!$T$3142,'Base Data wHSA (NCI Modified)'!$K223,COLUMNS(COUNTIES!$D$2:L223)),\"\")","v":""}]
[{"$f":"ROWS($E$2:E224)","v":223},{"$f":"IF(E224=WORKSHEET!$B$2,A224,\"\")","v":""},"",{"$f":"IFERROR(INDEX('Base Data wHSA (NCI Modified)'!$L$2:'Base Data wHSA (NCI Modified)'!$T$3142,'Base Data wHSA (NCI Modified)'!$K224,COLUMNS(COUNTIES!$D$2:D224)),\"\")","v":""},{"$f":"IFERROR(INDEX('Base Data wHSA (NCI Modified)'!$L$2:'Base Data wHSA (NCI Modified)'!$T$3142,'Base Data wHSA (NCI Modified)'!$K224,COLUMNS(COUNTIES!$D$2:E224)),\"\")","v":""},{"$f":"IFERROR(INDEX('Base Data wHSA (NCI Modified)'!$L$2:'Base Data wHSA (NCI Modified)'!$T$3142,'Base Data wHSA (NCI Modified)'!$K224,COLUMNS(COUNTIES!$D$2:F224)),\"\")","v":""},{"$f":"IFERROR(INDEX('Base Data wHSA (NCI Modified)'!$L$2:'Base Data wHSA (NCI Modified)'!$T$3142,'Base Data wHSA (NCI Modified)'!$K224,COLUMNS(COUNTIES!$D$2:G224)),\"\")","v":""},{"$f":"IFERROR(INDEX('Base Data wHSA (NCI Modified)'!$L$2:'Base Data wHSA (NCI Modified)'!$T$3142,'Base Data wHSA (NCI Modified)'!$K224,COLUMNS(COUNTIES!$D$2:H224)),\"\")","v":""},{"$f":"IFERROR(INDEX('Base Data wHSA (NCI Modified)'!$L$2:'Base Data wHSA (NCI Modified)'!$T$3142,'Base Data wHSA (NCI Modified)'!$K224,COLUMNS(COUNTIES!$D$2:I224)),\"\")","v":""},{"$f":"IFERROR(INDEX('Base Data wHSA (NCI Modified)'!$L$2:'Base Data wHSA (NCI Modified)'!$T$3142,'Base Data wHSA (NCI Modified)'!$K224,COLUMNS(COUNTIES!$D$2:J224)),\"\")","v":""},{"$f":"IFERROR(INDEX('Base Data wHSA (NCI Modified)'!$L$2:'Base Data wHSA (NCI Modified)'!$T$3142,'Base Data wHSA (NCI Modified)'!$K224,COLUMNS(COUNTIES!$D$2:K224)),\"\")","v":""},{"$f":"IFERROR(INDEX('Base Data wHSA (NCI Modified)'!$L$2:'Base Data wHSA (NCI Modified)'!$T$3142,'Base Data wHSA (NCI Modified)'!$K224,COLUMNS(COUNTIES!$D$2:L224)),\"\")","v":""}]
[{"$f":"ROWS($E$2:E225)","v":224},{"$f":"IF(E225=WORKSHEET!$B$2,A225,\"\")","v":""},"",{"$f":"IFERROR(INDEX('Base Data wHSA (NCI Modified)'!$L$2:'Base Data wHSA (NCI Modified)'!$T$3142,'Base Data wHSA (NCI Modified)'!$K225,COLUMNS(COUNTIES!$D$2:D225)),\"\")","v":""},{"$f":"IFERROR(INDEX('Base Data wHSA (NCI Modified)'!$L$2:'Base Data wHSA (NCI Modified)'!$T$3142,'Base Data wHSA (NCI Modified)'!$K225,COLUMNS(COUNTIES!$D$2:E225)),\"\")","v":""},{"$f":"IFERROR(INDEX('Base Data wHSA (NCI Modified)'!$L$2:'Base Data wHSA (NCI Modified)'!$T$3142,'Base Data wHSA (NCI Modified)'!$K225,COLUMNS(COUNTIES!$D$2:F225)),\"\")","v":""},{"$f":"IFERROR(INDEX('Base Data wHSA (NCI Modified)'!$L$2:'Base Data wHSA (NCI Modified)'!$T$3142,'Base Data wHSA (NCI Modified)'!$K225,COLUMNS(COUNTIES!$D$2:G225)),\"\")","v":""},{"$f":"IFERROR(INDEX('Base Data wHSA (NCI Modified)'!$L$2:'Base Data wHSA (NCI Modified)'!$T$3142,'Base Data wHSA (NCI Modified)'!$K225,COLUMNS(COUNTIES!$D$2:H225)),\"\")","v":""},{"$f":"IFERROR(INDEX('Base Data wHSA (NCI Modified)'!$L$2:'Base Data wHSA (NCI Modified)'!$T$3142,'Base Data wHSA (NCI Modified)'!$K225,COLUMNS(COUNTIES!$D$2:I225)),\"\")","v":""},{"$f":"IFERROR(INDEX('Base Data wHSA (NCI Modified)'!$L$2:'Base Data wHSA (NCI Modified)'!$T$3142,'Base Data wHSA (NCI Modified)'!$K225,COLUMNS(COUNTIES!$D$2:J225)),\"\")","v":""},{"$f":"IFERROR(INDEX('Base Data wHSA (NCI Modified)'!$L$2:'Base Data wHSA (NCI Modified)'!$T$3142,'Base Data wHSA (NCI Modified)'!$K225,COLUMNS(COUNTIES!$D$2:K225)),\"\")","v":""},{"$f":"IFERROR(INDEX('Base Data wHSA (NCI Modified)'!$L$2:'Base Data wHSA (NCI Modified)'!$T$3142,'Base Data wHSA (NCI Modified)'!$K225,COLUMNS(COUNTIES!$D$2:L225)),\"\")","v":""}]
[{"$f":"ROWS($E$2:E226)","v":225},{"$f":"IF(E226=WORKSHEET!$B$2,A226,\"\")","v":""},"",{"$f":"IFERROR(INDEX('Base Data wHSA (NCI Modified)'!$L$2:'Base Data wHSA (NCI Modified)'!$T$3142,'Base Data wHSA (NCI Modified)'!$K226,COLUMNS(COUNTIES!$D$2:D226)),\"\")","v":""},{"$f":"IFERROR(INDEX('Base Data wHSA (NCI Modified)'!$L$2:'Base Data wHSA (NCI Modified)'!$T$3142,'Base Data wHSA (NCI Modified)'!$K226,COLUMNS(COUNTIES!$D$2:E226)),\"\")","v":""},{"$f":"IFERROR(INDEX('Base Data wHSA (NCI Modified)'!$L$2:'Base Data wHSA (NCI Modified)'!$T$3142,'Base Data wHSA (NCI Modified)'!$K226,COLUMNS(COUNTIES!$D$2:F226)),\"\")","v":""},{"$f":"IFERROR(INDEX('Base Data wHSA (NCI Modified)'!$L$2:'Base Data wHSA (NCI Modified)'!$T$3142,'Base Data wHSA (NCI Modified)'!$K226,COLUMNS(COUNTIES!$D$2:G226)),\"\")","v":""},{"$f":"IFERROR(INDEX('Base Data wHSA (NCI Modified)'!$L$2:'Base Data wHSA (NCI Modified)'!$T$3142,'Base Data wHSA (NCI Modified)'!$K226,COLUMNS(COUNTIES!$D$2:H226)),\"\")","v":""},{"$f":"IFERROR(INDEX('Base Data wHSA (NCI Modified)'!$L$2:'Base Data wHSA (NCI Modified)'!$T$3142,'Base Data wHSA (NCI Modified)'!$K226,COLUMNS(COUNTIES!$D$2:I226)),\"\")","v":""},{"$f":"IFERROR(INDEX('Base Data wHSA (NCI Modified)'!$L$2:'Base Data wHSA (NCI Modified)'!$T$3142,'Base Data wHSA (NCI Modified)'!$K226,COLUMNS(COUNTIES!$D$2:J226)),\"\")","v":""},{"$f":"IFERROR(INDEX('Base Data wHSA (NCI Modified)'!$L$2:'Base Data wHSA (NCI Modified)'!$T$3142,'Base Data wHSA (NCI Modified)'!$K226,COLUMNS(COUNTIES!$D$2:K226)),\"\")","v":""},{"$f":"IFERROR(INDEX('Base Data wHSA (NCI Modified)'!$L$2:'Base Data wHSA (NCI Modified)'!$T$3142,'Base Data wHSA (NCI Modified)'!$K226,COLUMNS(COUNTIES!$D$2:L226)),\"\")","v":""}]
[{"$f":"ROWS($E$2:E227)","v":226},{"$f":"IF(E227=WORKSHEET!$B$2,A227,\"\")","v":""},"",{"$f":"IFERROR(INDEX('Base Data wHSA (NCI Modified)'!$L$2:'Base Data wHSA (NCI Modified)'!$T$3142,'Base Data wHSA (NCI Modified)'!$K227,COLUMNS(COUNTIES!$D$2:D227)),\"\")","v":""},{"$f":"IFERROR(INDEX('Base Data wHSA (NCI Modified)'!$L$2:'Base Data wHSA (NCI Modified)'!$T$3142,'Base Data wHSA (NCI Modified)'!$K227,COLUMNS(COUNTIES!$D$2:E227)),\"\")","v":""},{"$f":"IFERROR(INDEX('Base Data wHSA (NCI Modified)'!$L$2:'Base Data wHSA (NCI Modified)'!$T$3142,'Base Data wHSA (NCI Modified)'!$K227,COLUMNS(COUNTIES!$D$2:F227)),\"\")","v":""},{"$f":"IFERROR(INDEX('Base Data wHSA (NCI Modified)'!$L$2:'Base Data wHSA (NCI Modified)'!$T$3142,'Base Data wHSA (NCI Modified)'!$K227,COLUMNS(COUNTIES!$D$2:G227)),\"\")","v":""},{"$f":"IFERROR(INDEX('Base Data wHSA (NCI Modified)'!$L$2:'Base Data wHSA (NCI Modified)'!$T$3142,'Base Data wHSA (NCI Modified)'!$K227,COLUMNS(COUNTIES!$D$2:H227)),\"\")","v":""},{"$f":"IFERROR(INDEX('Base Data wHSA (NCI Modified)'!$L$2:'Base Data wHSA (NCI Modified)'!$T$3142,'Base Data wHSA (NCI Modified)'!$K227,COLUMNS(COUNTIES!$D$2:I227)),\"\")","v":""},{"$f":"IFERROR(INDEX('Base Data wHSA (NCI Modified)'!$L$2:'Base Data wHSA (NCI Modified)'!$T$3142,'Base Data wHSA (NCI Modified)'!$K227,COLUMNS(COUNTIES!$D$2:J227)),\"\")","v":""},{"$f":"IFERROR(INDEX('Base Data wHSA (NCI Modified)'!$L$2:'Base Data wHSA (NCI Modified)'!$T$3142,'Base Data wHSA (NCI Modified)'!$K227,COLUMNS(COUNTIES!$D$2:K227)),\"\")","v":""},{"$f":"IFERROR(INDEX('Base Data wHSA (NCI Modified)'!$L$2:'Base Data wHSA (NCI Modified)'!$T$3142,'Base Data wHSA (NCI Modified)'!$K227,COLUMNS(COUNTIES!$D$2:L227)),\"\")","v":""}]
[{"$f":"ROWS($E$2:E228)","v":227},{"$f":"IF(E228=WORKSHEET!$B$2,A228,\"\")","v":""},"",{"$f":"IFERROR(INDEX('Base Data wHSA (NCI Modified)'!$L$2:'Base Data wHSA (NCI Modified)'!$T$3142,'Base Data wHSA (NCI Modified)'!$K228,COLUMNS(COUNTIES!$D$2:D228)),\"\")","v":""},{"$f":"IFERROR(INDEX('Base Data wHSA (NCI Modified)'!$L$2:'Base Data wHSA (NCI Modified)'!$T$3142,'Base Data wHSA (NCI Modified)'!$K228,COLUMNS(COUNTIES!$D$2:E228)),\"\")","v":""},{"$f":"IFERROR(INDEX('Base Data wHSA (NCI Modified)'!$L$2:'Base Data wHSA (NCI Modified)'!$T$3142,'Base Data wHSA (NCI Modified)'!$K228,COLUMNS(COUNTIES!$D$2:F228)),\"\")","v":""},{"$f":"IFERROR(INDEX('Base Data wHSA (NCI Modified)'!$L$2:'Base Data wHSA (NCI Modified)'!$T$3142,'Base Data wHSA (NCI Modified)'!$K228,COLUMNS(COUNTIES!$D$2:G228)),\"\")","v":""},{"$f":"IFERROR(INDEX('Base Data wHSA (NCI Modified)'!$L$2:'Base Data wHSA (NCI Modified)'!$T$3142,'Base Data wHSA (NCI Modified)'!$K228,COLUMNS(COUNTIES!$D$2:H228)),\"\")","v":""},{"$f":"IFERROR(INDEX('Base Data wHSA (NCI Modified)'!$L$2:'Base Data wHSA (NCI Modified)'!$T$3142,'Base Data wHSA (NCI Modified)'!$K228,COLUMNS(COUNTIES!$D$2:I228)),\"\")","v":""},{"$f":"IFERROR(INDEX('Base Data wHSA (NCI Modified)'!$L$2:'Base Data wHSA (NCI Modified)'!$T$3142,'Base Data wHSA (NCI Modified)'!$K228,COLUMNS(COUNTIES!$D$2:J228)),\"\")","v":""},{"$f":"IFERROR(INDEX('Base Data wHSA (NCI Modified)'!$L$2:'Base Data wHSA (NCI Modified)'!$T$3142,'Base Data wHSA (NCI Modified)'!$K228,COLUMNS(COUNTIES!$D$2:K228)),\"\")","v":""},{"$f":"IFERROR(INDEX('Base Data wHSA (NCI Modified)'!$L$2:'Base Data wHSA (NCI Modified)'!$T$3142,'Base Data wHSA (NCI Modified)'!$K228,COLUMNS(COUNTIES!$D$2:L228)),\"\")","v":""}]
[{"$f":"ROWS($E$2:E229)","v":228},{"$f":"IF(E229=WORKSHEET!$B$2,A229,\"\")","v":""},"",{"$f":"IFERROR(INDEX('Base Data wHSA (NCI Modified)'!$L$2:'Base Data wHSA (NCI Modified)'!$T$3142,'Base Data wHSA (NCI Modified)'!$K229,COLUMNS(COUNTIES!$D$2:D229)),\"\")","v":""},{"$f":"IFERROR(INDEX('Base Data wHSA (NCI Modified)'!$L$2:'Base Data wHSA (NCI Modified)'!$T$3142,'Base Data wHSA (NCI Modified)'!$K229,COLUMNS(COUNTIES!$D$2:E229)),\"\")","v":""},{"$f":"IFERROR(INDEX('Base Data wHSA (NCI Modified)'!$L$2:'Base Data wHSA (NCI Modified)'!$T$3142,'Base Data wHSA (NCI Modified)'!$K229,COLUMNS(COUNTIES!$D$2:F229)),\"\")","v":""},{"$f":"IFERROR(INDEX('Base Data wHSA (NCI Modified)'!$L$2:'Base Data wHSA (NCI Modified)'!$T$3142,'Base Data wHSA (NCI Modified)'!$K229,COLUMNS(COUNTIES!$D$2:G229)),\"\")","v":""},{"$f":"IFERROR(INDEX('Base Data wHSA (NCI Modified)'!$L$2:'Base Data wHSA (NCI Modified)'!$T$3142,'Base Data wHSA (NCI Modified)'!$K229,COLUMNS(COUNTIES!$D$2:H229)),\"\")","v":""},{"$f":"IFERROR(INDEX('Base Data wHSA (NCI Modified)'!$L$2:'Base Data wHSA (NCI Modified)'!$T$3142,'Base Data wHSA (NCI Modified)'!$K229,COLUMNS(COUNTIES!$D$2:I229)),\"\")","v":""},{"$f":"IFERROR(INDEX('Base Data wHSA (NCI Modified)'!$L$2:'Base Data wHSA (NCI Modified)'!$T$3142,'Base Data wHSA (NCI Modified)'!$K229,COLUMNS(COUNTIES!$D$2:J229)),\"\")","v":""},{"$f":"IFERROR(INDEX('Base Data wHSA (NCI Modified)'!$L$2:'Base Data wHSA (NCI Modified)'!$T$3142,'Base Data wHSA (NCI Modified)'!$K229,COLUMNS(COUNTIES!$D$2:K229)),\"\")","v":""},{"$f":"IFERROR(INDEX('Base Data wHSA (NCI Modified)'!$L$2:'Base Data wHSA (NCI Modified)'!$T$3142,'Base Data wHSA (NCI Modified)'!$K229,COLUMNS(COUNTIES!$D$2:L229)),\"\")","v":""}]
[{"$f":"ROWS($E$2:E230)","v":229},{"$f":"IF(E230=WORKSHEET!$B$2,A230,\"\")","v":""},"",{"$f":"IFERROR(INDEX('Base Data wHSA (NCI Modified)'!$L$2:'Base Data wHSA (NCI Modified)'!$T$3142,'Base Data wHSA (NCI Modified)'!$K230,COLUMNS(COUNTIES!$D$2:D230)),\"\")","v":""},{"$f":"IFERROR(INDEX('Base Data wHSA (NCI Modified)'!$L$2:'Base Data wHSA (NCI Modified)'!$T$3142,'Base Data wHSA (NCI Modified)'!$K230,COLUMNS(COUNTIES!$D$2:E230)),\"\")","v":""},{"$f":"IFERROR(INDEX('Base Data wHSA (NCI Modified)'!$L$2:'Base Data wHSA (NCI Modified)'!$T$3142,'Base Data wHSA (NCI Modified)'!$K230,COLUMNS(COUNTIES!$D$2:F230)),\"\")","v":""},{"$f":"IFERROR(INDEX('Base Data wHSA (NCI Modified)'!$L$2:'Base Data wHSA (NCI Modified)'!$T$3142,'Base Data wHSA (NCI Modified)'!$K230,COLUMNS(COUNTIES!$D$2:G230)),\"\")","v":""},{"$f":"IFERROR(INDEX('Base Data wHSA (NCI Modified)'!$L$2:'Base Data wHSA (NCI Modified)'!$T$3142,'Base Data wHSA (NCI Modified)'!$K230,COLUMNS(COUNTIES!$D$2:H230)),\"\")","v":""},{"$f":"IFERROR(INDEX('Base Data wHSA (NCI Modified)'!$L$2:'Base Data wHSA (NCI Modified)'!$T$3142,'Base Data wHSA (NCI Modified)'!$K230,COLUMNS(COUNTIES!$D$2:I230)),\"\")","v":""},{"$f":"IFERROR(INDEX('Base Data wHSA (NCI Modified)'!$L$2:'Base Data wHSA (NCI Modified)'!$T$3142,'Base Data wHSA (NCI Modified)'!$K230,COLUMNS(COUNTIES!$D$2:J230)),\"\")","v":""},{"$f":"IFERROR(INDEX('Base Data wHSA (NCI Modified)'!$L$2:'Base Data wHSA (NCI Modified)'!$T$3142,'Base Data wHSA (NCI Modified)'!$K230,COLUMNS(COUNTIES!$D$2:K230)),\"\")","v":""},{"$f":"IFERROR(INDEX('Base Data wHSA (NCI Modified)'!$L$2:'Base Data wHSA (NCI Modified)'!$T$3142,'Base Data wHSA (NCI Modified)'!$K230,COLUMNS(COUNTIES!$D$2:L230)),\"\")","v":""}]
[{"$f":"ROWS($E$2:E231)","v":230},{"$f":"IF(E231=WORKSHEET!$B$2,A231,\"\")","v":""},"",{"$f":"IFERROR(INDEX('Base Data wHSA (NCI Modified)'!$L$2:'Base Data wHSA (NCI Modified)'!$T$3142,'Base Data wHSA (NCI Modified)'!$K231,COLUMNS(COUNTIES!$D$2:D231)),\"\")","v":""},{"$f":"IFERROR(INDEX('Base Data wHSA (NCI Modified)'!$L$2:'Base Data wHSA (NCI Modified)'!$T$3142,'Base Data wHSA (NCI Modified)'!$K231,COLUMNS(COUNTIES!$D$2:E231)),\"\")","v":""},{"$f":"IFERROR(INDEX('Base Data wHSA (NCI Modified)'!$L$2:'Base Data wHSA (NCI Modified)'!$T$3142,'Base Data wHSA (NCI Modified)'!$K231,COLUMNS(COUNTIES!$D$2:F231)),\"\")","v":""},{"$f":"IFERROR(INDEX('Base Data wHSA (NCI Modified)'!$L$2:'Base Data wHSA (NCI Modified)'!$T$3142,'Base Data wHSA (NCI Modified)'!$K231,COLUMNS(COUNTIES!$D$2:G231)),\"\")","v":""},{"$f":"IFERROR(INDEX('Base Data wHSA (NCI Modified)'!$L$2:'Base Data wHSA (NCI Modified)'!$T$3142,'Base Data wHSA (NCI Modified)'!$K231,COLUMNS(COUNTIES!$D$2:H231)),\"\")","v":""},{"$f":"IFERROR(INDEX('Base Data wHSA (NCI Modified)'!$L$2:'Base Data wHSA (NCI Modified)'!$T$3142,'Base Data wHSA (NCI Modified)'!$K231,COLUMNS(COUNTIES!$D$2:I231)),\"\")","v":""},{"$f":"IFERROR(INDEX('Base Data wHSA (NCI Modified)'!$L$2:'Base Data wHSA (NCI Modified)'!$T$3142,'Base Data wHSA (NCI Modified)'!$K231,COLUMNS(COUNTIES!$D$2:J231)),\"\")","v":""},{"$f":"IFERROR(INDEX('Base Data wHSA (NCI Modified)'!$L$2:'Base Data wHSA (NCI Modified)'!$T$3142,'Base Data wHSA (NCI Modified)'!$K231,COLUMNS(COUNTIES!$D$2:K231)),\"\")","v":""},{"$f":"IFERROR(INDEX('Base Data wHSA (NCI Modified)'!$L$2:'Base Data wHSA (NCI Modified)'!$T$3142,'Base Data wHSA (NCI Modified)'!$K231,COLUMNS(COUNTIES!$D$2:L231)),\"\")","v":""}]
[{"$f":"ROWS($E$2:E232)","v":231},{"$f":"IF(E232=WORKSHEET!$B$2,A232,\"\")","v":""},"",{"$f":"IFERROR(INDEX('Base Data wHSA (NCI Modified)'!$L$2:'Base Data wHSA (NCI Modified)'!$T$3142,'Base Data wHSA (NCI Modified)'!$K232,COLUMNS(COUNTIES!$D$2:D232)),\"\")","v":""},{"$f":"IFERROR(INDEX('Base Data wHSA (NCI Modified)'!$L$2:'Base Data wHSA (NCI Modified)'!$T$3142,'Base Data wHSA (NCI Modified)'!$K232,COLUMNS(COUNTIES!$D$2:E232)),\"\")","v":""},{"$f":"IFERROR(INDEX('Base Data wHSA (NCI Modified)'!$L$2:'Base Data wHSA (NCI Modified)'!$T$3142,'Base Data wHSA (NCI Modified)'!$K232,COLUMNS(COUNTIES!$D$2:F232)),\"\")","v":""},{"$f":"IFERROR(INDEX('Base Data wHSA (NCI Modified)'!$L$2:'Base Data wHSA (NCI Modified)'!$T$3142,'Base Data wHSA (NCI Modified)'!$K232,COLUMNS(COUNTIES!$D$2:G232)),\"\")","v":""},{"$f":"IFERROR(INDEX('Base Data wHSA (NCI Modified)'!$L$2:'Base Data wHSA (NCI Modified)'!$T$3142,'Base Data wHSA (NCI Modified)'!$K232,COLUMNS(COUNTIES!$D$2:H232)),\"\")","v":""},{"$f":"IFERROR(INDEX('Base Data wHSA (NCI Modified)'!$L$2:'Base Data wHSA (NCI Modified)'!$T$3142,'Base Data wHSA (NCI Modified)'!$K232,COLUMNS(COUNTIES!$D$2:I232)),\"\")","v":""},{"$f":"IFERROR(INDEX('Base Data wHSA (NCI Modified)'!$L$2:'Base Data wHSA (NCI Modified)'!$T$3142,'Base Data wHSA (NCI Modified)'!$K232,COLUMNS(COUNTIES!$D$2:J232)),\"\")","v":""},{"$f":"IFERROR(INDEX('Base Data wHSA (NCI Modified)'!$L$2:'Base Data wHSA (NCI Modified)'!$T$3142,'Base Data wHSA (NCI Modified)'!$K232,COLUMNS(COUNTIES!$D$2:K232)),\"\")","v":""},{"$f":"IFERROR(INDEX('Base Data wHSA (NCI Modified)'!$L$2:'Base Data wHSA (NCI Modified)'!$T$3142,'Base Data wHSA (NCI Modified)'!$K232,COLUMNS(COUNTIES!$D$2:L232)),\"\")","v":""}]
[{"$f":"ROWS($E$2:E233)","v":232},{"$f":"IF(E233=WORKSHEET!$B$2,A233,\"\")","v":""},"",{"$f":"IFERROR(INDEX('Base Data wHSA (NCI Modified)'!$L$2:'Base Data wHSA (NCI Modified)'!$T$3142,'Base Data wHSA (NCI Modified)'!$K233,COLUMNS(COUNTIES!$D$2:D233)),\"\")","v":""},{"$f":"IFERROR(INDEX('Base Data wHSA (NCI Modified)'!$L$2:'Base Data wHSA (NCI Modified)'!$T$3142,'Base Data wHSA (NCI Modified)'!$K233,COLUMNS(COUNTIES!$D$2:E233)),\"\")","v":""},{"$f":"IFERROR(INDEX('Base Data wHSA (NCI Modified)'!$L$2:'Base Data wHSA (NCI Modified)'!$T$3142,'Base Data wHSA (NCI Modified)'!$K233,COLUMNS(COUNTIES!$D$2:F233)),\"\")","v":""},{"$f":"IFERROR(INDEX('Base Data wHSA (NCI Modified)'!$L$2:'Base Data wHSA (NCI Modified)'!$T$3142,'Base Data wHSA (NCI Modified)'!$K233,COLUMNS(COUNTIES!$D$2:G233)),\"\")","v":""},{"$f":"IFERROR(INDEX('Base Data wHSA (NCI Modified)'!$L$2:'Base Data wHSA (NCI Modified)'!$T$3142,'Base Data wHSA (NCI Modified)'!$K233,COLUMNS(COUNTIES!$D$2:H233)),\"\")","v":""},{"$f":"IFERROR(INDEX('Base Data wHSA (NCI Modified)'!$L$2:'Base Data wHSA (NCI Modified)'!$T$3142,'Base Data wHSA (NCI Modified)'!$K233,COLUMNS(COUNTIES!$D$2:I233)),\"\")","v":""},{"$f":"IFERROR(INDEX('Base Data wHSA (NCI Modified)'!$L$2:'Base Data wHSA (NCI Modified)'!$T$3142,'Base Data wHSA (NCI Modified)'!$K233,COLUMNS(COUNTIES!$D$2:J233)),\"\")","v":""},{"$f":"IFERROR(INDEX('Base Data wHSA (NCI Modified)'!$L$2:'Base Data wHSA (NCI Modified)'!$T$3142,'Base Data wHSA (NCI Modified)'!$K233,COLUMNS(COUNTIES!$D$2:K233)),\"\")","v":""},{"$f":"IFERROR(INDEX('Base Data wHSA (NCI Modified)'!$L$2:'Base Data wHSA (NCI Modified)'!$T$3142,'Base Data wHSA (NCI Modified)'!$K233,COLUMNS(COUNTIES!$D$2:L233)),\"\")","v":""}]
[{"$f":"ROWS($E$2:E234)","v":233},{"$f":"IF(E234=WORKSHEET!$B$2,A234,\"\")","v":""},"",{"$f":"IFERROR(INDEX('Base Data wHSA (NCI Modified)'!$L$2:'Base Data wHSA (NCI Modified)'!$T$3142,'Base Data wHSA (NCI Modified)'!$K234,COLUMNS(COUNTIES!$D$2:D234)),\"\")","v":""},{"$f":"IFERROR(INDEX('Base Data wHSA (NCI Modified)'!$L$2:'Base Data wHSA (NCI Modified)'!$T$3142,'Base Data wHSA (NCI Modified)'!$K234,COLUMNS(COUNTIES!$D$2:E234)),\"\")","v":""},{"$f":"IFERROR(INDEX('Base Data wHSA (NCI Modified)'!$L$2:'Base Data wHSA (NCI Modified)'!$T$3142,'Base Data wHSA (NCI Modified)'!$K234,COLUMNS(COUNTIES!$D$2:F234)),\"\")","v":""},{"$f":"IFERROR(INDEX('Base Data wHSA (NCI Modified)'!$L$2:'Base Data wHSA (NCI Modified)'!$T$3142,'Base Data wHSA (NCI Modified)'!$K234,COLUMNS(COUNTIES!$D$2:G234)),\"\")","v":""},{"$f":"IFERROR(INDEX('Base Data wHSA (NCI Modified)'!$L$2:'Base Data wHSA (NCI Modified)'!$T$3142,'Base Data wHSA (NCI Modified)'!$K234,COLUMNS(COUNTIES!$D$2:H234)),\"\")","v":""},{"$f":"IFERROR(INDEX('Base Data wHSA (NCI Modified)'!$L$2:'Base Data wHSA (NCI Modified)'!$T$3142,'Base Data wHSA (NCI Modified)'!$K234,COLUMNS(COUNTIES!$D$2:I234)),\"\")","v":""},{"$f":"IFERROR(INDEX('Base Data wHSA (NCI Modified)'!$L$2:'Base Data wHSA (NCI Modified)'!$T$3142,'Base Data wHSA (NCI Modified)'!$K234,COLUMNS(COUNTIES!$D$2:J234)),\"\")","v":""},{"$f":"IFERROR(INDEX('Base Data wHSA (NCI Modified)'!$L$2:'Base Data wHSA (NCI Modified)'!$T$3142,'Base Data wHSA (NCI Modified)'!$K234,COLUMNS(COUNTIES!$D$2:K234)),\"\")","v":""},{"$f":"IFERROR(INDEX('Base Data wHSA (NCI Modified)'!$L$2:'Base Data wHSA (NCI Modified)'!$T$3142,'Base Data wHSA (NCI Modified)'!$K234,COLUMNS(COUNTIES!$D$2:L234)),\"\")","v":""}]
[{"$f":"ROWS($E$2:E235)","v":234},{"$f":"IF(E235=WORKSHEET!$B$2,A235,\"\")","v":""},"",{"$f":"IFERROR(INDEX('Base Data wHSA (NCI Modified)'!$L$2:'Base Data wHSA (NCI Modified)'!$T$3142,'Base Data wHSA (NCI Modified)'!$K235,COLUMNS(COUNTIES!$D$2:D235)),\"\")","v":""},{"$f":"IFERROR(INDEX('Base Data wHSA (NCI Modified)'!$L$2:'Base Data wHSA (NCI Modified)'!$T$3142,'Base Data wHSA (NCI Modified)'!$K235,COLUMNS(COUNTIES!$D$2:E235)),\"\")","v":""},{"$f":"IFERROR(INDEX('Base Data wHSA (NCI Modified)'!$L$2:'Base Data wHSA (NCI Modified)'!$T$3142,'Base Data wHSA (NCI Modified)'!$K235,COLUMNS(COUNTIES!$D$2:F235)),\"\")","v":""},{"$f":"IFERROR(INDEX('Base Data wHSA (NCI Modified)'!$L$2:'Base Data wHSA (NCI Modified)'!$T$3142,'Base Data wHSA (NCI Modified)'!$K235,COLUMNS(COUNTIES!$D$2:G235)),\"\")","v":""},{"$f":"IFERROR(INDEX('Base Data wHSA (NCI Modified)'!$L$2:'Base Data wHSA (NCI Modified)'!$T$3142,'Base Data wHSA (NCI Modified)'!$K235,COLUMNS(COUNTIES!$D$2:H235)),\"\")","v":""},{"$f":"IFERROR(INDEX('Base Data wHSA (NCI Modified)'!$L$2:'Base Data wHSA (NCI Modified)'!$T$3142,'Base Data wHSA (NCI Modified)'!$K235,COLUMNS(COUNTIES!$D$2:I235)),\"\")","v":""},{"$f":"IFERROR(INDEX('Base Data wHSA (NCI Modified)'!$L$2:'Base Data wHSA (NCI Modified)'!$T$3142,'Base Data wHSA (NCI Modified)'!$K235,COLUMNS(COUNTIES!$D$2:J235)),\"\")","v":""},{"$f":"IFERROR(INDEX('Base Data wHSA (NCI Modified)'!$L$2:'Base Data wHSA (NCI Modified)'!$T$3142,'Base Data wHSA (NCI Modified)'!$K235,COLUMNS(COUNTIES!$D$2:K235)),\"\")","v":""},{"$f":"IFERROR(INDEX('Base Data wHSA (NCI Modified)'!$L$2:'Base Data wHSA (NCI Modified)'!$T$3142,'Base Data wHSA (NCI Modified)'!$K235,COLUMNS(COUNTIES!$D$2:L235)),\"\")","v":""}]
[{"$f":"ROWS($E$2:E236)","v":235},{"$f":"IF(E236=WORKSHEET!$B$2,A236,\"\")","v":""},"",{"$f":"IFERROR(INDEX('Base Data wHSA (NCI Modified)'!$L$2:'Base Data wHSA (NCI Modified)'!$T$3142,'Base Data wHSA (NCI Modified)'!$K236,COLUMNS(COUNTIES!$D$2:D236)),\"\")","v":""},{"$f":"IFERROR(INDEX('Base Data wHSA (NCI Modified)'!$L$2:'Base Data wHSA (NCI Modified)'!$T$3142,'Base Data wHSA (NCI Modified)'!$K236,COLUMNS(COUNTIES!$D$2:E236)),\"\")","v":""},{"$f":"IFERROR(INDEX('Base Data wHSA (NCI Modified)'!$L$2:'Base Data wHSA (NCI Modified)'!$T$3142,'Base Data wHSA (NCI Modified)'!$K236,COLUMNS(COUNTIES!$D$2:F236)),\"\")","v":""},{"$f":"IFERROR(INDEX('Base Data wHSA (NCI Modified)'!$L$2:'Base Data wHSA (NCI Modified)'!$T$3142,'Base Data wHSA (NCI Modified)'!$K236,COLUMNS(COUNTIES!$D$2:G236)),\"\")","v":""},{"$f":"IFERROR(INDEX('Base Data wHSA (NCI Modified)'!$L$2:'Base Data wHSA (NCI Modified)'!$T$3142,'Base Data wHSA (NCI Modified)'!$K236,COLUMNS(COUNTIES!$D$2:H236)),\"\")","v":""},{"$f":"IFERROR(INDEX('Base Data wHSA (NCI Modified)'!$L$2:'Base Data wHSA (NCI Modified)'!$T$3142,'Base Data wHSA (NCI Modified)'!$K236,COLUMNS(COUNTIES!$D$2:I236)),\"\")","v":""},{"$f":"IFERROR(INDEX('Base Data wHSA (NCI Modified)'!$L$2:'Base Data wHSA (NCI Modified)'!$T$3142,'Base Data wHSA (NCI Modified)'!$K236,COLUMNS(COUNTIES!$D$2:J236)),\"\")","v":""},{"$f":"IFERROR(INDEX('Base Data wHSA (NCI Modified)'!$L$2:'Base Data wHSA (NCI Modified)'!$T$3142,'Base Data wHSA (NCI Modified)'!$K236,COLUMNS(COUNTIES!$D$2:K236)),\"\")","v":""},{"$f":"IFERROR(INDEX('Base Data wHSA (NCI Modified)'!$L$2:'Base Data wHSA (NCI Modified)'!$T$3142,'Base Data wHSA (NCI Modified)'!$K236,COLUMNS(COUNTIES!$D$2:L236)),\"\")","v":""}]
[{"$f":"ROWS($E$2:E237)","v":236},{"$f":"IF(E237=WORKSHEET!$B$2,A237,\"\")","v":""},"",{"$f":"IFERROR(INDEX('Base Data wHSA (NCI Modified)'!$L$2:'Base Data wHSA (NCI Modified)'!$T$3142,'Base Data wHSA (NCI Modified)'!$K237,COLUMNS(COUNTIES!$D$2:D237)),\"\")","v":""},{"$f":"IFERROR(INDEX('Base Data wHSA (NCI Modified)'!$L$2:'Base Data wHSA (NCI Modified)'!$T$3142,'Base Data wHSA (NCI Modified)'!$K237,COLUMNS(COUNTIES!$D$2:E237)),\"\")","v":""},{"$f":"IFERROR(INDEX('Base Data wHSA (NCI Modified)'!$L$2:'Base Data wHSA (NCI Modified)'!$T$3142,'Base Data wHSA (NCI Modified)'!$K237,COLUMNS(COUNTIES!$D$2:F237)),\"\")","v":""},{"$f":"IFERROR(INDEX('Base Data wHSA (NCI Modified)'!$L$2:'Base Data wHSA (NCI Modified)'!$T$3142,'Base Data wHSA (NCI Modified)'!$K237,COLUMNS(COUNTIES!$D$2:G237)),\"\")","v":""},{"$f":"IFERROR(INDEX('Base Data wHSA (NCI Modified)'!$L$2:'Base Data wHSA (NCI Modified)'!$T$3142,'Base Data wHSA (NCI Modified)'!$K237,COLUMNS(COUNTIES!$D$2:H237)),\"\")","v":""},{"$f":"IFERROR(INDEX('Base Data wHSA (NCI Modified)'!$L$2:'Base Data wHSA (NCI Modified)'!$T$3142,'Base Data wHSA (NCI Modified)'!$K237,COLUMNS(COUNTIES!$D$2:I237)),\"\")","v":""},{"$f":"IFERROR(INDEX('Base Data wHSA (NCI Modified)'!$L$2:'Base Data wHSA (NCI Modified)'!$T$3142,'Base Data wHSA (NCI Modified)'!$K237,COLUMNS(COUNTIES!$D$2:J237)),\"\")","v":""},{"$f":"IFERROR(INDEX('Base Data wHSA (NCI Modified)'!$L$2:'Base Data wHSA (NCI Modified)'!$T$3142,'Base Data wHSA (NCI Modified)'!$K237,COLUMNS(COUNTIES!$D$2:K237)),\"\")","v":""},{"$f":"IFERROR(INDEX('Base Data wHSA (NCI Modified)'!$L$2:'Base Data wHSA (NCI Modified)'!$T$3142,'Base Data wHSA (NCI Modified)'!$K237,COLUMNS(COUNTIES!$D$2:L237)),\"\")","v":""}]
[{"$f":"ROWS($E$2:E238)","v":237},{"$f":"IF(E238=WORKSHEET!$B$2,A238,\"\")","v":""},"",{"$f":"IFERROR(INDEX('Base Data wHSA (NCI Modified)'!$L$2:'Base Data wHSA (NCI Modified)'!$T$3142,'Base Data wHSA (NCI Modified)'!$K238,COLUMNS(COUNTIES!$D$2:D238)),\"\")","v":""},{"$f":"IFERROR(INDEX('Base Data wHSA (NCI Modified)'!$L$2:'Base Data wHSA (NCI Modified)'!$T$3142,'Base Data wHSA (NCI Modified)'!$K238,COLUMNS(COUNTIES!$D$2:E238)),\"\")","v":""},{"$f":"IFERROR(INDEX('Base Data wHSA (NCI Modified)'!$L$2:'Base Data wHSA (NCI Modified)'!$T$3142,'Base Data wHSA (NCI Modified)'!$K238,COLUMNS(COUNTIES!$D$2:F238)),\"\")","v":""},{"$f":"IFERROR(INDEX('Base Data wHSA (NCI Modified)'!$L$2:'Base Data wHSA (NCI Modified)'!$T$3142,'Base Data wHSA (NCI Modified)'!$K238,COLUMNS(COUNTIES!$D$2:G238)),\"\")","v":""},{"$f":"IFERROR(INDEX('Base Data wHSA (NCI Modified)'!$L$2:'Base Data wHSA (NCI Modified)'!$T$3142,'Base Data wHSA (NCI Modified)'!$K238,COLUMNS(COUNTIES!$D$2:H238)),\"\")","v":""},{"$f":"IFERROR(INDEX('Base Data wHSA (NCI Modified)'!$L$2:'Base Data wHSA (NCI Modified)'!$T$3142,'Base Data wHSA (NCI Modified)'!$K238,COLUMNS(COUNTIES!$D$2:I238)),\"\")","v":""},{"$f":"IFERROR(INDEX('Base Data wHSA (NCI Modified)'!$L$2:'Base Data wHSA (NCI Modified)'!$T$3142,'Base Data wHSA (NCI Modified)'!$K238,COLUMNS(COUNTIES!$D$2:J238)),\"\")","v":""},{"$f":"IFERROR(INDEX('Base Data wHSA (NCI Modified)'!$L$2:'Base Data wHSA (NCI Modified)'!$T$3142,'Base Data wHSA (NCI Modified)'!$K238,COLUMNS(COUNTIES!$D$2:K238)),\"\")","v":""},{"$f":"IFERROR(INDEX('Base Data wHSA (NCI Modified)'!$L$2:'Base Data wHSA (NCI Modified)'!$T$3142,'Base Data wHSA (NCI Modified)'!$K238,COLUMNS(COUNTIES!$D$2:L238)),\"\")","v":""}]
[{"$f":"ROWS($E$2:E239)","v":238},{"$f":"IF(E239=WORKSHEET!$B$2,A239,\"\")","v":""},"",{"$f":"IFERROR(INDEX('Base Data wHSA (NCI Modified)'!$L$2:'Base Data wHSA (NCI Modified)'!$T$3142,'Base Data wHSA (NCI Modified)'!$K239,COLUMNS(COUNTIES!$D$2:D239)),\"\")","v":""},{"$f":"IFERROR(INDEX('Base Data wHSA (NCI Modified)'!$L$2:'Base Data wHSA (NCI Modified)'!$T$3142,'Base Data wHSA (NCI Modified)'!$K239,COLUMNS(COUNTIES!$D$2:E239)),\"\")","v":""},{"$f":"IFERROR(INDEX('Base Data wHSA (NCI Modified)'!$L$2:'Base Data wHSA (NCI Modified)'!$T$3142,'Base Data wHSA (NCI Modified)'!$K239,COLUMNS(COUNTIES!$D$2:F239)),\"\")","v":""},{"$f":"IFERROR(INDEX('Base Data wHSA (NCI Modified)'!$L$2:'Base Data wHSA (NCI Modified)'!$T$3142,'Base Data wHSA (NCI Modified)'!$K239,COLUMNS(COUNTIES!$D$2:G239)),\"\")","v":""},{"$f":"IFERROR(INDEX('Base Data wHSA (NCI Modified)'!$L$2:'Base Data wHSA (NCI Modified)'!$T$3142,'Base Data wHSA (NCI Modified)'!$K239,COLUMNS(COUNTIES!$D$2:H239)),\"\")","v":""},{"$f":"IFERROR(INDEX('Base Data wHSA (NCI Modified)'!$L$2:'Base Data wHSA (NCI Modified)'!$T$3142,'Base Data wHSA (NCI Modified)'!$K239,COLUMNS(COUNTIES!$D$2:I239)),\"\")","v":""},{"$f":"IFERROR(INDEX('Base Data wHSA (NCI Modified)'!$L$2:'Base Data wHSA (NCI Modified)'!$T$3142,'Base Data wHSA (NCI Modified)'!$K239,COLUMNS(COUNTIES!$D$2:J239)),\"\")","v":""},{"$f":"IFERROR(INDEX('Base Data wHSA (NCI Modified)'!$L$2:'Base Data wHSA (NCI Modified)'!$T$3142,'Base Data wHSA (NCI Modified)'!$K239,COLUMNS(COUNTIES!$D$2:K239)),\"\")","v":""},{"$f":"IFERROR(INDEX('Base Data wHSA (NCI Modified)'!$L$2:'Base Data wHSA (NCI Modified)'!$T$3142,'Base Data wHSA (NCI Modified)'!$K239,COLUMNS(COUNTIES!$D$2:L239)),\"\")","v":""}]
[{"$f":"ROWS($E$2:E240)","v":239},{"$f":"IF(E240=WORKSHEET!$B$2,A240,\"\")","v":""},"",{"$f":"IFERROR(INDEX('Base Data wHSA (NCI Modified)'!$L$2:'Base Data wHSA (NCI Modified)'!$T$3142,'Base Data wHSA (NCI Modified)'!$K240,COLUMNS(COUNTIES!$D$2:D240)),\"\")","v":""},{"$f":"IFERROR(INDEX('Base Data wHSA (NCI Modified)'!$L$2:'Base Data wHSA (NCI Modified)'!$T$3142,'Base Data wHSA (NCI Modified)'!$K240,COLUMNS(COUNTIES!$D$2:E240)),\"\")","v":""},{"$f":"IFERROR(INDEX('Base Data wHSA (NCI Modified)'!$L$2:'Base Data wHSA (NCI Modified)'!$T$3142,'Base Data wHSA (NCI Modified)'!$K240,COLUMNS(COUNTIES!$D$2:F240)),\"\")","v":""},{"$f":"IFERROR(INDEX('Base Data wHSA (NCI Modified)'!$L$2:'Base Data wHSA (NCI Modified)'!$T$3142,'Base Data wHSA (NCI Modified)'!$K240,COLUMNS(COUNTIES!$D$2:G240)),\"\")","v":""},{"$f":"IFERROR(INDEX('Base Data wHSA (NCI Modified)'!$L$2:'Base Data wHSA (NCI Modified)'!$T$3142,'Base Data wHSA (NCI Modified)'!$K240,COLUMNS(COUNTIES!$D$2:H240)),\"\")","v":""},{"$f":"IFERROR(INDEX('Base Data wHSA (NCI Modified)'!$L$2:'Base Data wHSA (NCI Modified)'!$T$3142,'Base Data wHSA (NCI Modified)'!$K240,COLUMNS(COUNTIES!$D$2:I240)),\"\")","v":""},{"$f":"IFERROR(INDEX('Base Data wHSA (NCI Modified)'!$L$2:'Base Data wHSA (NCI Modified)'!$T$3142,'Base Data wHSA (NCI Modified)'!$K240,COLUMNS(COUNTIES!$D$2:J240)),\"\")","v":""},{"$f":"IFERROR(INDEX('Base Data wHSA (NCI Modified)'!$L$2:'Base Data wHSA (NCI Modified)'!$T$3142,'Base Data wHSA (NCI Modified)'!$K240,COLUMNS(COUNTIES!$D$2:K240)),\"\")","v":""},{"$f":"IFERROR(INDEX('Base Data wHSA (NCI Modified)'!$L$2:'Base Data wHSA (NCI Modified)'!$T$3142,'Base Data wHSA (NCI Modified)'!$K240,COLUMNS(COUNTIES!$D$2:L240)),\"\")","v":""}]
[{"$f":"ROWS($E$2:E241)","v":240},{"$f":"IF(E241=WORKSHEET!$B$2,A241,\"\")","v":""},"",{"$f":"IFERROR(INDEX('Base Data wHSA (NCI Modified)'!$L$2:'Base Data wHSA (NCI Modified)'!$T$3142,'Base Data wHSA (NCI Modified)'!$K241,COLUMNS(COUNTIES!$D$2:D241)),\"\")","v":""},{"$f":"IFERROR(INDEX('Base Data wHSA (NCI Modified)'!$L$2:'Base Data wHSA (NCI Modified)'!$T$3142,'Base Data wHSA (NCI Modified)'!$K241,COLUMNS(COUNTIES!$D$2:E241)),\"\")","v":""},{"$f":"IFERROR(INDEX('Base Data wHSA (NCI Modified)'!$L$2:'Base Data wHSA (NCI Modified)'!$T$3142,'Base Data wHSA (NCI Modified)'!$K241,COLUMNS(COUNTIES!$D$2:F241)),\"\")","v":""},{"$f":"IFERROR(INDEX('Base Data wHSA (NCI Modified)'!$L$2:'Base Data wHSA (NCI Modified)'!$T$3142,'Base Data wHSA (NCI Modified)'!$K241,COLUMNS(COUNTIES!$D$2:G241)),\"\")","v":""},{"$f":"IFERROR(INDEX('Base Data wHSA (NCI Modified)'!$L$2:'Base Data wHSA (NCI Modified)'!$T$3142,'Base Data wHSA (NCI Modified)'!$K241,COLUMNS(COUNTIES!$D$2:H241)),\"\")","v":""},{"$f":"IFERROR(INDEX('Base Data wHSA (NCI Modified)'!$L$2:'Base Data wHSA (NCI Modified)'!$T$3142,'Base Data wHSA (NCI Modified)'!$K241,COLUMNS(COUNTIES!$D$2:I241)),\"\")","v":""},{"$f":"IFERROR(INDEX('Base Data wHSA (NCI Modified)'!$L$2:'Base Data wHSA (NCI Modified)'!$T$3142,'Base Data wHSA (NCI Modified)'!$K241,COLUMNS(COUNTIES!$D$2:J241)),\"\")","v":""},{"$f":"IFERROR(INDEX('Base Data wHSA (NCI Modified)'!$L$2:'Base Data wHSA (NCI Modified)'!$T$3142,'Base Data wHSA (NCI Modified)'!$K241,COLUMNS(COUNTIES!$D$2:K241)),\"\")","v":""},{"$f":"IFERROR(INDEX('Base Data wHSA (NCI Modified)'!$L$2:'Base Data wHSA (NCI Modified)'!$T$3142,'Base Data wHSA (NCI Modified)'!$K241,COLUMNS(COUNTIES!$D$2:L241)),\"\")","v":""}]
[{"$f":"ROWS($E$2:E242)","v":241},{"$f":"IF(E242=WORKSHEET!$B$2,A242,\"\")","v":""},"",{"$f":"IFERROR(INDEX('Base Data wHSA (NCI Modified)'!$L$2:'Base Data wHSA (NCI Modified)'!$T$3142,'Base Data wHSA (NCI Modified)'!$K242,COLUMNS(COUNTIES!$D$2:D242)),\"\")","v":""},{"$f":"IFERROR(INDEX('Base Data wHSA (NCI Modified)'!$L$2:'Base Data wHSA (NCI Modified)'!$T$3142,'Base Data wHSA (NCI Modified)'!$K242,COLUMNS(COUNTIES!$D$2:E242)),\"\")","v":""},{"$f":"IFERROR(INDEX('Base Data wHSA (NCI Modified)'!$L$2:'Base Data wHSA (NCI Modified)'!$T$3142,'Base Data wHSA (NCI Modified)'!$K242,COLUMNS(COUNTIES!$D$2:F242)),\"\")","v":""},{"$f":"IFERROR(INDEX('Base Data wHSA (NCI Modified)'!$L$2:'Base Data wHSA (NCI Modified)'!$T$3142,'Base Data wHSA (NCI Modified)'!$K242,COLUMNS(COUNTIES!$D$2:G242)),\"\")","v":""},{"$f":"IFERROR(INDEX('Base Data wHSA (NCI Modified)'!$L$2:'Base Data wHSA (NCI Modified)'!$T$3142,'Base Data wHSA (NCI Modified)'!$K242,COLUMNS(COUNTIES!$D$2:H242)),\"\")","v":""},{"$f":"IFERROR(INDEX('Base Data wHSA (NCI Modified)'!$L$2:'Base Data wHSA (NCI Modified)'!$T$3142,'Base Data wHSA (NCI Modified)'!$K242,COLUMNS(COUNTIES!$D$2:I242)),\"\")","v":""},{"$f":"IFERROR(INDEX('Base Data wHSA (NCI Modified)'!$L$2:'Base Data wHSA (NCI Modified)'!$T$3142,'Base Data wHSA (NCI Modified)'!$K242,COLUMNS(COUNTIES!$D$2:J242)),\"\")","v":""},{"$f":"IFERROR(INDEX('Base Data wHSA (NCI Modified)'!$L$2:'Base Data wHSA (NCI Modified)'!$T$3142,'Base Data wHSA (NCI Modified)'!$K242,COLUMNS(COUNTIES!$D$2:K242)),\"\")","v":""},{"$f":"IFERROR(INDEX('Base Data wHSA (NCI Modified)'!$L$2:'Base Data wHSA (NCI Modified)'!$T$3142,'Base Data wHSA (NCI Modified)'!$K242,COLUMNS(COUNTIES!$D$2:L242)),\"\")","v":""}]
[{"$f":"ROWS($E$2:E243)","v":242},{"$f":"IF(E243=WORKSHEET!$B$2,A243,\"\")","v":""},"",{"$f":"IFERROR(INDEX('Base Data wHSA (NCI Modified)'!$L$2:'Base Data wHSA (NCI Modified)'!$T$3142,'Base Data wHSA (NCI Modified)'!$K243,COLUMNS(COUNTIES!$D$2:D243)),\"\")","v":""},{"$f":"IFERROR(INDEX('Base Data wHSA (NCI Modified)'!$L$2:'Base Data wHSA (NCI Modified)'!$T$3142,'Base Data wHSA (NCI Modified)'!$K243,COLUMNS(COUNTIES!$D$2:E243)),\"\")","v":""},{"$f":"IFERROR(INDEX('Base Data wHSA (NCI Modified)'!$L$2:'Base Data wHSA (NCI Modified)'!$T$3142,'Base Data wHSA (NCI Modified)'!$K243,COLUMNS(COUNTIES!$D$2:F243)),\"\")","v":""},{"$f":"IFERROR(INDEX('Base Data wHSA (NCI Modified)'!$L$2:'Base Data wHSA (NCI Modified)'!$T$3142,'Base Data wHSA (NCI Modified)'!$K243,COLUMNS(COUNTIES!$D$2:G243)),\"\")","v":""},{"$f":"IFERROR(INDEX('Base Data wHSA (NCI Modified)'!$L$2:'Base Data wHSA (NCI Modified)'!$T$3142,'Base Data wHSA (NCI Modified)'!$K243,COLUMNS(COUNTIES!$D$2:H243)),\"\")","v":""},{"$f":"IFERROR(INDEX('Base Data wHSA (NCI Modified)'!$L$2:'Base Data wHSA (NCI Modified)'!$T$3142,'Base Data wHSA (NCI Modified)'!$K243,COLUMNS(COUNTIES!$D$2:I243)),\"\")","v":""},{"$f":"IFERROR(INDEX('Base Data wHSA (NCI Modified)'!$L$2:'Base Data wHSA (NCI Modified)'!$T$3142,'Base Data wHSA (NCI Modified)'!$K243,COLUMNS(COUNTIES!$D$2:J243)),\"\")","v":""},{"$f":"IFERROR(INDEX('Base Data wHSA (NCI Modified)'!$L$2:'Base Data wHSA (NCI Modified)'!$T$3142,'Base Data wHSA (NCI Modified)'!$K243,COLUMNS(COUNTIES!$D$2:K243)),\"\")","v":""},{"$f":"IFERROR(INDEX('Base Data wHSA (NCI Modified)'!$L$2:'Base Data wHSA (NCI Modified)'!$T$3142,'Base Data wHSA (NCI Modified)'!$K243,COLUMNS(COUNTIES!$D$2:L243)),\"\")","v":""}]
[{"$f":"ROWS($E$2:E244)","v":243},{"$f":"IF(E244=WORKSHEET!$B$2,A244,\"\")","v":""},"",{"$f":"IFERROR(INDEX('Base Data wHSA (NCI Modified)'!$L$2:'Base Data wHSA (NCI Modified)'!$T$3142,'Base Data wHSA (NCI Modified)'!$K244,COLUMNS(COUNTIES!$D$2:D244)),\"\")","v":""},{"$f":"IFERROR(INDEX('Base Data wHSA (NCI Modified)'!$L$2:'Base Data wHSA (NCI Modified)'!$T$3142,'Base Data wHSA (NCI Modified)'!$K244,COLUMNS(COUNTIES!$D$2:E244)),\"\")","v":""},{"$f":"IFERROR(INDEX('Base Data wHSA (NCI Modified)'!$L$2:'Base Data wHSA (NCI Modified)'!$T$3142,'Base Data wHSA (NCI Modified)'!$K244,COLUMNS(COUNTIES!$D$2:F244)),\"\")","v":""},{"$f":"IFERROR(INDEX('Base Data wHSA (NCI Modified)'!$L$2:'Base Data wHSA (NCI Modified)'!$T$3142,'Base Data wHSA (NCI Modified)'!$K244,COLUMNS(COUNTIES!$D$2:G244)),\"\")","v":""},{"$f":"IFERROR(INDEX('Base Data wHSA (NCI Modified)'!$L$2:'Base Data wHSA (NCI Modified)'!$T$3142,'Base Data wHSA (NCI Modified)'!$K244,COLUMNS(COUNTIES!$D$2:H244)),\"\")","v":""},{"$f":"IFERROR(INDEX('Base Data wHSA (NCI Modified)'!$L$2:'Base Data wHSA (NCI Modified)'!$T$3142,'Base Data wHSA (NCI Modified)'!$K244,COLUMNS(COUNTIES!$D$2:I244)),\"\")","v":""},{"$f":"IFERROR(INDEX('Base Data wHSA (NCI Modified)'!$L$2:'Base Data wHSA (NCI Modified)'!$T$3142,'Base Data wHSA (NCI Modified)'!$K244,COLUMNS(COUNTIES!$D$2:J244)),\"\")","v":""},{"$f":"IFERROR(INDEX('Base Data wHSA (NCI Modified)'!$L$2:'Base Data wHSA (NCI Modified)'!$T$3142,'Base Data wHSA (NCI Modified)'!$K244,COLUMNS(COUNTIES!$D$2:K244)),\"\")","v":""},{"$f":"IFERROR(INDEX('Base Data wHSA (NCI Modified)'!$L$2:'Base Data wHSA (NCI Modified)'!$T$3142,'Base Data wHSA (NCI Modified)'!$K244,COLUMNS(COUNTIES!$D$2:L244)),\"\")","v":""}]
[{"$f":"ROWS($E$2:E245)","v":244},{"$f":"IF(E245=WORKSHEET!$B$2,A245,\"\")","v":""},"",{"$f":"IFERROR(INDEX('Base Data wHSA (NCI Modified)'!$L$2:'Base Data wHSA (NCI Modified)'!$T$3142,'Base Data wHSA (NCI Modified)'!$K245,COLUMNS(COUNTIES!$D$2:D245)),\"\")","v":""},{"$f":"IFERROR(INDEX('Base Data wHSA (NCI Modified)'!$L$2:'Base Data wHSA (NCI Modified)'!$T$3142,'Base Data wHSA (NCI Modified)'!$K245,COLUMNS(COUNTIES!$D$2:E245)),\"\")","v":""},{"$f":"IFERROR(INDEX('Base Data wHSA (NCI Modified)'!$L$2:'Base Data wHSA (NCI Modified)'!$T$3142,'Base Data wHSA (NCI Modified)'!$K245,COLUMNS(COUNTIES!$D$2:F245)),\"\")","v":""},{"$f":"IFERROR(INDEX('Base Data wHSA (NCI Modified)'!$L$2:'Base Data wHSA (NCI Modified)'!$T$3142,'Base Data wHSA (NCI Modified)'!$K245,COLUMNS(COUNTIES!$D$2:G245)),\"\")","v":""},{"$f":"IFERROR(INDEX('Base Data wHSA (NCI Modified)'!$L$2:'Base Data wHSA (NCI Modified)'!$T$3142,'Base Data wHSA (NCI Modified)'!$K245,COLUMNS(COUNTIES!$D$2:H245)),\"\")","v":""},{"$f":"IFERROR(INDEX('Base Data wHSA (NCI Modified)'!$L$2:'Base Data wHSA (NCI Modified)'!$T$3142,'Base Data wHSA (NCI Modified)'!$K245,COLUMNS(COUNTIES!$D$2:I245)),\"\")","v":""},{"$f":"IFERROR(INDEX('Base Data wHSA (NCI Modified)'!$L$2:'Base Data wHSA (NCI Modified)'!$T$3142,'Base Data wHSA (NCI Modified)'!$K245,COLUMNS(COUNTIES!$D$2:J245)),\"\")","v":""},{"$f":"IFERROR(INDEX('Base Data wHSA (NCI Modified)'!$L$2:'Base Data wHSA (NCI Modified)'!$T$3142,'Base Data wHSA (NCI Modified)'!$K245,COLUMNS(COUNTIES!$D$2:K245)),\"\")","v":""},{"$f":"IFERROR(INDEX('Base Data wHSA (NCI Modified)'!$L$2:'Base Data wHSA (NCI Modified)'!$T$3142,'Base Data wHSA (NCI Modified)'!$K245,COLUMNS(COUNTIES!$D$2:L245)),\"\")","v":""}]
[{"$f":"ROWS($E$2:E246)","v":245},{"$f":"IF(E246=WORKSHEET!$B$2,A246,\"\")","v":""},"",{"$f":"IFERROR(INDEX('Base Data wHSA (NCI Modified)'!$L$2:'Base Data wHSA (NCI Modified)'!$T$3142,'Base Data wHSA (NCI Modified)'!$K246,COLUMNS(COUNTIES!$D$2:D246)),\"\")","v":""},{"$f":"IFERROR(INDEX('Base Data wHSA (NCI Modified)'!$L$2:'Base Data wHSA (NCI Modified)'!$T$3142,'Base Data wHSA (NCI Modified)'!$K246,COLUMNS(COUNTIES!$D$2:E246)),\"\")","v":""},{"$f":"IFERROR(INDEX('Base Data wHSA (NCI Modified)'!$L$2:'Base Data wHSA (NCI Modified)'!$T$3142,'Base Data wHSA (NCI Modified)'!$K246,COLUMNS(COUNTIES!$D$2:F246)),\"\")","v":""},{"$f":"IFERROR(INDEX('Base Data wHSA (NCI Modified)'!$L$2:'Base Data wHSA (NCI Modified)'!$T$3142,'Base Data wHSA (NCI Modified)'!$K246,COLUMNS(COUNTIES!$D$2:G246)),\"\")","v":""},{"$f":"IFERROR(INDEX('Base Data wHSA (NCI Modified)'!$L$2:'Base Data wHSA (NCI Modified)'!$T$3142,'Base Data wHSA (NCI Modified)'!$K246,COLUMNS(COUNTIES!$D$2:H246)),\"\")","v":""},{"$f":"IFERROR(INDEX('Base Data wHSA (NCI Modified)'!$L$2:'Base Data wHSA (NCI Modified)'!$T$3142,'Base Data wHSA (NCI Modified)'!$K246,COLUMNS(COUNTIES!$D$2:I246)),\"\")","v":""},{"$f":"IFERROR(INDEX('Base Data wHSA (NCI Modified)'!$L$2:'Base Data wHSA (NCI Modified)'!$T$3142,'Base Data wHSA (NCI Modified)'!$K246,COLUMNS(COUNTIES!$D$2:J246)),\"\")","v":""},{"$f":"IFERROR(INDEX('Base Data wHSA (NCI Modified)'!$L$2:'Base Data wHSA (NCI Modified)'!$T$3142,'Base Data wHSA (NCI Modified)'!$K246,COLUMNS(COUNTIES!$D$2:K246)),\"\")","v":""},{"$f":"IFERROR(INDEX('Base Data wHSA (NCI Modified)'!$L$2:'Base Data wHSA (NCI Modified)'!$T$3142,'Base Data wHSA (NCI Modified)'!$K246,COLUMNS(COUNTIES!$D$2:L246)),\"\")","v":""}]
[{"$f":"ROWS($E$2:E247)","v":246},{"$f":"IF(E247=WORKSHEET!$B$2,A247,\"\")","v":""},"",{"$f":"IFERROR(INDEX('Base Data wHSA (NCI Modified)'!$L$2:'Base Data wHSA (NCI Modified)'!$T$3142,'Base Data wHSA (NCI Modified)'!$K247,COLUMNS(COUNTIES!$D$2:D247)),\"\")","v":""},{"$f":"IFERROR(INDEX('Base Data wHSA (NCI Modified)'!$L$2:'Base Data wHSA (NCI Modified)'!$T$3142,'Base Data wHSA (NCI Modified)'!$K247,COLUMNS(COUNTIES!$D$2:E247)),\"\")","v":""},{"$f":"IFERROR(INDEX('Base Data wHSA (NCI Modified)'!$L$2:'Base Data wHSA (NCI Modified)'!$T$3142,'Base Data wHSA (NCI Modified)'!$K247,COLUMNS(COUNTIES!$D$2:F247)),\"\")","v":""},{"$f":"IFERROR(INDEX('Base Data wHSA (NCI Modified)'!$L$2:'Base Data wHSA (NCI Modified)'!$T$3142,'Base Data wHSA (NCI Modified)'!$K247,COLUMNS(COUNTIES!$D$2:G247)),\"\")","v":""},{"$f":"IFERROR(INDEX('Base Data wHSA (NCI Modified)'!$L$2:'Base Data wHSA (NCI Modified)'!$T$3142,'Base Data wHSA (NCI Modified)'!$K247,COLUMNS(COUNTIES!$D$2:H247)),\"\")","v":""},{"$f":"IFERROR(INDEX('Base Data wHSA (NCI Modified)'!$L$2:'Base Data wHSA (NCI Modified)'!$T$3142,'Base Data wHSA (NCI Modified)'!$K247,COLUMNS(COUNTIES!$D$2:I247)),\"\")","v":""},{"$f":"IFERROR(INDEX('Base Data wHSA (NCI Modified)'!$L$2:'Base Data wHSA (NCI Modified)'!$T$3142,'Base Data wHSA (NCI Modified)'!$K247,COLUMNS(COUNTIES!$D$2:J247)),\"\")","v":""},{"$f":"IFERROR(INDEX('Base Data wHSA (NCI Modified)'!$L$2:'Base Data wHSA (NCI Modified)'!$T$3142,'Base Data wHSA (NCI Modified)'!$K247,COLUMNS(COUNTIES!$D$2:K247)),\"\")","v":""},{"$f":"IFERROR(INDEX('Base Data wHSA (NCI Modified)'!$L$2:'Base Data wHSA (NCI Modified)'!$T$3142,'Base Data wHSA (NCI Modified)'!$K247,COLUMNS(COUNTIES!$D$2:L247)),\"\")","v":""}]
[{"$f":"ROWS($E$2:E248)","v":247},{"$f":"IF(E248=WORKSHEET!$B$2,A248,\"\")","v":""},"",{"$f":"IFERROR(INDEX('Base Data wHSA (NCI Modified)'!$L$2:'Base Data wHSA (NCI Modified)'!$T$3142,'Base Data wHSA (NCI Modified)'!$K248,COLUMNS(COUNTIES!$D$2:D248)),\"\")","v":""},{"$f":"IFERROR(INDEX('Base Data wHSA (NCI Modified)'!$L$2:'Base Data wHSA (NCI Modified)'!$T$3142,'Base Data wHSA (NCI Modified)'!$K248,COLUMNS(COUNTIES!$D$2:E248)),\"\")","v":""},{"$f":"IFERROR(INDEX('Base Data wHSA (NCI Modified)'!$L$2:'Base Data wHSA (NCI Modified)'!$T$3142,'Base Data wHSA (NCI Modified)'!$K248,COLUMNS(COUNTIES!$D$2:F248)),\"\")","v":""},{"$f":"IFERROR(INDEX('Base Data wHSA (NCI Modified)'!$L$2:'Base Data wHSA (NCI Modified)'!$T$3142,'Base Data wHSA (NCI Modified)'!$K248,COLUMNS(COUNTIES!$D$2:G248)),\"\")","v":""},{"$f":"IFERROR(INDEX('Base Data wHSA (NCI Modified)'!$L$2:'Base Data wHSA (NCI Modified)'!$T$3142,'Base Data wHSA (NCI Modified)'!$K248,COLUMNS(COUNTIES!$D$2:H248)),\"\")","v":""},{"$f":"IFERROR(INDEX('Base Data wHSA (NCI Modified)'!$L$2:'Base Data wHSA (NCI Modified)'!$T$3142,'Base Data wHSA (NCI Modified)'!$K248,COLUMNS(COUNTIES!$D$2:I248)),\"\")","v":""},{"$f":"IFERROR(INDEX('Base Data wHSA (NCI Modified)'!$L$2:'Base Data wHSA (NCI Modified)'!$T$3142,'Base Data wHSA (NCI Modified)'!$K248,COLUMNS(COUNTIES!$D$2:J248)),\"\")","v":""},{"$f":"IFERROR(INDEX('Base Data wHSA (NCI Modified)'!$L$2:'Base Data wHSA (NCI Modified)'!$T$3142,'Base Data wHSA (NCI Modified)'!$K248,COLUMNS(COUNTIES!$D$2:K248)),\"\")","v":""},{"$f":"IFERROR(INDEX('Base Data wHSA (NCI Modified)'!$L$2:'Base Data wHSA (NCI Modified)'!$T$3142,'Base Data wHSA (NCI Modified)'!$K248,COLUMNS(COUNTIES!$D$2:L248)),\"\")","v":""}]
[{"$f":"ROWS($E$2:E249)","v":248},{"$f":"IF(E249=WORKSHEET!$B$2,A249,\"\")","v":""},"",{"$f":"IFERROR(INDEX('Base Data wHSA (NCI Modified)'!$L$2:'Base Data wHSA (NCI Modified)'!$T$3142,'Base Data wHSA (NCI Modified)'!$K249,COLUMNS(COUNTIES!$D$2:D249)),\"\")","v":""},{"$f":"IFERROR(INDEX('Base Data wHSA (NCI Modified)'!$L$2:'Base Data wHSA (NCI Modified)'!$T$3142,'Base Data wHSA (NCI Modified)'!$K249,COLUMNS(COUNTIES!$D$2:E249)),\"\")","v":""},{"$f":"IFERROR(INDEX('Base Data wHSA (NCI Modified)'!$L$2:'Base Data wHSA (NCI Modified)'!$T$3142,'Base Data wHSA (NCI Modified)'!$K249,COLUMNS(COUNTIES!$D$2:F249)),\"\")","v":""},{"$f":"IFERROR(INDEX('Base Data wHSA (NCI Modified)'!$L$2:'Base Data wHSA (NCI Modified)'!$T$3142,'Base Data wHSA (NCI Modified)'!$K249,COLUMNS(COUNTIES!$D$2:G249)),\"\")","v":""},{"$f":"IFERROR(INDEX('Base Data wHSA (NCI Modified)'!$L$2:'Base Data wHSA (NCI Modified)'!$T$3142,'Base Data wHSA (NCI Modified)'!$K249,COLUMNS(COUNTIES!$D$2:H249)),\"\")","v":""},{"$f":"IFERROR(INDEX('Base Data wHSA (NCI Modified)'!$L$2:'Base Data wHSA (NCI Modified)'!$T$3142,'Base Data wHSA (NCI Modified)'!$K249,COLUMNS(COUNTIES!$D$2:I249)),\"\")","v":""},{"$f":"IFERROR(INDEX('Base Data wHSA (NCI Modified)'!$L$2:'Base Data wHSA (NCI Modified)'!$T$3142,'Base Data wHSA (NCI Modified)'!$K249,COLUMNS(COUNTIES!$D$2:J249)),\"\")","v":""},{"$f":"IFERROR(INDEX('Base Data wHSA (NCI Modified)'!$L$2:'Base Data wHSA (NCI Modified)'!$T$3142,'Base Data wHSA (NCI Modified)'!$K249,COLUMNS(COUNTIES!$D$2:K249)),\"\")","v":""},{"$f":"IFERROR(INDEX('Base Data wHSA (NCI Modified)'!$L$2:'Base Data wHSA (NCI Modified)'!$T$3142,'Base Data wHSA (NCI Modified)'!$K249,COLUMNS(COUNTIES!$D$2:L249)),\"\")","v":""}]
[{"$f":"ROWS($E$2:E250)","v":249},{"$f":"IF(E250=WORKSHEET!$B$2,A250,\"\")","v":""},"",{"$f":"IFERROR(INDEX('Base Data wHSA (NCI Modified)'!$L$2:'Base Data wHSA (NCI Modified)'!$T$3142,'Base Data wHSA (NCI Modified)'!$K250,COLUMNS(COUNTIES!$D$2:D250)),\"\")","v":""},{"$f":"IFERROR(INDEX('Base Data wHSA (NCI Modified)'!$L$2:'Base Data wHSA (NCI Modified)'!$T$3142,'Base Data wHSA (NCI Modified)'!$K250,COLUMNS(COUNTIES!$D$2:E250)),\"\")","v":""},{"$f":"IFERROR(INDEX('Base Data wHSA (NCI Modified)'!$L$2:'Base Data wHSA (NCI Modified)'!$T$3142,'Base Data wHSA (NCI Modified)'!$K250,COLUMNS(COUNTIES!$D$2:F250)),\"\")","v":""},{"$f":"IFERROR(INDEX('Base Data wHSA (NCI Modified)'!$L$2:'Base Data wHSA (NCI Modified)'!$T$3142,'Base Data wHSA (NCI Modified)'!$K250,COLUMNS(COUNTIES!$D$2:G250)),\"\")","v":""},{"$f":"IFERROR(INDEX('Base Data wHSA (NCI Modified)'!$L$2:'Base Data wHSA (NCI Modified)'!$T$3142,'Base Data wHSA (NCI Modified)'!$K250,COLUMNS(COUNTIES!$D$2:H250)),\"\")","v":""},{"$f":"IFERROR(INDEX('Base Data wHSA (NCI Modified)'!$L$2:'Base Data wHSA (NCI Modified)'!$T$3142,'Base Data wHSA (NCI Modified)'!$K250,COLUMNS(COUNTIES!$D$2:I250)),\"\")","v":""},{"$f":"IFERROR(INDEX('Base Data wHSA (NCI Modified)'!$L$2:'Base Data wHSA (NCI Modified)'!$T$3142,'Base Data wHSA (NCI Modified)'!$K250,COLUMNS(COUNTIES!$D$2:J250)),\"\")","v":""},{"$f":"IFERROR(INDEX('Base Data wHSA (NCI Modified)'!$L$2:'Base Data wHSA (NCI Modified)'!$T$3142,'Base Data wHSA (NCI Modified)'!$K250,COLUMNS(COUNTIES!$D$2:K250)),\"\")","v":""},{"$f":"IFERROR(INDEX('Base Data wHSA (NCI Modified)'!$L$2:'Base Data wHSA (NCI Modified)'!$T$3142,'Base Data wHSA (NCI Modified)'!$K250,COLUMNS(COUNTIES!$D$2:L250)),\"\")","v":""}]
[{"$f":"ROWS($E$2:E251)","v":250},{"$f":"IF(E251=WORKSHEET!$B$2,A251,\"\")","v":""},"",{"$f":"IFERROR(INDEX('Base Data wHSA (NCI Modified)'!$L$2:'Base Data wHSA (NCI Modified)'!$T$3142,'Base Data wHSA (NCI Modified)'!$K251,COLUMNS(COUNTIES!$D$2:D251)),\"\")","v":""},{"$f":"IFERROR(INDEX('Base Data wHSA (NCI Modified)'!$L$2:'Base Data wHSA (NCI Modified)'!$T$3142,'Base Data wHSA (NCI Modified)'!$K251,COLUMNS(COUNTIES!$D$2:E251)),\"\")","v":""},{"$f":"IFERROR(INDEX('Base Data wHSA (NCI Modified)'!$L$2:'Base Data wHSA (NCI Modified)'!$T$3142,'Base Data wHSA (NCI Modified)'!$K251,COLUMNS(COUNTIES!$D$2:F251)),\"\")","v":""},{"$f":"IFERROR(INDEX('Base Data wHSA (NCI Modified)'!$L$2:'Base Data wHSA (NCI Modified)'!$T$3142,'Base Data wHSA (NCI Modified)'!$K251,COLUMNS(COUNTIES!$D$2:G251)),\"\")","v":""},{"$f":"IFERROR(INDEX('Base Data wHSA (NCI Modified)'!$L$2:'Base Data wHSA (NCI Modified)'!$T$3142,'Base Data wHSA (NCI Modified)'!$K251,COLUMNS(COUNTIES!$D$2:H251)),\"\")","v":""},{"$f":"IFERROR(INDEX('Base Data wHSA (NCI Modified)'!$L$2:'Base Data wHSA (NCI Modified)'!$T$3142,'Base Data wHSA (NCI Modified)'!$K251,COLUMNS(COUNTIES!$D$2:I251)),\"\")","v":""},{"$f":"IFERROR(INDEX('Base Data wHSA (NCI Modified)'!$L$2:'Base Data wHSA (NCI Modified)'!$T$3142,'Base Data wHSA (NCI Modified)'!$K251,COLUMNS(COUNTIES!$D$2:J251)),\"\")","v":""},{"$f":"IFERROR(INDEX('Base Data wHSA (NCI Modified)'!$L$2:'Base Data wHSA (NCI Modified)'!$T$3142,'Base Data wHSA (NCI Modified)'!$K251,COLUMNS(COUNTIES!$D$2:K251)),\"\")","v":""},{"$f":"IFERROR(INDEX('Base Data wHSA (NCI Modified)'!$L$2:'Base Data wHSA (NCI Modified)'!$T$3142,'Base Data wHSA (NCI Modified)'!$K251,COLUMNS(COUNTIES!$D$2:L251)),\"\")","v":""}]
[{"$f":"ROWS($E$2:E252)","v":251},{"$f":"IF(E252=WORKSHEET!$B$2,A252,\"\")","v":""},"",{"$f":"IFERROR(INDEX('Base Data wHSA (NCI Modified)'!$L$2:'Base Data wHSA (NCI Modified)'!$T$3142,'Base Data wHSA (NCI Modified)'!$K252,COLUMNS(COUNTIES!$D$2:D252)),\"\")","v":""},{"$f":"IFERROR(INDEX('Base Data wHSA (NCI Modified)'!$L$2:'Base Data wHSA (NCI Modified)'!$T$3142,'Base Data wHSA (NCI Modified)'!$K252,COLUMNS(COUNTIES!$D$2:E252)),\"\")","v":""},{"$f":"IFERROR(INDEX('Base Data wHSA (NCI Modified)'!$L$2:'Base Data wHSA (NCI Modified)'!$T$3142,'Base Data wHSA (NCI Modified)'!$K252,COLUMNS(COUNTIES!$D$2:F252)),\"\")","v":""},{"$f":"IFERROR(INDEX('Base Data wHSA (NCI Modified)'!$L$2:'Base Data wHSA (NCI Modified)'!$T$3142,'Base Data wHSA (NCI Modified)'!$K252,COLUMNS(COUNTIES!$D$2:G252)),\"\")","v":""},{"$f":"IFERROR(INDEX('Base Data wHSA (NCI Modified)'!$L$2:'Base Data wHSA (NCI Modified)'!$T$3142,'Base Data wHSA (NCI Modified)'!$K252,COLUMNS(COUNTIES!$D$2:H252)),\"\")","v":""},{"$f":"IFERROR(INDEX('Base Data wHSA (NCI Modified)'!$L$2:'Base Data wHSA (NCI Modified)'!$T$3142,'Base Data wHSA (NCI Modified)'!$K252,COLUMNS(COUNTIES!$D$2:I252)),\"\")","v":""},{"$f":"IFERROR(INDEX('Base Data wHSA (NCI Modified)'!$L$2:'Base Data wHSA (NCI Modified)'!$T$3142,'Base Data wHSA (NCI Modified)'!$K252,COLUMNS(COUNTIES!$D$2:J252)),\"\")","v":""},{"$f":"IFERROR(INDEX('Base Data wHSA (NCI Modified)'!$L$2:'Base Data wHSA (NCI Modified)'!$T$3142,'Base Data wHSA (NCI Modified)'!$K252,COLUMNS(COUNTIES!$D$2:K252)),\"\")","v":""},{"$f":"IFERROR(INDEX('Base Data wHSA (NCI Modified)'!$L$2:'Base Data wHSA (NCI Modified)'!$T$3142,'Base Data wHSA (NCI Modified)'!$K252,COLUMNS(COUNTIES!$D$2:L252)),\"\")","v":""}]
[{"$f":"ROWS($E$2:E253)","v":252},{"$f":"IF(E253=WORKSHEET!$B$2,A253,\"\")","v":""},"",{"$f":"IFERROR(INDEX('Base Data wHSA (NCI Modified)'!$L$2:'Base Data wHSA (NCI Modified)'!$T$3142,'Base Data wHSA (NCI Modified)'!$K253,COLUMNS(COUNTIES!$D$2:D253)),\"\")","v":""},{"$f":"IFERROR(INDEX('Base Data wHSA (NCI Modified)'!$L$2:'Base Data wHSA (NCI Modified)'!$T$3142,'Base Data wHSA (NCI Modified)'!$K253,COLUMNS(COUNTIES!$D$2:E253)),\"\")","v":""},{"$f":"IFERROR(INDEX('Base Data wHSA (NCI Modified)'!$L$2:'Base Data wHSA (NCI Modified)'!$T$3142,'Base Data wHSA (NCI Modified)'!$K253,COLUMNS(COUNTIES!$D$2:F253)),\"\")","v":""},{"$f":"IFERROR(INDEX('Base Data wHSA (NCI Modified)'!$L$2:'Base Data wHSA (NCI Modified)'!$T$3142,'Base Data wHSA (NCI Modified)'!$K253,COLUMNS(COUNTIES!$D$2:G253)),\"\")","v":""},{"$f":"IFERROR(INDEX('Base Data wHSA (NCI Modified)'!$L$2:'Base Data wHSA (NCI Modified)'!$T$3142,'Base Data wHSA (NCI Modified)'!$K253,COLUMNS(COUNTIES!$D$2:H253)),\"\")","v":""},{"$f":"IFERROR(INDEX('Base Data wHSA (NCI Modified)'!$L$2:'Base Data wHSA (NCI Modified)'!$T$3142,'Base Data wHSA (NCI Modified)'!$K253,COLUMNS(COUNTIES!$D$2:I253)),\"\")","v":""},{"$f":"IFERROR(INDEX('Base Data wHSA (NCI Modified)'!$L$2:'Base Data wHSA (NCI Modified)'!$T$3142,'Base Data wHSA (NCI Modified)'!$K253,COLUMNS(COUNTIES!$D$2:J253)),\"\")","v":""},{"$f":"IFERROR(INDEX('Base Data wHSA (NCI Modified)'!$L$2:'Base Data wHSA (NCI Modified)'!$T$3142,'Base Data wHSA (NCI Modified)'!$K253,COLUMNS(COUNTIES!$D$2:K253)),\"\")","v":""},{"$f":"IFERROR(INDEX('Base Data wHSA (NCI Modified)'!$L$2:'Base Data wHSA (NCI Modified)'!$T$3142,'Base Data wHSA (NCI Modified)'!$K253,COLUMNS(COUNTIES!$D$2:L253)),\"\")","v":""}]
[{"$f":"ROWS($E$2:E254)","v":253},{"$f":"IF(E254=WORKSHEET!$B$2,A254,\"\")","v":""},"",{"$f":"IFERROR(INDEX('Base Data wHSA (NCI Modified)'!$L$2:'Base Data wHSA (NCI Modified)'!$T$3142,'Base Data wHSA (NCI Modified)'!$K254,COLUMNS(COUNTIES!$D$2:D254)),\"\")","v":""},{"$f":"IFERROR(INDEX('Base Data wHSA (NCI Modified)'!$L$2:'Base Data wHSA (NCI Modified)'!$T$3142,'Base Data wHSA (NCI Modified)'!$K254,COLUMNS(COUNTIES!$D$2:E254)),\"\")","v":""},{"$f":"IFERROR(INDEX('Base Data wHSA (NCI Modified)'!$L$2:'Base Data wHSA (NCI Modified)'!$T$3142,'Base Data wHSA (NCI Modified)'!$K254,COLUMNS(COUNTIES!$D$2:F254)),\"\")","v":""},{"$f":"IFERROR(INDEX('Base Data wHSA (NCI Modified)'!$L$2:'Base Data wHSA (NCI Modified)'!$T$3142,'Base Data wHSA (NCI Modified)'!$K254,COLUMNS(COUNTIES!$D$2:G254)),\"\")","v":""},{"$f":"IFERROR(INDEX('Base Data wHSA (NCI Modified)'!$L$2:'Base Data wHSA (NCI Modified)'!$T$3142,'Base Data wHSA (NCI Modified)'!$K254,COLUMNS(COUNTIES!$D$2:H254)),\"\")","v":""},{"$f":"IFERROR(INDEX('Base Data wHSA (NCI Modified)'!$L$2:'Base Data wHSA (NCI Modified)'!$T$3142,'Base Data wHSA (NCI Modified)'!$K254,COLUMNS(COUNTIES!$D$2:I254)),\"\")","v":""},{"$f":"IFERROR(INDEX('Base Data wHSA (NCI Modified)'!$L$2:'Base Data wHSA (NCI Modified)'!$T$3142,'Base Data wHSA (NCI Modified)'!$K254,COLUMNS(COUNTIES!$D$2:J254)),\"\")","v":""},{"$f":"IFERROR(INDEX('Base Data wHSA (NCI Modified)'!$L$2:'Base Data wHSA (NCI Modified)'!$T$3142,'Base Data wHSA (NCI Modified)'!$K254,COLUMNS(COUNTIES!$D$2:K254)),\"\")","v":""},{"$f":"IFERROR(INDEX('Base Data wHSA (NCI Modified)'!$L$2:'Base Data wHSA (NCI Modified)'!$T$3142,'Base Data wHSA (NCI Modified)'!$K254,COLUMNS(COUNTIES!$D$2:L254)),\"\")","v":""}]
[{"$f":"ROWS($E$2:E255)","v":254},{"$f":"IF(E255=WORKSHEET!$B$2,A255,\"\")","v":""},"",{"$f":"IFERROR(INDEX('Base Data wHSA (NCI Modified)'!$L$2:'Base Data wHSA (NCI Modified)'!$T$3142,'Base Data wHSA (NCI Modified)'!$K255,COLUMNS(COUNTIES!$D$2:D255)),\"\")","v":""},{"$f":"IFERROR(INDEX('Base Data wHSA (NCI Modified)'!$L$2:'Base Data wHSA (NCI Modified)'!$T$3142,'Base Data wHSA (NCI Modified)'!$K255,COLUMNS(COUNTIES!$D$2:E255)),\"\")","v":""},{"$f":"IFERROR(INDEX('Base Data wHSA (NCI Modified)'!$L$2:'Base Data wHSA (NCI Modified)'!$T$3142,'Base Data wHSA (NCI Modified)'!$K255,COLUMNS(COUNTIES!$D$2:F255)),\"\")","v":""},{"$f":"IFERROR(INDEX('Base Data wHSA (NCI Modified)'!$L$2:'Base Data wHSA (NCI Modified)'!$T$3142,'Base Data wHSA (NCI Modified)'!$K255,COLUMNS(COUNTIES!$D$2:G255)),\"\")","v":""},{"$f":"IFERROR(INDEX('Base Data wHSA (NCI Modified)'!$L$2:'Base Data wHSA (NCI Modified)'!$T$3142,'Base Data wHSA (NCI Modified)'!$K255,COLUMNS(COUNTIES!$D$2:H255)),\"\")","v":""},{"$f":"IFERROR(INDEX('Base Data wHSA (NCI Modified)'!$L$2:'Base Data wHSA (NCI Modified)'!$T$3142,'Base Data wHSA (NCI Modified)'!$K255,COLUMNS(COUNTIES!$D$2:I255)),\"\")","v":""},{"$f":"IFERROR(INDEX('Base Data wHSA (NCI Modified)'!$L$2:'Base Data wHSA (NCI Modified)'!$T$3142,'Base Data wHSA (NCI Modified)'!$K255,COLUMNS(COUNTIES!$D$2:J255)),\"\")","v":""},{"$f":"IFERROR(INDEX('Base Data wHSA (NCI Modified)'!$L$2:'Base Data wHSA (NCI Modified)'!$T$3142,'Base Data wHSA (NCI Modified)'!$K255,COLUMNS(COUNTIES!$D$2:K255)),\"\")","v":""},{"$f":"IFERROR(INDEX('Base Data wHSA (NCI Modified)'!$L$2:'Base Data wHSA (NCI Modified)'!$T$3142,'Base Data wHSA (NCI Modified)'!$K255,COLUMNS(COUNTIES!$D$2:L255)),\"\")","v":""}]

{"sheet":"LOOKUP","index":4,"n_rows":2,"n_cols":9,"rows_kept":2,"cut":false,"hidden":true,"merged":[]}
["STATE","COUNTY","HD","PD","UNK","TX","N=","Average Annual Compound Growth Rate","%PD of HD+PD based on HS Area"]
[{"$f":"IFERROR(INDEX(COUNTIES!$D$2:'COUNTIES'!$L$255,COUNTIES!$C2,COLUMNS($A$2:A2)),\"\")","v":""},{"$f":"IFERROR(INDEX(COUNTIES!$D$2:'COUNTIES'!$L$255,COUNTIES!$C2,COLUMNS($A$2:B2)),\"\")","v":""},{"$f":"IFERROR(INDEX(COUNTIES!$D$2:'COUNTIES'!$L$255,COUNTIES!$C2,COLUMNS($A$2:C2)),\"\")","v":""},{"$f":"IFERROR(INDEX(COUNTIES!$D$2:'COUNTIES'!$L$255,COUNTIES!$C2,COLUMNS($A$2:D2)),\"\")","v":""},{"$f":"IFERROR(INDEX(COUNTIES!$D$2:'COUNTIES'!$L$255,COUNTIES!$C2,COLUMNS($A$2:E2)),\"\")","v":""},{"$f":"IFERROR(INDEX(COUNTIES!$D$2:'COUNTIES'!$L$255,COUNTIES!$C2,COLUMNS($A$2:F2)),\"\")","v":""},{"$f":"IFERROR(INDEX(COUNTIES!$D$2:'COUNTIES'!$L$255,COUNTIES!$C2,COLUMNS($A$2:G2)),\"\")","v":""},{"$f":"IFERROR(INDEX(COUNTIES!$D$2:'COUNTIES'!$L$255,COUNTIES!$C2,COLUMNS($A$2:H2)),\"\")","v":""},{"$f":"IFERROR(INDEX(COUNTIES!$D$2:'COUNTIES'!$L$255,COUNTIES!$C2,COLUMNS($A$2:I2)),\"\")","v":""}]

{"sheet":"INPUT","index":5,"n_rows":36,"n_cols":11,"rows_kept":36,"cut":false,"hidden":false,"merged":[[0,1,1,11],[3,1,3,11],[5,1,5,11],[7,1,7,11],[31,8,31,9],[8,10,8,11],[16,9,16,10],[19,7,19,10],[35,8,35,9],[12,7,12,10],[14,7,14,10],[17,9,17,10],[27,2,30,7],[28,8,28,9],[27,8,27,9],[27,10,27,11],[35,2,36,7]]}
[null,"TCRP REPORT 203\nTRANSPORTATION TO DIALYSIS FACILITIES"]
[]
[]
[null,"COMMUNITY DATA TOOL TO ESTIMATE DIALYSIS TRIPS AND COSTS\nUSER INPUT"]
[]
[null,"Please provide input in the highlighted boxes for each of the information requests or accept the default values as shown. "]
[]
[null,"NOTE: Please enable editing and content for full functionality. First-time users of the Community Data Tool should read the User's Guide for complete information on the tool including user-defined input, default values, and tool output."]
[]
[]
[null,"ABOUT YOUR COMMUNITY"]
[]
[null,"1.","Provide your State:"]
[]
[null,"2.","Provide your County:"]
[]
[null,"3.","Do you serve the entire County?"]
[null,null,"If not, what percentage of the county's population do you serve?"]
[]
[null,"4.","Would you consider your community to be:"]
[null,null,"Large Urban Area (Over 1M population)"]
[null,null,"Large City (200,000 - 1M population)"]
[null,null,"Small City (50,000 - 200,000 population)"]
[null,null,"Rural Area (less than 50,000 population)"]
[]
[null,"ABOUT THE MONEY"]
[]
[null,"5.","Provide an estimate of the cost for a one-way public sector trip in your community. If not available, the tool will use the default value shown.",null,null,null,null,null,null,null,"(estimate)"]
[null,null,null,null,null,null,null,null,{"$f":"IF(WORKSHEET!B5=COMMUNITYSIZE!A1,COMMUNITYSIZE!B1,IF(WORKSHEET!B5=COMMUNITYSIZE!A2,COMMUNITYSIZE!B2,IF(WORKSHEET!B5=COMMUNITYSIZE!A3,COMMUNITYSIZE!B3,IF(WORKSHEET!B5=COMMUNITYSIZE!A4,COMMUNITYSIZE!B4,\"Select Community Size\"))))","v":"Select Community Size"},null,"(default)"]
[]
[]
[null,"6.","Provide the projected year:"]
[]
[null,"IN HOME DIALYSIS - \"WHAT IF\" SCENARIO"]
[]
[null,"7.","Provide a potential % rate increase in home dialysis  that may be achieveable in the community."]

{"sheet":"OUTPUT","index":6,"n_rows":50,"n_cols":10,"rows_kept":50,"cut":false,"hidden":false,"merged":[[13,9,13,10],[15,9,15,10],[25,2,26,8],[25,9,25,10],[22,2,23,8],[13,2,14,8],[15,2,16,8],[49,9,49,10],[20,9,20,10],[22,9,22,10],[46,2,47,8],[46,9,46,10],[41,9,41,10],[36,9,36,10],[33,9,33,10],[43,9,43,10],[28,2,29,8],[28,9,28,10],[36,2,37,8],[41,2,41,8],[49,2,50,8],[33,2,34,8],[8,1,8,2],[8,3,8,5],[6,7,6,8],[6,9,6,10],[0,0,1,11],[3,0,3,11],[6,1,6,2],[7,1,7,2],[6,3,6,5],[7,3,7,5]]}
["TCRP REPORT 203\nTRANSPORTATION TO DIALYSIS FACILITIES"]
[]
[]
["COMMUNITY DATA TOOL TO ESTIMATE DIALYSIS TRIPS AND COSTS\nOUTPUT REPORT"]
[]
[]
[null,"STATE:",null,{"$f":"WORKSHEET!B1","v":0},null,null,null,"PROJECTED YEAR:",null,{"$f":"WORKSHEET!B8","v":0}]
[null,"COUNTY:",null,{"$f":"WORKSHEET!B2","v":0}]
[null,"COMMUNITY TYPE:",null,{"$f":"WORKSHEET!B5","v":0}]
[]
[]
[null,"ESRD PATIENTS ON DIALYSIS IN YOUR COMMUNITY"]
[]
[null,"1.","Estimated total number of ESRD patients on dialysis in 2015.",null,null,null,null,null,null,{"$f":"IFERROR((LOOKUP!C2+LOOKUP!D2)*WORKSHEET!B4,\"Data Not Available\")","v":"Data Not Available"}]
[]
[null,"2.","Estimated total number of ESRD patients on dialysis in projected year.",null,null,null,null,null,null,{"$f":"IFERROR(J14*EXP(LOOKUP!H2*(WORKSHEET!B8-WORKSHEET!B7)),\"Data Not Available\")","v":"Data Not Available"}]
[]
[]
[null,"TRANSPORTATION NEEDS OF ESRD PATIENTS IN YOUR COMMUNITY"]
[]
[null,"3.","Estimated ESRD patients traveling to dialysis centers in 2015.",null,null,null,null,null,null,{"$f":"IFERROR(IF(LOOKUP!C2=\"*\",\"Data Not Available\",LOOKUP!C2*WORKSHEET!B4),\"Data Not Available\")","v":"Data Not Available"}]
[]
[null,"4.","Estimated ESRD patients traveling to dialysis centers in projected year.",null,null,null,null,null,null,{"$f":"IFERROR(J21*EXP(LOOKUP!H2*(WORKSHEET!B8-WORKSHEET!B7)),\"Data Not Available\")","v":"Data Not Available"}]
[]
[]
[null,"5.","Estimated one-way ESRD dialysis trips needed (annually) on public sector in 2015. (Unconstrained) ",null,null,null,null,null,null,{"$f":"IFERROR((J21*312)*0.5,\"Data Not Available\")","v":"Data Not Available"}]
[]
[]
[null,"6.","Estimated one-way ESRD dialysis trips needed (annually) on public sector in projected year. (Unconstrained)",null,null,null,null,null,null,{"$f":"IFERROR((J23*312)*0.5,\"Data Not Available\")","v":"Data Not Available"}]
[]
[]
[null,"PUBLIC SECTOR COSTS (2016 Dollars)"]
[]
[null,"7.","Estimated cost of public sector trips needed in 2015. (Unconstrained).",null,null,null,null,null,null,{"$f":"IFERROR(WORKSHEET!B6*J26,\"Data Not Available\")","v":"Data Not Available"}]
[]
[]
[null,"8.","Estimated cost of public sector trips needed in projected year. (Unconstrained)",null,null,null,null,null,null,{"$f":"IFERROR(WORKSHEET!B6*J29,\"Data Not Available\")","v":"Data Not Available"}]
[]
[]
[null,"IMPACT OF INCREASED HOME DIALYSIS RATE IN PROJECTED YEAR - \"WHAT IF\" SCENARIO"]
[]
[null,"9.","Percentage of patients using home dialysis in HSA in 2015.",null,null,null,null,null,null,{"$f":"IF(J14=\"Data Not Available\",\"Data Not Available\",IF(J14=0,0,LOOKUP!I2))","v":"Data Not Available"}]
[]
[null,"10.","Percentage of patients on home dialysis if rate increased by",null,null,null,null,null,null,{"$f":"IF(J42=\"Data Not Available\",\"Data Not Available\",J42*(1+INPUT!I36))","v":"Data Not Available"}]
[null,null,{"$f":"(INPUT!I36*100)&\"%.\"","v":"0%."}]
[]
[null,"11.","Estimated decrease in one-way public sector trips (annually) with the increased rate of home dialysis.",null,null,null,null,null,null,{"$f":"IFERROR((((J16*(1+J44)-J16*(1+J42))*312)/2),\"Data Not Available\")","v":"Data Not Available"}]
[]
[]
[null,"12.","Estimated reduction in public sector costs for transportation (annually).",null,null,null,null,null,null,{"$f":"IF(J47=\"Data Not Available\",\"Data Not Available\",J47*WORKSHEET!B6)","v":"Data Not Available"}]

{"sheet":"WORKSHEET","index":7,"n_rows":9,"n_cols":2,"rows_kept":9,"cut":false,"hidden":true,"merged":[]}
["State",{"$f":"INPUT!H13","v":0}]
["County",{"$f":"INPUT!H15","v":0}]
["Entire County",{"$f":"INPUT!J17","v":0}]
["Percentage",{"$f":"IF(B3=\"Yes\",1,INPUT!J18)","v":0}]
["Community Size",{"$f":"INPUT!H20","v":0}]
["Cost/Trip",{"$f":"IF(INPUT!I28=\"\",INPUT!I29,INPUT!I28)","v":"Select Community Size"}]
["Base Year",2015]
["Projected Year",{"$f":"INPUT!I32","v":0}]
["Growth rate inhome dialysis",{"$f":"INPUT!I36","v":0}]

{"sheet":"YESNO","index":8,"n_rows":2,"n_cols":1,"rows_kept":2,"cut":false,"hidden":true,"merged":[]}
["Yes"]
["No"]

{"sheet":"COMMUNITYSIZE","index":9,"n_rows":4,"n_cols":2,"rows_kept":4,"cut":false,"hidden":true,"merged":[]}
["Large Urban Area",35.01]
["Large City",32.19]
["Small City",29.58]
["Rural",26.22]

{"sheet":"ANNOTATION","index":10,"n_rows":23,"n_cols":8,"rows_kept":23,"cut":false,"hidden":true,"merged":[[1,0,1,6]]}
["Question Number","Question","Cell","Type","Source","Destination","Calculation","Formula"]
["INPUT TABLE"]
[1,"Provide your State","N/A","ActiveX ComboBox","STATES A2 to A52","WORKSHEET B1","Filters the counties in the selected State and populates the 'COUNTIES' worksheet."]
[2,"Provide your County","N/A","ActiveX ComboBox","COUNTIES D2 TO D200","WORKSHEET B2","Populates the 'LOOKUP' worksheet based on the County that is selected."]
[3,"Do you serve the entire County","N/A","ActiveX ComboBox","YESNO A1 TO A2","WORKSHEET B3","Determines if percentage provided in Question 3a will be used to determine ESRD size."]
["3a","Percentage of population served","J18","Cell","N/A","WORKSHEET B4","Percentage applied to ESRD size depending on response in Question 3."]
[4,"Community type","N/A","ActiveX ComboBox","COMMUNITYSIZE B1 TO B4","WORKSHEET B5","Determines the default cost per trip shown in 'INPUT' cell I29 and 'WORKSHEET' cell B6"]
[5,"Estimate of cost per trip","I28","Cell","N/A","WORKSHEET B6","Determines if the default cost per trip will be used."]
[6,"Provide the projected year","I32","Cell","N/A","WORKSHEET B9","Used to calculate the number of growth years based on the base year provided in 'WORKSHEET' cell B8 "]
[7,"% rate increase diaylysis in the home","I36","Cell","N/A","WORKSHEET B10","Used to adjust the compounded growth rate provided in 'LOOKUP' table."]
["OUTPUT TABLE"]
[1,"Current number of ESRD patients","J14","Cell","LOOKUP C2 AND D2; WORKSHEET B4","N/A","Sums HD (LOOKUP C2) and PD (LOOKUP D2) and then multiply by percent (WORKSHEET B4) of population served. If population served is entire County then it is just the sum of HD and PD.","IFERROR((LOOKUP!C2+LOOKUP!D2)*WORKSHEET!B4,\"Data Not Available\")"]
[2,"Projected number ESRD patients","J17","Cell","OUTPUT J14; WORKSHEET B8 AND B9","N/A","Subtracts the projected year from the base year (2015) and compounds the growth from on the LOOKUP table over those years and the current number of ESRD patients (J14).","IFERROR(J14*EXP(LOOKUP!H2*(WORKSHEET!B9-WORKSHEET!B8)),\"Data Not Available\")"]
[3,"Current number of ESRD patients traveling to dialysis centers.","J22","Cell","LOOKUP C2; WORKSHEET B4","N/A","Multiplies the number of HD from LOOKUP table with the percent of population served. If population served is entire County then it is just the number of HD in the LOOKUP table.","IFERROR(IF(LOOKUP!C2=\"*\",\"Data Not Available\",LOOKUP!C2*WORKSHEET!B4),\"Data Not Available\")"]
[4,"Projected number ESRD patients traveling to dialysis patients","J24","Cell","OUTPUT J17; LOOKUP I2","N/A","The number of projected ESRD patients minus the projected number of ESRD patients (OUTPUT J17) times the HSA percentage of PD (LOOKUP I2).","IFERROR(J17-(J17*LOOKUP!I2),\"Data Not Available\")"]
[5,"Current ESRD dialysis trips needed on public sector","J26","Cell","OUTPUT J22","N/A","Multiply the current number of ESRD patients traveling to dialysis centers (OUTPUT J22) by 312 and divided by half.","IFERROR((J22*312)*0.5,\"Data Not Available\")"]
[6,"Projected ESRD dialysis trips needed on public sector","J29","Cell","OUTPUT J24","N/A","Multiply the project number of ESRD patients traveling to dialysis centers (OUTPUT J24) by 312 and divided by half.","IFERROR((J24*312)*0.5,\"Data Not Available\")"]
[7,"Current cost of public sector trips","J34","Cell","OUTPUT J26; INPUT I28 AND I29","N/A","Multiply current ESRD dialysis trips on public sector (OUTPUT J26) by either the default cost per trip (INPUT I29) or the estimated cost per trip (INPUT I28).","IFERROR((IF(INPUT!I28=\"\",INPUT!I29,INPUT!I28)*J26),\"Data Not Available\")"]
[8,"Projected cost of public sector trips","J36","Cell","OUTPUT J29; INPUT I28 AND I29","N/A","Multiply projected ESRD dialysis trips on public sector (OUTPUT J29) by either the default cost per trip (INPUT I29) or the estimated cost per trip (INPUT I28).","IFERROR((IF(INPUT!I28=\"\",INPUT!I29,INPUT!I28)*J29),\"Data Not Available\")"]
[9,"Current percent of dialysis patients using in home treatment","J40","Cell","LOOKUP I2","N/A","Displays the percent of PD based on HSA.","IF(J14=\"Data Not Available\",\"Data Not Available\",IF(J14=0,0,LOOKUP!I2))"]
[10,"Percent of in home dialysis based on rate increase.","J43","Cell","OUTPUT J40; INPUT I36","N/A","Multiply percent of PD based on HSA (OUTPUT J40) by estimated percent rate increase (INPUT I36).","IF(J40=\"Data Not Available\",\"Data Not Available\",J40*(1+INPUT!I36))"]
[11,"Number of fewer public trips with increase in home dialysis patients","J46","Cell","OUTPUT J17, J29, AND J43","N/A","- Multiply projected number of ESRD patients (OUTPUT J17) with the percent of in home dialysis based on rate increase (OUTPUT J43).\n- Subtract calculated PD patients from projected ESRD patients (OUTPUT J17)\n- Multiply newly calculated HD patients by 312 and divided by 2.","IFERROR(J29-(((J17-(J17*J43))*312)/2),\"Data Not Available\")"]
[null,"Reduction in public sector costs for transportation","J49","Cell","OUTPUT J46; WORKSHEET B7","N/A","Multiply number of fewer public trips (OUTPUT J46) by cost per trip (WORKSHEET B7).","IF(J46=\"Data Not Available\",\"Data Not Available\",J46*WORKSHEET!B6)"]